Workbook
Name diasuteis: #REF!
Name diasuteis: #REF!
Name diasuteis: #REF!
Name diasuteis: #REF!
Name diasuteis: #REF!
Name diasuteis: #REF!
Name diasuteis: #REF!
Name diasuteis: #REF!
Name diasuteis: #REF!
Name diasuteis: #REF!
Name Ferias: #REF!
Name Ferias: #REF!
Name Ferias: #REF!
Name Ferias: #REF!
Name Ferias: #REF!
Name Ferias: #REF!
Name Ferias: #REF!
Name Ferias: #REF!
Name Ferias: #REF!
Name RD: OFFSET(#REF!,(MATCH(SMALL(#REF!,ROW()-10),#REF!,0)-1),0)
Name RD: OFFSET(#REF!,(MATCH(SMALL(#REF!,ROW()-10),#REF!,0)-1),0)

Sheet REIT_SETIC
A1: PROCESSO: 1421/2014/UDESC | D1: OBJETO: Aquisição de equipamentos de informática para a UDESC | K1: VIGÊNCIA DA ATA: 19/12/2014 até 18/12/2015 | N1: AF/OS nº xxxx/2014 Qtde. DT | O1: AF/OS nº xxxx/2014 Qtde. DT | P1: AF/OS nº xxxx/2014 Qtde. DT | Q1: AF/OS nº xxxx/2014 Qtde. DT | R1: AF/OS nº xxxx/2014 Qtde. DT | S1: AF/OS nº xxxx/2014 Qtde. DT | T1: AF/OS nº xxxx/2014 Qtde. DT | U1: AF/OS nº xxxx/2014 Qtde. DT | V1: AF/OS nº xxxx/2014 Qtde. DT | W1: AF/OS nº xxxx/2014 Qtde. DT | X1: AF/OS nº xxxx/2014 Qtde. DT | Y1: AF/OS nº xxxx/2014 Qtde. DT
A2: CENTRO PARTICIPANTE: REITORIA/SETIC
A3: FORNECEDOR | B3: LOTE | C3: ITEM | D3: Especificação - conforme complementação memorial descritivo | E3: ELEMENTO | F3: MARCA/MODELO | G3: UNIDADE | H3: Entrega (Dias) | I3: Pagto. (Dias) | J3: Preço UNITÁRIO (R$) | K3: Qtde REGISTRADA | L3: Saldo / Automático | M3: ALERTA | N3: ...../...../...... | O3: ...../...../...... | P3: ...../...../...... | Q3: ...../...../...... | R3: ...../...../...... | S3: ...../...../...... | T3: ...../...../...... | U3: ...../...../...... | V3: ...../...../...... | W3: ...../...../...... | X3: ...../...../...... | Y3: ...../...../......
A4: Daten Tecnologia Ltda | B4: 1 | C4: 1 | D4: Microcomputador Básico (Dgov) | E4: 449052.35 | F4: DATEN DC1A-S + MONITOR LG 19EB13P-B | G4: Peça | J4: 2304 | K4: =140-15 -> 125 | L4: =K4-(SUM(N4:Y4)) -> 125 | M4: =IF(L4<0,"ATENÇÃO","OK") -> OK | N4: 0 | O4: 0 | P4: 0 | Q4: 0 | R4: 0 | S4: 0 | T4: 0 | U4: 0 | V4: 0 | W4: 0 | X4: 0 | Y4: 0
A5: Intersoft Soluções em Informática Ltda | B5: 2 | C5: 2 | D5: Microcomputador Avançado (Dgov) | E5: 449052.35 | F5: LENOVO THINKCENTER M93P + MONITOR LENOVO THINKVISION E2223S | G5: Peça | J5: 3250 | K5: =32+8 -> 40 | L5: =K5-(SUM(N5:Y5)) -> 40 | M5: =IF(L5<0,"ATENÇÃO","OK") -> OK | N5: 0 | O5: 0 | P5: 0 | Q5: 0 | R5: 0 | S5: 0 | T5: 0 | U5: 0 | V5: 0 | W5: 0 | X5: 0 | Y5: 0
A6: ZOOM Tecnologia LTDA | B6: 3 | C6: 3 | D6: Notebook Básico (Dgov) | E6: 449052.35 | F6: POSITIVO MASTER N250i - 84713019 | G6: Peça | J6: 2590 | L6: =K6-(SUM(N6:Y6)) -> 0 | M6: =IF(L6<0,"ATENÇÃO","OK") -> OK | N6: 0 | O6: 0 | P6: 0 | Q6: 0 | R6: 0 | S6: 0 | T6: 0 | U6: 0 | V6: 0 | W6: 0 | X6: 0 | Y6: 0
A7: DESERTO | B7: 4 | C7: 4 | D7: Notebook Executivo (Dgov) | E7: 449052.35 | G7: Peça | L7: =K7-(SUM(N7:Y7)) -> 0 | M7: =IF(L7<0,"ATENÇÃO","OK") -> OK | N7: 0 | O7: 0 | P7: 0 | Q7: 0 | R7: 0 | S7: 0 | T7: 0 | U7: 0 | V7: 0 | W7: 0 | X7: 0 | Y7: 0
A8: ZOOM Tecnologia LTDA | B8: 5 | C8: 5 | D8: Tablet (Dgov) | E8: 449052.35 | F8: SAMSUNG GALAXY TAB S 10.5 SM-T805 - 84714190 | G8: Peça | J8: 1908 | K8: 8 | L8: =K8-(SUM(N8:Y8)) -> 8 | M8: =IF(L8<0,"ATENÇÃO","OK") -> OK | N8: 0 | O8: 0 | P8: 0 | Q8: 0 | R8: 0 | S8: 0 | T8: 0 | U8: 0 | V8: 0 | W8: 0 | X8: 0 | Y8: 0
A9: Marcelo Weinrich EPP | B9: 6 | C9: 6 | D9: Monitor 18'' (Dgov) | E9: 449052.35 | F9: LENOVO LS1921 18'5 LED 4425HC1 | G9: Peça | J9: 599 | L9: =K9-(SUM(N9:Y9)) -> 0 | M9: =IF(L9<0,"ATENÇÃO","OK") -> OK | N9: 0 | O9: 0 | P9: 0 | Q9: 0 | R9: 0 | S9: 0 | T9: 0 | U9: 0 | V9: 0 | W9: 0 | X9: 0 | Y9: 0
A10: INFRUTÍFERO | B10: 7 | C10: 7 | D10: Monitor 27'' (CEPO) | E10: 449052.35 | L10: =K10-(SUM(N10:Y10)) -> 0 | M10: =IF(L10<0,"ATENÇÃO","OK") -> OK | N10: 0 | O10: 0 | P10: 0 | Q10: 0 | R10: 0 | S10: 0 | T10: 0 | U10: 0 | V10: 0 | W10: 0 | X10: 0 | Y10: 0
A11: INFRUTÍFERO | B11: 8 | C11: 8 | D11: Scanner A3 (BC) | E11: 449052.35 | G11: Peça | L11: =K11-(SUM(N11:Y11)) -> 0 | M11: =IF(L11<0,"ATENÇÃO","OK") -> OK | N11: 0 | O11: 0 | P11: 0 | Q11: 0 | R11: 0 | S11: 0 | T11: 0 | U11: 0 | V11: 0 | W11: 0 | X11: 0 | Y11: 0
A12: DESERTO | B12: 9 | C12: 9 | D12: Máquina Datilografia Braille (CEAD) | E12: 449052.35 | G12: Peça | L12: =K12-(SUM(N12:Y12)) -> 0 | M12: =IF(L12<0,"ATENÇÃO","OK") -> OK | N12: 0 | O12: 0 | P12: 0 | Q12: 0 | R12: 0 | S12: 0 | T12: 0 | U12: 0 | V12: 0 | W12: 0 | X12: 0 | Y12: 0
A13: Marcelo Weinrich EPP | B13: 10 | C13: 10 | D13: Scanner Plustek BookReader (CEAD) | E13: 449052.35 | F13: BOOKREADER V200 PLUSTEK | G13: Peça | J13: 2190 | L13: =K13-(SUM(N13:Y13)) -> 0 | M13: =IF(L13<0,"ATENÇÃO","OK") -> OK | N13: 0 | O13: 0 | P13: 0 | Q13: 0 | R13: 0 | S13: 0 | T13: 0 | U13: 0 | V13: 0 | W13: 0 | X13: 0 | Y13: 0
A14: DESERTO | B14: 11 | C14: 11 | D14: Teclado Intelikeys USB (CEAD) | E14: 449052.35 | G14: Peça | L14: =K14-(SUM(N14:Y14)) -> 0 | M14: =IF(L14<0,"ATENÇÃO","OK") -> OK | N14: 0 | O14: 0 | P14: 0 | Q14: 0 | R14: 0 | S14: 0 | T14: 0 | U14: 0 | V14: 0 | W14: 0 | X14: 0 | Y14: 0
A15: INFRUTÍFERO | B15: 12 | C15: 12 | D15: Teclado Sem Fio (SETIC) | E15: 339033.17 | G15: Peça | L15: =K15-(SUM(N15:Y15)) -> 0 | M15: =IF(L15<0,"ATENÇÃO","OK") -> OK | N15: 0 | O15: 0 | P15: 0 | Q15: 0 | R15: 0 | S15: 0 | T15: 0 | U15: 0 | V15: 0 | W15: 0 | X15: 0 | Y15: 0
A16: INFRUTÍFERO | B16: 13 | C16: 13 | D16: Computador iMac 27" (CEAD) | E16: 449052.35 | G16: Peça | L16: =K16-(SUM(N16:Y16)) -> 0 | M16: =IF(L16<0,"ATENÇÃO","OK") -> OK | N16: 0 | O16: 0 | P16: 0 | Q16: 0 | R16: 0 | S16: 0 | T16: 0 | U16: 0 | V16: 0 | W16: 0 | X16: 0 | Y16: 0
A17: Marcelo Weinrich EPP | B17: 14 | C17: 14 | D17: Scanner de Mesa A3 (CAV) | E17: 449052.35 | F17: 1200S MUSTEK | G17: Peça | J17: 1740 | L17: =K17-(SUM(N17:Y17)) -> 0 | M17: =IF(L17<0,"ATENÇÃO","OK") -> OK | N17: 0 | O17: 0 | P17: 0 | Q17: 0 | R17: 0 | S17: 0 | T17: 0 | U17: 0 | V17: 0 | W17: 0 | X17: 0 | Y17: 0
D19: *Lotes 4, 9 e 11 Desertos
D20: *Lotes 7, 8, 12 e 13 Infrutíferos
D21: *Prazo de Entrega e Pagamento conforme Termo de Referência
A23: LEGENDA PROJETOS (DEVERÃO SER EMITIDAS NOTAS FISCAIS INDIVIDUAIS POR PROJETOS):
A24: Projeto 01 - PRAPEG CEAVI - Complementação Lab. De CAD II - Jarbas Cleber Ferrari
A25: Projeto 02 - PRAPEG CEAVI - Complementação Lab. De CAD I - Rogério Simões
A26: Projeto 03 - PRAPEG CEAVI - Laboratório de Aplicativos Móveis - Jaison Sevegnani
A27: Projeto 04 - PAEX CEAVI - Transparência contábil entidades do terceiro setor - Sérgio Marian
A28: Projeto 05 - PRAPEG 1 - CCT - Adequação do Lab. de Informática do Depto. de Eng. Civil - Sandra D. K. Alves - 14
A29: Projeto 06 - PRAPEG 2 - CCT - Aprimoramento e Qualificação das Atividades de Ensino do CCT - Cíntia Aguiar - 14
A30: Projeto 07 - PRAPEG 7 - CCT - Laboratório Cooperativo - Parte II - Marcos Fergütz - 14
A31: Projeto 08 - PRAPEG 11 - CCT - Projeto Junta Matematica (JunMa) - 2ª Ed. - Luciane M. dos Santos - 14
A32: Projeto 09 - PROEX 6 - Maratonas de Programação 2014 UDESC - Claudio Cesar de Sá - 14
A33: Projeto 10 - PROEX 17 - CCT - Programa: Playground da Matemática - Ivanete Zuchi Siple - 14
A34: Projeto 11 - PROEX 19 - CCT - RENEW - Divulgação de Energias Renováveis - Márcio Rodrigo Loos - 14
... A47: Projeto 24 - CEFID - PRAPEG 2013 - Direção de Ensino

Sheet ESAG
A1: PROCESSO: 1421/2014/UDESC | D1: OBJETO: Aquisição de equipamentos de informática para a UDESC | K1: VIGÊNCIA DA ATA: 19/12/2014 até 18/12/2015 | N1: AF/OS nº 740/2015 Qtde. DT | O1: AF/OS nº xxxx/2014 Qtde. DT | P1: AF/OS nº xxxx/2014 Qtde. DT | Q1: AF/OS nº xxxx/2014 Qtde. DT | R1: AF/OS nº xxxx/2014 Qtde. DT | S1: AF/OS nº xxxx/2014 Qtde. DT | T1: AF/OS nº xxxx/2014 Qtde. DT | U1: AF/OS nº xxxx/2014 Qtde. DT | V1: AF/OS nº xxxx/2014 Qtde. DT | W1: AF/OS nº xxxx/2014 Qtde. DT | X1: AF/OS nº xxxx/2014 Qtde. DT | Y1: AF/OS nº xxxx/2014 Qtde. DT
A2: CENTRO PARTICIPANTE: ESAG
A3: FORNECEDOR | B3: LOTE | C3: ITEM | D3: Especificação - conforme complementação memorial descritivo | E3: ELEMENTO | F3: MARCA/MODELO | G3: UNIDADE | H3: Entrega (Dias) | I3: Pagto. (Dias) | J3: Preço UNITÁRIO (R$) | K3: Qtde REGISTRADA | L3: Saldo / Automático | M3: ALERTA | N3: ...../...../...... | O3: ...../...../...... | P3: ...../...../...... | Q3: ...../...../...... | R3: ...../...../...... | S3: ...../...../...... | T3: ...../...../...... | U3: ...../...../...... | V3: ...../...../...... | W3: ...../...../...... | X3: ...../...../...... | Y3: ...../...../......
A4: Daten Tecnologia Ltda | B4: 1 | C4: 1 | D4: Microcomputador Básico (Dgov) | E4: 449052.35 | F4: DATEN DC1A-S + MONITOR LG 19EB13P-B | G4: Peça | J4: 2304 | L4: =K4-(SUM(N4:Y4)) -> 0 | M4: =IF(L4<0,"ATENÇÃO","OK") -> OK | N4: 0 | O4: 0 | P4: 0 | Q4: 0 | R4: 0 | S4: 0 | T4: 0 | U4: 0 | V4: 0 | W4: 0 | X4: 0 | Y4: 0
A5: Intersoft Soluções em Informática Ltda | B5: 2 | C5: 2 | D5: Microcomputador Avançado (Dgov) | E5: 449052.35 | F5: LENOVO THINKCENTER M93P + MONITOR LENOVO THINKVISION E2223S | G5: Peça | J5: 3250 | K5: =115+28 -> 143 | L5: =K5-(SUM(N5:Y5)) -> 93 | M5: =IF(L5<0,"ATENÇÃO","OK") -> OK | N5: 50 | O5: 0 | P5: 0 | Q5: 0 | R5: 0 | S5: 0 | T5: 0 | U5: 0 | V5: 0 | W5: 0 | X5: 0 | Y5: 0
A6: ZOOM Tecnologia LTDA | B6: 3 | C6: 3 | D6: Notebook Básico (Dgov) | E6: 449052.35 | F6: POSITIVO MASTER N250i - 84713019 | G6: Peça | J6: 2590 | L6: =K6-(SUM(N6:Y6)) -> 0 | M6: =IF(L6<0,"ATENÇÃO","OK") -> OK | N6: 0 | O6: 0 | P6: 0 | Q6: 0 | R6: 0 | S6: 0 | T6: 0 | U6: 0 | V6: 0 | W6: 0 | X6: 0 | Y6: 0
A7: DESERTO | B7: 4 | C7: 4 | D7: Notebook Executivo (Dgov) | E7: 449052.35 | G7: Peça | L7: =K7-(SUM(N7:Y7)) -> 0 | M7: =IF(L7<0,"ATENÇÃO","OK") -> OK | N7: 0 | O7: 0 | P7: 0 | Q7: 0 | R7: 0 | S7: 0 | T7: 0 | U7: 0 | V7: 0 | W7: 0 | X7: 0 | Y7: 0
A8: ZOOM Tecnologia LTDA | B8: 5 | C8: 5 | D8: Tablet (Dgov) | E8: 449052.35 | F8: SAMSUNG GALAXY TAB S 10.5 SM-T805 - 84714190 | G8: Peça | J8: 1908 | K8: 10 | L8: =K8-(SUM(N8:Y8)) -> 10 | M8: =IF(L8<0,"ATENÇÃO","OK") -> OK | N8: 0 | O8: 0 | P8: 0 | Q8: 0 | R8: 0 | S8: 0 | T8: 0 | U8: 0 | V8: 0 | W8: 0 | X8: 0 | Y8: 0
A9: Marcelo Weinrich EPP | B9: 6 | C9: 6 | D9: Monitor 18'' (Dgov) | E9: 449052.35 | F9: LENOVO LS1921 18'5 LED 4425HC1 | G9: Peça | J9: 599 | L9: =K9-(SUM(N9:Y9)) -> 0 | M9: =IF(L9<0,"ATENÇÃO","OK") -> OK | N9: 0 | O9: 0 | P9: 0 | Q9: 0 | R9: 0 | S9: 0 | T9: 0 | U9: 0 | V9: 0 | W9: 0 | X9: 0 | Y9: 0
A10: INFRUTÍFERO | B10: 7 | C10: 7 | D10: Monitor 27'' (CEPO) | E10: 449052.35 | L10: =K10-(SUM(N10:Y10)) -> 0 | M10: =IF(L10<0,"ATENÇÃO","OK") -> OK | N10: 0 | O10: 0 | P10: 0 | Q10: 0 | R10: 0 | S10: 0 | T10: 0 | U10: 0 | V10: 0 | W10: 0 | X10: 0 | Y10: 0
A11: INFRUTÍFERO | B11: 8 | C11: 8 | D11: Scanner A3 (BC) | E11: 449052.35 | G11: Peça | L11: =K11-(SUM(N11:Y11)) -> 0 | M11: =IF(L11<0,"ATENÇÃO","OK") -> OK | N11: 0 | O11: 0 | P11: 0 | Q11: 0 | R11: 0 | S11: 0 | T11: 0 | U11: 0 | V11: 0 | W11: 0 | X11: 0 | Y11: 0
A12: DESERTO | B12: 9 | C12: 9 | D12: Máquina Datilografia Braille (CEAD) | E12: 449052.35 | G12: Peça | L12: =K12-(SUM(N12:Y12)) -> 0 | M12: =IF(L12<0,"ATENÇÃO","OK") -> OK | N12: 0 | O12: 0 | P12: 0 | Q12: 0 | R12: 0 | S12: 0 | T12: 0 | U12: 0 | V12: 0 | W12: 0 | X12: 0 | Y12: 0
A13: Marcelo Weinrich EPP | B13: 10 | C13: 10 | D13: Scanner Plustek BookReader (CEAD) | E13: 449052.35 | F13: BOOKREADER V200 PLUSTEK | G13: Peça | J13: 2190 | L13: =K13-(SUM(N13:Y13)) -> 0 | M13: =IF(L13<0,"ATENÇÃO","OK") -> OK | N13: 0 | O13: 0 | P13: 0 | Q13: 0 | R13: 0 | S13: 0 | T13: 0 | U13: 0 | V13: 0 | W13: 0 | X13: 0 | Y13: 0
A14: DESERTO | B14: 11 | C14: 11 | D14: Teclado Intelikeys USB (CEAD) | E14: 449052.35 | G14: Peça | L14: =K14-(SUM(N14:Y14)) -> 0 | M14: =IF(L14<0,"ATENÇÃO","OK") -> OK | N14: 0 | O14: 0 | P14: 0 | Q14: 0 | R14: 0 | S14: 0 | T14: 0 | U14: 0 | V14: 0 | W14: 0 | X14: 0 | Y14: 0
A15: INFRUTÍFERO | B15: 12 | C15: 12 | D15: Teclado Sem Fio (SETIC) | E15: 339033.17 | G15: Peça | L15: =K15-(SUM(N15:Y15)) -> 0 | M15: =IF(L15<0,"ATENÇÃO","OK") -> OK | N15: 0 | O15: 0 | P15: 0 | Q15: 0 | R15: 0 | S15: 0 | T15: 0 | U15: 0 | V15: 0 | W15: 0 | X15: 0 | Y15: 0
A16: INFRUTÍFERO | B16: 13 | C16: 13 | D16: Computador iMac 27" (CEAD) | E16: 449052.35 | G16: Peça | L16: =K16-(SUM(N16:Y16)) -> 0 | M16: =IF(L16<0,"ATENÇÃO","OK") -> OK | N16: 0 | O16: 0 | P16: 0 | Q16: 0 | R16: 0 | S16: 0 | T16: 0 | U16: 0 | V16: 0 | W16: 0 | X16: 0 | Y16: 0
A17: Marcelo Weinrich EPP | B17: 14 | C17: 14 | D17: Scanner de Mesa A3 (CAV) | E17: 449052.35 | F17: 1200S MUSTEK | G17: Peça | J17: 1740 | L17: =K17-(SUM(N17:Y17)) -> 0 | M17: =IF(L17<0,"ATENÇÃO","OK") -> OK | N17: 0 | O17: 0 | P17: 0 | Q17: 0 | R17: 0 | S17: 0 | T17: 0 | U17: 0 | V17: 0 | W17: 0 | X17: 0 | Y17: 0
D19: *Lotes 4, 9 e 11 Desertos
D20: *Lotes 7, 8, 12 e 13 Infrutíferos
D21: *Prazo de Entrega e Pagamento conforme Termo de Referência
A23: LEGENDA PROJETOS (DEVERÃO SER EMITIDAS NOTAS FISCAIS INDIVIDUAIS POR PROJETOS):
A24: Projeto 01 - PRAPEG CEAVI - Complementação Lab. De CAD II - Jarbas Cleber Ferrari
A25: Projeto 02 - PRAPEG CEAVI - Complementação Lab. De CAD I - Rogério Simões
A26: Projeto 03 - PRAPEG CEAVI - Laboratório de Aplicativos Móveis - Jaison Sevegnani
A27: Projeto 04 - PAEX CEAVI - Transparência contábil entidades do terceiro setor - Sérgio Marian
A28: Projeto 05 - PRAPEG 1 - CCT - Adequação do Lab. de Informática do Depto. de Eng. Civil - Sandra D. K. Alves - 14
A29: Projeto 06 - PRAPEG 2 - CCT - Aprimoramento e Qualificação das Atividades de Ensino do CCT - Cíntia Aguiar - 14
A30: Projeto 07 - PRAPEG 7 - CCT - Laboratório Cooperativo - Parte II - Marcos Fergütz - 14
A31: Projeto 08 - PRAPEG 11 - CCT - Projeto Junta Matematica (JunMa) - 2ª Ed. - Luciane M. dos Santos - 14
A32: Projeto 09 - PROEX 6 - Maratonas de Programação 2014 UDESC - Claudio Cesar de Sá - 14
A33: Projeto 10 - PROEX 17 - CCT - Programa: Playground da Matemática - Ivanete Zuchi Siple - 14
A34: Projeto 11 - PROEX 19 - CCT - RENEW - Divulgação de Energias Renováveis - Márcio Rodrigo Loos - 14
... A47: Projeto 24 - CEFID - PRAPEG 2013 - Direção de Ensino

Sheet CEART
A1: PROCESSO: 1421/2014/UDESC | D1: OBJETO: Aquisição de equipamentos de informática para a UDESC | K1: VIGÊNCIA DA ATA: 19/12/2014 até 18/12/2015 | N1: AF 620/2015 Qtde. DT | O1: AF 1539/2015 PRAPEG - Walter Dutra | P1: AF 2003/2015 | Q1: AF 2076/2015 | R1: AF 2077/2015 | S1: AF 2064/2015 | T1: AF/OS nº xxxx/2014 Qtde. DT | U1: AF/OS nº xxxx/2014 Qtde. DT | V1: AF/OS nº xxxx/2014 Qtde. DT | W1: AF/OS nº xxxx/2014 Qtde. DT | X1: AF/OS nº xxxx/2014 Qtde. DT | Y1: AF/OS nº xxxx/2014 Qtde. DT
A2: CENTRO PARTICIPANTE: CEART
A3: FORNECEDOR | B3: LOTE | C3: ITEM | D3: Especificação - conforme complementação memorial descritivo | E3: ELEMENTO | F3: MARCA/MODELO | G3: UNIDADE | H3: Entrega (Dias) | I3: Pagto. (Dias) | J3: Preço UNITÁRIO (R$) | K3: Qtde REGISTRADA | L3: Saldo / Automático | M3: ALERTA | N3: 42128 | O3: 42244 | P3: 42299 | Q3: 42311 | R3: 42311 | S3: 42306 | T3: ...../...../...... | U3: ...../...../...... | V3: ...../...../...... | W3: ...../...../...... | X3: ...../...../...... | Y3: ...../...../......
A4: Daten Tecnologia Ltda | B4: 1 | C4: 1 | D4: Microcomputador Básico (Dgov) | E4: 449052.35 | F4: DATEN DC1A-S + MONITOR LG 19EB13P-B | G4: Peça | J4: 2304 | K4: 50 | L4: =K4-(SUM(N4:Y4)) -> 50 | M4: =IF(L4<0,"ATENÇÃO","OK") -> OK | N4: 0 | O4: 0 | P4: 0 | Q4: 0 | R4: 0 | S4: 0 | T4: 0 | U4: 0 | V4: 0 | W4: 0 | X4: 0 | Y4: 0
A5: Intersoft Soluções em Informática Ltda | B5: 2 | C5: 2 | D5: Microcomputador Avançado (Dgov) | E5: 449052.35 | F5: LENOVO THINKCENTER M93P + MONITOR LENOVO THINKVISION E2223S | G5: Peça | J5: 3250 | K5: 115 | L5: =K5-(SUM(N5:Y5)) -> 67 | M5: =IF(L5<0,"ATENÇÃO","OK") -> OK | N5: 21 | O5: 0 | P5: 21 | Q5: 5 | R5: 0 | S5: 1 | T5: 0 | U5: 0 | V5: 0 | W5: 0 | X5: 0 | Y5: 0
A6: ZOOM Tecnologia LTDA | B6: 3 | C6: 3 | D6: Notebook Básico (Dgov) | E6: 449052.35 | F6: POSITIVO MASTER N250i - 84713019 | G6: Peça | J6: 2590 | K6: 10 | L6: =K6-(SUM(N6:Y6)) -> 8 | M6: =IF(L6<0,"ATENÇÃO","OK") -> OK | N6: 0 | O6: 1 | P6: 0 | R6: 1 | S6: 0 | T6: 0 | U6: 0 | V6: 0 | W6: 0 | X6: 0 | Y6: 0
A7: DESERTO | B7: 4 | C7: 4 | D7: Notebook Executivo (Dgov) | E7: 449052.35 | G7: Peça | L7: =K7-(SUM(N7:Y7)) -> 0 | M7: =IF(L7<0,"ATENÇÃO","OK") -> OK | N7: 0 | O7: 0 | P7: 0 | Q7: 0 | R7: 0 | S7: 0 | T7: 0 | U7: 0 | V7: 0 | W7: 0 | X7: 0 | Y7: 0
A8: ZOOM Tecnologia LTDA | B8: 5 | C8: 5 | D8: Tablet (Dgov) | E8: 449052.35 | F8: SAMSUNG GALAXY TAB S 10.5 SM-T805 - 84714190 | G8: Peça | J8: 1908 | L8: =K8-(SUM(N8:Y8)) -> 0 | M8: =IF(L8<0,"ATENÇÃO","OK") -> OK | N8: 0 | O8: 0 | P8: 0 | Q8: 0 | R8: 0 | S8: 0 | T8: 0 | U8: 0 | V8: 0 | W8: 0 | X8: 0 | Y8: 0
A9: Marcelo Weinrich EPP | B9: 6 | C9: 6 | D9: Monitor 18'' (Dgov) | E9: 449052.35 | F9: LENOVO LS1921 18'5 LED 4425HC1 | G9: Peça | J9: 599 | L9: =K9-(SUM(N9:Y9)) -> 0 | M9: =IF(L9<0,"ATENÇÃO","OK") -> OK | N9: 0 | O9: 0 | P9: 0 | Q9: 0 | R9: 0 | S9: 0 | T9: 0 | U9: 0 | V9: 0 | W9: 0 | X9: 0 | Y9: 0
A10: INFRUTÍFERO | B10: 7 | C10: 7 | D10: Monitor 27'' (CEPO) | E10: 449052.35 | L10: =K10-(SUM(N10:Y10)) -> 0 | M10: =IF(L10<0,"ATENÇÃO","OK") -> OK | N10: 0 | O10: 0 | P10: 0 | Q10: 0 | R10: 0 | S10: 0 | T10: 0 | U10: 0 | V10: 0 | W10: 0 | X10: 0 | Y10: 0
A11: INFRUTÍFERO | B11: 8 | C11: 8 | D11: Scanner A3 (BC) | E11: 449052.35 | G11: Peça | L11: =K11-(SUM(N11:Y11)) -> 0 | M11: =IF(L11<0,"ATENÇÃO","OK") -> OK | N11: 0 | O11: 0 | P11: 0 | Q11: 0 | R11: 0 | S11: 0 | T11: 0 | U11: 0 | V11: 0 | W11: 0 | X11: 0 | Y11: 0
A12: DESERTO | B12: 9 | C12: 9 | D12: Máquina Datilografia Braille (CEAD) | E12: 449052.35 | G12: Peça | L12: =K12-(SUM(N12:Y12)) -> 0 | M12: =IF(L12<0,"ATENÇÃO","OK") -> OK | N12: 0 | O12: 0 | P12: 0 | Q12: 0 | R12: 0 | S12: 0 | T12: 0 | U12: 0 | V12: 0 | W12: 0 | X12: 0 | Y12: 0
A13: Marcelo Weinrich EPP | B13: 10 | C13: 10 | D13: Scanner Plustek BookReader (CEAD) | E13: 449052.35 | F13: BOOKREADER V200 PLUSTEK | G13: Peça | J13: 2190 | L13: =K13-(SUM(N13:Y13)) -> 0 | M13: =IF(L13<0,"ATENÇÃO","OK") -> OK | N13: 0 | O13: 0 | P13: 0 | Q13: 0 | R13: 0 | S13: 0 | T13: 0 | U13: 0 | V13: 0 | W13: 0 | X13: 0 | Y13: 0
A14: DESERTO | B14: 11 | C14: 11 | D14: Teclado Intelikeys USB (CEAD) | E14: 449052.35 | G14: Peça | L14: =K14-(SUM(N14:Y14)) -> 0 | M14: =IF(L14<0,"ATENÇÃO","OK") -> OK | N14: 0 | O14: 0 | P14: 0 | Q14: 0 | R14: 0 | S14: 0 | T14: 0 | U14: 0 | V14: 0 | W14: 0 | X14: 0 | Y14: 0
A15: INFRUTÍFERO | B15: 12 | C15: 12 | D15: Teclado Sem Fio (SETIC) | E15: 339033.17 | G15: Peça | L15: =K15-(SUM(N15:Y15)) -> 0 | M15: =IF(L15<0,"ATENÇÃO","OK") -> OK | N15: 0 | O15: 0 | P15: 0 | Q15: 0 | R15: 0 | S15: 0 | T15: 0 | U15: 0 | V15: 0 | W15: 0 | X15: 0 | Y15: 0
A16: INFRUTÍFERO | B16: 13 | C16: 13 | D16: Computador iMac 27" (CEAD) | E16: 449052.35 | G16: Peça | L16: =K16-(SUM(N16:Y16)) -> 0 | M16: =IF(L16<0,"ATENÇÃO","OK") -> OK | N16: 0 | O16: 0 | P16: 0 | Q16: 0 | R16: 0 | S16: 0 | T16: 0 | U16: 0 | V16: 0 | W16: 0 | X16: 0 | Y16: 0
A17: Marcelo Weinrich EPP | B17: 14 | C17: 14 | D17: Scanner de Mesa A3 (CAV) | E17: 449052.35 | F17: 1200S MUSTEK | G17: Peça | J17: 1740 | L17: =K17-(SUM(N17:Y17)) -> 0 | M17: =IF(L17<0,"ATENÇÃO","OK") -> OK | N17: 0 | O17: 0 | P17: 0 | Q17: 0 | R17: 0 | S17: 0 | T17: 0 | U17: 0 | V17: 0 | W17: 0 | X17: 0 | Y17: 0
N18: =SUMPRODUCT(J4:J6,N4:N6) -> 68250 | O18: =O6*J6 -> 2590 | P18: =P5*J5 -> 68250
D19: *Lotes 4, 9 e 11 Desertos | Q19: =Q5*J5 -> 16250 | R19: =R6*J6 -> 2590
D20: *Lotes 7, 8, 12 e 13 Infrutíferos
D21: *Prazo de Entrega e Pagamento conforme Termo de Referência
A23: LEGENDA PROJETOS (DEVERÃO SER EMITIDAS NOTAS FISCAIS INDIVIDUAIS POR PROJETOS):
A24: Projeto 01 - PRAPEG CEAVI - Complementação Lab. De CAD II - Jarbas Cleber Ferrari
A25: Projeto 02 - PRAPEG CEAVI - Complementação Lab. De CAD I - Rogério Simões
A26: Projeto 03 - PRAPEG CEAVI - Laboratório de Aplicativos Móveis - Jaison Sevegnani
A27: Projeto 04 - PAEX CEAVI - Transparência contábil entidades do terceiro setor - Sérgio Marian
A28: Projeto 05 - PRAPEG 1 - CCT - Adequação do Lab. de Informática do Depto. de Eng. Civil - Sandra D. K. Alves - 14
A29: Projeto 06 - PRAPEG 2 - CCT - Aprimoramento e Qualificação das Atividades de Ensino do CCT - Cíntia Aguiar - 14
A30: Projeto 07 - PRAPEG 7 - CCT - Laboratório Cooperativo - Parte II - Marcos Fergütz - 14
A31: Projeto 08 - PRAPEG 11 - CCT - Projeto Junta Matematica (JunMa) - 2ª Ed. - Luciane M. dos Santos - 14
A32: Projeto 09 - PROEX 6 - Maratonas de Programação 2014 UDESC - Claudio Cesar de Sá - 14
A33: Projeto 10 - PROEX 17 - CCT - Programa: Playground da Matemática - Ivanete Zuchi Siple - 14
A34: Projeto 11 - PROEX 19 - CCT - RENEW - Divulgação de Energias Renováveis - Márcio Rodrigo Loos - 14
... A47: Projeto 24 - CEFID - PRAPEG 2013 - Direção de Ensino

Sheet FAED
A1: PROCESSO: 1421/2014/UDESC | D1: OBJETO: Aquisição de equipamentos de informática para a UDESC | K1: VIGÊNCIA DA ATA: 19/12/2014 até 18/12/2015 | N1: AF/OS nº 288/2015 Qtde. DT | O1: AF/OS nº xpaulino/2015 Qtde. DT | P1: AF/OS nº 1864/2015 Qtde. DT | Q1: AF/OS nº xxxx/2014 Qtde. DT | R1: AF/OS nº xxxx/2014 Qtde. DT | S1: AF/OS nº xxxx/2014 Qtde. DT | T1: AF/OS nº xxxx/2014 Qtde. DT | U1: AF/OS nº xxxx/2014 Qtde. DT | V1: AF/OS nº xxxx/2014 Qtde. DT | W1: AF/OS nº xxxx/2014 Qtde. DT | X1: AF/OS nº xxxx/2014 Qtde. DT | Y1: AF/OS nº xxxx/2014 Qtde. DT
A2: CENTRO PARTICIPANTE: FAED
A3: FORNECEDOR | B3: LOTE | C3: ITEM | D3: Especificação - conforme complementação memorial descritivo | E3: ELEMENTO | F3: MARCA/MODELO | G3: UNIDADE | H3: Entrega (Dias) | I3: Pagto. (Dias) | J3: Preço UNITÁRIO (R$) | K3: Qtde REGISTRADA | L3: Saldo / Automático | M3: ALERTA | N3: 42080 | O3: 42166 | P3: 42319 | Q3: ...../...../...... | R3: ...../...../...... | S3: ...../...../...... | T3: ...../...../...... | U3: ...../...../...... | V3: ...../...../...... | W3: ...../...../...... | X3: ...../...../...... | Y3: ...../...../......
A4: Daten Tecnologia Ltda | B4: 1 | C4: 1 | D4: Microcomputador Básico (Dgov) | E4: 449052.35 | F4: DATEN DC1A-S + MONITOR LG 19EB13P-B | G4: Peça | J4: 2304 | K4: 30 | L4: =K4-(SUM(N4:Y4)) -> 30 | M4: =IF(L4<0,"ATENÇÃO","OK") -> OK | N4: 0 | P4: 0 | Q4: 0 | R4: 0 | S4: 0 | T4: 0 | U4: 0 | V4: 0 | W4: 0 | X4: 0 | Y4: 0
A5: Intersoft Soluções em Informática Ltda | B5: 2 | C5: 2 | D5: Microcomputador Avançado (Dgov) | E5: 449052.35 | F5: LENOVO THINKCENTER M93P + MONITOR LENOVO THINKVISION E2223S | G5: Peça | J5: 3250 | K5: 105 | L5: =K5-(SUM(N5:Y5)) -> 40 | M5: =IF(L5<0,"ATENÇÃO","OK") -> OK | N5: 50 | O5: 5 | P5: 10 | Q5: 0 | R5: 0 | S5: 0 | T5: 0 | U5: 0 | V5: 0 | W5: 0 | X5: 0 | Y5: 0
A6: ZOOM Tecnologia LTDA | B6: 3 | C6: 3 | D6: Notebook Básico (Dgov) | E6: 449052.35 | F6: POSITIVO MASTER N250i - 84713019 | G6: Peça | J6: 2590 | K6: 5 | L6: =K6-(SUM(N6:Y6)) -> 5 | M6: =IF(L6<0,"ATENÇÃO","OK") -> OK | N6: 0 | O6: 0 | P6: 0 | Q6: 0 | R6: 0 | S6: 0 | T6: 0 | U6: 0 | V6: 0 | W6: 0 | X6: 0 | Y6: 0
A7: DESERTO | B7: 4 | C7: 4 | D7: Notebook Executivo (Dgov) | E7: 449052.35 | G7: Peça | L7: =K7-(SUM(N7:Y7)) -> 0 | M7: =IF(L7<0,"ATENÇÃO","OK") -> OK | N7: 0 | O7: 0 | P7: 0 | Q7: 0 | R7: 0 | S7: 0 | T7: 0 | U7: 0 | V7: 0 | W7: 0 | X7: 0 | Y7: 0
A8: ZOOM Tecnologia LTDA | B8: 5 | C8: 5 | D8: Tablet (Dgov) | E8: 449052.35 | F8: SAMSUNG GALAXY TAB S 10.5 SM-T805 - 84714190 | G8: Peça | J8: 1908 | L8: =K8-(SUM(N8:Y8)) -> 0 | M8: =IF(L8<0,"ATENÇÃO","OK") -> OK | N8: 0 | O8: 0 | P8: 0 | Q8: 0 | R8: 0 | S8: 0 | T8: 0 | U8: 0 | V8: 0 | W8: 0 | X8: 0 | Y8: 0
A9: Marcelo Weinrich EPP | B9: 6 | C9: 6 | D9: Monitor 18'' (Dgov) | E9: 449052.35 | F9: LENOVO LS1921 18'5 LED 4425HC1 | G9: Peça | J9: 599 | L9: =K9-(SUM(N9:Y9)) -> 0 | M9: =IF(L9<0,"ATENÇÃO","OK") -> OK | N9: 0 | O9: 0 | P9: 0 | Q9: 0 | R9: 0 | S9: 0 | T9: 0 | U9: 0 | V9: 0 | W9: 0 | X9: 0 | Y9: 0
A10: INFRUTÍFERO | B10: 7 | C10: 7 | D10: Monitor 27'' (CEPO) | E10: 449052.35 | L10: =K10-(SUM(N10:Y10)) -> 0 | M10: =IF(L10<0,"ATENÇÃO","OK") -> OK | N10: 0 | O10: 0 | P10: 0 | Q10: 0 | R10: 0 | S10: 0 | T10: 0 | U10: 0 | V10: 0 | W10: 0 | X10: 0 | Y10: 0
A11: INFRUTÍFERO | B11: 8 | C11: 8 | D11: Scanner A3 (BC) | E11: 449052.35 | G11: Peça | L11: =K11-(SUM(N11:Y11)) -> 0 | M11: =IF(L11<0,"ATENÇÃO","OK") -> OK | N11: 0 | O11: 0 | P11: 0 | Q11: 0 | R11: 0 | S11: 0 | T11: 0 | U11: 0 | V11: 0 | W11: 0 | X11: 0 | Y11: 0
A12: DESERTO | B12: 9 | C12: 9 | D12: Máquina Datilografia Braille (CEAD) | E12: 449052.35 | G12: Peça | L12: =K12-(SUM(N12:Y12)) -> 0 | M12: =IF(L12<0,"ATENÇÃO","OK") -> OK | N12: 0 | O12: 0 | P12: 0 | Q12: 0 | R12: 0 | S12: 0 | T12: 0 | U12: 0 | V12: 0 | W12: 0 | X12: 0 | Y12: 0
A13: Marcelo Weinrich EPP | B13: 10 | C13: 10 | D13: Scanner Plustek BookReader (CEAD) | E13: 449052.35 | F13: BOOKREADER V200 PLUSTEK | G13: Peça | J13: 2190 | L13: =K13-(SUM(N13:Y13)) -> 0 | M13: =IF(L13<0,"ATENÇÃO","OK") -> OK | N13: 0 | O13: 0 | P13: 0 | Q13: 0 | R13: 0 | S13: 0 | T13: 0 | U13: 0 | V13: 0 | W13: 0 | X13: 0 | Y13: 0
A14: DESERTO | B14: 11 | C14: 11 | D14: Teclado Intelikeys USB (CEAD) | E14: 449052.35 | G14: Peça | L14: =K14-(SUM(N14:Y14)) -> 0 | M14: =IF(L14<0,"ATENÇÃO","OK") -> OK | N14: 0 | O14: 0 | P14: 0 | Q14: 0 | R14: 0 | S14: 0 | T14: 0 | U14: 0 | V14: 0 | W14: 0 | X14: 0 | Y14: 0
A15: INFRUTÍFERO | B15: 12 | C15: 12 | D15: Teclado Sem Fio (SETIC) | E15: 339033.17 | G15: Peça | L15: =K15-(SUM(N15:Y15)) -> 0 | M15: =IF(L15<0,"ATENÇÃO","OK") -> OK | N15: 0 | O15: 0 | P15: 0 | Q15: 0 | R15: 0 | S15: 0 | T15: 0 | U15: 0 | V15: 0 | W15: 0 | X15: 0 | Y15: 0
A16: INFRUTÍFERO | B16: 13 | C16: 13 | D16: Computador iMac 27" (CEAD) | E16: 449052.35 | G16: Peça | L16: =K16-(SUM(N16:Y16)) -> 0 | M16: =IF(L16<0,"ATENÇÃO","OK") -> OK | N16: 0 | O16: 0 | P16: 0 | Q16: 0 | R16: 0 | S16: 0 | T16: 0 | U16: 0 | V16: 0 | W16: 0 | X16: 0 | Y16: 0
A17: Marcelo Weinrich EPP | B17: 14 | C17: 14 | D17: Scanner de Mesa A3 (CAV) | E17: 449052.35 | F17: 1200S MUSTEK | G17: Peça | J17: 1740 | L17: =K17-(SUM(N17:Y17)) -> 0 | M17: =IF(L17<0,"ATENÇÃO","OK") -> OK | N17: 0 | O17: 0 | P17: 0 | Q17: 0 | R17: 0 | S17: 0 | T17: 0 | U17: 0 | V17: 0 | W17: 0 | X17: 0 | Y17: 0
D19: *Lotes 4, 9 e 11 Desertos
D20: *Lotes 7, 8, 12 e 13 Infrutíferos
D21: *Prazo de Entrega e Pagamento conforme Termo de Referência
A23: LEGENDA PROJETOS (DEVERÃO SER EMITIDAS NOTAS FISCAIS INDIVIDUAIS POR PROJETOS):
A24: Projeto 01 - PRAPEG CEAVI - Complementação Lab. De CAD II - Jarbas Cleber Ferrari
A25: Projeto 02 - PRAPEG CEAVI - Complementação Lab. De CAD I - Rogério Simões
A26: Projeto 03 - PRAPEG CEAVI - Laboratório de Aplicativos Móveis - Jaison Sevegnani
A27: Projeto 04 - PAEX CEAVI - Transparência contábil entidades do terceiro setor - Sérgio Marian
A28: Projeto 05 - PRAPEG 1 - CCT - Adequação do Lab. de Informática do Depto. de Eng. Civil - Sandra D. K. Alves - 14
A29: Projeto 06 - PRAPEG 2 - CCT - Aprimoramento e Qualificação das Atividades de Ensino do CCT - Cíntia Aguiar - 14
A30: Projeto 07 - PRAPEG 7 - CCT - Laboratório Cooperativo - Parte II - Marcos Fergütz - 14
A31: Projeto 08 - PRAPEG 11 - CCT - Projeto Junta Matematica (JunMa) - 2ª Ed. - Luciane M. dos Santos - 14
A32: Projeto 09 - PROEX 6 - Maratonas de Programação 2014 UDESC - Claudio Cesar de Sá - 14
A33: Projeto 10 - PROEX 17 - CCT - Programa: Playground da Matemática - Ivanete Zuchi Siple - 14
A34: Projeto 11 - PROEX 19 - CCT - RENEW - Divulgação de Energias Renováveis - Márcio Rodrigo Loos - 14
... A47: Projeto 24 - CEFID - PRAPEG 2013 - Direção de Ensino

Sheet CEAD
A1: PROCESSO: 1421/2014/UDESC | D1: OBJETO: Aquisição de equipamentos de informática para a UDESC | K1: VIGÊNCIA DA ATA: 19/12/2014 até 18/12/2015 | N1: AF/OS nº 245/2015 Qtde. DT | O1: AF/OS nº 260/2014 Qtde. DT | P1: AF/OS nº 261/2014 Qtde. DT | Q1: AF/OS nº 774/2015 Qtde. DT | R1: AF/OS nº 778/2014 Qtde. DT | S1: AF/OS nº 1494/2014 Qtde. DT | T1: AF/OS nº xxxx/2014 Qtde. DT | U1: AF/OS nº xxxx/2014 Qtde. DT | V1: AF/OS nº xxxx/2014 Qtde. DT | W1: AF/OS nº xxxx/2014 Qtde. DT | X1: AF/OS nº xxxx/2014 Qtde. DT | Y1: AF/OS nº xxxx/2014 Qtde. DT
A2: CENTRO PARTICIPANTE: CEAD
A3: FORNECEDOR | B3: LOTE | C3: ITEM | D3: Especificação - conforme complementação memorial descritivo | E3: ELEMENTO | F3: MARCA/MODELO | G3: UNIDADE | H3: Entrega (Dias) | I3: Pagto. (Dias) | J3: Preço UNITÁRIO (R$) | K3: Qtde REGISTRADA | L3: Saldo / Automático | M3: ALERTA | N3: 42069 | O3: 42069 | P3: 42069 | Q3: 42142 | R3: 42142 | S3: 42237 | T3: ...../...../...... | U3: ...../...../...... | V3: ...../...../...... | W3: ...../...../...... | X3: ...../...../...... | Y3: ...../...../......
A4: Daten Tecnologia Ltda | B4: 1 | C4: 1 | D4: Microcomputador Básico (Dgov) | E4: 449052.35 | F4: DATEN DC1A-S + MONITOR LG 19EB13P-B | G4: Peça | J4: 2304 | K4: 20 | L4: =K4-(SUM(N4:Y4)) -> 20 | M4: =IF(L4<0,"ATENÇÃO","OK") -> OK | N4: 0 | O4: 0 | P4: 0 | Q4: 0 | R4: 0 | S4: 0 | T4: 0 | U4: 0 | V4: 0 | W4: 0 | X4: 0 | Y4: 0
A5: Intersoft Soluções em Informática Ltda | B5: 2 | C5: 2 | D5: Microcomputador Avançado (Dgov) | E5: 449052.35 | F5: LENOVO THINKCENTER M93P + MONITOR LENOVO THINKVISION E2223S | G5: Peça | J5: 3250 | K5: 50 | L5: =K5-(SUM(N5:Y5)) -> 0 | M5: =IF(L5<0,"ATENÇÃO","OK") -> OK | N5: 0 | O5: 10 | P5: 0 | Q5: 0 | R5: 20 | S5: 20 | T5: 0 | U5: 0 | V5: 0 | W5: 0 | X5: 0 | Y5: 0
A6: ZOOM Tecnologia LTDA | B6: 3 | C6: 3 | D6: Notebook Básico (Dgov) | E6: 449052.35 | F6: POSITIVO MASTER N250i - 84713019 | G6: Peça | J6: 2590 | K6: 5 | L6: =K6-(SUM(N6:Y6)) -> 0 | M6: =IF(L6<0,"ATENÇÃO","OK") -> OK | N6: 2 | O6: 0 | P6: 0 | Q6: 3 | R6: 0 | S6: 0 | T6: 0 | U6: 0 | V6: 0 | W6: 0 | X6: 0 | Y6: 0
A7: DESERTO | B7: 4 | C7: 4 | D7: Notebook Executivo (Dgov) | E7: 449052.35 | G7: Peça | L7: =K7-(SUM(N7:Y7)) -> 0 | M7: =IF(L7<0,"ATENÇÃO","OK") -> OK | N7: 0 | O7: 0 | P7: 0 | Q7: 0 | R7: 0 | S7: 0 | T7: 0 | U7: 0 | V7: 0 | W7: 0 | X7: 0 | Y7: 0
A8: ZOOM Tecnologia LTDA | B8: 5 | C8: 5 | D8: Tablet (Dgov) | E8: 449052.35 | F8: SAMSUNG GALAXY TAB S 10.5 SM-T805 - 84714190 | G8: Peça | J8: 1908 | K8: 20 | L8: =K8-(SUM(N8:Y8)) -> 18 | M8: =IF(L8<0,"ATENÇÃO","OK") -> OK | N8: 2 | O8: 0 | P8: 0 | Q8: 0 | R8: 0 | S8: 0 | T8: 0 | U8: 0 | V8: 0 | W8: 0 | X8: 0 | Y8: 0
A9: Marcelo Weinrich EPP | B9: 6 | C9: 6 | D9: Monitor 18'' (Dgov) | E9: 449052.35 | F9: LENOVO LS1921 18'5 LED 4425HC1 | G9: Peça | J9: 599 | L9: =K9-(SUM(N9:Y9)) -> 0 | M9: =IF(L9<0,"ATENÇÃO","OK") -> OK | N9: 0 | O9: 0 | P9: 0 | Q9: 0 | R9: 0 | S9: 0 | T9: 0 | U9: 0 | V9: 0 | W9: 0 | X9: 0 | Y9: 0
A10: INFRUTÍFERO | B10: 7 | C10: 7 | D10: Monitor 27'' (CEPO) | E10: 449052.35 | L10: =K10-(SUM(N10:Y10)) -> 0 | M10: =IF(L10<0,"ATENÇÃO","OK") -> OK | N10: 0 | O10: 0 | P10: 0 | Q10: 0 | R10: 0 | S10: 0 | T10: 0 | U10: 0 | V10: 0 | W10: 0 | X10: 0 | Y10: 0
A11: INFRUTÍFERO | B11: 8 | C11: 8 | D11: Scanner A3 (BC) | E11: 449052.35 | G11: Peça | L11: =K11-(SUM(N11:Y11)) -> 0 | M11: =IF(L11<0,"ATENÇÃO","OK") -> OK | N11: 0 | O11: 0 | P11: 0 | Q11: 0 | R11: 0 | S11: 0 | T11: 0 | U11: 0 | V11: 0 | W11: 0 | X11: 0 | Y11: 0
A12: DESERTO | B12: 9 | C12: 9 | D12: Máquina Datilografia Braille (CEAD) | E12: 449052.35 | G12: Peça | L12: =K12-(SUM(N12:Y12)) -> 0 | M12: =IF(L12<0,"ATENÇÃO","OK") -> OK | N12: 0 | O12: 0 | P12: 0 | Q12: 0 | R12: 0 | S12: 0 | T12: 0 | U12: 0 | V12: 0 | W12: 0 | X12: 0 | Y12: 0
A13: Marcelo Weinrich EPP | B13: 10 | C13: 10 | D13: Scanner Plustek BookReader (CEAD) | E13: 449052.35 | F13: BOOKREADER V200 PLUSTEK | G13: Peça | J13: 2190 | K13: 1 | L13: =K13-(SUM(N13:Y13)) -> 0 | M13: =IF(L13<0,"ATENÇÃO","OK") -> OK | N13: 0 | O13: 0 | P13: 1 | Q13: 0 | R13: 0 | S13: 0 | T13: 0 | U13: 0 | V13: 0 | W13: 0 | X13: 0 | Y13: 0
A14: DESERTO | B14: 11 | C14: 11 | D14: Teclado Intelikeys USB (CEAD) | E14: 449052.35 | G14: Peça | L14: =K14-(SUM(N14:Y14)) -> 0 | M14: =IF(L14<0,"ATENÇÃO","OK") -> OK | N14: 0 | O14: 0 | P14: 0 | Q14: 0 | R14: 0 | S14: 0 | T14: 0 | U14: 0 | V14: 0 | W14: 0 | X14: 0 | Y14: 0
A15: INFRUTÍFERO | B15: 12 | C15: 12 | D15: Teclado Sem Fio (SETIC) | E15: 339033.17 | G15: Peça | L15: =K15-(SUM(N15:Y15)) -> 0 | M15: =IF(L15<0,"ATENÇÃO","OK") -> OK | N15: 0 | O15: 0 | P15: 0 | Q15: 0 | R15: 0 | S15: 0 | T15: 0 | U15: 0 | V15: 0 | W15: 0 | X15: 0 | Y15: 0
A16: INFRUTÍFERO | B16: 13 | C16: 13 | D16: Computador iMac 27" (CEAD) | E16: 449052.35 | G16: Peça | L16: =K16-(SUM(N16:Y16)) -> 0 | M16: =IF(L16<0,"ATENÇÃO","OK") -> OK | N16: 0 | O16: 0 | P16: 0 | Q16: 0 | R16: 0 | S16: 0 | T16: 0 | U16: 0 | V16: 0 | W16: 0 | X16: 0 | Y16: 0
A17: Marcelo Weinrich EPP | B17: 14 | C17: 14 | D17: Scanner de Mesa A3 (CAV) | E17: 449052.35 | F17: 1200S MUSTEK | G17: Peça | J17: 1740 | L17: =K17-(SUM(N17:Y17)) -> 0 | M17: =IF(L17<0,"ATENÇÃO","OK") -> OK | N17: 0 | O17: 0 | P17: 0 | Q17: 0 | R17: 0 | S17: 0 | T17: 0 | U17: 0 | V17: 0 | W17: 0 | X17: 0 | Y17: 0
D19: *Lotes 4, 9 e 11 Desertos
D20: *Lotes 7, 8, 12 e 13 Infrutíferos
D21: *Prazo de Entrega e Pagamento conforme Termo de Referência
A23: LEGENDA PROJETOS (DEVERÃO SER EMITIDAS NOTAS FISCAIS INDIVIDUAIS POR PROJETOS):
A24: Projeto 01 - PRAPEG CEAVI - Complementação Lab. De CAD II - Jarbas Cleber Ferrari
A25: Projeto 02 - PRAPEG CEAVI - Complementação Lab. De CAD I - Rogério Simões
A26: Projeto 03 - PRAPEG CEAVI - Laboratório de Aplicativos Móveis - Jaison Sevegnani
A27: Projeto 04 - PAEX CEAVI - Transparência contábil entidades do terceiro setor - Sérgio Marian
A28: Projeto 05 - PRAPEG 1 - CCT - Adequação do Lab. de Informática do Depto. de Eng. Civil - Sandra D. K. Alves - 14
A29: Projeto 06 - PRAPEG 2 - CCT - Aprimoramento e Qualificação das Atividades de Ensino do CCT - Cíntia Aguiar - 14
A30: Projeto 07 - PRAPEG 7 - CCT - Laboratório Cooperativo - Parte II - Marcos Fergütz - 14
A31: Projeto 08 - PRAPEG 11 - CCT - Projeto Junta Matematica (JunMa) - 2ª Ed. - Luciane M. dos Santos - 14
A32: Projeto 09 - PROEX 6 - Maratonas de Programação 2014 UDESC - Claudio Cesar de Sá - 14
A33: Projeto 10 - PROEX 17 - CCT - Programa: Playground da Matemática - Ivanete Zuchi Siple - 14
A34: Projeto 11 - PROEX 19 - CCT - RENEW - Divulgação de Energias Renováveis - Márcio Rodrigo Loos - 14
... A47: Projeto 24 - CEFID - PRAPEG 2013 - Direção de Ensino

Sheet CEFID
A1: PROCESSO: 1421/2014/UDESC | D1: OBJETO: Aquisição de equipamentos de informática para a UDESC | K1: VIGÊNCIA DA ATA: 19/12/2014 até 18/12/2015 | N1: AF/OS nº x274/2014 Qtde. DT | O1: AF/OS nº 413/2015 Qtde. DT | P1: AF/OS nº 814/2015 Qtde. DT | Q1: AF/OS nº 1218/2015 Qtde. DT | R1: AF/OS nº 1798/2015 Qtde. DT | S1: AF/OS nº 1834/2015 Qtde. DT | T1: AF/OS nº xxxx/2014 Qtde. DT | U1: AF/OS nº xxxx/2014 Qtde. DT | V1: AF/OS nº xxxx/2014 Qtde. DT | W1: AF/OS nº xxxx/2014 Qtde. DT | X1: AF/OS nº xxxx/2014 Qtde. DT | Y1: AF/OS nº xxxx/2014 Qtde. DT
A2: CENTRO PARTICIPANTE: CEFID
A3: FORNECEDOR | B3: LOTE | C3: ITEM | D3: Especificação - conforme complementação memorial descritivo | E3: ELEMENTO | F3: MARCA/MODELO | G3: UNIDADE | H3: Entrega (Dias) | I3: Pagto. (Dias) | J3: Preço UNITÁRIO (R$) | K3: Qtde REGISTRADA | L3: Saldo / Automático | M3: ALERTA | N3: 42075 | O3: 42103 | P3: 42143 | Q3: 42201 | R3: 42279 | S3: 42282 | T3: ...../...../...... | U3: ...../...../...... | V3: ...../...../...... | W3: ...../...../...... | X3: ...../...../...... | Y3: ...../...../......
A4: Daten Tecnologia Ltda | B4: 1 | C4: 1 | D4: Microcomputador Básico (Dgov) | E4: 449052.35 | F4: DATEN DC1A-S + MONITOR LG 19EB13P-B | G4: Peça | J4: 2304 | K4: 20 | L4: =K4-(SUM(N4:Y4)) -> 0 | M4: =IF(L4<0,"ATENÇÃO","OK") -> OK | N4: 0 | O4: 20 | P4: 0 | Q4: 0 | R4: 0 | S4: 0 | T4: 0 | U4: 0 | V4: 0 | W4: 0 | X4: 0 | Y4: 0
A5: Intersoft Soluções em Informática Ltda | B5: 2 | C5: 2 | D5: Microcomputador Avançado (Dgov) | E5: 449052.35 | F5: LENOVO THINKCENTER M93P + MONITOR LENOVO THINKVISION E2223S | G5: Peça | J5: 3250 | K5: 85 | L5: =K5-(SUM(N5:Y5)) -> 25 | M5: =IF(L5<0,"ATENÇÃO","OK") -> OK | N5: 30 | O5: 0 | P5: 0 | Q5: 0 | R5: 0 | S5: 30 | T5: 0 | U5: 0 | V5: 0 | W5: 0 | X5: 0 | Y5: 0
A6: ZOOM Tecnologia LTDA | B6: 3 | C6: 3 | D6: Notebook Básico (Dgov) | E6: 449052.35 | F6: POSITIVO MASTER N250i - 84713019 | G6: Peça | J6: 2590 | K6: 10 | L6: =K6-(SUM(N6:Y6)) -> 10 | M6: =IF(L6<0,"ATENÇÃO","OK") -> OK | N6: 0 | O6: 0 | P6: 0 | Q6: 0 | R6: 0 | S6: 0 | T6: 0 | U6: 0 | V6: 0 | W6: 0 | X6: 0 | Y6: 0
A7: DESERTO | B7: 4 | C7: 4 | D7: Notebook Executivo (Dgov) | E7: 449052.35 | G7: Peça | L7: =K7-(SUM(N7:Y7)) -> 0 | M7: =IF(L7<0,"ATENÇÃO","OK") -> OK | N7: 0 | O7: 0 | P7: 0 | Q7: 0 | R7: 0 | S7: 0 | T7: 0 | U7: 0 | V7: 0 | W7: 0 | X7: 0 | Y7: 0
A8: ZOOM Tecnologia LTDA | B8: 5 | C8: 5 | D8: Tablet (Dgov) | E8: 449052.35 | F8: SAMSUNG GALAXY TAB S 10.5 SM-T805 - 84714190 | G8: Peça | J8: 1908 | K8: 10 | L8: =K8-(SUM(N8:Y8)) -> 7 | M8: =IF(L8<0,"ATENÇÃO","OK") -> OK | N8: 0 | O8: 0 | P8: 1 | Q8: 1 | R8: 1 | S8: 0 | T8: 0 | U8: 0 | V8: 0 | W8: 0 | X8: 0 | Y8: 0
A9: Marcelo Weinrich EPP | B9: 6 | C9: 6 | D9: Monitor 18'' (Dgov) | E9: 449052.35 | F9: LENOVO LS1921 18'5 LED 4425HC1 | G9: Peça | J9: 599 | L9: =K9-(SUM(N9:Y9)) -> 0 | M9: =IF(L9<0,"ATENÇÃO","OK") -> OK | N9: 0 | O9: 0 | P9: 0 | Q9: 0 | R9: 0 | S9: 0 | T9: 0 | U9: 0 | V9: 0 | W9: 0 | X9: 0 | Y9: 0
A10: INFRUTÍFERO | B10: 7 | C10: 7 | D10: Monitor 27'' (CEPO) | E10: 449052.35 | L10: =K10-(SUM(N10:Y10)) -> 0 | M10: =IF(L10<0,"ATENÇÃO","OK") -> OK | N10: 0 | O10: 0 | P10: 0 | Q10: 0 | R10: 0 | S10: 0 | T10: 0 | U10: 0 | V10: 0 | W10: 0 | X10: 0 | Y10: 0
A11: INFRUTÍFERO | B11: 8 | C11: 8 | D11: Scanner A3 (BC) | E11: 449052.35 | G11: Peça | L11: =K11-(SUM(N11:Y11)) -> 0 | M11: =IF(L11<0,"ATENÇÃO","OK") -> OK | N11: 0 | O11: 0 | P11: 0 | Q11: 0 | R11: 0 | S11: 0 | T11: 0 | U11: 0 | V11: 0 | W11: 0 | X11: 0 | Y11: 0
A12: DESERTO | B12: 9 | C12: 9 | D12: Máquina Datilografia Braille (CEAD) | E12: 449052.35 | G12: Peça | L12: =K12-(SUM(N12:Y12)) -> 0 | M12: =IF(L12<0,"ATENÇÃO","OK") -> OK | N12: 0 | O12: 0 | P12: 0 | Q12: 0 | R12: 0 | S12: 0 | T12: 0 | U12: 0 | V12: 0 | W12: 0 | X12: 0 | Y12: 0
A13: Marcelo Weinrich EPP | B13: 10 | C13: 10 | D13: Scanner Plustek BookReader (CEAD) | E13: 449052.35 | F13: BOOKREADER V200 PLUSTEK | G13: Peça | J13: 2190 | L13: =K13-(SUM(N13:Y13)) -> 0 | M13: =IF(L13<0,"ATENÇÃO","OK") -> OK | N13: 0 | O13: 0 | P13: 0 | Q13: 0 | R13: 0 | S13: 0 | T13: 0 | U13: 0 | V13: 0 | W13: 0 | X13: 0 | Y13: 0
A14: DESERTO | B14: 11 | C14: 11 | D14: Teclado Intelikeys USB (CEAD) | E14: 449052.35 | G14: Peça | L14: =K14-(SUM(N14:Y14)) -> 0 | M14: =IF(L14<0,"ATENÇÃO","OK") -> OK | N14: 0 | O14: 0 | P14: 0 | Q14: 0 | R14: 0 | S14: 0 | T14: 0 | U14: 0 | V14: 0 | W14: 0 | X14: 0 | Y14: 0
A15: INFRUTÍFERO | B15: 12 | C15: 12 | D15: Teclado Sem Fio (SETIC) | E15: 339033.17 | G15: Peça | L15: =K15-(SUM(N15:Y15)) -> 0 | M15: =IF(L15<0,"ATENÇÃO","OK") -> OK | N15: 0 | O15: 0 | P15: 0 | Q15: 0 | R15: 0 | S15: 0 | T15: 0 | U15: 0 | V15: 0 | W15: 0 | X15: 0 | Y15: 0
A16: INFRUTÍFERO | B16: 13 | C16: 13 | D16: Computador iMac 27" (CEAD) | E16: 449052.35 | G16: Peça | L16: =K16-(SUM(N16:Y16)) -> 0 | M16: =IF(L16<0,"ATENÇÃO","OK") -> OK | N16: 0 | O16: 0 | P16: 0 | Q16: 0 | R16: 0 | S16: 0 | T16: 0 | U16: 0 | V16: 0 | W16: 0 | X16: 0 | Y16: 0
A17: Marcelo Weinrich EPP | B17: 14 | C17: 14 | D17: Scanner de Mesa A3 (CAV) | E17: 449052.35 | F17: 1200S MUSTEK | G17: Peça | J17: 1740 | L17: =K17-(SUM(N17:Y17)) -> 0 | M17: =IF(L17<0,"ATENÇÃO","OK") -> OK | N17: 0 | O17: 0 | P17: 0 | Q17: 0 | R17: 0 | S17: 0 | T17: 0 | U17: 0 | V17: 0 | W17: 0 | X17: 0 | Y17: 0
D19: *Lotes 4, 9 e 11 Desertos
D20: *Lotes 7, 8, 12 e 13 Infrutíferos
D21: *Prazo de Entrega e Pagamento conforme Termo de Referência
A23: LEGENDA PROJETOS (DEVERÃO SER EMITIDAS NOTAS FISCAIS INDIVIDUAIS POR PROJETOS):
A24: Projeto 01 - PRAPEG CEAVI - Complementação Lab. De CAD II - Jarbas Cleber Ferrari
A25: Projeto 02 - PRAPEG CEAVI - Complementação Lab. De CAD I - Rogério Simões
A26: Projeto 03 - PRAPEG CEAVI - Laboratório de Aplicativos Móveis - Jaison Sevegnani
A27: Projeto 04 - PAEX CEAVI - Transparência contábil entidades do terceiro setor - Sérgio Marian
A28: Projeto 05 - PRAPEG 1 - CCT - Adequação do Lab. de Informática do Depto. de Eng. Civil - Sandra D. K. Alves - 14
A29: Projeto 06 - PRAPEG 2 - CCT - Aprimoramento e Qualificação das Atividades de Ensino do CCT - Cíntia Aguiar - 14
A30: Projeto 07 - PRAPEG 7 - CCT - Laboratório Cooperativo - Parte II - Marcos Fergütz - 14
A31: Projeto 08 - PRAPEG 11 - CCT - Projeto Junta Matematica (JunMa) - 2ª Ed. - Luciane M. dos Santos - 14
A32: Projeto 09 - PROEX 6 - Maratonas de Programação 2014 UDESC - Claudio Cesar de Sá - 14
A33: Projeto 10 - PROEX 17 - CCT - Programa: Playground da Matemática - Ivanete Zuchi Siple - 14
A34: Projeto 11 - PROEX 19 - CCT - RENEW - Divulgação de Energias Renováveis - Márcio Rodrigo Loos - 14
... A47: Projeto 24 - CEFID - PRAPEG 2013 - Direção de Ensino

Sheet CERES
A1: PROCESSO: 1421/2014/UDESC | D1: OBJETO: Aquisição de equipamentos de informática para a UDESC | K1: VIGÊNCIA DA ATA: 19/12/2014 até 18/12/2015 | N1: AF/OS nº xxxx/2014 Qtde. DT | O1: AF/OS nº xxxx/2014 Qtde. DT | P1: AF/OS nº xxxx/2014 Qtde. DT | Q1: AF/OS nº xxxx/2014 Qtde. DT | R1: AF/OS nº xxxx/2014 Qtde. DT | S1: AF/OS nº xxxx/2014 Qtde. DT | T1: AF/OS nº xxxx/2014 Qtde. DT | U1: AF/OS nº xxxx/2014 Qtde. DT | V1: AF/OS nº xxxx/2014 Qtde. DT | W1: AF/OS nº xxxx/2014 Qtde. DT | X1: AF/OS nº xxxx/2014 Qtde. DT | Y1: AF/OS nº xxxx/2014 Qtde. DT
A2: CENTRO PARTICIPANTE: CERES
A3: FORNECEDOR | B3: LOTE | C3: ITEM | D3: Especificação - conforme complementação memorial descritivo | E3: ELEMENTO | F3: MARCA/MODELO | G3: UNIDADE | H3: Entrega (Dias) | I3: Pagto. (Dias) | J3: Preço UNITÁRIO (R$) | K3: Qtde REGISTRADA | L3: Saldo / Automático | M3: ALERTA | N3: ...../...../...... | O3: ...../...../...... | P3: ...../...../...... | Q3: ...../...../...... | R3: ...../...../...... | S3: ...../...../...... | T3: ...../...../...... | U3: ...../...../...... | V3: ...../...../...... | W3: ...../...../...... | X3: ...../...../...... | Y3: ...../...../......
A4: Daten Tecnologia Ltda | B4: 1 | C4: 1 | D4: Microcomputador Básico (Dgov) | E4: 449052.35 | F4: DATEN DC1A-S + MONITOR LG 19EB13P-B | G4: Peça | J4: 2304 | L4: =K4-(SUM(N4:Y4)) -> 0 | M4: =IF(L4<0,"ATENÇÃO","OK") -> OK | N4: 0 | O4: 0 | P4: 0 | Q4: 0 | R4: 0 | S4: 0 | T4: 0 | U4: 0 | V4: 0 | W4: 0 | X4: 0 | Y4: 0
A5: Intersoft Soluções em Informática Ltda | B5: 2 | C5: 2 | D5: Microcomputador Avançado (Dgov) | E5: 449052.35 | F5: LENOVO THINKCENTER M93P + MONITOR LENOVO THINKVISION E2223S | G5: Peça | J5: 3250 | K5: 85 | L5: =K5-(SUM(N5:Y5)) -> 9 | M5: =IF(L5<0,"ATENÇÃO","OK") -> OK | N5: 76 | O5: 0 | P5: 0 | Q5: 0 | R5: 0 | S5: 0 | T5: 0 | U5: 0 | V5: 0 | W5: 0 | X5: 0 | Y5: 0
A6: ZOOM Tecnologia LTDA | B6: 3 | C6: 3 | D6: Notebook Básico (Dgov) | E6: 449052.35 | F6: POSITIVO MASTER N250i - 84713019 | G6: Peça | J6: 2590 | L6: =K6-(SUM(N6:Y6)) -> 0 | M6: =IF(L6<0,"ATENÇÃO","OK") -> OK | N6: 0 | O6: 0 | P6: 0 | Q6: 0 | R6: 0 | S6: 0 | T6: 0 | U6: 0 | V6: 0 | W6: 0 | X6: 0 | Y6: 0
A7: DESERTO | B7: 4 | C7: 4 | D7: Notebook Executivo (Dgov) | E7: 449052.35 | G7: Peça | L7: =K7-(SUM(N7:Y7)) -> 0 | M7: =IF(L7<0,"ATENÇÃO","OK") -> OK | N7: 0 | O7: 0 | P7: 0 | Q7: 0 | R7: 0 | S7: 0 | T7: 0 | U7: 0 | V7: 0 | W7: 0 | X7: 0 | Y7: 0
A8: ZOOM Tecnologia LTDA | B8: 5 | C8: 5 | D8: Tablet (Dgov) | E8: 449052.35 | F8: SAMSUNG GALAXY TAB S 10.5 SM-T805 - 84714190 | G8: Peça | J8: 1908 | L8: =K8-(SUM(N8:Y8)) -> 0 | M8: =IF(L8<0,"ATENÇÃO","OK") -> OK | N8: 0 | O8: 0 | P8: 0 | Q8: 0 | R8: 0 | S8: 0 | T8: 0 | U8: 0 | V8: 0 | W8: 0 | X8: 0 | Y8: 0
A9: Marcelo Weinrich EPP | B9: 6 | C9: 6 | D9: Monitor 18'' (Dgov) | E9: 449052.35 | F9: LENOVO LS1921 18'5 LED 4425HC1 | G9: Peça | J9: 599 | L9: =K9-(SUM(N9:Y9)) -> 0 | M9: =IF(L9<0,"ATENÇÃO","OK") -> OK | N9: 0 | O9: 0 | P9: 0 | Q9: 0 | R9: 0 | S9: 0 | T9: 0 | U9: 0 | V9: 0 | W9: 0 | X9: 0 | Y9: 0
A10: INFRUTÍFERO | B10: 7 | C10: 7 | D10: Monitor 27'' (CEPO) | E10: 449052.35 | L10: =K10-(SUM(N10:Y10)) -> 0 | M10: =IF(L10<0,"ATENÇÃO","OK") -> OK | N10: 0 | O10: 0 | P10: 0 | Q10: 0 | R10: 0 | S10: 0 | T10: 0 | U10: 0 | V10: 0 | W10: 0 | X10: 0 | Y10: 0
A11: INFRUTÍFERO | B11: 8 | C11: 8 | D11: Scanner A3 (BC) | E11: 449052.35 | G11: Peça | L11: =K11-(SUM(N11:Y11)) -> 0 | M11: =IF(L11<0,"ATENÇÃO","OK") -> OK | N11: 0 | O11: 0 | P11: 0 | Q11: 0 | R11: 0 | S11: 0 | T11: 0 | U11: 0 | V11: 0 | W11: 0 | X11: 0 | Y11: 0
A12: DESERTO | B12: 9 | C12: 9 | D12: Máquina Datilografia Braille (CEAD) | E12: 449052.35 | G12: Peça | L12: =K12-(SUM(N12:Y12)) -> 0 | M12: =IF(L12<0,"ATENÇÃO","OK") -> OK | N12: 0 | O12: 0 | P12: 0 | Q12: 0 | R12: 0 | S12: 0 | T12: 0 | U12: 0 | V12: 0 | W12: 0 | X12: 0 | Y12: 0
A13: Marcelo Weinrich EPP | B13: 10 | C13: 10 | D13: Scanner Plustek BookReader (CEAD) | E13: 449052.35 | F13: BOOKREADER V200 PLUSTEK | G13: Peça | J13: 2190 | L13: =K13-(SUM(N13:Y13)) -> 0 | M13: =IF(L13<0,"ATENÇÃO","OK") -> OK | N13: 0 | O13: 0 | P13: 0 | Q13: 0 | R13: 0 | S13: 0 | T13: 0 | U13: 0 | V13: 0 | W13: 0 | X13: 0 | Y13: 0
A14: DESERTO | B14: 11 | C14: 11 | D14: Teclado Intelikeys USB (CEAD) | E14: 449052.35 | G14: Peça | L14: =K14-(SUM(N14:Y14)) -> 0 | M14: =IF(L14<0,"ATENÇÃO","OK") -> OK | N14: 0 | O14: 0 | P14: 0 | Q14: 0 | R14: 0 | S14: 0 | T14: 0 | U14: 0 | V14: 0 | W14: 0 | X14: 0 | Y14: 0
A15: INFRUTÍFERO | B15: 12 | C15: 12 | D15: Teclado Sem Fio (SETIC) | E15: 339033.17 | G15: Peça | L15: =K15-(SUM(N15:Y15)) -> 0 | M15: =IF(L15<0,"ATENÇÃO","OK") -> OK | N15: 0 | O15: 0 | P15: 0 | Q15: 0 | R15: 0 | S15: 0 | T15: 0 | U15: 0 | V15: 0 | W15: 0 | X15: 0 | Y15: 0
A16: INFRUTÍFERO | B16: 13 | C16: 13 | D16: Computador iMac 27" (CEAD) | E16: 449052.35 | G16: Peça | L16: =K16-(SUM(N16:Y16)) -> 0 | M16: =IF(L16<0,"ATENÇÃO","OK") -> OK | N16: 0 | O16: 0 | P16: 0 | Q16: 0 | R16: 0 | S16: 0 | T16: 0 | U16: 0 | V16: 0 | W16: 0 | X16: 0 | Y16: 0
A17: Marcelo Weinrich EPP | B17: 14 | C17: 14 | D17: Scanner de Mesa A3 (CAV) | E17: 449052.35 | F17: 1200S MUSTEK | G17: Peça | J17: 1740 | L17: =K17-(SUM(N17:Y17)) -> 0 | M17: =IF(L17<0,"ATENÇÃO","OK") -> OK | N17: 0 | O17: 0 | P17: 0 | Q17: 0 | R17: 0 | S17: 0 | T17: 0 | U17: 0 | V17: 0 | W17: 0 | X17: 0 | Y17: 0
D19: *Lotes 4, 9 e 11 Desertos
D20: *Lotes 7, 8, 12 e 13 Infrutíferos
D21: *Prazo de Entrega e Pagamento conforme Termo de Referência
A23: LEGENDA PROJETOS (DEVERÃO SER EMITIDAS NOTAS FISCAIS INDIVIDUAIS POR PROJETOS):
A24: Projeto 01 - PRAPEG CEAVI - Complementação Lab. De CAD II - Jarbas Cleber Ferrari
A25: Projeto 02 - PRAPEG CEAVI - Complementação Lab. De CAD I - Rogério Simões
A26: Projeto 03 - PRAPEG CEAVI - Laboratório de Aplicativos Móveis - Jaison Sevegnani
A27: Projeto 04 - PAEX CEAVI - Transparência contábil entidades do terceiro setor - Sérgio Marian
A28: Projeto 05 - PRAPEG 1 - CCT - Adequação do Lab. de Informática do Depto. de Eng. Civil - Sandra D. K. Alves - 14
A29: Projeto 06 - PRAPEG 2 - CCT - Aprimoramento e Qualificação das Atividades de Ensino do CCT - Cíntia Aguiar - 14
A30: Projeto 07 - PRAPEG 7 - CCT - Laboratório Cooperativo - Parte II - Marcos Fergütz - 14
A31: Projeto 08 - PRAPEG 11 - CCT - Projeto Junta Matematica (JunMa) - 2ª Ed. - Luciane M. dos Santos - 14
A32: Projeto 09 - PROEX 6 - Maratonas de Programação 2014 UDESC - Claudio Cesar de Sá - 14
A33: Projeto 10 - PROEX 17 - CCT - Programa: Playground da Matemática - Ivanete Zuchi Siple - 14
A34: Projeto 11 - PROEX 19 - CCT - RENEW - Divulgação de Energias Renováveis - Márcio Rodrigo Loos - 14
... A47: Projeto 24 - CEFID - PRAPEG 2013 - Direção de Ensino

Sheet CEPLAN
A1: PROCESSO: 1421/2014/UDESC | D1: OBJETO: Aquisição de equipamentos de informática para a UDESC | K1: VIGÊNCIA DA ATA: 19/12/2014 até 18/12/2015 | N1: AF/OS nº 351/2015 Qtde. DT | O1: AF/OS nº xxxx/2014 Qtde. DT | P1: AF/OS nº xxxx/2014 Qtde. DT | Q1: AF/OS nº xxxx/2014 Qtde. DT | R1: AF/OS nº xxxx/2014 Qtde. DT | S1: AF/OS nº xxxx/2014 Qtde. DT | T1: AF/OS nº xxxx/2014 Qtde. DT | U1: AF/OS nº xxxx/2014 Qtde. DT | V1: AF/OS nº xxxx/2014 Qtde. DT | W1: AF/OS nº xxxx/2014 Qtde. DT | X1: AF/OS nº xxxx/2014 Qtde. DT | Y1: AF/OS nº xxxx/2014 Qtde. DT
A2: CENTRO PARTICIPANTE: CEPLAN
A3: FORNECEDOR | B3: LOTE | C3: ITEM | D3: Especificação - conforme complementação memorial descritivo | E3: ELEMENTO | F3: MARCA/MODELO | G3: UNIDADE | H3: Entrega (Dias) | I3: Pagto. (Dias) | J3: Preço UNITÁRIO (R$) | K3: Qtde REGISTRADA | L3: Saldo / Automático | M3: ALERTA | N3: ...../...../...... | O3: ...../...../...... | P3: ...../...../...... | Q3: ...../...../...... | R3: ...../...../...... | S3: ...../...../...... | T3: ...../...../...... | U3: ...../...../...... | V3: ...../...../...... | W3: ...../...../...... | X3: ...../...../...... | Y3: ...../...../......
A4: Daten Tecnologia Ltda | B4: 1 | C4: 1 | D4: Microcomputador Básico (Dgov) | E4: 449052.35 | F4: DATEN DC1A-S + MONITOR LG 19EB13P-B | G4: Peça | J4: 2304 | K4: 30 | L4: =K4-(SUM(N4:Y4)) -> 30 | M4: =IF(L4<0,"ATENÇÃO","OK") -> OK | N4: 0 | O4: 0 | P4: 0 | Q4: 0 | R4: 0 | S4: 0 | T4: 0 | U4: 0 | V4: 0 | W4: 0 | X4: 0 | Y4: 0
A5: Intersoft Soluções em Informática Ltda | B5: 2 | C5: 2 | D5: Microcomputador Avançado (Dgov) | E5: 449052.35 | F5: LENOVO THINKCENTER M93P + MONITOR LENOVO THINKVISION E2223S | G5: Peça | J5: 3250 | K5: 60 | L5: =K5-(SUM(N5:Y5)) -> 60 | M5: =IF(L5<0,"ATENÇÃO","OK") -> OK | N5: 0 | O5: 0 | P5: 0 | Q5: 0 | R5: 0 | S5: 0 | T5: 0 | U5: 0 | V5: 0 | W5: 0 | X5: 0 | Y5: 0
A6: ZOOM Tecnologia LTDA | B6: 3 | C6: 3 | D6: Notebook Básico (Dgov) | E6: 449052.35 | F6: POSITIVO MASTER N250i - 84713019 | G6: Peça | J6: 2590 | K6: 14 | L6: =K6-(SUM(N6:Y6)) -> 0 | M6: =IF(L6<0,"ATENÇÃO","OK") -> OK | N6: 14 | O6: 0 | P6: 0 | Q6: 0 | R6: 0 | S6: 0 | T6: 0 | U6: 0 | V6: 0 | W6: 0 | X6: 0 | Y6: 0
A7: DESERTO | B7: 4 | C7: 4 | D7: Notebook Executivo (Dgov) | E7: 449052.35 | G7: Peça | L7: =K7-(SUM(N7:Y7)) -> 0 | M7: =IF(L7<0,"ATENÇÃO","OK") -> OK | N7: 0 | O7: 0 | P7: 0 | Q7: 0 | R7: 0 | S7: 0 | T7: 0 | U7: 0 | V7: 0 | W7: 0 | X7: 0 | Y7: 0
A8: ZOOM Tecnologia LTDA | B8: 5 | C8: 5 | D8: Tablet (Dgov) | E8: 449052.35 | F8: SAMSUNG GALAXY TAB S 10.5 SM-T805 - 84714190 | G8: Peça | J8: 1908 | K8: 12 | L8: =K8-(SUM(N8:Y8)) -> 12 | M8: =IF(L8<0,"ATENÇÃO","OK") -> OK | N8: 0 | O8: 0 | P8: 0 | Q8: 0 | R8: 0 | S8: 0 | T8: 0 | U8: 0 | V8: 0 | W8: 0 | X8: 0 | Y8: 0
A9: Marcelo Weinrich EPP | B9: 6 | C9: 6 | D9: Monitor 18'' (Dgov) | E9: 449052.35 | F9: LENOVO LS1921 18'5 LED 4425HC1 | G9: Peça | J9: 599 | K9: 6 | L9: =K9-(SUM(N9:Y9)) -> 6 | M9: =IF(L9<0,"ATENÇÃO","OK") -> OK | N9: 0 | O9: 0 | P9: 0 | Q9: 0 | R9: 0 | S9: 0 | T9: 0 | U9: 0 | V9: 0 | W9: 0 | X9: 0 | Y9: 0
A10: INFRUTÍFERO | B10: 7 | C10: 7 | D10: Monitor 27'' (CEPO) | E10: 449052.35 | L10: =K10-(SUM(N10:Y10)) -> 0 | M10: =IF(L10<0,"ATENÇÃO","OK") -> OK | N10: 0 | O10: 0 | P10: 0 | Q10: 0 | R10: 0 | S10: 0 | T10: 0 | U10: 0 | V10: 0 | W10: 0 | X10: 0 | Y10: 0
A11: INFRUTÍFERO | B11: 8 | C11: 8 | D11: Scanner A3 (BC) | E11: 449052.35 | G11: Peça | L11: =K11-(SUM(N11:Y11)) -> 0 | M11: =IF(L11<0,"ATENÇÃO","OK") -> OK | N11: 0 | O11: 0 | P11: 0 | Q11: 0 | R11: 0 | S11: 0 | T11: 0 | U11: 0 | V11: 0 | W11: 0 | X11: 0 | Y11: 0
A12: DESERTO | B12: 9 | C12: 9 | D12: Máquina Datilografia Braille (CEAD) | E12: 449052.35 | G12: Peça | L12: =K12-(SUM(N12:Y12)) -> 0 | M12: =IF(L12<0,"ATENÇÃO","OK") -> OK | N12: 0 | O12: 0 | P12: 0 | Q12: 0 | R12: 0 | S12: 0 | T12: 0 | U12: 0 | V12: 0 | W12: 0 | X12: 0 | Y12: 0
A13: Marcelo Weinrich EPP | B13: 10 | C13: 10 | D13: Scanner Plustek BookReader (CEAD) | E13: 449052.35 | F13: BOOKREADER V200 PLUSTEK | G13: Peça | J13: 2190 | L13: =K13-(SUM(N13:Y13)) -> 0 | M13: =IF(L13<0,"ATENÇÃO","OK") -> OK | N13: 0 | O13: 0 | P13: 0 | Q13: 0 | R13: 0 | S13: 0 | T13: 0 | U13: 0 | V13: 0 | W13: 0 | X13: 0 | Y13: 0
A14: DESERTO | B14: 11 | C14: 11 | D14: Teclado Intelikeys USB (CEAD) | E14: 449052.35 | G14: Peça | L14: =K14-(SUM(N14:Y14)) -> 0 | M14: =IF(L14<0,"ATENÇÃO","OK") -> OK | N14: 0 | O14: 0 | P14: 0 | Q14: 0 | R14: 0 | S14: 0 | T14: 0 | U14: 0 | V14: 0 | W14: 0 | X14: 0 | Y14: 0
A15: INFRUTÍFERO | B15: 12 | C15: 12 | D15: Teclado Sem Fio (SETIC) | E15: 339033.17 | G15: Peça | L15: =K15-(SUM(N15:Y15)) -> 0 | M15: =IF(L15<0,"ATENÇÃO","OK") -> OK | N15: 0 | O15: 0 | P15: 0 | Q15: 0 | R15: 0 | S15: 0 | T15: 0 | U15: 0 | V15: 0 | W15: 0 | X15: 0 | Y15: 0
A16: INFRUTÍFERO | B16: 13 | C16: 13 | D16: Computador iMac 27" (CEAD) | E16: 449052.35 | G16: Peça | L16: =K16-(SUM(N16:Y16)) -> 0 | M16: =IF(L16<0,"ATENÇÃO","OK") -> OK | N16: 0 | O16: 0 | P16: 0 | Q16: 0 | R16: 0 | S16: 0 | T16: 0 | U16: 0 | V16: 0 | W16: 0 | X16: 0 | Y16: 0
A17: Marcelo Weinrich EPP | B17: 14 | C17: 14 | D17: Scanner de Mesa A3 (CAV) | E17: 449052.35 | F17: 1200S MUSTEK | G17: Peça | J17: 1740 | L17: =K17-(SUM(N17:Y17)) -> 0 | M17: =IF(L17<0,"ATENÇÃO","OK") -> OK | N17: 0 | O17: 0 | P17: 0 | Q17: 0 | R17: 0 | S17: 0 | T17: 0 | U17: 0 | V17: 0 | W17: 0 | X17: 0 | Y17: 0
D19: *Lotes 4, 9 e 11 Desertos
D20: *Lotes 7, 8, 12 e 13 Infrutíferos
D21: *Prazo de Entrega e Pagamento conforme Termo de Referência
A23: LEGENDA PROJETOS (DEVERÃO SER EMITIDAS NOTAS FISCAIS INDIVIDUAIS POR PROJETOS):
A24: Projeto 01 - PRAPEG CEAVI - Complementação Lab. De CAD II - Jarbas Cleber Ferrari
A25: Projeto 02 - PRAPEG CEAVI - Complementação Lab. De CAD I - Rogério Simões
A26: Projeto 03 - PRAPEG CEAVI - Laboratório de Aplicativos Móveis - Jaison Sevegnani
A27: Projeto 04 - PAEX CEAVI - Transparência contábil entidades do terceiro setor - Sérgio Marian
A28: Projeto 05 - PRAPEG 1 - CCT - Adequação do Lab. de Informática do Depto. de Eng. Civil - Sandra D. K. Alves - 14
A29: Projeto 06 - PRAPEG 2 - CCT - Aprimoramento e Qualificação das Atividades de Ensino do CCT - Cíntia Aguiar - 14
A30: Projeto 07 - PRAPEG 7 - CCT - Laboratório Cooperativo - Parte II - Marcos Fergütz - 14
A31: Projeto 08 - PRAPEG 11 - CCT - Projeto Junta Matematica (JunMa) - 2ª Ed. - Luciane M. dos Santos - 14
A32: Projeto 09 - PROEX 6 - Maratonas de Programação 2014 UDESC - Claudio Cesar de Sá - 14
A33: Projeto 10 - PROEX 17 - CCT - Programa: Playground da Matemática - Ivanete Zuchi Siple - 14
A34: Projeto 11 - PROEX 19 - CCT - RENEW - Divulgação de Energias Renováveis - Márcio Rodrigo Loos - 14
... A47: Projeto 24 - CEFID - PRAPEG 2013 - Direção de Ensino

Sheet CCT
A1: PROCESSO: 1421/2014/UDESC | D1: OBJETO: Aquisição de equipamentos de informática para a UDESC | K1: VIGÊNCIA DA ATA: 19/12/2014 até 18/12/2015 | N1: Contrato 409/2015 Qtde. DT | O1: Contrato 410/2015 Qtde. DT | P1: AF/OS nº 448/2014 Qtde. DT | Q1: AF/OS nº 764/2015 | R1: AF/OS nº 861/2015 Qtde. DT | S1: AF/OS nº 862/2015 Qtde. DT | T1: AF/OS nº 1028/2015 Qtde. DT | U1: AF/OS nº 1569/2015 Qtde. DT | V1: AF/OS nº 1690/2015 Qtde. DT | W1: AF/OS nº 1692/2015 Qtde. DT | X1: AF/OS nº 1718/2015 Qtde. DT | Y1: AF/OS nº 1859/2015 Qtde. DT | Z1: AF/OS nº 2164/2015 Qtde. DT
A2: CENTRO PARTICIPANTE: CCT
A3: FORNECEDOR | B3: LOTE | C3: ITEM | D3: Especificação - conforme complementação memorial descritivo | E3: ELEMENTO | F3: MARCA/MODELO | G3: UNIDADE | H3: Entrega (Dias) | I3: Pagto. (Dias) | J3: Preço UNITÁRIO (R$) | K3: Qtde REGISTRADA | L3: Saldo / Automático | M3: ALERTA | N3: 42102 | O3: 42102 | P3: 42107 | Q3: 42139 | R3: 42150 | S3: 42150 | T3: 42177 | U3: ...../...../...... | V3: 42268 | W3: 42268 | X3: 42271 | Y3: 42284 | Z3: 42320
A4: Daten Tecnologia Ltda | B4: 1 | C4: 1 | D4: Microcomputador Básico (Dgov) | E4: 449052.35 | F4: DATEN DC1A-S + MONITOR LG 19EB13P-B | G4: Peça | J4: 2304 | K4: 247 | L4: =K4-(SUM(N4:Z4)) -> 219 | M4: =IF(L4<0,"ATENÇÃO","OK") -> OK | N4: 25 | O4: 0 | P4: 0 | Q4: 0 | R4: 3 | S4: 0 | T4: 0 | U4: 0 | V4: 0 | W4: 0 | X4: 0 | Y4: 0 | Z4: 0
A5: Intersoft Soluções em Informática Ltda | B5: 2 | C5: 2 | D5: Microcomputador Avançado (Dgov) | E5: 449052.35 | F5: LENOVO THINKCENTER M93P + MONITOR LENOVO THINKVISION E2223S | G5: Peça | J5: 3250 | K5: 165 | L5: =K5-(SUM(N5:Z5)) -> 0 | M5: =IF(L5<0,"ATENÇÃO","OK") -> OK | N5: 0 | O5: 136 | P5: 0 | Q5: 0 | R5: 0 | S5: 6 | T5: 0 | U5: 0 | V5: 0 | W5: 2 | X5: 1 | Y5: 0 | Z5: 20
A6: ZOOM Tecnologia LTDA | B6: 3 | C6: 3 | D6: Notebook Básico (Dgov) | E6: 449052.35 | F6: POSITIVO MASTER N250i - 84713019 | G6: Peça | J6: 2590 | K6: 44 | L6: =K6-(SUM(N6:Z6)) -> 28 | M6: =IF(L6<0,"ATENÇÃO","OK") -> OK | N6: 0 | O6: 0 | P6: 2 | Q6: 6 | R6: 0 | S6: 0 | T6: 2 | U6: 0 | V6: 6 | W6: 0 | X6: 0 | Y6: 0 | Z6: 0
A7: DESERTO | B7: 4 | C7: 4 | D7: Notebook Executivo (Dgov) | E7: 449052.35 | G7: Peça | L7: =K7-(SUM(N7:Z7)) -> 0 | M7: =IF(L7<0,"ATENÇÃO","OK") -> OK | N7: 0 | O7: 0 | P7: 0 | Q7: 0 | R7: 0 | S7: 0 | T7: 0 | U7: 0 | V7: 0 | W7: 0 | X7: 0 | Y7: 0 | Z7: 0
A8: ZOOM Tecnologia LTDA | B8: 5 | C8: 5 | D8: Tablet (Dgov) | E8: 449052.35 | F8: SAMSUNG GALAXY TAB S 10.5 SM-T805 - 84714190 | G8: Peça | J8: 1908 | K8: 18 | L8: =K8-(SUM(N8:Z8)) -> 3 | M8: =IF(L8<0,"ATENÇÃO","OK") -> OK | N8: 0 | O8: 0 | P8: 4 | Q8: 5 | R8: 0 | S8: 0 | T8: 0 | U8: 2 | V8: 3 | W8: 0 | X8: 0 | Y8: 1 | Z8: 0
A9: Marcelo Weinrich EPP | B9: 6 | C9: 6 | D9: Monitor 18'' (Dgov) | E9: 449052.35 | F9: LENOVO LS1921 18'5 LED 4425HC1 | G9: Peça | J9: 599 | L9: =K9-(SUM(N9:Z9)) -> 0 | M9: =IF(L9<0,"ATENÇÃO","OK") -> OK | N9: 0 | O9: 0 | P9: 0 | Q9: 0 | R9: 0 | S9: 0 | T9: 0 | U9: 0 | V9: 0 | W9: 0 | X9: 0 | Y9: 0 | Z9: 0
A10: INFRUTÍFERO | B10: 7 | C10: 7 | D10: Monitor 27'' (CEPO) | E10: 449052.35 | L10: =K10-(SUM(N10:Z10)) -> 0 | M10: =IF(L10<0,"ATENÇÃO","OK") -> OK | N10: 0 | O10: 0 | P10: 0 | Q10: 0 | R10: 0 | S10: 0 | T10: 0 | U10: 0 | V10: 0 | W10: 0 | X10: 0 | Y10: 0 | Z10: 0
A11: INFRUTÍFERO | B11: 8 | C11: 8 | D11: Scanner A3 (BC) | E11: 449052.35 | G11: Peça | L11: =K11-(SUM(N11:Z11)) -> 0 | M11: =IF(L11<0,"ATENÇÃO","OK") -> OK | N11: 0 | O11: 0 | P11: 0 | Q11: 0 | R11: 0 | S11: 0 | T11: 0 | U11: 0 | V11: 0 | W11: 0 | X11: 0 | Y11: 0 | Z11: 0
A12: DESERTO | B12: 9 | C12: 9 | D12: Máquina Datilografia Braille (CEAD) | E12: 449052.35 | G12: Peça | L12: =K12-(SUM(N12:Z12)) -> 0 | M12: =IF(L12<0,"ATENÇÃO","OK") -> OK | N12: 0 | O12: 0 | P12: 0 | Q12: 0 | R12: 0 | S12: 0 | T12: 0 | U12: 0 | V12: 0 | W12: 0 | X12: 0 | Y12: 0 | Z12: 0
A13: Marcelo Weinrich EPP | B13: 10 | C13: 10 | D13: Scanner Plustek BookReader (CEAD) | E13: 449052.35 | F13: BOOKREADER V200 PLUSTEK | G13: Peça | J13: 2190 | L13: =K13-(SUM(N13:Z13)) -> 0 | M13: =IF(L13<0,"ATENÇÃO","OK") -> OK | N13: 0 | O13: 0 | P13: 0 | Q13: 0 | R13: 0 | S13: 0 | T13: 0 | U13: 0 | V13: 0 | W13: 0 | X13: 0 | Y13: 0 | Z13: 0
A14: DESERTO | B14: 11 | C14: 11 | D14: Teclado Intelikeys USB (CEAD) | E14: 449052.35 | G14: Peça | L14: =K14-(SUM(N14:Z14)) -> 0 | M14: =IF(L14<0,"ATENÇÃO","OK") -> OK | N14: 0 | O14: 0 | P14: 0 | Q14: 0 | R14: 0 | S14: 0 | T14: 0 | U14: 0 | V14: 0 | W14: 0 | X14: 0 | Y14: 0 | Z14: 0
A15: INFRUTÍFERO | B15: 12 | C15: 12 | D15: Teclado Sem Fio (SETIC) | E15: 339033.17 | G15: Peça | L15: =K15-(SUM(N15:Z15)) -> 0 | M15: =IF(L15<0,"ATENÇÃO","OK") -> OK | N15: 0 | O15: 0 | P15: 0 | Q15: 0 | R15: 0 | S15: 0 | T15: 0 | U15: 0 | V15: 0 | W15: 0 | X15: 0 | Y15: 0 | Z15: 0
A16: INFRUTÍFERO | B16: 13 | C16: 13 | D16: Computador iMac 27" (CEAD) | E16: 449052.35 | G16: Peça | L16: =K16-(SUM(N16:Z16)) -> 0 | M16: =IF(L16<0,"ATENÇÃO","OK") -> OK | N16: 0 | O16: 0 | P16: 0 | Q16: 0 | R16: 0 | S16: 0 | T16: 0 | U16: 0 | V16: 0 | W16: 0 | X16: 0 | Y16: 0 | Z16: 0
A17: Marcelo Weinrich EPP | B17: 14 | C17: 14 | D17: Scanner de Mesa A3 (CAV) | E17: 449052.35 | F17: 1200S MUSTEK | G17: Peça | J17: 1740 | L17: =K17-(SUM(N17:Z17)) -> 0 | M17: =IF(L17<0,"ATENÇÃO","OK") -> OK | N17: 0 | O17: 0 | P17: 0 | Q17: 0 | R17: 0 | S17: 0 | T17: 0 | U17: 0 | V17: 0 | W17: 0 | X17: 0 | Y17: 0 | Z17: 0
D19: *Lotes 4, 9 e 11 Desertos
D20: *Lotes 7, 8, 12 e 13 Infrutíferos
D21: *Prazo de Entrega e Pagamento conforme Termo de Referência
A23: LEGENDA PROJETOS (DEVERÃO SER EMITIDAS NOTAS FISCAIS INDIVIDUAIS POR PROJETOS):
A24: Projeto 01 - PRAPEG CEAVI - Complementação Lab. De CAD II - Jarbas Cleber Ferrari
A25: Projeto 02 - PRAPEG CEAVI - Complementação Lab. De CAD I - Rogério Simões
A26: Projeto 03 - PRAPEG CEAVI - Laboratório de Aplicativos Móveis - Jaison Sevegnani
A27: Projeto 04 - PAEX CEAVI - Transparência contábil entidades do terceiro setor - Sérgio Marian
