Workbook
Name diasuteis: #REF!
Name diasuteis: #REF!
Name diasuteis: #REF!
Name diasuteis: #REF!
Name diasuteis: #REF!
Name diasuteis: #REF!
Name diasuteis: #REF!
Name diasuteis: #REF!
Name diasuteis: #REF!
Name diasuteis: #REF!
Name diasuteis: #REF!
Name diasuteis: #REF!
Name Ferias: #REF!
Name Ferias: #REF!
Name Ferias: #REF!
Name Ferias: #REF!
Name Ferias: #REF!
Name Ferias: #REF!
Name Ferias: #REF!
Name Ferias: #REF!
Name Ferias: #REF!
Name Ferias: #REF!
Name Ferias: #REF!
Name RD: OFFSET(#REF!,(MATCH(SMALL(#REF!,ROW()-10),#REF!,0)-1),0)
Name RD: OFFSET(#REF!,(MATCH(SMALL(#REF!,ROW()-10),#REF!,0)-1),0)
Name RD: OFFSET(#REF!,(MATCH(SMALL(#REF!,ROW()-10),#REF!,0)-1),0)

Sheet REIT_SETIC
A1: PROCESSO: 1300/2014/UDESC | D1: OBJETO: Aquisição de equipamentos, materiais e serviços para upgrade da rede de computadores da UDESC | K1: VIGÊNCIA DA ATA: 02/12/2014 até 01/12/2015 | N1: AF nº 171/2015 Qtde. DT | O1: Contrato nº 181/2015 Qtde. DT | P1: Contrato nº 406/2015 Qtde. DT | Q1: Contrato nº 1384/2015 Qtde. DT | R1: Contrato 1488/2015 Qtde. DT | S1: Contrato nº 1968/2015 Qtde. DT | T1: AF/OS nº xxxx/2014 Qtde. DT | U1: AF/OS nº xxxx/2014 Qtde. DT | V1: AF/OS nº xxxx/2014 Qtde. DT | W1: AF/OS nº xxxx/2014 Qtde. DT | X1: AF/OS nº xxxx/2014 Qtde. DT | Y1: AF/OS nº xxxx/2014 Qtde. DT
A2: CENTRO PARTICIPANTE: REITORIA/SETIC
A3: FORNECEDOR | B3: LOTE | C3: ITEM | D3: Especificação - conforme complementação memorial descritivo | E3: ELEMENTO | F3: MARCA | G3: UNIDADE | H3: Entrega (Dias) | I3: Pagto. (Dias) | J3: Preço UNITÁRIO (R$) | K3: Qtde REGISTRADA | L3: Saldo / Automático | M3: ALERTA | N3: 42054 | O3: 42059 | P3: 42101 | Q3: 42222 | R3: 42243 | S3: 42298 | T3: ...../...../...... | U3: ...../...../...... | V3: ...../...../...... | W3: ...../...../...... | X3: ...../...../...... | Y3: ...../...../......
A4: ZOOM Tecnologia LTDA | B4: 1 | C4: 1 | D4: Mini Storage de Rede (CEAD) | E4: 449052.35 | G4: Peça | J4: 8884 | K4: 2 | L4: =K4-(SUM(N4:Y4)) -> 0 | M4: =IF(L4<0,"ATENÇÃO","OK") -> OK | N4: 2 | O4: 0 | P4: 0 | Q4: 0 | R4: 0 | S4: 0 | T4: 0 | U4: 0 | V4: 0 | W4: 0 | X4: 0 | Y4: 0
A5: Infrutífero | B5: 2 | C5: 2 | D5: Wireless com antena direcional | E5: 449052.35 | G5: Peça | J5: Infrutífero | L5: =K5-(SUM(N5:Y5)) -> 0 | M5: =IF(L5<0,"ATENÇÃO","OK") -> OK | N5: 0 | O5: 0 | P5: 0 | Q5: 0 | R5: 0 | S5: 0 | T5: 0 | U5: 0 | V5: 0 | W5: 0 | X5: 0 | Y5: 0
A6: Infrutífero | B6: 3 | C6: 3 | D6: Câmera IP (CEART) | E6: 449052.33 | G6: Peça | J6: Infrutífero | L6: =K6-(SUM(N6:Y6)) -> 0 | M6: =IF(L6<0,"ATENÇÃO","OK") -> OK | N6: 0 | O6: 0 | P6: 0 | Q6: 0 | R6: 0 | S6: 0 | T6: 0 | U6: 0 | V6: 0 | W6: 0 | X6: 0 | Y6: 0
A7: ZOOM Tecnologia LTDA | B7: 4 | C7: 4 | D7: Switch Borda s/PoE 24p (DGOV) | E7: 449052.35 | G7: Peça | J7: 1320 | K7: 10 | L7: =K7-(SUM(N7:Y7)) -> 0 | M7: =IF(L7<0,"ATENÇÃO","OK") -> OK | N7: 0 | O7: 0 | P7: 0 | Q7: 10 | R7: 0 | S7: 0 | T7: 0 | U7: 0 | V7: 0 | W7: 0 | X7: 0 | Y7: 0
C8: 5 | D8: Switch Borda PoE 24p | E8: 449052.35 | G8: Peça | J8: 3250 | K8: =20+24 -> 44 | L8: =K8-(SUM(N8:Y8)) -> 0 | M8: =IF(L8<0,"ATENÇÃO","OK") -> OK | N8: 20 | O8: 0 | P8: 0 | Q8: 0 | R8: 24 | S8: 0 | T8: 0 | U8: 0 | V8: 0 | W8: 0 | X8: 0 | Y8: 0
C9: 6 | D9: Mini-GBIC monomodo 1Gbps | E9: 449052.35 | G9: Peça | J9: 850 | K9: 10 | L9: =K9-(SUM(N9:Y9)) -> 0 | M9: =IF(L9<0,"ATENÇÃO","OK") -> OK | N9: 0 | O9: 0 | P9: 10 | Q9: 0 | R9: 0 | S9: 0 | T9: 0 | U9: 0 | V9: 0 | W9: 0 | X9: 0 | Y9: 0
C10: 7 | D10: Mini-GBIC multimodo 1Gbps | E10: 449052.35 | G10: Peça | J10: 450 | K10: 30 | L10: =K10-(SUM(N10:Y10)) -> 0 | M10: =IF(L10<0,"ATENÇÃO","OK") -> OK | N10: 0 | O10: 0 | P10: 30 | Q10: 0 | R10: 0 | S10: 0 | T10: 0 | U10: 0 | V10: 0 | W10: 0 | X10: 0 | Y10: 0
C11: 8 | D11: Roteador Unidades | E11: 449052.35 | G11: Peça | J11: 3245 | K11: 6 | L11: =K11-(SUM(N11:Y11)) -> 0 | M11: =IF(L11<0,"ATENÇÃO","OK") -> OK | N11: 2 | O11: 0 | P11: 4 | Q11: 0 | R11: 0 | S11: 0 | T11: 0 | U11: 0 | V11: 0 | W11: 0 | X11: 0 | Y11: 0
C12: 9 | D12: Roteador Concentrador | E12: 449052.35 | G12: Peça | J12: 44000 | K12: 2 | L12: =K12-(SUM(N12:Y12)) -> 0 | M12: =IF(L12<0,"ATENÇÃO","OK") -> OK | N12: 1 | O12: 0 | P12: 1 | Q12: 0 | R12: 0 | S12: 0 | T12: 0 | U12: 0 | V12: 0 | W12: 0 | X12: 0 | Y12: 0
C13: 10 | D13: Firewall | E13: 449052.35 | G13: Peça | J13: 69000 | K13: 2 | L13: =K13-(SUM(N13:Y13)) -> 0 | M13: =IF(L13<0,"ATENÇÃO","OK") -> OK | N13: 1 | O13: 0 | P13: 1 | Q13: 0 | R13: 0 | S13: 0 | T13: 0 | U13: 0 | V13: 0 | W13: 0 | X13: 0 | Y13: 0
C14: 11 | D14: Software de Gerenciamento de Rede | E14: 449052.94 | G14: Peça | J14: 152390 | K14: 1 | L14: =K14-(SUM(N14:Y14)) -> 0 | M14: =IF(L14<0,"ATENÇÃO","OK") -> OK | N14: 1 | O14: 0 | P14: 0 | Q14: 0 | R14: 0 | S14: 0 | T14: 0 | U14: 0 | V14: 0 | W14: 0 | X14: 0 | Y14: 0
C15: 12 | D15: Ponto de acesso a rede sem fio | E15: 449052.35 | G15: Peça | J15: 2300 | K15: 50 | L15: =K15-(SUM(N15:Y15)) -> 0 | M15: =IF(L15<0,"ATENÇÃO","OK") -> OK | N15: 20 | O15: 0 | P15: 30 | Q15: 0 | R15: 0 | S15: 0 | T15: 0 | U15: 0 | V15: 0 | W15: 0 | X15: 0 | Y15: 0
C16: 13 | D16: Controladora WLAN | E16: 449052.35 | G16: Peça | J16: 68000 | K16: 2 | L16: =K16-(SUM(N16:Y16)) -> 0 | M16: =IF(L16<0,"ATENÇÃO","OK") -> OK | N16: 1 | O16: 0 | P16: 1 | Q16: 0 | R16: 0 | S16: 0 | T16: 0 | U16: 0 | V16: 0 | W16: 0 | X16: 0 | Y16: 0
C17: 14 | D17: Licença Controladora WLAN | E17: 449052.94 | G17: Peça | J17: 10000 | K17: 3 | L17: =K17-(SUM(N17:Y17)) -> 1 | M17: =IF(L17<0,"ATENÇÃO","OK") -> OK | N17: 0 | O17: 0 | P17: 2 | Q17: 0 | R17: 0 | S17: 0 | T17: 0 | U17: 0 | V17: 0 | W17: 0 | X17: 0 | Y17: 0
A18: ZOOM Tecnologia LTDA | B18: 5 | C18: 15 | D18: Switch SAN | E18: 449052.35 | G18: Peça | J18: 45000 | K18: 2 | L18: =K18-(SUM(N18:Y18)) -> 0 | M18: =IF(L18<0,"ATENÇÃO","OK") -> OK | N18: 2 | O18: 0 | P18: 0 | Q18: 0 | R18: 0 | S18: 0 | T18: 0 | U18: 0 | V18: 0 | W18: 0 | X18: 0 | Y18: 0
B19: 18 | C19: 16 | D19: Placa HBA (material de consumo) | E19: 339030.17 | G19: Peça | J19: 3043.18 | K19: 22 | L19: =K19-(SUM(N19:Y19)) -> 0 | M19: =IF(L19<0,"ATENÇÃO","OK") -> OK | N19: 22 | O19: 0 | P19: 0 | Q19: 0 | R19: 0 | S19: 0 | T19: 0 | U19: 0 | V19: 0 | W19: 0 | X19: 0 | Y19: 0
A20: SEPROL Comércio e Consultoria em Informática LTDA | B20: 6 | C20: 17 | D20: ENCLOSURE Expansão STORAGE HP (PN AG638) | E20: 339030.17 | G20: Peça | J20: 8860 | L20: =K20-(SUM(N20:Y20)) -> 0 | M20: =IF(L20<0,"ATENÇÃO","OK") -> OK | N20: 0 | O20: 0 | P20: 0 | Q20: 0 | R20: 0 | S20: 0 | T20: 0 | U20: 0 | V20: 0 | W20: 0 | X20: 0 | Y20: 0
B21: 19 | C21: 18 | D21: Unidades de armazenamento de dados FC de 450GB (PN AG803B) | E21: 339030.17 | G21: Peça | J21: 5140 | L21: =K21-(SUM(N21:Y21)) -> 0 | M21: =IF(L21<0,"ATENÇÃO","OK") -> OK | N21: 0 | O21: 0 | P21: 0 | Q21: 0 | R21: 0 | S21: 0 | T21: 0 | U21: 0 | V21: 0 | W21: 0 | X21: 0 | Y21: 0
C22: 19 | D22: Unidades de Armazenamento de dados FC de 1TB (PN AG691B) | E22: 339030.17 | G22: Peça | J22: 5255 | L22: =K22-(SUM(N22:Y22)) -> 0 | M22: =IF(L22<0,"ATENÇÃO","OK") -> OK | N22: 0 | O22: 0 | P22: 0 | Q22: 0 | R22: 0 | S22: 0 | T22: 0 | U22: 0 | V22: 0 | W22: 0 | X22: 0 | Y22: 0
C23: 20 | D23: Treinamento Storage | E23: 339039.48 | G23: serviço | J23: 9430 | L23: =K23-(SUM(N23:Y23)) -> 0 | M23: =IF(L23<0,"ATENÇÃO","OK") -> OK | N23: 0 | O23: 0 | P23: 0 | Q23: 0 | R23: 0 | S23: 0 | T23: 0 | U23: 0 | V23: 0 | W23: 0 | X23: 0 | Y23: 0
B24: 20 | C24: 21 | D24: Serviços de instalação, configuração e garantia | E24: 339039.25 | G24: serviço | J24: 12650 | L24: =K24-(SUM(N24:Y24)) -> 0 | M24: =IF(L24<0,"ATENÇÃO","OK") -> OK | N24: 0 | O24: 0 | P24: 0 | Q24: 0 | R24: 0 | S24: 0 | T24: 0 | U24: 0 | V24: 0 | W24: 0 | X24: 0 | Y24: 0
A25: ZOOM Tecnologia LTDA | B25: 7 | C25: 22 | D25: Memória 16Gb para upgrade (Huawei PN:06200107) | E25: 339030.17 | G25: Peça | J25: 2422.5 | L25: =K25-(SUM(N25:Y25)) -> 0 | M25: =IF(L25<0,"ATENÇÃO","OK") -> OK | N25: 0 | O25: 0 | P25: 0 | Q25: 0 | R25: 0 | S25: 0 | T25: 0 | U25: 0 | V25: 0 | W25: 0 | X25: 0 | Y25: 0
B26: 20 | C26: 23 | D26: Processador E5-2620 para upgrade (Huawei PN:41020222) | E26: 339030.17 | G26: Peça | J26: 3445 | L26: =K26-(SUM(N26:Y26)) -> 0 | M26: =IF(L26<0,"ATENÇÃO","OK") -> OK | N26: 0 | O26: 0 | P26: 0 | Q26: 0 | R26: 0 | S26: 0 | T26: 0 | U26: 0 | V26: 0 | W26: 0 | X26: 0 | Y26: 0
B27: 21 | C27: 24 | D27: Fonte 460W para upgrade (Huawei PN:02131042) | E27: 339030.17 | G27: Peça | J27: 1270 | L27: =K27-(SUM(N27:Y27)) -> 0 | M27: =IF(L27<0,"ATENÇÃO","OK") -> OK | N27: 0 | O27: 0 | P27: 0 | Q27: 0 | R27: 0 | S27: 0 | T27: 0 | U27: 0 | V27: 0 | W27: 0 | X27: 0 | Y27: 0
A28: SEPROL Comércio e Consultoria em Informática LTDA | B28: 8 | C28: 25 | D28: Pente de Memória 8 Gb (PN 647897-b21) | E28: 339030.17 | G28: Peça | J28: 1300 | L28: =K28-(SUM(N28:Y28)) -> 0 | M28: =IF(L28<0,"ATENÇÃO","OK") -> OK | N28: 0 | O28: 0 | P28: 0 | Q28: 0 | R28: 0 | S28: 0 | T28: 0 | U28: 0 | V28: 0 | W28: 0 | X28: 0 | Y28: 0
B29: 21 | C29: 26 | D29: Pente de Memória 8 Gb (PN 500662-b21) | E29: 339030.17 | G29: Peça | J29: 2200 | L29: =K29-(SUM(N29:Y29)) -> 0 | M29: =IF(L29<0,"ATENÇÃO","OK") -> OK | N29: 0 | O29: 0 | P29: 0 | Q29: 0 | R29: 0 | S29: 0 | T29: 0 | U29: 0 | V29: 0 | W29: 0 | X29: 0 | Y29: 0
A30: SEPROL Comércio e Consultoria em Informática LTDA | B30: 9 | C30: 27 | D30: Fitas LTO4 | E30: 339030.17 | G30: Peça | J30: 220 | L30: =K30-(SUM(N30:Y30)) -> 0 | M30: =IF(L30<0,"ATENÇÃO","OK") -> OK | N30: 0 | O30: 0 | P30: 0 | Q30: 0 | R30: 0 | S30: 0 | T30: 0 | U30: 0 | V30: 0 | W30: 0 | X30: 0 | Y30: 0
A31: Deserto | B31: 10 | C31: 28 | D31: No-Break modelo 1 | E31: 449052.30 | G31: Peça | J31: Deserto | L31: =K31-(SUM(N31:Y31)) -> 0 | M31: =IF(L31<0,"ATENÇÃO","OK") -> OK | N31: 0 | O31: 0 | P31: 0 | Q31: 0 | R31: 0 | S31: 0 | T31: 0 | U31: 0 | V31: 0 | W31: 0 | X31: 0 | Y31: 0
C32: 29 | D32: Módulo de bateria – modelo 1 | E32: 449052.30 | G32: Peça | J32: Deserto | L32: =K32-(SUM(N32:Y32)) -> 0 | M32: =IF(L32<0,"ATENÇÃO","OK") -> OK | N32: 0 | O32: 0 | P32: 0 | Q32: 0 | R32: 0 | S32: 0 | T32: 0 | U32: 0 | V32: 0 | W32: 0 | X32: 0 | Y32: 0
A33: WEG Automação Critical Power LTDA | B33: 11 | C33: 30 | D33: No-Break modelo 2 | E33: 449052.30 | G33: Peça | J33: 7300 | K33: 8 | L33: =K33-(SUM(N33:Y33)) -> 2 | M33: =IF(L33<0,"ATENÇÃO","OK") -> OK | N33: 0 | O33: 3 | P33: 0 | Q33: 0 | R33: 0 | S33: 3 | T33: 0 | U33: 0 | V33: 0 | W33: 0 | X33: 0 | Y33: 0
C34: 31 | D34: Módulo de bateria – modelo 2 | E34: 449052.30 | G34: Peça | J34: 1825 | K34: 8 | L34: =K34-(SUM(N34:Y34)) -> 3 | M34: =IF(L34<0,"ATENÇÃO","OK") -> OK | N34: 0 | O34: 0 | P34: 0 | Q34: 0 | R34: 0 | S34: 5 | T34: 0 | U34: 0 | V34: 0 | W34: 0 | X34: 0 | Y34: 0
A35: WEG Automação Critical Power LTDA | B35: 12 | C35: 32 | D35: No-Break modelo 3 | E35: 449052.30 | G35: Peça | J35: 5923.52 | K35: =10-2-1-1-1 -> 5 | L35: =K35-(SUM(N35:Y35)) -> 3 | M35: =IF(L35<0,"ATENÇÃO","OK") -> OK | N35: 0 | O35: 2 | P35: 0 | Q35: 0 | R35: 0 | S35: 0 | T35: 0 | U35: 0 | V35: 0 | W35: 0 | X35: 0 | Y35: 0
C36: 33 | D36: Módulo de bateria – modelo 3 | E36: 449052.30 | G36: Peça | J36: 1900 | K36: =10-8-1-1 -> 0 | L36: =K36-(SUM(N36:Y36)) -> 0 | M36: =IF(L36<0,"ATENÇÃO","OK") -> OK | N36: 0 | O36: 0 | P36: 0 | Q36: 0 | R36: 0 | S36: 0 | T36: 0 | U36: 0 | V36: 0 | W36: 0 | X36: 0 | Y36: 0
D38: *Lotes 2 e 3 Infrutíferos
D39: *Lote 10 Deserto
D40: *Marca conforme Proposta Ajustada
D41: *Prazo de Entrega e Pagamento conforme Termo de Referência

Sheet PROJ-CEAD-SETIC
A1: PROCESSO: 1300/2014/UDESC | D1: OBJETO: Aquisição de equipamentos, materiais e serviços para upgrade da rede de computadores da UDESC | K1: VIGÊNCIA DA ATA: 02/12/2014 até 01/12/2015 | N1: AF nº 1652/2015 Qtde. DT | O1: AF/OS nº 1653/2015 Qtde. DT | P1: AF/OS nº xxxx/2014 Qtde. DT | Q1: AF/OS nº xxxx/2014 Qtde. DT | R1: AF/OS nº xxxx/2014 Qtde. DT | S1: AF/OS nº xxxx/2014 Qtde. DT | T1: AF/OS nº xxxx/2014 Qtde. DT | U1: AF/OS nº xxxx/2014 Qtde. DT | V1: AF/OS nº xxxx/2014 Qtde. DT | W1: AF/OS nº xxxx/2014 Qtde. DT | X1: AF/OS nº xxxx/2014 Qtde. DT | Y1: AF/OS nº xxxx/2014 Qtde. DT
A2: CENTRO PARTICIPANTE: PROJ-CEAD-SETIC
A3: FORNECEDOR | B3: LOTE | C3: ITEM | D3: Especificação - conforme complementação memorial descritivo | E3: ELEMENTO | F3: MARCA | G3: UNIDADE | H3: Entrega (Dias) | I3: Pagto. (Dias) | J3: Preço UNITÁRIO (R$) | K3: Qtde REGISTRADA | L3: Saldo / Automático | M3: ALERTA | N3: 42262 | O3: 42262 | P3: ...../...../...... | Q3: ...../...../...... | R3: ...../...../...... | S3: ...../...../...... | T3: ...../...../...... | U3: ...../...../...... | V3: ...../...../...... | W3: ...../...../...... | X3: ...../...../...... | Y3: ...../...../......
A4: ZOOM Tecnologia LTDA | B4: 1 | C4: 1 | D4: Mini Storage de Rede (CEAD) | E4: 449052.35 | G4: Peça | J4: 8884 | L4: =K4-(SUM(N4:Y4)) -> 0 | M4: =IF(L4<0,"ATENÇÃO","OK") -> OK | N4: 0 | O4: 0 | P4: 0 | Q4: 0 | R4: 0 | S4: 0 | T4: 0 | U4: 0 | V4: 0 | W4: 0 | X4: 0 | Y4: 0
A5: Infrutífero | B5: 2 | C5: 2 | D5: Wireless com antena direcional | E5: 449052.35 | G5: Peça | J5: Infrutífero | L5: =K5-(SUM(N5:Y5)) -> 0 | M5: =IF(L5<0,"ATENÇÃO","OK") -> OK | N5: 0 | O5: 0 | P5: 0 | Q5: 0 | R5: 0 | S5: 0 | T5: 0 | U5: 0 | V5: 0 | W5: 0 | X5: 0 | Y5: 0
A6: Infrutífero | B6: 3 | C6: 3 | D6: Câmera IP (CEART) | E6: 449052.33 | G6: Peça | J6: Infrutífero | L6: =K6-(SUM(N6:Y6)) -> 0 | M6: =IF(L6<0,"ATENÇÃO","OK") -> OK | N6: 0 | O6: 0 | P6: 0 | Q6: 0 | R6: 0 | S6: 0 | T6: 0 | U6: 0 | V6: 0 | W6: 0 | X6: 0 | Y6: 0
A7: ZOOM Tecnologia LTDA | B7: 4 | C7: 4 | D7: Switch Borda s/PoE 24p (DGOV) | E7: 449052.35 | G7: Peça | J7: 1320 | L7: =K7-(SUM(N7:Y7)) -> 0 | M7: =IF(L7<0,"ATENÇÃO","OK") -> OK | N7: 0 | O7: 0 | P7: 0 | Q7: 0 | R7: 0 | S7: 0 | T7: 0 | U7: 0 | V7: 0 | W7: 0 | X7: 0 | Y7: 0
C8: 5 | D8: Switch Borda PoE 24p | E8: 449052.35 | G8: Peça | J8: 3250 | L8: =K8-(SUM(N8:Y8)) -> 0 | M8: =IF(L8<0,"ATENÇÃO","OK") -> OK | N8: 0 | O8: 0 | P8: 0 | Q8: 0 | R8: 0 | S8: 0 | T8: 0 | U8: 0 | V8: 0 | W8: 0 | X8: 0 | Y8: 0
C9: 6 | D9: Mini-GBIC monomodo 1Gbps | E9: 449052.35 | G9: Peça | J9: 850 | L9: =K9-(SUM(N9:Y9)) -> 0 | M9: =IF(L9<0,"ATENÇÃO","OK") -> OK | N9: 0 | O9: 0 | P9: 0 | Q9: 0 | R9: 0 | S9: 0 | T9: 0 | U9: 0 | V9: 0 | W9: 0 | X9: 0 | Y9: 0
C10: 7 | D10: Mini-GBIC multimodo 1Gbps | E10: 449052.35 | G10: Peça | J10: 450 | L10: =K10-(SUM(N10:Y10)) -> 0 | M10: =IF(L10<0,"ATENÇÃO","OK") -> OK | N10: 0 | O10: 0 | P10: 0 | Q10: 0 | R10: 0 | S10: 0 | T10: 0 | U10: 0 | V10: 0 | W10: 0 | X10: 0 | Y10: 0
C11: 8 | D11: Roteador Unidades | E11: 449052.35 | G11: Peça | J11: 3245 | L11: =K11-(SUM(N11:Y11)) -> 0 | M11: =IF(L11<0,"ATENÇÃO","OK") -> OK | N11: 0 | O11: 0 | P11: 0 | Q11: 0 | R11: 0 | S11: 0 | T11: 0 | U11: 0 | V11: 0 | W11: 0 | X11: 0 | Y11: 0
C12: 9 | D12: Roteador Concentrador | E12: 449052.35 | G12: Peça | J12: 44000 | L12: =K12-(SUM(N12:Y12)) -> 0 | M12: =IF(L12<0,"ATENÇÃO","OK") -> OK | N12: 0 | O12: 0 | P12: 0 | Q12: 0 | R12: 0 | S12: 0 | T12: 0 | U12: 0 | V12: 0 | W12: 0 | X12: 0 | Y12: 0
C13: 10 | D13: Firewall | E13: 449052.35 | G13: Peça | J13: 69000 | L13: =K13-(SUM(N13:Y13)) -> 0 | M13: =IF(L13<0,"ATENÇÃO","OK") -> OK | N13: 0 | O13: 0 | P13: 0 | Q13: 0 | R13: 0 | S13: 0 | T13: 0 | U13: 0 | V13: 0 | W13: 0 | X13: 0 | Y13: 0
C14: 11 | D14: Software de Gerenciamento de Rede | E14: 449052.94 | G14: Peça | J14: 152390 | L14: =K14-(SUM(N14:Y14)) -> 0 | M14: =IF(L14<0,"ATENÇÃO","OK") -> OK | N14: 0 | O14: 0 | P14: 0 | Q14: 0 | R14: 0 | S14: 0 | T14: 0 | U14: 0 | V14: 0 | W14: 0 | X14: 0 | Y14: 0
C15: 12 | D15: Ponto de acesso a rede sem fio | E15: 449052.35 | G15: Peça | J15: 2300 | L15: =K15-(SUM(N15:Y15)) -> 0 | M15: =IF(L15<0,"ATENÇÃO","OK") -> OK | N15: 0 | O15: 0 | P15: 0 | Q15: 0 | R15: 0 | S15: 0 | T15: 0 | U15: 0 | V15: 0 | W15: 0 | X15: 0 | Y15: 0
C16: 13 | D16: Controladora WLAN | E16: 449052.35 | G16: Peça | J16: 68000 | L16: =K16-(SUM(N16:Y16)) -> 0 | M16: =IF(L16<0,"ATENÇÃO","OK") -> OK | N16: 0 | O16: 0 | P16: 0 | Q16: 0 | R16: 0 | S16: 0 | T16: 0 | U16: 0 | V16: 0 | W16: 0 | X16: 0 | Y16: 0
C17: 14 | D17: Licença Controladora WLAN | E17: 449052.94 | G17: Peça | J17: 10000 | L17: =K17-(SUM(N17:Y17)) -> 0 | M17: =IF(L17<0,"ATENÇÃO","OK") -> OK | N17: 0 | O17: 0 | P17: 0 | Q17: 0 | R17: 0 | S17: 0 | T17: 0 | U17: 0 | V17: 0 | W17: 0 | X17: 0 | Y17: 0
A18: ZOOM Tecnologia LTDA | B18: 5 | C18: 15 | D18: Switch SAN | E18: 449052.35 | G18: Peça | J18: 45000 | L18: =K18-(SUM(N18:Y18)) -> 0 | M18: =IF(L18<0,"ATENÇÃO","OK") -> OK | N18: 0 | O18: 0 | P18: 0 | Q18: 0 | R18: 0 | S18: 0 | T18: 0 | U18: 0 | V18: 0 | W18: 0 | X18: 0 | Y18: 0
B19: 18 | C19: 16 | D19: Placa HBA (material de consumo) | E19: 339030.17 | G19: Peça | J19: 3043.18 | L19: =K19-(SUM(N19:Y19)) -> 0 | M19: =IF(L19<0,"ATENÇÃO","OK") -> OK | N19: 0 | O19: 0 | P19: 0 | Q19: 0 | R19: 0 | S19: 0 | T19: 0 | U19: 0 | V19: 0 | W19: 0 | X19: 0 | Y19: 0
A20: SEPROL Comércio e Consultoria em Informática LTDA | B20: 6 | C20: 17 | D20: ENCLOSURE Expansão STORAGE HP (PN AG638) | E20: 339030.17 | G20: Peça | J20: 8860 | K20: 4 | L20: =K20-(SUM(N20:Y20)) -> 0 | M20: =IF(L20<0,"ATENÇÃO","OK") -> OK | N20: 4 | O20: 0 | P20: 0 | Q20: 0 | R20: 0 | S20: 0 | T20: 0 | U20: 0 | V20: 0 | W20: 0 | X20: 0 | Y20: 0
B21: 19 | C21: 18 | D21: Unidades de armazenamento de dados FC de 450GB (PN AG803B) | E21: 339030.17 | G21: Peça | J21: 5140 | K21: 24 | L21: =K21-(SUM(N21:Y21)) -> 0 | M21: =IF(L21<0,"ATENÇÃO","OK") -> OK | N21: 24 | O21: 0 | P21: 0 | Q21: 0 | R21: 0 | S21: 0 | T21: 0 | U21: 0 | V21: 0 | W21: 0 | X21: 0 | Y21: 0
C22: 19 | D22: Unidades de Armazenamento de dados FC de 1TB (PN AG691B) | E22: 339030.17 | G22: Peça | J22: 5255 | K22: 24 | L22: =K22-(SUM(N22:Y22)) -> 0 | M22: =IF(L22<0,"ATENÇÃO","OK") -> OK | N22: 24 | O22: 0 | P22: 0 | Q22: 0 | R22: 0 | S22: 0 | T22: 0 | U22: 0 | V22: 0 | W22: 0 | X22: 0 | Y22: 0
C23: 20 | D23: Treinamento Storage | E23: 339039.48 | G23: serviço | J23: 9430 | K23: 1 | L23: =K23-(SUM(N23:Y23)) -> 0 | M23: =IF(L23<0,"ATENÇÃO","OK") -> OK | N23: 1 | O23: 0 | P23: 0 | Q23: 0 | R23: 0 | S23: 0 | T23: 0 | U23: 0 | V23: 0 | W23: 0 | X23: 0 | Y23: 0
B24: 20 | C24: 21 | D24: Serviços de instalação, configuração e garantia | E24: 339039.25 | G24: serviço | J24: 12650 | K24: 1 | L24: =K24-(SUM(N24:Y24)) -> 0 | M24: =IF(L24<0,"ATENÇÃO","OK") -> OK | N24: 1 | O24: 0 | P24: 0 | Q24: 0 | R24: 0 | S24: 0 | T24: 0 | U24: 0 | V24: 0 | W24: 0 | X24: 0 | Y24: 0
A25: ZOOM Tecnologia LTDA | B25: 7 | C25: 22 | D25: Memória 16Gb para upgrade (Huawei PN:06200107) | E25: 339030.17 | G25: Peça | J25: 2422.5 | K25: 40 | L25: =K25-(SUM(N25:Y25)) -> 0 | M25: =IF(L25<0,"ATENÇÃO","OK") -> OK | O25: 40 | P25: 0 | Q25: 0 | R25: 0 | S25: 0 | T25: 0 | U25: 0 | V25: 0 | W25: 0 | X25: 0 | Y25: 0
B26: 20 | C26: 23 | D26: Processador E5-2620 para upgrade (Huawei PN:41020222) | E26: 339030.17 | G26: Peça | J26: 3445 | K26: 20 | L26: =K26-(SUM(N26:Y26)) -> 0 | M26: =IF(L26<0,"ATENÇÃO","OK") -> OK | O26: 20 | P26: 0 | Q26: 0 | R26: 0 | S26: 0 | T26: 0 | U26: 0 | V26: 0 | W26: 0 | X26: 0 | Y26: 0
B27: 21 | C27: 24 | D27: Fonte 460W para upgrade (Huawei PN:02131042) | E27: 339030.17 | G27: Peça | J27: 1270 | K27: 20 | L27: =K27-(SUM(N27:Y27)) -> 0 | M27: =IF(L27<0,"ATENÇÃO","OK") -> OK | N27: 0 | O27: 20 | P27: 0 | Q27: 0 | R27: 0 | S27: 0 | T27: 0 | U27: 0 | V27: 0 | W27: 0 | X27: 0 | Y27: 0
A28: SEPROL Comércio e Consultoria em Informática LTDA | B28: 8 | C28: 25 | D28: Pente de Memória 8 Gb (PN 647897-b21) | E28: 339030.17 | G28: Peça | J28: 1300 | K28: 4 | L28: =K28-(SUM(N28:Y28)) -> 0 | M28: =IF(L28<0,"ATENÇÃO","OK") -> OK | N28: 4 | O28: 0 | P28: 0 | Q28: 0 | R28: 0 | S28: 0 | T28: 0 | U28: 0 | V28: 0 | W28: 0 | X28: 0 | Y28: 0
B29: 21 | C29: 26 | D29: Pente de Memória 8 Gb (PN 500662-b21) | E29: 339030.17 | G29: Peça | J29: 2200 | K29: 4 | L29: =K29-(SUM(N29:Y29)) -> 0 | M29: =IF(L29<0,"ATENÇÃO","OK") -> OK | N29: 4 | O29: 0 | P29: 0 | Q29: 0 | R29: 0 | S29: 0 | T29: 0 | U29: 0 | V29: 0 | W29: 0 | X29: 0 | Y29: 0
A30: SEPROL Comércio e Consultoria em Informática LTDA | B30: 9 | C30: 27 | D30: Fitas LTO4 | E30: 339030.17 | G30: Peça | J30: 220 | K30: 95 | L30: =K30-(SUM(N30:Y30)) -> 0 | M30: =IF(L30<0,"ATENÇÃO","OK") -> OK | N30: 95 | O30: 0 | P30: 0 | Q30: 0 | R30: 0 | S30: 0 | T30: 0 | U30: 0 | V30: 0 | W30: 0 | X30: 0 | Y30: 0
A31: Deserto | B31: 10 | C31: 28 | D31: No-Break modelo 1 | E31: 449052.30 | G31: Peça | J31: Deserto | L31: =K31-(SUM(N31:Y31)) -> 0 | M31: =IF(L31<0,"ATENÇÃO","OK") -> OK | N31: 0 | O31: 0 | P31: 0 | Q31: 0 | R31: 0 | S31: 0 | T31: 0 | U31: 0 | V31: 0 | W31: 0 | X31: 0 | Y31: 0
C32: 29 | D32: Módulo de bateria – modelo 1 | E32: 449052.30 | G32: Peça | J32: Deserto | L32: =K32-(SUM(N32:Y32)) -> 0 | M32: =IF(L32<0,"ATENÇÃO","OK") -> OK | N32: 0 | O32: 0 | P32: 0 | Q32: 0 | R32: 0 | S32: 0 | T32: 0 | U32: 0 | V32: 0 | W32: 0 | X32: 0 | Y32: 0
A33: WEG Automação Critical Power LTDA | B33: 11 | C33: 30 | D33: No-Break modelo 2 | E33: 449052.30 | G33: Peça | J33: 7300 | L33: =K33-(SUM(N33:Y33)) -> 0 | M33: =IF(L33<0,"ATENÇÃO","OK") -> OK | N33: 0 | O33: 0 | P33: 0 | Q33: 0 | R33: 0 | S33: 0 | T33: 0 | U33: 0 | V33: 0 | W33: 0 | X33: 0 | Y33: 0
C34: 31 | D34: Módulo de bateria – modelo 2 | E34: 449052.30 | G34: Peça | J34: 1825 | L34: =K34-(SUM(N34:Y34)) -> 0 | M34: =IF(L34<0,"ATENÇÃO","OK") -> OK | N34: 0 | O34: 0 | P34: 0 | Q34: 0 | R34: 0 | S34: 0 | T34: 0 | U34: 0 | V34: 0 | W34: 0 | X34: 0 | Y34: 0
A35: WEG Automação Critical Power LTDA | B35: 12 | C35: 32 | D35: No-Break modelo 3 | E35: 449052.30 | G35: Peça | J35: 5923.52 | L35: =K35-(SUM(N35:Y35)) -> 0 | M35: =IF(L35<0,"ATENÇÃO","OK") -> OK | N35: 0 | O35: 0 | P35: 0 | Q35: 0 | R35: 0 | S35: 0 | T35: 0 | U35: 0 | V35: 0 | W35: 0 | X35: 0 | Y35: 0
C36: 33 | D36: Módulo de bateria – modelo 3 | E36: 449052.30 | G36: Peça | J36: 1900 | L36: =K36-(SUM(N36:Y36)) -> 0 | M36: =IF(L36<0,"ATENÇÃO","OK") -> OK | N36: 0 | O36: 0 | P36: 0 | Q36: 0 | R36: 0 | S36: 0 | T36: 0 | U36: 0 | V36: 0 | W36: 0 | X36: 0 | Y36: 0
D38: *Lotes 2 e 3 Infrutíferos
D39: *Lote 10 Deserto
D40: *Marca conforme Proposta Ajustada
D41: *Prazo de Entrega e Pagamento conforme Termo de Referência

Sheet ESAG
A1: PROCESSO: 1300/2014/UDESC | D1: OBJETO: Aquisição de equipamentos, materiais e serviços para upgrade da rede de computadores da UDESC | K1: VIGÊNCIA DA ATA: 02/12/2014 até 01/12/2015 | N1: AF 301/2015Qtde. DT | O1: AF/OS nº xxxx/2014 Qtde. DT | P1: AF/OS nº xxxx/2014 Qtde. DT | Q1: AF/OS nº xxxx/2014 Qtde. DT | R1: AF/OS nº xxxx/2014 Qtde. DT | S1: AF/OS nº xxxx/2014 Qtde. DT | T1: AF/OS nº xxxx/2014 Qtde. DT | U1: AF/OS nº xxxx/2014 Qtde. DT | V1: AF/OS nº xxxx/2014 Qtde. DT | W1: AF/OS nº xxxx/2014 Qtde. DT | X1: AF/OS nº xxxx/2014 Qtde. DT | Y1: AF/OS nº xxxx/2014 Qtde. DT
A2: CENTRO PARTICIPANTE: ESAG
A3: FORNECEDOR | B3: LOTE | C3: ITEM | D3: Especificação - conforme complementação memorial descritivo | E3: ELEMENTO | F3: MARCA | G3: UNIDADE | H3: Entrega (Dias) | I3: Pagto. (Dias) | J3: Preço UNITÁRIO (R$) | K3: Qtde REGISTRADA | L3: Saldo / Automático | M3: ALERTA | N3: ...../...../...... | O3: ...../...../...... | P3: ...../...../...... | Q3: ...../...../...... | R3: ...../...../...... | S3: ...../...../...... | T3: ...../...../...... | U3: ...../...../...... | V3: ...../...../...... | W3: ...../...../...... | X3: ...../...../...... | Y3: ...../...../......
A4: ZOOM Tecnologia LTDA | B4: 1 | C4: 1 | D4: Mini Storage de Rede (CEAD) | E4: 449052.35 | G4: Peça | J4: 8884 | L4: =K4-(SUM(N4:Y4)) -> 0 | M4: =IF(L4<0,"ATENÇÃO","OK") -> OK | O4: 0 | P4: 0 | Q4: 0 | R4: 0 | S4: 0 | T4: 0 | U4: 0 | V4: 0 | W4: 0 | X4: 0 | Y4: 0
A5: Infrutífero | B5: 2 | C5: 2 | D5: Wireless com antena direcional | E5: 449052.35 | G5: Peça | J5: Infrutífero | L5: =K5-(SUM(N5:Y5)) -> 0 | M5: =IF(L5<0,"ATENÇÃO","OK") -> OK | O5: 0 | P5: 0 | Q5: 0 | R5: 0 | S5: 0 | T5: 0 | U5: 0 | V5: 0 | W5: 0 | X5: 0 | Y5: 0
A6: Infrutífero | B6: 3 | C6: 3 | D6: Câmera IP (CEART) | E6: 449052.33 | G6: Peça | J6: Infrutífero | L6: =K6-(SUM(N6:Y6)) -> 0 | M6: =IF(L6<0,"ATENÇÃO","OK") -> OK | O6: 0 | P6: 0 | Q6: 0 | R6: 0 | S6: 0 | T6: 0 | U6: 0 | V6: 0 | W6: 0 | X6: 0 | Y6: 0
A7: ZOOM Tecnologia LTDA | B7: 4 | C7: 4 | D7: Switch Borda s/PoE 24p (DGOV) | E7: 449052.35 | G7: Peça | J7: 1320 | K7: 2 | L7: =K7-(SUM(N7:Y7)) -> 0 | M7: =IF(L7<0,"ATENÇÃO","OK") -> OK | N7: 2 | O7: 0 | P7: 0 | Q7: 0 | R7: 0 | S7: 0 | T7: 0 | U7: 0 | V7: 0 | W7: 0 | X7: 0 | Y7: 0
C8: 5 | D8: Switch Borda PoE 24p | E8: 449052.35 | G8: Peça | J8: 3250 | K8: 5 | L8: =K8-(SUM(N8:Y8)) -> 0 | M8: =IF(L8<0,"ATENÇÃO","OK") -> OK | N8: 5 | O8: 0 | P8: 0 | Q8: 0 | R8: 0 | S8: 0 | T8: 0 | U8: 0 | V8: 0 | W8: 0 | X8: 0 | Y8: 0
C9: 6 | D9: Mini-GBIC monomodo 1Gbps | E9: 449052.35 | G9: Peça | J9: 850 | L9: =K9-(SUM(N9:Y9)) -> 0 | M9: =IF(L9<0,"ATENÇÃO","OK") -> OK | O9: 0 | P9: 0 | Q9: 0 | R9: 0 | S9: 0 | T9: 0 | U9: 0 | V9: 0 | W9: 0 | X9: 0 | Y9: 0
C10: 7 | D10: Mini-GBIC multimodo 1Gbps | E10: 449052.35 | G10: Peça | J10: 450 | K10: 1 | L10: =K10-(SUM(N10:Y10)) -> 0 | M10: =IF(L10<0,"ATENÇÃO","OK") -> OK | N10: 1 | O10: 0 | P10: 0 | Q10: 0 | R10: 0 | S10: 0 | T10: 0 | U10: 0 | V10: 0 | W10: 0 | X10: 0 | Y10: 0
C11: 8 | D11: Roteador Unidades | E11: 449052.35 | G11: Peça | J11: 3245 | L11: =K11-(SUM(N11:Y11)) -> 0 | M11: =IF(L11<0,"ATENÇÃO","OK") -> OK | O11: 0 | P11: 0 | Q11: 0 | R11: 0 | S11: 0 | T11: 0 | U11: 0 | V11: 0 | W11: 0 | X11: 0 | Y11: 0
C12: 9 | D12: Roteador Concentrador | E12: 449052.35 | G12: Peça | J12: 44000 | L12: =K12-(SUM(N12:Y12)) -> 0 | M12: =IF(L12<0,"ATENÇÃO","OK") -> OK | O12: 0 | P12: 0 | Q12: 0 | R12: 0 | S12: 0 | T12: 0 | U12: 0 | V12: 0 | W12: 0 | X12: 0 | Y12: 0
C13: 10 | D13: Firewall | E13: 449052.35 | G13: Peça | J13: 69000 | L13: =K13-(SUM(N13:Y13)) -> 0 | M13: =IF(L13<0,"ATENÇÃO","OK") -> OK | O13: 0 | P13: 0 | Q13: 0 | R13: 0 | S13: 0 | T13: 0 | U13: 0 | V13: 0 | W13: 0 | X13: 0 | Y13: 0
C14: 11 | D14: Software de Gerenciamento de Rede | E14: 449052.94 | G14: Peça | J14: 152390 | L14: =K14-(SUM(N14:Y14)) -> 0 | M14: =IF(L14<0,"ATENÇÃO","OK") -> OK | O14: 0 | P14: 0 | Q14: 0 | R14: 0 | S14: 0 | T14: 0 | U14: 0 | V14: 0 | W14: 0 | X14: 0 | Y14: 0
C15: 12 | D15: Ponto de acesso a rede sem fio | E15: 449052.35 | G15: Peça | J15: 2300 | K15: 15 | L15: =K15-(SUM(N15:Y15)) -> 0 | M15: =IF(L15<0,"ATENÇÃO","OK") -> OK | N15: 15 | O15: 0 | P15: 0 | Q15: 0 | R15: 0 | S15: 0 | T15: 0 | U15: 0 | V15: 0 | W15: 0 | X15: 0 | Y15: 0
C16: 13 | D16: Controladora WLAN | E16: 449052.35 | G16: Peça | J16: 68000 | L16: =K16-(SUM(N16:Y16)) -> 0 | M16: =IF(L16<0,"ATENÇÃO","OK") -> OK | N16: 0 | O16: 0 | P16: 0 | Q16: 0 | R16: 0 | S16: 0 | T16: 0 | U16: 0 | V16: 0 | W16: 0 | X16: 0 | Y16: 0
C17: 14 | D17: Licença Controladora WLAN | E17: 449052.94 | G17: Peça | J17: 10000 | L17: =K17-(SUM(N17:Y17)) -> 0 | M17: =IF(L17<0,"ATENÇÃO","OK") -> OK | N17: 0 | O17: 0 | P17: 0 | Q17: 0 | R17: 0 | S17: 0 | T17: 0 | U17: 0 | V17: 0 | W17: 0 | X17: 0 | Y17: 0
A18: ZOOM Tecnologia LTDA | B18: 5 | C18: 15 | D18: Switch SAN | E18: 449052.35 | G18: Peça | J18: 45000 | L18: =K18-(SUM(N18:Y18)) -> 0 | M18: =IF(L18<0,"ATENÇÃO","OK") -> OK | N18: 0 | O18: 0 | P18: 0 | Q18: 0 | R18: 0 | S18: 0 | T18: 0 | U18: 0 | V18: 0 | W18: 0 | X18: 0 | Y18: 0
B19: 18 | C19: 16 | D19: Placa HBA (material de consumo) | E19: 339030.17 | G19: Peça | J19: 3043.18 | L19: =K19-(SUM(N19:Y19)) -> 0 | M19: =IF(L19<0,"ATENÇÃO","OK") -> OK | N19: 0 | O19: 0 | P19: 0 | Q19: 0 | R19: 0 | S19: 0 | T19: 0 | U19: 0 | V19: 0 | W19: 0 | X19: 0 | Y19: 0
A20: SEPROL Comércio e Consultoria em Informática LTDA | B20: 6 | C20: 17 | D20: ENCLOSURE Expansão STORAGE HP (PN AG638) | E20: 339030.17 | G20: Peça | J20: 8860 | L20: =K20-(SUM(N20:Y20)) -> 0 | M20: =IF(L20<0,"ATENÇÃO","OK") -> OK | N20: 0 | O20: 0 | P20: 0 | Q20: 0 | R20: 0 | S20: 0 | T20: 0 | U20: 0 | V20: 0 | W20: 0 | X20: 0 | Y20: 0
B21: 19 | C21: 18 | D21: Unidades de armazenamento de dados FC de 450GB (PN AG803B) | E21: 339030.17 | G21: Peça | J21: 5140 | L21: =K21-(SUM(N21:Y21)) -> 0 | M21: =IF(L21<0,"ATENÇÃO","OK") -> OK | N21: 0 | O21: 0 | P21: 0 | Q21: 0 | R21: 0 | S21: 0 | T21: 0 | U21: 0 | V21: 0 | W21: 0 | X21: 0 | Y21: 0
C22: 19 | D22: Unidades de Armazenamento de dados FC de 1TB (PN AG691B) | E22: 339030.17 | G22: Peça | J22: 5255 | L22: =K22-(SUM(N22:Y22)) -> 0 | M22: =IF(L22<0,"ATENÇÃO","OK") -> OK | N22: 0 | O22: 0 | P22: 0 | Q22: 0 | R22: 0 | S22: 0 | T22: 0 | U22: 0 | V22: 0 | W22: 0 | X22: 0 | Y22: 0
C23: 20 | D23: Treinamento Storage | E23: 339039.48 | G23: serviço | J23: 9430 | L23: =K23-(SUM(N23:Y23)) -> 0 | M23: =IF(L23<0,"ATENÇÃO","OK") -> OK | N23: 0 | O23: 0 | P23: 0 | Q23: 0 | R23: 0 | S23: 0 | T23: 0 | U23: 0 | V23: 0 | W23: 0 | X23: 0 | Y23: 0
B24: 20 | C24: 21 | D24: Serviços de instalação, configuração e garantia | E24: 339039.25 | G24: serviço | J24: 12650 | L24: =K24-(SUM(N24:Y24)) -> 0 | M24: =IF(L24<0,"ATENÇÃO","OK") -> OK | N24: 0 | O24: 0 | P24: 0 | Q24: 0 | R24: 0 | S24: 0 | T24: 0 | U24: 0 | V24: 0 | W24: 0 | X24: 0 | Y24: 0
A25: ZOOM Tecnologia LTDA | B25: 7 | C25: 22 | D25: Memória 16Gb para upgrade (Huawei PN:06200107) | E25: 339030.17 | G25: Peça | J25: 2422.5 | L25: =K25-(SUM(N25:Y25)) -> 0 | M25: =IF(L25<0,"ATENÇÃO","OK") -> OK | N25: 0 | O25: 0 | P25: 0 | Q25: 0 | R25: 0 | S25: 0 | T25: 0 | U25: 0 | V25: 0 | W25: 0 | X25: 0 | Y25: 0
B26: 20 | C26: 23 | D26: Processador E5-2620 para upgrade (Huawei PN:41020222) | E26: 339030.17 | G26: Peça | J26: 3445 | L26: =K26-(SUM(N26:Y26)) -> 0 | M26: =IF(L26<0,"ATENÇÃO","OK") -> OK | N26: 0 | O26: 0 | P26: 0 | Q26: 0 | R26: 0 | S26: 0 | T26: 0 | U26: 0 | V26: 0 | W26: 0 | X26: 0 | Y26: 0
B27: 21 | C27: 24 | D27: Fonte 460W para upgrade (Huawei PN:02131042) | E27: 339030.17 | G27: Peça | J27: 1270 | L27: =K27-(SUM(N27:Y27)) -> 0 | M27: =IF(L27<0,"ATENÇÃO","OK") -> OK | N27: 0 | O27: 0 | P27: 0 | Q27: 0 | R27: 0 | S27: 0 | T27: 0 | U27: 0 | V27: 0 | W27: 0 | X27: 0 | Y27: 0
A28: SEPROL Comércio e Consultoria em Informática LTDA | B28: 8 | C28: 25 | D28: Pente de Memória 8 Gb (PN 647897-b21) | E28: 339030.17 | G28: Peça | J28: 1300 | L28: =K28-(SUM(N28:Y28)) -> 0 | M28: =IF(L28<0,"ATENÇÃO","OK") -> OK | N28: 0 | O28: 0 | P28: 0 | Q28: 0 | R28: 0 | S28: 0 | T28: 0 | U28: 0 | V28: 0 | W28: 0 | X28: 0 | Y28: 0
B29: 21 | C29: 26 | D29: Pente de Memória 8 Gb (PN 500662-b21) | E29: 339030.17 | G29: Peça | J29: 2200 | L29: =K29-(SUM(N29:Y29)) -> 0 | M29: =IF(L29<0,"ATENÇÃO","OK") -> OK | N29: 0 | O29: 0 | P29: 0 | Q29: 0 | R29: 0 | S29: 0 | T29: 0 | U29: 0 | V29: 0 | W29: 0 | X29: 0 | Y29: 0
A30: SEPROL Comércio e Consultoria em Informática LTDA | B30: 9 | C30: 27 | D30: Fitas LTO4 | E30: 339030.17 | G30: Peça | J30: 220 | L30: =K30-(SUM(N30:Y30)) -> 0 | M30: =IF(L30<0,"ATENÇÃO","OK") -> OK | N30: 0 | O30: 0 | P30: 0 | Q30: 0 | R30: 0 | S30: 0 | T30: 0 | U30: 0 | V30: 0 | W30: 0 | X30: 0 | Y30: 0
A31: Deserto | B31: 10 | C31: 28 | D31: No-Break modelo 1 | E31: 449052.30 | G31: Peça | J31: Deserto | L31: =K31-(SUM(N31:Y31)) -> 0 | M31: =IF(L31<0,"ATENÇÃO","OK") -> OK | N31: 0 | O31: 0 | P31: 0 | Q31: 0 | R31: 0 | S31: 0 | T31: 0 | U31: 0 | V31: 0 | W31: 0 | X31: 0 | Y31: 0
C32: 29 | D32: Módulo de bateria – modelo 1 | E32: 449052.30 | G32: Peça | J32: Deserto | L32: =K32-(SUM(N32:Y32)) -> 0 | M32: =IF(L32<0,"ATENÇÃO","OK") -> OK | N32: 0 | O32: 0 | P32: 0 | Q32: 0 | R32: 0 | S32: 0 | T32: 0 | U32: 0 | V32: 0 | W32: 0 | X32: 0 | Y32: 0
A33: WEG Automação Critical Power LTDA | B33: 11 | C33: 30 | D33: No-Break modelo 2 | E33: 449052.30 | G33: Peça | J33: 7300 | L33: =K33-(SUM(N33:Y33)) -> 0 | M33: =IF(L33<0,"ATENÇÃO","OK") -> OK | N33: 0 | O33: 0 | P33: 0 | Q33: 0 | R33: 0 | S33: 0 | T33: 0 | U33: 0 | V33: 0 | W33: 0 | X33: 0 | Y33: 0
C34: 31 | D34: Módulo de bateria – modelo 2 | E34: 449052.30 | G34: Peça | J34: 1825 | L34: =K34-(SUM(N34:Y34)) -> 0 | M34: =IF(L34<0,"ATENÇÃO","OK") -> OK | N34: 0 | O34: 0 | P34: 0 | Q34: 0 | R34: 0 | S34: 0 | T34: 0 | U34: 0 | V34: 0 | W34: 0 | X34: 0 | Y34: 0
A35: WEG Automação Critical Power LTDA | B35: 12 | C35: 32 | D35: No-Break modelo 3 | E35: 449052.30 | G35: Peça | J35: 5923.52 | L35: =K35-(SUM(N35:Y35)) -> 0 | M35: =IF(L35<0,"ATENÇÃO","OK") -> OK | N35: 0 | O35: 0 | P35: 0 | Q35: 0 | R35: 0 | S35: 0 | T35: 0 | U35: 0 | V35: 0 | W35: 0 | X35: 0 | Y35: 0
C36: 33 | D36: Módulo de bateria – modelo 3 | E36: 449052.30 | G36: Peça | J36: 1900 | L36: =K36-(SUM(N36:Y36)) -> 0 | M36: =IF(L36<0,"ATENÇÃO","OK") -> OK | N36: 0 | O36: 0 | P36: 0 | Q36: 0 | R36: 0 | S36: 0 | T36: 0 | U36: 0 | V36: 0 | W36: 0 | X36: 0 | Y36: 0
D38: *Lotes 2 e 3 Infrutíferos
D39: *Lote 10 Deserto
D40: *Marca conforme Proposta Ajustada
D41: *Prazo de Entrega e Pagamento conforme Termo de Referência

Sheet CEART
A1: PROCESSO: 1300/2014/UDESC | D1: OBJETO: Aquisição de equipamentos, materiais e serviços para upgrade da rede de computadores da UDESC | K1: VIGÊNCIA DA ATA: 02/12/2014 até 01/12/2015 | N1: AF 352/2015 | O1: AF 1705/2015 | P1: AF. | Q1: AF/OS nº xxxx/2014 Qtde. DT | R1: AF/OS nº xxxx/2014 Qtde. DT | S1: AF/OS nº xxxx/2014 Qtde. DT | T1: AF/OS nº xxxx/2014 Qtde. DT | U1: AF/OS nº xxxx/2014 Qtde. DT | V1: AF/OS nº xxxx/2014 Qtde. DT | W1: AF/OS nº xxxx/2014 Qtde. DT | X1: AF/OS nº xxxx/2014 Qtde. DT
A2: CENTRO PARTICIPANTE: CEART
A3: FORNECEDOR | B3: LOTE | C3: ITEM | D3: Especificação - conforme complementação memorial descritivo | E3: ELEMENTO | F3: MARCA | G3: UNIDADE | H3: Entrega (Dias) | I3: Pagto. (Dias) | J3: Preço UNITÁRIO (R$) | K3: Qtde REGISTRADA | L3: Saldo / Automático | M3: ALERTA | N3: 42090 | O3: 42269 | P3: 42311 | Q3: ...../...../...... | R3: ...../...../...... | S3: ...../...../...... | T3: ...../...../...... | U3: ...../...../...... | V3: ...../...../...... | W3: ...../...../...... | X3: ...../...../......
A4: ZOOM Tecnologia LTDA | B4: 1 | C4: 1 | D4: CANCELADO | E4: 449052.35 | G4: Peça | J4: 8884 | K4: 1 | L4: =K4-(SUM(N4:X4)) -> 0 | M4: =IF(L4<0,"ATENÇÃO","OK") -> OK | N4: 0 | O4: 1 | P4: 0 | Q4: 0 | R4: 0 | S4: 0 | T4: 0 | U4: 0 | V4: 0 | W4: 0 | X4: 0
A5: Infrutífero | B5: 2 | C5: 2 | D5: Wireless com antena direcional | E5: 449052.35 | G5: Peça | J5: Infrutífero | L5: =K5-(SUM(N5:X5)) -> 0 | M5: =IF(L5<0,"ATENÇÃO","OK") -> OK | N5: 0 | O5: 0 | P5: 0 | Q5: 0 | R5: 0 | S5: 0 | T5: 0 | U5: 0 | V5: 0 | W5: 0 | X5: 0
A6: Infrutífero | B6: 3 | C6: 3 | D6: Câmera IP (CEART) | E6: 449052.33 | G6: Peça | J6: Infrutífero | L6: =K6-(SUM(N6:X6)) -> 0 | M6: =IF(L6<0,"ATENÇÃO","OK") -> OK | N6: 0 | O6: 0 | P6: 0 | Q6: 0 | R6: 0 | S6: 0 | T6: 0 | U6: 0 | V6: 0 | W6: 0 | X6: 0
A7: ZOOM Tecnologia LTDA | B7: 4 | C7: 4 | D7: Switch Borda s/PoE 24p (DGOV) | E7: 449052.35 | G7: Peça | J7: 1320 | L7: =K7-(SUM(N7:X7)) -> 0 | M7: =IF(L7<0,"ATENÇÃO","OK") -> OK | N7: 0 | O7: 0 | P7: 0 | Q7: 0 | R7: 0 | S7: 0 | T7: 0 | U7: 0 | V7: 0 | W7: 0 | X7: 0
C8: 5 | D8: Switch Borda PoE 24p | E8: 449052.35 | G8: Peça | J8: 3250 | K8: 10 | L8: =K8-(SUM(N8:X8)) -> 0 | M8: =IF(L8<0,"ATENÇÃO","OK") -> OK | N8: 10 | O8: 0 | P8: 0 | Q8: 0 | R8: 0 | S8: 0 | T8: 0 | U8: 0 | V8: 0 | W8: 0 | X8: 0
C9: 6 | D9: Mini-GBIC monomodo 1Gbps | E9: 449052.35 | G9: Peça | J9: 850 | L9: =K9-(SUM(N9:X9)) -> 0 | M9: =IF(L9<0,"ATENÇÃO","OK") -> OK | N9: 0 | O9: 0 | P9: 0 | Q9: 0 | R9: 0 | S9: 0 | T9: 0 | U9: 0 | V9: 0 | W9: 0 | X9: 0
C10: 7 | D10: Mini-GBIC multimodo 1Gbps | E10: 449052.35 | G10: Peça | J10: 450 | L10: =K10-(SUM(N10:X10)) -> 0 | M10: =IF(L10<0,"ATENÇÃO","OK") -> OK | N10: 0 | O10: 0 | P10: 0 | Q10: 0 | R10: 0 | S10: 0 | T10: 0 | U10: 0 | V10: 0 | W10: 0 | X10: 0
C11: 8 | D11: Roteador Unidades | E11: 449052.35 | G11: Peça | J11: 3245 | L11: =K11-(SUM(N11:X11)) -> 0 | M11: =IF(L11<0,"ATENÇÃO","OK") -> OK | N11: 0 | O11: 0 | P11: 0 | Q11: 0 | R11: 0 | S11: 0 | T11: 0 | U11: 0 | V11: 0 | W11: 0 | X11: 0
C12: 9 | D12: Roteador Concentrador | E12: 449052.35 | G12: Peça | J12: 44000 | L12: =K12-(SUM(N12:X12)) -> 0 | M12: =IF(L12<0,"ATENÇÃO","OK") -> OK | N12: 0 | O12: 0 | P12: 0 | Q12: 0 | R12: 0 | S12: 0 | T12: 0 | U12: 0 | V12: 0 | W12: 0 | X12: 0
C13: 10 | D13: Firewall | E13: 449052.35 | G13: Peça | J13: 69000 | L13: =K13-(SUM(N13:X13)) -> 0 | M13: =IF(L13<0,"ATENÇÃO","OK") -> OK | N13: 0 | O13: 0 | P13: 0 | Q13: 0 | R13: 0 | S13: 0 | T13: 0 | U13: 0 | V13: 0 | W13: 0 | X13: 0
C14: 11 | D14: Software de Gerenciamento de Rede | E14: 449052.94 | G14: Peça | J14: 152390 | L14: =K14-(SUM(N14:X14)) -> 0 | M14: =IF(L14<0,"ATENÇÃO","OK") -> OK | N14: 0 | O14: 0 | P14: 0 | Q14: 0 | R14: 0 | S14: 0 | T14: 0 | U14: 0 | V14: 0 | W14: 0 | X14: 0
C15: 12 | D15: Ponto de acesso a rede sem fio | E15: 449052.35 | F15: Huawei AP4030DN 802,11 | G15: Peça | J15: 2300 | K15: 10 | L15: =K15-(SUM(N15:X15)) -> 0 | M15: =IF(L15<0,"ATENÇÃO","OK") -> OK | N15: 10 | O15: 0 | P15: 0 | Q15: 0 | R15: 0 | S15: 0 | T15: 0 | U15: 0 | V15: 0 | W15: 0 | X15: 0
C16: 13 | D16: Controladora WLAN | E16: 449052.35 | G16: Peça | J16: 68000 | L16: =K16-(SUM(N16:X16)) -> 0 | M16: =IF(L16<0,"ATENÇÃO","OK") -> OK | N16: 0 | O16: 0 | P16: 0 | Q16: 0 | R16: 0 | S16: 0 | T16: 0 | U16: 0 | V16: 0 | W16: 0 | X16: 0
C17: 14 | D17: Licença Controladora WLAN | E17: 449052.94 | G17: Peça | J17: 10000 | L17: =K17-(SUM(N17:X17)) -> 0 | M17: =IF(L17<0,"ATENÇÃO","OK") -> OK | N17: 0 | O17: 0 | P17: 0 | Q17: 0 | R17: 0 | S17: 0 | T17: 0 | U17: 0 | V17: 0 | W17: 0 | X17: 0
A18: ZOOM Tecnologia LTDA | B18: 5 | C18: 15 | D18: Switch SAN | E18: 449052.35 | G18: Peça | J18: 45000 | L18: =K18-(SUM(N18:X18)) -> 0 | M18: =IF(L18<0,"ATENÇÃO","OK") -> OK | N18: 0 | O18: 0 | P18: 0 | Q18: 0 | R18: 0 | S18: 0 | T18: 0 | U18: 0 | V18: 0 | W18: 0 | X18: 0
B19: 18 | C19: 16 | D19: Placa HBA (material de consumo) | E19: 339030.17 | G19: Peça | J19: 3043.18 | L19: =K19-(SUM(N19:X19)) -> 0 | M19: =IF(L19<0,"ATENÇÃO","OK") -> OK | N19: 0 | O19: 0 | P19: 0 | Q19: 0 | R19: 0 | S19: 0 | T19: 0 | U19: 0 | V19: 0 | W19: 0 | X19: 0
A20: SEPROL Comércio e Consultoria em Informática LTDA | B20: 6 | C20: 17 | D20: ENCLOSURE Expansão STORAGE HP (PN AG638) | E20: 339030.17 | G20: Peça | J20: 8860 | L20: =K20-(SUM(N20:X20)) -> 0 | M20: =IF(L20<0,"ATENÇÃO","OK") -> OK | N20: 0 | O20: 0 | P20: 0 | Q20: 0 | R20: 0 | S20: 0 | T20: 0 | U20: 0 | V20: 0 | W20: 0 | X20: 0
B21: 19 | C21: 18 | D21: Unidades de armazenamento de dados FC de 450GB (PN AG803B) | E21: 339030.17 | G21: Peça | J21: 5140 | L21: =K21-(SUM(N21:X21)) -> 0 | M21: =IF(L21<0,"ATENÇÃO","OK") -> OK | N21: 0 | O21: 0 | P21: 0 | Q21: 0 | R21: 0 | S21: 0 | T21: 0 | U21: 0 | V21: 0 | W21: 0 | X21: 0
C22: 19 | D22: Unidades de Armazenamento de dados FC de 1TB (PN AG691B) | E22: 339030.17 | G22: Peça | J22: 5255 | L22: =K22-(SUM(N22:X22)) -> 0 | M22: =IF(L22<0,"ATENÇÃO","OK") -> OK | N22: 0 | O22: 0 | P22: 0 | Q22: 0 | R22: 0 | S22: 0 | T22: 0 | U22: 0 | V22: 0 | W22: 0 | X22: 0
C23: 20 | D23: Treinamento Storage | E23: 339039.48 | G23: serviço | J23: 9430 | L23: =K23-(SUM(N23:X23)) -> 0 | M23: =IF(L23<0,"ATENÇÃO","OK") -> OK | N23: 0 | O23: 0 | P23: 0 | Q23: 0 | R23: 0 | S23: 0 | T23: 0 | U23: 0 | V23: 0 | W23: 0 | X23: 0
B24: 20 | C24: 21 | D24: Serviços de instalação, configuração e garantia | E24: 339039.25 | G24: serviço | J24: 12650 | L24: =K24-(SUM(N24:X24)) -> 0 | M24: =IF(L24<0,"ATENÇÃO","OK") -> OK | N24: 0 | O24: 0 | P24: 0 | Q24: 0 | R24: 0 | S24: 0 | T24: 0 | U24: 0 | V24: 0 | W24: 0 | X24: 0
A25: ZOOM Tecnologia LTDA | B25: 7 | C25: 22 | D25: Memória 16Gb para upgrade (Huawei PN:06200107) | E25: 339030.17 | G25: Peça | J25: 2422.5 | L25: =K25-(SUM(N25:X25)) -> 0 | M25: =IF(L25<0,"ATENÇÃO","OK") -> OK | N25: 0 | O25: 0 | P25: 0 | Q25: 0 | R25: 0 | S25: 0 | T25: 0 | U25: 0 | V25: 0 | W25: 0 | X25: 0
B26: 20 | C26: 23 | D26: Processador E5-2620 para upgrade (Huawei PN:41020222) | E26: 339030.17 | G26: Peça | J26: 3445 | L26: =K26-(SUM(N26:X26)) -> 0 | M26: =IF(L26<0,"ATENÇÃO","OK") -> OK | N26: 0 | O26: 0 | P26: 0 | Q26: 0 | R26: 0 | S26: 0 | T26: 0 | U26: 0 | V26: 0 | W26: 0 | X26: 0
B27: 21 | C27: 24 | D27: Fonte 460W para upgrade (Huawei PN:02131042) | E27: 339030.17 | G27: Peça | J27: 1270 | L27: =K27-(SUM(N27:X27)) -> 0 | M27: =IF(L27<0,"ATENÇÃO","OK") -> OK | N27: 0 | O27: 0 | P27: 0 | Q27: 0 | R27: 0 | S27: 0 | T27: 0 | U27: 0 | V27: 0 | W27: 0 | X27: 0
A28: SEPROL Comércio e Consultoria em Informática LTDA | B28: 8 | C28: 25 | D28: Pente de Memória 8 Gb (PN 647897-b21) | E28: 339030.17 | G28: Peça | J28: 1300 | L28: =K28-(SUM(N28:X28)) -> 0 | M28: =IF(L28<0,"ATENÇÃO","OK") -> OK | N28: 0 | O28: 0 | P28: 0 | Q28: 0 | R28: 0 | S28: 0 | T28: 0 | U28: 0 | V28: 0 | W28: 0 | X28: 0
B29: 21 | C29: 26 | D29: Pente de Memória 8 Gb (PN 500662-b21) | E29: 339030.17 | G29: Peça | J29: 2200 | L29: =K29-(SUM(N29:X29)) -> 0 | M29: =IF(L29<0,"ATENÇÃO","OK") -> OK | N29: 0 | O29: 0 | P29: 0 | Q29: 0 | R29: 0 | S29: 0 | T29: 0 | U29: 0 | V29: 0 | W29: 0 | X29: 0
A30: SEPROL Comércio e Consultoria em Informática LTDA | B30: 9 | C30: 27 | D30: Fitas LTO4 | E30: 339030.17 | G30: Peça | J30: 220 | L30: =K30-(SUM(N30:X30)) -> 0 | M30: =IF(L30<0,"ATENÇÃO","OK") -> OK | N30: 0 | O30: 0 | P30: 0 | Q30: 0 | R30: 0 | S30: 0 | T30: 0 | U30: 0 | V30: 0 | W30: 0 | X30: 0
A31: Deserto | B31: 10 | C31: 28 | D31: No-Break modelo 1 | E31: 449052.30 | G31: Peça | J31: Deserto | L31: =K31-(SUM(N31:X31)) -> 0 | M31: =IF(L31<0,"ATENÇÃO","OK") -> OK | N31: 0 | O31: 0 | P31: 0 | Q31: 0 | R31: 0 | S31: 0 | T31: 0 | U31: 0 | V31: 0 | W31: 0 | X31: 0
C32: 29 | D32: Módulo de bateria – modelo 1 | E32: 449052.30 | G32: Peça | J32: Deserto | L32: =K32-(SUM(N32:X32)) -> 0 | M32: =IF(L32<0,"ATENÇÃO","OK") -> OK | N32: 0 | O32: 0 | P32: 0 | Q32: 0 | R32: 0 | S32: 0 | T32: 0 | U32: 0 | V32: 0 | W32: 0 | X32: 0
A33: WEG Automação Critical Power LTDA | B33: 11 | C33: 30 | D33: No-Break modelo 2 | E33: 449052.30 | G33: Peça | J33: 7300 | L33: =K33-(SUM(N33:X33)) -> 0 | M33: =IF(L33<0,"ATENÇÃO","OK") -> OK | N33: 0 | O33: 0 | P33: 0 | Q33: 0 | R33: 0 | S33: 0 | T33: 0 | U33: 0 | V33: 0 | W33: 0 | X33: 0
C34: 31 | D34: Módulo de bateria – modelo 2 | E34: 449052.30 | G34: Peça | J34: 1825 | L34: =K34-(SUM(N34:X34)) -> 0 | M34: =IF(L34<0,"ATENÇÃO","OK") -> OK | N34: 0 | O34: 0 | P34: 0 | Q34: 0 | R34: 0 | S34: 0 | T34: 0 | U34: 0 | V34: 0 | W34: 0 | X34: 0
A35: WEG Automação Critical Power LTDA | B35: 12 | C35: 32 | D35: No-Break modelo 3 | E35: 449052.30 | G35: Peça | J35: 5923.52 | K35: 1 | L35: =K35-(SUM(N35:X35)) -> 0 | M35: =IF(L35<0,"ATENÇÃO","OK") -> OK | N35: 0 | O35: 0 | P35: 1 | Q35: 0 | R35: 0 | S35: 0 | T35: 0 | U35: 0 | V35: 0 | W35: 0 | X35: 0
C36: 33 | D36: Módulo de bateria – modelo 3 | E36: 449052.30 | G36: Peça | J36: 1900 | K36: 1 | L36: =K36-(SUM(N36:X36)) -> 0 | M36: =IF(L36<0,"ATENÇÃO","OK") -> OK | N36: 0 | O36: 0 | P36: 1 | Q36: 0 | R36: 0 | S36: 0 | T36: 0 | U36: 0 | V36: 0 | W36: 0 | X36: 0
D38: *Lotes 2 e 3 Infrutíferos
D39: *Lote 10 Deserto
D40: *Marca conforme Proposta Ajustada
D41: *Prazo de Entrega e Pagamento conforme Termo de Referência

Sheet FAED
A1: PROCESSO: 1300/2014/UDESC | D1: OBJETO: Aquisição de equipamentos, materiais e serviços para upgrade da rede de computadores da UDESC | K1: VIGÊNCIA DA ATA: 02/12/2014 até 01/12/2015 | N1: AF/OS nº 285/2015 Qtde. DT | O1: AF/OS nº 1202/20154 Qtde. DT | P1: AF/OS nº xxxx/2014 Qtde. DT | Q1: AF/OS nº xxxx/2014 Qtde. DT | R1: AF/OS nº xxxx/2014 Qtde. DT | S1: AF/OS nº xxxx/2014 Qtde. DT | T1: AF/OS nº xxxx/2014 Qtde. DT | U1: AF/OS nº xxxx/2014 Qtde. DT | V1: AF/OS nº xxxx/2014 Qtde. DT | W1: AF/OS nº xxxx/2014 Qtde. DT | X1: AF/OS nº xxxx/2014 Qtde. DT | Y1: AF/OS nº xxxx/2014 Qtde. DT
A2: CENTRO PARTICIPANTE: FAED
A3: FORNECEDOR | B3: LOTE | C3: ITEM | D3: Especificação - conforme complementação memorial descritivo | E3: ELEMENTO | F3: MARCA | G3: UNIDADE | H3: Entrega (Dias) | I3: Pagto. (Dias) | J3: Preço UNITÁRIO (R$) | K3: Qtde REGISTRADA | L3: Saldo / Automático | M3: ALERTA | N3: 42079 | O3: 42199 | P3: ...../...../...... | Q3: ...../...../...... | R3: ...../...../...... | S3: ...../...../...... | T3: ...../...../...... | U3: ...../...../...... | V3: ...../...../...... | W3: ...../...../...... | X3: ...../...../...... | Y3: ...../...../......
A4: ZOOM Tecnologia LTDA | B4: 1 | C4: 1 | D4: Mini Storage de Rede (CEAD) | E4: 449052.35 | G4: Peça | J4: 8884 | L4: =K4-(SUM(N4:Y4)) -> 0 | M4: =IF(L4<0,"ATENÇÃO","OK") -> OK | N4: 0 | O4: 0 | P4: 0 | Q4: 0 | R4: 0 | S4: 0 | T4: 0 | U4: 0 | V4: 0 | W4: 0 | X4: 0 | Y4: 0
A5: Infrutífero | B5: 2 | C5: 2 | D5: Wireless com antena direcional | E5: 449052.35 | G5: Peça | J5: Infrutífero | L5: =K5-(SUM(N5:Y5)) -> 0 | M5: =IF(L5<0,"ATENÇÃO","OK") -> OK | N5: 0 | O5: 0 | P5: 0 | Q5: 0 | R5: 0 | S5: 0 | T5: 0 | U5: 0 | V5: 0 | W5: 0 | X5: 0 | Y5: 0
A6: Infrutífero | B6: 3 | C6: 3 | D6: Câmera IP (CEART) | E6: 449052.33 | G6: Peça | J6: Infrutífero | L6: =K6-(SUM(N6:Y6)) -> 0 | M6: =IF(L6<0,"ATENÇÃO","OK") -> OK | N6: 0 | O6: 0 | P6: 0 | Q6: 0 | R6: 0 | S6: 0 | T6: 0 | U6: 0 | V6: 0 | W6: 0 | X6: 0 | Y6: 0
A7: ZOOM Tecnologia LTDA | B7: 4 | C7: 4 | D7: Switch Borda s/PoE 24p (DGOV) | E7: 449052.35 | G7: Peça | J7: 1320 | K7: 15 | L7: =K7-(SUM(N7:Y7)) -> 7 | M7: =IF(L7<0,"ATENÇÃO","OK") -> OK | N7: 8 | O7: 0 | P7: 0 | Q7: 0 | R7: 0 | S7: 0 | T7: 0 | U7: 0 | V7: 0 | W7: 0 | X7: 0 | Y7: 0
C8: 5 | D8: Switch Borda PoE 24p | E8: 449052.35 | G8: Peça | J8: 3250 | K8: 7 | L8: =K8-(SUM(N8:Y8)) -> 0 | M8: =IF(L8<0,"ATENÇÃO","OK") -> OK | N8: 7 | O8: 0 | P8: 0 | Q8: 0 | R8: 0 | S8: 0 | T8: 0 | U8: 0 | V8: 0 | W8: 0 | X8: 0 | Y8: 0
C9: 6 | D9: Mini-GBIC monomodo 1Gbps | E9: 449052.35 | G9: Peça | J9: 850 | L9: =K9-(SUM(N9:Y9)) -> 0 | M9: =IF(L9<0,"ATENÇÃO","OK") -> OK | N9: 0 | O9: 0 | P9: 0 | Q9: 0 | R9: 0 | S9: 0 | T9: 0 | U9: 0 | V9: 0 | W9: 0 | X9: 0 | Y9: 0
C10: 7 | D10: Mini-GBIC multimodo 1Gbps | E10: 449052.35 | G10: Peça | J10: 450 | L10: =K10-(SUM(N10:Y10)) -> 0 | M10: =IF(L10<0,"ATENÇÃO","OK") -> OK | N10: 0 | O10: 0 | P10: 0 | Q10: 0 | R10: 0 | S10: 0 | T10: 0 | U10: 0 | V10: 0 | W10: 0 | X10: 0 | Y10: 0
C11: 8 | D11: Roteador Unidades | E11: 449052.35 | G11: Peça | J11: 3245 | L11: =K11-(SUM(N11:Y11)) -> 0 | M11: =IF(L11<0,"ATENÇÃO","OK") -> OK | N11: 0 | O11: 0 | P11: 0 | Q11: 0 | R11: 0 | S11: 0 | T11: 0 | U11: 0 | V11: 0 | W11: 0 | X11: 0 | Y11: 0
C12: 9 | D12: Roteador Concentrador | E12: 449052.35 | G12: Peça | J12: 44000 | L12: =K12-(SUM(N12:Y12)) -> 0 | M12: =IF(L12<0,"ATENÇÃO","OK") -> OK | N12: 0 | O12: 0 | P12: 0 | Q12: 0 | R12: 0 | S12: 0 | T12: 0 | U12: 0 | V12: 0 | W12: 0 | X12: 0 | Y12: 0
C13: 10 | D13: Firewall | E13: 449052.35 | G13: Peça | J13: 69000 | L13: =K13-(SUM(N13:Y13)) -> 0 | M13: =IF(L13<0,"ATENÇÃO","OK") -> OK | N13: 0 | O13: 0 | P13: 0 | Q13: 0 | R13: 0 | S13: 0 | T13: 0 | U13: 0 | V13: 0 | W13: 0 | X13: 0 | Y13: 0
C14: 11 | D14: Software de Gerenciamento de Rede | E14: 449052.94 | G14: Peça | J14: 152390 | L14: =K14-(SUM(N14:Y14)) -> 0 | M14: =IF(L14<0,"ATENÇÃO","OK") -> OK | N14: 0 | O14: 0 | P14: 0 | Q14: 0 | R14: 0 | S14: 0 | T14: 0 | U14: 0 | V14: 0 | W14: 0 | X14: 0 | Y14: 0
C15: 12 | D15: Ponto de acesso a rede sem fio | E15: 449052.35 | G15: Peça | J15: 2300 | K15: 15 | L15: =K15-(SUM(N15:Y15)) -> 0 | M15: =IF(L15<0,"ATENÇÃO","OK") -> OK | N15: 15 | O15: 0 | P15: 0 | Q15: 0 | R15: 0 | S15: 0 | T15: 0 | U15: 0 | V15: 0 | W15: 0 | X15: 0 | Y15: 0
C16: 13 | D16: Controladora WLAN | E16: 449052.35 | G16: Peça | J16: 68000 | L16: =K16-(SUM(N16:Y16)) -> 0 | M16: =IF(L16<0,"ATENÇÃO","OK") -> OK | N16: 0 | O16: 0 | P16: 0 | Q16: 0 | R16: 0 | S16: 0 | T16: 0 | U16: 0 | V16: 0 | W16: 0 | X16: 0 | Y16: 0
C17: 14 | D17: Licença Controladora WLAN | E17: 449052.94 | G17: Peça | J17: 10000 | L17: =K17-(SUM(N17:Y17)) -> 0 | M17: =IF(L17<0,"ATENÇÃO","OK") -> OK | N17: 0 | O17: 0 | P17: 0 | Q17: 0 | R17: 0 | S17: 0 | T17: 0 | U17: 0 | V17: 0 | W17: 0 | X17: 0 | Y17: 0
A18: ZOOM Tecnologia LTDA | B18: 5 | C18: 15 | D18: Switch SAN | E18: 449052.35 | G18: Peça | J18: 45000 | L18: =K18-(SUM(N18:Y18)) -> 0 | M18: =IF(L18<0,"ATENÇÃO","OK") -> OK | N18: 0 | O18: 0 | P18: 0 | Q18: 0 | R18: 0 | S18: 0 | T18: 0 | U18: 0 | V18: 0 | W18: 0 | X18: 0 | Y18: 0
B19: 18 | C19: 16 | D19: Placa HBA (material de consumo) | E19: 339030.17 | G19: Peça | J19: 3043.18 | L19: =K19-(SUM(N19:Y19)) -> 0 | M19: =IF(L19<0,"ATENÇÃO","OK") -> OK | N19: 0 | O19: 0 | P19: 0 | Q19: 0 | R19: 0 | S19: 0 | T19: 0 | U19: 0 | V19: 0 | W19: 0 | X19: 0 | Y19: 0
A20: SEPROL Comércio e Consultoria em Informática LTDA | B20: 6 | C20: 17 | D20: ENCLOSURE Expansão STORAGE HP (PN AG638) | E20: 339030.17 | G20: Peça | J20: 8860 | L20: =K20-(SUM(N20:Y20)) -> 0 | M20: =IF(L20<0,"ATENÇÃO","OK") -> OK | N20: 0 | O20: 0 | P20: 0 | Q20: 0 | R20: 0 | S20: 0 | T20: 0 | U20: 0 | V20: 0 | W20: 0 | X20: 0 | Y20: 0
B21: 19 | C21: 18 | D21: Unidades de armazenamento de dados FC de 450GB (PN AG803B) | E21: 339030.17 | G21: Peça | J21: 5140 | L21: =K21-(SUM(N21:Y21)) -> 0 | M21: =IF(L21<0,"ATENÇÃO","OK") -> OK | N21: 0 | O21: 0 | P21: 0 | Q21: 0 | R21: 0 | S21: 0 | T21: 0 | U21: 0 | V21: 0 | W21: 0 | X21: 0 | Y21: 0
C22: 19 | D22: Unidades de Armazenamento de dados FC de 1TB (PN AG691B) | E22: 339030.17 | G22: Peça | J22: 5255 | L22: =K22-(SUM(N22:Y22)) -> 0 | M22: =IF(L22<0,"ATENÇÃO","OK") -> OK | N22: 0 | O22: 0 | P22: 0 | Q22: 0 | R22: 0 | S22: 0 | T22: 0 | U22: 0 | V22: 0 | W22: 0 | X22: 0 | Y22: 0
C23: 20 | D23: Treinamento Storage | E23: 339039.48 | G23: serviço | J23: 9430 | L23: =K23-(SUM(N23:Y23)) -> 0 | M23: =IF(L23<0,"ATENÇÃO","OK") -> OK | N23: 0 | O23: 0 | P23: 0 | Q23: 0 | R23: 0 | S23: 0 | T23: 0 | U23: 0 | V23: 0 | W23: 0 | X23: 0 | Y23: 0
B24: 20 | C24: 21 | D24: Serviços de instalação, configuração e garantia | E24: 339039.25 | G24: serviço | J24: 12650 | L24: =K24-(SUM(N24:Y24)) -> 0 | M24: =IF(L24<0,"ATENÇÃO","OK") -> OK | N24: 0 | O24: 0 | P24: 0 | Q24: 0 | R24: 0 | S24: 0 | T24: 0 | U24: 0 | V24: 0 | W24: 0 | X24: 0 | Y24: 0
A25: ZOOM Tecnologia LTDA | B25: 7 | C25: 22 | D25: Memória 16Gb para upgrade (Huawei PN:06200107) | E25: 339030.17 | G25: Peça | J25: 2422.5 | L25: =K25-(SUM(N25:Y25)) -> 0 | M25: =IF(L25<0,"ATENÇÃO","OK") -> OK | N25: 0 | O25: 0 | P25: 0 | Q25: 0 | R25: 0 | S25: 0 | T25: 0 | U25: 0 | V25: 0 | W25: 0 | X25: 0 | Y25: 0
B26: 20 | C26: 23 | D26: Processador E5-2620 para upgrade (Huawei PN:41020222) | E26: 339030.17 | G26: Peça | J26: 3445 | L26: =K26-(SUM(N26:Y26)) -> 0 | M26: =IF(L26<0,"ATENÇÃO","OK") -> OK | N26: 0 | O26: 0 | P26: 0 | Q26: 0 | R26: 0 | S26: 0 | T26: 0 | U26: 0 | V26: 0 | W26: 0 | X26: 0 | Y26: 0
B27: 21 | C27: 24 | D27: Fonte 460W para upgrade (Huawei PN:02131042) | E27: 339030.17 | G27: Peça | J27: 1270 | L27: =K27-(SUM(N27:Y27)) -> 0 | M27: =IF(L27<0,"ATENÇÃO","OK") -> OK | N27: 0 | O27: 0 | P27: 0 | Q27: 0 | R27: 0 | S27: 0 | T27: 0 | U27: 0 | V27: 0 | W27: 0 | X27: 0 | Y27: 0
A28: SEPROL Comércio e Consultoria em Informática LTDA | B28: 8 | C28: 25 | D28: Pente de Memória 8 Gb (PN 647897-b21) | E28: 339030.17 | G28: Peça | J28: 1300 | L28: =K28-(SUM(N28:Y28)) -> 0 | M28: =IF(L28<0,"ATENÇÃO","OK") -> OK | N28: 0 | O28: 0 | P28: 0 | Q28: 0 | R28: 0 | S28: 0 | T28: 0 | U28: 0 | V28: 0 | W28: 0 | X28: 0 | Y28: 0
B29: 21 | C29: 26 | D29: Pente de Memória 8 Gb (PN 500662-b21) | E29: 339030.17 | G29: Peça | J29: 2200 | L29: =K29-(SUM(N29:Y29)) -> 0 | M29: =IF(L29<0,"ATENÇÃO","OK") -> OK | N29: 0 | O29: 0 | P29: 0 | Q29: 0 | R29: 0 | S29: 0 | T29: 0 | U29: 0 | V29: 0 | W29: 0 | X29: 0 | Y29: 0
A30: SEPROL Comércio e Consultoria em Informática LTDA | B30: 9 | C30: 27 | D30: Fitas LTO4 | E30: 339030.17 | G30: Peça | J30: 220 | L30: =K30-(SUM(N30:Y30)) -> 0 | M30: =IF(L30<0,"ATENÇÃO","OK") -> OK | N30: 0 | O30: 0 | P30: 0 | Q30: 0 | R30: 0 | S30: 0 | T30: 0 | U30: 0 | V30: 0 | W30: 0 | X30: 0 | Y30: 0
A31: Deserto | B31: 10 | C31: 28 | D31: No-Break modelo 1 | E31: 449052.30 | G31: Peça | J31: Deserto | L31: =K31-(SUM(N31:Y31)) -> 0 | M31: =IF(L31<0,"ATENÇÃO","OK") -> OK | N31: 0 | O31: 0 | P31: 0 | Q31: 0 | R31: 0 | S31: 0 | T31: 0 | U31: 0 | V31: 0 | W31: 0 | X31: 0 | Y31: 0
C32: 29 | D32: Módulo de bateria – modelo 1 | E32: 449052.30 | G32: Peça | J32: Deserto | L32: =K32-(SUM(N32:Y32)) -> 0 | M32: =IF(L32<0,"ATENÇÃO","OK") -> OK | N32: 0 | O32: 0 | P32: 0 | Q32: 0 | R32: 0 | S32: 0 | T32: 0 | U32: 0 | V32: 0 | W32: 0 | X32: 0 | Y32: 0
A33: WEG Automação Critical Power LTDA | B33: 11 | C33: 30 | D33: No-Break modelo 2 | E33: 449052.30 | G33: Peça | J33: 7300 | L33: =K33-(SUM(N33:Y33)) -> 0 | M33: =IF(L33<0,"ATENÇÃO","OK") -> OK | N33: 0 | O33: 0 | P33: 0 | Q33: 0 | R33: 0 | S33: 0 | T33: 0 | U33: 0 | V33: 0 | W33: 0 | X33: 0 | Y33: 0
C34: 31 | D34: Módulo de bateria – modelo 2 | E34: 449052.30 | G34: Peça | J34: 1825 | L34: =K34-(SUM(N34:Y34)) -> 0 | M34: =IF(L34<0,"ATENÇÃO","OK") -> OK | N34: 0 | O34: 0 | P34: 0 | Q34: 0 | R34: 0 | S34: 0 | T34: 0 | U34: 0 | V34: 0 | W34: 0 | X34: 0 | Y34: 0
A35: WEG Automação Critical Power LTDA | B35: 12 | C35: 32 | D35: No-Break modelo 3 | E35: 449052.30 | G35: Peça | J35: 5923.52 | K35: 1 | L35: =K35-(SUM(N35:Y35)) -> 0 | M35: =IF(L35<0,"ATENÇÃO","OK") -> OK | N35: 0 | O35: 1 | P35: 0 | Q35: 0 | R35: 0 | S35: 0 | T35: 0 | U35: 0 | V35: 0 | W35: 0 | X35: 0 | Y35: 0
C36: 33 | D36: Módulo de bateria – modelo 3 | E36: 449052.30 | G36: Peça | J36: 1900 | K36: 1 | L36: =K36-(SUM(N36:Y36)) -> 0 | M36: =IF(L36<0,"ATENÇÃO","OK") -> OK | N36: 0 | O36: 1 | P36: 0 | Q36: 0 | R36: 0 | S36: 0 | T36: 0 | U36: 0 | V36: 0 | W36: 0 | X36: 0 | Y36: 0
D38: *Lotes 2 e 3 Infrutíferos
D39: *Lote 10 Deserto
D40: *Marca conforme Proposta Ajustada
D41: *Prazo de Entrega e Pagamento conforme Termo de Referência

Sheet CEAD
A1: PROCESSO: 1300/2014/UDESC | D1: OBJETO: Aquisição de equipamentos, materiais e serviços para upgrade da rede de computadores da UDESC | K1: VIGÊNCIA DA ATA: 02/12/2014 até 01/12/2015 | N1: AF/OS nº 272/2015 Qtde. DT | O1: AF/OS nº 1413/2015 Qtde. DT | P1: AF/OS nº xxxx/2014 Qtde. DT | Q1: AF/OS nº xxxx/2014 Qtde. DT | R1: AF/OS nº xxxx/2014 Qtde. DT | S1: AF/OS nº xxxx/2014 Qtde. DT | T1: AF/OS nº xxxx/2014 Qtde. DT | U1: AF/OS nº xxxx/2014 Qtde. DT | V1: AF/OS nº xxxx/2014 Qtde. DT | W1: AF/OS nº xxxx/2014 Qtde. DT | X1: AF/OS nº xxxx/2014 Qtde. DT | Y1: AF/OS nº xxxx/2014 Qtde. DT
A2: CENTRO PARTICIPANTE: CEAD
A3: FORNECEDOR | B3: LOTE | C3: ITEM | D3: Especificação - conforme complementação memorial descritivo | E3: ELEMENTO | F3: MARCA | G3: UNIDADE | H3: Entrega (Dias) | I3: Pagto. (Dias) | J3: Preço UNITÁRIO (R$) | K3: Qtde REGISTRADA | L3: Saldo / Automático | M3: ALERTA | N3: 42075 | O3: 42227 | P3: ...../...../...... | Q3: ...../...../...... | R3: ...../...../...... | S3: ...../...../...... | T3: ...../...../...... | U3: ...../...../...... | V3: ...../...../...... | W3: ...../...../...... | X3: ...../...../...... | Y3: ...../...../......
A4: ZOOM Tecnologia LTDA | B4: 1 | C4: 1 | D4: Mini Storage de Rede (CEAD) | E4: 449052.35 | G4: Peça | J4: 8884 | K4: 1 | L4: =K4-(SUM(N4:Y4)) -> 0 | M4: =IF(L4<0,"ATENÇÃO","OK") -> OK | N4: 1 | O4: 0 | P4: 0 | Q4: 0 | R4: 0 | S4: 0 | T4: 0 | U4: 0 | V4: 0 | W4: 0 | X4: 0 | Y4: 0
A5: Infrutífero | B5: 2 | C5: 2 | D5: Wireless com antena direcional | E5: 449052.35 | G5: Peça | J5: Infrutífero | L5: =K5-(SUM(N5:Y5)) -> 0 | M5: =IF(L5<0,"ATENÇÃO","OK") -> OK | N5: 0 | O5: 0 | P5: 0 | Q5: 0 | R5: 0 | S5: 0 | T5: 0 | U5: 0 | V5: 0 | W5: 0 | X5: 0 | Y5: 0
A6: Infrutífero | B6: 3 | C6: 3 | D6: Câmera IP (CEART) | E6: 449052.33 | G6: Peça | J6: Infrutífero | L6: =K6-(SUM(N6:Y6)) -> 0 | M6: =IF(L6<0,"ATENÇÃO","OK") -> OK | N6: 0 | O6: 0 | P6: 0 | Q6: 0 | R6: 0 | S6: 0 | T6: 0 | U6: 0 | V6: 0 | W6: 0 | X6: 0 | Y6: 0
A7: ZOOM Tecnologia LTDA | B7: 4 | C7: 4 | D7: Switch Borda s/PoE 24p (DGOV) | E7: 449052.35 | G7: Peça | J7: 1320 | K7: 8 | L7: =K7-(SUM(N7:Y7)) -> 0 | M7: =IF(L7<0,"ATENÇÃO","OK") -> OK | N7: 8 | O7: 0 | P7: 0 | Q7: 0 | R7: 0 | S7: 0 | T7: 0 | U7: 0 | V7: 0 | W7: 0 | X7: 0 | Y7: 0
C8: 5 | D8: Switch Borda PoE 24p | E8: 449052.35 | G8: Peça | J8: 3250 | K8: 4 | L8: =K8-(SUM(N8:Y8)) -> 0 | M8: =IF(L8<0,"ATENÇÃO","OK") -> OK | N8: 4 | O8: 0 | P8: 0 | Q8: 0 | R8: 0 | S8: 0 | T8: 0 | U8: 0 | V8: 0 | W8: 0 | X8: 0 | Y8: 0
C9: 6 | D9: Mini-GBIC monomodo 1Gbps | E9: 449052.35 | G9: Peça | J9: 850 | L9: =K9-(SUM(N9:Y9)) -> 0 | M9: =IF(L9<0,"ATENÇÃO","OK") -> OK | N9: 0 | O9: 0 | P9: 0 | Q9: 0 | R9: 0 | S9: 0 | T9: 0 | U9: 0 | V9: 0 | W9: 0 | X9: 0 | Y9: 0
C10: 7 | D10: Mini-GBIC multimodo 1Gbps | E10: 449052.35 | G10: Peça | J10: 450 | L10: =K10-(SUM(N10:Y10)) -> 0 | M10: =IF(L10<0,"ATENÇÃO","OK") -> OK | N10: 0 | O10: 0 | P10: 0 | Q10: 0 | R10: 0 | S10: 0 | T10: 0 | U10: 0 | V10: 0 | W10: 0 | X10: 0 | Y10: 0
C11: 8 | D11: Roteador Unidades | E11: 449052.35 | G11: Peça | J11: 3245 | L11: =K11-(SUM(N11:Y11)) -> 0 | M11: =IF(L11<0,"ATENÇÃO","OK") -> OK | N11: 0 | O11: 0 | P11: 0 | Q11: 0 | R11: 0 | S11: 0 | T11: 0 | U11: 0 | V11: 0 | W11: 0 | X11: 0 | Y11: 0
C12: 9 | D12: Roteador Concentrador | E12: 449052.35 | G12: Peça | J12: 44000 | L12: =K12-(SUM(N12:Y12)) -> 0 | M12: =IF(L12<0,"ATENÇÃO","OK") -> OK | N12: 0 | O12: 0 | P12: 0 | Q12: 0 | R12: 0 | S12: 0 | T12: 0 | U12: 0 | V12: 0 | W12: 0 | X12: 0 | Y12: 0
C13: 10 | D13: Firewall | E13: 449052.35 | G13: Peça | J13: 69000 | L13: =K13-(SUM(N13:Y13)) -> 0 | M13: =IF(L13<0,"ATENÇÃO","OK") -> OK | N13: 0 | O13: 0 | P13: 0 | Q13: 0 | R13: 0 | S13: 0 | T13: 0 | U13: 0 | V13: 0 | W13: 0 | X13: 0 | Y13: 0
C14: 11 | D14: Software de Gerenciamento de Rede | E14: 449052.94 | G14: Peça | J14: 152390 | L14: =K14-(SUM(N14:Y14)) -> 0 | M14: =IF(L14<0,"ATENÇÃO","OK") -> OK | N14: 0 | O14: 0 | P14: 0 | Q14: 0 | R14: 0 | S14: 0 | T14: 0 | U14: 0 | V14: 0 | W14: 0 | X14: 0 | Y14: 0
C15: 12 | D15: Ponto de acesso a rede sem fio | E15: 449052.35 | G15: Peça | J15: 2300 | K15: 10 | L15: =K15-(SUM(N15:Y15)) -> 0 | M15: =IF(L15<0,"ATENÇÃO","OK") -> OK | N15: 10 | O15: 0 | P15: 0 | Q15: 0 | R15: 0 | S15: 0 | T15: 0 | U15: 0 | V15: 0 | W15: 0 | X15: 0 | Y15: 0
C16: 13 | D16: Controladora WLAN | E16: 449052.35 | G16: Peça | J16: 68000 | L16: =K16-(SUM(N16:Y16)) -> 0 | M16: =IF(L16<0,"ATENÇÃO","OK") -> OK | N16: 0 | O16: 0 | P16: 0 | Q16: 0 | R16: 0 | S16: 0 | T16: 0 | U16: 0 | V16: 0 | W16: 0 | X16: 0 | Y16: 0
C17: 14 | D17: Licença Controladora WLAN | E17: 449052.94 | G17: Peça | J17: 10000 | L17: =K17-(SUM(N17:Y17)) -> 0 | M17: =IF(L17<0,"ATENÇÃO","OK") -> OK | N17: 0 | O17: 0 | P17: 0 | Q17: 0 | R17: 0 | S17: 0 | T17: 0 | U17: 0 | V17: 0 | W17: 0 | X17: 0 | Y17: 0
A18: ZOOM Tecnologia LTDA | B18: 5 | C18: 15 | D18: Switch SAN | E18: 449052.35 | G18: Peça | J18: 45000 | L18: =K18-(SUM(N18:Y18)) -> 0 | M18: =IF(L18<0,"ATENÇÃO","OK") -> OK | N18: 0 | O18: 0 | P18: 0 | Q18: 0 | R18: 0 | S18: 0 | T18: 0 | U18: 0 | V18: 0 | W18: 0 | X18: 0 | Y18: 0
B19: 18 | C19: 16 | D19: Placa HBA (material de consumo) | E19: 339030.17 | G19: Peça | J19: 3043.18 | L19: =K19-(SUM(N19:Y19)) -> 0 | M19: =IF(L19<0,"ATENÇÃO","OK") -> OK | N19: 0 | O19: 0 | P19: 0 | Q19: 0 | R19: 0 | S19: 0 | T19: 0 | U19: 0 | V19: 0 | W19: 0 | X19: 0 | Y19: 0
A20: SEPROL Comércio e Consultoria em Informática LTDA | B20: 6 | C20: 17 | D20: ENCLOSURE Expansão STORAGE HP (PN AG638) | E20: 339030.17 | G20: Peça | J20: 8860 | L20: =K20-(SUM(N20:Y20)) -> 0 | M20: =IF(L20<0,"ATENÇÃO","OK") -> OK | N20: 0 | O20: 0 | P20: 0 | Q20: 0 | R20: 0 | S20: 0 | T20: 0 | U20: 0 | V20: 0 | W20: 0 | X20: 0 | Y20: 0
B21: 19 | C21: 18 | D21: Unidades de armazenamento de dados FC de 450GB (PN AG803B) | E21: 339030.17 | G21: Peça | J21: 5140 | L21: =K21-(SUM(N21:Y21)) -> 0 | M21: =IF(L21<0,"ATENÇÃO","OK") -> OK | N21: 0 | O21: 0 | P21: 0 | Q21: 0 | R21: 0 | S21: 0 | T21: 0 | U21: 0 | V21: 0 | W21: 0 | X21: 0 | Y21: 0
C22: 19 | D22: Unidades de Armazenamento de dados FC de 1TB (PN AG691B) | E22: 339030.17 | G22: Peça | J22: 5255 | L22: =K22-(SUM(N22:Y22)) -> 0 | M22: =IF(L22<0,"ATENÇÃO","OK") -> OK | N22: 0 | O22: 0 | P22: 0 | Q22: 0 | R22: 0 | S22: 0 | T22: 0 | U22: 0 | V22: 0 | W22: 0 | X22: 0 | Y22: 0
C23: 20 | D23: Treinamento Storage | E23: 339039.48 | G23: serviço | J23: 9430 | L23: =K23-(SUM(N23:Y23)) -> 0 | M23: =IF(L23<0,"ATENÇÃO","OK") -> OK | N23: 0 | O23: 0 | P23: 0 | Q23: 0 | R23: 0 | S23: 0 | T23: 0 | U23: 0 | V23: 0 | W23: 0 | X23: 0 | Y23: 0
B24: 20 | C24: 21 | D24: Serviços de instalação, configuração e garantia | E24: 339039.25 | G24: serviço | J24: 12650 | L24: =K24-(SUM(N24:Y24)) -> 0 | M24: =IF(L24<0,"ATENÇÃO","OK") -> OK | N24: 0 | O24: 0 | P24: 0 | Q24: 0 | R24: 0 | S24: 0 | T24: 0 | U24: 0 | V24: 0 | W24: 0 | X24: 0 | Y24: 0
A25: ZOOM Tecnologia LTDA | B25: 7 | C25: 22 | D25: Memória 16Gb para upgrade (Huawei PN:06200107) | E25: 339030.17 | G25: Peça | J25: 2422.5 | K25: 2 | L25: =K25-(SUM(N25:Y25)) -> 0 | M25: =IF(L25<0,"ATENÇÃO","OK") -> OK | N25: 0 | O25: 2 | P25: 0 | Q25: 0 | R25: 0 | S25: 0 | T25: 0 | U25: 0 | V25: 0 | W25: 0 | X25: 0 | Y25: 0
B26: 20 | C26: 23 | D26: Processador E5-2620 para upgrade (Huawei PN:41020222) | E26: 339030.17 | G26: Peça | J26: 3445 | K26: 1 | L26: =K26-(SUM(N26:Y26)) -> 0 | M26: =IF(L26<0,"ATENÇÃO","OK") -> OK | N26: 0 | O26: 1 | P26: 0 | Q26: 0 | R26: 0 | S26: 0 | T26: 0 | U26: 0 | V26: 0 | W26: 0 | X26: 0 | Y26: 0
B27: 21 | C27: 24 | D27: Fonte 460W para upgrade (Huawei PN:02131042) | E27: 339030.17 | G27: Peça | J27: 1270 | K27: 1 | L27: =K27-(SUM(N27:Y27)) -> 0 | M27: =IF(L27<0,"ATENÇÃO","OK") -> OK | N27: 0 | O27: 1 | P27: 0 | Q27: 0 | R27: 0 | S27: 0 | T27: 0 | U27: 0 | V27: 0 | W27: 0 | X27: 0 | Y27: 0
A28: SEPROL Comércio e Consultoria em Informática LTDA | B28: 8 | C28: 25 | D28: Pente de Memória 8 Gb (PN 647897-b21) | E28: 339030.17 | G28: Peça | J28: 1300 | L28: =K28-(SUM(N28:Y28)) -> 0 | M28: =IF(L28<0,"ATENÇÃO","OK") -> OK | N28: 0 | O28: 0 | P28: 0 | Q28: 0 | R28: 0 | S28: 0 | T28: 0 | U28: 0 | V28: 0 | W28: 0 | X28: 0 | Y28: 0
B29: 21 | C29: 26 | D29: Pente de Memória 8 Gb (PN 500662-b21) | E29: 339030.17 | G29: Peça | J29: 2200 | L29: =K29-(SUM(N29:Y29)) -> 0 | M29: =IF(L29<0,"ATENÇÃO","OK") -> OK | N29: 0 | O29: 0 | P29: 0 | Q29: 0 | R29: 0 | S29: 0 | T29: 0 | U29: 0 | V29: 0 | W29: 0 | X29: 0 | Y29: 0
A30: SEPROL Comércio e Consultoria em Informática LTDA | B30: 9 | C30: 27 | D30: Fitas LTO4 | E30: 339030.17 | G30: Peça | J30: 220 | L30: =K30-(SUM(N30:Y30)) -> 0 | M30: =IF(L30<0,"ATENÇÃO","OK") -> OK | N30: 0 | O30: 0 | P30: 0 | Q30: 0 | R30: 0 | S30: 0 | T30: 0 | U30: 0 | V30: 0 | W30: 0 | X30: 0 | Y30: 0
A31: Deserto | B31: 10 | C31: 28 | D31: No-Break modelo 1 | E31: 449052.30 | G31: Peça | J31: Deserto | L31: =K31-(SUM(N31:Y31)) -> 0 | M31: =IF(L31<0,"ATENÇÃO","OK") -> OK | N31: 0 | O31: 0 | P31: 0 | Q31: 0 | R31: 0 | S31: 0 | T31: 0 | U31: 0 | V31: 0 | W31: 0 | X31: 0 | Y31: 0
C32: 29 | D32: Módulo de bateria – modelo 1 | E32: 449052.30 | G32: Peça | J32: Deserto | L32: =K32-(SUM(N32:Y32)) -> 0 | M32: =IF(L32<0,"ATENÇÃO","OK") -> OK | N32: 0 | O32: 0 | P32: 0 | Q32: 0 | R32: 0 | S32: 0 | T32: 0 | U32: 0 | V32: 0 | W32: 0 | X32: 0 | Y32: 0
A33: WEG Automação Critical Power LTDA | B33: 11 | C33: 30 | D33: No-Break modelo 2 | E33: 449052.30 | G33: Peça | J33: 7300 | L33: =K33-(SUM(N33:Y33)) -> 0 | M33: =IF(L33<0,"ATENÇÃO","OK") -> OK | N33: 0 | O33: 0 | P33: 0 | Q33: 0 | R33: 0 | S33: 0 | T33: 0 | U33: 0 | V33: 0 | W33: 0 | X33: 0 | Y33: 0
C34: 31 | D34: Módulo de bateria – modelo 2 | E34: 449052.30 | G34: Peça | J34: 1825 | L34: =K34-(SUM(N34:Y34)) -> 0 | M34: =IF(L34<0,"ATENÇÃO","OK") -> OK | N34: 0 | O34: 0 | P34: 0 | Q34: 0 | R34: 0 | S34: 0 | T34: 0 | U34: 0 | V34: 0 | W34: 0 | X34: 0 | Y34: 0
A35: WEG Automação Critical Power LTDA | B35: 12 | C35: 32 | D35: No-Break modelo 3 | E35: 449052.30 | G35: Peça | J35: 5923.52 | L35: =K35-(SUM(N35:Y35)) -> 0 | M35: =IF(L35<0,"ATENÇÃO","OK") -> OK | N35: 0 | O35: 0 | P35: 0 | Q35: 0 | R35: 0 | S35: 0 | T35: 0 | U35: 0 | V35: 0 | W35: 0 | X35: 0 | Y35: 0
C36: 33 | D36: Módulo de bateria – modelo 3 | E36: 449052.30 | G36: Peça | J36: 1900 | L36: =K36-(SUM(N36:Y36)) -> 0 | M36: =IF(L36<0,"ATENÇÃO","OK") -> OK | N36: 0 | O36: 0 | P36: 0 | Q36: 0 | R36: 0 | S36: 0 | T36: 0 | U36: 0 | V36: 0 | W36: 0 | X36: 0 | Y36: 0
D38: *Lotes 2 e 3 Infrutíferos
D39: *Lote 10 Deserto
D40: *Marca conforme Proposta Ajustada
D41: *Prazo de Entrega e Pagamento conforme Termo de Referência

Sheet CEFID
A1: PROCESSO: 1300/2014/UDESC | D1: OBJETO: Aquisição de equipamentos, materiais e serviços para upgrade da rede de computadores da UDESC | K1: VIGÊNCIA DA ATA: 02/12/2014 até 01/12/2015 | N1: AF/OS nº 291/2015 Qtde. DT | O1: AF/OS nº 424/2015 Qtde. DT | P1: AF/OS nº xxxx/2014 Qtde. DT | Q1: AF/OS nº xxxx/2014 Qtde. DT | R1: AF/OS nº xxxx/2014 Qtde. DT | S1: AF/OS nº xxxx/2014 Qtde. DT | T1: AF/OS nº xxxx/2014 Qtde. DT | U1: AF/OS nº xxxx/2014 Qtde. DT | V1: AF/OS nº xxxx/2014 Qtde. DT | W1: AF/OS nº xxxx/2014 Qtde. DT | X1: AF/OS nº xxxx/2014 Qtde. DT | Y1: AF/OS nº xxxx/2014 Qtde. DT
A2: CENTRO PARTICIPANTE: CEFID
A3: FORNECEDOR | B3: LOTE | C3: ITEM | D3: Especificação - conforme complementação memorial descritivo | E3: ELEMENTO | F3: MARCA | G3: UNIDADE | H3: Entrega (Dias) | I3: Pagto. (Dias) | J3: Preço UNITÁRIO (R$) | K3: Qtde REGISTRADA | L3: Saldo / Automático | M3: ALERTA | N3: 42080 | O3: 42103 | P3: ...../...../...... | Q3: ...../...../...... | R3: ...../...../...... | S3: ...../...../...... | T3: ...../...../...... | U3: ...../...../...... | V3: ...../...../...... | W3: ...../...../...... | X3: ...../...../...... | Y3: ...../...../......
A4: ZOOM Tecnologia LTDA | B4: 1 | C4: 1 | D4: Mini Storage de Rede (CEAD) | E4: 449052.35 | G4: Peça | J4: 8884 | K4: 1 | L4: =K4-(SUM(N4:Y4)) -> 0 | M4: =IF(L4<0,"ATENÇÃO","OK") -> OK | N4: 1 | O4: 0 | P4: 0 | Q4: 0 | R4: 0 | S4: 0 | T4: 0 | U4: 0 | V4: 0 | W4: 0 | X4: 0 | Y4: 0
A5: Infrutífero | B5: 2 | C5: 2 | D5: Wireless com antena direcional | E5: 449052.35 | G5: Peça | J5: Infrutífero | L5: =K5-(SUM(N5:Y5)) -> 0 | M5: =IF(L5<0,"ATENÇÃO","OK") -> OK | N5: 0 | O5: 0 | P5: 0 | Q5: 0 | R5: 0 | S5: 0 | T5: 0 | U5: 0 | V5: 0 | W5: 0 | X5: 0 | Y5: 0
A6: Infrutífero | B6: 3 | C6: 3 | D6: Câmera IP (CEART) | E6: 449052.33 | G6: Peça | J6: Infrutífero | L6: =K6-(SUM(N6:Y6)) -> 0 | M6: =IF(L6<0,"ATENÇÃO","OK") -> OK | N6: 0 | O6: 0 | P6: 0 | Q6: 0 | R6: 0 | S6: 0 | T6: 0 | U6: 0 | V6: 0 | W6: 0 | X6: 0 | Y6: 0
A7: ZOOM Tecnologia LTDA | B7: 4 | C7: 4 | D7: Switch Borda s/PoE 24p (DGOV) | E7: 449052.35 | G7: Peça | J7: 1320 | K7: 4 | L7: =K7-(SUM(N7:Y7)) -> 0 | M7: =IF(L7<0,"ATENÇÃO","OK") -> OK | N7: 4 | O7: 0 | P7: 0 | Q7: 0 | R7: 0 | S7: 0 | T7: 0 | U7: 0 | V7: 0 | W7: 0 | X7: 0 | Y7: 0
C8: 5 | D8: Switch Borda PoE 24p | E8: 449052.35 | G8: Peça | J8: 3250 | K8: 6 | L8: =K8-(SUM(N8:Y8)) -> 0 | M8: =IF(L8<0,"ATENÇÃO","OK") -> OK | N8: 0 | O8: 6 | P8: 0 | Q8: 0 | R8: 0 | S8: 0 | T8: 0 | U8: 0 | V8: 0 | W8: 0 | X8: 0 | Y8: 0
C9: 6 | D9: Mini-GBIC monomodo 1Gbps | E9: 449052.35 | G9: Peça | J9: 850 | L9: =K9-(SUM(N9:Y9)) -> 0 | M9: =IF(L9<0,"ATENÇÃO","OK") -> OK | N9: 0 | O9: 0 | P9: 0 | Q9: 0 | R9: 0 | S9: 0 | T9: 0 | U9: 0 | V9: 0 | W9: 0 | X9: 0 | Y9: 0
C10: 7 | D10: Mini-GBIC multimodo 1Gbps | E10: 449052.35 | G10: Peça | J10: 450 | L10: =K10-(SUM(N10:Y10)) -> 0 | M10: =IF(L10<0,"ATENÇÃO","OK") -> OK | N10: 0 | O10: 0 | P10: 0 | Q10: 0 | R10: 0 | S10: 0 | T10: 0 | U10: 0 | V10: 0 | W10: 0 | X10: 0 | Y10: 0
C11: 8 | D11: Roteador Unidades | E11: 449052.35 | G11: Peça | J11: 3245 | L11: =K11-(SUM(N11:Y11)) -> 0 | M11: =IF(L11<0,"ATENÇÃO","OK") -> OK | N11: 0 | O11: 0 | P11: 0 | Q11: 0 | R11: 0 | S11: 0 | T11: 0 | U11: 0 | V11: 0 | W11: 0 | X11: 0 | Y11: 0
C12: 9 | D12: Roteador Concentrador | E12: 449052.35 | G12: Peça | J12: 44000 | L12: =K12-(SUM(N12:Y12)) -> 0 | M12: =IF(L12<0,"ATENÇÃO","OK") -> OK | N12: 0 | O12: 0 | P12: 0 | Q12: 0 | R12: 0 | S12: 0 | T12: 0 | U12: 0 | V12: 0 | W12: 0 | X12: 0 | Y12: 0
C13: 10 | D13: Firewall | E13: 449052.35 | G13: Peça | J13: 69000 | L13: =K13-(SUM(N13:Y13)) -> 0 | M13: =IF(L13<0,"ATENÇÃO","OK") -> OK | N13: 0 | O13: 0 | P13: 0 | Q13: 0 | R13: 0 | S13: 0 | T13: 0 | U13: 0 | V13: 0 | W13: 0 | X13: 0 | Y13: 0
C14: 11 | D14: Software de Gerenciamento de Rede | E14: 449052.94 | G14: Peça | J14: 152390 | L14: =K14-(SUM(N14:Y14)) -> 0 | M14: =IF(L14<0,"ATENÇÃO","OK") -> OK | N14: 0 | O14: 0 | P14: 0 | Q14: 0 | R14: 0 | S14: 0 | T14: 0 | U14: 0 | V14: 0 | W14: 0 | X14: 0 | Y14: 0
C15: 12 | D15: Ponto de acesso a rede sem fio | E15: 449052.35 | G15: Peça | J15: 2300 | K15: 15 | L15: =K15-(SUM(N15:Y15)) -> 0 | M15: =IF(L15<0,"ATENÇÃO","OK") -> OK | N15: 0 | O15: 15 | P15: 0 | Q15: 0 | R15: 0 | S15: 0 | T15: 0 | U15: 0 | V15: 0 | W15: 0 | X15: 0 | Y15: 0
C16: 13 | D16: Controladora WLAN | E16: 449052.35 | G16: Peça | J16: 68000 | L16: =K16-(SUM(N16:Y16)) -> 0 | M16: =IF(L16<0,"ATENÇÃO","OK") -> OK | N16: 0 | O16: 0 | P16: 0 | Q16: 0 | R16: 0 | S16: 0 | T16: 0 | U16: 0 | V16: 0 | W16: 0 | X16: 0 | Y16: 0
C17: 14 | D17: Licença Controladora WLAN | E17: 449052.94 | G17: Peça | J17: 10000 | L17: =K17-(SUM(N17:Y17)) -> 0 | M17: =IF(L17<0,"ATENÇÃO","OK") -> OK | N17: 0 | O17: 0 | P17: 0 | Q17: 0 | R17: 0 | S17: 0 | T17: 0 | U17: 0 | V17: 0 | W17: 0 | X17: 0 | Y17: 0
A18: ZOOM Tecnologia LTDA | B18: 5 | C18: 15 | D18: Switch SAN | E18: 449052.35 | G18: Peça | J18: 45000 | L18: =K18-(SUM(N18:Y18)) -> 0 | M18: =IF(L18<0,"ATENÇÃO","OK") -> OK | N18: 0 | O18: 0 | P18: 0 | Q18: 0 | R18: 0 | S18: 0 | T18: 0 | U18: 0 | V18: 0 | W18: 0 | X18: 0 | Y18: 0
B19: 18 | C19: 16 | D19: Placa HBA (material de consumo) | E19: 339030.17 | G19: Peça | J19: 3043.18 | L19: =K19-(SUM(N19:Y19)) -> 0 | M19: =IF(L19<0,"ATENÇÃO","OK") -> OK | N19: 0 | O19: 0 | P19: 0 | Q19: 0 | R19: 0 | S19: 0 | T19: 0 | U19: 0 | V19: 0 | W19: 0 | X19: 0 | Y19: 0
A20: SEPROL Comércio e Consultoria em Informática LTDA | B20: 6 | C20: 17 | D20: ENCLOSURE Expansão STORAGE HP (PN AG638) | E20: 339030.17 | G20: Peça | J20: 8860 | L20: =K20-(SUM(N20:Y20)) -> 0 | M20: =IF(L20<0,"ATENÇÃO","OK") -> OK | N20: 0 | O20: 0 | P20: 0 | Q20: 0 | R20: 0 | S20: 0 | T20: 0 | U20: 0 | V20: 0 | W20: 0 | X20: 0 | Y20: 0
B21: 19 | C21: 18 | D21: Unidades de armazenamento de dados FC de 450GB (PN AG803B) | E21: 339030.17 | G21: Peça | J21: 5140 | L21: =K21-(SUM(N21:Y21)) -> 0 | M21: =IF(L21<0,"ATENÇÃO","OK") -> OK | N21: 0 | O21: 0 | P21: 0 | Q21: 0 | R21: 0 | S21: 0 | T21: 0 | U21: 0 | V21: 0 | W21: 0 | X21: 0 | Y21: 0
C22: 19 | D22: Unidades de Armazenamento de dados FC de 1TB (PN AG691B) | E22: 339030.17 | G22: Peça | J22: 5255 | L22: =K22-(SUM(N22:Y22)) -> 0 | M22: =IF(L22<0,"ATENÇÃO","OK") -> OK | N22: 0 | O22: 0 | P22: 0 | Q22: 0 | R22: 0 | S22: 0 | T22: 0 | U22: 0 | V22: 0 | W22: 0 | X22: 0 | Y22: 0
C23: 20 | D23: Treinamento Storage | E23: 339039.48 | G23: serviço | J23: 9430 | L23: =K23-(SUM(N23:Y23)) -> 0 | M23: =IF(L23<0,"ATENÇÃO","OK") -> OK | N23: 0 | O23: 0 | P23: 0 | Q23: 0 | R23: 0 | S23: 0 | T23: 0 | U23: 0 | V23: 0 | W23: 0 | X23: 0 | Y23: 0
B24: 20 | C24: 21 | D24: Serviços de instalação, configuração e garantia | E24: 339039.25 | G24: serviço | J24: 12650 | L24: =K24-(SUM(N24:Y24)) -> 0 | M24: =IF(L24<0,"ATENÇÃO","OK") -> OK | N24: 0 | O24: 0 | P24: 0 | Q24: 0 | R24: 0 | S24: 0 | T24: 0 | U24: 0 | V24: 0 | W24: 0 | X24: 0 | Y24: 0
A25: ZOOM Tecnologia LTDA | B25: 7 | C25: 22 | D25: Memória 16Gb para upgrade (Huawei PN:06200107) | E25: 339030.17 | G25: Peça | J25: 2422.5 | K25: 2 | L25: =K25-(SUM(N25:Y25)) -> 0 | M25: =IF(L25<0,"ATENÇÃO","OK") -> OK | N25: 2 | O25: 0 | P25: 0 | Q25: 0 | R25: 0 | S25: 0 | T25: 0 | U25: 0 | V25: 0 | W25: 0 | X25: 0 | Y25: 0
B26: 20 | C26: 23 | D26: Processador E5-2620 para upgrade (Huawei PN:41020222) | E26: 339030.17 | G26: Peça | J26: 3445 | K26: 1 | L26: =K26-(SUM(N26:Y26)) -> 0 | M26: =IF(L26<0,"ATENÇÃO","OK") -> OK | N26: 1 | O26: 0 | P26: 0 | Q26: 0 | R26: 0 | S26: 0 | T26: 0 | U26: 0 | V26: 0 | W26: 0 | X26: 0 | Y26: 0
B27: 21 | C27: 24 | D27: Fonte 460W para upgrade (Huawei PN:02131042) | E27: 339030.17 | G27: Peça | J27: 1270 | K27: 1 | L27: =K27-(SUM(N27:Y27)) -> 0 | M27: =IF(L27<0,"ATENÇÃO","OK") -> OK | N27: 1 | O27: 0 | P27: 0 | Q27: 0 | R27: 0 | S27: 0 | T27: 0 | U27: 0 | V27: 0 | W27: 0 | X27: 0 | Y27: 0
A28: SEPROL Comércio e Consultoria em Informática LTDA | B28: 8 | C28: 25 | D28: Pente de Memória 8 Gb (PN 647897-b21) | E28: 339030.17 | G28: Peça | J28: 1300 | L28: =K28-(SUM(N28:Y28)) -> 0 | M28: =IF(L28<0,"ATENÇÃO","OK") -> OK | N28: 0 | O28: 0 | P28: 0 | Q28: 0 | R28: 0 | S28: 0 | T28: 0 | U28: 0 | V28: 0 | W28: 0 | X28: 0 | Y28: 0
B29: 21 | C29: 26 | D29: Pente de Memória 8 Gb (PN 500662-b21) | E29: 339030.17 | G29: Peça | J29: 2200 | L29: =K29-(SUM(N29:Y29)) -> 0 | M29: =IF(L29<0,"ATENÇÃO","OK") -> OK | N29: 0 | O29: 0 | P29: 0 | Q29: 0 | R29: 0 | S29: 0 | T29: 0 | U29: 0 | V29: 0 | W29: 0 | X29: 0 | Y29: 0
A30: SEPROL Comércio e Consultoria em Informática LTDA | B30: 9 | C30: 27 | D30: Fitas LTO4 | E30: 339030.17 | G30: Peça | J30: 220 | L30: =K30-(SUM(N30:Y30)) -> 0 | M30: =IF(L30<0,"ATENÇÃO","OK") -> OK | N30: 0 | O30: 0 | P30: 0 | Q30: 0 | R30: 0 | S30: 0 | T30: 0 | U30: 0 | V30: 0 | W30: 0 | X30: 0 | Y30: 0
A31: Deserto | B31: 10 | C31: 28 | D31: No-Break modelo 1 | E31: 449052.30 | G31: Peça | J31: Deserto | L31: =K31-(SUM(N31:Y31)) -> 0 | M31: =IF(L31<0,"ATENÇÃO","OK") -> OK | N31: 0 | O31: 0 | P31: 0 | Q31: 0 | R31: 0 | S31: 0 | T31: 0 | U31: 0 | V31: 0 | W31: 0 | X31: 0 | Y31: 0
C32: 29 | D32: Módulo de bateria – modelo 1 | E32: 449052.30 | G32: Peça | J32: Deserto | L32: =K32-(SUM(N32:Y32)) -> 0 | M32: =IF(L32<0,"ATENÇÃO","OK") -> OK | N32: 0 | O32: 0 | P32: 0 | Q32: 0 | R32: 0 | S32: 0 | T32: 0 | U32: 0 | V32: 0 | W32: 0 | X32: 0 | Y32: 0
A33: WEG Automação Critical Power LTDA | B33: 11 | C33: 30 | D33: No-Break modelo 2 | E33: 449052.30 | G33: Peça | J33: 7300 | L33: =K33-(SUM(N33:Y33)) -> 0 | M33: =IF(L33<0,"ATENÇÃO","OK") -> OK | N33: 0 | O33: 0 | P33: 0 | Q33: 0 | R33: 0 | S33: 0 | T33: 0 | U33: 0 | V33: 0 | W33: 0 | X33: 0 | Y33: 0
C34: 31 | D34: Módulo de bateria – modelo 2 | E34: 449052.30 | G34: Peça | J34: 1825 | L34: =K34-(SUM(N34:Y34)) -> 0 | M34: =IF(L34<0,"ATENÇÃO","OK") -> OK | N34: 0 | O34: 0 | P34: 0 | Q34: 0 | R34: 0 | S34: 0 | T34: 0 | U34: 0 | V34: 0 | W34: 0 | X34: 0 | Y34: 0
A35: WEG Automação Critical Power LTDA | B35: 12 | C35: 32 | D35: No-Break modelo 3 | E35: 449052.30 | G35: Peça | J35: 5923.52 | L35: =K35-(SUM(N35:Y35)) -> 0 | M35: =IF(L35<0,"ATENÇÃO","OK") -> OK | N35: 0 | O35: 0 | P35: 0 | Q35: 0 | R35: 0 | S35: 0 | T35: 0 | U35: 0 | V35: 0 | W35: 0 | X35: 0 | Y35: 0
C36: 33 | D36: Módulo de bateria – modelo 3 | E36: 449052.30 | G36: Peça | J36: 1900 | L36: =K36-(SUM(N36:Y36)) -> 0 | M36: =IF(L36<0,"ATENÇÃO","OK") -> OK | N36: 0 | O36: 0 | P36: 0 | Q36: 0 | R36: 0 | S36: 0 | T36: 0 | U36: 0 | V36: 0 | W36: 0 | X36: 0 | Y36: 0
D38: *Lotes 2 e 3 Infrutíferos
D39: *Lote 10 Deserto
D40: *Marca conforme Proposta Ajustada
D41: *Prazo de Entrega e Pagamento conforme Termo de Referência

Sheet CERES
A1: PROCESSO: 1300/2014/UDESC | D1: OBJETO: Aquisição de equipamentos, materiais e serviços para upgrade da rede de computadores da UDESC | K1: VIGÊNCIA DA ATA: 02/12/2014 até 01/12/2015 | N1: AF/OS nº 295/2015 Qtde. DT | O1: AF/OS nº 441/2015 Qtde. DT | P1: AF/OS nº 2015/2015 Qtde. DT | Q1: AF/OS nº xxxx/2014 Qtde. DT | R1: AF/OS nº xxxx/2014 Qtde. DT | S1: AF/OS nº xxxx/2014 Qtde. DT | T1: AF/OS nº xxxx/2014 Qtde. DT | U1: AF/OS nº xxxx/2014 Qtde. DT | V1: AF/OS nº xxxx/2014 Qtde. DT | W1: AF/OS nº xxxx/2014 Qtde. DT | X1: AF/OS nº xxxx/2014 Qtde. DT | Y1: AF/OS nº xxxx/2014 Qtde. DT
A2: CENTRO PARTICIPANTE: CERES
A3: FORNECEDOR | B3: LOTE | C3: ITEM | D3: Especificação - conforme complementação memorial descritivo | E3: ELEMENTO | F3: MARCA | G3: UNIDADE | H3: Entrega (Dias) | I3: Pagto. (Dias) | J3: Preço UNITÁRIO (R$) | K3: Qtde REGISTRADA | L3: Saldo / Automático | M3: ALERTA | N3: ...../...../...... | O3: ...../...../...... | P3: ...../...../...... | Q3: ...../...../...... | R3: ...../...../...... | S3: ...../...../...... | T3: ...../...../...... | U3: ...../...../...... | V3: ...../...../...... | W3: ...../...../...... | X3: ...../...../...... | Y3: ...../...../......
A4: ZOOM Tecnologia LTDA | B4: 1 | C4: 1 | D4: Mini Storage de Rede (CEAD) | E4: 449052.35 | G4: Peça | J4: 8884 | L4: =K4-(SUM(N4:Y4)) -> 0 | M4: =IF(L4<0,"ATENÇÃO","OK") -> OK | N4: 0 | O4: 0 | P4: 0 | Q4: 0 | R4: 0 | S4: 0 | T4: 0 | U4: 0 | V4: 0 | W4: 0 | X4: 0 | Y4: 0
A5: Infrutífero | B5: 2 | C5: 2 | D5: Wireless com antena direcional | E5: 449052.35 | G5: Peça | J5: Infrutífero | L5: =K5-(SUM(N5:Y5)) -> 0 | M5: =IF(L5<0,"ATENÇÃO","OK") -> OK | N5: 0 | O5: 0 | P5: 0 | Q5: 0 | R5: 0 | S5: 0 | T5: 0 | U5: 0 | V5: 0 | W5: 0 | X5: 0 | Y5: 0
A6: Infrutífero | B6: 3 | C6: 3 | D6: Câmera IP (CEART) | E6: 449052.33 | G6: Peça | J6: Infrutífero | L6: =K6-(SUM(N6:Y6)) -> 0 | M6: =IF(L6<0,"ATENÇÃO","OK") -> OK | N6: 0 | O6: 0 | P6: 0 | Q6: 0 | R6: 0 | S6: 0 | T6: 0 | U6: 0 | V6: 0 | W6: 0 | X6: 0 | Y6: 0
A7: ZOOM Tecnologia LTDA | B7: 4 | C7: 4 | D7: Switch Borda s/PoE 24p (DGOV) | E7: 449052.35 | G7: Peça | J7: 1320 | K7: 6 | L7: =K7-(SUM(N7:Y7)) -> 0 | M7: =IF(L7<0,"ATENÇÃO","OK") -> OK | N7: 6 | O7: 0 | P7: 0 | Q7: 0 | R7: 0 | S7: 0 | T7: 0 | U7: 0 | V7: 0 | W7: 0 | X7: 0 | Y7: 0
C8: 5 | D8: Switch Borda PoE 24p | E8: 449052.35 | G8: Peça | J8: 3250 | K8: 7 | L8: =K8-(SUM(N8:Y8)) -> 0 | M8: =IF(L8<0,"ATENÇÃO","OK") -> OK | N8: 7 | O8: 0 | P8: 0 | Q8: 0 | R8: 0 | S8: 0 | T8: 0 | U8: 0 | V8: 0 | W8: 0 | X8: 0 | Y8: 0
C9: 6 | D9: Mini-GBIC monomodo 1Gbps | E9: 449052.35 | G9: Peça | J9: 850 | L9: =K9-(SUM(N9:Y9)) -> 0 | M9: =IF(L9<0,"ATENÇÃO","OK") -> OK | N9: 0 | O9: 0 | P9: 0 | Q9: 0 | R9: 0 | S9: 0 | T9: 0 | U9: 0 | V9: 0 | W9: 0 | X9: 0 | Y9: 0
C10: 7 | D10: Mini-GBIC multimodo 1Gbps | E10: 449052.35 | G10: Peça | J10: 450 | L10: =K10-(SUM(N10:Y10)) -> 0 | M10: =IF(L10<0,"ATENÇÃO","OK") -> OK | N10: 0 | O10: 0 | P10: 0 | Q10: 0 | R10: 0 | S10: 0 | T10: 0 | U10: 0 | V10: 0 | W10: 0 | X10: 0 | Y10: 0
C11: 8 | D11: Roteador Unidades | E11: 449052.35 | G11: Peça | J11: 3245 | K11: 1 | L11: =K11-(SUM(N11:Y11)) -> 0 | M11: =IF(L11<0,"ATENÇÃO","OK") -> OK | N11: 1 | O11: 0 | P11: 0 | Q11: 0 | R11: 0 | S11: 0 | T11: 0 | U11: 0 | V11: 0 | W11: 0 | X11: 0 | Y11: 0
C12: 9 | D12: Roteador Concentrador | E12: 449052.35 | G12: Peça | J12: 44000 | L12: =K12-(SUM(N12:Y12)) -> 0 | M12: =IF(L12<0,"ATENÇÃO","OK") -> OK | N12: 0 | O12: 0 | P12: 0 | Q12: 0 | R12: 0 | S12: 0 | T12: 0 | U12: 0 | V12: 0 | W12: 0 | X12: 0 | Y12: 0
C13: 10 | D13: Firewall | E13: 449052.35 | G13: Peça | J13: 69000 | L13: =K13-(SUM(N13:Y13)) -> 0 | M13: =IF(L13<0,"ATENÇÃO","OK") -> OK | N13: 0 | O13: 0 | P13: 0 | Q13: 0 | R13: 0 | S13: 0 | T13: 0 | U13: 0 | V13: 0 | W13: 0 | X13: 0 | Y13: 0
C14: 11 | D14: Software de Gerenciamento de Rede | E14: 449052.94 | G14: Peça | J14: 152390 | L14: =K14-(SUM(N14:Y14)) -> 0 | M14: =IF(L14<0,"ATENÇÃO","OK") -> OK | N14: 0 | O14: 0 | P14: 0 | Q14: 0 | R14: 0 | S14: 0 | T14: 0 | U14: 0 | V14: 0 | W14: 0 | X14: 0 | Y14: 0
C15: 12 | D15: Ponto de acesso a rede sem fio | E15: 449052.35 | G15: Peça | J15: 2300 | K15: 15 | L15: =K15-(SUM(N15:Y15)) -> 0 | M15: =IF(L15<0,"ATENÇÃO","OK") -> OK | N15: 15 | O15: 0 | P15: 0 | Q15: 0 | R15: 0 | S15: 0 | T15: 0 | U15: 0 | V15: 0 | W15: 0 | X15: 0 | Y15: 0
C16: 13 | D16: Controladora WLAN | E16: 449052.35 | G16: Peça | J16: 68000 | L16: =K16-(SUM(N16:Y16)) -> 0 | M16: =IF(L16<0,"ATENÇÃO","OK") -> OK | N16: 0 | O16: 0 | P16: 0 | Q16: 0 | R16: 0 | S16: 0 | T16: 0 | U16: 0 | V16: 0 | W16: 0 | X16: 0 | Y16: 0
C17: 14 | D17: Licença Controladora WLAN | E17: 449052.94 | G17: Peça | J17: 10000 | L17: =K17-(SUM(N17:Y17)) -> 0 | M17: =IF(L17<0,"ATENÇÃO","OK") -> OK | N17: 0 | O17: 0 | P17: 0 | Q17: 0 | R17: 0 | S17: 0 | T17: 0 | U17: 0 | V17: 0 | W17: 0 | X17: 0 | Y17: 0
A18: ZOOM Tecnologia LTDA | B18: 5 | C18: 15 | D18: Switch SAN | E18: 449052.35 | G18: Peça | J18: 45000 | L18: =K18-(SUM(N18:Y18)) -> 0 | M18: =IF(L18<0,"ATENÇÃO","OK") -> OK | N18: 0 | O18: 0 | P18: 0 | Q18: 0 | R18: 0 | S18: 0 | T18: 0 | U18: 0 | V18: 0 | W18: 0 | X18: 0 | Y18: 0
B19: 18 | C19: 16 | D19: Placa HBA (material de consumo) | E19: 339030.17 | G19: Peça | J19: 3043.18 | L19: =K19-(SUM(N19:Y19)) -> 0 | M19: =IF(L19<0,"ATENÇÃO","OK") -> OK | N19: 0 | O19: 0 | P19: 0 | Q19: 0 | R19: 0 | S19: 0 | T19: 0 | U19: 0 | V19: 0 | W19: 0 | X19: 0 | Y19: 0
A20: SEPROL Comércio e Consultoria em Informática LTDA | B20: 6 | C20: 17 | D20: ENCLOSURE Expansão STORAGE HP (PN AG638) | E20: 339030.17 | G20: Peça | J20: 8860 | L20: =K20-(SUM(N20:Y20)) -> 0 | M20: =IF(L20<0,"ATENÇÃO","OK") -> OK | N20: 0 | O20: 0 | P20: 0 | Q20: 0 | R20: 0 | S20: 0 | T20: 0 | U20: 0 | V20: 0 | W20: 0 | X20: 0 | Y20: 0
B21: 19 | C21: 18 | D21: Unidades de armazenamento de dados FC de 450GB (PN AG803B) | E21: 339030.17 | G21: Peça | J21: 5140 | L21: =K21-(SUM(N21:Y21)) -> 0 | M21: =IF(L21<0,"ATENÇÃO","OK") -> OK | N21: 0 | O21: 0 | P21: 0 | Q21: 0 | R21: 0 | S21: 0 | T21: 0 | U21: 0 | V21: 0 | W21: 0 | X21: 0 | Y21: 0
C22: 19 | D22: Unidades de Armazenamento de dados FC de 1TB (PN AG691B) | E22: 339030.17 | G22: Peça | J22: 5255 | L22: =K22-(SUM(N22:Y22)) -> 0 | M22: =IF(L22<0,"ATENÇÃO","OK") -> OK | N22: 0 | O22: 0 | P22: 0 | Q22: 0 | R22: 0 | S22: 0 | T22: 0 | U22: 0 | V22: 0 | W22: 0 | X22: 0 | Y22: 0
C23: 20 | D23: Treinamento Storage | E23: 339039.48 | G23: serviço | J23: 9430 | L23: =K23-(SUM(N23:Y23)) -> 0 | M23: =IF(L23<0,"ATENÇÃO","OK") -> OK | N23: 0 | O23: 0 | P23: 0 | Q23: 0 | R23: 0 | S23: 0 | T23: 0 | U23: 0 | V23: 0 | W23: 0 | X23: 0 | Y23: 0
B24: 20 | C24: 21 | D24: Serviços de instalação, configuração e garantia | E24: 339039.25 | G24: serviço | J24: 12650 | L24: =K24-(SUM(N24:Y24)) -> 0 | M24: =IF(L24<0,"ATENÇÃO","OK") -> OK | N24: 0 | O24: 0 | P24: 0 | Q24: 0 | R24: 0 | S24: 0 | T24: 0 | U24: 0 | V24: 0 | W24: 0 | X24: 0 | Y24: 0
A25: ZOOM Tecnologia LTDA | B25: 7 | C25: 22 | D25: Memória 16Gb para upgrade (Huawei PN:06200107) | E25: 339030.17 | G25: Peça | J25: 2422.5 | K25: 2 | L25: =K25-(SUM(N25:Y25)) -> 2 | M25: =IF(L25<0,"ATENÇÃO","OK") -> OK | N25: 0 | O25: 0 | P25: 0 | Q25: 0 | R25: 0 | S25: 0 | T25: 0 | U25: 0 | V25: 0 | W25: 0 | X25: 0 | Y25: 0
B26: 20 | C26: 23 | D26: Processador E5-2620 para upgrade (Huawei PN:41020222) | E26: 339030.17 | G26: Peça | J26: 3445 | K26: 1 | L26: =K26-(SUM(N26:Y26)) -> 1 | M26: =IF(L26<0,"ATENÇÃO","OK") -> OK | N26: 0 | O26: 0 | P26: 0 | Q26: 0 | R26: 0 | S26: 0 | T26: 0 | U26: 0 | V26: 0 | W26: 0 | X26: 0 | Y26: 0
B27: 21 | C27: 24 | D27: Fonte 460W para upgrade (Huawei PN:02131042) | E27: 339030.17 | G27: Peça | J27: 1270 | K27: 1 | L27: =K27-(SUM(N27:Y27)) -> 1 | M27: =IF(L27<0,"ATENÇÃO","OK") -> OK | N27: 0 | O27: 0 | P27: 0 | Q27: 0 | R27: 0 | S27: 0 | T27: 0 | U27: 0 | V27: 0 | W27: 0 | X27: 0 | Y27: 0
A28: SEPROL Comércio e Consultoria em Informática LTDA | B28: 8 | C28: 25 | D28: Pente de Memória 8 Gb (PN 647897-b21) | E28: 339030.17 | G28: Peça | J28: 1300 | L28: =K28-(SUM(N28:Y28)) -> 0 | M28: =IF(L28<0,"ATENÇÃO","OK") -> OK | N28: 0 | O28: 0 | P28: 0 | Q28: 0 | R28: 0 | S28: 0 | T28: 0 | U28: 0 | V28: 0 | W28: 0 | X28: 0 | Y28: 0
B29: 21 | C29: 26 | D29: Pente de Memória 8 Gb (PN 500662-b21) | E29: 339030.17 | G29: Peça | J29: 2200 | L29: =K29-(SUM(N29:Y29)) -> 0 | M29: =IF(L29<0,"ATENÇÃO","OK") -> OK | N29: 0 | O29: 0 | P29: 0 | Q29: 0 | R29: 0 | S29: 0 | T29: 0 | U29: 0 | V29: 0 | W29: 0 | X29: 0 | Y29: 0
A30: SEPROL Comércio e Consultoria em Informática LTDA | B30: 9 | C30: 27 | D30: Fitas LTO4 | E30: 339030.17 | G30: Peça | J30: 220 | L30: =K30-(SUM(N30:Y30)) -> 0 | M30: =IF(L30<0,"ATENÇÃO","OK") -> OK | N30: 0 | O30: 0 | P30: 0 | Q30: 0 | R30: 0 | S30: 0 | T30: 0 | U30: 0 | V30: 0 | W30: 0 | X30: 0 | Y30: 0
A31: Deserto | B31: 10 | C31: 28 | D31: No-Break modelo 1 | E31: 449052.30 | G31: Peça | J31: Deserto | L31: =K31-(SUM(N31:Y31)) -> 0 | M31: =IF(L31<0,"ATENÇÃO","OK") -> OK | N31: 0 | O31: 0 | P31: 0 | Q31: 0 | R31: 0 | S31: 0 | T31: 0 | U31: 0 | V31: 0 | W31: 0 | X31: 0 | Y31: 0
C32: 29 | D32: Módulo de bateria – modelo 1 | E32: 449052.30 | G32: Peça | J32: Deserto | L32: =K32-(SUM(N32:Y32)) -> 0 | M32: =IF(L32<0,"ATENÇÃO","OK") -> OK | N32: 0 | O32: 0 | P32: 0 | Q32: 0 | R32: 0 | S32: 0 | T32: 0 | U32: 0 | V32: 0 | W32: 0 | X32: 0 | Y32: 0
A33: WEG Automação Critical Power LTDA | B33: 11 | C33: 30 | D33: No-Break modelo 2 | E33: 449052.30 | G33: Peça | J33: 7300 | L33: =K33-(SUM(N33:Y33)) -> 0 | M33: =IF(L33<0,"ATENÇÃO","OK") -> OK | N33: 0 | O33: 0 | P33: 0 | Q33: 0 | R33: 0 | S33: 0 | T33: 0 | U33: 0 | V33: 0 | W33: 0 | X33: 0 | Y33: 0
C34: 31 | D34: Módulo de bateria – modelo 2 | E34: 449052.30 | G34: Peça | J34: 1825 | L34: =K34-(SUM(N34:Y34)) -> 0 | M34: =IF(L34<0,"ATENÇÃO","OK") -> OK | N34: 0 | O34: 0 | P34: 0 | Q34: 0 | R34: 0 | S34: 0 | T34: 0 | U34: 0 | V34: 0 | W34: 0 | X34: 0 | Y34: 0
A35: WEG Automação Critical Power LTDA | B35: 12 | C35: 32 | D35: No-Break modelo 3 | E35: 449052.30 | G35: Peça | J35: 5923.52 | K35: 7 | L35: =K35-(SUM(N35:Y35)) -> 0 | M35: =IF(L35<0,"ATENÇÃO","OK") -> OK | N35: 0 | O35: 4 | P35: 3 | Q35: 0 | R35: 0 | S35: 0 | T35: 0 | U35: 0 | V35: 0 | W35: 0 | X35: 0 | Y35: 0
C36: 33 | D36: Módulo de bateria – modelo 3 | E36: 449052.30 | G36: Peça | J36: 1900 | K36: =7-1 -> 6 | L36: =K36-(SUM(N36:Y36)) -> 4 | M36: =IF(L36<0,"ATENÇÃO","OK") -> OK | N36: 0 | O36: 2 | P36: 0 | Q36: 0 | R36: 0 | S36: 0 | T36: 0 | U36: 0 | V36: 0 | W36: 0 | X36: 0 | Y36: 0
D38: *Lotes 2 e 3 Infrutíferos
D39: *Lote 10 Deserto
D40: *Marca conforme Proposta Ajustada
D41: *Prazo de Entrega e Pagamento conforme Termo de Referência

Sheet CEPLAN
A1: PROCESSO: 1300/2014/UDESC | D1: OBJETO: Aquisição de equipamentos, materiais e serviços para upgrade da rede de computadores da UDESC | K1: VIGÊNCIA DA ATA: 02/12/2014 até 01/12/2015 | N1: AF/OS nº 350/2015 Qtde. DT | O1: AF/OS nº xxxx/2014 Qtde. DT | P1: AF/OS nº xxxx/2014 Qtde. DT | Q1: AF/OS nº xxxx/2014 Qtde. DT | R1: AF/OS nº xxxx/2014 Qtde. DT | S1: AF/OS nº xxxx/2014 Qtde. DT | T1: AF/OS nº xxxx/2014 Qtde. DT | U1: AF/OS nº xxxx/2014 Qtde. DT | V1: AF/OS nº xxxx/2014 Qtde. DT | W1: AF/OS nº xxxx/2014 Qtde. DT | X1: AF/OS nº xxxx/2014 Qtde. DT | Y1: AF/OS nº xxxx/2014 Qtde. DT
A2: CENTRO PARTICIPANTE: CEPLAN
A3: FORNECEDOR | B3: LOTE | C3: ITEM | D3: Especificação - conforme complementação memorial descritivo | E3: ELEMENTO | F3: MARCA | G3: UNIDADE | H3: Entrega (Dias) | I3: Pagto. (Dias) | J3: Preço UNITÁRIO (R$) | K3: Qtde REGISTRADA | L3: Saldo / Automático | M3: ALERTA | N3: ...../...../...... | O3: ...../...../...... | P3: ...../...../...... | Q3: ...../...../...... | R3: ...../...../...... | S3: ...../...../...... | T3: ...../...../...... | U3: ...../...../...... | V3: ...../...../...... | W3: ...../...../...... | X3: ...../...../...... | Y3: ...../...../......
A4: ZOOM Tecnologia LTDA | B4: 1 | C4: 1 | D4: Mini Storage de Rede (CEAD) | E4: 449052.35 | G4: Peça | J4: 8884 | L4: =K4-(SUM(N4:Y4)) -> 0 | M4: =IF(L4<0,"ATENÇÃO","OK") -> OK | N4: 0 | O4: 0 | P4: 0 | Q4: 0 | R4: 0 | S4: 0 | T4: 0 | U4: 0 | V4: 0 | W4: 0 | X4: 0 | Y4: 0
A5: Infrutífero | B5: 2 | C5: 2 | D5: Wireless com antena direcional | E5: 449052.35 | G5: Peça | J5: Infrutífero | L5: =K5-(SUM(N5:Y5)) -> 0 | M5: =IF(L5<0,"ATENÇÃO","OK") -> OK | N5: 0 | O5: 0 | P5: 0 | Q5: 0 | R5: 0 | S5: 0 | T5: 0 | U5: 0 | V5: 0 | W5: 0 | X5: 0 | Y5: 0
A6: Infrutífero | B6: 3 | C6: 3 | D6: Câmera IP (CEART) | E6: 449052.33 | G6: Peça | J6: Infrutífero | L6: =K6-(SUM(N6:Y6)) -> 0 | M6: =IF(L6<0,"ATENÇÃO","OK") -> OK | N6: 0 | O6: 0 | P6: 0 | Q6: 0 | R6: 0 | S6: 0 | T6: 0 | U6: 0 | V6: 0 | W6: 0 | X6: 0 | Y6: 0
A7: ZOOM Tecnologia LTDA | B7: 4 | C7: 4 | D7: Switch Borda s/PoE 24p (DGOV) | E7: 449052.35 | G7: Peça | J7: 1320 | L7: =K7-(SUM(N7:Y7)) -> 0 | M7: =IF(L7<0,"ATENÇÃO","OK") -> OK | N7: 0 | O7: 0 | P7: 0 | Q7: 0 | R7: 0 | S7: 0 | T7: 0 | U7: 0 | V7: 0 | W7: 0 | X7: 0 | Y7: 0
C8: 5 | D8: Switch Borda PoE 24p | E8: 449052.35 | G8: Peça | J8: 3250 | K8: 4 | L8: =K8-(SUM(N8:Y8)) -> 0 | M8: =IF(L8<0,"ATENÇÃO","OK") -> OK | N8: 4 | O8: 0 | P8: 0 | Q8: 0 | R8: 0 | S8: 0 | T8: 0 | U8: 0 | V8: 0 | W8: 0 | X8: 0 | Y8: 0
C9: 6 | D9: Mini-GBIC monomodo 1Gbps | E9: 449052.35 | G9: Peça | J9: 850 | L9: =K9-(SUM(N9:Y9)) -> 0 | M9: =IF(L9<0,"ATENÇÃO","OK") -> OK | N9: 0 | O9: 0 | P9: 0 | Q9: 0 | R9: 0 | S9: 0 | T9: 0 | U9: 0 | V9: 0 | W9: 0 | X9: 0 | Y9: 0
C10: 7 | D10: Mini-GBIC multimodo 1Gbps | E10: 449052.35 | G10: Peça | J10: 450 | L10: =K10-(SUM(N10:Y10)) -> 0 | M10: =IF(L10<0,"ATENÇÃO","OK") -> OK | N10: 0 | O10: 0 | P10: 0 | Q10: 0 | R10: 0 | S10: 0 | T10: 0 | U10: 0 | V10: 0 | W10: 0 | X10: 0 | Y10: 0
C11: 8 | D11: Roteador Unidades | E11: 449052.35 | G11: Peça | J11: 3245 | K11: 1 | L11: =K11-(SUM(N11:Y11)) -> 0 | M11: =IF(L11<0,"ATENÇÃO","OK") -> OK | N11: 1 | O11: 0 | P11: 0 | Q11: 0 | R11: 0 | S11: 0 | T11: 0 | U11: 0 | V11: 0 | W11: 0 | X11: 0 | Y11: 0
C12: 9 | D12: Roteador Concentrador | E12: 449052.35 | G12: Peça | J12: 44000 | L12: =K12-(SUM(N12:Y12)) -> 0 | M12: =IF(L12<0,"ATENÇÃO","OK") -> OK | N12: 0 | O12: 0 | P12: 0 | Q12: 0 | R12: 0 | S12: 0 | T12: 0 | U12: 0 | V12: 0 | W12: 0 | X12: 0 | Y12: 0
C13: 10 | D13: Firewall | E13: 449052.35 | G13: Peça | J13: 69000 | L13: =K13-(SUM(N13:Y13)) -> 0 | M13: =IF(L13<0,"ATENÇÃO","OK") -> OK | N13: 0 | O13: 0 | P13: 0 | Q13: 0 | R13: 0 | S13: 0 | T13: 0 | U13: 0 | V13: 0 | W13: 0 | X13: 0 | Y13: 0
C14: 11 | D14: Software de Gerenciamento de Rede | E14: 449052.94 | G14: Peça | J14: 152390 | L14: =K14-(SUM(N14:Y14)) -> 0 | M14: =IF(L14<0,"ATENÇÃO","OK") -> OK | N14: 0 | O14: 0 | P14: 0 | Q14: 0 | R14: 0 | S14: 0 | T14: 0 | U14: 0 | V14: 0 | W14: 0 | X14: 0 | Y14: 0
C15: 12 | D15: Ponto de acesso a rede sem fio | E15: 449052.35 | G15: Peça | J15: 2300 | K15: 20 | L15: =K15-(SUM(N15:Y15)) -> 0 | M15: =IF(L15<0,"ATENÇÃO","OK") -> OK | N15: 20 | O15: 0 | P15: 0 | Q15: 0 | R15: 0 | S15: 0 | T15: 0 | U15: 0 | V15: 0 | W15: 0 | X15: 0 | Y15: 0
C16: 13 | D16: Controladora WLAN | E16: 449052.35 | G16: Peça | J16: 68000 | L16: =K16-(SUM(N16:Y16)) -> 0 | M16: =IF(L16<0,"ATENÇÃO","OK") -> OK | N16: 0 | O16: 0 | P16: 0 | Q16: 0 | R16: 0 | S16: 0 | T16: 0 | U16: 0 | V16: 0 | W16: 0 | X16: 0 | Y16: 0
C17: 14 | D17: Licença Controladora WLAN | E17: 449052.94 | G17: Peça | J17: 10000 | L17: =K17-(SUM(N17:Y17)) -> 0 | M17: =IF(L17<0,"ATENÇÃO","OK") -> OK | N17: 0 | O17: 0 | P17: 0 | Q17: 0 | R17: 0 | S17: 0 | T17: 0 | U17: 0 | V17: 0 | W17: 0 | X17: 0 | Y17: 0
A18: ZOOM Tecnologia LTDA | B18: 5 | C18: 15 | D18: Switch SAN | E18: 449052.35 | G18: Peça | J18: 45000 | L18: =K18-(SUM(N18:Y18)) -> 0 | M18: =IF(L18<0,"ATENÇÃO","OK") -> OK | N18: 0 | O18: 0 | P18: 0 | Q18: 0 | R18: 0 | S18: 0 | T18: 0 | U18: 0 | V18: 0 | W18: 0 | X18: 0 | Y18: 0
B19: 18 | C19: 16 | D19: Placa HBA (material de consumo) | E19: 339030.17 | G19: Peça | J19: 3043.18 | L19: =K19-(SUM(N19:Y19)) -> 0 | M19: =IF(L19<0,"ATENÇÃO","OK") -> OK | N19: 0 | O19: 0 | P19: 0 | Q19: 0 | R19: 0 | S19: 0 | T19: 0 | U19: 0 | V19: 0 | W19: 0 | X19: 0 | Y19: 0
A20: SEPROL Comércio e Consultoria em Informática LTDA | B20: 6 | C20: 17 | D20: ENCLOSURE Expansão STORAGE HP (PN AG638) | E20: 339030.17 | G20: Peça | J20: 8860 | L20: =K20-(SUM(N20:Y20)) -> 0 | M20: =IF(L20<0,"ATENÇÃO","OK") -> OK | N20: 0 | O20: 0 | P20: 0 | Q20: 0 | R20: 0 | S20: 0 | T20: 0 | U20: 0 | V20: 0 | W20: 0 | X20: 0 | Y20: 0
B21: 19 | C21: 18 | D21: Unidades de armazenamento de dados FC de 450GB (PN AG803B) | E21: 339030.17 | G21: Peça | J21: 5140 | L21: =K21-(SUM(N21:Y21)) -> 0 | M21: =IF(L21<0,"ATENÇÃO","OK") -> OK | N21: 0 | O21: 0 | P21: 0 | Q21: 0 | R21: 0 | S21: 0 | T21: 0 | U21: 0 | V21: 0 | W21: 0 | X21: 0 | Y21: 0
C22: 19 | D22: Unidades de Armazenamento de dados FC de 1TB (PN AG691B) | E22: 339030.17 | G22: Peça | J22: 5255 | L22: =K22-(SUM(N22:Y22)) -> 0 | M22: =IF(L22<0,"ATENÇÃO","OK") -> OK | N22: 0 | O22: 0 | P22: 0 | Q22: 0 | R22: 0 | S22: 0 | T22: 0 | U22: 0 | V22: 0 | W22: 0 | X22: 0 | Y22: 0
C23: 20 | D23: Treinamento Storage | E23: 339039.48 | G23: serviço | J23: 9430 | L23: =K23-(SUM(N23:Y23)) -> 0 | M23: =IF(L23<0,"ATENÇÃO","OK") -> OK | N23: 0 | O23: 0 | P23: 0 | Q23: 0 | R23: 0 | S23: 0 | T23: 0 | U23: 0 | V23: 0 | W23: 0 | X23: 0 | Y23: 0
B24: 20 | C24: 21 | D24: Serviços de instalação, configuração e garantia | E24: 339039.25 | G24: serviço | J24: 12650 | L24: =K24-(SUM(N24:Y24)) -> 0 | M24: =IF(L24<0,"ATENÇÃO","OK") -> OK | N24: 0 | O24: 0 | P24: 0 | Q24: 0 | R24: 0 | S24: 0 | T24: 0 | U24: 0 | V24: 0 | W24: 0 | X24: 0 | Y24: 0
A25: ZOOM Tecnologia LTDA | B25: 7 | C25: 22 | D25: Memória 16Gb para upgrade (Huawei PN:06200107) | E25: 339030.17 | G25: Peça | J25: 2422.5 | L25: =K25-(SUM(N25:Y25)) -> 0 | M25: =IF(L25<0,"ATENÇÃO","OK") -> OK | N25: 0 | O25: 0 | P25: 0 | Q25: 0 | R25: 0 | S25: 0 | T25: 0 | U25: 0 | V25: 0 | W25: 0 | X25: 0 | Y25: 0
B26: 20 | C26: 23 | D26: Processador E5-2620 para upgrade (Huawei PN:41020222) | E26: 339030.17 | G26: Peça | J26: 3445 | L26: =K26-(SUM(N26:Y26)) -> 0 | M26: =IF(L26<0,"ATENÇÃO","OK") -> OK | N26: 0 | O26: 0 | P26: 0 | Q26: 0 | R26: 0 | S26: 0 | T26: 0 | U26: 0 | V26: 0 | W26: 0 | X26: 0 | Y26: 0
B27: 21 | C27: 24 | D27: Fonte 460W para upgrade (Huawei PN:02131042) | E27: 339030.17 | G27: Peça | J27: 1270 | L27: =K27-(SUM(N27:Y27)) -> 0 | M27: =IF(L27<0,"ATENÇÃO","OK") -> OK | N27: 0 | O27: 0 | P27: 0 | Q27: 0 | R27: 0 | S27: 0 | T27: 0 | U27: 0 | V27: 0 | W27: 0 | X27: 0 | Y27: 0
A28: SEPROL Comércio e Consultoria em Informática LTDA | B28: 8 | C28: 25 | D28: Pente de Memória 8 Gb (PN 647897-b21) | E28: 339030.17 | G28: Peça | J28: 1300 | L28: =K28-(SUM(N28:Y28)) -> 0 | M28: =IF(L28<0,"ATENÇÃO","OK") -> OK | N28: 0 | O28: 0 | P28: 0 | Q28: 0 | R28: 0 | S28: 0 | T28: 0 | U28: 0 | V28: 0 | W28: 0 | X28: 0 | Y28: 0
B29: 21 | C29: 26 | D29: Pente de Memória 8 Gb (PN 500662-b21) | E29: 339030.17 | G29: Peça | J29: 2200 | L29: =K29-(SUM(N29:Y29)) -> 0 | M29: =IF(L29<0,"ATENÇÃO","OK") -> OK | N29: 0 | O29: 0 | P29: 0 | Q29: 0 | R29: 0 | S29: 0 | T29: 0 | U29: 0 | V29: 0 | W29: 0 | X29: 0 | Y29: 0
A30: SEPROL Comércio e Consultoria em Informática LTDA | B30: 9 | C30: 27 | D30: Fitas LTO4 | E30: 339030.17 | G30: Peça | J30: 220 | L30: =K30-(SUM(N30:Y30)) -> 0 | M30: =IF(L30<0,"ATENÇÃO","OK") -> OK | N30: 0 | O30: 0 | P30: 0 | Q30: 0 | R30: 0 | S30: 0 | T30: 0 | U30: 0 | V30: 0 | W30: 0 | X30: 0 | Y30: 0
A31: Deserto | B31: 10 | C31: 28 | D31: No-Break modelo 1 | E31: 449052.30 | G31: Peça | J31: Deserto | L31: =K31-(SUM(N31:Y31)) -> 0 | M31: =IF(L31<0,"ATENÇÃO","OK") -> OK | N31: 0 | O31: 0 | P31: 0 | Q31: 0 | R31: 0 | S31: 0 | T31: 0 | U31: 0 | V31: 0 | W31: 0 | X31: 0 | Y31: 0
C32: 29 | D32: Módulo de bateria – modelo 1 | E32: 449052.30 | G32: Peça | J32: Deserto | L32: =K32-(SUM(N32:Y32)) -> 0 | M32: =IF(L32<0,"ATENÇÃO","OK") -> OK | N32: 0 | O32: 0 | P32: 0 | Q32: 0 | R32: 0 | S32: 0 | T32: 0 | U32: 0 | V32: 0 | W32: 0 | X32: 0 | Y32: 0
A33: WEG Automação Critical Power LTDA | B33: 11 | C33: 30 | D33: No-Break modelo 2 | E33: 449052.30 | G33: Peça | J33: 7300 | L33: =K33-(SUM(N33:Y33)) -> 0 | M33: =IF(L33<0,"ATENÇÃO","OK") -> OK | N33: 0 | O33: 0 | P33: 0 | Q33: 0 | R33: 0 | S33: 0 | T33: 0 | U33: 0 | V33: 0 | W33: 0 | X33: 0 | Y33: 0
C34: 31 | D34: Módulo de bateria – modelo 2 | E34: 449052.30 | G34: Peça | J34: 1825 | L34: =K34-(SUM(N34:Y34)) -> 0 | M34: =IF(L34<0,"ATENÇÃO","OK") -> OK | N34: 0 | O34: 0 | P34: 0 | Q34: 0 | R34: 0 | S34: 0 | T34: 0 | U34: 0 | V34: 0 | W34: 0 | X34: 0 | Y34: 0
A35: WEG Automação Critical Power LTDA | B35: 12 | C35: 32 | D35: No-Break modelo 3 | E35: 449052.30 | G35: Peça | J35: 5923.52 | L35: =K35-(SUM(N35:Y35)) -> 0 | M35: =IF(L35<0,"ATENÇÃO","OK") -> OK | N35: 0 | O35: 0 | P35: 0 | Q35: 0 | R35: 0 | S35: 0 | T35: 0 | U35: 0 | V35: 0 | W35: 0 | X35: 0 | Y35: 0
C36: 33 | D36: Módulo de bateria – modelo 3 | E36: 449052.30 | G36: Peça | J36: 1900 | L36: =K36-(SUM(N36:Y36)) -> 0 | M36: =IF(L36<0,"ATENÇÃO","OK") -> OK | N36: 0 | O36: 0 | P36: 0 | Q36: 0 | R36: 0 | S36: 0 | T36: 0 | U36: 0 | V36: 0 | W36: 0 | X36: 0 | Y36: 0
D38: *Lotes 2 e 3 Infrutíferos
D39: *Lote 10 Deserto
D40: *Marca conforme Proposta Ajustada
D41: *Prazo de Entrega e Pagamento conforme Termo de Referência

Sheet CCT
A1: PROCESSO: 1300/2014/UDESC | D1: OBJETO: Aquisição de equipamentos, materiais e serviços para upgrade da rede de computadores da UDESC | K1: VIGÊNCIA DA ATA: 02/12/2014 até 01/12/2015 | N1: AF/OS nº 191/2015 Qtde. DT | O1: AF/OS nº 1490/2015 Qtde. DT | P1: AF/OS nº 1683/2015 Qtde. DT | Q1: AF/OS nº 1737/2015 Qtde. DT | R1: AF/OS nº 1738/2015 Qtde. DT | S1: AF/OS nº xxxx/2014 Qtde. DT | T1: AF/OS nº xxxx/2014 Qtde. DT | U1: AF/OS nº xxxx/2014 Qtde. DT | V1: AF/OS nº xxxx/2014 Qtde. DT | W1: AF/OS nº xxxx/2014 Qtde. DT | X1: AF/OS nº xxxx/2014 Qtde. DT | Y1: AF/OS nº xxxx/2014 Qtde. DT
A2: CENTRO PARTICIPANTE: CCT
A3: FORNECEDOR | B3: LOTE | C3: ITEM | D3: Especificação - conforme complementação memorial descritivo | E3: ELEMENTO | F3: MARCA | G3: UNIDADE | H3: Entrega (Dias) | I3: Pagto. (Dias) | J3: Preço UNITÁRIO (R$) | K3: Qtde REGISTRADA | L3: Saldo / Automático | M3: ALERTA | N3: 42061 | O3: 42237 | P3: 42265 | Q3: 42275 | R3: 42275 | S3: ...../...../...... | T3: ...../...../...... | U3: ...../...../...... | V3: ...../...../...... | W3: ...../...../...... | X3: ...../...../...... | Y3: ...../...../......
A4: ZOOM Tecnologia LTDA | B4: 1 | C4: 1 | D4: Mini Storage de Rede (CEAD) | E4: 449052.35 | G4: Peça | J4: 8884 | L4: =K4-(SUM(N4:Y4)) -> 0 | M4: =IF(L4<0,"ATENÇÃO","OK") -> OK | N4: 0 | O4: 0 | P4: 0 | Q4: 0 | R4: 0 | S4: 0 | T4: 0 | U4: 0 | V4: 0 | W4: 0 | X4: 0 | Y4: 0
A5: Infrutífero | B5: 2 | C5: 2 | D5: Wireless com antena direcional | E5: 449052.35 | G5: Peça | J5: Infrutífero | L5: =K5-(SUM(N5:Y5)) -> 0 | M5: =IF(L5<0,"ATENÇÃO","OK") -> OK | N5: 0 | O5: 0 | P5: 0 | Q5: 0 | R5: 0 | S5: 0 | T5: 0 | U5: 0 | V5: 0 | W5: 0 | X5: 0 | Y5: 0
A6: Infrutífero | B6: 3 | C6: 3 | D6: Câmera IP (CEART) | E6: 449052.33 | G6: Peça | J6: Infrutífero | L6: =K6-(SUM(N6:Y6)) -> 0 | M6: =IF(L6<0,"ATENÇÃO","OK") -> OK | N6: 0 | O6: 0 | P6: 0 | Q6: 0 | R6: 0 | S6: 0 | T6: 0 | U6: 0 | V6: 0 | W6: 0 | X6: 0 | Y6: 0
A7: ZOOM Tecnologia LTDA | B7: 4 | C7: 4 | D7: Switch Borda s/PoE 24p (DGOV) | E7: 449052.35 | G7: Peça | J7: 1320 | L7: =K7-(SUM(N7:Y7)) -> 0 | M7: =IF(L7<0,"ATENÇÃO","OK") -> OK | N7: 0 | O7: 0 | P7: 0 | Q7: 0 | R7: 0 | S7: 0 | T7: 0 | U7: 0 | V7: 0 | W7: 0 | X7: 0 | Y7: 0
C8: 5 | D8: Switch Borda PoE 24p | E8: 449052.35 | G8: Peça | J8: 3250 | K8: 12 | L8: =K8-(SUM(N8:Y8)) -> 0 | M8: =IF(L8<0,"ATENÇÃO","OK") -> OK | N8: 5 | O8: 7 | P8: 0 | Q8: 0 | R8: 0 | S8: 0 | T8: 0 | U8: 0 | V8: 0 | W8: 0 | X8: 0 | Y8: 0
C9: 6 | D9: Mini-GBIC monomodo 1Gbps | E9: 449052.35 | G9: Peça | J9: 850 | L9: =K9-(SUM(N9:Y9)) -> 0 | M9: =IF(L9<0,"ATENÇÃO","OK") -> OK | N9: 0 | O9: 0 | P9: 0 | Q9: 0 | R9: 0 | S9: 0 | T9: 0 | U9: 0 | V9: 0 | W9: 0 | X9: 0 | Y9: 0
C10: 7 | D10: Mini-GBIC multimodo 1Gbps | E10: 449052.35 | G10: Peça | J10: 450 | K10: 10 | L10: =K10-(SUM(N10:Y10)) -> 10 | M10: =IF(L10<0,"ATENÇÃO","OK") -> OK | N10: 0 | O10: 0 | P10: 0 | Q10: 0 | R10: 0 | S10: 0 | T10: 0 | U10: 0 | V10: 0 | W10: 0 | X10: 0 | Y10: 0
C11: 8 | D11: Roteador Unidades | E11: 449052.35 | G11: Peça | J11: 3245 | L11: =K11-(SUM(N11:Y11)) -> 0 | M11: =IF(L11<0,"ATENÇÃO","OK") -> OK | N11: 0 | O11: 0 | P11: 0 | Q11: 0 | R11: 0 | S11: 0 | T11: 0 | U11: 0 | V11: 0 | W11: 0 | X11: 0 | Y11: 0
C12: 9 | D12: Roteador Concentrador | E12: 449052.35 | G12: Peça | J12: 44000 | L12: =K12-(SUM(N12:Y12)) -> 0 | M12: =IF(L12<0,"ATENÇÃO","OK") -> OK | N12: 0 | O12: 0 | P12: 0 | Q12: 0 | R12: 0 | S12: 0 | T12: 0 | U12: 0 | V12: 0 | W12: 0 | X12: 0 | Y12: 0
C13: 10 | D13: Firewall | E13: 449052.35 | G13: Peça | J13: 69000 | L13: =K13-(SUM(N13:Y13)) -> 0 | M13: =IF(L13<0,"ATENÇÃO","OK") -> OK | N13: 0 | O13: 0 | P13: 0 | Q13: 0 | R13: 0 | S13: 0 | T13: 0 | U13: 0 | V13: 0 | W13: 0 | X13: 0 | Y13: 0
C14: 11 | D14: Software de Gerenciamento de Rede | E14: 449052.94 | G14: Peça | J14: 152390 | L14: =K14-(SUM(N14:Y14)) -> 0 | M14: =IF(L14<0,"ATENÇÃO","OK") -> OK | N14: 0 | O14: 0 | P14: 0 | Q14: 0 | R14: 0 | S14: 0 | T14: 0 | U14: 0 | V14: 0 | W14: 0 | X14: 0 | Y14: 0
C15: 12 | D15: Ponto de acesso a rede sem fio | E15: 449052.35 | G15: Peça | J15: 2300 | K15: 40 | L15: =K15-(SUM(N15:Y15)) -> 0 | M15: =IF(L15<0,"ATENÇÃO","OK") -> OK | N15: 0 | O15: 0 | P15: 0 | Q15: 20 | R15: 20 | S15: 0 | T15: 0 | U15: 0 | V15: 0 | W15: 0 | X15: 0 | Y15: 0
C16: 13 | D16: Controladora WLAN | E16: 449052.35 | G16: Peça | J16: 68000 | L16: =K16-(SUM(N16:Y16)) -> 0 | M16: =IF(L16<0,"ATENÇÃO","OK") -> OK | N16: 0 | O16: 0 | P16: 0 | Q16: 0 | R16: 0 | S16: 0 | T16: 0 | U16: 0 | V16: 0 | W16: 0 | X16: 0 | Y16: 0
C17: 14 | D17: Licença Controladora WLAN | E17: 449052.94 | G17: Peça | J17: 10000 | L17: =K17-(SUM(N17:Y17)) -> 0 | M17: =IF(L17<0,"ATENÇÃO","OK") -> OK | N17: 0 | O17: 0 | P17: 0 | Q17: 0 | R17: 0 | S17: 0 | T17: 0 | U17: 0 | V17: 0 | W17: 0 | X17: 0 | Y17: 0
A18: ZOOM Tecnologia LTDA | B18: 5 | C18: 15 | D18: Switch SAN | E18: 449052.35 | G18: Peça | J18: 45000 | L18: =K18-(SUM(N18:Y18)) -> 0 | M18: =IF(L18<0,"ATENÇÃO","OK") -> OK | N18: 0 | O18: 0 | P18: 0 | Q18: 0 | R18: 0 | S18: 0 | T18: 0 | U18: 0 | V18: 0 | W18: 0 | X18: 0 | Y18: 0
B19: 18 | C19: 16 | D19: Placa HBA (material de consumo) | E19: 339030.17 | G19: Peça | J19: 3043.18 | L19: =K19-(SUM(N19:Y19)) -> 0 | M19: =IF(L19<0,"ATENÇÃO","OK") -> OK | N19: 0 | O19: 0 | P19: 0 | Q19: 0 | R19: 0 | S19: 0 | T19: 0 | U19: 0 | V19: 0 | W19: 0 | X19: 0 | Y19: 0
A20: SEPROL Comércio e Consultoria em Informática LTDA | B20: 6 | C20: 17 | D20: ENCLOSURE Expansão STORAGE HP (PN AG638) | E20: 339030.17 | G20: Peça | J20: 8860 | L20: =K20-(SUM(N20:Y20)) -> 0 | M20: =IF(L20<0,"ATENÇÃO","OK") -> OK | N20: 0 | O20: 0 | P20: 0 | Q20: 0 | R20: 0 | S20: 0 | T20: 0 | U20: 0 | V20: 0 | W20: 0 | X20: 0 | Y20: 0
B21: 19 | C21: 18 | D21: Unidades de armazenamento de dados FC de 450GB (PN AG803B) | E21: 339030.17 | G21: Peça | J21: 5140 | L21: =K21-(SUM(N21:Y21)) -> 0 | M21: =IF(L21<0,"ATENÇÃO","OK") -> OK | N21: 0 | O21: 0 | P21: 0 | Q21: 0 | R21: 0 | S21: 0 | T21: 0 | U21: 0 | V21: 0 | W21: 0 | X21: 0 | Y21: 0
C22: 19 | D22: Unidades de Armazenamento de dados FC de 1TB (PN AG691B) | E22: 339030.17 | G22: Peça | J22: 5255 | L22: =K22-(SUM(N22:Y22)) -> 0 | M22: =IF(L22<0,"ATENÇÃO","OK") -> OK | N22: 0 | O22: 0 | P22: 0 | Q22: 0 | R22: 0 | S22: 0 | T22: 0 | U22: 0 | V22: 0 | W22: 0 | X22: 0 | Y22: 0
C23: 20 | D23: Treinamento Storage | E23: 339039.48 | G23: serviço | J23: 9430 | L23: =K23-(SUM(N23:Y23)) -> 0 | M23: =IF(L23<0,"ATENÇÃO","OK") -> OK | N23: 0 | O23: 0 | P23: 0 | Q23: 0 | R23: 0 | S23: 0 | T23: 0 | U23: 0 | V23: 0 | W23: 0 | X23: 0 | Y23: 0
B24: 20 | C24: 21 | D24: Serviços de instalação, configuração e garantia | E24: 339039.25 | G24: serviço | J24: 12650 | L24: =K24-(SUM(N24:Y24)) -> 0 | M24: =IF(L24<0,"ATENÇÃO","OK") -> OK | N24: 0 | O24: 0 | P24: 0 | Q24: 0 | R24: 0 | S24: 0 | T24: 0 | U24: 0 | V24: 0 | W24: 0 | X24: 0 | Y24: 0
A25: ZOOM Tecnologia LTDA | B25: 7 | C25: 22 | D25: Memória 16Gb para upgrade (Huawei PN:06200107) | E25: 339030.17 | G25: Peça | J25: 2422.5 | K25: 2 | L25: =K25-(SUM(N25:Y25)) -> 0 | M25: =IF(L25<0,"ATENÇÃO","OK") -> OK | N25: 0 | O25: 0 | P25: 2 | Q25: 0 | R25: 0 | S25: 0 | T25: 0 | U25: 0 | V25: 0 | W25: 0 | X25: 0 | Y25: 0
B26: 20 | C26: 23 | D26: Processador E5-2620 para upgrade (Huawei PN:41020222) | E26: 339030.17 | G26: Peça | J26: 3445 | K26: 1 | L26: =K26-(SUM(N26:Y26)) -> 0 | M26: =IF(L26<0,"ATENÇÃO","OK") -> OK | N26: 0 | O26: 0 | P26: 1 | Q26: 0 | R26: 0 | S26: 0 | T26: 0 | U26: 0 | V26: 0 | W26: 0 | X26: 0 | Y26: 0
B27: 21 | C27: 24 | D27: Fonte 460W para upgrade (Huawei PN:02131042) | E27: 339030.17 | G27: Peça | J27: 1270 | K27: 1 | L27: =K27-(SUM(N27:Y27)) -> 0 | M27: =IF(L27<0,"ATENÇÃO","OK") -> OK | N27: 0 | O27: 0 | P27: 1 | Q27: 0 | R27: 0 | S27: 0 | T27: 0 | U27: 0 | V27: 0 | W27: 0 | X27: 0 | Y27: 0
A28: SEPROL Comércio e Consultoria em Informática LTDA | B28: 8 | C28: 25 | D28: Pente de Memória 8 Gb (PN 647897-b21) | E28: 339030.17 | G28: Peça | J28: 1300 | L28: =K28-(SUM(N28:Y28)) -> 0 | M28: =IF(L28<0,"ATENÇÃO","OK") -> OK | N28: 0 | O28: 0 | P28: 0 | Q28: 0 | R28: 0 | S28: 0 | T28: 0 | U28: 0 | V28: 0 | W28: 0 | X28: 0 | Y28: 0
B29: 21 | C29: 26 | D29: Pente de Memória 8 Gb (PN 500662-b21) | E29: 339030.17 | G29: Peça | J29: 2200 | L29: =K29-(SUM(N29:Y29)) -> 0 | M29: =IF(L29<0,"ATENÇÃO","OK") -> OK | N29: 0 | O29: 0 | P29: 0 | Q29: 0 | R29: 0 | S29: 0 | T29: 0 | U29: 0 | V29: 0 | W29: 0 | X29: 0 | Y29: 0
A30: SEPROL Comércio e Consultoria em Informática LTDA | B30: 9 | C30: 27 | D30: Fitas LTO4 | E30: 339030.17 | G30: Peça | J30: 220 | L30: =K30-(SUM(N30:Y30)) -> 0 | M30: =IF(L30<0,"ATENÇÃO","OK") -> OK | N30: 0 | O30: 0 | P30: 0 | Q30: 0 | R30: 0 | S30: 0 | T30: 0 | U30: 0 | V30: 0 | W30: 0 | X30: 0 | Y30: 0
A31: Deserto | B31: 10 | C31: 28 | D31: No-Break modelo 1 | E31: 449052.30 | G31: Peça | J31: Deserto | L31: =K31-(SUM(N31:Y31)) -> 0 | M31: =IF(L31<0,"ATENÇÃO","OK") -> OK | N31: 0 | O31: 0 | P31: 0 | Q31: 0 | R31: 0 | S31: 0 | T31: 0 | U31: 0 | V31: 0 | W31: 0 | X31: 0 | Y31: 0
C32: 29 | D32: Módulo de bateria – modelo 1 | E32: 449052.30 | G32: Peça | J32: Deserto | L32: =K32-(SUM(N32:Y32)) -> 0 | M32: =IF(L32<0,"ATENÇÃO","OK") -> OK | N32: 0 | O32: 0 | P32: 0 | Q32: 0 | R32: 0 | S32: 0 | T32: 0 | U32: 0 | V32: 0 | W32: 0 | X32: 0 | Y32: 0
A33: WEG Automação Critical Power LTDA | B33: 11 | C33: 30 | D33: No-Break modelo 2 | E33: 449052.30 | G33: Peça | J33: 7300 | L33: =K33-(SUM(N33:Y33)) -> 0 | M33: =IF(L33<0,"ATENÇÃO","OK") -> OK | N33: 0 | O33: 0 | P33: 0 | Q33: 0 | R33: 0 | S33: 0 | T33: 0 | U33: 0 | V33: 0 | W33: 0 | X33: 0 | Y33: 0
C34: 31 | D34: Módulo de bateria – modelo 2 | E34: 449052.30 | G34: Peça | J34: 1825 | L34: =K34-(SUM(N34:Y34)) -> 0 | M34: =IF(L34<0,"ATENÇÃO","OK") -> OK | N34: 0 | O34: 0 | P34: 0 | Q34: 0 | R34: 0 | S34: 0 | T34: 0 | U34: 0 | V34: 0 | W34: 0 | X34: 0 | Y34: 0
A35: WEG Automação Critical Power LTDA | B35: 12 | C35: 32 | D35: No-Break modelo 3 | E35: 449052.30 | G35: Peça | J35: 5923.52 | L35: =K35-(SUM(N35:Y35)) -> 0 | M35: =IF(L35<0,"ATENÇÃO","OK") -> OK | N35: 0 | O35: 0 | P35: 0 | Q35: 0 | R35: 0 | S35: 0 | T35: 0 | U35: 0 | V35: 0 | W35: 0 | X35: 0 | Y35: 0
C36: 33 | D36: Módulo de bateria – modelo 3 | E36: 449052.30 | G36: Peça | J36: 1900 | L36: =K36-(SUM(N36:Y36)) -> 0 | M36: =IF(L36<0,"ATENÇÃO","OK") -> OK | N36: 0 | O36: 0 | P36: 0 | Q36: 0 | R36: 0 | S36: 0 | T36: 0 | U36: 0 | V36: 0 | W36: 0 | X36: 0 | Y36: 0
D38: *Lotes 2 e 3 Infrutíferos
D39: *Lote 10 Deserto
D40: *Marca conforme Proposta Ajustada
D41: *Prazo de Entrega e Pagamento conforme Termo de Referência

Sheet CAV
A1: PROCESSO: 1300/2014/UDESC | D1: OBJETO: Aquisição de equipamentos, materiais e serviços para upgrade da rede de computadores da UDESC | K1: VIGÊNCIA DA ATA: 02/12/2014 até 01/12/2015 | N1: AF/OS nº xxxx/2014 Qtde. DT | O1: AF/OS nº xxxx/2014 Qtde. DT | P1: AF/OS nº xxxx/2014 Qtde. DT | Q1: AF/OS nº xxxx/2014 Qtde. DT | R1: AF/OS nº xxxx/2014 Qtde. DT | S1: AF/OS nº xxxx/2014 Qtde. DT | T1: AF/OS nº xxxx/2014 Qtde. DT | U1: AF/OS nº xxxx/2014 Qtde. DT | V1: AF/OS nº xxxx/2014 Qtde. DT | W1: AF/OS nº xxxx/2014 Qtde. DT | X1: AF/OS nº xxxx/2014 Qtde. DT | Y1: AF/OS nº xxxx/2014 Qtde. DT
A2: CENTRO PARTICIPANTE: CAV
A3: FORNECEDOR | B3: LOTE | C3: ITEM | D3: Especificação - conforme complementação memorial descritivo | E3: ELEMENTO | F3: MARCA | G3: UNIDADE | H3: Entrega (Dias) | I3: Pagto. (Dias) | J3: Preço UNITÁRIO (R$) | K3: Qtde REGISTRADA | L3: Saldo / Automático | M3: ALERTA | N3: ...../...../...... | O3: ...../...../...... | P3: ...../...../...... | Q3: ...../...../...... | R3: ...../...../...... | S3: ...../...../...... | T3: ...../...../...... | U3: ...../...../...... | V3: ...../...../...... | W3: ...../...../...... | X3: ...../...../...... | Y3: ...../...../......
A4: ZOOM Tecnologia LTDA | B4: 1 | C4: 1 | D4: Mini Storage de Rede (CEAD) | E4: 449052.35 | G4: Peça | J4: 8884 | L4: =K4-(SUM(N4:Y4)) -> 0 | M4: =IF(L4<0,"ATENÇÃO","OK") -> OK | N4: 0 | O4: 0 | P4: 0 | Q4: 0 | R4: 0 | S4: 0 | T4: 0 | U4: 0 | V4: 0 | W4: 0 | X4: 0 | Y4: 0
A5: Infrutífero | B5: 2 | C5: 2 | D5: Wireless com antena direcional | E5: 449052.35 | G5: Peça | J5: Infrutífero | L5: =K5-(SUM(N5:Y5)) -> 0 | M5: =IF(L5<0,"ATENÇÃO","OK") -> OK | N5: 0 | O5: 0 | P5: 0 | Q5: 0 | R5: 0 | S5: 0 | T5: 0 | U5: 0 | V5: 0 | W5: 0 | X5: 0 | Y5: 0
A6: Infrutífero | B6: 3 | C6: 3 | D6: Câmera IP (CEART) | E6: 449052.33 | G6: Peça | J6: Infrutífero | L6: =K6-(SUM(N6:Y6)) -> 0 | M6: =IF(L6<0,"ATENÇÃO","OK") -> OK | N6: 0 | O6: 0 | P6: 0 | Q6: 0 | R6: 0 | S6: 0 | T6: 0 | U6: 0 | V6: 0 | W6: 0 | X6: 0 | Y6: 0
A7: ZOOM Tecnologia LTDA | B7: 4 | C7: 4 | D7: Switch Borda s/PoE 24p (DGOV) | E7: 449052.35 | G7: Peça | J7: 1320 | K7: 70 | L7: =K7-(SUM(N7:Y7)) -> 0 | M7: =IF(L7<0,"ATENÇÃO","OK") -> OK | N7: 70 | O7: 0 | P7: 0 | Q7: 0 | R7: 0 | S7: 0 | T7: 0 | U7: 0 | V7: 0 | W7: 0 | X7: 0 | Y7: 0
C8: 5 | D8: Switch Borda PoE 24p | E8: 449052.35 | G8: Peça | J8: 3250 | K8: 5 | L8: =K8-(SUM(N8:Y8)) -> 0 | M8: =IF(L8<0,"ATENÇÃO","OK") -> OK | N8: 5 | O8: 0 | P8: 0 | Q8: 0 | R8: 0 | S8: 0 | T8: 0 | U8: 0 | V8: 0 | W8: 0 | X8: 0 | Y8: 0
C9: 6 | D9: Mini-GBIC monomodo 1Gbps | E9: 449052.35 | G9: Peça | J9: 850 | L9: =K9-(SUM(N9:Y9)) -> 0 | M9: =IF(L9<0,"ATENÇÃO","OK") -> OK | N9: 0 | O9: 0 | P9: 0 | Q9: 0 | R9: 0 | S9: 0 | T9: 0 | U9: 0 | V9: 0 | W9: 0 | X9: 0 | Y9: 0
C10: 7 | D10: Mini-GBIC multimodo 1Gbps | E10: 449052.35 | G10: Peça | J10: 450 | L10: =K10-(SUM(N10:Y10)) -> 0 | M10: =IF(L10<0,"ATENÇÃO","OK") -> OK | N10: 0 | O10: 0 | P10: 0 | Q10: 0 | R10: 0 | S10: 0 | T10: 0 | U10: 0 | V10: 0 | W10: 0 | X10: 0 | Y10: 0
C11: 8 | D11: Roteador Unidades | E11: 449052.35 | G11: Peça | J11: 3245 | L11: =K11-(SUM(N11:Y11)) -> 0 | M11: =IF(L11<0,"ATENÇÃO","OK") -> OK | N11: 0 | O11: 0 | P11: 0 | Q11: 0 | R11: 0 | S11: 0 | T11: 0 | U11: 0 | V11: 0 | W11: 0 | X11: 0 | Y11: 0
C12: 9 | D12: Roteador Concentrador | E12: 449052.35 | G12: Peça | J12: 44000 | L12: =K12-(SUM(N12:Y12)) -> 0 | M12: =IF(L12<0,"ATENÇÃO","OK") -> OK | N12: 0 | O12: 0 | P12: 0 | Q12: 0 | R12: 0 | S12: 0 | T12: 0 | U12: 0 | V12: 0 | W12: 0 | X12: 0 | Y12: 0
C13: 10 | D13: Firewall | E13: 449052.35 | G13: Peça | J13: 69000 | L13: =K13-(SUM(N13:Y13)) -> 0 | M13: =IF(L13<0,"ATENÇÃO","OK") -> OK | N13: 0 | O13: 0 | P13: 0 | Q13: 0 | R13: 0 | S13: 0 | T13: 0 | U13: 0 | V13: 0 | W13: 0 | X13: 0 | Y13: 0
C14: 11 | D14: Software de Gerenciamento de Rede | E14: 449052.94 | G14: Peça | J14: 152390 | L14: =K14-(SUM(N14:Y14)) -> 0 | M14: =IF(L14<0,"ATENÇÃO","OK") -> OK | N14: 0 | O14: 0 | P14: 0 | Q14: 0 | R14: 0 | S14: 0 | T14: 0 | U14: 0 | V14: 0 | W14: 0 | X14: 0 | Y14: 0
C15: 12 | D15: Ponto de acesso a rede sem fio | E15: 449052.35 | G15: Peça | J15: 2300 | K15: =40+10 -> 50 | L15: =K15-(SUM(N15:Y15)) -> 0 | M15: =IF(L15<0,"ATENÇÃO","OK") -> OK | N15: 40 | O15: 10 | P15: 0 | Q15: 0 | R15: 0 | S15: 0 | T15: 0 | U15: 0 | V15: 0 | W15: 0 | X15: 0 | Y15: 0
C16: 13 | D16: Controladora WLAN | E16: 449052.35 | G16: Peça | J16: 68000 | L16: =K16-(SUM(N16:Y16)) -> 0 | M16: =IF(L16<0,"ATENÇÃO","OK") -> OK | N16: 0 | O16: 0 | P16: 0 | Q16: 0 | R16: 0 | S16: 0 | T16: 0 | U16: 0 | V16: 0 | W16: 0 | X16: 0 | Y16: 0
C17: 14 | D17: Licença Controladora WLAN | E17: 449052.94 | G17: Peça | J17: 10000 | L17: =K17-(SUM(N17:Y17)) -> 0 | M17: =IF(L17<0,"ATENÇÃO","OK") -> OK | N17: 0 | O17: 0 | P17: 0 | Q17: 0 | R17: 0 | S17: 0 | T17: 0 | U17: 0 | V17: 0 | W17: 0 | X17: 0 | Y17: 0
A18: ZOOM Tecnologia LTDA | B18: 5 | C18: 15 | D18: Switch SAN | E18: 449052.35 | G18: Peça | J18: 45000 | L18: =K18-(SUM(N18:Y18)) -> 0 | M18: =IF(L18<0,"ATENÇÃO","OK") -> OK | N18: 0 | O18: 0 | P18: 0 | Q18: 0 | R18: 0 | S18: 0 | T18: 0 | U18: 0 | V18: 0 | W18: 0 | X18: 0 | Y18: 0
B19: 18 | C19: 16 | D19: Placa HBA (material de consumo) | E19: 339030.17 | G19: Peça | J19: 3043.18 | L19: =K19-(SUM(N19:Y19)) -> 0 | M19: =IF(L19<0,"ATENÇÃO","OK") -> OK | N19: 0 | O19: 0 | P19: 0 | Q19: 0 | R19: 0 | S19: 0 | T19: 0 | U19: 0 | V19: 0 | W19: 0 | X19: 0 | Y19: 0
A20: SEPROL Comércio e Consultoria em Informática LTDA | B20: 6 | C20: 17 | D20: ENCLOSURE Expansão STORAGE HP (PN AG638) | E20: 339030.17 | G20: Peça | J20: 8860 | L20: =K20-(SUM(N20:Y20)) -> 0 | M20: =IF(L20<0,"ATENÇÃO","OK") -> OK | N20: 0 | O20: 0 | P20: 0 | Q20: 0 | R20: 0 | S20: 0 | T20: 0 | U20: 0 | V20: 0 | W20: 0 | X20: 0 | Y20: 0
B21: 19 | C21: 18 | D21: Unidades de armazenamento de dados FC de 450GB (PN AG803B) | E21: 339030.17 | G21: Peça | J21: 5140 | L21: =K21-(SUM(N21:Y21)) -> 0 | M21: =IF(L21<0,"ATENÇÃO","OK") -> OK | N21: 0 | O21: 0 | P21: 0 | Q21: 0 | R21: 0 | S21: 0 | T21: 0 | U21: 0 | V21: 0 | W21: 0 | X21: 0 | Y21: 0
C22: 19 | D22: Unidades de Armazenamento de dados FC de 1TB (PN AG691B) | E22: 339030.17 | G22: Peça | J22: 5255 | L22: =K22-(SUM(N22:Y22)) -> 0 | M22: =IF(L22<0,"ATENÇÃO","OK") -> OK | N22: 0 | O22: 0 | P22: 0 | Q22: 0 | R22: 0 | S22: 0 | T22: 0 | U22: 0 | V22: 0 | W22: 0 | X22: 0 | Y22: 0
C23: 20 | D23: Treinamento Storage | E23: 339039.48 | G23: serviço | J23: 9430 | L23: =K23-(SUM(N23:Y23)) -> 0 | M23: =IF(L23<0,"ATENÇÃO","OK") -> OK | N23: 0 | O23: 0 | P23: 0 | Q23: 0 | R23: 0 | S23: 0 | T23: 0 | U23: 0 | V23: 0 | W23: 0 | X23: 0 | Y23: 0
B24: 20 | C24: 21 | D24: Serviços de instalação, configuração e garantia | E24: 339039.25 | G24: serviço | J24: 12650 | L24: =K24-(SUM(N24:Y24)) -> 0 | M24: =IF(L24<0,"ATENÇÃO","OK") -> OK | N24: 0 | O24: 0 | P24: 0 | Q24: 0 | R24: 0 | S24: 0 | T24: 0 | U24: 0 | V24: 0 | W24: 0 | X24: 0 | Y24: 0
A25: ZOOM Tecnologia LTDA | B25: 7 | C25: 22 | D25: Memória 16Gb para upgrade (Huawei PN:06200107) | E25: 339030.17 | G25: Peça | J25: 2422.5 | K25: 2 | L25: =K25-(SUM(N25:Y25)) -> 1 | M25: =IF(L25<0,"ATENÇÃO","OK") -> OK | N25: 0 | O25: 1 | P25: 0 | Q25: 0 | R25: 0 | S25: 0 | T25: 0 | U25: 0 | V25: 0 | W25: 0 | X25: 0 | Y25: 0
B26: 20 | C26: 23 | D26: Processador E5-2620 para upgrade (Huawei PN:41020222) | E26: 339030.17 | G26: Peça | J26: 3445 | K26: 1 | L26: =K26-(SUM(N26:Y26)) -> 0 | M26: =IF(L26<0,"ATENÇÃO","OK") -> OK | N26: 0 | O26: 1 | P26: 0 | Q26: 0 | R26: 0 | S26: 0 | T26: 0 | U26: 0 | V26: 0 | W26: 0 | X26: 0 | Y26: 0
B27: 21 | C27: 24 | D27: Fonte 460W para upgrade (Huawei PN:02131042) | E27: 339030.17 | G27: Peça | J27: 1270 | K27: 1 | L27: =K27-(SUM(N27:Y27)) -> 0 | M27: =IF(L27<0,"ATENÇÃO","OK") -> OK | N27: 0 | O27: 1 | P27: 0 | Q27: 0 | R27: 0 | S27: 0 | T27: 0 | U27: 0 | V27: 0 | W27: 0 | X27: 0 | Y27: 0
A28: SEPROL Comércio e Consultoria em Informática LTDA | B28: 8 | C28: 25 | D28: Pente de Memória 8 Gb (PN 647897-b21) | E28: 339030.17 | G28: Peça | J28: 1300 | L28: =K28-(SUM(N28:Y28)) -> 0 | M28: =IF(L28<0,"ATENÇÃO","OK") -> OK | N28: 0 | O28: 0 | P28: 0 | Q28: 0 | R28: 0 | S28: 0 | T28: 0 | U28: 0 | V28: 0 | W28: 0 | X28: 0 | Y28: 0
B29: 21 | C29: 26 | D29: Pente de Memória 8 Gb (PN 500662-b21) | E29: 339030.17 | G29: Peça | J29: 2200 | L29: =K29-(SUM(N29:Y29)) -> 0 | M29: =IF(L29<0,"ATENÇÃO","OK") -> OK | N29: 0 | O29: 0 | P29: 0 | Q29: 0 | R29: 0 | S29: 0 | T29: 0 | U29: 0 | V29: 0 | W29: 0 | X29: 0 | Y29: 0
A30: SEPROL Comércio e Consultoria em Informática LTDA | B30: 9 | C30: 27 | D30: Fitas LTO4 | E30: 339030.17 | G30: Peça | J30: 220 | L30: =K30-(SUM(N30:Y30)) -> 0 | M30: =IF(L30<0,"ATENÇÃO","OK") -> OK | N30: 0 | O30: 0 | P30: 0 | Q30: 0 | R30: 0 | S30: 0 | T30: 0 | U30: 0 | V30: 0 | W30: 0 | X30: 0 | Y30: 0
A31: Deserto | B31: 10 | C31: 28 | D31: No-Break modelo 1 | E31: 449052.30 | G31: Peça | J31: Deserto | L31: =K31-(SUM(N31:Y31)) -> 0 | M31: =IF(L31<0,"ATENÇÃO","OK") -> OK | N31: 0 | O31: 0 | P31: 0 | Q31: 0 | R31: 0 | S31: 0 | T31: 0 | U31: 0 | V31: 0 | W31: 0 | X31: 0 | Y31: 0
C32: 29 | D32: Módulo de bateria – modelo 1 | E32: 449052.30 | G32: Peça | J32: Deserto | L32: =K32-(SUM(N32:Y32)) -> 0 | M32: =IF(L32<0,"ATENÇÃO","OK") -> OK | N32: 0 | O32: 0 | P32: 0 | Q32: 0 | R32: 0 | S32: 0 | T32: 0 | U32: 0 | V32: 0 | W32: 0 | X32: 0 | Y32: 0
A33: WEG Automação Critical Power LTDA | B33: 11 | C33: 30 | D33: No-Break modelo 2 | E33: 449052.30 | G33: Peça | J33: 7300 | L33: =K33-(SUM(N33:Y33)) -> 0 | M33: =IF(L33<0,"ATENÇÃO","OK") -> OK | N33: 0 | O33: 0 | P33: 0 | Q33: 0 | R33: 0 | S33: 0 | T33: 0 | U33: 0 | V33: 0 | W33: 0 | X33: 0 | Y33: 0
C34: 31 | D34: Módulo de bateria – modelo 2 | E34: 449052.30 | G34: Peça | J34: 1825 | L34: =K34-(SUM(N34:Y34)) -> 0 | M34: =IF(L34<0,"ATENÇÃO","OK") -> OK | N34: 0 | O34: 0 | P34: 0 | Q34: 0 | R34: 0 | S34: 0 | T34: 0 | U34: 0 | V34: 0 | W34: 0 | X34: 0 | Y34: 0
A35: WEG Automação Critical Power LTDA | B35: 12 | C35: 32 | D35: No-Break modelo 3 | E35: 449052.30 | G35: Peça | J35: 5923.52 | K35: 2 | L35: =K35-(SUM(N35:Y35)) -> 0 | M35: =IF(L35<0,"ATENÇÃO","OK") -> OK | N35: 2 | O35: 0 | P35: 0 | Q35: 0 | R35: 0 | S35: 0 | T35: 0 | U35: 0 | V35: 0 | W35: 0 | X35: 0 | Y35: 0
C36: 33 | D36: Módulo de bateria – modelo 3 | E36: 449052.30 | G36: Peça | J36: 1900 | K36: 8 | L36: =K36-(SUM(N36:Y36)) -> 0 | M36: =IF(L36<0,"ATENÇÃO","OK") -> OK | N36: 6 | O36: 0 | P36: 0 | Q36: 0 | R36: 0 | S36: 2 | T36: 0 | U36: 0 | V36: 0 | W36: 0 | X36: 0 | Y36: 0
D38: *Lotes 2 e 3 Infrutíferos
D39: *Lote 10 Deserto
D40: *Marca conforme Proposta Ajustada
D41: *Prazo de Entrega e Pagamento conforme Termo de Referência

Sheet CEO
A1: PROCESSO: 1300/2014/UDESC | D1: OBJETO: Aquisição de equipamentos, materiais e serviços para upgrade da rede de computadores da UDESC | K1: VIGÊNCIA DA ATA: 02/12/2014 até 01/12/2015 | N1: AF/OS nº 328/2015 Qtde. DT | O1: AF/OS nº xxxx/2014 Qtde. DT | P1: AF/OS nº xxxx/2014 Qtde. DT | Q1: AF/OS nº xxxx/2014 Qtde. DT | R1: AF/OS nº xxxx/2014 Qtde. DT | S1: AF/OS nº xxxx/2014 Qtde. DT | T1: AF/OS nº xxxx/2014 Qtde. DT | U1: AF/OS nº xxxx/2014 Qtde. DT | V1: AF/OS nº xxxx/2014 Qtde. DT | W1: AF/OS nº xxxx/2014 Qtde. DT | X1: AF/OS nº xxxx/2014 Qtde. DT | Y1: AF/OS nº xxxx/2014 Qtde. DT
A2: CENTRO PARTICIPANTE: CEO
A3: FORNECEDOR | B3: LOTE | C3: ITEM | D3: Especificação - conforme complementação memorial descritivo | E3: ELEMENTO | F3: MARCA | G3: UNIDADE | H3: Entrega (Dias) | I3: Pagto. (Dias) | J3: Preço UNITÁRIO (R$) | K3: Qtde REGISTRADA | L3: Saldo / Automático | M3: ALERTA | N3: 42122 | O3: ...../...../...... | P3: ...../...../...... | Q3: ...../...../...... | R3: ...../...../...... | S3: ...../...../...... | T3: ...../...../...... | U3: ...../...../...... | V3: ...../...../...... | W3: ...../...../...... | X3: ...../...../...... | Y3: ...../...../......
A4: ZOOM Tecnologia LTDA | B4: 1 | C4: 1 | D4: Mini Storage de Rede (CEAD) | E4: 449052.35 | G4: Peça | J4: 8884 | L4: =K4-(SUM(N4:Y4)) -> 0 | M4: =IF(L4<0,"ATENÇÃO","OK") -> OK | N4: 0 | O4: 0 | P4: 0 | Q4: 0 | R4: 0 | S4: 0 | T4: 0 | U4: 0 | V4: 0 | W4: 0 | X4: 0 | Y4: 0
A5: Infrutífero | B5: 2 | C5: 2 | D5: Wireless com antena direcional | E5: 449052.35 | G5: Peça | J5: Infrutífero | L5: =K5-(SUM(N5:Y5)) -> 0 | M5: =IF(L5<0,"ATENÇÃO","OK") -> OK | N5: 0 | O5: 0 | P5: 0 | Q5: 0 | R5: 0 | S5: 0 | T5: 0 | U5: 0 | V5: 0 | W5: 0 | X5: 0 | Y5: 0
A6: Infrutífero | B6: 3 | C6: 3 | D6: Câmera IP (CEART) | E6: 449052.33 | G6: Peça | J6: Infrutífero | L6: =K6-(SUM(N6:Y6)) -> 0 | M6: =IF(L6<0,"ATENÇÃO","OK") -> OK | N6: 0 | O6: 0 | P6: 0 | Q6: 0 | R6: 0 | S6: 0 | T6: 0 | U6: 0 | V6: 0 | W6: 0 | X6: 0 | Y6: 0
A7: ZOOM Tecnologia LTDA | B7: 4 | C7: 4 | D7: Switch Borda s/PoE 24p (DGOV) | E7: 449052.35 | G7: Peça | J7: 1320 | K7: 8 | L7: =K7-(SUM(N7:Y7)) -> 0 | M7: =IF(L7<0,"ATENÇÃO","OK") -> OK | N7: 8 | O7: 0 | P7: 0 | Q7: 0 | R7: 0 | S7: 0 | T7: 0 | U7: 0 | V7: 0 | W7: 0 | X7: 0 | Y7: 0
C8: 5 | D8: Switch Borda PoE 24p | E8: 449052.35 | G8: Peça | J8: 3250 | K8: 6 | L8: =K8-(SUM(N8:Y8)) -> 0 | M8: =IF(L8<0,"ATENÇÃO","OK") -> OK | N8: 6 | O8: 0 | P8: 0 | Q8: 0 | R8: 0 | S8: 0 | T8: 0 | U8: 0 | V8: 0 | W8: 0 | X8: 0 | Y8: 0
C9: 6 | D9: Mini-GBIC monomodo 1Gbps | E9: 449052.35 | G9: Peça | J9: 850 | K9: 2 | L9: =K9-(SUM(N9:Y9)) -> 0 | M9: =IF(L9<0,"ATENÇÃO","OK") -> OK | N9: 2 | O9: 0 | P9: 0 | Q9: 0 | R9: 0 | S9: 0 | T9: 0 | U9: 0 | V9: 0 | W9: 0 | X9: 0 | Y9: 0
C10: 7 | D10: Mini-GBIC multimodo 1Gbps | E10: 449052.35 | G10: Peça | J10: 450 | K10: 2 | L10: =K10-(SUM(N10:Y10)) -> 0 | M10: =IF(L10<0,"ATENÇÃO","OK") -> OK | N10: 2 | O10: 0 | P10: 0 | Q10: 0 | R10: 0 | S10: 0 | T10: 0 | U10: 0 | V10: 0 | W10: 0 | X10: 0 | Y10: 0
C11: 8 | D11: Roteador Unidades | E11: 449052.35 | G11: Peça | J11: 3245 | K11: 1 | L11: =K11-(SUM(N11:Y11)) -> 0 | M11: =IF(L11<0,"ATENÇÃO","OK") -> OK | N11: 1 | O11: 0 | P11: 0 | Q11: 0 | R11: 0 | S11: 0 | T11: 0 | U11: 0 | V11: 0 | W11: 0 | X11: 0 | Y11: 0
C12: 9 | D12: Roteador Concentrador | E12: 449052.35 | G12: Peça | J12: 44000 | L12: =K12-(SUM(N12:Y12)) -> 0 | M12: =IF(L12<0,"ATENÇÃO","OK") -> OK | N12: 0 | O12: 0 | P12: 0 | Q12: 0 | R12: 0 | S12: 0 | T12: 0 | U12: 0 | V12: 0 | W12: 0 | X12: 0 | Y12: 0
C13: 10 | D13: Firewall | E13: 449052.35 | G13: Peça | J13: 69000 | L13: =K13-(SUM(N13:Y13)) -> 0 | M13: =IF(L13<0,"ATENÇÃO","OK") -> OK | N13: 0 | O13: 0 | P13: 0 | Q13: 0 | R13: 0 | S13: 0 | T13: 0 | U13: 0 | V13: 0 | W13: 0 | X13: 0 | Y13: 0
C14: 11 | D14: Software de Gerenciamento de Rede | E14: 449052.94 | G14: Peça | J14: 152390 | L14: =K14-(SUM(N14:Y14)) -> 0 | M14: =IF(L14<0,"ATENÇÃO","OK") -> OK | N14: 0 | O14: 0 | P14: 0 | Q14: 0 | R14: 0 | S14: 0 | T14: 0 | U14: 0 | V14: 0 | W14: 0 | X14: 0 | Y14: 0
C15: 12 | D15: Ponto de acesso a rede sem fio | E15: 449052.35 | G15: Peça | J15: 2300 | K15: 20 | L15: =K15-(SUM(N15:Y15)) -> 0 | M15: =IF(L15<0,"ATENÇÃO","OK") -> OK | N15: 20 | O15: 0 | P15: 0 | Q15: 0 | R15: 0 | S15: 0 | T15: 0 | U15: 0 | V15: 0 | W15: 0 | X15: 0 | Y15: 0
C16: 13 | D16: Controladora WLAN | E16: 449052.35 | G16: Peça | J16: 68000 | L16: =K16-(SUM(N16:Y16)) -> 0 | M16: =IF(L16<0,"ATENÇÃO","OK") -> OK | N16: 0 | O16: 0 | P16: 0 | Q16: 0 | R16: 0 | S16: 0 | T16: 0 | U16: 0 | V16: 0 | W16: 0 | X16: 0 | Y16: 0
C17: 14 | D17: Licença Controladora WLAN | E17: 449052.94 | G17: Peça | J17: 10000 | L17: =K17-(SUM(N17:Y17)) -> 0 | M17: =IF(L17<0,"ATENÇÃO","OK") -> OK | N17: 0 | O17: 0 | P17: 0 | Q17: 0 | R17: 0 | S17: 0 | T17: 0 | U17: 0 | V17: 0 | W17: 0 | X17: 0 | Y17: 0
A18: ZOOM Tecnologia LTDA | B18: 5 | C18: 15 | D18: Switch SAN | E18: 449052.35 | G18: Peça | J18: 45000 | L18: =K18-(SUM(N18:Y18)) -> 0 | M18: =IF(L18<0,"ATENÇÃO","OK") -> OK | N18: 0 | O18: 0 | P18: 0 | Q18: 0 | R18: 0 | S18: 0 | T18: 0 | U18: 0 | V18: 0 | W18: 0 | X18: 0 | Y18: 0
B19: 18 | C19: 16 | D19: Placa HBA (material de consumo) | E19: 339030.17 | G19: Peça | J19: 3043.18 | L19: =K19-(SUM(N19:Y19)) -> 0 | M19: =IF(L19<0,"ATENÇÃO","OK") -> OK | N19: 0 | O19: 0 | P19: 0 | Q19: 0 | R19: 0 | S19: 0 | T19: 0 | U19: 0 | V19: 0 | W19: 0 | X19: 0 | Y19: 0
A20: SEPROL Comércio e Consultoria em Informática LTDA | B20: 6 | C20: 17 | D20: ENCLOSURE Expansão STORAGE HP (PN AG638) | E20: 339030.17 | G20: Peça | J20: 8860 | L20: =K20-(SUM(N20:Y20)) -> 0 | M20: =IF(L20<0,"ATENÇÃO","OK") -> OK | N20: 0 | O20: 0 | P20: 0 | Q20: 0 | R20: 0 | S20: 0 | T20: 0 | U20: 0 | V20: 0 | W20: 0 | X20: 0 | Y20: 0
B21: 19 | C21: 18 | D21: Unidades de armazenamento de dados FC de 450GB (PN AG803B) | E21: 339030.17 | G21: Peça | J21: 5140 | L21: =K21-(SUM(N21:Y21)) -> 0 | M21: =IF(L21<0,"ATENÇÃO","OK") -> OK | N21: 0 | O21: 0 | P21: 0 | Q21: 0 | R21: 0 | S21: 0 | T21: 0 | U21: 0 | V21: 0 | W21: 0 | X21: 0 | Y21: 0
C22: 19 | D22: Unidades de Armazenamento de dados FC de 1TB (PN AG691B) | E22: 339030.17 | G22: Peça | J22: 5255 | L22: =K22-(SUM(N22:Y22)) -> 0 | M22: =IF(L22<0,"ATENÇÃO","OK") -> OK | N22: 0 | O22: 0 | P22: 0 | Q22: 0 | R22: 0 | S22: 0 | T22: 0 | U22: 0 | V22: 0 | W22: 0 | X22: 0 | Y22: 0
C23: 20 | D23: Treinamento Storage | E23: 339039.48 | G23: serviço | J23: 9430 | L23: =K23-(SUM(N23:Y23)) -> 0 | M23: =IF(L23<0,"ATENÇÃO","OK") -> OK | N23: 0 | O23: 0 | P23: 0 | Q23: 0 | R23: 0 | S23: 0 | T23: 0 | U23: 0 | V23: 0 | W23: 0 | X23: 0 | Y23: 0
B24: 20 | C24: 21 | D24: Serviços de instalação, configuração e garantia | E24: 339039.25 | G24: serviço | J24: 12650 | L24: =K24-(SUM(N24:Y24)) -> 0 | M24: =IF(L24<0,"ATENÇÃO","OK") -> OK | N24: 0 | O24: 0 | P24: 0 | Q24: 0 | R24: 0 | S24: 0 | T24: 0 | U24: 0 | V24: 0 | W24: 0 | X24: 0 | Y24: 0
A25: ZOOM Tecnologia LTDA | B25: 7 | C25: 22 | D25: Memória 16Gb para upgrade (Huawei PN:06200107) | E25: 339030.17 | G25: Peça | J25: 2422.5 | L25: =K25-(SUM(N25:Y25)) -> 0 | M25: =IF(L25<0,"ATENÇÃO","OK") -> OK | N25: 0 | O25: 0 | P25: 0 | Q25: 0 | R25: 0 | S25: 0 | T25: 0 | U25: 0 | V25: 0 | W25: 0 | X25: 0 | Y25: 0
B26: 20 | C26: 23 | D26: Processador E5-2620 para upgrade (Huawei PN:41020222) | E26: 339030.17 | G26: Peça | J26: 3445 | L26: =K26-(SUM(N26:Y26)) -> 0 | M26: =IF(L26<0,"ATENÇÃO","OK") -> OK | N26: 0 | O26: 0 | P26: 0 | Q26: 0 | R26: 0 | S26: 0 | T26: 0 | U26: 0 | V26: 0 | W26: 0 | X26: 0 | Y26: 0
B27: 21 | C27: 24 | D27: Fonte 460W para upgrade (Huawei PN:02131042) | E27: 339030.17 | G27: Peça | J27: 1270 | L27: =K27-(SUM(N27:Y27)) -> 0 | M27: =IF(L27<0,"ATENÇÃO","OK") -> OK | N27: 0 | O27: 0 | P27: 0 | Q27: 0 | R27: 0 | S27: 0 | T27: 0 | U27: 0 | V27: 0 | W27: 0 | X27: 0 | Y27: 0
A28: SEPROL Comércio e Consultoria em Informática LTDA | B28: 8 | C28: 25 | D28: Pente de Memória 8 Gb (PN 647897-b21) | E28: 339030.17 | G28: Peça | J28: 1300 | L28: =K28-(SUM(N28:Y28)) -> 0 | M28: =IF(L28<0,"ATENÇÃO","OK") -> OK | N28: 0 | O28: 0 | P28: 0 | Q28: 0 | R28: 0 | S28: 0 | T28: 0 | U28: 0 | V28: 0 | W28: 0 | X28: 0 | Y28: 0
B29: 21 | C29: 26 | D29: Pente de Memória 8 Gb (PN 500662-b21) | E29: 339030.17 | G29: Peça | J29: 2200 | L29: =K29-(SUM(N29:Y29)) -> 0 | M29: =IF(L29<0,"ATENÇÃO","OK") -> OK | N29: 0 | O29: 0 | P29: 0 | Q29: 0 | R29: 0 | S29: 0 | T29: 0 | U29: 0 | V29: 0 | W29: 0 | X29: 0 | Y29: 0
A30: SEPROL Comércio e Consultoria em Informática LTDA | B30: 9 | C30: 27 | D30: Fitas LTO4 | E30: 339030.17 | G30: Peça | J30: 220 | L30: =K30-(SUM(N30:Y30)) -> 0 | M30: =IF(L30<0,"ATENÇÃO","OK") -> OK | N30: 0 | O30: 0 | P30: 0 | Q30: 0 | R30: 0 | S30: 0 | T30: 0 | U30: 0 | V30: 0 | W30: 0 | X30: 0 | Y30: 0
A31: Deserto | B31: 10 | C31: 28 | D31: No-Break modelo 1 | E31: 449052.30 | G31: Peça | J31: Deserto | L31: =K31-(SUM(N31:Y31)) -> 0 | M31: =IF(L31<0,"ATENÇÃO","OK") -> OK | N31: 0 | O31: 0 | P31: 0 | Q31: 0 | R31: 0 | S31: 0 | T31: 0 | U31: 0 | V31: 0 | W31: 0 | X31: 0 | Y31: 0
C32: 29 | D32: Módulo de bateria – modelo 1 | E32: 449052.30 | G32: Peça | J32: Deserto | L32: =K32-(SUM(N32:Y32)) -> 0 | M32: =IF(L32<0,"ATENÇÃO","OK") -> OK | N32: 0 | O32: 0 | P32: 0 | Q32: 0 | R32: 0 | S32: 0 | T32: 0 | U32: 0 | V32: 0 | W32: 0 | X32: 0 | Y32: 0
A33: WEG Automação Critical Power LTDA | B33: 11 | C33: 30 | D33: No-Break modelo 2 | E33: 449052.30 | G33: Peça | J33: 7300 | L33: =K33-(SUM(N33:Y33)) -> 0 | M33: =IF(L33<0,"ATENÇÃO","OK") -> OK | N33: 0 | O33: 0 | P33: 0 | Q33: 0 | R33: 0 | S33: 0 | T33: 0 | U33: 0 | V33: 0 | W33: 0 | X33: 0 | Y33: 0
C34: 31 | D34: Módulo de bateria – modelo 2 | E34: 449052.30 | G34: Peça | J34: 1825 | L34: =K34-(SUM(N34:Y34)) -> 0 | M34: =IF(L34<0,"ATENÇÃO","OK") -> OK | N34: 0 | O34: 0 | P34: 0 | Q34: 0 | R34: 0 | S34: 0 | T34: 0 | U34: 0 | V34: 0 | W34: 0 | X34: 0 | Y34: 0
A35: WEG Automação Critical Power LTDA | B35: 12 | C35: 32 | D35: No-Break modelo 3 | E35: 449052.30 | G35: Peça | J35: 5923.52 | L35: =K35-(SUM(N35:Y35)) -> 0 | M35: =IF(L35<0,"ATENÇÃO","OK") -> OK | N35: 0 | O35: 0 | P35: 0 | Q35: 0 | R35: 0 | S35: 0 | T35: 0 | U35: 0 | V35: 0 | W35: 0 | X35: 0 | Y35: 0
C36: 33 | D36: Módulo de bateria – modelo 3 | E36: 449052.30 | G36: Peça | J36: 1900 | L36: =K36-(SUM(N36:Y36)) -> 0 | M36: =IF(L36<0,"ATENÇÃO","OK") -> OK | N36: 0 | O36: 0 | P36: 0 | Q36: 0 | R36: 0 | S36: 0 | T36: 0 | U36: 0 | V36: 0 | W36: 0 | X36: 0 | Y36: 0
D38: *Lotes 2 e 3 Infrutíferos
D39: *Lote 10 Deserto
D40: *Marca conforme Proposta Ajustada
D41: *Prazo de Entrega e Pagamento conforme Termo de Referência

Sheet CESFI
A1: PROCESSO: 1300/2014/UDESC | D1: OBJETO: Aquisição de equipamentos, materiais e serviços para upgrade da rede de computadores da UDESC | K1: VIGÊNCIA DA ATA: 02/12/2014 até 01/12/2015 | N1: AF/OS nº 109/2015 Qtde. DT | O1: AF/OS nº 184/2015 Qtde. DT | P1: AF/OS nº xxxx/2014 Qtde. DT | Q1: AF/OS nº xxxx/2014 Qtde. DT | R1: AF/OS nº xxxx/2014 Qtde. DT | S1: AF/OS nº xxxx/2014 Qtde. DT | T1: AF/OS nº xxxx/2014 Qtde. DT | U1: AF/OS nº xxxx/2014 Qtde. DT | V1: AF/OS nº xxxx/2014 Qtde. DT | W1: AF/OS nº xxxx/2014 Qtde. DT | X1: AF/OS nº xxxx/2014 Qtde. DT | Y1: AF/OS nº xxxx/2014 Qtde. DT
A2: CENTRO PARTICIPANTE: CESFI
A3: FORNECEDOR | B3: LOTE | C3: ITEM | D3: Especificação - conforme complementação memorial descritivo | E3: ELEMENTO | F3: MARCA | G3: UNIDADE | H3: Entrega (Dias) | I3: Pagto. (Dias) | J3: Preço UNITÁRIO (R$) | K3: Qtde REGISTRADA | L3: Saldo / Automático | M3: ALERTA | N3: 42046 | O3: 42060 | P3: ...../...../...... | Q3: ...../...../...... | R3: ...../...../...... | S3: ...../...../...... | T3: ...../...../...... | U3: ...../...../...... | V3: ...../...../...... | W3: ...../...../...... | X3: ...../...../...... | Y3: ...../...../......
A4: ZOOM Tecnologia LTDA | B4: 1 | C4: 1 | D4: Mini Storage de Rede (CEAD) | E4: 449052.35 | G4: Peça | J4: 8884 | L4: =K4-(SUM(N4:Y4)) -> 0 | M4: =IF(L4<0,"ATENÇÃO","OK") -> OK | N4: 0 | O4: 0 | P4: 0 | Q4: 0 | R4: 0 | S4: 0 | T4: 0 | U4: 0 | V4: 0 | W4: 0 | X4: 0 | Y4: 0
A5: Infrutífero | B5: 2 | C5: 2 | D5: Wireless com antena direcional | E5: 449052.35 | G5: Peça | J5: Infrutífero | L5: =K5-(SUM(N5:Y5)) -> 0 | M5: =IF(L5<0,"ATENÇÃO","OK") -> OK | N5: 0 | O5: 0 | P5: 0 | Q5: 0 | R5: 0 | S5: 0 | T5: 0 | U5: 0 | V5: 0 | W5: 0 | X5: 0 | Y5: 0
A6: Infrutífero | B6: 3 | C6: 3 | D6: Câmera IP (CEART) | E6: 449052.33 | G6: Peça | J6: Infrutífero | L6: =K6-(SUM(N6:Y6)) -> 0 | M6: =IF(L6<0,"ATENÇÃO","OK") -> OK | N6: 0 | O6: 0 | P6: 0 | Q6: 0 | R6: 0 | S6: 0 | T6: 0 | U6: 0 | V6: 0 | W6: 0 | X6: 0 | Y6: 0
A7: ZOOM Tecnologia LTDA | B7: 4 | C7: 4 | D7: Switch Borda s/PoE 24p (DGOV) | E7: 449052.35 | G7: Peça | J7: 1320 | L7: =K7-(SUM(N7:Y7)) -> 0 | M7: =IF(L7<0,"ATENÇÃO","OK") -> OK | N7: 0 | O7: 0 | P7: 0 | Q7: 0 | R7: 0 | S7: 0 | T7: 0 | U7: 0 | V7: 0 | W7: 0 | X7: 0 | Y7: 0
C8: 5 | D8: Switch Borda PoE 24p | E8: 449052.35 | G8: Peça | J8: 3250 | K8: 6 | L8: =K8-(SUM(N8:Y8)) -> 0 | M8: =IF(L8<0,"ATENÇÃO","OK") -> OK | N8: 6 | O8: 0 | P8: 0 | Q8: 0 | R8: 0 | S8: 0 | T8: 0 | U8: 0 | V8: 0 | W8: 0 | X8: 0 | Y8: 0
C9: 6 | D9: Mini-GBIC monomodo 1Gbps | E9: 449052.35 | G9: Peça | J9: 850 | L9: =K9-(SUM(N9:Y9)) -> 0 | M9: =IF(L9<0,"ATENÇÃO","OK") -> OK | N9: 0 | O9: 0 | P9: 0 | Q9: 0 | R9: 0 | S9: 0 | T9: 0 | U9: 0 | V9: 0 | W9: 0 | X9: 0 | Y9: 0
C10: 7 | D10: Mini-GBIC multimodo 1Gbps | E10: 449052.35 | G10: Peça | J10: 450 | L10: =K10-(SUM(N10:Y10)) -> 0 | M10: =IF(L10<0,"ATENÇÃO","OK") -> OK | N10: 0 | O10: 0 | P10: 0 | Q10: 0 | R10: 0 | S10: 0 | T10: 0 | U10: 0 | V10: 0 | W10: 0 | X10: 0 | Y10: 0
C11: 8 | D11: Roteador Unidades | E11: 449052.35 | G11: Peça | J11: 3245 | K11: 1 | L11: =K11-(SUM(N11:Y11)) -> 0 | M11: =IF(L11<0,"ATENÇÃO","OK") -> OK | N11: 1 | O11: 0 | P11: 0 | Q11: 0 | R11: 0 | S11: 0 | T11: 0 | U11: 0 | V11: 0 | W11: 0 | X11: 0 | Y11: 0
C12: 9 | D12: Roteador Concentrador | E12: 449052.35 | G12: Peça | J12: 44000 | L12: =K12-(SUM(N12:Y12)) -> 0 | M12: =IF(L12<0,"ATENÇÃO","OK") -> OK | N12: 0 | O12: 0 | P12: 0 | Q12: 0 | R12: 0 | S12: 0 | T12: 0 | U12: 0 | V12: 0 | W12: 0 | X12: 0 | Y12: 0
C13: 10 | D13: Firewall | E13: 449052.35 | G13: Peça | J13: 69000 | L13: =K13-(SUM(N13:Y13)) -> 0 | M13: =IF(L13<0,"ATENÇÃO","OK") -> OK | N13: 0 | O13: 0 | P13: 0 | Q13: 0 | R13: 0 | S13: 0 | T13: 0 | U13: 0 | V13: 0 | W13: 0 | X13: 0 | Y13: 0
C14: 11 | D14: Software de Gerenciamento de Rede | E14: 449052.94 | G14: Peça | J14: 152390 | L14: =K14-(SUM(N14:Y14)) -> 0 | M14: =IF(L14<0,"ATENÇÃO","OK") -> OK | N14: 0 | O14: 0 | P14: 0 | Q14: 0 | R14: 0 | S14: 0 | T14: 0 | U14: 0 | V14: 0 | W14: 0 | X14: 0 | Y14: 0
C15: 12 | D15: Ponto de acesso a rede sem fio | E15: 449052.35 | G15: Peça | J15: 2300 | K15: 15 | L15: =K15-(SUM(N15:Y15)) -> 4 | M15: =IF(L15<0,"ATENÇÃO","OK") -> OK | N15: 11 | O15: 0 | P15: 0 | Q15: 0 | R15: 0 | S15: 0 | T15: 0 | U15: 0 | V15: 0 | W15: 0 | X15: 0 | Y15: 0
C16: 13 | D16: Controladora WLAN | E16: 449052.35 | G16: Peça | J16: 68000 | L16: =K16-(SUM(N16:Y16)) -> 0 | M16: =IF(L16<0,"ATENÇÃO","OK") -> OK | N16: 0 | O16: 0 | P16: 0 | Q16: 0 | R16: 0 | S16: 0 | T16: 0 | U16: 0 | V16: 0 | W16: 0 | X16: 0 | Y16: 0
C17: 14 | D17: Licença Controladora WLAN | E17: 449052.94 | G17: Peça | J17: 10000 | L17: =K17-(SUM(N17:Y17)) -> 0 | M17: =IF(L17<0,"ATENÇÃO","OK") -> OK | N17: 0 | O17: 0 | P17: 0 | Q17: 0 | R17: 0 | S17: 0 | T17: 0 | U17: 0 | V17: 0 | W17: 0 | X17: 0 | Y17: 0
A18: ZOOM Tecnologia LTDA | B18: 5 | C18: 15 | D18: Switch SAN | E18: 449052.35 | G18: Peça | J18: 45000 | L18: =K18-(SUM(N18:Y18)) -> 0 | M18: =IF(L18<0,"ATENÇÃO","OK") -> OK | N18: 0 | O18: 0 | P18: 0 | Q18: 0 | R18: 0 | S18: 0 | T18: 0 | U18: 0 | V18: 0 | W18: 0 | X18: 0 | Y18: 0
B19: 18 | C19: 16 | D19: Placa HBA (material de consumo) | E19: 339030.17 | G19: Peça | J19: 3043.18 | L19: =K19-(SUM(N19:Y19)) -> 0 | M19: =IF(L19<0,"ATENÇÃO","OK") -> OK | N19: 0 | O19: 0 | P19: 0 | Q19: 0 | R19: 0 | S19: 0 | T19: 0 | U19: 0 | V19: 0 | W19: 0 | X19: 0 | Y19: 0
A20: SEPROL Comércio e Consultoria em Informática LTDA | B20: 6 | C20: 17 | D20: ENCLOSURE Expansão STORAGE HP (PN AG638) | E20: 339030.17 | G20: Peça | J20: 8860 | L20: =K20-(SUM(N20:Y20)) -> 0 | M20: =IF(L20<0,"ATENÇÃO","OK") -> OK | N20: 0 | O20: 0 | P20: 0 | Q20: 0 | R20: 0 | S20: 0 | T20: 0 | U20: 0 | V20: 0 | W20: 0 | X20: 0 | Y20: 0
B21: 19 | C21: 18 | D21: Unidades de armazenamento de dados FC de 450GB (PN AG803B) | E21: 339030.17 | G21: Peça | J21: 5140 | L21: =K21-(SUM(N21:Y21)) -> 0 | M21: =IF(L21<0,"ATENÇÃO","OK") -> OK | N21: 0 | O21: 0 | P21: 0 | Q21: 0 | R21: 0 | S21: 0 | T21: 0 | U21: 0 | V21: 0 | W21: 0 | X21: 0 | Y21: 0
C22: 19 | D22: Unidades de Armazenamento de dados FC de 1TB (PN AG691B) | E22: 339030.17 | G22: Peça | J22: 5255 | L22: =K22-(SUM(N22:Y22)) -> 0 | M22: =IF(L22<0,"ATENÇÃO","OK") -> OK | N22: 0 | O22: 0 | P22: 0 | Q22: 0 | R22: 0 | S22: 0 | T22: 0 | U22: 0 | V22: 0 | W22: 0 | X22: 0 | Y22: 0
C23: 20 | D23: Treinamento Storage | E23: 339039.48 | G23: serviço | J23: 9430 | L23: =K23-(SUM(N23:Y23)) -> 0 | M23: =IF(L23<0,"ATENÇÃO","OK") -> OK | N23: 0 | O23: 0 | P23: 0 | Q23: 0 | R23: 0 | S23: 0 | T23: 0 | U23: 0 | V23: 0 | W23: 0 | X23: 0 | Y23: 0
B24: 20 | C24: 21 | D24: Serviços de instalação, configuração e garantia | E24: 339039.25 | G24: serviço | J24: 12650 | L24: =K24-(SUM(N24:Y24)) -> 0 | M24: =IF(L24<0,"ATENÇÃO","OK") -> OK | N24: 0 | O24: 0 | P24: 0 | Q24: 0 | R24: 0 | S24: 0 | T24: 0 | U24: 0 | V24: 0 | W24: 0 | X24: 0 | Y24: 0
A25: ZOOM Tecnologia LTDA | B25: 7 | C25: 22 | D25: Memória 16Gb para upgrade (Huawei PN:06200107) | E25: 339030.17 | G25: Peça | J25: 2422.5 | L25: =K25-(SUM(N25:Y25)) -> 0 | M25: =IF(L25<0,"ATENÇÃO","OK") -> OK | N25: 0 | O25: 0 | P25: 0 | Q25: 0 | R25: 0 | S25: 0 | T25: 0 | U25: 0 | V25: 0 | W25: 0 | X25: 0 | Y25: 0
B26: 20 | C26: 23 | D26: Processador E5-2620 para upgrade (Huawei PN:41020222) | E26: 339030.17 | G26: Peça | J26: 3445 | L26: =K26-(SUM(N26:Y26)) -> 0 | M26: =IF(L26<0,"ATENÇÃO","OK") -> OK | N26: 0 | O26: 0 | P26: 0 | Q26: 0 | R26: 0 | S26: 0 | T26: 0 | U26: 0 | V26: 0 | W26: 0 | X26: 0 | Y26: 0
B27: 21 | C27: 24 | D27: Fonte 460W para upgrade (Huawei PN:02131042) | E27: 339030.17 | G27: Peça | J27: 1270 | L27: =K27-(SUM(N27:Y27)) -> 0 | M27: =IF(L27<0,"ATENÇÃO","OK") -> OK | N27: 0 | O27: 0 | P27: 0 | Q27: 0 | R27: 0 | S27: 0 | T27: 0 | U27: 0 | V27: 0 | W27: 0 | X27: 0 | Y27: 0
A28: SEPROL Comércio e Consultoria em Informática LTDA | B28: 8 | C28: 25 | D28: Pente de Memória 8 Gb (PN 647897-b21) | E28: 339030.17 | G28: Peça | J28: 1300 | L28: =K28-(SUM(N28:Y28)) -> 0 | M28: =IF(L28<0,"ATENÇÃO","OK") -> OK | N28: 0 | O28: 0 | P28: 0 | Q28: 0 | R28: 0 | S28: 0 | T28: 0 | U28: 0 | V28: 0 | W28: 0 | X28: 0 | Y28: 0
B29: 21 | C29: 26 | D29: Pente de Memória 8 Gb (PN 500662-b21) | E29: 339030.17 | G29: Peça | J29: 2200 | L29: =K29-(SUM(N29:Y29)) -> 0 | M29: =IF(L29<0,"ATENÇÃO","OK") -> OK | N29: 0 | O29: 0 | P29: 0 | Q29: 0 | R29: 0 | S29: 0 | T29: 0 | U29: 0 | V29: 0 | W29: 0 | X29: 0 | Y29: 0
A30: SEPROL Comércio e Consultoria em Informática LTDA | B30: 9 | C30: 27 | D30: Fitas LTO4 | E30: 339030.17 | G30: Peça | J30: 220 | L30: =K30-(SUM(N30:Y30)) -> 0 | M30: =IF(L30<0,"ATENÇÃO","OK") -> OK | N30: 0 | O30: 0 | P30: 0 | Q30: 0 | R30: 0 | S30: 0 | T30: 0 | U30: 0 | V30: 0 | W30: 0 | X30: 0 | Y30: 0
A31: Deserto | B31: 10 | C31: 28 | D31: No-Break modelo 1 | E31: 449052.30 | G31: Peça | J31: Deserto | L31: =K31-(SUM(N31:Y31)) -> 0 | M31: =IF(L31<0,"ATENÇÃO","OK") -> OK | N31: 0 | O31: 0 | P31: 0 | Q31: 0 | R31: 0 | S31: 0 | T31: 0 | U31: 0 | V31: 0 | W31: 0 | X31: 0 | Y31: 0
C32: 29 | D32: Módulo de bateria – modelo 1 | E32: 449052.30 | G32: Peça | J32: Deserto | L32: =K32-(SUM(N32:Y32)) -> 0 | M32: =IF(L32<0,"ATENÇÃO","OK") -> OK | N32: 0 | O32: 0 | P32: 0 | Q32: 0 | R32: 0 | S32: 0 | T32: 0 | U32: 0 | V32: 0 | W32: 0 | X32: 0 | Y32: 0
A33: WEG Automação Critical Power LTDA | B33: 11 | C33: 30 | D33: No-Break modelo 2 | E33: 449052.30 | G33: Peça | J33: 7300 | L33: =K33-(SUM(N33:Y33)) -> 0 | M33: =IF(L33<0,"ATENÇÃO","OK") -> OK | N33: 0 | O33: 0 | P33: 0 | Q33: 0 | R33: 0 | S33: 0 | T33: 0 | U33: 0 | V33: 0 | W33: 0 | X33: 0 | Y33: 0
C34: 31 | D34: Módulo de bateria – modelo 2 | E34: 449052.30 | G34: Peça | J34: 1825 | L34: =K34-(SUM(N34:Y34)) -> 0 | M34: =IF(L34<0,"ATENÇÃO","OK") -> OK | N34: 0 | O34: 0 | P34: 0 | Q34: 0 | R34: 0 | S34: 0 | T34: 0 | U34: 0 | V34: 0 | W34: 0 | X34: 0 | Y34: 0
A35: WEG Automação Critical Power LTDA | B35: 12 | C35: 32 | D35: No-Break modelo 3 | E35: 449052.30 | G35: Peça | J35: 5923.52 | K35: =1 -> 1 | L35: =K35-(SUM(N35:Y35)) -> 0 | M35: =IF(L35<0,"ATENÇÃO","OK") -> OK | N35: 0 | O35: 1 | P35: 0 | Q35: 0 | R35: 0 | S35: 0 | T35: 0 | U35: 0 | V35: 0 | W35: 0 | X35: 0 | Y35: 0
C36: 33 | D36: Módulo de bateria – modelo 3 | E36: 449052.30 | G36: Peça | J36: 1900 | K36: =1 -> 1 | L36: =K36-(SUM(N36:Y36)) -> 0 | M36: =IF(L36<0,"ATENÇÃO","OK") -> OK | N36: 0 | O36: 1 | P36: 0 | Q36: 0 | R36: 0 | S36: 0 | T36: 0 | U36: 0 | V36: 0 | W36: 0 | X36: 0 | Y36: 0
D38: *Lotes 2 e 3 Infrutíferos
D39: *Lote 10 Deserto
D40: *Marca conforme Proposta Ajustada
D41: *Prazo de Entrega e Pagamento conforme Termo de Referência

Sheet CEAVI
A1: PROCESSO: 1300/2014/UDESC | D1: OBJETO: Aquisição de equipamentos, materiais e serviços para upgrade da rede de computadores da UDESC | K1: VIGÊNCIA DA ATA: 02/12/2014 até 01/12/2015 | N1: AF/OS nº 208/2015 Qtde. DT | O1: AF/OS nº xxxx/2014 Qtde. DT | P1: AF/OS nº xxxx/2014 Qtde. DT | Q1: AF/OS nº xxxx/2014 Qtde. DT | R1: AF/OS nº xxxx/2014 Qtde. DT | S1: AF/OS nº xxxx/2014 Qtde. DT | T1: AF/OS nº xxxx/2014 Qtde. DT | U1: AF/OS nº xxxx/2014 Qtde. DT | V1: AF/OS nº xxxx/2014 Qtde. DT | W1: AF/OS nº xxxx/2014 Qtde. DT | X1: AF/OS nº xxxx/2014 Qtde. DT | Y1: AF/OS nº xxxx/2014 Qtde. DT
A2: CENTRO PARTICIPANTE: CEAVI
A3: FORNECEDOR | B3: LOTE | C3: ITEM | D3: Especificação - conforme complementação memorial descritivo | E3: ELEMENTO | F3: MARCA | G3: UNIDADE | H3: Entrega (Dias) | I3: Pagto. (Dias) | J3: Preço UNITÁRIO (R$) | K3: Qtde REGISTRADA | L3: Saldo / Automático | M3: ALERTA | N3: 42101 | O3: ...../...../...... | P3: ...../...../...... | Q3: ...../...../...... | R3: ...../...../...... | S3: ...../...../...... | T3: ...../...../...... | U3: ...../...../...... | V3: ...../...../...... | W3: ...../...../...... | X3: ...../...../...... | Y3: ...../...../......
A4: ZOOM Tecnologia LTDA | B4: 1 | C4: 1 | D4: Mini Storage de Rede (CEAD) | E4: 449052.35 | G4: Peça | J4: 8884 | L4: =K4-(SUM(N4:Y4)) -> 0 | M4: =IF(L4<0,"ATENÇÃO","OK") -> OK | N4: 0 | O4: 0 | P4: 0 | Q4: 0 | R4: 0 | S4: 0 | T4: 0 | U4: 0 | V4: 0 | W4: 0 | X4: 0 | Y4: 0
A5: Infrutífero | B5: 2 | C5: 2 | D5: Wireless com antena direcional | E5: 449052.35 | G5: Peça | J5: Infrutífero | L5: =K5-(SUM(N5:Y5)) -> 0 | M5: =IF(L5<0,"ATENÇÃO","OK") -> OK | N5: 0 | O5: 0 | P5: 0 | Q5: 0 | R5: 0 | S5: 0 | T5: 0 | U5: 0 | V5: 0 | W5: 0 | X5: 0 | Y5: 0
A6: Infrutífero | B6: 3 | C6: 3 | D6: Câmera IP (CEART) | E6: 449052.33 | G6: Peça | J6: Infrutífero | L6: =K6-(SUM(N6:Y6)) -> 0 | M6: =IF(L6<0,"ATENÇÃO","OK") -> OK | N6: 0 | O6: 0 | P6: 0 | Q6: 0 | R6: 0 | S6: 0 | T6: 0 | U6: 0 | V6: 0 | W6: 0 | X6: 0 | Y6: 0
A7: ZOOM Tecnologia LTDA | B7: 4 | C7: 4 | D7: Switch Borda s/PoE 24p (DGOV) | E7: 449052.35 | G7: Peça | J7: 1320 | K7: 10 | L7: =K7-(SUM(N7:Y7)) -> 0 | M7: =IF(L7<0,"ATENÇÃO","OK") -> OK | N7: 10 | O7: 0 | P7: 0 | Q7: 0 | R7: 0 | S7: 0 | T7: 0 | U7: 0 | V7: 0 | W7: 0 | X7: 0 | Y7: 0
C8: 5 | D8: Switch Borda PoE 24p | E8: 449052.35 | G8: Peça | J8: 3250 | K8: 5 | L8: =K8-(SUM(N8:Y8)) -> 0 | M8: =IF(L8<0,"ATENÇÃO","OK") -> OK | N8: 5 | O8: 0 | P8: 0 | Q8: 0 | R8: 0 | S8: 0 | T8: 0 | U8: 0 | V8: 0 | W8: 0 | X8: 0 | Y8: 0
C9: 6 | D9: Mini-GBIC monomodo 1Gbps | E9: 449052.35 | G9: Peça | J9: 850 | L9: =K9-(SUM(N9:Y9)) -> 0 | M9: =IF(L9<0,"ATENÇÃO","OK") -> OK | N9: 0 | O9: 0 | P9: 0 | Q9: 0 | R9: 0 | S9: 0 | T9: 0 | U9: 0 | V9: 0 | W9: 0 | X9: 0 | Y9: 0
C10: 7 | D10: Mini-GBIC multimodo 1Gbps | E10: 449052.35 | G10: Peça | J10: 450 | L10: =K10-(SUM(N10:Y10)) -> 0 | M10: =IF(L10<0,"ATENÇÃO","OK") -> OK | N10: 0 | O10: 0 | P10: 0 | Q10: 0 | R10: 0 | S10: 0 | T10: 0 | U10: 0 | V10: 0 | W10: 0 | X10: 0 | Y10: 0
C11: 8 | D11: Roteador Unidades | E11: 449052.35 | G11: Peça | J11: 3245 | L11: =K11-(SUM(N11:Y11)) -> 0 | M11: =IF(L11<0,"ATENÇÃO","OK") -> OK | N11: 0 | O11: 0 | P11: 0 | Q11: 0 | R11: 0 | S11: 0 | T11: 0 | U11: 0 | V11: 0 | W11: 0 | X11: 0 | Y11: 0
C12: 9 | D12: Roteador Concentrador | E12: 449052.35 | G12: Peça | J12: 44000 | L12: =K12-(SUM(N12:Y12)) -> 0 | M12: =IF(L12<0,"ATENÇÃO","OK") -> OK | N12: 0 | O12: 0 | P12: 0 | Q12: 0 | R12: 0 | S12: 0 | T12: 0 | U12: 0 | V12: 0 | W12: 0 | X12: 0 | Y12: 0
C13: 10 | D13: Firewall | E13: 449052.35 | G13: Peça | J13: 69000 | L13: =K13-(SUM(N13:Y13)) -> 0 | M13: =IF(L13<0,"ATENÇÃO","OK") -> OK | N13: 0 | O13: 0 | P13: 0 | Q13: 0 | R13: 0 | S13: 0 | T13: 0 | U13: 0 | V13: 0 | W13: 0 | X13: 0 | Y13: 0
C14: 11 | D14: Software de Gerenciamento de Rede | E14: 449052.94 | G14: Peça | J14: 152390 | L14: =K14-(SUM(N14:Y14)) -> 0 | M14: =IF(L14<0,"ATENÇÃO","OK") -> OK | N14: 0 | O14: 0 | P14: 0 | Q14: 0 | R14: 0 | S14: 0 | T14: 0 | U14: 0 | V14: 0 | W14: 0 | X14: 0 | Y14: 0
C15: 12 | D15: Ponto de acesso a rede sem fio | E15: 449052.35 | G15: Peça | J15: 2300 | K15: 15 | L15: =K15-(SUM(N15:Y15)) -> 0 | M15: =IF(L15<0,"ATENÇÃO","OK") -> OK | N15: 15 | O15: 0 | P15: 0 | Q15: 0 | R15: 0 | S15: 0 | T15: 0 | U15: 0 | V15: 0 | W15: 0 | X15: 0 | Y15: 0
C16: 13 | D16: Controladora WLAN | E16: 449052.35 | G16: Peça | J16: 68000 | L16: =K16-(SUM(N16:Y16)) -> 0 | M16: =IF(L16<0,"ATENÇÃO","OK") -> OK | N16: 0 | O16: 0 | P16: 0 | Q16: 0 | R16: 0 | S16: 0 | T16: 0 | U16: 0 | V16: 0 | W16: 0 | X16: 0 | Y16: 0
C17: 14 | D17: Licença Controladora WLAN | E17: 449052.94 | G17: Peça | J17: 10000 | L17: =K17-(SUM(N17:Y17)) -> 0 | M17: =IF(L17<0,"ATENÇÃO","OK") -> OK | N17: 0 | O17: 0 | P17: 0 | Q17: 0 | R17: 0 | S17: 0 | T17: 0 | U17: 0 | V17: 0 | W17: 0 | X17: 0 | Y17: 0
A18: ZOOM Tecnologia LTDA | B18: 5 | C18: 15 | D18: Switch SAN | E18: 449052.35 | G18: Peça | J18: 45000 | L18: =K18-(SUM(N18:Y18)) -> 0 | M18: =IF(L18<0,"ATENÇÃO","OK") -> OK | N18: 0 | O18: 0 | P18: 0 | Q18: 0 | R18: 0 | S18: 0 | T18: 0 | U18: 0 | V18: 0 | W18: 0 | X18: 0 | Y18: 0
B19: 18 | C19: 16 | D19: Placa HBA (material de consumo) | E19: 339030.17 | G19: Peça | J19: 3043.18 | L19: =K19-(SUM(N19:Y19)) -> 0 | M19: =IF(L19<0,"ATENÇÃO","OK") -> OK | N19: 0 | O19: 0 | P19: 0 | Q19: 0 | R19: 0 | S19: 0 | T19: 0 | U19: 0 | V19: 0 | W19: 0 | X19: 0 | Y19: 0
A20: SEPROL Comércio e Consultoria em Informática LTDA | B20: 6 | C20: 17 | D20: ENCLOSURE Expansão STORAGE HP (PN AG638) | E20: 339030.17 | G20: Peça | J20: 8860 | L20: =K20-(SUM(N20:Y20)) -> 0 | M20: =IF(L20<0,"ATENÇÃO","OK") -> OK | N20: 0 | O20: 0 | P20: 0 | Q20: 0 | R20: 0 | S20: 0 | T20: 0 | U20: 0 | V20: 0 | W20: 0 | X20: 0 | Y20: 0
B21: 19 | C21: 18 | D21: Unidades de armazenamento de dados FC de 450GB (PN AG803B) | E21: 339030.17 | G21: Peça | J21: 5140 | L21: =K21-(SUM(N21:Y21)) -> 0 | M21: =IF(L21<0,"ATENÇÃO","OK") -> OK | N21: 0 | O21: 0 | P21: 0 | Q21: 0 | R21: 0 | S21: 0 | T21: 0 | U21: 0 | V21: 0 | W21: 0 | X21: 0 | Y21: 0
C22: 19 | D22: Unidades de Armazenamento de dados FC de 1TB (PN AG691B) | E22: 339030.17 | G22: Peça | J22: 5255 | L22: =K22-(SUM(N22:Y22)) -> 0 | M22: =IF(L22<0,"ATENÇÃO","OK") -> OK | N22: 0 | O22: 0 | P22: 0 | Q22: 0 | R22: 0 | S22: 0 | T22: 0 | U22: 0 | V22: 0 | W22: 0 | X22: 0 | Y22: 0
C23: 20 | D23: Treinamento Storage | E23: 339039.48 | G23: serviço | J23: 9430 | L23: =K23-(SUM(N23:Y23)) -> 0 | M23: =IF(L23<0,"ATENÇÃO","OK") -> OK | N23: 0 | O23: 0 | P23: 0 | Q23: 0 | R23: 0 | S23: 0 | T23: 0 | U23: 0 | V23: 0 | W23: 0 | X23: 0 | Y23: 0
B24: 20 | C24: 21 | D24: Serviços de instalação, configuração e garantia | E24: 339039.25 | G24: serviço | J24: 12650 | L24: =K24-(SUM(N24:Y24)) -> 0 | M24: =IF(L24<0,"ATENÇÃO","OK") -> OK | N24: 0 | O24: 0 | P24: 0 | Q24: 0 | R24: 0 | S24: 0 | T24: 0 | U24: 0 | V24: 0 | W24: 0 | X24: 0 | Y24: 0
A25: ZOOM Tecnologia LTDA | B25: 7 | C25: 22 | D25: Memória 16Gb para upgrade (Huawei PN:06200107) | E25: 339030.17 | G25: Peça | J25: 2422.5 | L25: =K25-(SUM(N25:Y25)) -> 0 | M25: =IF(L25<0,"ATENÇÃO","OK") -> OK | N25: 0 | O25: 0 | P25: 0 | Q25: 0 | R25: 0 | S25: 0 | T25: 0 | U25: 0 | V25: 0 | W25: 0 | X25: 0 | Y25: 0
B26: 20 | C26: 23 | D26: Processador E5-2620 para upgrade (Huawei PN:41020222) | E26: 339030.17 | G26: Peça | J26: 3445 | L26: =K26-(SUM(N26:Y26)) -> 0 | M26: =IF(L26<0,"ATENÇÃO","OK") -> OK | N26: 0 | O26: 0 | P26: 0 | Q26: 0 | R26: 0 | S26: 0 | T26: 0 | U26: 0 | V26: 0 | W26: 0 | X26: 0 | Y26: 0
B27: 21 | C27: 24 | D27: Fonte 460W para upgrade (Huawei PN:02131042) | E27: 339030.17 | G27: Peça | J27: 1270 | L27: =K27-(SUM(N27:Y27)) -> 0 | M27: =IF(L27<0,"ATENÇÃO","OK") -> OK | N27: 0 | O27: 0 | P27: 0 | Q27: 0 | R27: 0 | S27: 0 | T27: 0 | U27: 0 | V27: 0 | W27: 0 | X27: 0 | Y27: 0
A28: SEPROL Comércio e Consultoria em Informática LTDA | B28: 8 | C28: 25 | D28: Pente de Memória 8 Gb (PN 647897-b21) | E28: 339030.17 | G28: Peça | J28: 1300 | L28: =K28-(SUM(N28:Y28)) -> 0 | M28: =IF(L28<0,"ATENÇÃO","OK") -> OK | N28: 0 | O28: 0 | P28: 0 | Q28: 0 | R28: 0 | S28: 0 | T28: 0 | U28: 0 | V28: 0 | W28: 0 | X28: 0 | Y28: 0
B29: 21 | C29: 26 | D29: Pente de Memória 8 Gb (PN 500662-b21) | E29: 339030.17 | G29: Peça | J29: 2200 | L29: =K29-(SUM(N29:Y29)) -> 0 | M29: =IF(L29<0,"ATENÇÃO","OK") -> OK | N29: 0 | O29: 0 | P29: 0 | Q29: 0 | R29: 0 | S29: 0 | T29: 0 | U29: 0 | V29: 0 | W29: 0 | X29: 0 | Y29: 0
A30: SEPROL Comércio e Consultoria em Informática LTDA | B30: 9 | C30: 27 | D30: Fitas LTO4 | E30: 339030.17 | G30: Peça | J30: 220 | L30: =K30-(SUM(N30:Y30)) -> 0 | M30: =IF(L30<0,"ATENÇÃO","OK") -> OK | N30: 0 | O30: 0 | P30: 0 | Q30: 0 | R30: 0 | S30: 0 | T30: 0 | U30: 0 | V30: 0 | W30: 0 | X30: 0 | Y30: 0
A31: Deserto | B31: 10 | C31: 28 | D31: No-Break modelo 1 | E31: 449052.30 | G31: Peça | J31: Deserto | L31: =K31-(SUM(N31:Y31)) -> 0 | M31: =IF(L31<0,"ATENÇÃO","OK") -> OK | N31: 0 | O31: 0 | P31: 0 | Q31: 0 | R31: 0 | S31: 0 | T31: 0 | U31: 0 | V31: 0 | W31: 0 | X31: 0 | Y31: 0
C32: 29 | D32: Módulo de bateria – modelo 1 | E32: 449052.30 | G32: Peça | J32: Deserto | L32: =K32-(SUM(N32:Y32)) -> 0 | M32: =IF(L32<0,"ATENÇÃO","OK") -> OK | N32: 0 | O32: 0 | P32: 0 | Q32: 0 | R32: 0 | S32: 0 | T32: 0 | U32: 0 | V32: 0 | W32: 0 | X32: 0 | Y32: 0
A33: WEG Automação Critical Power LTDA | B33: 11 | C33: 30 | D33: No-Break modelo 2 | E33: 449052.30 | G33: Peça | J33: 7300 | L33: =K33-(SUM(N33:Y33)) -> 0 | M33: =IF(L33<0,"ATENÇÃO","OK") -> OK | N33: 0 | O33: 0 | P33: 0 | Q33: 0 | R33: 0 | S33: 0 | T33: 0 | U33: 0 | V33: 0 | W33: 0 | X33: 0 | Y33: 0
C34: 31 | D34: Módulo de bateria – modelo 2 | E34: 449052.30 | G34: Peça | J34: 1825 | L34: =K34-(SUM(N34:Y34)) -> 0 | M34: =IF(L34<0,"ATENÇÃO","OK") -> OK | N34: 0 | O34: 0 | P34: 0 | Q34: 0 | R34: 0 | S34: 0 | T34: 0 | U34: 0 | V34: 0 | W34: 0 | X34: 0 | Y34: 0
A35: WEG Automação Critical Power LTDA | B35: 12 | C35: 32 | D35: No-Break modelo 3 | E35: 449052.30 | G35: Peça | J35: 5923.52 | L35: =K35-(SUM(N35:Y35)) -> 0 | M35: =IF(L35<0,"ATENÇÃO","OK") -> OK | N35: 0 | O35: 0 | P35: 0 | Q35: 0 | R35: 0 | S35: 0 | T35: 0 | U35: 0 | V35: 0 | W35: 0 | X35: 0 | Y35: 0
C36: 33 | D36: Módulo de bateria – modelo 3 | E36: 449052.30 | G36: Peça | J36: 1900 | L36: =K36-(SUM(N36:Y36)) -> 0 | M36: =IF(L36<0,"ATENÇÃO","OK") -> OK | N36: 0 | O36: 0 | P36: 0 | Q36: 0 | R36: 0 | S36: 0 | T36: 0 | U36: 0 | V36: 0 | W36: 0 | X36: 0 | Y36: 0
D38: *Lotes 2 e 3 Infrutíferos
D39: *Lote 10 Deserto
D40: *Marca conforme Proposta Ajustada
D41: *Prazo de Entrega e Pagamento conforme Termo de Referência

Sheet GESTOR
A1: PROCESSO: 1300/2014/UDESC | D1: OBJETO: Aquisição de equipamentos, materiais e serviços para upgrade da rede de computadores da UDESC | K1: VIGÊNCIA DA ATA: 02/12/2014 até 01/12/2015
A2: CENTRO PARTICIPANTE: GESTOR
A3: FORNECEDOR | B3: LOTE | C3: ITEM | D3: Especificação - conforme complementação memorial descritivo | E3: ELEMENTO | F3: MARCA | G3: UNIDADE | H3: Entrega (Dias) | I3: Pagto. (Dias) | J3: Preço UNITÁRIO (R$) | K3: Qtde Registrada + Aditivos | L3: Quantidade Utilizada | M3: SALDO | N3: Valor Total Registrado | O3: Valor Total Utilizado
A4: ZOOM Tecnologia LTDA | B4: 1 | C4: 1 | D4: Mini Storage de Rede (CEAD) | E4: 449052.35 | G4: Peça | J4: 8884 | K4: =REIT_SETIC!K4+'PROJ-CEAD-SETIC'!K4+ESAG!K4+CEART!K4+FAED!K4+CEAD!K4+CEFID!K4+CERES!K4+CEPLAN!K4+CCT!K4+CAV!K4+CEO!K4+CESFI!K4+CEAVI!K4 -> 5 | L4: =(REIT_SETIC!K4-REIT_SETIC!L4)+('PROJ-CEAD-SETIC'!K4-'PROJ-CEAD-SETIC'!L4)+(ESAG!K4-ESAG!L4)+(CEART!K4-CEART!L4)+(FAED!K4-FAED!L4)+(CEAD!K4-CEAD!L4)+(CEFID!K4-CEFID!L4)+(CERES!K4-CERES!L4)+(CEPLAN!K4-CEPLAN!L4)+(CCT!K4-CCT!L4)+(CAV!K4-CAV!L4)+(CEO!K4-CEO!L4)+(CESFI!K4-CESFI!L4)+(CEAVI!K4-CEAVI!L4) -> 5 | M4: =K4-L4 -> 0 | N4: =J4*K4 -> 44420 | O4: =J4*L4 -> 44420
A5: Infrutífero | B5: 2 | C5: 2 | D5: Wireless com antena direcional | E5: 449052.35 | G5: Peça | J5: Infrutífero | K5: =REIT_SETIC!K5+'PROJ-CEAD-SETIC'!K5+ESAG!K5+CEART!K5+FAED!K5+CEAD!K5+CEFID!K5+CERES!K5+CEPLAN!K5+CCT!K5+CAV!K5+CEO!K5+CESFI!K5+CEAVI!K5 -> 0 | L5: =(REIT_SETIC!K5-REIT_SETIC!L5)+('PROJ-CEAD-SETIC'!K5-'PROJ-CEAD-SETIC'!L5)+(ESAG!K5-ESAG!L5)+(CEART!K5-CEART!L5)+(FAED!K5-FAED!L5)+(CEAD!K5-CEAD!L5)+(CEFID!K5-CEFID!L5)+(CERES!K5-CERES!L5)+(CEPLAN!K5-CEPLAN!L5)+(CCT!K5-CCT!L5)+(CAV!K5-CAV!L5)+(CEO!K5-CEO!L5)+(CESFI!K5-CESFI!L5)+(CEAVI!K5-CEAVI!L5) -> 0 | M5: =K5-L5 -> 0
A6: Infrutífero | B6: 3 | C6: 3 | D6: Câmera IP (CEART) | E6: 449052.33 | G6: Peça | J6: Infrutífero | K6: =REIT_SETIC!K6+'PROJ-CEAD-SETIC'!K6+ESAG!K6+CEART!K6+FAED!K6+CEAD!K6+CEFID!K6+CERES!K6+CEPLAN!K6+CCT!K6+CAV!K6+CEO!K6+CESFI!K6+CEAVI!K6 -> 0 | L6: =(REIT_SETIC!K6-REIT_SETIC!L6)+('PROJ-CEAD-SETIC'!K6-'PROJ-CEAD-SETIC'!L6)+(ESAG!K6-ESAG!L6)+(CEART!K6-CEART!L6)+(FAED!K6-FAED!L6)+(CEAD!K6-CEAD!L6)+(CEFID!K6-CEFID!L6)+(CERES!K6-CERES!L6)+(CEPLAN!K6-CEPLAN!L6)+(CCT!K6-CCT!L6)+(CAV!K6-CAV!L6)+(CEO!K6-CEO!L6)+(CESFI!K6-CESFI!L6)+(CEAVI!K6-CEAVI!L6) -> 0 | M6: =K6-L6 -> 0
A7: ZOOM Tecnologia LTDA | B7: 4 | C7: 4 | D7: Switch Borda s/PoE 24p (DGOV) | E7: 449052.35 | G7: Peça | J7: 1320 | K7: =REIT_SETIC!K7+'PROJ-CEAD-SETIC'!K7+ESAG!K7+CEART!K7+FAED!K7+CEAD!K7+CEFID!K7+CERES!K7+CEPLAN!K7+CCT!K7+CAV!K7+CEO!K7+CESFI!K7+CEAVI!K7 -> 133 | L7: =(REIT_SETIC!K7-REIT_SETIC!L7)+('PROJ-CEAD-SETIC'!K7-'PROJ-CEAD-SETIC'!L7)+(ESAG!K7-ESAG!L7)+(CEART!K7-CEART!L7)+(FAED!K7-FAED!L7)+(CEAD!K7-CEAD!L7)+(CEFID!K7-CEFID!L7)+(CERES!K7-CERES!L7)+(CEPLAN!K7-CEPLAN!L7)+(CCT!K7-CCT!L7)+(CAV!K7-CAV!L7)+(CEO!K7-CEO!L7)+(CESFI!K7-CESFI!L7)+(CEAVI!K7-CEAVI!L7) -> 126 | M7: =K7-L7 -> 7 | N7: =J7*K7 -> 175560 | O7: =J7*L7 -> 166320
C8: 5 | D8: Switch Borda PoE 24p | E8: 449052.35 | G8: Peça | J8: 3250 | K8: =REIT_SETIC!K8+'PROJ-CEAD-SETIC'!K8+ESAG!K8+CEART!K8+FAED!K8+CEAD!K8+CEFID!K8+CERES!K8+CEPLAN!K8+CCT!K8+CAV!K8+CEO!K8+CESFI!K8+CEAVI!K8 -> 121 | L8: =(REIT_SETIC!K8-REIT_SETIC!L8)+('PROJ-CEAD-SETIC'!K8-'PROJ-CEAD-SETIC'!L8)+(ESAG!K8-ESAG!L8)+(CEART!K8-CEART!L8)+(FAED!K8-FAED!L8)+(CEAD!K8-CEAD!L8)+(CEFID!K8-CEFID!L8)+(CERES!K8-CERES!L8)+(CEPLAN!K8-CEPLAN!L8)+(CCT!K8-CCT!L8)+(CAV!K8-CAV!L8)+(CEO!K8-CEO!L8)+(CESFI!K8-CESFI!L8)+(CEAVI!K8-CEAVI!L8) -> 121 | M8: =K8-L8 -> 0 | N8: =J8*K8 -> 393250 | O8: =J8*L8 -> 393250
C9: 6 | D9: Mini-GBIC monomodo 1Gbps | E9: 449052.35 | G9: Peça | J9: 850 | K9: =REIT_SETIC!K9+'PROJ-CEAD-SETIC'!K9+ESAG!K9+CEART!K9+FAED!K9+CEAD!K9+CEFID!K9+CERES!K9+CEPLAN!K9+CCT!K9+CAV!K9+CEO!K9+CESFI!K9+CEAVI!K9 -> 12 | L9: =(REIT_SETIC!K9-REIT_SETIC!L9)+('PROJ-CEAD-SETIC'!K9-'PROJ-CEAD-SETIC'!L9)+(ESAG!K9-ESAG!L9)+(CEART!K9-CEART!L9)+(FAED!K9-FAED!L9)+(CEAD!K9-CEAD!L9)+(CEFID!K9-CEFID!L9)+(CERES!K9-CERES!L9)+(CEPLAN!K9-CEPLAN!L9)+(CCT!K9-CCT!L9)+(CAV!K9-CAV!L9)+(CEO!K9-CEO!L9)+(CESFI!K9-CESFI!L9)+(CEAVI!K9-CEAVI!L9) -> 12 | M9: =K9-L9 -> 0 | N9: =J9*K9 -> 10200 | O9: =J9*L9 -> 10200
C10: 7 | D10: Mini-GBIC multimodo 1Gbps | E10: 449052.35 | G10: Peça | J10: 450 | K10: =REIT_SETIC!K10+'PROJ-CEAD-SETIC'!K10+ESAG!K10+CEART!K10+FAED!K10+CEAD!K10+CEFID!K10+CERES!K10+CEPLAN!K10+CCT!K10+CAV!K10+CEO!K10+CESFI!K10+CEAVI!K10 -> 43 | L10: =(REIT_SETIC!K10-REIT_SETIC!L10)+('PROJ-CEAD-SETIC'!K10-'PROJ-CEAD-SETIC'!L10)+(ESAG!K10-ESAG!L10)+(CEART!K10-CEART!L10)+(FAED!K10-FAED!L10)+(CEAD!K10-CEAD!L10)+(CEFID!K10-CEFID!L10)+(CERES!K10-CERES!L10)+(CEPLAN!K10-CEPLAN!L10)+(CCT!K10-CCT!L10)+(CAV!K10-CAV!L10)+(CEO!K10-CEO!L10)+(CESFI!K10-CESFI!L10)+(CEAVI!K10-CEAVI!L10) -> 33 | M10: =K10-L10 -> 10 | N10: =J10*K10 -> 19350 | O10: =J10*L10 -> 14850
C11: 8 | D11: Roteador Unidades | E11: 449052.35 | G11: Peça | J11: 3245 | K11: =REIT_SETIC!K11+'PROJ-CEAD-SETIC'!K11+ESAG!K11+CEART!K11+FAED!K11+CEAD!K11+CEFID!K11+CERES!K11+CEPLAN!K11+CCT!K11+CAV!K11+CEO!K11+CESFI!K11+CEAVI!K11 -> 10 | L11: =(REIT_SETIC!K11-REIT_SETIC!L11)+('PROJ-CEAD-SETIC'!K11-'PROJ-CEAD-SETIC'!L11)+(ESAG!K11-ESAG!L11)+(CEART!K11-CEART!L11)+(FAED!K11-FAED!L11)+(CEAD!K11-CEAD!L11)+(CEFID!K11-CEFID!L11)+(CERES!K11-CERES!L11)+(CEPLAN!K11-CEPLAN!L11)+(CCT!K11-CCT!L11)+(CAV!K11-CAV!L11)+(CEO!K11-CEO!L11)+(CESFI!K11-CESFI!L11)+(CEAVI!K11-CEAVI!L11) -> 10 | M11: =K11-L11 -> 0 | N11: =J11*K11 -> 32450 | O11: =J11*L11 -> 32450
C12: 9 | D12: Roteador Concentrador | E12: 449052.35 | G12: Peça | J12: 44000 | K12: =REIT_SETIC!K12+'PROJ-CEAD-SETIC'!K12+ESAG!K12+CEART!K12+FAED!K12+CEAD!K12+CEFID!K12+CERES!K12+CEPLAN!K12+CCT!K12+CAV!K12+CEO!K12+CESFI!K12+CEAVI!K12 -> 2 | L12: =(REIT_SETIC!K12-REIT_SETIC!L12)+('PROJ-CEAD-SETIC'!K12-'PROJ-CEAD-SETIC'!L12)+(ESAG!K12-ESAG!L12)+(CEART!K12-CEART!L12)+(FAED!K12-FAED!L12)+(CEAD!K12-CEAD!L12)+(CEFID!K12-CEFID!L12)+(CERES!K12-CERES!L12)+(CEPLAN!K12-CEPLAN!L12)+(CCT!K12-CCT!L12)+(CAV!K12-CAV!L12)+(CEO!K12-CEO!L12)+(CESFI!K12-CESFI!L12)+(CEAVI!K12-CEAVI!L12) -> 2 | M12: =K12-L12 -> 0 | N12: =J12*K12 -> 88000 | O12: =J12*L12 -> 88000
C13: 10 | D13: Firewall | E13: 449052.35 | G13: Peça | J13: 69000 | K13: =REIT_SETIC!K13+'PROJ-CEAD-SETIC'!K13+ESAG!K13+CEART!K13+FAED!K13+CEAD!K13+CEFID!K13+CERES!K13+CEPLAN!K13+CCT!K13+CAV!K13+CEO!K13+CESFI!K13+CEAVI!K13 -> 2 | L13: =(REIT_SETIC!K13-REIT_SETIC!L13)+('PROJ-CEAD-SETIC'!K13-'PROJ-CEAD-SETIC'!L13)+(ESAG!K13-ESAG!L13)+(CEART!K13-CEART!L13)+(FAED!K13-FAED!L13)+(CEAD!K13-CEAD!L13)+(CEFID!K13-CEFID!L13)+(CERES!K13-CERES!L13)+(CEPLAN!K13-CEPLAN!L13)+(CCT!K13-CCT!L13)+(CAV!K13-CAV!L13)+(CEO!K13-CEO!L13)+(CESFI!K13-CESFI!L13)+(CEAVI!K13-CEAVI!L13) -> 2 | M13: =K13-L13 -> 0 | N13: =J13*K13 -> 138000 | O13: =J13*L13 -> 138000
C14: 11 | D14: Software de Gerenciamento de Rede | E14: 449052.94 | G14: Peça | J14: 152390 | K14: =REIT_SETIC!K14+'PROJ-CEAD-SETIC'!K14+ESAG!K14+CEART!K14+FAED!K14+CEAD!K14+CEFID!K14+CERES!K14+CEPLAN!K14+CCT!K14+CAV!K14+CEO!K14+CESFI!K14+CEAVI!K14 -> 1 | L14: =(REIT_SETIC!K14-REIT_SETIC!L14)+('PROJ-CEAD-SETIC'!K14-'PROJ-CEAD-SETIC'!L14)+(ESAG!K14-ESAG!L14)+(CEART!K14-CEART!L14)+(FAED!K14-FAED!L14)+(CEAD!K14-CEAD!L14)+(CEFID!K14-CEFID!L14)+(CERES!K14-CERES!L14)+(CEPLAN!K14-CEPLAN!L14)+(CCT!K14-CCT!L14)+(CAV!K14-CAV!L14)+(CEO!K14-CEO!L14)+(CESFI!K14-CESFI!L14)+(CEAVI!K14-CEAVI!L14) -> 1 | M14: =K14-L14 -> 0 | N14: =J14*K14 -> 152390 | O14: =J14*L14 -> 152390
C15: 12 | D15: Ponto de acesso a rede sem fio | E15: 449052.35 | G15: Peça | J15: 2300 | K15: =REIT_SETIC!K15+'PROJ-CEAD-SETIC'!K15+ESAG!K15+CEART!K15+FAED!K15+CEAD!K15+CEFID!K15+CERES!K15+CEPLAN!K15+CCT!K15+CAV!K15+CEO!K15+CESFI!K15+CEAVI!K15 -> 290 | L15: =(REIT_SETIC!K15-REIT_SETIC!L15)+('PROJ-CEAD-SETIC'!K15-'PROJ-CEAD-SETIC'!L15)+(ESAG!K15-ESAG!L15)+(CEART!K15-CEART!L15)+(FAED!K15-FAED!L15)+(CEAD!K15-CEAD!L15)+(CEFID!K15-CEFID!L15)+(CERES!K15-CERES!L15)+(CEPLAN!K15-CEPLAN!L15)+(CCT!K15-CCT!L15)+(CAV!K15-CAV!L15)+(CEO!K15-CEO!L15)+(CESFI!K15-CESFI!L15)+(CEAVI!K15-CEAVI!L15) -> 286 | M15: =K15-L15 -> 4 | N15: =J15*K15 -> 667000 | O15: =J15*L15 -> 657800
C16: 13 | D16: Controladora WLAN | E16: 449052.35 | G16: Peça | J16: 68000 | K16: =REIT_SETIC!K16+'PROJ-CEAD-SETIC'!K16+ESAG!K16+CEART!K16+FAED!K16+CEAD!K16+CEFID!K16+CERES!K16+CEPLAN!K16+CCT!K16+CAV!K16+CEO!K16+CESFI!K16+CEAVI!K16 -> 2 | L16: =(REIT_SETIC!K16-REIT_SETIC!L16)+('PROJ-CEAD-SETIC'!K16-'PROJ-CEAD-SETIC'!L16)+(ESAG!K16-ESAG!L16)+(CEART!K16-CEART!L16)+(FAED!K16-FAED!L16)+(CEAD!K16-CEAD!L16)+(CEFID!K16-CEFID!L16)+(CERES!K16-CERES!L16)+(CEPLAN!K16-CEPLAN!L16)+(CCT!K16-CCT!L16)+(CAV!K16-CAV!L16)+(CEO!K16-CEO!L16)+(CESFI!K16-CESFI!L16)+(CEAVI!K16-CEAVI!L16) -> 2 | M16: =K16-L16 -> 0 | N16: =J16*K16 -> 136000 | O16: =J16*L16 -> 136000
C17: 14 | D17: Licença Controladora WLAN | E17: 449052.94 | G17: Peça | J17: 10000 | K17: =REIT_SETIC!K17+'PROJ-CEAD-SETIC'!K17+ESAG!K17+CEART!K17+FAED!K17+CEAD!K17+CEFID!K17+CERES!K17+CEPLAN!K17+CCT!K17+CAV!K17+CEO!K17+CESFI!K17+CEAVI!K17 -> 3 | L17: =(REIT_SETIC!K17-REIT_SETIC!L17)+('PROJ-CEAD-SETIC'!K17-'PROJ-CEAD-SETIC'!L17)+(ESAG!K17-ESAG!L17)+(CEART!K17-CEART!L17)+(FAED!K17-FAED!L17)+(CEAD!K17-CEAD!L17)+(CEFID!K17-CEFID!L17)+(CERES!K17-CERES!L17)+(CEPLAN!K17-CEPLAN!L17)+(CCT!K17-CCT!L17)+(CAV!K17-CAV!L17)+(CEO!K17-CEO!L17)+(CESFI!K17-CESFI!L17)+(CEAVI!K17-CEAVI!L17) -> 2 | M17: =K17-L17 -> 1 | N17: =J17*K17 -> 30000 | O17: =J17*L17 -> 20000
A18: ZOOM Tecnologia LTDA | B18: 5 | C18: 15 | D18: Switch SAN | E18: 449052.35 | G18: Peça | J18: 45000 | K18: =REIT_SETIC!K18+'PROJ-CEAD-SETIC'!K18+ESAG!K18+CEART!K18+FAED!K18+CEAD!K18+CEFID!K18+CERES!K18+CEPLAN!K18+CCT!K18+CAV!K18+CEO!K18+CESFI!K18+CEAVI!K18 -> 2 | L18: =(REIT_SETIC!K18-REIT_SETIC!L18)+('PROJ-CEAD-SETIC'!K18-'PROJ-CEAD-SETIC'!L18)+(ESAG!K18-ESAG!L18)+(CEART!K18-CEART!L18)+(FAED!K18-FAED!L18)+(CEAD!K18-CEAD!L18)+(CEFID!K18-CEFID!L18)+(CERES!K18-CERES!L18)+(CEPLAN!K18-CEPLAN!L18)+(CCT!K18-CCT!L18)+(CAV!K18-CAV!L18)+(CEO!K18-CEO!L18)+(CESFI!K18-CESFI!L18)+(CEAVI!K18-CEAVI!L18) -> 2 | M18: =K18-L18 -> 0 | N18: =J18*K18 -> 90000 | O18: =J18*L18 -> 90000
B19: 18 | C19: 16 | D19: Placa HBA (material de consumo) | E19: 339030.17 | G19: Peça | J19: 3043.18 | K19: =REIT_SETIC!K19+'PROJ-CEAD-SETIC'!K19+ESAG!K19+CEART!K19+FAED!K19+CEAD!K19+CEFID!K19+CERES!K19+CEPLAN!K19+CCT!K19+CAV!K19+CEO!K19+CESFI!K19+CEAVI!K19 -> 22 | L19: =(REIT_SETIC!K19-REIT_SETIC!L19)+('PROJ-CEAD-SETIC'!K19-'PROJ-CEAD-SETIC'!L19)+(ESAG!K19-ESAG!L19)+(CEART!K19-CEART!L19)+(FAED!K19-FAED!L19)+(CEAD!K19-CEAD!L19)+(CEFID!K19-CEFID!L19)+(CERES!K19-CERES!L19)+(CEPLAN!K19-CEPLAN!L19)+(CCT!K19-CCT!L19)+(CAV!K19-CAV!L19)+(CEO!K19-CEO!L19)+(CESFI!K19-CESFI!L19)+(CEAVI!K19-CEAVI!L19) -> 22 | M19: =K19-L19 -> 0 | N19: =J19*K19 -> 66949.96 | O19: =J19*L19 -> 66949.96
A20: SEPROL Comércio e Consultoria em Informática LTDA | B20: 6 | C20: 17 | D20: ENCLOSURE Expansão STORAGE HP (PN AG638) | E20: 339030.17 | G20: Peça | J20: 8860 | K20: =REIT_SETIC!K20+'PROJ-CEAD-SETIC'!K20+ESAG!K20+CEART!K20+FAED!K20+CEAD!K20+CEFID!K20+CERES!K20+CEPLAN!K20+CCT!K20+CAV!K20+CEO!K20+CESFI!K20+CEAVI!K20 -> 4 | L20: =(REIT_SETIC!K20-REIT_SETIC!L20)+('PROJ-CEAD-SETIC'!K20-'PROJ-CEAD-SETIC'!L20)+(ESAG!K20-ESAG!L20)+(CEART!K20-CEART!L20)+(FAED!K20-FAED!L20)+(CEAD!K20-CEAD!L20)+(CEFID!K20-CEFID!L20)+(CERES!K20-CERES!L20)+(CEPLAN!K20-CEPLAN!L20)+(CCT!K20-CCT!L20)+(CAV!K20-CAV!L20)+(CEO!K20-CEO!L20)+(CESFI!K20-CESFI!L20)+(CEAVI!K20-CEAVI!L20) -> 4 | M20: =K20-L20 -> 0 | N20: =J20*K20 -> 35440 | O20: =J20*L20 -> 35440
B21: 19 | C21: 18 | D21: Unidades de armazenamento de dados FC de 450GB (PN AG803B) | E21: 339030.17 | G21: Peça | J21: 5140 | K21: =REIT_SETIC!K21+'PROJ-CEAD-SETIC'!K21+ESAG!K21+CEART!K21+FAED!K21+CEAD!K21+CEFID!K21+CERES!K21+CEPLAN!K21+CCT!K21+CAV!K21+CEO!K21+CESFI!K21+CEAVI!K21 -> 24 | L21: =(REIT_SETIC!K21-REIT_SETIC!L21)+('PROJ-CEAD-SETIC'!K21-'PROJ-CEAD-SETIC'!L21)+(ESAG!K21-ESAG!L21)+(CEART!K21-CEART!L21)+(FAED!K21-FAED!L21)+(CEAD!K21-CEAD!L21)+(CEFID!K21-CEFID!L21)+(CERES!K21-CERES!L21)+(CEPLAN!K21-CEPLAN!L21)+(CCT!K21-CCT!L21)+(CAV!K21-CAV!L21)+(CEO!K21-CEO!L21)+(CESFI!K21-CESFI!L21)+(CEAVI!K21-CEAVI!L21) -> 24 | M21: =K21-L21 -> 0 | N21: =J21*K21 -> 123360 | O21: =J21*L21 -> 123360
C22: 19 | D22: Unidades de Armazenamento de dados FC de 1TB (PN AG691B) | E22: 339030.17 | G22: Peça | J22: 5255 | K22: =REIT_SETIC!K22+'PROJ-CEAD-SETIC'!K22+ESAG!K22+CEART!K22+FAED!K22+CEAD!K22+CEFID!K22+CERES!K22+CEPLAN!K22+CCT!K22+CAV!K22+CEO!K22+CESFI!K22+CEAVI!K22 -> 24 | L22: =(REIT_SETIC!K22-REIT_SETIC!L22)+('PROJ-CEAD-SETIC'!K22-'PROJ-CEAD-SETIC'!L22)+(ESAG!K22-ESAG!L22)+(CEART!K22-CEART!L22)+(FAED!K22-FAED!L22)+(CEAD!K22-CEAD!L22)+(CEFID!K22-CEFID!L22)+(CERES!K22-CERES!L22)+(CEPLAN!K22-CEPLAN!L22)+(CCT!K22-CCT!L22)+(CAV!K22-CAV!L22)+(CEO!K22-CEO!L22)+(CESFI!K22-CESFI!L22)+(CEAVI!K22-CEAVI!L22) -> 24 | M22: =K22-L22 -> 0 | N22: =J22*K22 -> 126120 | O22: =J22*L22 -> 126120
C23: 20 | D23: Treinamento Storage | E23: 339039.48 | G23: serviço | J23: 9430 | K23: =REIT_SETIC!K23+'PROJ-CEAD-SETIC'!K23+ESAG!K23+CEART!K23+FAED!K23+CEAD!K23+CEFID!K23+CERES!K23+CEPLAN!K23+CCT!K23+CAV!K23+CEO!K23+CESFI!K23+CEAVI!K23 -> 1 | L23: =(REIT_SETIC!K23-REIT_SETIC!L23)+('PROJ-CEAD-SETIC'!K23-'PROJ-CEAD-SETIC'!L23)+(ESAG!K23-ESAG!L23)+(CEART!K23-CEART!L23)+(FAED!K23-FAED!L23)+(CEAD!K23-CEAD!L23)+(CEFID!K23-CEFID!L23)+(CERES!K23-CERES!L23)+(CEPLAN!K23-CEPLAN!L23)+(CCT!K23-CCT!L23)+(CAV!K23-CAV!L23)+(CEO!K23-CEO!L23)+(CESFI!K23-CESFI!L23)+(CEAVI!K23-CEAVI!L23) -> 1 | M23: =K23-L23 -> 0 | N23: =J23*K23 -> 9430 | O23: =J23*L23 -> 9430
B24: 20 | C24: 21 | D24: Serviços de instalação, configuração e garantia | E24: 339039.25 | G24: serviço | J24: 12650 | K24: =REIT_SETIC!K24+'PROJ-CEAD-SETIC'!K24+ESAG!K24+CEART!K24+FAED!K24+CEAD!K24+CEFID!K24+CERES!K24+CEPLAN!K24+CCT!K24+CAV!K24+CEO!K24+CESFI!K24+CEAVI!K24 -> 1 | L24: =(REIT_SETIC!K24-REIT_SETIC!L24)+('PROJ-CEAD-SETIC'!K24-'PROJ-CEAD-SETIC'!L24)+(ESAG!K24-ESAG!L24)+(CEART!K24-CEART!L24)+(FAED!K24-FAED!L24)+(CEAD!K24-CEAD!L24)+(CEFID!K24-CEFID!L24)+(CERES!K24-CERES!L24)+(CEPLAN!K24-CEPLAN!L24)+(CCT!K24-CCT!L24)+(CAV!K24-CAV!L24)+(CEO!K24-CEO!L24)+(CESFI!K24-CESFI!L24)+(CEAVI!K24-CEAVI!L24) -> 1 | M24: =K24-L24 -> 0 | N24: =J24*K24 -> 12650 | O24: =J24*L24 -> 12650
A25: ZOOM Tecnologia LTDA | B25: 7 | C25: 22 | D25: Memória 16Gb para upgrade (Huawei PN:06200107) | E25: 339030.17 | G25: Peça | J25: 2422.5 | K25: =REIT_SETIC!K25+'PROJ-CEAD-SETIC'!K25+ESAG!K25+CEART!K25+FAED!K25+CEAD!K25+CEFID!K25+CERES!K25+CEPLAN!K25+CCT!K25+CAV!K25+CEO!K25+CESFI!K25+CEAVI!K25 -> 50 | L25: =(REIT_SETIC!K25-REIT_SETIC!L25)+('PROJ-CEAD-SETIC'!K25-'PROJ-CEAD-SETIC'!L25)+(ESAG!K25-ESAG!L25)+(CEART!K25-CEART!L25)+(FAED!K25-FAED!L25)+(CEAD!K25-CEAD!L25)+(CEFID!K25-CEFID!L25)+(CERES!K25-CERES!L25)+(CEPLAN!K25-CEPLAN!L25)+(CCT!K25-CCT!L25)+(CAV!K25-CAV!L25)+(CEO!K25-CEO!L25)+(CESFI!K25-CESFI!L25)+(CEAVI!K25-CEAVI!L25) -> 47 | M25: =K25-L25 -> 3 | N25: =J25*K25 -> 121125 | O25: =J25*L25 -> 113857.5
B26: 20 | C26: 23 | D26: Processador E5-2620 para upgrade (Huawei PN:41020222) | E26: 339030.17 | G26: Peça | J26: 3445 | K26: =REIT_SETIC!K26+'PROJ-CEAD-SETIC'!K26+ESAG!K26+CEART!K26+FAED!K26+CEAD!K26+CEFID!K26+CERES!K26+CEPLAN!K26+CCT!K26+CAV!K26+CEO!K26+CESFI!K26+CEAVI!K26 -> 25 | L26: =(REIT_SETIC!K26-REIT_SETIC!L26)+('PROJ-CEAD-SETIC'!K26-'PROJ-CEAD-SETIC'!L26)+(ESAG!K26-ESAG!L26)+(CEART!K26-CEART!L26)+(FAED!K26-FAED!L26)+(CEAD!K26-CEAD!L26)+(CEFID!K26-CEFID!L26)+(CERES!K26-CERES!L26)+(CEPLAN!K26-CEPLAN!L26)+(CCT!K26-CCT!L26)+(CAV!K26-CAV!L26)+(CEO!K26-CEO!L26)+(CESFI!K26-CESFI!L26)+(CEAVI!K26-CEAVI!L26) -> 24 | M26: =K26-L26 -> 1 | N26: =J26*K26 -> 86125 | O26: =J26*L26 -> 82680
B27: 21 | C27: 24 | D27: Fonte 460W para upgrade (Huawei PN:02131042) | E27: 339030.17 | G27: Peça | J27: 1270 | K27: =REIT_SETIC!K27+'PROJ-CEAD-SETIC'!K27+ESAG!K27+CEART!K27+FAED!K27+CEAD!K27+CEFID!K27+CERES!K27+CEPLAN!K27+CCT!K27+CAV!K27+CEO!K27+CESFI!K27+CEAVI!K27 -> 25 | L27: =(REIT_SETIC!K27-REIT_SETIC!L27)+('PROJ-CEAD-SETIC'!K27-'PROJ-CEAD-SETIC'!L27)+(ESAG!K27-ESAG!L27)+(CEART!K27-CEART!L27)+(FAED!K27-FAED!L27)+(CEAD!K27-CEAD!L27)+(CEFID!K27-CEFID!L27)+(CERES!K27-CERES!L27)+(CEPLAN!K27-CEPLAN!L27)+(CCT!K27-CCT!L27)+(CAV!K27-CAV!L27)+(CEO!K27-CEO!L27)+(CESFI!K27-CESFI!L27)+(CEAVI!K27-CEAVI!L27) -> 24 | M27: =K27-L27 -> 1 | N27: =J27*K27 -> 31750 | O27: =J27*L27 -> 30480
A28: SEPROL Comércio e Consultoria em Informática LTDA | B28: 8 | C28: 25 | D28: Pente de Memória 8 Gb (PN 647897-b21) | E28: 339030.17 | G28: Peça | J28: 1300 | K28: =REIT_SETIC!K28+'PROJ-CEAD-SETIC'!K28+ESAG!K28+CEART!K28+FAED!K28+CEAD!K28+CEFID!K28+CERES!K28+CEPLAN!K28+CCT!K28+CAV!K28+CEO!K28+CESFI!K28+CEAVI!K28 -> 4 | L28: =(REIT_SETIC!K28-REIT_SETIC!L28)+('PROJ-CEAD-SETIC'!K28-'PROJ-CEAD-SETIC'!L28)+(ESAG!K28-ESAG!L28)+(CEART!K28-CEART!L28)+(FAED!K28-FAED!L28)+(CEAD!K28-CEAD!L28)+(CEFID!K28-CEFID!L28)+(CERES!K28-CERES!L28)+(CEPLAN!K28-CEPLAN!L28)+(CCT!K28-CCT!L28)+(CAV!K28-CAV!L28)+(CEO!K28-CEO!L28)+(CESFI!K28-CESFI!L28)+(CEAVI!K28-CEAVI!L28) -> 4 | M28: =K28-L28 -> 0 | N28: =J28*K28 -> 5200 | O28: =J28*L28 -> 5200
B29: 21 | C29: 26 | D29: Pente de Memória 8 Gb (PN 500662-b21) | E29: 339030.17 | G29: Peça | J29: 2200 | K29: =REIT_SETIC!K29+'PROJ-CEAD-SETIC'!K29+ESAG!K29+CEART!K29+FAED!K29+CEAD!K29+CEFID!K29+CERES!K29+CEPLAN!K29+CCT!K29+CAV!K29+CEO!K29+CESFI!K29+CEAVI!K29 -> 4 | L29: =(REIT_SETIC!K29-REIT_SETIC!L29)+('PROJ-CEAD-SETIC'!K29-'PROJ-CEAD-SETIC'!L29)+(ESAG!K29-ESAG!L29)+(CEART!K29-CEART!L29)+(FAED!K29-FAED!L29)+(CEAD!K29-CEAD!L29)+(CEFID!K29-CEFID!L29)+(CERES!K29-CERES!L29)+(CEPLAN!K29-CEPLAN!L29)+(CCT!K29-CCT!L29)+(CAV!K29-CAV!L29)+(CEO!K29-CEO!L29)+(CESFI!K29-CESFI!L29)+(CEAVI!K29-CEAVI!L29) -> 4 | M29: =K29-L29 -> 0 | N29: =J29*K29 -> 8800 | O29: =J29*L29 -> 8800
A30: SEPROL Comércio e Consultoria em Informática LTDA | B30: 9 | C30: 27 | D30: Fitas LTO4 | E30: 339030.17 | G30: Peça | J30: 220 | K30: =REIT_SETIC!K30+'PROJ-CEAD-SETIC'!K30+ESAG!K30+CEART!K30+FAED!K30+CEAD!K30+CEFID!K30+CERES!K30+CEPLAN!K30+CCT!K30+CAV!K30+CEO!K30+CESFI!K30+CEAVI!K30 -> 95 | L30: =(REIT_SETIC!K30-REIT_SETIC!L30)+('PROJ-CEAD-SETIC'!K30-'PROJ-CEAD-SETIC'!L30)+(ESAG!K30-ESAG!L30)+(CEART!K30-CEART!L30)+(FAED!K30-FAED!L30)+(CEAD!K30-CEAD!L30)+(CEFID!K30-CEFID!L30)+(CERES!K30-CERES!L30)+(CEPLAN!K30-CEPLAN!L30)+(CCT!K30-CCT!L30)+(CAV!K30-CAV!L30)+(CEO!K30-CEO!L30)+(CESFI!K30-CESFI!L30)+(CEAVI!K30-CEAVI!L30) -> 95 | M30: =K30-L30 -> 0 | N30: =J30*K30 -> 20900 | O30: =J30*L30 -> 20900
A31: Deserto | B31: 10 | C31: 28 | D31: No-Break modelo 1 | E31: 449052.30 | G31: Peça | J31: Deserto | K31: =REIT_SETIC!K31+'PROJ-CEAD-SETIC'!K31+ESAG!K31+CEART!K31+FAED!K31+CEAD!K31+CEFID!K31+CERES!K31+CEPLAN!K31+CCT!K31+CAV!K31+CEO!K31+CESFI!K31+CEAVI!K31 -> 0 | L31: =(REIT_SETIC!K31-REIT_SETIC!L31)+('PROJ-CEAD-SETIC'!K31-'PROJ-CEAD-SETIC'!L31)+(ESAG!K31-ESAG!L31)+(CEART!K31-CEART!L31)+(FAED!K31-FAED!L31)+(CEAD!K31-CEAD!L31)+(CEFID!K31-CEFID!L31)+(CERES!K31-CERES!L31)+(CEPLAN!K31-CEPLAN!L31)+(CCT!K31-CCT!L31)+(CAV!K31-CAV!L31)+(CEO!K31-CEO!L31)+(CESFI!K31-CESFI!L31)+(CEAVI!K31-CEAVI!L31) -> 0
C32: 29 | D32: Módulo de bateria – modelo 1 | E32: 449052.30 | G32: Peça | J32: Deserto | K32: =REIT_SETIC!K32+'PROJ-CEAD-SETIC'!K32+ESAG!K32+CEART!K32+FAED!K32+CEAD!K32+CEFID!K32+CERES!K32+CEPLAN!K32+CCT!K32+CAV!K32+CEO!K32+CESFI!K32+CEAVI!K32 -> 0 | L32: =(REIT_SETIC!K32-REIT_SETIC!L32)+('PROJ-CEAD-SETIC'!K32-'PROJ-CEAD-SETIC'!L32)+(ESAG!K32-ESAG!L32)+(CEART!K32-CEART!L32)+(FAED!K32-FAED!L32)+(CEAD!K32-CEAD!L32)+(CEFID!K32-CEFID!L32)+(CERES!K32-CERES!L32)+(CEPLAN!K32-CEPLAN!L32)+(CCT!K32-CCT!L32)+(CAV!K32-CAV!L32)+(CEO!K32-CEO!L32)+(CESFI!K32-CESFI!L32)+(CEAVI!K32-CEAVI!L32) -> 0
A33: WEG Automação Critical Power LTDA | B33: 11 | C33: 30 | D33: No-Break modelo 2 | E33: 449052.30 | G33: Peça | J33: 7300 | K33: =REIT_SETIC!K33+'PROJ-CEAD-SETIC'!K33+ESAG!K33+CEART!K33+FAED!K33+CEAD!K33+CEFID!K33+CERES!K33+CEPLAN!K33+CCT!K33+CAV!K33+CEO!K33+CESFI!K33+CEAVI!K33 -> 8 | L33: =(REIT_SETIC!K33-REIT_SETIC!L33)+('PROJ-CEAD-SETIC'!K33-'PROJ-CEAD-SETIC'!L33)+(ESAG!K33-ESAG!L33)+(CEART!K33-CEART!L33)+(FAED!K33-FAED!L33)+(CEAD!K33-CEAD!L33)+(CEFID!K33-CEFID!L33)+(CERES!K33-CERES!L33)+(CEPLAN!K33-CEPLAN!L33)+(CCT!K33-CCT!L33)+(CAV!K33-CAV!L33)+(CEO!K33-CEO!L33)+(CESFI!K33-CESFI!L33)+(CEAVI!K33-CEAVI!L33) -> 6 | M33: =K33-L33 -> 2 | N33: =J33*K33 -> 58400 | O33: =J33*L33 -> 43800
C34: 31 | D34: Módulo de bateria – modelo 2 | E34: 449052.30 | G34: Peça | J34: 1825 | K34: =REIT_SETIC!K34+'PROJ-CEAD-SETIC'!K34+ESAG!K34+CEART!K34+FAED!K34+CEAD!K34+CEFID!K34+CERES!K34+CEPLAN!K34+CCT!K34+CAV!K34+CEO!K34+CESFI!K34+CEAVI!K34 -> 8 | L34: =(REIT_SETIC!K34-REIT_SETIC!L34)+('PROJ-CEAD-SETIC'!K34-'PROJ-CEAD-SETIC'!L34)+(ESAG!K34-ESAG!L34)+(CEART!K34-CEART!L34)+(FAED!K34-FAED!L34)+(CEAD!K34-CEAD!L34)+(CEFID!K34-CEFID!L34)+(CERES!K34-CERES!L34)+(CEPLAN!K34-CEPLAN!L34)+(CCT!K34-CCT!L34)+(CAV!K34-CAV!L34)+(CEO!K34-CEO!L34)+(CESFI!K34-CESFI!L34)+(CEAVI!K34-CEAVI!L34) -> 5 | M34: =K34-L34 -> 3 | N34: =J34*K34 -> 14600 | O34: =J34*L34 -> 9125
A35: WEG Automação Critical Power LTDA | B35: 12 | C35: 32 | D35: No-Break modelo 3 | E35: 449052.30 | G35: Peça | J35: 5923.52 | K35: =REIT_SETIC!K35+'PROJ-CEAD-SETIC'!K35+ESAG!K35+CEART!K35+FAED!K35+CEAD!K35+CEFID!K35+CERES!K35+CEPLAN!K35+CCT!K35+CAV!K35+CEO!K35+CESFI!K35+CEAVI!K35 -> 17 | L35: =(REIT_SETIC!K35-REIT_SETIC!L35)+('PROJ-CEAD-SETIC'!K35-'PROJ-CEAD-SETIC'!L35)+(ESAG!K35-ESAG!L35)+(CEART!K35-CEART!L35)+(FAED!K35-FAED!L35)+(CEAD!K35-CEAD!L35)+(CEFID!K35-CEFID!L35)+(CERES!K35-CERES!L35)+(CEPLAN!K35-CEPLAN!L35)+(CCT!K35-CCT!L35)+(CAV!K35-CAV!L35)+(CEO!K35-CEO!L35)+(CESFI!K35-CESFI!L35)+(CEAVI!K35-CEAVI!L35) -> 14 | M35: =K35-L35 -> 3 | N35: =J35*K35 -> 100699.84 | O35: =J35*L35 -> 82929.28
C36: 33 | D36: Módulo de bateria – modelo 3 | E36: 449052.30 | G36: Peça | J36: 1900 | K36: =REIT_SETIC!K36+'PROJ-CEAD-SETIC'!K36+ESAG!K36+CEART!K36+FAED!K36+CEAD!K36+CEFID!K36+CERES!K36+CEPLAN!K36+CCT!K36+CAV!K36+CEO!K36+CESFI!K36+CEAVI!K36 -> 17 | L36: =(REIT_SETIC!K36-REIT_SETIC!L36)+('PROJ-CEAD-SETIC'!K36-'PROJ-CEAD-SETIC'!L36)+(ESAG!K36-ESAG!L36)+(CEART!K36-CEART!L36)+(FAED!K36-FAED!L36)+(CEAD!K36-CEAD!L36)+(CEFID!K36-CEFID!L36)+(CERES!K36-CERES!L36)+(CEPLAN!K36-CEPLAN!L36)+(CCT!K36-CCT!L36)+(CAV!K36-CAV!L36)+(CEO!K36-CEO!L36)+(CESFI!K36-CESFI!L36)+(CEAVI!K36-CEAVI!L36) -> 13 | M36: =K36-L36 -> 4 | N36: =J36*K36 -> 32300 | O36: =J36*L36 -> 24700
N37: =SUM(N4:N36) -> 2830469.8 | O37: =SUM(O4:O36) -> 2740101.7
D40: *Lotes 2 e 3 Infrutíferos | K40: Pregão 1300/2014/UDESC - SRP
D41: *Lote 10 Deserto | K41: Aquisição de equipamentos, materiais e serviços para upgrade da rede de computadores da UDESC
D42: *Marca conforme Proposta Ajustada | K42: Vigência da Ata: 02/12/2014 até 01/12/2015
D43: *Prazo de Entrega e Pagamento conforme Termo de Referência | K43: Valor Total da Ata com Aditivo | O43: =N37 -> 2830469.8
K44: Valor Utilizado | O44: =O37 -> 2740101.7
K45: % Aditivos
K46: % Utilizado | O46: =O44/O43 -> 0.96807312
K47: Resumo Atualizado em 01.02.016

Sheet 1º Aditivo
A1: 1º TERMO ADITIVO
A2: PROCESSO: 1300/2014/UDESC | D2: OBJETO: Aquisição de equipamentos, materiais e serviços para upgrade da rede de computadores da UDESC | G2: VIGÊNCIA DA ATA: 02/12/2014 até 01/12/2015
A3: CENTRO PARTICIPANTE: SETIC
A4: FORNECEDOR | B4: LOTE | C4: ITEM | D4: Especificação - conforme complementação memorial descritivo | E4: UNIDADE | F4: Preço UNITÁRIO (R$) | G4: Qtde Total Registrada | H4: Valor Total Registrado | I4: Qtde 1º Aditivo | J4: Valor Aditado
A5: ZOOM Tecnologia LTDA | B5: 4 | C5: 4 | D5: Switch Borda s/PoE 24p (DGOV) | E5: Peça | F5: 1320 | G5: =REIT_SETIC!K7+'PROJ-CEAD-SETIC'!K7+ESAG!K7+CEART!K7+FAED!K7+CEAD!K7+CEFID!K7+CERES!K7+CEPLAN!K7+CCT!K7+CAV!K7+CEO!K7+CESFI!K7+CEAVI!K7 -> 133 | H5: =G5*F5 -> 175560 | I5: 10 | J5: =I5*F5 -> 13200
C6: 5 | D6: Switch Borda PoE 24p | E6: Peça | F6: 3250 | G6: =REIT_SETIC!K8+'PROJ-CEAD-SETIC'!K8+ESAG!K8+CEART!K8+FAED!K8+CEAD!K8+CEFID!K8+CERES!K8+CEPLAN!K8+CCT!K8+CAV!K8+CEO!K8+CESFI!K8+CEAVI!K8 -> 121 | H6: =G6*F6 -> 393250 | I6: 24 | J6: =I6*F6 -> 78000
J7: =SUM(J5:J6) -> 91200
D10: Valor Total Registrado em Ata - Item 4 | E10: =H5 -> 175560
D11: Valor Aditivo - Item 4 | E11: =J5 -> 13200
D12: % Aditivo - Item 4 | E12: =E11/E10 -> 0.07518797
D14: Valor Total Registrado em Ata - Item 5 | E14: =H6 -> 393250
D15: Valor Aditivo - Item 5 | E15: =J6 -> 78000
D16: % Aditivo - Item 5 | E16: =E15/E14 -> 0.19834711

Sheet 2º Aditivo
A1: 2º TERMO ADITIVO
A2: PROCESSO: 1300/2014/UDESC | D2: OBJETO: Aquisição de equipamentos, materiais e serviços para upgrade da rede de computadores da UDESC | G2: VIGÊNCIA DA ATA: 02/12/2014 até 01/12/2015
A3: CENTRO PARTICIPANTE: SETIC
A4: FORNECEDOR | B4: LOTE | C4: ITEM | D4: Especificação - conforme complementação memorial descritivo | E4: UNIDADE | F4: Preço UNITÁRIO (R$) | G4: Qtde Total Registrada | H4: Valor Total Registrado | I4: Qtde 2º Aditivo | J4: Valor Aditado
A5: ZOOM Tecnologia LTDA | B5: 4 | C5: 12 | D5: Ponto de acesso a rede sem fio | E5: Peça | F5: 2300 | G5: 280 | H5: =G5*F5 -> 644000 | I5: 10 | J5: =I5*F5 -> 23000
J6: =SUM(J5:J5) -> 23000
D9: Valor Total Registrado em Ata - Item 12 | E9: =H5 -> 644000
D10: Valor Aditivo - Item 12 | E10: =J5 -> 23000
D11: % Aditivo - Item 12 | E11: =E10/E9 -> 0.035714286

Sheet Modelo Anexo II IN 002_2014
A1: ANEXO II – Instrução Normativa n.º 002/2014
A3: DECLARAÇÃO DE DISPONIBILIDADE DE QUANTITATIVO PARA EMISSÃO DE AUTORIZAÇÃO DE FORNECIMENTO/ORDEM DE SERVIÇO – SISTEMA DE REGISTRO DE PREÇOS/UDESC
A5: Processo CPA n.º XXXX/2014
A6: Pregão n.º XXXX/2014
A7: Objeto:
A8: Vigência da Ata de Registro de Preços: XX/XX/XXXX até XX/XX/XXXXX
A10: Declaro que o Centro XXXXXXX, participante da Ata de Registro de Preços proveniente do Pregão n.º XXXX/2014, possui saldo em seu quantitativo para a emissão da Autorização de Fornecimento/Ordem de Serviço n.º XXXX/2014, no valor de R$ X.XXX,XX, a ser firmada com a empresa XXXXXXX, restando ainda em sua cota para próximas contratações com o referido fornecedor os seguintes quantitativos:
A12: Lote | B12: Item | C12: Descrição Resumida | D12: Unidade | E12: Valor Unitário (R$) | F12: Saldo Quantitativo (antes da emissão desta AF/OS) | G12: Quantitativo da AF/OS | H12: Saldo Atualizado
A19: __________________, ____/_____/____
A20: Cidade Data
A24: _____________________________________________
A25: Diretor(a) de Administração
A26: (carimbo e assinatura)
