Workbook
Name diasuteis: #REF!
Name diasuteis: #REF!
Name diasuteis: #REF!
Name diasuteis: #REF!
Name diasuteis: #REF!
Name diasuteis: #REF!
Name diasuteis: #REF!
Name diasuteis: #REF!
Name diasuteis: #REF!
Name diasuteis: #REF!
Name diasuteis: #REF!
Name diasuteis: #REF!
Name Ferias: #REF!
Name Ferias: #REF!
Name Ferias: #REF!
Name Ferias: #REF!
Name Ferias: #REF!
Name Ferias: #REF!
Name Ferias: #REF!
Name Ferias: #REF!
Name Ferias: #REF!
Name Ferias: #REF!
Name Ferias: #REF!
Name RD: OFFSET(#REF!,(MATCH(SMALL(#REF!,ROW()-10),#REF!,0)-1),0)
Name RD: OFFSET(#REF!,(MATCH(SMALL(#REF!,ROW()-10),#REF!,0)-1),0)
Name RD: OFFSET(#REF!,(MATCH(SMALL(#REF!,ROW()-10),#REF!,0)-1),0)

Sheet REIT_SETIC
A1: PROCESSO: 1300/2014/UDESC | D1: OBJETO: Aquisição de equipamentos, materiais e serviços para upgrade da rede de computadores da UDESC | K1: VIGÊNCIA DA ATA: 02/12/2014 até 01/12/2015 | N1: AF nº 171/2015 Qtde. DT | O1: Contrato nº 181/2015 Qtde. DT | P1: Contrato nº 406/2015 Qtde. DT | Q1: Contrato nº 1384/2015 Qtde. DT | R1: Contrato 1488/2015 Qtde. DT | S1: Contrato nº 1968/2015 Qtde. DT | T1: AF/OS nº xxxx/2014 Qtde. DT | U1: AF/OS nº xxxx/2014 Qtde. DT | V1: AF/OS nº xxxx/2014 Qtde. DT | W1: AF/OS nº xxxx/2014 Qtde. DT | X1: AF/OS nº xxxx/2014 Qtde. DT | Y1: AF/OS nº xxxx/2014 Qtde. DT
A2: CENTRO PARTICIPANTE: REITORIA/SETIC
A3: FORNECEDOR | B3: LOTE | C3: ITEM | D3: Especificação - conforme complementação memorial descritivo | E3: ELEMENTO | F3: MARCA | G3: UNIDADE | H3: Entrega (Dias) | I3: Pagto. (Dias) | J3: Preço UNITÁRIO (R$) | K3: Qtde REGISTRADA | L3: Saldo / Automático | M3: ALERTA | N3: 42054 | O3: 42059 | P3: 42101 | Q3: 42222 | R3: 42243 | S3: 42298 | T3: ...../...../...... | U3: ...../...../...... | V3: ...../...../...... | W3: ...../...../...... | X3: ...../...../...... | Y3: ...../...../......
A4: ZOOM Tecnologia LTDA | B4: 1 | C4: 1 | D4: Mini Storage de Rede (CEAD) | E4: 449052.35 | G4: Peça | J4: 8884 | K4: 2 | L4: =K4-(SUM(N4:Y4)) -> 0 | M4: =IF(L4<0,"ATENÇÃO","OK") -> OK | N4: 2 | O4: 0 | P4: 0 | Q4: 0 | R4: 0 | S4: 0 | T4: 0 | U4: 0 | V4: 0 | W4: 0 | X4: 0 | Y4: 0
A5: Infrutífero | B5: 2 | C5: 2 | D5: Wireless com antena direcional | E5: 449052.35 | G5: Peça | J5: Infrutífero | L5: =K5-(SUM(N5:Y5)) -> 0 | M5: =IF(L5<0,"ATENÇÃO","OK") -> OK | N5: 0 | O5: 0 | P5: 0 | Q5: 0 | R5: 0 | S5: 0 | T5: 0 | U5: 0 | V5: 0 | W5: 0 | X5: 0 | Y5: 0
A6: Infrutífero | B6: 3 | C6: 3 | D6: Câmera IP (CEART) | E6: 449052.33 | G6: Peça | J6: Infrutífero | L6: =K6-(SUM(N6:Y6)) -> 0 | M6: =IF(L6<0,"ATENÇÃO","OK") -> OK | N6: 0 | O6: 0 | P6: 0 | Q6: 0 | R6: 0 | S6: 0 | T6: 0 | U6: 0 | V6: 0 | W6: 0 | X6: 0 | Y6: 0
A7: ZOOM Tecnologia LTDA | B7: 4 | C7: 4 | D7: Switch Borda s/PoE 24p (DGOV) | E7: 449052.35 | G7: Peça | J7: 1320 | K7: 10 | L7: =K7-(SUM(N7:Y7)) -> 0 | M7: =IF(L7<0,"ATENÇÃO","OK") -> OK | N7: 0 | O7: 0 | P7: 0 | Q7: 10 | R7: 0 | S7: 0 | T7: 0 | U7: 0 | V7: 0 | W7: 0 | X7: 0 | Y7: 0
C8: 5 | D8: Switch Borda PoE 24p | E8: 449052.35 | G8: Peça | J8: 3250 | K8: =20+24 -> 44 | L8: =K8-(SUM(N8:Y8)) -> 0 | M8: =IF(L8<0,"ATENÇÃO","OK") -> OK | N8: 20 | O8: 0 | P8: 0 | Q8: 0 | R8: 24 | S8: 0 | T8: 0 | U8: 0 | V8: 0 | W8: 0 | X8: 0 | Y8: 0
C9: 6 | D9: Mini-GBIC monomodo 1Gbps | E9: 449052.35 | G9: Peça | J9: 850 | K9: 10 | L9: =K9-(SUM(N9:Y9)) -> 0 | M9: =IF(L9<0,"ATENÇÃO","OK") -> OK | N9: 0 | O9: 0 | P9: 10 | Q9: 0 | R9: 0 | S9: 0 | T9: 0 | U9: 0 | V9: 0 | W9: 0 | X9: 0 | Y9: 0
C10: 7 | D10: Mini-GBIC multimodo 1Gbps | E10: 449052.35 | G10: Peça | J10: 450 | K10: 30 | L10: =K10-(SUM(N10:Y10)) -> 0 | M10: =IF(L10<0,"ATENÇÃO","OK") -> OK | N10: 0 | O10: 0 | P10: 30 | Q10: 0 | R10: 0 | S10: 0 | T10: 0 | U10: 0 | V10: 0 | W10: 0 | X10: 0 | Y10: 0
C11: 8 | D11: Roteador Unidades | E11: 449052.35 | G11: Peça | J11: 3245 | K11: 6 | L11: =K11-(SUM(N11:Y11)) -> 0 | M11: =IF(L11<0,"ATENÇÃO","OK") -> OK | N11: 2 | O11: 0 | P11: 4 | Q11: 0 | R11: 0 | S11: 0 | T11: 0 | U11: 0 | V11: 0 | W11: 0 | X11: 0 | Y11: 0
C12: 9 | D12: Roteador Concentrador | E12: 449052.35 | G12: Peça | J12: 44000 | K12: 2 | L12: =K12-(SUM(N12:Y12)) -> 0 | M12: =IF(L12<0,"ATENÇÃO","OK") -> OK | N12: 1 | O12: 0 | P12: 1 | Q12: 0 | R12: 0 | S12: 0 | T12: 0 | U12: 0 | V12: 0 | W12: 0 | X12: 0 | Y12: 0
C13: 10 | D13: Firewall | E13: 449052.35 | G13: Peça | J13: 69000 | K13: 2 | L13: =K13-(SUM(N13:Y13)) -> 0 | M13: =IF(L13<0,"ATENÇÃO","OK") -> OK | N13: 1 | O13: 0 | P13: 1 | Q13: 0 | R13: 0 | S13: 0 | T13: 0 | U13: 0 | V13: 0 | W13: 0 | X13: 0 | Y13: 0
C14: 11 | D14: Software de Gerenciamento de Rede | E14: 449052.94 | G14: Peça | J14: 152390 | K14: 1 | L14: =K14-(SUM(N14:Y14)) -> 0 | M14: =IF(L14<0,"ATENÇÃO","OK") -> OK | N14: 1 | O14: 0 | P14: 0 | Q14: 0 | R14: 0 | S14: 0 | T14: 0 | U14: 0 | V14: 0 | W14: 0 | X14: 0 | Y14: 0
C15: 12 | D15: Ponto de acesso a rede sem fio | E15: 449052.35 | G15: Peça | J15: 2300 | K15: 50 | L15: =K15-(SUM(N15:Y15)) -> 0 | M15: =IF(L15<0,"ATENÇÃO","OK") -> OK | N15: 20 | O15: 0 | P15: 30 | Q15: 0 | R15: 0 | S15: 0 | T15: 0 | U15: 0 | V15: 0 | W15: 0 | X15: 0 | Y15: 0
C16: 13 | D16: Controladora WLAN | E16: 449052.35 | G16: Peça | J16: 68000 | K16: 2 | L16: =K16-(SUM(N16:Y16)) -> 0 | M16: =IF(L16<0,"ATENÇÃO","OK") -> OK | N16: 1 | O16: 0 | P16: 1 | Q16: 0 | R16: 0 | S16: 0 | T16: 0 | U16: 0 | V16: 0 | W16: 0 | X16: 0 | Y16: 0
C17: 14 | D17: Licença Controladora WLAN | E17: 449052.94 | G17: Peça | J17: 10000 | K17: 3 | L17: =K17-(SUM(N17:Y17)) -> 1 | M17: =IF(L17<0,"ATENÇÃO","OK") -> OK | N17: 0 | O17: 0 | P17: 2 | Q17: 0 | R17: 0 | S17: 0 | T17: 0 | U17: 0 | V17: 0 | W17: 0 | X17: 0 | Y17: 0
A18: ZOOM Tecnologia LTDA | B18: 5 | C18: 15 | D18: Switch SAN | E18: 449052.35 | G18: Peça | J18: 45000 | K18: 2 | L18: =K18-(SUM(N18:Y18)) -> 0 | M18: =IF(L18<0,"ATENÇÃO","OK") -> OK | N18: 2 | O18: 0 | P18: 0 | Q18: 0 | R18: 0 | S18: 0 | T18: 0 | U18: 0 | V18: 0 | W18: 0 | X18: 0 | Y18: 0
B19: 18 | C19: 16 | D19: Placa HBA (material de consumo) | E19: 339030.17 | G19: Peça | J19: 3043.18 | K19: 22 | L19: =K19-(SUM(N19:Y19)) -> 0 | M19: =IF(L19<0,"ATENÇÃO","OK") -> OK | N19: 22 | O19: 0 | P19: 0 | Q19: 0 | R19: 0 | S19: 0 | T19: 0 | U19: 0 | V19: 0 | W19: 0 | X19: 0 | Y19: 0
A20: SEPROL Comércio e Consultoria em Informática LTDA | B20: 6 | C20: 17 | D20: ENCLOSURE Expansão STORAGE HP (PN AG638) | E20: 339030.17 | G20: Peça | J20: 8860 | L20: =K20-(SUM(N20:Y20)) -> 0 | M20: =IF(L20<0,"ATENÇÃO","OK") -> OK | N20: 0 | O20: 0 | P20: 0 | Q20: 0 | R20: 0 | S20: 0 | T20: 0 | U20: 0 | V20: 0 | W20: 0 | X20: 0 | Y20: 0
B21: 19 | C21: 18 | D21: Unidades de armazenamento de dados FC de 450GB (PN AG803B) | E21: 339030.17 | G21: Peça | J21: 5140 | L21: =K21-(SUM(N21:Y21)) -> 0 | M21: =IF(L21<0,"ATENÇÃO","OK") -> OK | N21: 0 | O21: 0 | P21: 0 | Q21: 0 | R21: 0 | S21: 0 | T21: 0 | U21: 0 | V21: 0 | W21: 0 | X21: 0 | Y21: 0
C22: 19 | D22: Unidades de Armazenamento de dados FC de 1TB (PN AG691B) | E22: 339030.17 | G22: Peça | J22: 5255 | L22: =K22-(SUM(N22:Y22)) -> 0 | M22: =IF(L22<0,"ATENÇÃO","OK") -> OK | N22: 0 | O22: 0 | P22: 0 | Q22: 0 | R22: 0 | S22: 0 | T22: 0 | U22: 0 | V22: 0 | W22: 0 | X22: 0 | Y22: 0
C23: 20 | D23: Treinamento Storage | E23: 339039.48 | G23: serviço | J23: 9430 | L23: =K23-(SUM(N23:Y23)) -> 0 | M23: =IF(L23<0,"ATENÇÃO","OK") -> OK | N23: 0 | O23: 0 | P23: 0 | Q23: 0 | R23: 0 | S23: 0 | T23: 0 | U23: 0 | V23: 0 | W23: 0 | X23: 0 | Y23: 0
B24: 20 | C24: 21 | D24: Serviços de instalação, configuração e garantia | E24: 339039.25 | G24: serviço | J24: 12650 | L24: =K24-(SUM(N24:Y24)) -> 0 | M24: =IF(L24<0,"ATENÇÃO","OK") -> OK | N24: 0 | O24: 0 | P24: 0 | Q24: 0 | R24: 0 | S24: 0 | T24: 0 | U24: 0 | V24: 0 | W24: 0 | X24: 0 | Y24: 0
A25: ZOOM Tecnologia LTDA | B25: 7 | C25: 22 | D25: Memória 16Gb para upgrade (Huawei PN:06200107) | E25: 339030.17 | G25: Peça | J25: 2422.5 | L25: =K25-(SUM(N25:Y25)) -> 0 | M25: =IF(L25<0,"ATENÇÃO","OK") -> OK | N25: 0 | O25: 0 | P25: 0 | Q25: 0 | R25: 0 | S25: 0 | T25: 0 | U25: 0 | V25: 0 | W25: 0 | X25: 0 | Y25: 0
B26: 20 | C26: 23 | D26: Processador E5-2620 para upgrade (Huawei PN:41020222) | E26: 339030.17 | G26: Peça | J26: 3445 | L26: =K26-(SUM(N26:Y26)) -> 0 | M26: =IF(L26<0,"ATENÇÃO","OK") -> OK | N26: 0 | O26: 0 | P26: 0 | Q26: 0 | R26: 0 | S26: 0 | T26: 0 | U26: 0 | V26: 0 | W26: 0 | X26: 0 | Y26: 0
B27: 21 | C27: 24 | D27: Fonte 460W para upgrade (Huawei PN:02131042) | E27: 339030.17 | G27: Peça | J27: 1270 | L27: =K27-(SUM(N27:Y27)) -> 0 | M27: =IF(L27<0,"ATENÇÃO","OK") -> OK | N27: 0 | O27: 0 | P27: 0 | Q27: 0 | R27: 0 | S27: 0 | T27: 0 | U27: 0 | V27: 0 | W27: 0 | X27: 0 | Y27: 0
A28: SEPROL Comércio e Consultoria em Informática LTDA | B28: 8 | C28: 25 | D28: Pente de Memória 8 Gb (PN 647897-b21) | E28: 339030.17 | G28: Peça | J28: 1300 | L28: =K28-(SUM(N28:Y28)) -> 0 | M28: =IF(L28<0,"ATENÇÃO","OK") -> OK | N28: 0 | O28: 0 | P28: 0 | Q28: 0 | R28: 0 | S28: 0 | T28: 0 | U28: 0 | V28: 0 | W28: 0 | X28: 0 | Y28: 0
B29: 21 | C29: 26 | D29: Pente de Memória 8 Gb (PN 500662-b21) | E29: 339030.17 | G29: Peça | J29: 2200 | L29: =K29-(SUM(N29:Y29)) -> 0 | M29: =IF(L29<0,"ATENÇÃO","OK") -> OK | N29: 0 | O29: 0 | P29: 0 | Q29: 0 | R29: 0 | S29: 0 | T29: 0 | U29: 0 | V29: 0 | W29: 0 | X29: 0 | Y29: 0
A30: SEPROL Comércio e Consultoria em Informática LTDA | B30: 9 | C30: 27 | D30: Fitas LTO4 | E30: 339030.17 | G30: Peça | J30: 220 | L30: =K30-(SUM(N30:Y30)) -> 0 | M30: =IF(L30<0,"ATENÇÃO","OK") -> OK | N30: 0 | O30: 0 | P30: 0 | Q30: 0 | R30: 0 | S30: 0 | T30: 0 | U30: 0 | V30: 0 | W30: 0 | X30: 0 | Y30: 0
A31: Deserto | B31: 10 | C31: 28 | D31: No-Break modelo 1 | E31: 449052.30 | G31: Peça | J31: Deserto | L31: =K31-(SUM(N31:Y31)) -> 0 | M31: =IF(L31<0,"ATENÇÃO","OK") -> OK | N31: 0 | O31: 0 | P31: 0 | Q31: 0 | R31: 0 | S31: 0 | T31: 0 | U31: 0 | V31: 0 | W31: 0 | X31: 0 | Y31: 0
C32: 29 | D32: Módulo de bateria – modelo 1 | E32: 449052.30 | G32: Peça | J32: Deserto | L32: =K32-(SUM(N32:Y32)) -> 0 | M32: =IF(L32<0,"ATENÇÃO","OK") -> OK | N32: 0 | O32: 0 | P32: 0 | Q32: 0 | R32: 0 | S32: 0 | T32: 0 | U32: 0 | V32: 0 | W32: 0 | X32: 0 | Y32: 0
A33: WEG Automação Critical Power LTDA | B33: 11 | C33: 30 | D33: No-Break modelo 2 | E33: 449052.30 | G33: Peça | J33: 7300 | K33: 8 | L33: =K33-(SUM(N33:Y33)) -> 2 | M33: =IF(L33<0,"ATENÇÃO","OK") -> OK | N33: 0 | O33: 3 | P33: 0 | Q33: 0 | R33: 0 | S33: 3 | T33: 0 | U33: 0 | V33: 0 | W33: 0 | X33: 0 | Y33: 0
C34: 31 | D34: Módulo de bateria – modelo 2 | E34: 449052.30 | G34: Peça | J34: 1825 | K34: 8 | L34: =K34-(SUM(N34:Y34)) -> 3 | M34: =IF(L34<0,"ATENÇÃO","OK") -> OK | N34: 0 | O34: 0 | P34: 0 | Q34: 0 | R34: 0 | S34: 5 | T34: 0 | U34: 0 | V34: 0 | W34: 0 | X34: 0 | Y34: 0
A35: WEG Automação Critical Power LTDA | B35: 12 | C35: 32 | D35: No-Break modelo 3 | E35: 449052.30 | G35: Peça | J35: 5923.52 | K35: =10-2-1-1-1 -> 5 | L35: =K35-(SUM(N35:Y35)) -> 3 | M35: =IF(L35<0,"ATENÇÃO","OK") -> OK | N35: 0 | O35: 2 | P35: 0 | Q35: 0 | R35: 0 | S35: 0 | T35: 0 | U35: 0 | V35: 0 | W35: 0 | X35: 0 | Y35: 0
C36: 33 | D36: Módulo de bateria – modelo 3 | E36: 449052.30 | G36: Peça | J36: 1900 | K36: =10-8-1-1 -> 0 | L36: =K36-(SUM(N36:Y36)) -> 0 | M36: =IF(L36<0,"ATENÇÃO","OK") -> OK | N36: 0 | O36: 0 | P36: 0 | Q36: 0 | R36: 0 | S36: 0 | T36: 0 | U36: 0 | V36: 0 | W36: 0 | X36: 0 | Y36: 0
D38: *Lotes 2 e 3 Infrutíferos
D39: *Lote 10 Deserto
D40: *Marca conforme Proposta Ajustada
D41: *Prazo de Entrega e Pagamento conforme Termo de Referência

Sheet PROJ-CEAD-SETIC
A1: PROCESSO: 1300/2014/UDESC | D1: OBJETO: Aquisição de equipamentos, materiais e serviços para upgrade da rede de computadores da UDESC | K1: VIGÊNCIA DA ATA: 02/12/2014 até 01/12/2015 | N1: AF nº 1652/2015 Qtde. DT | O1: AF/OS nº 1653/2015 Qtde. DT | P1: AF/OS nº xxxx/2014 Qtde. DT | Q1: AF/OS nº xxxx/2014 Qtde. DT | R1: AF/OS nº xxxx/2014 Qtde. DT | S1: AF/OS nº xxxx/2014 Qtde. DT | T1: AF/OS nº xxxx/2014 Qtde. DT | U1: AF/OS nº xxxx/2014 Qtde. DT | V1: AF/OS nº xxxx/2014 Qtde. DT | W1: AF/OS nº xxxx/2014 Qtde. DT | X1: AF/OS nº xxxx/2014 Qtde. DT | Y1: AF/OS nº xxxx/2014 Qtde. DT
A2: CENTRO PARTICIPANTE: PROJ-CEAD-SETIC
A3: FORNECEDOR | B3: LOTE | C3: ITEM | D3: Especificação - conforme complementação memorial descritivo | E3: ELEMENTO | F3: MARCA | G3: UNIDADE | H3: Entrega (Dias) | I3: Pagto. (Dias) | J3: Preço UNITÁRIO (R$) | K3: Qtde REGISTRADA | L3: Saldo / Automático | M3: ALERTA | N3: 42262 | O3: 42262 | P3: ...../...../...... | Q3: ...../...../...... | R3: ...../...../...... | S3: ...../...../...... | T3: ...../...../...... | U3: ...../...../...... | V3: ...../...../...... | W3: ...../...../...... | X3: ...../...../...... | Y3: ...../...../......
A4: ZOOM Tecnologia LTDA | B4: 1 | C4: 1 | D4: Mini Storage de Rede (CEAD) | E4: 449052.35 | G4: Peça | J4: 8884 | L4: =K4-(SUM(N4:Y4)) -> 0 | M4: =IF(L4<0,"ATENÇÃO","OK") -> OK | N4: 0 | O4: 0 | P4: 0 | Q4: 0 | R4: 0 | S4: 0 | T4: 0 | U4: 0 | V4: 0 | W4: 0 | X4: 0 | Y4: 0
A5: Infrutífero | B5: 2 | C5: 2 | D5: Wireless com antena direcional | E5: 449052.35 | G5: Peça | J5: Infrutífero | L5: =K5-(SUM(N5:Y5)) -> 0 | M5: =IF(L5<0,"ATENÇÃO","OK") -> OK | N5: 0 | O5: 0 | P5: 0 | Q5: 0 | R5: 0 | S5: 0 | T5: 0 | U5: 0 | V5: 0 | W5: 0 | X5: 0 | Y5: 0
A6: Infrutífero | B6: 3 | C6: 3 | D6: Câmera IP (CEART) | E6: 449052.33 | G6: Peça | J6: Infrutífero | L6: =K6-(SUM(N6:Y6)) -> 0 | M6: =IF(L6<0,"ATENÇÃO","OK") -> OK | N6: 0 | O6: 0 | P6: 0 | Q6: 0 | R6: 0 | S6: 0 | T6: 0 | U6: 0 | V6: 0 | W6: 0 | X6: 0 | Y6: 0
A7: ZOOM Tecnologia LTDA | B7: 4 | C7: 4 | D7: Switch Borda s/PoE 24p (DGOV) | E7: 449052.35 | G7: Peça | J7: 1320 | L7: =K7-(SUM(N7:Y7)) -> 0 | M7: =IF(L7<0,"ATENÇÃO","OK") -> OK | N7: 0 | O7: 0 | P7: 0 | Q7: 0 | R7: 0 | S7: 0 | T7: 0 | U7: 0 | V7: 0 | W7: 0 | X7: 0 | Y7: 0
C8: 5 | D8: Switch Borda PoE 24p | E8: 449052.35 | G8: Peça | J8: 3250 | L8: =K8-(SUM(N8:Y8)) -> 0 | M8: =IF(L8<0,"ATENÇÃO","OK") -> OK | N8: 0 | O8: 0 | P8: 0 | Q8: 0 | R8: 0 | S8: 0 | T8: 0 | U8: 0 | V8: 0 | W8: 0 | X8: 0 | Y8: 0
C9: 6 | D9: Mini-GBIC monomodo 1Gbps | E9: 449052.35 | G9: Peça | J9: 850 | L9: =K9-(SUM(N9:Y9)) -> 0 | M9: =IF(L9<0,"ATENÇÃO","OK") -> OK | N9: 0 | O9: 0 | P9: 0 | Q9: 0 | R9: 0 | S9: 0 | T9: 0 | U9: 0 | V9: 0 | W9: 0 | X9: 0 | Y9: 0
C10: 7 | D10: Mini-GBIC multimodo 1Gbps | E10: 449052.35 | G10: Peça | J10: 450 | L10: =K10-(SUM(N10:Y10)) -> 0 | M10: =IF(L10<0,"ATENÇÃO","OK") -> OK | N10: 0 | O10: 0 | P10: 0 | Q10: 0 | R10: 0 | S10: 0 | T10: 0 | U10: 0 | V10: 0 | W10: 0 | X10: 0 | Y10: 0
C11: 8 | D11: Roteador Unidades | E11: 449052.35 | G11: Peça | J11: 3245 | L11: =K11-(SUM(N11:Y11)) -> 0 | M11: =IF(L11<0,"ATENÇÃO","OK") -> OK | N11: 0 | O11: 0 | P11: 0 | Q11: 0 | R11: 0 | S11: 0 | T11: 0 | U11: 0 | V11: 0 | W11: 0 | X11: 0 | Y11: 0
C12: 9 | D12: Roteador Concentrador | E12: 449052.35 | G12: Peça | J12: 44000 | L12: =K12-(SUM(N12:Y12)) -> 0 | M12: =IF(L12<0,"ATENÇÃO","OK") -> OK | N12: 0 | O12: 0 | P12: 0 | Q12: 0 | R12: 0 | S12: 0 | T12: 0 | U12: 0 | V12: 0 | W12: 0 | X12: 0 | Y12: 0
C13: 10 | D13: Firewall | E13: 449052.35 | G13: Peça | J13: 69000 | L13: =K13-(SUM(N13:Y13)) -> 0 | M13: =IF(L13<0,"ATENÇÃO","OK") -> OK | N13: 0 | O13: 0 | P13: 0 | Q13: 0 | R13: 0 | S13: 0 | T13: 0 | U13: 0 | V13: 0 | W13: 0 | X13: 0 | Y13: 0
C14: 11 | D14: Software de Gerenciamento de Rede | E14: 449052.94 | G14: Peça | J14: 152390 | L14: =K14-(SUM(N14:Y14)) -> 0 | M14: =IF(L14<0,"ATENÇÃO","OK") -> OK | N14: 0 | O14: 0 | P14: 0 | Q14: 0 | R14: 0 | S14: 0 | T14: 0 | U14: 0 | V14: 0 | W14: 0 | X14: 0 | Y14: 0
C15: 12 | D15: Ponto de acesso a rede sem fio | E15: 449052.35 | G15: Peça | J15: 2300 | L15: =K15-(SUM(N15:Y15)) -> 0 | M15: =IF(L15<0,"ATENÇÃO","OK") -> OK | N15: 0 | O15: 0 | P15: 0 | Q15: 0 | R15: 0 | S15: 0 | T15: 0 | U15: 0 | V15: 0 | W15: 0 | X15: 0 | Y15: 0
C16: 13 | D16: Controladora WLAN | E16: 449052.35 | G16: Peça | J16: 68000 | L16: =K16-(SUM(N16:Y16)) -> 0 | M16: =IF(L16<0,"ATENÇÃO","OK") -> OK | N16: 0 | O16: 0 | P16: 0 | Q16: 0 | R16: 0 | S16: 0 | T16: 0 | U16: 0 | V16: 0 | W16: 0 | X16: 0 | Y16: 0
C17: 14 | D17: Licença Controladora WLAN | E17: 449052.94 | G17: Peça | J17: 10000 | L17: =K17-(SUM(N17:Y17)) -> 0 | M17: =IF(L17<0,"ATENÇÃO","OK") -> OK | N17: 0 | O17: 0 | P17: 0 | Q17: 0 | R17: 0 | S17: 0 | T17: 0 | U17: 0 | V17: 0 | W17: 0 | X17: 0 | Y17: 0
A18: ZOOM Tecnologia LTDA | B18: 5 | C18: 15 | D18: Switch SAN | E18: 449052.35 | G18: Peça | J18: 45000 | L18: =K18-(SUM(N18:Y18)) -> 0 | M18: =IF(L18<0,"ATENÇÃO","OK") -> OK | N18: 0 | O18: 0 | P18: 0 | Q18: 0 | R18: 0 | S18: 0 | T18: 0 | U18: 0 | V18: 0 | W18: 0 | X18: 0 | Y18: 0
B19: 18 | C19: 16 | D19: Placa HBA (material de consumo) | E19: 339030.17 | G19: Peça | J19: 3043.18 | L19: =K19-(SUM(N19:Y19)) -> 0 | M19: =IF(L19<0,"ATENÇÃO","OK") -> OK | N19: 0 | O19: 0 | P19: 0 | Q19: 0 | R19: 0 | S19: 0 | T19: 0 | U19: 0 | V19: 0 | W19: 0 | X19: 0 | Y19: 0
A20: SEPROL Comércio e Consultoria em Informática LTDA | B20: 6 | C20: 17 | D20: ENCLOSURE Expansão STORAGE HP (PN AG638) | E20: 339030.17 | G20: Peça | J20: 8860 | K20: 4 | L20: =K20-(SUM(N20:Y20)) -> 0 | M20: =IF(L20<0,"ATENÇÃO","OK") -> OK | N20: 4 | O20: 0 | P20: 0 | Q20: 0 | R20: 0 | S20: 0 | T20: 0 | U20: 0 | V20: 0 | W20: 0 | X20: 0 | Y20: 0
B21: 19 | C21: 18 | D21: Unidades de armazenamento de dados FC de 450GB (PN AG803B) | E21: 339030.17 | G21: Peça | J21: 5140 | K21: 24 | L21: =K21-(SUM(N21:Y21)) -> 0 | M21: =IF(L21<0,"ATENÇÃO","OK") -> OK | N21: 24 | O21: 0 | P21: 0 | Q21: 0 | R21: 0 | S21: 0 | T21: 0 | U21: 0 | V21: 0 | W21: 0 | X21: 0 | Y21: 0
C22: 19 | D22: Unidades de Armazenamento de dados FC de 1TB (PN AG691B) | E22: 339030.17 | G22: Peça | J22: 5255 | K22: 24 | L22: =K22-(SUM(N22:Y22)) -> 0 | M22: =IF(L22<0,"ATENÇÃO","OK") -> OK | N22: 24 | O22: 0 | P22: 0 | Q22: 0 | R22: 0 | S22: 0 | T22: 0 | U22: 0 | V22: 0 | W22: 0 | X22: 0 | Y22: 0
C23: 20 | D23: Treinamento Storage | E23: 339039.48 | G23: serviço | J23: 9430 | K23: 1 | L23: =K23-(SUM(N23:Y23)) -> 0 | M23: =IF(L23<0,"ATENÇÃO","OK") -> OK | N23: 1 | O23: 0 | P23: 0 | Q23: 0 | R23: 0 | S23: 0 | T23: 0 | U23: 0 | V23: 0 | W23: 0 | X23: 0 | Y23: 0
B24: 20 | C24: 21 | D24: Serviços de instalação, configuração e garantia | E24: 339039.25 | G24: serviço | J24: 12650 | K24: 1 | L24: =K24-(SUM(N24:Y24)) -> 0 | M24: =IF(L24<0,"ATENÇÃO","OK") -> OK | N24: 1 | O24: 0 | P24: 0 | Q24: 0 | R24: 0 | S24: 0 | T24: 0 | U24: 0 | V24: 0 | W24: 0 | X24: 0 | Y24: 0
A25: ZOOM Tecnologia LTDA | B25: 7 | C25: 22 | D25: Memória 16Gb para upgrade (Huawei PN:06200107) | E25: 339030.17 | G25: Peça | J25: 2422.5 | K25: 40 | L25: =K25-(SUM(N25:Y25)) -> 0 | M25: =IF(L25<0,"ATENÇÃO","OK") -> OK | O25: 40 | P25: 0 | Q25: 0 | R25: 0 | S25: 0 | T25: 0 | U25: 0 | V25: 0 | W25: 0 | X25: 0 | Y25: 0
B26: 20 | C26: 23 | D26: Processador E5-2620 para upgrade (Huawei PN:41020222) | E26: 339030.17 | G26: Peça | J26: 3445 | K26: 20 | L26: =K26-(SUM(N26:Y26)) -> 0 | M26: =IF(L26<0,"ATENÇÃO","OK") -> OK | O26: 20 | P26: 0 | Q26: 0 | R26: 0 | S26: 0 | T26: 0 | U26: 0 | V26: 0 | W26: 0 | X26: 0 | Y26: 0
B27: 21 | C27: 24 | D27: Fonte 460W para upgrade (Huawei PN:02131042) | E27: 339030.17 | G27: Peça | J27: 1270 | K27: 20 | L27: =K27-(SUM(N27:Y27)) -> 0 | M27: =IF(L27<0,"ATENÇÃO","OK") -> OK | N27: 0 | O27: 20 | P27: 0 | Q27: 0 | R27: 0 | S27: 0 | T27: 0 | U27: 0 | V27: 0 | W27: 0 | X27: 0 | Y27: 0
A28: SEPROL Comércio e Consultoria em Informática LTDA | B28: 8 | C28: 25 | D28: Pente de Memória 8 Gb (PN 647897-b21) | E28: 339030.17 | G28: Peça | J28: 1300 | K28: 4 | L28: =K28-(SUM(N28:Y28)) -> 0 | M28: =IF(L28<0,"ATENÇÃO","OK") -> OK | N28: 4 | O28: 0 | P28: 0 | Q28: 0 | R28: 0 | S28: 0 | T28: 0 | U28: 0 | V28: 0 | W28: 0 | X28: 0 | Y28: 0
B29: 21 | C29: 26 | D29: Pente de Memória 8 Gb (PN 500662-b21) | E29: 339030.17 | G29: Peça | J29: 2200 | K29: 4 | L29: =K29-(SUM(N29:Y29)) -> 0 | M29: =IF(L29<0,"ATENÇÃO","OK") -> OK | N29: 4 | O29: 0 | P29: 0 | Q29: 0 | R29: 0 | S29: 0 | T29: 0 | U29: 0 | V29: 0 | W29: 0 | X29: 0 | Y29: 0
A30: SEPROL Comércio e Consultoria em Informática LTDA | B30: 9 | C30: 27 | D30: Fitas LTO4 | E30: 339030.17 | G30: Peça | J30: 220 | K30: 95 | L30: =K30-(SUM(N30:Y30)) -> 0 | M30: =IF(L30<0,"ATENÇÃO","OK") -> OK | N30: 95 | O30: 0 | P30: 0 | Q30: 0 | R30: 0 | S30: 0 | T30: 0 | U30: 0 | V30: 0 | W30: 0 | X30: 0 | Y30: 0
A31: Deserto | B31: 10 | C31: 28 | D31: No-Break modelo 1 | E31: 449052.30 | G31: Peça | J31: Deserto | L31: =K31-(SUM(N31:Y31)) -> 0 | M31: =IF(L31<0,"ATENÇÃO","OK") -> OK | N31: 0 | O31: 0 | P31: 0 | Q31: 0 | R31: 0 | S31: 0 | T31: 0 | U31: 0 | V31: 0 | W31: 0 | X31: 0 | Y31: 0
C32: 29 | D32: Módulo de bateria – modelo 1 | E32: 449052.30 | G32: Peça | J32: Deserto | L32: =K32-(SUM(N32:Y32)) -> 0 | M32: =IF(L32<0,"ATENÇÃO","OK") -> OK | N32: 0 | O32: 0 | P32: 0 | Q32: 0 | R32: 0 | S32: 0 | T32: 0 | U32: 0 | V32: 0 | W32: 0 | X32: 0 | Y32: 0
A33: WEG Automação Critical Power LTDA | B33: 11 | C33: 30 | D33: No-Break modelo 2 | E33: 449052.30 | G33: Peça | J33: 7300 | L33: =K33-(SUM(N33:Y33)) -> 0 | M33: =IF(L33<0,"ATENÇÃO","OK") -> OK | N33: 0 | O33: 0 | P33: 0 | Q33: 0 | R33: 0 | S33: 0 | T33: 0 | U33: 0 | V33: 0 | W33: 0 | X33: 0 | Y33: 0
C34: 31 | D34: Módulo de bateria – modelo 2 | E34: 449052.30 | G34: Peça | J34: 1825 | L34: =K34-(SUM(N34:Y34)) -> 0 | M34: =IF(L34<0,"ATENÇÃO","OK") -> OK | N34: 0 | O34: 0 | P34: 0 | Q34: 0 | R34: 0 | S34: 0 | T34: 0 | U34: 0 | V34: 0 | W34: 0 | X34: 0 | Y34: 0
A35: WEG Automação Critical Power LTDA | B35: 12 | C35: 32 | D35: No-Break modelo 3 | E35: 449052.30 | G35: Peça | J35: 5923.52 | L35: =K35-(SUM(N35:Y35)) -> 0 | M35: =IF(L35<0,"ATENÇÃO","OK") -> OK | N35: 0 | O35: 0 | P35: 0 | Q35: 0 | R35: 0 | S35: 0 | T35: 0 | U35: 0 | V35: 0 | W35: 0 | X35: 0 | Y35: 0
C36: 33 | D36: Módulo de bateria – modelo 3 | E36: 449052.30 | G36: Peça | J36: 1900 | L36: =K36-(SUM(N36:Y36)) -> 0 | M36: =IF(L36<0,"ATENÇÃO","OK") -> OK | N36: 0 | O36: 0 | P36: 0 | Q36: 0 | R36: 0 | S36: 0 | T36: 0 | U36: 0 | V36: 0 | W36: 0 | X36: 0 | Y36: 0
D38: *Lotes 2 e 3 Infrutíferos
D39: *Lote 10 Deserto
D40: *Marca conforme Proposta Ajustada
D41: *Prazo de Entrega e Pagamento conforme Termo de Referência

Sheet ESAG
A1: PROCESSO: 1300/2014/UDESC | D1: OBJETO: Aquisição de equipamentos, materiais e serviços para upgrade da rede de computadores da UDESC | K1: VIGÊNCIA DA ATA: 02/12/2014 até 01/12/2015 | N1: AF 301/2015Qtde. DT | O1: AF/OS nº xxxx/2014 Qtde. DT | P1: AF/OS nº xxxx/2014 Qtde. DT | Q1: AF/OS nº xxxx/2014 Qtde. DT | R1: AF/OS nº xxxx/2014 Qtde. DT | S1: AF/OS nº xxxx/2014 Qtde. DT | T1: AF/OS nº xxxx/2014 Qtde. DT | U1: AF/OS nº xxxx/2014 Qtde. DT | V1: AF/OS nº xxxx/2014 Qtde. DT | W1: AF/OS nº xxxx/2014 Qtde. DT | X1: AF/OS nº xxxx/2014 Qtde. DT | Y1: AF/OS nº xxxx/2014 Qtde. DT
A2: CENTRO PARTICIPANTE: ESAG
A3: FORNECEDOR | B3: LOTE | C3: ITEM | D3: Especificação - conforme complementação memorial descritivo | E3: ELEMENTO | F3: MARCA | G3: UNIDADE | H3: Entrega (Dias) | I3: Pagto. (Dias) | J3: Preço UNITÁRIO (R$) | K3: Qtde REGISTRADA | L3: Saldo / Automático | M3: ALERTA | N3: ...../...../...... | O3: ...../...../...... | P3: ...../...../...... | Q3: ...../...../...... | R3: ...../...../...... | S3: ...../...../...... | T3: ...../...../...... | U3: ...../...../...... | V3: ...../...../...... | W3: ...../...../...... | X3: ...../...../...... | Y3: ...../...../......
A4: ZOOM Tecnologia LTDA | B4: 1 | C4: 1 | D4: Mini Storage de Rede (CEAD) | E4: 449052.35 | G4: Peça | J4: 8884 | L4: =K4-(SUM(N4:Y4)) -> 0 | M4: =IF(L4<0,"ATENÇÃO","OK") -> OK | O4: 0 | P4: 0 | Q4: 0 | R4: 0 | S4: 0 | T4: 0 | U4: 0 | V4: 0 | W4: 0 | X4: 0 | Y4: 0
A5: Infrutífero | B5: 2 | C5: 2 | D5: Wireless com antena direcional | E5: 449052.35 | G5: Peça | J5: Infrutífero | L5: =K5-(SUM(N5:Y5)) -> 0 | M5: =IF(L5<0,"ATENÇÃO","OK") -> OK | O5: 0 | P5: 0 | Q5: 0 | R5: 0 | S5: 0 | T5: 0 | U5: 0 | V5: 0 | W5: 0 | X5: 0 | Y5: 0
A6: Infrutífero | B6: 3 | C6: 3 | D6: Câmera IP (CEART) | E6: 449052.33 | G6: Peça | J6: Infrutífero | L6: =K6-(SUM(N6:Y6)) -> 0 | M6: =IF(L6<0,"ATENÇÃO","OK") -> OK | O6: 0 | P6: 0 | Q6: 0 | R6: 0 | S6: 0 | T6: 0 | U6: 0 | V6: 0 | W6: 0 | X6: 0 | Y6: 0
A7: ZOOM Tecnologia LTDA | B7: 4 | C7: 4 | D7: Switch Borda s/PoE 24p (DGOV) | E7: 449052.35 | G7: Peça | J7: 1320 | K7: 2 | L7: =K7-(SUM(N7:Y7)) -> 0 | M7: =IF(L7<0,"ATENÇÃO","OK") -> OK | N7: 2 | O7: 0 | P7: 0 | Q7: 0 | R7: 0 | S7: 0 | T7: 0 | U7: 0 | V7: 0 | W7: 0 | X7: 0 | Y7: 0
C8: 5 | D8: Switch Borda PoE 24p | E8: 449052.35 | G8: Peça | J8: 3250 | K8: 5 | L8: =K8-(SUM(N8:Y8)) -> 0 | M8: =IF(L8<0,"ATENÇÃO","OK") -> OK | N8: 5 | O8: 0 | P8: 0 | Q8: 0 | R8: 0 | S8: 0 | T8: 0 | U8: 0 | V8: 0 | W8: 0 | X8: 0 | Y8: 0
C9: 6 | D9: Mini-GBIC monomodo 1Gbps | E9: 449052.35 | G9: Peça | J9: 850 | L9: =K9-(SUM(N9:Y9)) -> 0 | M9: =IF(L9<0,"ATENÇÃO","OK") -> OK | O9: 0 | P9: 0 | Q9: 0 | R9: 0 | S9: 0 | T9: 0 | U9: 0 | V9: 0 | W9: 0 | X9: 0 | Y9: 0
C10: 7 | D10: Mini-GBIC multimodo 1Gbps | E10: 449052.35 | G10: Peça | J10: 450 | K10: 1 | L10: =K10-(SUM(N10:Y10)) -> 0 | M10: =IF(L10<0,"ATENÇÃO","OK") -> OK | N10: 1 | O10: 0 | P10: 0 | Q10: 0 | R10: 0 | S10: 0 | T10: 0 | U10: 0 | V10: 0 | W10: 0 | X10: 0 | Y10: 0
C11: 8 | D11: Roteador Unidades | E11: 449052.35 | G11: Peça | J11: 3245 | L11: =K11-(SUM(N11:Y11)) -> 0 | M11: =IF(L11<0,"ATENÇÃO","OK") -> OK | O11: 0 | P11: 0 | Q11: 0 | R11: 0 | S11: 0 | T11: 0 | U11: 0 | V11: 0 | W11: 0 | X11: 0 | Y11: 0
C12: 9 | D12: Roteador Concentrador | E12: 449052.35 | G12: Peça | J12: 44000 | L12: =K12-(SUM(N12:Y12)) -> 0 | M12: =IF(L12<0,"ATENÇÃO","OK") -> OK | O12: 0 | P12: 0 | Q12: 0 | R12: 0 | S12: 0 | T12: 0 | U12: 0 | V12: 0 | W12: 0 | X12: 0 | Y12: 0
C13: 10 | D13: Firewall | E13: 449052.35 | G13: Peça | J13: 69000 | L13: =K13-(SUM(N13:Y13)) -> 0 | M13: =IF(L13<0,"ATENÇÃO","OK") -> OK | O13: 0 | P13: 0 | Q13: 0 | R13: 0 | S13: 0 | T13: 0 | U13: 0 | V13: 0 | W13: 0 | X13: 0 | Y13: 0
C14: 11 | D14: Software de Gerenciamento de Rede | E14: 449052.94 | G14: Peça | J14: 152390 | L14: =K14-(SUM(N14:Y14)) -> 0 | M14: =IF(L14<0,"ATENÇÃO","OK") -> OK | O14: 0 | P14: 0 | Q14: 0 | R14: 0 | S14: 0 | T14: 0 | U14: 0 | V14: 0 | W14: 0 | X14: 0 | Y14: 0
C15: 12 | D15: Ponto de acesso a rede sem fio | E15: 449052.35 | G15: Peça | J15: 2300 | K15: 15 | L15: =K15-(SUM(N15:Y15)) -> 0 | M15: =IF(L15<0,"ATENÇÃO","OK") -> OK | N15: 15 | O15: 0 | P15: 0 | Q15: 0 | R15: 0 | S15: 0 | T15: 0 | U15: 0 | V15: 0 | W15: 0 | X15: 0 | Y15: 0
C16: 13 | D16: Controladora WLAN | E16: 449052.35 | G16: Peça | J16: 68000 | L16: =K16-(SUM(N16:Y16)) -> 0 | M16: =IF(L16<0,"ATENÇÃO","OK") -> OK | N16: 0 | O16: 0 | P16: 0 | Q16: 0 | R16: 0 | S16: 0 | T16: 0 | U16: 0 | V16: 0 | W16: 0 | X16: 0 | Y16: 0
C17: 14 | D17: Licença Controladora WLAN | E17: 449052.94 | G17: Peça | J17: 10000 | L17: =K17-(SUM(N17:Y17)) -> 0 | M17: =IF(L17<0,"ATENÇÃO","OK") -> OK | N17: 0 | O17: 0 | P17: 0 | Q17: 0 | R17: 0 | S17: 0 | T17: 0 | U17: 0 | V17: 0 | W17: 0 | X17: 0 | Y17: 0
A18: ZOOM Tecnologia LTDA | B18: 5 | C18: 15 | D18: Switch SAN | E18: 449052.35 | G18: Peça | J18: 45000 | L18: =K18-(SUM(N18:Y18)) -> 0 | M18: =IF(L18<0,"ATENÇÃO","OK") -> OK | N18: 0 | O18: 0 | P18: 0 | Q18: 0 | R18: 0 | S18: 0 | T18: 0 | U18: 0 | V18: 0 | W18: 0 | X18: 0 | Y18: 0
B19: 18 | C19: 16 | D19: Placa HBA (material de consumo) | E19: 339030.17 | G19: Peça | J19: 3043.18 | L19: =K19-(SUM(N19:Y19)) -> 0 | M19: =IF(L19<0,"ATENÇÃO","OK") -> OK | N19: 0 | O19: 0 | P19: 0 | Q19: 0 | R19: 0 | S19: 0 | T19: 0 | U19: 0 | V19: 0 | W19: 0 | X19: 0 | Y19: 0
A20: SEPROL Comércio e Consultoria em Informática LTDA | B20: 6 | C20: 17 | D20: ENCLOSURE Expansão STORAGE HP (PN AG638) | E20: 339030.17 | G20: Peça | J20: 8860 | L20: =K20-(SUM(N20:Y20)) -> 0 | M20: =IF(L20<0,"ATENÇÃO","OK") -> OK | N20: 0 | O20: 0 | P20: 0 | Q20: 0 | R20: 0 | S20: 0 | T20: 0 | U20: 0 | V20: 0 | W20: 0 | X20: 0 | Y20: 0
B21: 19 | C21: 18 | D21: Unidades de armazenamento de dados FC de 450GB (PN AG803B) | E21: 339030.17 | G21: Peça | J21: 5140 | L21: =K21-(SUM(N21:Y21)) -> 0 | M21: =IF(L21<0,"ATENÇÃO","OK") -> OK | N21: 0 | O21: 0 | P21: 0 | Q21: 0 | R21: 0 | S21: 0 | T21: 0 | U21: 0 | V21: 0 | W21: 0 | X21: 0 | Y21: 0
C22: 19 | D22: Unidades de Armazenamento de dados FC de 1TB (PN AG691B) | E22: 339030.17 | G22: Peça | J22: 5255 | L22: =K22-(SUM(N22:Y22)) -> 0 | M22: =IF(L22<0,"ATENÇÃO","OK") -> OK | N22: 0 | O22: 0 | P22: 0 | Q22: 0 | R22: 0 | S22: 0 | T22: 0 | U22: 0 | V22: 0 | W22: 0 | X22: 0 | Y22: 0
C23: 20 | D23: Treinamento Storage | E23: 339039.48 | G23: serviço | J23: 9430 | L23: =K23-(SUM(N23:Y23)) -> 0 | M23: =IF(L23<0,"ATENÇÃO","OK") -> OK | N23: 0 | O23: 0 | P23: 0 | Q23: 0 | R23: 0 | S23: 0 | T23: 0 | U23: 0 | V23: 0 | W23: 0 | X23: 0 | Y23: 0
B24: 20 | C24: 21 | D24: Serviços de instalação, configuração e garantia | E24: 339039.25 | G24: serviço | J24: 12650 | L24: =K24-(SUM(N24:Y24)) -> 0 | M24: =IF(L24<0,"ATENÇÃO","OK") -> OK | N24: 0 | O24: 0 | P24: 0 | Q24: 0 | R24: 0 | S24: 0 | T24: 0 | U24: 0 | V24: 0 | W24: 0 | X24: 0 | Y24: 0
A25: ZOOM Tecnologia LTDA | B25: 7 | C25: 22 | D25: Memória 16Gb para upgrade (Huawei PN:06200107) | E25: 339030.17 | G25: Peça | J25: 2422.5 | L25: =K25-(SUM(N25:Y25)) -> 0 | M25: =IF(L25<0,"ATENÇÃO","OK") -> OK | N25: 0 | O25: 0 | P25: 0 | Q25: 0 | R25: 0 | S25: 0 | T25: 0 | U25: 0 | V25: 0 | W25: 0 | X25: 0 | Y25: 0
B26: 20 | C26: 23 | D26: Processador E5-2620 para upgrade (Huawei PN:41020222) | E26: 339030.17 | G26: Peça | J26: 3445 | L26: =K26-(SUM(N26:Y26)) -> 0 | M26: =IF(L26<0,"ATENÇÃO","OK") -> OK | N26: 0 | O26: 0 | P26: 0 | Q26: 0 | R26: 0 | S26: 0 | T26: 0 | U26: 0 | V26: 0 | W26: 0 | X26: 0 | Y26: 0
B27: 21 | C27: 24 | D27: Fonte 460W para upgrade (Huawei PN:02131042) | E27: 339030.17 | G27: Peça | J27: 1270 | L27: =K27-(SUM(N27:Y27)) -> 0 | M27: =IF(L27<0,"ATENÇÃO","OK") -> OK | N27: 0 | O27: 0 | P27: 0 | Q27: 0 | R27: 0 | S27: 0 | T27: 0 | U27: 0 | V27: 0 | W27: 0 | X27: 0 | Y27: 0
A28: SEPROL Comércio e Consultoria em Informática LTDA | B28: 8 | C28: 25 | D28: Pente de Memória 8 Gb (PN 647897-b21) | E28: 339030.17 | G28: Peça | J28: 1300 | L28: =K28-(SUM(N28:Y28)) -> 0 | M28: =IF(L28<0,"ATENÇÃO","OK") -> OK | N28: 0 | O28: 0 | P28: 0 | Q28: 0 | R28: 0 | S28: 0 | T28: 0 | U28: 0 | V28: 0 | W28: 0 | X28: 0 | Y28: 0
B29: 21 | C29: 26 | D29: Pente de Memória 8 Gb (PN 500662-b21) | E29: 339030.17 | G29: Peça | J29: 2200 | L29: =K29-(SUM(N29:Y29)) -> 0 | M29: =IF(L29<0,"ATENÇÃO","OK") -> OK | N29: 0 | O29: 0 | P29: 0 | Q29: 0 | R29: 0 | S29: 0 | T29: 0 | U29: 0 | V29: 0 | W29: 0 | X29: 0 | Y29: 0
A30: SEPROL Comércio e Consultoria em Informática LTDA | B30: 9 | C30: 27 | D30: Fitas LTO4 | E30: 339030.17 | G30: Peça | J30: 220 | L30: =K30-(SUM(N30:Y30)) -> 0 | M30: =IF(L30<0,"ATENÇÃO","OK") -> OK | N30: 0 | O30: 0 | P30: 0 | Q30: 0 | R30: 0 | S30: 0 | T30: 0 | U30: 0 | V30: 0 | W30: 0 | X30: 0 | Y30: 0
A31: Deserto | B31: 10 | C31: 28 | D31: No-Break modelo 1 | E31: 449052.30 | G31: Peça | J31: Deserto | L31: =K31-(SUM(N31:Y31)) -> 0 | M31: =IF(L31<0,"ATENÇÃO","OK") -> OK | N31: 0 | O31: 0 | P31: 0 | Q31: 0 | R31: 0 | S31: 0 | T31: 0 | U31: 0 | V31: 0 | W31: 0 | X31: 0 | Y31: 0
C32: 29 | D32: Módulo de bateria – modelo 1 | E32: 449052.30 | G32: Peça | J32: Deserto | L32: =K32-(SUM(N32:Y32)) -> 0 | M32: =IF(L32<0,"ATENÇÃO","OK") -> OK | N32: 0 | O32: 0 | P32: 0 | Q32: 0 | R32: 0 | S32: 0 | T32: 0 | U32: 0 | V32: 0 | W32: 0 | X32: 0 | Y32: 0
A33: WEG Automação Critical Power LTDA | B33: 11 | C33: 30 | D33: No-Break modelo 2 | E33: 449052.30 | G33: Peça | J33: 7300 | L33: =K33-(SUM(N33:Y33)) -> 0 | M33: =IF(L33<0,"ATENÇÃO","OK") -> OK | N33: 0 | O33: 0 | P33: 0 | Q33: 0 | R33: 0 | S33: 0 | T33: 0 | U33: 0 | V33: 0 | W33: 0 | X33: 0 | Y33: 0
C34: 31 | D34: Módulo de bateria – modelo 2 | E34: 449052.30 | G34: Peça | J34: 1825 | L34: =K34-(SUM(N34:Y34)) -> 0 | M34: =IF(L34<0,"ATENÇÃO","OK") -> OK | N34: 0 | O34: 0 | P34: 0 | Q34: 0 | R34: 0 | S34: 0 | T34: 0 | U34: 0 | V34: 0 | W34: 0 | X34: 0 | Y34: 0
A35: WEG Automação Critical Power LTDA | B35: 12 | C35: 32 | D35: No-Break modelo 3 | E35: 449052.30 | G35: Peça | J35: 5923.52 | L35: =K35-(SUM(N35:Y35)) -> 0 | M35: =IF(L35<0,"ATENÇÃO","OK") -> OK | N35: 0 | O35: 0 | P35: 0 | Q35: 0 | R35: 0 | S35: 0 | T35: 0 | U35: 0 | V35: 0 | W35: 0 | X35: 0 | Y35: 0
C36: 33 | D36: Módulo de bateria – modelo 3 | E36: 449052.30 | G36: Peça | J36: 1900 | L36: =K36-(SUM(N36:Y36)) -> 0 | M36: =IF(L36<0,"ATENÇÃO","OK") -> OK | N36: 0 | O36: 0 | P36: 0 | Q36: 0 | R36: 0 | S36: 0 | T36: 0 | U36: 0 | V36: 0 | W36: 0 | X36: 0 | Y36: 0
D38: *Lotes 2 e 3 Infrutíferos
D39: *Lote 10 Deserto
D40: *Marca conforme Proposta Ajustada
D41: *Prazo de Entrega e Pagamento conforme Termo de Referência

Sheet CEART
A1: PROCESSO: 1300/2014/UDESC | D1: OBJETO: Aquisição de equipamentos, materiais e serviços para upgrade da rede de computadores da UDESC | K1: VIGÊNCIA DA ATA: 02/12/2014 até 01/12/2015 | N1: AF 352/2015 | O1: AF 1705/2015 | P1: AF. | Q1: AF/OS nº xxxx/2014 Qtde. DT | R1: AF/OS nº xxxx/2014 Qtde. DT | S1: AF/OS nº xxxx/2014 Qtde. DT | T1: AF/OS nº xxxx/2014 Qtde. DT | U1: AF/OS nº xxxx/2014 Qtde. DT | V1: AF/OS nº xxxx/2014 Qtde. DT | W1: AF/OS nº xxxx/2014 Qtde. DT | X1: AF/OS nº xxxx/2014 Qtde. DT
A2: CENTRO PARTICIPANTE: CEART
A3: FORNECEDOR | B3: LOTE | C3: ITEM | D3: Especificação - conforme complementação memorial descritivo | E3: ELEMENTO | F3: MARCA | G3: UNIDADE | H3: Entrega (Dias) | I3: Pagto. (Dias) | J3: Preço UNITÁRIO (R$) | K3: Qtde REGISTRADA | L3: Saldo / Automático | M3: ALERTA | N3: 42090 | O3: 42269 | P3: 42311 | Q3: ...../...../...... | R3: ...../...../...... | S3: ...../...../...... | T3: ...../...../...... | U3: ...../...../...... | V3: ...../...../...... | W3: ...../...../...... | X3: ...../...../......
A4: ZOOM Tecnologia LTDA | B4: 1 | C4: 1 | D4: CANCELADO | E4: 449052.35 | G4: Peça | J4: 8884 | K4: 1 | L4: =K4-(SUM(N4:X4)) -> 0 | M4: =IF(L4<0,"ATENÇÃO","OK") -> OK | N4: 0 | O4: 1 | P4: 0 | Q4: 0 | R4: 0 | S4: 0 | T4: 0 | U4: 0 | V4: 0 | W4: 0 | X4: 0
A5: Infrutífero | B5: 2 | C5: 2 | D5: Wireless com antena direcional | E5: 449052.35 | G5: Peça | J5: Infrutífero | L5: =K5-(SUM(N5:X5)) -> 0 | M5: =IF(L5<0,"ATENÇÃO","OK") -> OK | N5: 0 | O5: 0 | P5: 0 | Q5: 0 | R5: 0 | S5: 0 | T5: 0 | U5: 0 | V5: 0 | W5: 0 | X5: 0
A6: Infrutífero | B6: 3 | C6: 3 | D6: Câmera IP (CEART) | E6: 449052.33 | G6: Peça | J6: Infrutífero | L6: =K6-(SUM(N6:X6)) -> 0 | M6: =IF(L6<0,"ATENÇÃO","OK") -> OK | N6: 0 | O6: 0 | P6: 0 | Q6: 0 | R6: 0 | S6: 0 | T6: 0 | U6: 0 | V6: 0 | W6: 0 | X6: 0
A7: ZOOM Tecnologia LTDA | B7: 4 | C7: 4 | D7: Switch Borda s/PoE 24p (DGOV) | E7: 449052.35 | G7: Peça | J7: 1320 | L7: =K7-(SUM(N7:X7)) -> 0 | M7: =IF(L7<0,"ATENÇÃO","OK") -> OK | N7: 0 | O7: 0 | P7: 0 | Q7: 0 | R7: 0 | S7: 0 | T7: 0 | U7: 0 | V7: 0 | W7: 0 | X7: 0
C8: 5 | D8: Switch Borda PoE 24p | E8: 449052.35 | G8: Peça | J8: 3250 | K8: 10 | L8: =K8-(SUM(N8:X8)) -> 0 | M8: =IF(L8<0,"ATENÇÃO","OK") -> OK | N8: 10 | O8: 0 | P8: 0 | Q8: 0 | R8: 0 | S8: 0 | T8: 0 | U8: 0 | V8: 0 | W8: 0 | X8: 0
C9: 6 | D9: Mini-GBIC monomodo 1Gbps | E9: 449052.35 | G9: Peça | J9: 850 | L9: =K9-(SUM(N9:X9)) -> 0 | M9: =IF(L9<0,"ATENÇÃO","OK") -> OK | N9: 0 | O9: 0 | P9: 0 | Q9: 0 | R9: 0 | S9: 0 | T9: 0 | U9: 0 | V9: 0 | W9: 0 | X9: 0
C10: 7 | D10: Mini-GBIC multimodo 1Gbps | E10: 449052.35 | G10: Peça | J10: 450 | L10: =K10-(SUM(N10:X10)) -> 0 | M10: =IF(L10<0,"ATENÇÃO","OK") -> OK | N10: 0 | O10: 0 | P10: 0 | Q10: 0 | R10: 0 | S10: 0 | T10: 0 | U10: 0 | V10: 0 | W10: 0 | X10: 0
C11: 8 | D11: Roteador Unidades | E11: 449052.35 | G11: Peça | J11: 3245 | L11: =K11-(SUM(N11:X11)) -> 0 | M11: =IF(L11<0,"ATENÇÃO","OK") -> OK | N11: 0 | O11: 0 | P11: 0 | Q11: 0 | R11: 0 | S11: 0 | T11: 0 | U11: 0 | V11: 0 | W11: 0 | X11: 0
C12: 9 | D12: Roteador Concentrador | E12: 449052.35 | G12: Peça | J12: 44000 | L12: =K12-(SUM(N12:X12)) -> 0 | M12: =IF(L12<0,"ATENÇÃO","OK") -> OK | N12: 0 | O12: 0 | P12: 0 | Q12: 0 | R12: 0 | S12: 0 | T12: 0 | U12: 0 | V12: 0 | W12: 0 | X12: 0
C13: 10 | D13: Firewall | E13: 449052.35 | G13: Peça | J13: 69000 | L13: =K13-(SUM(N13:X13)) -> 0 | M13: =IF(L13<0,"ATENÇÃO","OK") -> OK | N13: 0 | O13: 0 | P13: 0 | Q13: 0 | R13: 0 | S13: 0 | T13: 0 | U13: 0 | V13: 0 | W13: 0 | X13: 0
C14: 11 | D14: Software de Gerenciamento de Rede | E14: 449052.94 | G14: Peça | J14: 152390 | L14: =K14-(SUM(N14:X14)) -> 0 | M14: =IF(L14<0,"ATENÇÃO","OK") -> OK | N14: 0 | O14: 0 | P14: 0 | Q14: 0 | R14: 0 | S14: 0 | T14: 0 | U14: 0 | V14: 0 | W14: 0 | X14: 0
C15: 12 | D15: Ponto de acesso a rede sem fio | E15: 449052.35 | F15: Huawei AP4030DN 802,11 | G15: Peça | J15: 2300 | K15: 10 | L15: =K15-(SUM(N15:X15)) -> 0 | M15: =IF(L15<0,"ATENÇÃO","OK") -> OK | N15: 10 | O15: 0 | P15: 0 | Q15: 0 | R15: 0 | S15: 0 | T15: 0 | U15: 0 | V15: 0 | W15: 0 | X15: 0
C16: 13 | D16: Controladora WLAN | E16: 449052.35 | G16: Peça | J16: 68000 | L16: =K16-(SUM(N16:X16)) -> 0 | M16: =IF(L16<0,"ATENÇÃO","OK") -> OK | N16: 0 | O16: 0 | P16: 0 | Q16: 0 | R16: 0 | S16: 0 | T16: 0 | U16: 0 | V16: 0 | W16: 0 | X16: 0
C17: 14 | D17: Licença Controladora WLAN | E17: 449052.94 | G17: Peça | J17: 10000 | L17: =K17-(SUM(N17:X17)) -> 0 | M17: =IF(L17<0,"ATENÇÃO","OK") -> OK | N17: 0 | O17: 0 | P17: 0 | Q17: 0 | R17: 0 | S17: 0 | T17: 0 | U17: 0 | V17: 0 | W17: 0 | X17: 0
A18: ZOOM Tecnologia LTDA | B18: 5 | C18: 15 | D18: Switch SAN | E18: 449052.35 | G18: Peça | J18: 45000 | L18: =K18-(SUM(N18:X18)) -> 0 | M18: =IF(L18<0,"ATENÇÃO","OK") -> OK | N18: 0 | O18: 0 | P18: 0 | Q18: 0 | R18: 0 | S18: 0 | T18: 0 | U18: 0 | V18: 0 | W18: 0 | X18: 0
B19: 18 | C19: 16 | D19: Placa HBA (material de consumo) | E19: 339030.17 | G19: Peça | J19: 3043.18 | L19: =K19-(SUM(N19:X19)) -> 0 | M19: =IF(L19<0,"ATENÇÃO","OK") -> OK | N19: 0 | O19: 0 | P19: 0 | Q19: 0 | R19: 0 | S19: 0 | T19: 0 | U19: 0 | V19: 0 | W19: 0 | X19: 0
A20: SEPROL Comércio e Consultoria em Informática LTDA | B20: 6 | C20: 17 | D20: ENCLOSURE Expansão STORAGE HP (PN AG638) | E20: 339030.17 | G20: Peça | J20: 8860 | L20: =K20-(SUM(N20:X20)) -> 0 | M20: =IF(L20<0,"ATENÇÃO","OK") -> OK | N20: 0 | O20: 0 | P20: 0 | Q20: 0 | R20: 0 | S20: 0 | T20: 0 | U20: 0 | V20: 0 | W20: 0 | X20: 0
B21: 19 | C21: 18 | D21: Unidades de armazenamento de dados FC de 450GB (PN AG803B) | E21: 339030.17 | G21: Peça | J21: 5140 | L21: =K21-(SUM(N21:X21)) -> 0 | M21: =IF(L21<0,"ATENÇÃO","OK") -> OK | N21: 0 | O21: 0 | P21: 0 | Q21: 0 | R21: 0 | S21: 0 | T21: 0 | U21: 0 | V21: 0 | W21: 0 | X21: 0
C22: 19 | D22: Unidades de Armazenamento de dados FC de 1TB (PN AG691B) | E22: 339030.17 | G22: Peça | J22: 5255 | L22: =K22-(SUM(N22:X22)) -> 0 | M22: =IF(L22<0,"ATENÇÃO","OK") -> OK | N22: 0 | O22: 0 | P22: 0 | Q22: 0 | R22: 0 | S22: 0 | T22: 0 | U22: 0 | V22: 0 | W22: 0 | X22: 0
C23: 20 | D23: Treinamento Storage | E23: 339039.48 | G23: serviço | J23: 9430 | L23: =K23-(SUM(N23:X23)) -> 0 | M23: =IF(L23<0,"ATENÇÃO","OK") -> OK | N23: 0 | O23: 0 | P23: 0 | Q23: 0 | R23: 0 | S23: 0 | T23: 0 | U23: 0 | V23: 0 | W23: 0 | X23: 0
B24: 20 | C24: 21 | D24: Serviços de instalação, configuração e garantia | E24: 339039.25 | G24: serviço | J24: 12650 | L24: =K24-(SUM(N24:X24)) -> 0 | M24: =IF(L24<0,"ATENÇÃO","OK") -> OK | N24: 0 | O24: 0 | P24: 0 | Q24: 0 | R24: 0 | S24: 0 | T24: 0 | U24: 0 | V24: 0 | W24: 0 | X24: 0
A25: ZOOM Tecnologia LTDA | B25: 7 | C25: 22 | D25: Memória 16Gb para upgrade (Huawei PN:06200107) | E25: 339030.17 | G25: Peça | J25: 2422.5 | L25: =K25-(SUM(N25:X25)) -> 0 | M25: =IF(L25<0,"ATENÇÃO","OK") -> OK | N25: 0 | O25: 0 | P25: 0 | Q25: 0 | R25: 0 | S25: 0 | T25: 0 | U25: 0 | V25: 0 | W25: 0 | X25: 0
B26: 20 | C26: 23 | D26: Processador E5-2620 para upgrade (Huawei PN:41020222) | E26: 339030.17 | G26: Peça | J26: 3445 | L26: =K26-(SUM(N26:X26)) -> 0 | M26: =IF(L26<0,"ATENÇÃO","OK") -> OK | N26: 0 | O26: 0 | P26: 0 | Q26: 0 | R26: 0 | S26: 0 | T26: 0 | U26: 0 | V26: 0 | W26: 0 | X26: 0
B27: 21 | C27: 24 | D27: Fonte 460W para upgrade (Huawei PN:02131042) | E27: 339030.17 | G27: Peça | J27: 1270 | L27: =K27-(SUM(N27:X27)) -> 0 | M27: =IF(L27<0,"ATENÇÃO","OK") -> OK | N27: 0 | O27: 0 | P27: 0 | Q27: 0 | R27: 0 | S27: 0 | T27: 0 | U27: 0 | V27: 0 | W27: 0 | X27: 0
A28: SEPROL Comércio e Consultoria em Informática LTDA | B28: 8 | C28: 25 | D28: Pente de Memória 8 Gb (PN 647897-b21) | E28: 339030.17 | G28: Peça | J28: 1300 | L28: =K28-(SUM(N28:X28)) -> 0 | M28: =IF(L28<0,"ATENÇÃO","OK") -> OK | N28: 0 | O28: 0 | P28: 0 | Q28: 0 | R28: 0 | S28: 0 | T28: 0 | U28: 0 | V28: 0 | W28: 0 | X28: 0
B29: 21 | C29: 26 | D29: Pente de Memória 8 Gb (PN 500662-b21) | E29: 339030.17 | G29: Peça | J29: 2200 | L29: =K29-(SUM(N29:X29)) -> 0 | M29: =IF(L29<0,"ATENÇÃO","OK") -> OK | N29: 0 | O29: 0 | P29: 0 | Q29: 0 | R29: 0 | S29: 0 | T29: 0 | U29: 0 | V29: 0 | W29: 0 | X29: 0
A30: SEPROL Comércio e Consultoria em Informática LTDA | B30: 9 | C30: 27 | D30: Fitas LTO4 | E30: 339030.17 | G30: Peça | J30: 220 | L30: =K30-(SUM(N30:X30)) -> 0 | M30: =IF(L30<0,"ATENÇÃO","OK") -> OK | N30: 0 | O30: 0 | P30: 0 | Q30: 0 | R30: 0 | S30: 0 | T30: 0 | U30: 0 | V30: 0 | W30: 0 | X30: 0
A31: Deserto | B31: 10 | C31: 28 | D31: No-Break modelo 1 | E31: 449052.30 | G31: Peça | J31: Deserto | L31: =K31-(SUM(N31:X31)) -> 0 | M31: =IF(L31<0,"ATENÇÃO","OK") -> OK | N31: 0 | O31: 0 | P31: 0 | Q31: 0 | R31: 0 | S31: 0 | T31: 0 | U31: 0 | V31: 0 | W31: 0 | X31: 0
C32: 29 | D32: Módulo de bateria – modelo 1 | E32: 449052.30 | G32: Peça | J32: Deserto | L32: =K32-(SUM(N32:X32)) -> 0 | M32: =IF(L32<0,"ATENÇÃO","OK") -> OK | N32: 0 | O32: 0 | P32: 0 | Q32: 0 | R32: 0 | S32: 0 | T32: 0 | U32: 0 | V32: 0 | W32: 0 | X32: 0
A33: WEG Automação Critical Power LTDA | B33: 11 | C33: 30 | D33: No-Break modelo 2 | E33: 449052.30 | G33: Peça | J33: 7300 | L33: =K33-(SUM(N33:X33)) -> 0 | M33: =IF(L33<0,"ATENÇÃO","OK") -> OK | N33: 0 | O33: 0 | P33: 0 | Q33: 0 | R33: 0 | S33: 0 | T33: 0 | U33: 0 | V33: 0 | W33: 0 | X33: 0
C34: 31 | D34: Módulo de bateria – modelo 2 | E34: 449052.30 | G34: Peça | J34: 1825 | L34: =K34-(SUM(N34:X34)) -> 0 | M34: =IF(L34<0,"ATENÇÃO","OK") -> OK | N34: 0 | O34: 0 | P34: 0 | Q34: 0 | R34: 0 | S34: 0 | T34: 0 | U34: 0 | V34: 0 | W34: 0 | X34: 0
A35: WEG Automação Critical Power LTDA | B35: 12 | C35: 32 | D35: No-Break modelo 3 | E35: 449052.30 | G35: Peça | J35: 5923.52 | K35: 1 | L35: =K35-(SUM(N35:X35)) -> 0 | M35: =IF(L35<0,"ATENÇÃO","OK") -> OK | N35: 0 | O35: 0 | P35: 1 | Q35: 0 | R35: 0 | S35: 0 | T35: 0 | U35: 0 | V35: 0 | W35: 0 | X35: 0
C36: 33 | D36: Módulo de bateria – modelo 3 | E36: 449052.30 | G36: Peça | J36: 1900 | K36: 1 | L36: =K36-(SUM(N36:X36)) -> 0 | M36: =IF(L36<0,"ATENÇÃO","OK") -> OK | N36: 0 | O36: 0 | P36: 1 | Q36: 0 | R36: 0 | S36: 0 | T36: 0 | U36: 0 | V36: 0 | W36: 0 | X36: 0
D38: *Lotes 2 e 3 Infrutíferos
D39: *Lote 10 Deserto
D40: *Marca conforme Proposta Ajustada
D41: *Prazo de Entrega e Pagamento conforme Termo de Referência

Sheet FAED
A1: PROCESSO: 1300/2014/UDESC | D1: OBJETO: Aquisição de equipamentos, materiais e serviços para upgrade da rede de computadores da UDESC | K1: VIGÊNCIA DA ATA: 02/12/2014 até 01/12/2015 | N1: AF/OS nº 285/2015 Qtde. DT | O1: AF/OS nº 1202/20154 Qtde. DT | P1: AF/OS nº xxxx/2014 Qtde. DT | Q1: AF/OS nº xxxx/2014 Qtde. DT | R1: AF/OS nº xxxx/2014 Qtde. DT | S1: AF/OS nº xxxx/2014 Qtde. DT | T1: AF/OS nº xxxx/2014 Qtde. DT | U1: AF/OS nº xxxx/2014 Qtde. DT | V1: AF/OS nº xxxx/2014 Qtde. DT | W1: AF/OS nº xxxx/2014 Qtde. DT | X1: AF/OS nº xxxx/2014 Qtde. DT | Y1: AF/OS nº xxxx/2014 Qtde. DT
A2: CENTRO PARTICIPANTE: FAED
A3: FORNECEDOR | B3: LOTE | C3: ITEM | D3: Especificação - conforme complementação memorial descritivo | E3: ELEMENTO | F3: MARCA | G3: UNIDADE | H3: Entrega (Dias) | I3: Pagto. (Dias) | J3: Preço UNITÁRIO (R$) | K3: Qtde REGISTRADA | L3: Saldo / Automático | M3: ALERTA | N3: 42079 | O3: 42199 | P3: ...../...../...... | Q3: ...../...../...... | R3: ...../...../...... | S3: ...../...../...... | T3: ...../...../...... | U3: ...../...../...... | V3: ...../...../...... | W3: ...../...../...... | X3: ...../...../...... | Y3: ...../...../......
A4: ZOOM Tecnologia LTDA | B4: 1 | C4: 1 | D4: Mini Storage de Rede (CEAD) | E4: 449052.35 | G4: Peça | J4: 8884 | L4: =K4-(SUM(N4:Y4)) -> 0 | M4: =IF(L4<0,"ATENÇÃO","OK") -> OK | N4: 0 | O4: 0 | P4: 0 | Q4: 0 | R4: 0 | S4: 0 | T4: 0 | U4: 0 | V4: 0 | W4: 0 | X4: 0 | Y4: 0
A5: Infrutífero | B5: 2 | C5: 2 | D5: Wireless com antena direcional | E5: 449052.35 | G5: Peça | J5: Infrutífero | L5: =K5-(SUM(N5:Y5)) -> 0 | M5: =IF(L5<0,"ATENÇÃO","OK") -> OK | N5: 0 | O5: 0 | P5: 0 | Q5: 0 | R5: 0 | S5: 0 | T5: 0 | U5: 0 | V5: 0 | W5: 0 | X5: 0 | Y5: 0
A6: Infrutífero | B6: 3 | C6: 3 | D6: Câmera IP (CEART) | E6: 449052.33 | G6: Peça | J6: Infrutífero | L6: =K6-(SUM(N6:Y6)) -> 0 | M6: =IF(L6<0,"ATENÇÃO","OK") -> OK | N6: 0 | O6: 0 | P6: 0 | Q6: 0 | R6: 0 | S6: 0 | T6: 0 | U6: 0 | V6: 0 | W6: 0 | X6: 0 | Y6: 0
A7: ZOOM Tecnologia LTDA | B7: 4 | C7: 4 | D7: Switch Borda s/PoE 24p (DGOV) | E7: 449052.35 | G7: Peça | J7: 1320 | K7: 15 | L7: =K7-(SUM(N7:Y7)) -> 7 | M7: =IF(L7<0,"ATENÇÃO","OK") -> OK | N7: 8 | O7: 0 | P7: 0 | Q7: 0 | R7: 0 | S7: 0 | T7: 0 | U7: 0 | V7: 0 | W7: 0 | X7: 0 | Y7: 0
C8: 5 | D8: Switch Borda PoE 24p | E8: 449052.35 | G8: Peça | J8: 3250 | K8: 7 | L8: =K8-(SUM(N8:Y8)) -> 0 | M8: =IF(L8<0,"ATENÇÃO","OK") -> OK | N8: 7 | O8: 0 | P8: 0 | Q8: 0 | R8: 0 | S8: 0 | T8: 0 | U8: 0 | V8: 0 | W8: 0 | X8: 0 | Y8: 0
C9: 6 | D9: Mini-GBIC monomodo 1Gbps | E9: 449052.35 | G9: Peça | J9: 850 | L9: =K9-(SUM(N9:Y9)) -> 0 | M9: =IF(L9<0,"ATENÇÃO","OK") -> OK | N9: 0 | O9: 0 | P9: 0 | Q9: 0 | R9: 0 | S9: 0 | T9: 0 | U9: 0 | V9: 0 | W9: 0 | X9: 0 | Y9: 0
C10: 7 | D10: Mini-GBIC multimodo 1Gbps | E10: 449052.35 | G10: Peça | J10: 450 | L10: =K10-(SUM(N10:Y10)) -> 0 | M10: =IF(L10<0,"ATENÇÃO","OK") -> OK | N10: 0 | O10: 0 | P10: 0 | Q10: 0 | R10: 0 | S10: 0 | T10: 0 | U10: 0 | V10: 0 | W10: 0 | X10: 0 | Y10: 0
C11: 8 | D11: Roteador Unidades | E11: 449052.35 | G11: Peça | J11: 3245 | L11: =K11-(SUM(N11:Y11)) -> 0 | M11: =IF(L11<0,"ATENÇÃO","OK") -> OK | N11: 0 | O11: 0 | P11: 0 | Q11: 0 | R11: 0 | S11: 0 | T11: 0 | U11: 0 | V11: 0 | W11: 0 | X11: 0 | Y11: 0
C12: 9 | D12: Roteador Concentrador | E12: 449052.35 | G12: Peça | J12: 44000 | L12: =K12-(SUM(N12:Y12)) -> 0 | M12: =IF(L12<0,"ATENÇÃO","OK") -> OK | N12: 0 | O12: 0 | P12: 0 | Q12: 0 | R12: 0 | S12: 0 | T12: 0 | U12: 0 | V12: 0 | W12: 0 | X12: 0 | Y12: 0
C13: 10 | D13: Firewall | E13: 449052.35 | G13: Peça | J13: 69000 | L13: =K13-(SUM(N13:Y13)) -> 0 | M13: =IF(L13<0,"ATENÇÃO","OK") -> OK | N13: 0 | O13: 0 | P13: 0 | Q13: 0 | R13: 0 | S13: 0 | T13: 0 | U13: 0 | V13: 0 | W13: 0 | X13: 0 | Y13: 0
C14: 11 | D14: Software de Gerenciamento de Rede | E14: 449052.94 | G14: Peça | J14: 152390 | L14: =K14-(SUM(N14:Y14)) -> 0 | M14: =IF(L14<0,"ATENÇÃO","OK") -> OK | N14: 0 | O14: 0 | P14: 0 | Q14: 0 | R14: 0 | S14: 0 | T14: 0 | U14: 0 | V14: 0 | W14: 0 | X14: 0 | Y14: 0
C15: 12 | D15: Ponto de acesso a rede sem fio | E15: 449052.35 | G15: Peça | J15: 2300 | K15: 15 | L15: =K15-(SUM(N15:Y15)) -> 0 | M15: =IF(L15<0,"ATENÇÃO","OK") -> OK | N15: 15 | O15: 0 | P15: 0 | Q15: 0 | R15: 0 | S15: 0 | T15: 0 | U15: 0 | V15: 0 | W15: 0 | X15: 0 | Y15: 0
C16: 13 | D16: Controladora WLAN | E16: 449052.35 | G16: Peça | J16: 68000 | L16: =K16-(SUM(N16:Y16)) -> 0 | M16: =IF(L16<0,"ATENÇÃO","OK") -> OK | N16: 0 | O16: 0 | P16: 0 | Q16: 0 | R16: 0 | S16: 0 | T16: 0 | U16: 0 | V16: 0 | W16: 0 | X16: 0 | Y16: 0
C17: 14 | D17: Licença Controladora WLAN | E17: 449052.94 | G17: Peça | J17: 10000 | L17: =K17-(SUM(N17:Y17)) -> 0 | M17: =IF(L17<0,"ATENÇÃO","OK") -> OK | N17: 0 | O17: 0 | P17: 0 | Q17: 0 | R17: 0 | S17: 0 | T17: 0 | U17: 0 | V17: 0 | W17: 0 | X17: 0 | Y17: 0
A18: ZOOM Tecnologia LTDA | B18: 5 | C18: 15 | D18: Switch SAN | E18: 449052.35 | G18: Peça | J18: 45000 | L18: =K18-(SUM(N18:Y18)) -> 0 | M18: =IF(L18<0,"ATENÇÃO","OK") -> OK | N18: 0 | O18: 0 | P18: 0 | Q18: 0 | R18: 0 | S18: 0 | T18: 0 | U18: 0 | V18: 0 | W18: 0 | X18: 0 | Y18: 0
B19: 18 | C19: 16 | D19: Placa HBA (material de consumo) | E19: 339030.17 | G19: Peça | J19: 3043.18 | L19: =K19-(SUM(N19:Y19)) -> 0 | M19: =IF(L19<0,"ATENÇÃO","OK") -> OK | N19: 0 | O19: 0 | P19: 0 | Q19: 0 | R19: 0 | S19: 0 | T19: 0 | U19: 0 | V19: 0 | W19: 0 | X19: 0 | Y19: 0
A20: SEPROL Comércio e Consultoria em Informática LTDA | B20: 6 | C20: 17 | D20: ENCLOSURE Expansão STORAGE HP (PN AG638) | E20: 339030.17 | G20: Peça | J20: 8860 | L20: =K20-(SUM(N20:Y20)) -> 0 | M20: =IF(L20<0,"ATENÇÃO","OK") -> OK | N20: 0 | O20: 0 | P20: 0 | Q20: 0 | R20: 0 | S20: 0 | T20: 0 | U20: 0 | V20: 0 | W20: 0 | X20: 0 | Y20: 0
B21: 19 | C21: 18 | D21: Unidades de armazenamento de dados FC de 450GB (PN AG803B) | E21: 339030.17 | G21: Peça | J21: 5140 | L21: =K21-(SUM(N21:Y21)) -> 0 | M21: =IF(L21<0,"ATENÇÃO","OK") -> OK | N21: 0 | O21: 0 | P21: 0 | Q21: 0 | R21: 0 | S21: 0 | T21: 0 | U21: 0 | V21: 0 | W21: 0 | X21: 0 | Y21: 0
C22: 19 | D22: Unidades de Armazenamento de dados FC de 1TB (PN AG691B) | E22: 339030.17 | G22: Peça | J22: 5255 | L22: =K22-(SUM(N22:Y22)) -> 0 | M22: =IF(L22<0,"ATENÇÃO","OK") -> OK | N22: 0 | O22: 0 | P22: 0 | Q22: 0 | R22: 0 | S22: 0 | T22: 0 | U22: 0 | V22: 0 | W22: 0 | X22: 0 | Y22: 0
C23: 20 | D23: Treinamento Storage | E23: 339039.48 | G23: serviço | J23: 9430 | L23: =K23-(SUM(N23:Y23)) -> 0 | M23: =IF(L23<0,"ATENÇÃO","OK") -> OK | N23: 0 | O23: 0 | P23: 0 | Q23: 0 | R23: 0 | S23: 0 | T23: 0 | U23: 0 | V23: 0 | W23: 0 | X23: 0 | Y23: 0
B24: 20 | C24: 21 | D24: Serviços de instalação, configuração e garantia | E24: 339039.25 | G24: serviço | J24: 12650 | L24: =K24-(SUM(N24:Y24)) -> 0 | M24: =IF(L24<0,"ATENÇÃO","OK") -> OK | N24: 0 | O24: 0 | P24: 0 | Q24: 0 | R24: 0 | S24: 0 | T24: 0 | U24: 0 | V24: 0 | W24: 0 | X24: 0 | Y24: 0
A25: ZOOM Tecnologia LTDA | B25: 7 | C25: 22 | D25: Memória 16Gb para upgrade (Huawei PN:06200107) | E25: 339030.17 | G25: Peça | J25: 2422.5 | L25: =K25-(SUM(N25:Y25)) -> 0 | M25: =IF(L25<0,"ATENÇÃO","OK") -> OK | N25: 0 | O25: 0 | P25: 0 | Q25: 0 | R25: 0 | S25: 0 | T25: 0 | U25: 0 | V25: 0 | W25: 0 | X25: 0 | Y25: 0
B26: 20 | C26: 23 | D26: Processador E5-2620 para upgrade (Huawei PN:41020222) | E26: 339030.17 | G26: Peça | J26: 3445 | L26: =K26-(SUM(N26:Y26)) -> 0 | M26: =IF(L26<0,"ATENÇÃO","OK") -> OK | N26: 0 | O26: 0 | P26: 0 | Q26: 0 | R26: 0 | S26: 0 | T26: 0 | U26: 0 | V26: 0 | W26: 0 | X26: 0 | Y26: 0
B27: 21 | C27: 24 | D27: Fonte 460W para upgrade (Huawei PN:02131042) | E27: 339030.17 | G27: Peça | J27: 1270 | L27: =K27-(SUM(N27:Y27)) -> 0 | M27: =IF(L27<0,"ATENÇÃO","OK") -> OK | N27: 0 | O27: 0 | P27: 0 | Q27: 0 | R27: 0 | S27: 0 | T27: 0 | U27: 0 | V27: 0 | W27: 0 | X27: 0 | Y27: 0
A28: SEPROL Comércio e Consultoria em Informática LTDA | B28: 8 | C28: 25 | D28: Pente de Memória 8 Gb (PN 647897-b21) | E28: 339030.17 | G28: Peça | J28: 1300 | L28: =K28-(SUM(N28:Y28)) -> 0 | M28: =IF(L28<0,"ATENÇÃO","OK") -> OK | N28: 0 | O28: 0 | P28: 0 | Q28: 0 | R28: 0 | S28: 0 | T28: 0 | U28: 0 | V28: 0 | W28: 0 | X28: 0 | Y28: 0
B29: 21 | C29: 26 | D29: Pente de Memória 8 Gb (PN 500662-b21) | E29: 339030.17 | G29: Peça | J29: 2200 | L29: =K29-(SUM(N29:Y29)) -> 0 | M29: =IF(L29<0,"ATENÇÃO","OK") -> OK | N29: 0 | O29: 0 | P29: 0 | Q29: 0 | R29: 0 | S29: 0 | T29: 0 | U29: 0 | V29: 0 | W29: 0 | X29: 0 | Y29: 0
A30: SEPROL Comércio e Consultoria em Informática LTDA | B30: 9 | C30: 27 | D30: Fitas LTO4 | E30: 339030.17 | G30: Peça | J30: 220 | L30: =K30-(SUM(N30:Y30)) -> 0 | M30: =IF(L30<0,"ATENÇÃO","OK") -> OK | N30: 0 | O30: 0 | P30: 0 | Q30: 0 | R30: 0 | S30: 0 | T30: 0 | U30: 0 | V30: 0 | W30: 0 | X30: 0 | Y30: 0
A31: Deserto | B31: 10 | C31: 28 | D31: No-Break modelo 1 | E31: 449052.30 | G31: Peça | J31: Deserto | L31: =K31-(SUM(N31:Y31)) -> 0 | M31: =IF(L31<0,"ATENÇÃO","OK") -> OK | N31: 0 | O31: 0 | P31: 0 | Q31: 0 | R31: 0 | S31: 0 | T31: 0 | U31: 0 | V31: 0 | W31: 0 | X31: 0 | Y31: 0
C32: 29 | D32: Módulo de bateria – modelo 1 | E32: 449052.30 | G32: Peça | J32: Deserto | L32: =K32-(SUM(N32:Y32)) -> 0 | M32: =IF(L32<0,"ATENÇÃO","OK") -> OK | N32: 0 | O32: 0 | P32: 0 | Q32: 0 | R32: 0 | S32: 0 | T32: 0 | U32: 0 | V32: 0 | W32: 0 | X32: 0 | Y32: 0
A33: WEG Automação Critical Power LTDA | B33: 11 | C33: 30 | D33: No-Break modelo 2 | E33: 449052.30 | G33: Peça | J33: 7300 | L33: =K33-(SUM(N33:Y33)) -> 0 | M33: =IF(L33<0,"ATENÇÃO","OK") -> OK | N33: 0 | O33: 0 | P33: 0 | Q33: 0 | R33: 0 | S33: 0 | T33: 0 | U33: 0 | V33: 0 | W33: 0 | X33: 0 | Y33: 0
C34: 31 | D34: Módulo de bateria – modelo 2 | E34: 449052.30 | G34: Peça | J34: 1825 | L34: =K34-(SUM(N34:Y34)) -> 0 | M34: =IF(L34<0,"ATENÇÃO","OK") -> OK | N34: 0 | O34: 0 | P34: 0 | Q34: 0 | R34: 0 | S34: 0 | T34: 0 | U34: 0 | V34: 0 | W34: 0 | X34: 0 | Y34: 0
A35: WEG Automação Critical Power LTDA | B35: 12 | C35: 32 | D35: No-Break modelo 3 | E35: 449052.30 | G35: Peça | J35: 5923.52 | K35: 1 | L35: =K35-(SUM(N35:Y35)) -> 0 | M35: =IF(L35<0,"ATENÇÃO","OK") -> OK | N35: 0 | O35: 1 | P35: 0 | Q35: 0 | R35: 0 | S35: 0 | T35: 0 | U35: 0 | V35: 0 | W35: 0 | X35: 0 | Y35: 0
C36: 33 | D36: Módulo de bateria – modelo 3 | E36: 449052.30 | G36: Peça | J36: 1900 | K36: 1 | L36: =K36-(SUM(N36:Y36)) -> 0 | M36: =IF(L36<0,"ATENÇÃO","OK") -> OK | N36: 0 | O36: 1 | P36: 0 | Q36: 0 | R36: 0 | S36: 0 | T36: 0 | U36: 0 | V36: 0 | W36: 0 | X36: 0 | Y36: 0
D38: *Lotes 2 e 3 Infrutíferos
D39: *Lote 10 Deserto
D40: *Marca conforme Proposta Ajustada
D41: *Prazo de Entrega e Pagamento conforme Termo de Referência

Sheet CEAD
A1: PROCESSO: 1300/2014/UDESC | D1: OBJETO: Aquisição de equipamentos, materiais e serviços para upgrade da rede de computadores da UDESC | K1: VIGÊNCIA DA ATA: 02/12/2014 até 01/12/2015 | N1: AF/OS nº 272/2015 Qtde. DT | O1: AF/OS nº 1413/2015 Qtde. DT | P1: AF/OS nº xxxx/2014 Qtde. DT | Q1: AF/OS nº xxxx/2014 Qtde. DT | R1: AF/OS nº xxxx/2014 Qtde. DT | S1: AF/OS nº xxxx/2014 Qtde. DT | T1: AF/OS nº xxxx/2014 Qtde. DT | U1: AF/OS nº xxxx/2014 Qtde. DT | V1: AF/OS nº xxxx/2014 Qtde. DT | W1: AF/OS nº xxxx/2014 Qtde. DT | X1: AF/OS nº xxxx/2014 Qtde. DT | Y1: AF/OS nº xxxx/2014 Qtde. DT
A2: CENTRO PARTICIPANTE: CEAD
A3: FORNECEDOR | B3: LOTE | C3: ITEM | D3: Especificação - conforme complementação memorial descritivo | E3: ELEMENTO | F3: MARCA | G3: UNIDADE | H3: Entrega (Dias) | I3: Pagto. (Dias) | J3: Preço UNITÁRIO (R$) | K3: Qtde REGISTRADA | L3: Saldo / Automático | M3: ALERTA | N3: 42075 | O3: 42227 | P3: ...../...../...... | Q3: ...../...../...... | R3: ...../...../...... | S3: ...../...../...... | T3: ...../...../...... | U3: ...../...../...... | V3: ...../...../...... | W3: ...../...../...... | X3: ...../...../...... | Y3: ...../...../......
A4: ZOOM Tecnologia LTDA | B4: 1 | C4: 1 | D4: Mini Storage de Rede (CEAD) | E4: 449052.35 | G4: Peça | J4: 8884 | K4: 1 | L4: =K4-(SUM(N4:Y4)) -> 0 | M4: =IF(L4<0,"ATENÇÃO","OK") -> OK | N4: 1 | O4: 0 | P4: 0 | Q4: 0 | R4: 0 | S4: 0 | T4: 0 | U4: 0 | V4: 0 | W4: 0 | X4: 0 | Y4: 0
A5: Infrutífero | B5: 2 | C5: 2 | D5: Wireless com antena direcional | E5: 449052.35 | G5: Peça | J5: Infrutífero | L5: =K5-(SUM(N5:Y5)) -> 0 | M5: =IF(L5<0,"ATENÇÃO","OK") -> OK | N5: 0 | O5: 0 | P5: 0 | Q5: 0 | R5: 0 | S5: 0 | T5: 0 | U5: 0 | V5: 0 | W5: 0 | X5: 0 | Y5: 0
A6: Infrutífero | B6: 3 | C6: 3 | D6: Câmera IP (CEART) | E6: 449052.33 | G6: Peça | J6: Infrutífero | L6: =K6-(SUM(N6:Y6)) -> 0 | M6: =IF(L6<0,"ATENÇÃO","OK") -> OK | N6: 0 | O6: 0 | P6: 0 | Q6: 0 | R6: 0 | S6: 0 | T6: 0 | U6: 0 | V6: 0 | W6: 0 | X6: 0 | Y6: 0
A7: ZOOM Tecnologia LTDA | B7: 4 | C7: 4 | D7: Switch Borda s/PoE 24p (DGOV) | E7: 449052.35 | G7: Peça | J7: 1320 | K7: 8 | L7: =K7-(SUM(N7:Y7)) -> 0 | M7: =IF(L7<0,"ATENÇÃO","OK") -> OK | N7: 8 | O7: 0 | P7: 0 | Q7: 0 | R7: 0 | S7: 0 | T7: 0 | U7: 0 | V7: 0 | W7: 0 | X7: 0 | Y7: 0
C8: 5 | D8: Switch Borda PoE 24p | E8: 449052.35 | G8: Peça | J8: 3250 | K8: 4 | L8: =K8-(SUM(N8:Y8)) -> 0 | M8: =IF(L8<0,"ATENÇÃO","OK") -> OK | N8: 4 | O8: 0 | P8: 0 | Q8: 0 | R8: 0 | S8: 0 | T8: 0 | U8: 0 | V8: 0 | W8: 0 | X8: 0 | Y8: 0
C9: 6 | D9: Mini-GBIC monomodo 1Gbps | E9: 449052.35 | G9: Peça | J9: 850 | L9: =K9-(SUM(N9:Y9)) -> 0 | M9: =IF(L9<0,"ATENÇÃO","OK") -> OK | N9: 0 | O9: 0 | P9: 0 | Q9: 0 | R9: 0 | S9: 0 | T9: 0 | U9: 0 | V9: 0 | W9: 0 | X9: 0 | Y9: 0
C10: 7 | D10: Mini-GBIC multimodo 1Gbps | E10: 449052.35 | G10: Peça | J10: 450 | L10: =K10-(SUM(N10:Y10)) -> 0 | M10: =IF(L10<0,"ATENÇÃO","OK") -> OK | N10: 0 | O10: 0 | P10: 0 | Q10: 0 | R10: 0 | S10: 0 | T10: 0 | U10: 0 | V10: 0 | W10: 0 | X10: 0 | Y10: 0
C11: 8 | D11: Roteador Unidades | E11: 449052.35 | G11: Peça | J11: 3245 | L11: =K11-(SUM(N11:Y11)) -> 0 | M11: =IF(L11<0,"ATENÇÃO","OK") -> OK | N11: 0 | O11: 0 | P11: 0 | Q11: 0 | R11: 0 | S11: 0 | T11: 0 | U11: 0 | V11: 0 | W11: 0 | X11: 0 | Y11: 0
C12: 9 | D12: Roteador Concentrador | E12: 449052.35 | G12: Peça | J12: 44000 | L12: =K12-(SUM(N12:Y12)) -> 0 | M12: =IF(L12<0,"ATENÇÃO","OK") -> OK | N12: 0 | O12: 0 | P12: 0 | Q12: 0 | R12: 0 | S12: 0 | T12: 0 | U12: 0 | V12: 0 | W12: 0 | X12: 0 | Y12: 0
C13: 10 | D13: Firewall | E13: 449052.35 | G13: Peça | J13: 69000 | L13: =K13-(SUM(N13:Y13)) -> 0 | M13: =IF(L13<0,"ATENÇÃO","OK") -> OK | N13: 0 | O13: 0 | P13: 0 | Q13: 0 | R13: 0 | S13: 0 | T13: 0 | U13: 0 | V13: 0 | W13: 0 | X13: 0 | Y13: 0
C14: 11 | D14: Software de Gerenciamento de Rede | E14: 449052.94 | G14: Peça | J14: 152390 | L14: =K14-(SUM(N14:Y14)) -> 0 | M14: =IF(L14<0,"ATENÇÃO","OK") -> OK | N14: 0 | O14: 0 | P14: 0 | Q14: 0 | R14: 0 | S14: 0 | T14: 0 | U14: 0 | V14: 0 | W14: 0 | X14: 0 | Y14: 0
C15: 12 | D15: Ponto de acesso a rede sem fio | E15: 449052.35 | G15: Peça | J15: 2300 | K15: 10 | L15: =K15-(SUM(N15:Y15)) -> 0 | M15: =IF(L15<0,"ATENÇÃO","OK") -> OK | N15: 10 | O15: 0 | P15: 0 | Q15: 0 | R15: 0 | S15: 0 | T15: 0 | U15: 0 | V15: 0 | W15: 0 | X15: 0 | Y15: 0
C16: 13 | D16: Controladora WLAN | E16: 449052.35 | G16: Peça | J16: 68000 | L16: =K16-(SUM(N16:Y16)) -> 0 | M16: =IF(L16<0,"ATENÇÃO","OK") -> OK | N16: 0 | O16: 0 | P16: 0 | Q16: 0 | R16: 0 | S16: 0 | T16: 0 | U16: 0 | V16: 0 | W16: 0 | X16: 0 | Y16: 0
C17: 14 | D17: Licença Controladora WLAN | E17: 449052.94 | G17: Peça | J17: 10000 | L17: =K17-(SUM(N17:Y17)) -> 0 | M17: =IF(L17<0,"ATENÇÃO","OK") -> OK | N17: 0 | O17: 0 | P17: 0 | Q17: 0 | R17: 0 | S17: 0 | T17: 0 | U17: 0 | V17: 0 | W17: 0 | X17: 0 | Y17: 0
A18: ZOOM Tecnologia LTDA | B18: 5 | C18: 15 | D18: Switch SAN | E18: 449052.35 | G18: Peça | J18: 45000 | L18: =K18-(SUM(N18:Y18)) -> 0 | M18: =IF(L18<0,"ATENÇÃO","OK") -> OK | N18: 0 | O18: 0 | P18: 0 | Q18: 0 | R18: 0 | S18: 0 | T18: 0 | U18: 0 | V18: 0 | W18: 0 | X18: 0 | Y18: 0
B19: 18 | C19: 16 | D19: Placa HBA (material de consumo) | E19: 339030.17 | G19: Peça | J19: 3043.18 | L19: =K19-(SUM(N19:Y19)) -> 0 | M19: =IF(L19<0,"ATENÇÃO","OK") -> OK | N19: 0 | O19: 0 | P19: 0 | Q19: 0 | R19: 0 | S19: 0 | T19: 0 | U19: 0 | V19: 0 | W19: 0 | X19: 0 | Y19: 0
A20: SEPROL Comércio e Consultoria em Informática LTDA | B20: 6 | C20: 17 | D20: ENCLOSURE Expansão STORAGE HP (PN AG638) | E20: 339030.17 | G20: Peça | J20: 8860 | L20: =K20-(SUM(N20:Y20)) -> 0 | M20: =IF(L20<0,"ATENÇÃO","OK") -> OK | N20: 0 | O20: 0 | P20: 0 | Q20: 0 | R20: 0 | S20: 0 | T20: 0 | U20: 0 | V20: 0 | W20: 0 | X20: 0 | Y20: 0
B21: 19 | C21: 18 | D21: Unidades de armazenamento de dados FC de 450GB (PN AG803B) | E21: 339030.17 | G21: Peça | J21: 5140 | L21: =K21-(SUM(N21:Y21)) -> 0 | M21: =IF(L21<0,"ATENÇÃO","OK") -> OK | N21: 0 | O21: 0 | P21: 0 | Q21: 0 | R21: 0 | S21: 0 | T21: 0 | U21: 0 | V21: 0 | W21: 0 | X21: 0 | Y21: 0
C22: 19 | D22: Unidades de Armazenamento de dados FC de 1TB (PN AG691B) | E22: 339030.17 | G22: Peça | J22: 5255 | L22: =K22-(SUM(N22:Y22)) -> 0 | M22: =IF(L22<0,"ATENÇÃO","OK") -> OK | N22: 0 | O22: 0 | P22: 0 | Q22: 0 | R22: 0 | S22: 0 | T22: 0 | U22: 0 | V22: 0 | W22: 0 | X22: 0 | Y22: 0
C23: 20 | D23: Treinamento Storage | E23: 339039.48 | G23: serviço | J23: 9430 | L23: =K23-(SUM(N23:Y23)) -> 0 | M23: =IF(L23<0,"ATENÇÃO","OK") -> OK | N23: 0 | O23: 0 | P23: 0 | Q23: 0 | R23: 0 | S23: 0 | T23: 0 | U23: 0 | V23: 0 | W23: 0 | X23: 0 | Y23: 0
