Workbook
Name diasuteis: #REF!
Name diasuteis: #REF!
Name diasuteis: #REF!
Name diasuteis: #REF!
Name diasuteis: #REF!
Name diasuteis: #REF!
Name diasuteis: #REF!
Name diasuteis: #REF!
Name diasuteis: #REF!
Name diasuteis: #REF!
Name diasuteis: #REF!
Name diasuteis: #REF!
Name diasuteis: #REF!
Name diasuteis: #REF!
Name diasuteis: #REF!
Name Ferias: #REF!
Name Ferias: #REF!
Name Ferias: #REF!
Name Ferias: #REF!
Name Ferias: #REF!
Name Ferias: #REF!
Name Ferias: #REF!
Name Ferias: #REF!
Name Ferias: #REF!
Name RD: OFFSET(#REF!,(MATCH(SMALL(#REF!,ROW()-10),#REF!,0)-1),0)
Name RD: OFFSET(#REF!,(MATCH(SMALL(#REF!,ROW()-10),#REF!,0)-1),0)
Name RD: OFFSET(#REF!,(MATCH(SMALL(#REF!,ROW()-10),#REF!,0)-1),0)
Name RD: OFFSET(#REF!,(MATCH(SMALL(#REF!,ROW()-10),#REF!,0)-1),0)
Name RD: OFFSET(#REF!,(MATCH(SMALL(#REF!,ROW()-10),#REF!,0)-1),0)
Name RD: OFFSET(#REF!,(MATCH(SMALL(#REF!,ROW()-10),#REF!,0)-1),0)
Name RD: OFFSET(#REF!,(MATCH(SMALL(#REF!,ROW()-10),#REF!,0)-1),0)
Name RD: OFFSET(#REF!,(MATCH(SMALL(#REF!,ROW()-10),#REF!,0)-1),0)
Name RD: OFFSET(#REF!,(MATCH(SMALL(#REF!,ROW()-10),#REF!,0)-1),0)

Sheet CAV
A1: PP 1174/2014
A2: OBJETO: AQUISIÇÃO DE MATERIAIS BIBLIOGRÁFICOS (LIVROS NACIONAIS E ESTRANGEIROS) PARA ATENDER O SISTEMA DE BIBLIOTECAS DA UDESC (CAV, CEART, CEFID, CEO, CCT, CEAVI, CERES, CEAD, CEPLAN, ESAG, FAED, CESFI E REITORIA)
A3: VIGÊNCIA DA ATA: 13/10/2015 A 13/10/2015
D6: Nº AF →
D7: Fornecedor →
B8: Valor* ↓ | C8: Saldo ↓ | D8: Alerta ↓ | E8: Valor da AF ↓ | F8: Valor da AF ↓ | G8: Valor da AF ↓ | H8: Valor da AF ↓ | I8: Valor da AF ↓ | J8: Valor da AF ↓ | K8: Valor da AF ↓ | L8: Valor da AF ↓ | M8: Valor da AF ↓ | N8: Valor da AF ↓ | O8: Valor da AF ↓ | P8: Valor da AF ↓
A9: Livros Nacionais e Estrangeiros | B9: 150000 | C9: =B9-(SUM(E9:P9)) -> 150000 | D9: =IF(C9<0, "ATENÇÃO", "OK") -> OK
A10: Periódicos Estrangeiros | B10: 0 | C10: =B10-(SUM(E10:P10)) -> 0 | D10: =IF(C10<0, "ATENÇÃO", "OK") -> OK
A12: *Valor aprovado pelo Reitor em Termo de Referência
A14: Empresas vencedoras:
A16: Livraria Livros & Livros Ltda
A17: Aki Distribuidora Ltda
A18: SUR Distib. de livros, jornais e revistas Ltda
A19: EBSCO Brasil Ltda

Sheet CEFID
A1: PP 1174/2014
A2: OBJETO: AQUISIÇÃO DE MATERIAIS BIBLIOGRÁFICOS (LIVROS NACIONAIS E ESTRANGEIROS) PARA ATENDER O SISTEMA DE BIBLIOTECAS DA UDESC (CAV, CEART, CEFID, CEO, CCT, CEAVI, CERES, CEAD, CEPLAN, ESAG, FAED, CESFI E REITORIA)
A3: VIGÊNCIA DA ATA: 13/10/2015 A 13/10/2015
D6: Nº AF →
D7: Fornecedor →
B8: Valor* ↓ | C8: Saldo ↓ | D8: Alerta ↓ | E8: Valor da AF ↓ | F8: Valor da AF ↓ | G8: Valor da AF ↓ | H8: Valor da AF ↓ | I8: Valor da AF ↓ | J8: Valor da AF ↓ | K8: Valor da AF ↓ | L8: Valor da AF ↓ | M8: Valor da AF ↓ | N8: Valor da AF ↓ | O8: Valor da AF ↓ | P8: Valor da AF ↓
A9: Livros Nacionais e Estrangeiros | B9: 80000 | C9: =B9-(SUM(E9:P9)) -> 80000 | D9: =IF(C9<0, "ATENÇÃO", "OK") -> OK
A10: Periódicos Estrangeiros | B10: 20000 | C10: =B10-(SUM(E10:P10)) -> 20000 | D10: =IF(C10<0, "ATENÇÃO", "OK") -> OK
A12: *Valor aprovado pelo Reitor em Termo de Referência
A14: Empresas vencedoras:
A16: Livraria Livros & Livros Ltda
A17: Aki Distribuidora Ltda
A18: SUR Distib. de livros, jornais e revistas Ltda
A19: EBSCO Brasil Ltda

Sheet CEO
A1: PP 1174/2014
A2: OBJETO: AQUISIÇÃO DE MATERIAIS BIBLIOGRÁFICOS (LIVROS NACIONAIS E ESTRANGEIROS) PARA ATENDER O SISTEMA DE BIBLIOTECAS DA UDESC (CAV, CEART, CEFID, CEO, CCT, CEAVI, CERES, CEAD, CEPLAN, ESAG, FAED, CESFI E REITORIA)
A3: VIGÊNCIA DA ATA: 13/10/2015 A 13/10/2015
D6: Nº AF →
D7: Fornecedor →
B8: Valor* ↓ | C8: Saldo ↓ | D8: Alerta ↓ | E8: Valor da AF ↓ | F8: Valor da AF ↓ | G8: Valor da AF ↓ | H8: Valor da AF ↓ | I8: Valor da AF ↓ | J8: Valor da AF ↓ | K8: Valor da AF ↓ | L8: Valor da AF ↓ | M8: Valor da AF ↓ | N8: Valor da AF ↓ | O8: Valor da AF ↓ | P8: Valor da AF ↓
A9: Livros Nacionais e Estrangeiros | B9: 140000 | C9: =B9-(SUM(E9:P9)) -> 140000 | D9: =IF(C9<0, "ATENÇÃO", "OK") -> OK
A10: Periódicos Estrangeiros | B10: 8000 | C10: =B10-(SUM(E10:P10)) -> 8000 | D10: =IF(C10<0, "ATENÇÃO", "OK") -> OK
A12: *Valor aprovado pelo Reitor em Termo de Referência
A14: Empresas vencedoras:
A16: Livraria Livros & Livros Ltda
A17: Aki Distribuidora Ltda
A18: SUR Distib. de livros, jornais e revistas Ltda
A19: EBSCO Brasil Ltda

Sheet CCT
A1: PP 1174/2014
A2: OBJETO: AQUISIÇÃO DE MATERIAIS BIBLIOGRÁFICOS (LIVROS NACIONAIS E ESTRANGEIROS) PARA ATENDER O SISTEMA DE BIBLIOTECAS DA UDESC (CAV, CEART, CEFID, CEO, CCT, CEAVI, CERES, CEAD, CEPLAN, ESAG, FAED, CESFI E REITORIA)
A3: VIGÊNCIA DA ATA: 13/10/2015 A 13/10/2015
D6: Nº AF →
D7: Fornecedor →
B8: Valor* ↓ | C8: Saldo ↓ | D8: Alerta ↓ | E8: Valor da AF ↓ | F8: Valor da AF ↓ | G8: Valor da AF ↓ | H8: Valor da AF ↓ | I8: Valor da AF ↓ | J8: Valor da AF ↓ | K8: Valor da AF ↓ | L8: Valor da AF ↓ | M8: Valor da AF ↓ | N8: Valor da AF ↓ | O8: Valor da AF ↓ | P8: Valor da AF ↓
A9: Livros Nacionais e Estrangeiros | B9: 220000 | C9: =B9-(SUM(E9:P9)) -> 220000 | D9: =IF(C9<0, "ATENÇÃO", "OK") -> OK
A10: Periódicos Estrangeiros | B10: 50000 | C10: =B10-(SUM(E10:P10)) -> 50000 | D10: =IF(C10<0, "ATENÇÃO", "OK") -> OK
A12: *Valor aprovado pelo Reitor em Termo de Referência
A14: Empresas vencedoras:
A16: Livraria Livros & Livros Ltda
A17: Aki Distribuidora Ltda
A18: SUR Distib. de livros, jornais e revistas Ltda
A19: EBSCO Brasil Ltda

Sheet CEAVI
A1: PP 1174/2014
A2: OBJETO: AQUISIÇÃO DE MATERIAIS BIBLIOGRÁFICOS (LIVROS NACIONAIS E ESTRANGEIROS) PARA ATENDER O SISTEMA DE BIBLIOTECAS DA UDESC (CAV, CEART, CEFID, CEO, CCT, CEAVI, CERES, CEAD, CEPLAN, ESAG, FAED, CESFI E REITORIA)
A3: VIGÊNCIA DA ATA: 13/10/2015 A 13/10/2015
D6: Nº AF →
D7: Fornecedor →
B8: Valor* ↓ | C8: Saldo ↓ | D8: Alerta ↓ | E8: Valor da AF ↓ | F8: Valor da AF ↓ | G8: Valor da AF ↓ | H8: Valor da AF ↓ | I8: Valor da AF ↓ | J8: Valor da AF ↓ | K8: Valor da AF ↓ | L8: Valor da AF ↓ | M8: Valor da AF ↓ | N8: Valor da AF ↓ | O8: Valor da AF ↓ | P8: Valor da AF ↓
A9: Livros Nacionais e Estrangeiros | B9: 444950.52 | C9: =B9-(SUM(E9:P9)) -> 444950.52 | D9: =IF(C9<0, "ATENÇÃO", "OK") -> OK
A10: Periódicos Estrangeiros | B10: 0 | C10: =B10-(SUM(E10:P10)) -> 0 | D10: =IF(C10<0, "ATENÇÃO", "OK") -> OK
A12: *Valor aprovado pelo Reitor em Termo de Referência
A14: Empresas vencedoras:
A16: Livraria Livros & Livros Ltda
A17: Aki Distribuidora Ltda
A18: SUR Distib. de livros, jornais e revistas Ltda
A19: EBSCO Brasil Ltda

Sheet CERES
A1: PP 1174/2014
A2: OBJETO: AQUISIÇÃO DE MATERIAIS BIBLIOGRÁFICOS (LIVROS NACIONAIS E ESTRANGEIROS) PARA ATENDER O SISTEMA DE BIBLIOTECAS DA UDESC (CAV, CEART, CEFID, CEO, CCT, CEAVI, CERES, CEAD, CEPLAN, ESAG, FAED, CESFI E REITORIA)
A3: VIGÊNCIA DA ATA: 13/10/2015 A 13/10/2015
D6: Nº AF →
D7: Fornecedor →
B8: Valor* ↓ | C8: Saldo ↓ | D8: Alerta ↓ | E8: Valor da AF ↓ | F8: Valor da AF ↓ | G8: Valor da AF ↓ | H8: Valor da AF ↓ | I8: Valor da AF ↓ | J8: Valor da AF ↓ | K8: Valor da AF ↓ | L8: Valor da AF ↓ | M8: Valor da AF ↓ | N8: Valor da AF ↓ | O8: Valor da AF ↓ | P8: Valor da AF ↓
A9: Livros Nacionais e Estrangeiros | B9: 150000 | C9: =B9-(SUM(E9:P9)) -> 150000 | D9: =IF(C9<0, "ATENÇÃO", "OK") -> OK
A10: Periódicos Estrangeiros | B10: 10000 | C10: =B10-(SUM(E10:P10)) -> 10000 | D10: =IF(C10<0, "ATENÇÃO", "OK") -> OK
A12: *Valor aprovado pelo Reitor em Termo de Referência
A14: Empresas vencedoras:
A16: Livraria Livros & Livros Ltda
A17: Aki Distribuidora Ltda
A18: SUR Distib. de livros, jornais e revistas Ltda
A19: EBSCO Brasil Ltda

Sheet CEPLAN
A1: PP 1174/2014
A2: OBJETO: AQUISIÇÃO DE MATERIAIS BIBLIOGRÁFICOS (LIVROS NACIONAIS E ESTRANGEIROS) PARA ATENDER O SISTEMA DE BIBLIOTECAS DA UDESC (CAV, CEART, CEFID, CEO, CCT, CEAVI, CERES, CEAD, CEPLAN, ESAG, FAED, CESFI E REITORIA)
A3: VIGÊNCIA DA ATA: 13/10/2015 A 13/10/2015
D6: Nº AF →
D7: Fornecedor →
B8: Valor* ↓ | C8: Saldo ↓ | D8: Alerta ↓ | E8: Valor da AF ↓ | F8: Valor da AF ↓ | G8: Valor da AF ↓ | H8: Valor da AF ↓ | I8: Valor da AF ↓ | J8: Valor da AF ↓ | K8: Valor da AF ↓ | L8: Valor da AF ↓ | M8: Valor da AF ↓ | N8: Valor da AF ↓ | O8: Valor da AF ↓ | P8: Valor da AF ↓
A9: Livros Nacionais e Estrangeiros | B9: 70000 | C9: =B9-(SUM(E9:P9)) -> 70000 | D9: =IF(C9<0, "ATENÇÃO", "OK") -> OK
A10: Periódicos Estrangeiros | B10: 0 | C10: =B10-(SUM(E10:P10)) -> 0 | D10: =IF(C10<0, "ATENÇÃO", "OK") -> OK
A12: *Valor aprovado pelo Reitor em Termo de Referência
A14: Empresas vencedoras:
A16: Livraria Livros & Livros Ltda
A17: Aki Distribuidora Ltda
A18: SUR Distib. de livros, jornais e revistas Ltda
A19: EBSCO Brasil Ltda

Sheet CESFI
A1: PP 1174/2014
A2: OBJETO: AQUISIÇÃO DE MATERIAIS BIBLIOGRÁFICOS (LIVROS NACIONAIS E ESTRANGEIROS) PARA ATENDER O SISTEMA DE BIBLIOTECAS DA UDESC (CAV, CEART, CEFID, CEO, CCT, CEAVI, CERES, CEAD, CEPLAN, ESAG, FAED, CESFI E REITORIA)
A3: VIGÊNCIA DA ATA: 13/10/2015 A 13/10/2015
D6: Nº AF →
D7: Fornecedor →
B8: Valor* ↓ | C8: Saldo ↓ | D8: Alerta ↓ | E8: Valor da AF ↓ | F8: Valor da AF ↓ | G8: Valor da AF ↓ | H8: Valor da AF ↓ | I8: Valor da AF ↓ | J8: Valor da AF ↓ | K8: Valor da AF ↓ | L8: Valor da AF ↓ | M8: Valor da AF ↓ | N8: Valor da AF ↓ | O8: Valor da AF ↓ | P8: Valor da AF ↓
A9: Livros Nacionais e Estrangeiros | B9: 200000 | C9: =B9-(SUM(E9:P9)) -> 200000 | D9: =IF(C9<0, "ATENÇÃO", "OK") -> OK
A10: Periódicos Estrangeiros | B10: 0 | C10: =B10-(SUM(E10:P10)) -> 0 | D10: =IF(C10<0, "ATENÇÃO", "OK") -> OK
A12: *Valor aprovado pelo Reitor em Termo de Referência
A14: Empresas vencedoras:
A16: Livraria Livros & Livros Ltda
A17: Aki Distribuidora Ltda
A18: SUR Distib. de livros, jornais e revistas Ltda
A19: EBSCO Brasil Ltda

Sheet CEART
A1: PP 1174/2014
A2: OBJETO: AQUISIÇÃO DE MATERIAIS BIBLIOGRÁFICOS (LIVROS NACIONAIS E ESTRANGEIROS) PARA ATENDER O SISTEMA DE BIBLIOTECAS DA UDESC (CAV, CEART, CEFID, CEO, CCT, CEAVI, CERES, CEAD, CEPLAN, ESAG, FAED, CESFI E REITORIA)
A3: VIGÊNCIA DA ATA: 13/10/2015 A 13/10/2015
D6: Nº AF →
D7: Fornecedor →
B8: Valor* ↓ | C8: Saldo ↓ | D8: Alerta ↓ | E8: Valor da AF ↓ | F8: Valor da AF ↓ | G8: Valor da AF ↓ | H8: Valor da AF ↓ | I8: Valor da AF ↓ | J8: Valor da AF ↓ | K8: Valor da AF ↓ | L8: Valor da AF ↓ | M8: Valor da AF ↓ | N8: Valor da AF ↓ | O8: Valor da AF ↓ | P8: Valor da AF ↓
A9: Livros Nacionais e Estrangeiros | B9: 60000 | C9: =B9-(SUM(E9:P9)) -> 60000 | D9: =IF(C9<0, "ATENÇÃO", "OK") -> OK
A10: Periódicos Estrangeiros | B10: 0 | C10: =B10-(SUM(E10:P10)) -> 0 | D10: =IF(C10<0, "ATENÇÃO", "OK") -> OK
A12: *Valor aprovado pelo Reitor em Termo de Referência
A14: Empresas vencedoras:
A16: Livraria Livros & Livros Ltda
A17: Aki Distribuidora Ltda
A18: SUR Distib. de livros, jornais e revistas Ltda
A19: EBSCO Brasil Ltda

Sheet FAED
A1: PP 1174/2014
A2: OBJETO: AQUISIÇÃO DE MATERIAIS BIBLIOGRÁFICOS (LIVROS NACIONAIS E ESTRANGEIROS) PARA ATENDER O SISTEMA DE BIBLIOTECAS DA UDESC (CAV, CEART, CEFID, CEO, CCT, CEAVI, CERES, CEAD, CEPLAN, ESAG, FAED, CESFI E REITORIA)
A3: VIGÊNCIA DA ATA: 13/10/2015 A 13/10/2015
D6: Nº AF →
D7: Fornecedor →
B8: Valor* ↓ | C8: Saldo ↓ | D8: Alerta ↓ | E8: Valor da AF ↓ | F8: Valor da AF ↓ | G8: Valor da AF ↓ | H8: Valor da AF ↓ | I8: Valor da AF ↓ | J8: Valor da AF ↓ | K8: Valor da AF ↓ | L8: Valor da AF ↓ | M8: Valor da AF ↓ | N8: Valor da AF ↓ | O8: Valor da AF ↓ | P8: Valor da AF ↓
A9: Livros Nacionais e Estrangeiros | B9: 67500 | C9: =B9-(SUM(E9:P9)) -> 67500 | D9: =IF(C9<0, "ATENÇÃO", "OK") -> OK
A10: Periódicos Estrangeiros | B10: 500 | C10: =B10-(SUM(E10:P10)) -> 500 | D10: =IF(C10<0, "ATENÇÃO", "OK") -> OK
A12: *Valor aprovado pelo Reitor em Termo de Referência
A14: Empresas vencedoras:
A16: Livraria Livros & Livros Ltda
A17: Aki Distribuidora Ltda
A18: SUR Distib. de livros, jornais e revistas Ltda
A19: EBSCO Brasil Ltda

Sheet CEAD
A1: PP 1174/2014
A2: OBJETO: AQUISIÇÃO DE MATERIAIS BIBLIOGRÁFICOS (LIVROS NACIONAIS E ESTRANGEIROS) PARA ATENDER O SISTEMA DE BIBLIOTECAS DA UDESC (CAV, CEART, CEFID, CEO, CCT, CEAVI, CERES, CEAD, CEPLAN, ESAG, FAED, CESFI E REITORIA)
A3: VIGÊNCIA DA ATA: 13/10/2015 A 13/10/2015
D6: Nº AF →
D7: Fornecedor →
B8: Valor* ↓ | C8: Saldo ↓ | D8: Alerta ↓ | E8: Valor da AF ↓ | F8: Valor da AF ↓ | G8: Valor da AF ↓ | H8: Valor da AF ↓ | I8: Valor da AF ↓ | J8: Valor da AF ↓ | K8: Valor da AF ↓ | L8: Valor da AF ↓ | M8: Valor da AF ↓ | N8: Valor da AF ↓ | O8: Valor da AF ↓ | P8: Valor da AF ↓
A9: Livros Nacionais e Estrangeiros | B9: 59000 | C9: =B9-(SUM(E9:P9)) -> 59000 | D9: =IF(C9<0, "ATENÇÃO", "OK") -> OK
A10: Periódicos Estrangeiros | B10: 3500 | C10: =B10-(SUM(E10:P10)) -> 3500 | D10: =IF(C10<0, "ATENÇÃO", "OK") -> OK
A12: *Valor aprovado pelo Reitor em Termo de Referência
A14: Empresas vencedoras:
A16: Livraria Livros & Livros Ltda
A17: Aki Distribuidora Ltda
A18: SUR Distib. de livros, jornais e revistas Ltda
A19: EBSCO Brasil Ltda

Sheet ESAG
A1: PP 1174/2014
A2: OBJETO: AQUISIÇÃO DE MATERIAIS BIBLIOGRÁFICOS (LIVROS NACIONAIS E ESTRANGEIROS) PARA ATENDER O SISTEMA DE BIBLIOTECAS DA UDESC (CAV, CEART, CEFID, CEO, CCT, CEAVI, CERES, CEAD, CEPLAN, ESAG, FAED, CESFI E REITORIA)
A3: VIGÊNCIA DA ATA: 13/10/2015 A 13/10/2015
D6: Nº AF →
D7: Fornecedor →
B8: Valor* ↓ | C8: Saldo ↓ | D8: Alerta ↓ | E8: Valor da AF ↓ | F8: Valor da AF ↓ | G8: Valor da AF ↓ | H8: Valor da AF ↓ | I8: Valor da AF ↓ | J8: Valor da AF ↓ | K8: Valor da AF ↓ | L8: Valor da AF ↓ | M8: Valor da AF ↓ | N8: Valor da AF ↓ | O8: Valor da AF ↓ | P8: Valor da AF ↓
A9: Livros Nacionais e Estrangeiros | B9: 35000 | C9: =B9-(SUM(E9:P9)) -> 35000 | D9: =IF(C9<0, "ATENÇÃO", "OK") -> OK
A10: Periódicos Estrangeiros | B10: 0 | C10: =B10-(SUM(E10:P10)) -> 0 | D10: =IF(C10<0, "ATENÇÃO", "OK") -> OK
A12: *Valor aprovado pelo Reitor em Termo de Referência
A14: Empresas vencedoras:
A16: Livraria Livros & Livros Ltda
A17: Aki Distribuidora Ltda
A18: SUR Distib. de livros, jornais e revistas Ltda
A19: EBSCO Brasil Ltda

Sheet REITORIA
A1: PP 1174/2014
A2: OBJETO: AQUISIÇÃO DE MATERIAIS BIBLIOGRÁFICOS (LIVROS NACIONAIS E ESTRANGEIROS) PARA ATENDER O SISTEMA DE BIBLIOTECAS DA UDESC (CAV, CEART, CEFID, CEO, CCT, CEAVI, CERES, CEAD, CEPLAN, ESAG, FAED, CESFI E REITORIA)
A3: VIGÊNCIA DA ATA: 13/10/2015 A 13/10/2015
D6: Nº AF →
D7: Fornecedor →
B8: Valor* ↓ | C8: Saldo ↓ | D8: Alerta ↓ | E8: Valor da AF ↓ | F8: Valor da AF ↓ | G8: Valor da AF ↓ | H8: Valor da AF ↓ | I8: Valor da AF ↓ | J8: Valor da AF ↓ | K8: Valor da AF ↓ | L8: Valor da AF ↓ | M8: Valor da AF ↓ | N8: Valor da AF ↓ | O8: Valor da AF ↓ | P8: Valor da AF ↓
A9: Livros Nacionais e Estrangeiros | B9: 100000 | C9: =B9-(SUM(E9:P9)) -> 100000 | D9: =IF(C9<0, "ATENÇÃO", "OK") -> OK
A10: Periódicos Estrangeiros | B10: 0 | C10: =B10-(SUM(E10:P10)) -> 0 | D10: =IF(C10<0, "ATENÇÃO", "OK") -> OK
A12: *Valor aprovado pelo Reitor em Termo de Referência
A14: Empresas vencedoras:
A16: Livraria Livros & Livros Ltda
A17: Aki Distribuidora Ltda
A18: SUR Distib. de livros, jornais e revistas Ltda
A19: EBSCO Brasil Ltda

Sheet GESTOR
A1: PP 1174/2014
A2: OBJETO: AQUISIÇÃO DE MATERIAIS BIBLIOGRÁFICOS (LIVROS NACIONAIS E ESTRANGEIROS) PARA ATENDER O SISTEMA DE BIBLIOTECAS DA UDESC (CAV, CEART, CEFID, CEO, CCT, CEAVI, CERES, CEAD, CEPLAN, ESAG, FAED, CESFI E REITORIA)
A3: VIGÊNCIA DA ATA: 13/10/2015 A 13/10/2015
B6: Valor* | C6: Qtdade Utilizada | D6: Saldo | E6: Alerta
A7: Livros Nacionais e Estrangeiros | B7: =SUM(CAV!B9,CEFID!B9,CEO!B9,CCT!B9,CEAVI!B9,CERES!B9,CEPLAN!B9,CESFI!B9,CEART!B9,FAED!B9,CEAD!B9,ESAG!B9,REITORIA!B9) -> 1776450.5 | C7: =(CAV!B9-CAV!C9)+(CEFID!B9-CEFID!C9)+(CEO!B9-CEO!C9)+(CCT!B9-CCT!C9)+(CEAVI!B9-CEAVI!C9)+(CERES!B9-CERES!C9)+(CEPLAN!B9-CEPLAN!C9)+(CESFI!B9-CESFI!C9)+(CEART!B9-CEART!C9)+(FAED!B9-FAED!C9)+(CEAD!B9-CEAD!C9)+(ESAG!B9-ESAG!C9)+(REITORIA!B9-REITORIA!C9) -> 0 | D7: =B7-C7 -> 1776450.5 | E7: =IF(D7<0, "atenção", "ok") -> ok
A8: Periódicos Estrangeiros | B8: =SUM(CAV!B10,CEFID!B10,CEO!B10,CCT!B10,CEAVI!B10,CERES!B10,CEPLAN!B10,CESFI!B10,CEART!B10,FAED!B10,CEAD!B10,ESAG!B10,REITORIA!B10) -> 92000 | C8: =(CAV!B10-CAV!C10)+(CEFID!B10-CEFID!C10)+(CEO!B10-CEO!C10)+(CCT!B10-CCT!C10)+(CEAVI!B10-CEAVI!C10)+(CERES!B10-CERES!C10)+(CEPLAN!B10-CEPLAN!C10)+(CESFI!B10-CESFI!C10)+(CEART!B10-CEART!C10)+(FAED!B10-FAED!C10)+(CEAD!B10-CEAD!C10)+(ESAG!B10-ESAG!C10)+(REITORIA!B10-REITORIA!C10) -> 0 | D8: =B8-C8 -> 92000 | E8: =IF(D8<0, "atenção", "ok") -> ok
A9: Total | B9: =SUM(B7:B8) -> 1868450.5 | C9: =(CAV!B11-CAV!C11)+(CEFID!B11-CEFID!C11)+(CEO!B11-CEO!C11)+(CCT!B11-CCT!C11)+(CEAVI!B11-CEAVI!C11)+(CERES!B11-CERES!C11)+(CEPLAN!B11-CEPLAN!C11)+(CESFI!B11-CESFI!C11)+(CEART!B11-CEART!C11)+(FAED!B11-FAED!C11)+(CEAD!B11-CEAD!C11)+(ESAG!B11-ESAG!C11)+(REITORIA!B11-REITORIA!C11) -> 0 | D9: =B9-C9 -> 1868450.5 | E9: =IF(D9<0, "atenção", "ok") -> ok
A11: *Valor aprovado pelo Reitor em Termo de Referência
A13: Empresas vencedoras:
A15: Livraria Livros & Livros Ltda
A16: Aki Distribuidora Ltda
A17: SUR Distib. de livros, jornais e revistas Ltda
A18: EBSCO Brasil Ltda

Sheet Modelo Anexo II IN 002_2014
A1: ANEXO II – Instrução Normativa n.º 002/2014
A3: DECLARAÇÃO DE DISPONIBILIDADE DE QUANTITATIVO PARA EMISSÃO DE AUTORIZAÇÃO DE FORNECIMENTO/ORDEM DE SERVIÇO – SISTEMA DE REGISTRO DE PREÇOS/UDESC
A5: Processo CPA n.º XXXX/2014
A6: Pregão n.º XXXX/2014
A7: Objeto:
A8: Vigência da Ata de Registro de Preços: XX/XX/XXXX até XX/XX/XXXXX
A10: Declaro que o Centro XXXXXXX, participante da Ata de Registro de Preços proveniente do Pregão n.º XXXX/2014, possui saldo em seu quantitativo para a emissão da Autorização de Fornecimento/Ordem de Serviço n.º XXXX/2014, no valor de R$ X.XXX,XX, a ser firmada com a empresa XXXXXXX, restando ainda em sua cota para próximas contratações com o referido fornecedor os seguintes quantitativos:
A12: Lote | B12: Item | C12: Descrição Resumida | D12: Unidade | E12: Valor Unitário (R$) | F12: Saldo Quantitativo (antes da emissão desta AF/OS) | G12: Quantitativo da AF/OS | H12: Saldo Atualizado
A19: __________________, ____/_____/____
A20: Cidade Data
A24: _____________________________________________
A25: Diretor(a) de Administração
A26: (carimbo e assinatura)
