Workbook
Name diasuteis: #REF!
Name diasuteis: #REF!
Name diasuteis: #REF!
Name diasuteis: #REF!
Name diasuteis: #REF!
Name diasuteis: #REF!
Name diasuteis: #REF!
Name diasuteis: #REF!
Name diasuteis: #REF!
Name diasuteis: #REF!
Name Ferias: #REF!
Name Ferias: #REF!
Name Ferias: #REF!
Name Ferias: #REF!
Name Ferias: #REF!
Name Ferias: #REF!
Name Ferias: #REF!
Name Ferias: #REF!
Name Ferias: #REF!
Name RD: OFFSET(#REF!,(MATCH(SMALL(#REF!,ROW()-10),#REF!,0)-1),0)
Name RD: OFFSET(#REF!,(MATCH(SMALL(#REF!,ROW()-10),#REF!,0)-1),0)
Name RD: OFFSET(#REF!,(MATCH(SMALL(#REF!,ROW()-10),#REF!,0)-1),0)
Name RD: OFFSET(#REF!,(MATCH(SMALL(#REF!,ROW()-10),#REF!,0)-1),0)
Name RD: OFFSET(#REF!,(MATCH(SMALL(#REF!,ROW()-10),#REF!,0)-1),0)
Name RD: OFFSET(#REF!,(MATCH(SMALL(#REF!,ROW()-10),#REF!,0)-1),0)
Name RD: OFFSET(#REF!,(MATCH(SMALL(#REF!,ROW()-10),#REF!,0)-1),0)
Name RD: OFFSET(#REF!,(MATCH(SMALL(#REF!,ROW()-10),#REF!,0)-1),0)
Name RD: OFFSET(#REF!,(MATCH(SMALL(#REF!,ROW()-10),#REF!,0)-1),0)

Sheet Reitoria
A1: PROCESSO: 1025/2014 - RELANÇAMENTO | D1: OBJETO: AQUISIÇÃO DE FERRAMENTAS, UTENSÍLIOS E MATERIAIS DE REPARO PARA O CAMPUS I, CERES E CESFI | G1: VIGÊNCIA DA ATA: 07/11/2014 até 06/11/2015 | K1: AF/OS nº xxxx/2014 Qtde. DT | L1: AF/OS nº xxxx/2014 Qtde. DT | M1: AF/OS nº xxxx/2014 Qtde. DT | N1: AF/OS nº xxxx/2014 Qtde. DT | O1: AF/OS nº xxxx/2014 Qtde. DT | P1: AF/OS nº xxxx/2014 Qtde. DT | Q1: AF/OS nº xxxx/2014 Qtde. DT | R1: AF/OS nº xxxx/2014 Qtde. DT | S1: AF/OS nº xxxx/2014 Qtde. DT | T1: AF/OS nº xxxx/2014 Qtde. DT | U1: AF/OS nº xxxx/2014 Qtde. DT | V1: AF/OS nº xxxx/2014 Qtde. DT
A2: CENTRO PARTICIPANTE: Reitoria
A3: FORNECEDOR | B3: LOTE | C3: ITEM | D3: PRODUTO - CARACTERÍSTICAS MÍNIMAS | E3: DETALHAMENTO | F3: UNIDADE | G3: Preço UNITÁRIO (R$) | H3: Qtde LICITADA | I3: Saldo / Automático | J3: ALERTA | K3: ...../...../...... | L3: ...../...../...... | M3: ...../...../...... | N3: ...../...../...... | O3: ...../...../...... | P3: ...../...../...... | Q3: ...../...../...... | R3: ...../...../...... | S3: ...../...../...... | T3: ...../...../...... | U3: ...../...../...... | V3: ...../...../......
A4: Cristiani Louri Rodrigues & Cia. Ltda - ME | B4: 1 | C4: 1 | D4: DESEMPENADEIRA, DE ACO P/CONTRUCAO, Desempenadeira dentada, com cabo de madeira, Dimensões: 255mm x 120mm. | E4: 339030.42 | F4: Peça | G4: 22 | H4: 5 | I4: =H4-(SUM(K4:V4)) -> 5 | J4: =IF(I4<0,"ATENÇÃO","OK") -> OK | K4: 0 | L4: 0 | M4: 0 | N4: 0 | O4: 0 | P4: 0 | Q4: 0 | R4: 0 | S4: 0 | T4: 0 | U4: 0 | V4: 0
C5: 2 | D5: DESEMPENADEIRA, EM MADEIRA LISA, MED.15 X 26CM, Desempenadeira de madeira lisa. Tamanho aprox. 15cmX26cm | E5: 339030.24 | F5: Peça | G5: 5.5 | H5: 5 | I5: =H5-(SUM(K5:V5)) -> 5 | J5: =IF(I5<0,"ATENÇÃO","OK") -> OK | K5: 0 | L5: 0 | M5: 0 | N5: 0 | O5: 0 | P5: 0 | Q5: 0 | R5: 0 | S5: 0 | T5: 0 | U5: 0 | V5: 0
C6: 3 | D6: DESEMPENADEIRA, EM PVC, MEDINDO 14 X 27CM, Desempenadeira em PVC 14x 27cm. | E6: 339030.24 | F6: Peça | G6: 4.2 | H6: 5 | I6: =H6-(SUM(K6:V6)) -> 5 | J6: =IF(I6<0,"ATENÇÃO","OK") -> OK | K6: 0 | L6: 0 | M6: 0 | N6: 0 | O6: 0 | P6: 0 | Q6: 0 | R6: 0 | S6: 0 | T6: 0 | U6: 0 | V6: 0
C7: 4 | D7: CONEXAO DE PLASTICO PARA INSTALACOES HIDRAULICAS-SANITARIAS, ADAPTADOR CURTO EM PVC, Conexão em "PVC", para água fria, tipo "Adaptador Soldável com Flanges Livres para Caixa D’Água." Ø25mm, Linha Soldável.Material - PVC - Cloreto de Polivinila, cor marrom. | E7: 339030.24 | F7: Peça | G7: 7.7 | H7: 30 | I7: =H7-(SUM(K7:V7)) -> 30 | J7: =IF(I7<0,"ATENÇÃO","OK") -> OK | K7: 0 | L7: 0 | M7: 0 | N7: 0 | O7: 0 | P7: 0 | Q7: 0 | R7: 0 | S7: 0 | T7: 0 | U7: 0 | V7: 0
C8: 5 | D8: LANTERNA, DE CABECA, COM 19 LEDS, Lanterna com 19 leds, recarregável. | E8: 339030.13 | F8: Peça | G8: 42.85 | H8: 5 | I8: =H8-(SUM(K8:V8)) -> 5 | J8: =IF(I8<0,"ATENÇÃO","OK") -> OK | K8: 0 | L8: 0 | M8: 0 | N8: 0 | O8: 0 | P8: 0 | Q8: 0 | R8: 0 | S8: 0 | T8: 0 | U8: 0 | V8: 0
C9: 6 | D9: REBITADOR MANUAL, TIPO ALAVANCA, Rebitador manual tipo alavanca. Corpo em alumínio fundido. Castanhas em aço cromo molibdnênio temperadas. Cabos tubulares cromados. Ponteiras para cinco bitolas de rebites: 3.2, 4.0, 4.8, 6.0, 6.4mm. Cabos com revestimento especial. Tamanho: 16,5". | E9: 449052.38 | F9: Peça | G9: 34.7 | H9: 5 | I9: =H9-(SUM(K9:V9)) -> 5 | J9: =IF(I9<0,"ATENÇÃO","OK") -> OK | K9: 0 | L9: 0 | M9: 0 | N9: 0 | O9: 0 | P9: 0 | Q9: 0 | R9: 0 | S9: 0 | T9: 0 | U9: 0 | V9: 0
A10: Kafer Comércio Ltda | B10: 2 | C10: 1 | D10: LIXADEIRA INDUSTRIAL, COM MESA, DE FITA, Lixadeira de cinta com disco (combinada de bancada), com mesa regulável, para lixas com comprimento de 1490mm x 150 mm, motorizada com motor de 1cv – 4 P, peso aproximado de 50kg, correia utilizada 1 =A-29. Marca / modelo referência: LX 2S ACERBI. | E10: 449052.38 | F10: Peça | G10: 1535 | I10: =H10-(SUM(K10:V10)) -> 0 | J10: =IF(I10<0,"ATENÇÃO","OK") -> OK | K10: 0 | L10: 0 | M10: 0 | N10: 0 | O10: 0 | P10: 0 | Q10: 0 | R10: 0 | S10: 0 | T10: 0 | U10: 0 | V10: 0
C11: 2 | D11: LIXADEIRA, ANGULAR 115MM, TIPO PORTÁTIL, POTÊNCIA DE 850 W, TENSÃO 220V. | E11: 449052.38 | F11: Peça | G11: 253.09 | I11: =H11-(SUM(K11:V11)) -> 0 | J11: =IF(I11<0,"ATENÇÃO","OK") -> OK | K11: 0 | L11: 0 | M11: 0 | N11: 0 | O11: 0 | P11: 0 | Q11: 0 | R11: 0 | S11: 0 | T11: 0 | U11: 0 | V11: 0
C12: 3 | D12: LIXADEIRA, COM MALETA E ACESSORIOS, Lixadeira de cinta manual – lixadeira de cinta elétrica com aplicação industrial, 220v, potência entre 650 e 850 W, velocidade da cinta sem carga entre 200 e 400 m/min, dimensões da lixa de aproximadamente 75x533mm, com coletor de pó, peso variando entre 3 à 5 kg. Marca / modelo referência: GBS 75 AE - BOSCH ou Dewalt DW433 etc. | E12: 449052.38 | F12: Peça | G12: 1047.36 | I12: =H12-(SUM(K12:V12)) -> 0 | J12: =IF(I12<0,"ATENÇÃO","OK") -> OK | K12: 0 | L12: 0 | M12: 0 | N12: 0 | O12: 0 | P12: 0 | Q12: 0 | R12: 0 | S12: 0 | T12: 0 | U12: 0 | V12: 0
C13: 4 | D13: LIXADEIRA, DE CINTA, A lixadeira deve vir completa, com todos os acessórios, com três jogos de lixas, para o seu funcionamento. Deve possuir duas funções, lixadeira de disco e lixadeira de fita e ser apoiada no chão. A lixadeira de disco deve ter inclinação da mesa de 45º, com dimensão mínima de 250mm. A lixadeira de fita deve ter dimensão de lixa aproximada de 1480 X 150 mm e posição de trabalho de 0&#730; e 90&#730;. A potência mínima deve ser de 1CV e a tensão de 220V. | E13: 449052.38 | F13: Peça | G13: 2986.17 | I13: =H13-(SUM(K13:V13)) -> 0 | J13: =IF(I13<0,"ATENÇÃO","OK") -> OK | K13: 0 | L13: 0 | M13: 0 | N13: 0 | O13: 0 | P13: 0 | Q13: 0 | R13: 0 | S13: 0 | T13: 0 | U13: 0 | V13: 0
C14: 5 | D14: LIXADEIRA, ORBITAL, ELETRICA, Lixadeira orbital elétrica industrial ou profissional, 220v, potencia de aprox. 170w, de 13000 a 14000 oscilações por minuto, para lixa de 114x140mm, 1/3 de lixa. | E14: 449052.38 | F14: Peça | G14: 274.33 | I14: =H14-(SUM(K14:V14)) -> 0 | J14: =IF(I14<0,"ATENÇÃO","OK") -> OK | K14: 0 | L14: 0 | M14: 0 | N14: 0 | O14: 0 | P14: 0 | Q14: 0 | R14: 0 | S14: 0 | T14: 0 | U14: 0 | V14: 0
A15: Kafer Comércio Ltda | B15: 3 | C15: 1 | D15: APARELHO PARA SOLDA, ELETRICA, Aparelho de solda Monofásico. Alimentação 220V -50/ 60 Hz – Plug universal, Ciclo de tarefa: 10%, Corrente máxima: 160 A, Capacidade de entrada: 8 Kva, Intervalo de ajuste da corrente: 55 - 160 A, Diâmetro do eletrodo compatível: 2 - 3.2 mm. Incluso Cabos: Alicate, Alicate terra. | E15: 449052.38 | F15: Peça | G15: 316 | H15: 1 | I15: =H15-(SUM(K15:V15)) -> 1 | J15: =IF(I15<0,"ATENÇÃO","OK") -> OK | K15: 0 | L15: 0 | M15: 0 | N15: 0 | O15: 0 | P15: 0 | Q15: 0 | R15: 0 | S15: 0 | T15: 0 | U15: 0 | V15: 0
C16: 2 | D16: COLETOR DE PO, COM CHAVE ELETRICA, Coletor de pó com Chave elétrica com botão de segurança, rodas e alças para movimentação, com saco de poliester de 80 litros lavável. Tensão de 220V ou bivolt. | E16: 449052.38 | F16: Peça | G16: 788.8 | I16: =H16-(SUM(K16:V16)) -> 0 | J16: =IF(I16<0,"ATENÇÃO","OK") -> OK | K16: 0 | L16: 0 | M16: 0 | N16: 0 | O16: 0 | P16: 0 | Q16: 0 | R16: 0 | S16: 0 | T16: 0 | U16: 0 | V16: 0
C17: 3 | D17: MORSA, DE BANCADA PARA FIXACAO DE PECAS NOE 8, Morsa de bancada para fixação de peças Nº 8 | E17: 449052.38 | F17: Peça | G17: 249.44 | I17: =H17-(SUM(K17:V17)) -> 0 | J17: =IF(I17<0,"ATENÇÃO","OK") -> OK | K17: 0 | L17: 0 | M17: 0 | N17: 0 | O17: 0 | P17: 0 | Q17: 0 | R17: 0 | S17: 0 | T17: 0 | U17: 0 | V17: 0
C18: 4 | D18: MORSA, MINI MORSA COM EIXO GIRATORIO, Mini morsa com eixo giratório 360&#730; que prenda superfícies de até 5cm de largura. Deve ter capa de borracha protetora nas suas “garras”. | E18: 449052.38 | F18: Peça | G18: 136.07 | I18: =H18-(SUM(K18:V18)) -> 0 | J18: =IF(I18<0,"ATENÇÃO","OK") -> OK | K18: 0 | L18: 0 | M18: 0 | N18: 0 | O18: 0 | P18: 0 | Q18: 0 | R18: 0 | S18: 0 | T18: 0 | U18: 0 | V18: 0
C19: 5 | D19: PISTOLA PARA PINTURA, DE ALTA PRESSAO, Pistola de pintura por gravidade, com bico de 1,4 mm de diâmetro, caneca em alumínio com capacidade de 600ml, para aplicação de tintas automotivas. Marca / modelo de referência: OMX-610 MARCA DEVILBISS. | E19: 449052.38 | F19: Peça | G19: 763.36 | I19: =H19-(SUM(K19:V19)) -> 0 | J19: =IF(I19<0,"ATENÇÃO","OK") -> OK | K19: 0 | L19: 0 | M19: 0 | N19: 0 | O19: 0 | P19: 0 | Q19: 0 | R19: 0 | S19: 0 | T19: 0 | U19: 0 | V19: 0
C20: 6 | D20: PLAINA DE BANCADA, DE MESA, ELETRICA, TAMANHO MEDIO, Plaina Elétrica profissional, potencia minima 620 W, largura de corte 82mm (3' ¼"), profundidade de corte 2,5X158X158mm, peso 2,6Kg, voltagem 220 V. Acompanha conjunto de calibrador da face, guia reta, faca de plaina e chave soquete. | E20: 449052.38 | F20: Peça | G20: 426.23 | I20: =H20-(SUM(K20:V20)) -> 0 | J20: =IF(I20<0,"ATENÇÃO","OK") -> OK | K20: 0 | L20: 0 | M20: 0 | N20: 0 | O20: 0 | P20: 0 | Q20: 0 | R20: 0 | S20: 0 | T20: 0 | U20: 0 | V20: 0
C21: 7 | D21: PLAINA DE BANCADA, DESEMPENADEIRA, Equipamento para desempenar e desbastar, fazendo ajustes nos cortes de madeiras, compensados e MDF. Com 04 facas, eixo em diagonal, uso industrial. Descrição do produto: Motor: 1CV - 2 POLOS; Comprimento da mesa: 1.200mm; Largura da mesa: 160mm; Diâmetro do eixo: 61mm; Número de Facas: 4 un; Dimensões das Facas: 158 x 18 x 3mm; Peso: Aproximadamente 116Kg. | E21: 449052.38 | F21: Peça | G21: 4266.66 | I21: =H21-(SUM(K21:V21)) -> 0 | J21: =IF(I21<0,"ATENÇÃO","OK") -> OK | K21: 0 | L21: 0 | M21: 0 | N21: 0 | O21: 0 | P21: 0 | Q21: 0 | R21: 0 | S21: 0 | T21: 0 | U21: 0 | V21: 0
A22: Kafer Comércio Ltda | B22: 5 | C22: 1 | D22: FURADEIRA, ELETRICA DE IMPACTO, Furadeira de impacto com potência mínima de 600W, com mandril de 1/2”ou 13mm, com número de rotações de 0-3000rpm. Tensão de 220V ou bivolt. Deve vir com maleta compatível. | E22: 449052.34 | F22: Peça | G22: 295.15 | I22: =H22-(SUM(K22:V22)) -> 0 | J22: =IF(I22<0,"ATENÇÃO","OK") -> OK | K22: 0 | L22: 0 | M22: 0 | N22: 0 | O22: 0 | P22: 0 | Q22: 0 | R22: 0 | S22: 0 | T22: 0 | U22: 0 | V22: 0
C23: 2 | D23: FURADEIRA, ELETRICA DE IMPACTO, Furadeira de impacto profissional ½”, com potência mínima de 800 W, 3000 RPM, 220 V, para trabalhos pesados de perfuração em concreto, aço e madeira. Deve possuir comutador mecânico de duas velocidades, carcaça de engrenagem metálica, embreagem de segurança. Carcaça e punho emborrachado. Deverá vir acompanhada de maleta com os seguintes itens: 1 chave de catraca, 1 porta bits, 1 escariador, 2 guias para pontas, 13 Bbrocas para metal / madeira / plástico (1/16, 5/64, 3/32, 7/64, 1/8, 9/64, 5/32, 11/64, 3/16, 13/64, 7/32, 15/64, 1/4 polegadas), 12 brocas para madeira (1/8, 9/64, 5/32, 11/16, 3/16, 13/64, 7/32, 15/64, 1/4, 9/32, 19/64,5/16 polegadas), 5 brocas para concreto: 1/8, 3/16, 1/4, 5/16, 3/8 polegadas. | E23: 449052.34 | F23: Peça | G23: 477.5 | H23: 3 | I23: =H23-(SUM(K23:V23)) -> 3 | J23: =IF(I23<0,"ATENÇÃO","OK") -> OK | K23: 0 | L23: 0 | M23: 0 | N23: 0 | O23: 0 | P23: 0 | Q23: 0 | R23: 0 | S23: 0 | T23: 0 | U23: 0 | V23: 0
C24: 3 | D24: FURADEIRA, MANUAL 700W DE POTENCIA, COM MANDRIL DE 1/2 POLEGADA, Furadeira Manual 700w de potência, 220V, com mandril de ½ polegada e velocidade regulável no gatilho | E24: 449052.38 | G24: 254.3 | I24: =H24-(SUM(K24:V24)) -> 0 | J24: =IF(I24<0,"ATENÇÃO","OK") -> OK | K24: 0 | L24: 0 | M24: 0 | N24: 0 | O24: 0 | P24: 0 | Q24: 0 | R24: 0 | S24: 0 | T24: 0 | U24: 0 | V24: 0
C25: 4 | D25: FURADEIRA, PARAFUSADEIRA, Parafusadeira industrial 220V., 685W 500rpm similar (DW268) com kit de chave regulador de torque com lanterna. | E25: 449052.38 | F25: Peça | G25: 591.66 | I25: =H25-(SUM(K25:V25)) -> 0 | J25: =IF(I25<0,"ATENÇÃO","OK") -> OK | K25: 0 | L25: 0 | M25: 0 | N25: 0 | O25: 0 | P25: 0 | Q25: 0 | R25: 0 | S25: 0 | T25: 0 | U25: 0 | V25: 0
C26: 5 | D26: FURADEIRA, PARAFUSADEIRA, Parafusadeira-Furadeira sem Fio, rotação variavel, reversivel, bateria de 12v, Bivolt ou 200V, acompanha carregador e suporte para bateria, com maleta, acompanha: 2 Bits Phillips de 25 mm: PH1 e PH2, 2 Bits. Pozidriv de 25 mm: PZ1 e PZ2, 2 Bits de fenda: 5 e 6 mm, 6 Brocas para metal. | E26: 449052.38 | F26: Peça | G26: 242.93 | I26: =H26-(SUM(K26:V26)) -> 0 | J26: =IF(I26<0,"ATENÇÃO","OK") -> OK | K26: 0 | L26: 0 | M26: 0 | N26: 0 | O26: 0 | P26: 0 | Q26: 0 | R26: 0 | S26: 0 | T26: 0 | U26: 0 | V26: 0
C27: 6 | D27: FURADEIRA, SEM IMPACTO, POTENCIA 600W, 220V, 1/2", 1000-2500 RPM Industrial. Motor de 600 wattsç Comutador de velocidade mecânico; Botão de trava para trabalhos contínuos; Tipo: Industria; RPM: 1000-2500RPM; Velocidade: 2 VVR; Encaixe: 1/2" | E27: 449052.34 | F27: Peça | G27: 473.53 | I27: =H27-(SUM(K27:V27)) -> 0 | J27: =IF(I27<0,"ATENÇÃO","OK") -> OK | K27: 0 | L27: 0 | M27: 0 | N27: 0 | O27: 0 | P27: 0 | Q27: 0 | R27: 0 | S27: 0 | T27: 0 | U27: 0 | V27: 0
C28: 7 | D28: FURADEIRA, TIPO PARAFUSADEIRA MOVIDA A BATERIA, Furadeira/Parafusadeira Profissional à Bateria. Mandril: 3/8"; Rotação: 400/1200RPM; Voltagem: 220V; Baterias: 12 / 14 V | E28: 449052.34 | F28: Peça | G28: 381.27 | I28: =H28-(SUM(K28:V28)) -> 0 | J28: =IF(I28<0,"ATENÇÃO","OK") -> OK | K28: 0 | L28: 0 | M28: 0 | N28: 0 | O28: 0 | P28: 0 | Q28: 0 | R28: 0 | S28: 0 | T28: 0 | U28: 0 | V28: 0
C29: 8 | D29: FURADEIRA, TIPO PARAFUSADEIRA,INDUSTRIAL ELETRONICA 650 W, Furadeira de no mínimo 650 Watts de potência;Mandril de 1/2" (13mm);Empunhadura lateral multi-posição.Alimentação 220V - 5060Hz.Incluso maleta e chave de mandril. | E29: 449052.38 | F29: Peça | G29: 353 | H29: 2 | I29: =H29-(SUM(K29:V29)) -> 2 | J29: =IF(I29<0,"ATENÇÃO","OK") -> OK | K29: 0 | L29: 0 | M29: 0 | N29: 0 | O29: 0 | P29: 0 | Q29: 0 | R29: 0 | S29: 0 | T29: 0 | U29: 0 | V29: 0
C30: 9 | D30: FURADEIRA DE BANCADA, DE BANCADA, Descrição do produto: Potência: 350 W; Velocidade: 570-3050; Níveis de velocidade: 5 níveis de ajuste de velocidade variável; capacidade: 1,5 mm, 6 mm, 13 mm (1/16", 1/4", 1/2"); Motor de 350 W; Base de Ferro Fundido; ajuste de profundidade | E30: 449052.38 | F30: Peça | G30: 509.66 | I30: =H30-(SUM(K30:V30)) -> 0 | J30: =IF(I30<0,"ATENÇÃO","OK") -> OK | K30: 0 | L30: 0 | M30: 0 | N30: 0 | O30: 0 | P30: 0 | Q30: 0 | R30: 0 | S30: 0 | T30: 0 | U30: 0 | V30: 0
C31: 10 | D31: FURADEIRA INDUSTRIAL, FURADEIRA MARTELETE ROMPEDOR, Furadeira / Martelete Rompedor SDS. Potencia mínima 800w, Encaixe tipo SDS,Velocidade variável, Função perfuração com e sem impacto. Alimentação 220V. Ref Bosch Gbh 2-24d. | E31: 449052.38 | F31: Peça | G31: 666 | H31: 2 | I31: =H31-(SUM(K31:V31)) -> 2 | J31: =IF(I31<0,"ATENÇÃO","OK") -> OK | K31: 0 | L31: 0 | M31: 0 | N31: 0 | O31: 0 | P31: 0 | Q31: 0 | R31: 0 | S31: 0 | T31: 0 | U31: 0 | V31: 0
C32: 11 | D32: PARAFUSADEIRA ELETRICA EMPUNHAVEL, A BATERIA, Parafusadeira a bateria 12Volts, bateria íon de lítio.Mandril sem chave 3/8”, Luz LED, Clip para pendurar, 2baterias Ion de Líthium, Encaixe 3/8" (10mm), 2niveis de velocidades, de 0 a 400/ 0 a 1.500RPM, torque 25 NewTons. Marca de Referência: Dewalt. Conjunto com carregador (110/220v) e maleta. | E32: 449052.38 | F32: Peça | G32: 460.5 | H32: 4 | I32: =H32-(SUM(K32:V32)) -> 4 | J32: =IF(I32<0,"ATENÇÃO","OK") -> OK | K32: 0 | L32: 0 | M32: 0 | N32: 0 | O32: 0 | P32: 0 | Q32: 0 | R32: 0 | S32: 0 | T32: 0 | U32: 0 | V32: 0
C33: 12 | D33: PARAFUSADEIRA ELETRICA EMPUNHAVEL, COMPATIVEL A REDE 220 VOLTS, Parafusadeira com o mínimo de 14V, com bateria em ións de lítio, com configurações de, no mínimo, 25 opções de torque e uma para furação. Tensão de 220V ou bivolt. Deve vir com maleta compatível. | E33: 449052.38 | F33: Peça | G33: 380.04 | I33: =H33-(SUM(K33:V33)) -> 0 | J33: =IF(I33<0,"ATENÇÃO","OK") -> OK | K33: 0 | L33: 0 | M33: 0 | N33: 0 | O33: 0 | P33: 0 | Q33: 0 | R33: 0 | S33: 0 | T33: 0 | U33: 0 | V33: 0
A34: Cristiani Louri Rodrigues & Cia. Ltda - ME | B34: 6 | C34: 1 | D34: PLAINA ELETRICA, PLAINA 550 W, 220 V, Plaina Elétrica 3 1/4"(82mm) 550 Watts; Gatilho com trava de segurança, utilização de Lâminas de aço rápido, manopla com ajustes de profundidade; sapata usinada com chanfros de borda, Potência: 550 Watts, Rotação: 17.000 Rpm, Capicade de corte: 1mm , Peso: 2,6 Kg, Largura da Lâmina: 82mm, Capacidade de rebaixo: 9mm, com Guia paralela e Chave para troca da Lâmina. Marca de referência: Modelo D26676 - Dewalt | E34: 449052.34 | F34: Peça | G34: 297 | H34: 1 | I34: =H34-(SUM(K34:V34)) -> 1 | J34: =IF(I34<0,"ATENÇÃO","OK") -> OK | K34: 0 | L34: 0 | M34: 0 | N34: 0 | O34: 0 | P34: 0 | Q34: 0 | R34: 0 | S34: 0 | T34: 0 | U34: 0 | V34: 0
C35: 2 | D35: SERRA MANUAL, MEIA ESQUADRIA, Conjunto serra tipo "meia esquadria" Manual, Sistema com mesa ajustável, Indicador de grau, Escala na base, Lamina para cortar madeira e plástico, Apoio de madeira, Comprimento da lâmina de 550 mm. Material: Aço. | E35: 449052.38 | F35: Peça | G35: 338 | H35: 1 | I35: =H35-(SUM(K35:V35)) -> 1 | J35: =IF(I35<0,"ATENÇÃO","OK") -> OK | K35: 0 | L35: 0 | M35: 0 | N35: 0 | O35: 0 | P35: 0 | Q35: 0 | R35: 0 | S35: 0 | T35: 0 | U35: 0 | V35: 0
C36: 3 | D36: SERRA MANUAL, MEIA ESQUADRIA, Serra meio-esquadria profissional – potência mínima 1500 W – serra de 10 polegadas. Com garantia e assistência técncia em Santa Catarina | E36: 449052.38 | F36: Peça | G36: 945 | H36: 1 | I36: =H36-(SUM(K36:V36)) -> 1 | J36: =IF(I36<0,"ATENÇÃO","OK") -> OK | K36: 0 | L36: 0 | M36: 0 | N36: 0 | O36: 0 | P36: 0 | Q36: 0 | R36: 0 | S36: 0 | T36: 0 | U36: 0 | V36: 0
C37: 4 | D37: SERRA MANUAL, TICO-TICO,MANUAL, serra tico-tico 1600RPM, 220v | E37: 449052.38 | G37: 218 | I37: =H37-(SUM(K37:V37)) -> 0 | J37: =IF(I37<0,"ATENÇÃO","OK") -> OK | K37: 0 | L37: 0 | M37: 0 | N37: 0 | O37: 0 | P37: 0 | Q37: 0 | R37: 0 | S37: 0 | T37: 0 | U37: 0 | V37: 0
C38: 5 | D38: SERRA MANUAL, TICO-TICO,MANUAL, Serra tico-tico de bancada com para lâminas com dimensões de 5”; Tensão de 220V ou bivolt. | E38: 449052.38 | F38: Peça | G38: 490 | I38: =H38-(SUM(K38:V38)) -> 0 | J38: =IF(I38<0,"ATENÇÃO","OK") -> OK | K38: 0 | L38: 0 | M38: 0 | N38: 0 | O38: 0 | P38: 0 | Q38: 0 | R38: 0 | S38: 0 | T38: 0 | U38: 0 | V38: 0
C39: 6 | D39: SERRA MANUAL, TICO-TICO,MANUAL, Serra tico-tico elétrica, aplicação industrial, 220V, 650W de potência mínima, de 500 a 3100 golpes por minuto, capacidade corte madeira de 90mm e aço 8,0mm, peso aproximado de até 3kg. Com 15 lâminas com 75mm de comprimento para madeira com prego e alumínio até 13mm de espessura e 15 laminas com 75mm comprimento para corte limpo em madeira com até 50mm espessura. | E39: 449052.38 | F39: Peça | G39: 470 | I39: =H39-(SUM(K39:V39)) -> 0 | J39: =IF(I39<0,"ATENÇÃO","OK") -> OK | K39: 0 | L39: 0 | M39: 0 | N39: 0 | O39: 0 | P39: 0 | Q39: 0 | R39: 0 | S39: 0 | T39: 0 | U39: 0 | V39: 0
C40: 7 | D40: SOPRADOR TERMICO, POTENCIA 1800W, Soprador Térmico 220V Temp.1: 50º; 2:300º/400º; 3:400º/570º 1800W. Características: Três níveis de temperatura; Controle constante de temperatura; Base plana para uso estável; Entradas de ar lateral com tela de proteção; Acompanha kit de acessórios e maleta plástica. Especificações técnicas: Potência: 1800 watts; Tensão: 220V; Temperatura: de 50ºC a 570°C | E40: 449052.38 | F40: Peça | G40: 151.2 | I40: =H40-(SUM(K40:V40)) -> 0 | J40: =IF(I40<0,"ATENÇÃO","OK") -> OK | K40: 0 | L40: 0 | M40: 0 | N40: 0 | O40: 0 | P40: 0 | Q40: 0 | R40: 0 | S40: 0 | T40: 0 | U40: 0 | V40: 0
...

Sheet ESAG
A1: PROCESSO: 1025/2014 - RELANÇAMENTO | D1: OBJETO: AQUISIÇÃO DE FERRAMENTAS, UTENSÍLIOS E MATERIAIS DE REPARO PARA O CAMPUS I, CERES E CESFI | G1: VIGÊNCIA DA ATA: 07/11/2014 até 06/11/2015 | K1: AF/OS nº xxxx/2014 Qtde. DT | L1: AF/OS nº xxxx/2014 Qtde. DT | M1: AF/OS nº xxxx/2014 Qtde. DT | N1: AF/OS nº xxxx/2014 Qtde. DT | O1: AF/OS nº xxxx/2014 Qtde. DT | P1: AF/OS nº xxxx/2014 Qtde. DT | Q1: AF/OS nº xxxx/2014 Qtde. DT | R1: AF/OS nº xxxx/2014 Qtde. DT | S1: AF/OS nº xxxx/2014 Qtde. DT | T1: AF/OS nº xxxx/2014 Qtde. DT | U1: AF/OS nº xxxx/2014 Qtde. DT | V1: AF/OS nº xxxx/2014 Qtde. DT
A2: CENTRO PARTICIPANTE: ESAG
A3: FORNECEDOR | B3: LOTE | C3: ITEM | D3: PRODUTO - CARACTERÍSTICAS MÍNIMAS | E3: DETALHAMENTO | F3: UNIDADE | G3: Preço UNITÁRIO (R$) | H3: Qtde LICITADA | I3: Saldo / Automático | J3: ALERTA | K3: ...../...../...... | L3: ...../...../...... | M3: ...../...../...... | N3: ...../...../...... | O3: ...../...../...... | P3: ...../...../...... | Q3: ...../...../...... | R3: ...../...../...... | S3: ...../...../...... | T3: ...../...../...... | U3: ...../...../...... | V3: ...../...../......
A4: Cristiani Louri Rodrigues & Cia. Ltda - ME | B4: 1 | C4: 1 | D4: DESEMPENADEIRA, DE ACO P/CONTRUCAO, Desempenadeira dentada, com cabo de madeira, Dimensões: 255mm x 120mm. | E4: 339030.42 | F4: Peça | G4: 22 | I4: =H4-(SUM(K4:V4)) -> 0 | J4: =IF(I4<0,"ATENÇÃO","OK") -> OK | K4: 0 | L4: 0 | M4: 0 | N4: 0 | O4: 0 | P4: 0 | Q4: 0 | R4: 0 | S4: 0 | T4: 0 | U4: 0 | V4: 0
C5: 2 | D5: DESEMPENADEIRA, EM MADEIRA LISA, MED.15 X 26CM, Desempenadeira de madeira lisa. Tamanho aprox. 15cmX26cm | E5: 339030.24 | F5: Peça | G5: 5.5 | I5: =H5-(SUM(K5:V5)) -> 0 | J5: =IF(I5<0,"ATENÇÃO","OK") -> OK | K5: 0 | L5: 0 | M5: 0 | N5: 0 | O5: 0 | P5: 0 | Q5: 0 | R5: 0 | S5: 0 | T5: 0 | U5: 0 | V5: 0
C6: 3 | D6: DESEMPENADEIRA, EM PVC, MEDINDO 14 X 27CM, Desempenadeira em PVC 14x 27cm. | E6: 339030.24 | F6: Peça | G6: 4.2 | I6: =H6-(SUM(K6:V6)) -> 0 | J6: =IF(I6<0,"ATENÇÃO","OK") -> OK | K6: 0 | L6: 0 | M6: 0 | N6: 0 | O6: 0 | P6: 0 | Q6: 0 | R6: 0 | S6: 0 | T6: 0 | U6: 0 | V6: 0
C7: 4 | D7: CONEXAO DE PLASTICO PARA INSTALACOES HIDRAULICAS-SANITARIAS, ADAPTADOR CURTO EM PVC, Conexão em "PVC", para água fria, tipo "Adaptador Soldável com Flanges Livres para Caixa D’Água." Ø25mm, Linha Soldável.Material - PVC - Cloreto de Polivinila, cor marrom. | E7: 339030.24 | F7: Peça | G7: 7.7 | I7: =H7-(SUM(K7:V7)) -> 0 | J7: =IF(I7<0,"ATENÇÃO","OK") -> OK | K7: 0 | L7: 0 | M7: 0 | N7: 0 | O7: 0 | P7: 0 | Q7: 0 | R7: 0 | S7: 0 | T7: 0 | U7: 0 | V7: 0
C8: 5 | D8: LANTERNA, DE CABECA, COM 19 LEDS, Lanterna com 19 leds, recarregável. | E8: 339030.13 | F8: Peça | G8: 42.85 | I8: =H8-(SUM(K8:V8)) -> 0 | J8: =IF(I8<0,"ATENÇÃO","OK") -> OK | K8: 0 | L8: 0 | M8: 0 | N8: 0 | O8: 0 | P8: 0 | Q8: 0 | R8: 0 | S8: 0 | T8: 0 | U8: 0 | V8: 0
C9: 6 | D9: REBITADOR MANUAL, TIPO ALAVANCA, Rebitador manual tipo alavanca. Corpo em alumínio fundido. Castanhas em aço cromo molibdnênio temperadas. Cabos tubulares cromados. Ponteiras para cinco bitolas de rebites: 3.2, 4.0, 4.8, 6.0, 6.4mm. Cabos com revestimento especial. Tamanho: 16,5". | E9: 449052.38 | F9: Peça | G9: 34.7 | I9: =H9-(SUM(K9:V9)) -> 0 | J9: =IF(I9<0,"ATENÇÃO","OK") -> OK | K9: 0 | L9: 0 | M9: 0 | N9: 0 | O9: 0 | P9: 0 | Q9: 0 | R9: 0 | S9: 0 | T9: 0 | U9: 0 | V9: 0
A10: Kafer Comércio Ltda | B10: 2 | C10: 1 | D10: LIXADEIRA INDUSTRIAL, COM MESA, DE FITA, Lixadeira de cinta com disco (combinada de bancada), com mesa regulável, para lixas com comprimento de 1490mm x 150 mm, motorizada com motor de 1cv – 4 P, peso aproximado de 50kg, correia utilizada 1 =A-29. Marca / modelo referência: LX 2S ACERBI. | E10: 449052.38 | F10: Peça | G10: 1535 | I10: =H10-(SUM(K10:V10)) -> 0 | J10: =IF(I10<0,"ATENÇÃO","OK") -> OK | K10: 0 | L10: 0 | M10: 0 | N10: 0 | O10: 0 | P10: 0 | Q10: 0 | R10: 0 | S10: 0 | T10: 0 | U10: 0 | V10: 0
C11: 2 | D11: LIXADEIRA, ANGULAR 115MM, TIPO PORTÁTIL, POTÊNCIA DE 850 W, TENSÃO 220V. | E11: 449052.38 | F11: Peça | G11: 253.09 | I11: =H11-(SUM(K11:V11)) -> 0 | J11: =IF(I11<0,"ATENÇÃO","OK") -> OK | K11: 0 | L11: 0 | M11: 0 | N11: 0 | O11: 0 | P11: 0 | Q11: 0 | R11: 0 | S11: 0 | T11: 0 | U11: 0 | V11: 0
C12: 3 | D12: LIXADEIRA, COM MALETA E ACESSORIOS, Lixadeira de cinta manual – lixadeira de cinta elétrica com aplicação industrial, 220v, potência entre 650 e 850 W, velocidade da cinta sem carga entre 200 e 400 m/min, dimensões da lixa de aproximadamente 75x533mm, com coletor de pó, peso variando entre 3 à 5 kg. Marca / modelo referência: GBS 75 AE - BOSCH ou Dewalt DW433 etc. | E12: 449052.38 | F12: Peça | G12: 1047.36 | I12: =H12-(SUM(K12:V12)) -> 0 | J12: =IF(I12<0,"ATENÇÃO","OK") -> OK | K12: 0 | L12: 0 | M12: 0 | N12: 0 | O12: 0 | P12: 0 | Q12: 0 | R12: 0 | S12: 0 | T12: 0 | U12: 0 | V12: 0
C13: 4 | D13: LIXADEIRA, DE CINTA, A lixadeira deve vir completa, com todos os acessórios, com três jogos de lixas, para o seu funcionamento. Deve possuir duas funções, lixadeira de disco e lixadeira de fita e ser apoiada no chão. A lixadeira de disco deve ter inclinação da mesa de 45º, com dimensão mínima de 250mm. A lixadeira de fita deve ter dimensão de lixa aproximada de 1480 X 150 mm e posição de trabalho de 0&#730; e 90&#730;. A potência mínima deve ser de 1CV e a tensão de 220V. | E13: 449052.38 | F13: Peça | G13: 2986.17 | I13: =H13-(SUM(K13:V13)) -> 0 | J13: =IF(I13<0,"ATENÇÃO","OK") -> OK | K13: 0 | L13: 0 | M13: 0 | N13: 0 | O13: 0 | P13: 0 | Q13: 0 | R13: 0 | S13: 0 | T13: 0 | U13: 0 | V13: 0
C14: 5 | D14: LIXADEIRA, ORBITAL, ELETRICA, Lixadeira orbital elétrica industrial ou profissional, 220v, potencia de aprox. 170w, de 13000 a 14000 oscilações por minuto, para lixa de 114x140mm, 1/3 de lixa. | E14: 449052.38 | F14: Peça | G14: 274.33 | I14: =H14-(SUM(K14:V14)) -> 0 | J14: =IF(I14<0,"ATENÇÃO","OK") -> OK | K14: 0 | L14: 0 | M14: 0 | N14: 0 | O14: 0 | P14: 0 | Q14: 0 | R14: 0 | S14: 0 | T14: 0 | U14: 0 | V14: 0
A15: Kafer Comércio Ltda | B15: 3 | C15: 1 | D15: APARELHO PARA SOLDA, ELETRICA, Aparelho de solda Monofásico. Alimentação 220V -50/ 60 Hz – Plug universal, Ciclo de tarefa: 10%, Corrente máxima: 160 A, Capacidade de entrada: 8 Kva, Intervalo de ajuste da corrente: 55 - 160 A, Diâmetro do eletrodo compatível: 2 - 3.2 mm. Incluso Cabos: Alicate, Alicate terra. | E15: 449052.38 | F15: Peça | G15: 316 | I15: =H15-(SUM(K15:V15)) -> 0 | J15: =IF(I15<0,"ATENÇÃO","OK") -> OK | K15: 0 | L15: 0 | M15: 0 | N15: 0 | O15: 0 | P15: 0 | Q15: 0 | R15: 0 | S15: 0 | T15: 0 | U15: 0 | V15: 0
C16: 2 | D16: COLETOR DE PO, COM CHAVE ELETRICA, Coletor de pó com Chave elétrica com botão de segurança, rodas e alças para movimentação, com saco de poliester de 80 litros lavável. Tensão de 220V ou bivolt. | E16: 449052.38 | F16: Peça | G16: 788.8 | I16: =H16-(SUM(K16:V16)) -> 0 | J16: =IF(I16<0,"ATENÇÃO","OK") -> OK | K16: 0 | L16: 0 | M16: 0 | N16: 0 | O16: 0 | P16: 0 | Q16: 0 | R16: 0 | S16: 0 | T16: 0 | U16: 0 | V16: 0
C17: 3 | D17: MORSA, DE BANCADA PARA FIXACAO DE PECAS NOE 8, Morsa de bancada para fixação de peças Nº 8 | E17: 449052.38 | F17: Peça | G17: 249.44 | I17: =H17-(SUM(K17:V17)) -> 0 | J17: =IF(I17<0,"ATENÇÃO","OK") -> OK | K17: 0 | L17: 0 | M17: 0 | N17: 0 | O17: 0 | P17: 0 | Q17: 0 | R17: 0 | S17: 0 | T17: 0 | U17: 0 | V17: 0
C18: 4 | D18: MORSA, MINI MORSA COM EIXO GIRATORIO, Mini morsa com eixo giratório 360&#730; que prenda superfícies de até 5cm de largura. Deve ter capa de borracha protetora nas suas “garras”. | E18: 449052.38 | F18: Peça | G18: 136.07 | I18: =H18-(SUM(K18:V18)) -> 0 | J18: =IF(I18<0,"ATENÇÃO","OK") -> OK | K18: 0 | L18: 0 | M18: 0 | N18: 0 | O18: 0 | P18: 0 | Q18: 0 | R18: 0 | S18: 0 | T18: 0 | U18: 0 | V18: 0
C19: 5 | D19: PISTOLA PARA PINTURA, DE ALTA PRESSAO, Pistola de pintura por gravidade, com bico de 1,4 mm de diâmetro, caneca em alumínio com capacidade de 600ml, para aplicação de tintas automotivas. Marca / modelo de referência: OMX-610 MARCA DEVILBISS. | E19: 449052.38 | F19: Peça | G19: 763.36 | I19: =H19-(SUM(K19:V19)) -> 0 | J19: =IF(I19<0,"ATENÇÃO","OK") -> OK | K19: 0 | L19: 0 | M19: 0 | N19: 0 | O19: 0 | P19: 0 | Q19: 0 | R19: 0 | S19: 0 | T19: 0 | U19: 0 | V19: 0
C20: 6 | D20: PLAINA DE BANCADA, DE MESA, ELETRICA, TAMANHO MEDIO, Plaina Elétrica profissional, potencia minima 620 W, largura de corte 82mm (3' ¼"), profundidade de corte 2,5X158X158mm, peso 2,6Kg, voltagem 220 V. Acompanha conjunto de calibrador da face, guia reta, faca de plaina e chave soquete. | E20: 449052.38 | F20: Peça | G20: 426.23 | I20: =H20-(SUM(K20:V20)) -> 0 | J20: =IF(I20<0,"ATENÇÃO","OK") -> OK | K20: 0 | L20: 0 | M20: 0 | N20: 0 | O20: 0 | P20: 0 | Q20: 0 | R20: 0 | S20: 0 | T20: 0 | U20: 0 | V20: 0
C21: 7 | D21: PLAINA DE BANCADA, DESEMPENADEIRA, Equipamento para desempenar e desbastar, fazendo ajustes nos cortes de madeiras, compensados e MDF. Com 04 facas, eixo em diagonal, uso industrial. Descrição do produto: Motor: 1CV - 2 POLOS; Comprimento da mesa: 1.200mm; Largura da mesa: 160mm; Diâmetro do eixo: 61mm; Número de Facas: 4 un; Dimensões das Facas: 158 x 18 x 3mm; Peso: Aproximadamente 116Kg. | E21: 449052.38 | F21: Peça | G21: 4266.66 | I21: =H21-(SUM(K21:V21)) -> 0 | J21: =IF(I21<0,"ATENÇÃO","OK") -> OK | K21: 0 | L21: 0 | M21: 0 | N21: 0 | O21: 0 | P21: 0 | Q21: 0 | R21: 0 | S21: 0 | T21: 0 | U21: 0 | V21: 0
A22: Kafer Comércio Ltda | B22: 5 | C22: 1 | D22: FURADEIRA, ELETRICA DE IMPACTO, Furadeira de impacto com potência mínima de 600W, com mandril de 1/2”ou 13mm, com número de rotações de 0-3000rpm. Tensão de 220V ou bivolt. Deve vir com maleta compatível. | E22: 449052.34 | F22: Peça | G22: 295.15 | I22: =H22-(SUM(K22:V22)) -> 0 | J22: =IF(I22<0,"ATENÇÃO","OK") -> OK | K22: 0 | L22: 0 | M22: 0 | N22: 0 | O22: 0 | P22: 0 | Q22: 0 | R22: 0 | S22: 0 | T22: 0 | U22: 0 | V22: 0
C23: 2 | D23: FURADEIRA, ELETRICA DE IMPACTO, Furadeira de impacto profissional ½”, com potência mínima de 800 W, 3000 RPM, 220 V, para trabalhos pesados de perfuração em concreto, aço e madeira. Deve possuir comutador mecânico de duas velocidades, carcaça de engrenagem metálica, embreagem de segurança. Carcaça e punho emborrachado. Deverá vir acompanhada de maleta com os seguintes itens: 1 chave de catraca, 1 porta bits, 1 escariador, 2 guias para pontas, 13 Bbrocas para metal / madeira / plástico (1/16, 5/64, 3/32, 7/64, 1/8, 9/64, 5/32, 11/64, 3/16, 13/64, 7/32, 15/64, 1/4 polegadas), 12 brocas para madeira (1/8, 9/64, 5/32, 11/16, 3/16, 13/64, 7/32, 15/64, 1/4, 9/32, 19/64,5/16 polegadas), 5 brocas para concreto: 1/8, 3/16, 1/4, 5/16, 3/8 polegadas. | E23: 449052.34 | F23: Peça | G23: 477.5 | I23: =H23-(SUM(K23:V23)) -> 0 | J23: =IF(I23<0,"ATENÇÃO","OK") -> OK | K23: 0 | L23: 0 | M23: 0 | N23: 0 | O23: 0 | P23: 0 | Q23: 0 | R23: 0 | S23: 0 | T23: 0 | U23: 0 | V23: 0
C24: 3 | D24: FURADEIRA, MANUAL 700W DE POTENCIA, COM MANDRIL DE 1/2 POLEGADA, Furadeira Manual 700w de potência, 220V, com mandril de ½ polegada e velocidade regulável no gatilho | E24: 449052.38 | G24: 254.3 | I24: =H24-(SUM(K24:V24)) -> 0 | J24: =IF(I24<0,"ATENÇÃO","OK") -> OK | K24: 0 | L24: 0 | M24: 0 | N24: 0 | O24: 0 | P24: 0 | Q24: 0 | R24: 0 | S24: 0 | T24: 0 | U24: 0 | V24: 0
C25: 4 | D25: FURADEIRA, PARAFUSADEIRA, Parafusadeira industrial 220V., 685W 500rpm similar (DW268) com kit de chave regulador de torque com lanterna. | E25: 449052.38 | F25: Peça | G25: 591.66 | I25: =H25-(SUM(K25:V25)) -> 0 | J25: =IF(I25<0,"ATENÇÃO","OK") -> OK | K25: 0 | L25: 0 | M25: 0 | N25: 0 | O25: 0 | P25: 0 | Q25: 0 | R25: 0 | S25: 0 | T25: 0 | U25: 0 | V25: 0
C26: 5 | D26: FURADEIRA, PARAFUSADEIRA, Parafusadeira-Furadeira sem Fio, rotação variavel, reversivel, bateria de 12v, Bivolt ou 200V, acompanha carregador e suporte para bateria, com maleta, acompanha: 2 Bits Phillips de 25 mm: PH1 e PH2, 2 Bits. Pozidriv de 25 mm: PZ1 e PZ2, 2 Bits de fenda: 5 e 6 mm, 6 Brocas para metal. | E26: 449052.38 | F26: Peça | G26: 242.93 | I26: =H26-(SUM(K26:V26)) -> 0 | J26: =IF(I26<0,"ATENÇÃO","OK") -> OK | K26: 0 | L26: 0 | M26: 0 | N26: 0 | O26: 0 | P26: 0 | Q26: 0 | R26: 0 | S26: 0 | T26: 0 | U26: 0 | V26: 0
C27: 6 | D27: FURADEIRA, SEM IMPACTO, POTENCIA 600W, 220V, 1/2", 1000-2500 RPM Industrial. Motor de 600 wattsç Comutador de velocidade mecânico; Botão de trava para trabalhos contínuos; Tipo: Industria; RPM: 1000-2500RPM; Velocidade: 2 VVR; Encaixe: 1/2" | E27: 449052.34 | F27: Peça | G27: 473.53 | I27: =H27-(SUM(K27:V27)) -> 0 | J27: =IF(I27<0,"ATENÇÃO","OK") -> OK | K27: 0 | L27: 0 | M27: 0 | N27: 0 | O27: 0 | P27: 0 | Q27: 0 | R27: 0 | S27: 0 | T27: 0 | U27: 0 | V27: 0
C28: 7 | D28: FURADEIRA, TIPO PARAFUSADEIRA MOVIDA A BATERIA, Furadeira/Parafusadeira Profissional à Bateria. Mandril: 3/8"; Rotação: 400/1200RPM; Voltagem: 220V; Baterias: 12 / 14 V | E28: 449052.34 | F28: Peça | G28: 381.27 | I28: =H28-(SUM(K28:V28)) -> 0 | J28: =IF(I28<0,"ATENÇÃO","OK") -> OK | K28: 0 | L28: 0 | M28: 0 | N28: 0 | O28: 0 | P28: 0 | Q28: 0 | R28: 0 | S28: 0 | T28: 0 | U28: 0 | V28: 0
C29: 8 | D29: FURADEIRA, TIPO PARAFUSADEIRA,INDUSTRIAL ELETRONICA 650 W, Furadeira de no mínimo 650 Watts de potência;Mandril de 1/2" (13mm);Empunhadura lateral multi-posição.Alimentação 220V - 5060Hz.Incluso maleta e chave de mandril. | E29: 449052.38 | F29: Peça | G29: 353 | I29: =H29-(SUM(K29:V29)) -> 0 | J29: =IF(I29<0,"ATENÇÃO","OK") -> OK | K29: 0 | L29: 0 | M29: 0 | N29: 0 | O29: 0 | P29: 0 | Q29: 0 | R29: 0 | S29: 0 | T29: 0 | U29: 0 | V29: 0
C30: 9 | D30: FURADEIRA DE BANCADA, DE BANCADA, Descrição do produto: Potência: 350 W; Velocidade: 570-3050; Níveis de velocidade: 5 níveis de ajuste de velocidade variável; capacidade: 1,5 mm, 6 mm, 13 mm (1/16", 1/4", 1/2"); Motor de 350 W; Base de Ferro Fundido; ajuste de profundidade | E30: 449052.38 | F30: Peça | G30: 509.66 | I30: =H30-(SUM(K30:V30)) -> 0 | J30: =IF(I30<0,"ATENÇÃO","OK") -> OK | K30: 0 | L30: 0 | M30: 0 | N30: 0 | O30: 0 | P30: 0 | Q30: 0 | R30: 0 | S30: 0 | T30: 0 | U30: 0 | V30: 0
C31: 10 | D31: FURADEIRA INDUSTRIAL, FURADEIRA MARTELETE ROMPEDOR, Furadeira / Martelete Rompedor SDS. Potencia mínima 800w, Encaixe tipo SDS,Velocidade variável, Função perfuração com e sem impacto. Alimentação 220V. Ref Bosch Gbh 2-24d. | E31: 449052.38 | F31: Peça | G31: 666 | I31: =H31-(SUM(K31:V31)) -> 0 | J31: =IF(I31<0,"ATENÇÃO","OK") -> OK | K31: 0 | L31: 0 | M31: 0 | N31: 0 | O31: 0 | P31: 0 | Q31: 0 | R31: 0 | S31: 0 | T31: 0 | U31: 0 | V31: 0
C32: 11 | D32: PARAFUSADEIRA ELETRICA EMPUNHAVEL, A BATERIA, Parafusadeira a bateria 12Volts, bateria íon de lítio.Mandril sem chave 3/8”, Luz LED, Clip para pendurar, 2baterias Ion de Líthium, Encaixe 3/8" (10mm), 2niveis de velocidades, de 0 a 400/ 0 a 1.500RPM, torque 25 NewTons. Marca de Referência: Dewalt. Conjunto com carregador (110/220v) e maleta. | E32: 449052.38 | F32: Peça | G32: 460.5 | I32: =H32-(SUM(K32:V32)) -> 0 | J32: =IF(I32<0,"ATENÇÃO","OK") -> OK | K32: 0 | L32: 0 | M32: 0 | N32: 0 | O32: 0 | P32: 0 | Q32: 0 | R32: 0 | S32: 0 | T32: 0 | U32: 0 | V32: 0
C33: 12 | D33: PARAFUSADEIRA ELETRICA EMPUNHAVEL, COMPATIVEL A REDE 220 VOLTS, Parafusadeira com o mínimo de 14V, com bateria em ións de lítio, com configurações de, no mínimo, 25 opções de torque e uma para furação. Tensão de 220V ou bivolt. Deve vir com maleta compatível. | E33: 449052.38 | F33: Peça | G33: 380.04 | I33: =H33-(SUM(K33:V33)) -> 0 | J33: =IF(I33<0,"ATENÇÃO","OK") -> OK | K33: 0 | L33: 0 | M33: 0 | N33: 0 | O33: 0 | P33: 0 | Q33: 0 | R33: 0 | S33: 0 | T33: 0 | U33: 0 | V33: 0
A34: Cristiani Louri Rodrigues & Cia. Ltda - ME | B34: 6 | C34: 1 | D34: PLAINA ELETRICA, PLAINA 550 W, 220 V, Plaina Elétrica 3 1/4"(82mm) 550 Watts; Gatilho com trava de segurança, utilização de Lâminas de aço rápido, manopla com ajustes de profundidade; sapata usinada com chanfros de borda, Potência: 550 Watts, Rotação: 17.000 Rpm, Capicade de corte: 1mm , Peso: 2,6 Kg, Largura da Lâmina: 82mm, Capacidade de rebaixo: 9mm, com Guia paralela e Chave para troca da Lâmina. Marca de referência: Modelo D26676 - Dewalt | E34: 449052.34 | F34: Peça | G34: 297 | I34: =H34-(SUM(K34:V34)) -> 0 | J34: =IF(I34<0,"ATENÇÃO","OK") -> OK | K34: 0 | L34: 0 | M34: 0 | N34: 0 | O34: 0 | P34: 0 | Q34: 0 | R34: 0 | S34: 0 | T34: 0 | U34: 0 | V34: 0
C35: 2 | D35: SERRA MANUAL, MEIA ESQUADRIA, Conjunto serra tipo "meia esquadria" Manual, Sistema com mesa ajustável, Indicador de grau, Escala na base, Lamina para cortar madeira e plástico, Apoio de madeira, Comprimento da lâmina de 550 mm. Material: Aço. | E35: 449052.38 | F35: Peça | G35: 338 | I35: =H35-(SUM(K35:V35)) -> 0 | J35: =IF(I35<0,"ATENÇÃO","OK") -> OK | K35: 0 | L35: 0 | M35: 0 | N35: 0 | O35: 0 | P35: 0 | Q35: 0 | R35: 0 | S35: 0 | T35: 0 | U35: 0 | V35: 0
C36: 3 | D36: SERRA MANUAL, MEIA ESQUADRIA, Serra meio-esquadria profissional – potência mínima 1500 W – serra de 10 polegadas. Com garantia e assistência técncia em Santa Catarina | E36: 449052.38 | F36: Peça | G36: 945 | I36: =H36-(SUM(K36:V36)) -> 0 | J36: =IF(I36<0,"ATENÇÃO","OK") -> OK | K36: 0 | L36: 0 | M36: 0 | N36: 0 | O36: 0 | P36: 0 | Q36: 0 | R36: 0 | S36: 0 | T36: 0 | U36: 0 | V36: 0
C37: 4 | D37: SERRA MANUAL, TICO-TICO,MANUAL, serra tico-tico 1600RPM, 220v | E37: 449052.38 | G37: 218 | I37: =H37-(SUM(K37:V37)) -> 0 | J37: =IF(I37<0,"ATENÇÃO","OK") -> OK | K37: 0 | L37: 0 | M37: 0 | N37: 0 | O37: 0 | P37: 0 | Q37: 0 | R37: 0 | S37: 0 | T37: 0 | U37: 0 | V37: 0
C38: 5 | D38: SERRA MANUAL, TICO-TICO,MANUAL, Serra tico-tico de bancada com para lâminas com dimensões de 5”; Tensão de 220V ou bivolt. | E38: 449052.38 | F38: Peça | G38: 490 | I38: =H38-(SUM(K38:V38)) -> 0 | J38: =IF(I38<0,"ATENÇÃO","OK") -> OK | K38: 0 | L38: 0 | M38: 0 | N38: 0 | O38: 0 | P38: 0 | Q38: 0 | R38: 0 | S38: 0 | T38: 0 | U38: 0 | V38: 0
C39: 6 | D39: SERRA MANUAL, TICO-TICO,MANUAL, Serra tico-tico elétrica, aplicação industrial, 220V, 650W de potência mínima, de 500 a 3100 golpes por minuto, capacidade corte madeira de 90mm e aço 8,0mm, peso aproximado de até 3kg. Com 15 lâminas com 75mm de comprimento para madeira com prego e alumínio até 13mm de espessura e 15 laminas com 75mm comprimento para corte limpo em madeira com até 50mm espessura. | E39: 449052.38 | F39: Peça | G39: 470 | I39: =H39-(SUM(K39:V39)) -> 0 | J39: =IF(I39<0,"ATENÇÃO","OK") -> OK | K39: 0 | L39: 0 | M39: 0 | N39: 0 | O39: 0 | P39: 0 | Q39: 0 | R39: 0 | S39: 0 | T39: 0 | U39: 0 | V39: 0
C40: 7 | D40: SOPRADOR TERMICO, POTENCIA 1800W, Soprador Térmico 220V Temp.1: 50º; 2:300º/400º; 3:400º/570º 1800W. Características: Três níveis de temperatura; Controle constante de temperatura; Base plana para uso estável; Entradas de ar lateral com tela de proteção; Acompanha kit de acessórios e maleta plástica. Especificações técnicas: Potência: 1800 watts; Tensão: 220V; Temperatura: de 50ºC a 570°C | E40: 449052.38 | F40: Peça | G40: 151.2 | I40: =H40-(SUM(K40:V40)) -> 0 | J40: =IF(I40<0,"ATENÇÃO","OK") -> OK | K40: 0 | L40: 0 | M40: 0 | N40: 0 | O40: 0 | P40: 0 | Q40: 0 | R40: 0 | S40: 0 | T40: 0 | U40: 0 | V40: 0
...

Sheet CEART
A1: PROCESSO: 1025/2014 - RELANÇAMENTO | D1: OBJETO: AQUISIÇÃO DE FERRAMENTAS, UTENSÍLIOS E MATERIAIS DE REPARO PARA O CAMPUS I, CERES E CESFI | G1: VIGÊNCIA DA ATA: 07/11/2014 até 06/11/2015 | K1: AF/OS nº xxxx/2014 Qtde. DT | L1: AF/OS nº xxxx/2014 Qtde. DT | M1: AF/OS nº xxxx/2014 Qtde. DT | N1: AF/OS nº xxxx/2014 Qtde. DT | O1: AF/OS nº xxxx/2014 Qtde. DT | P1: AF/OS nº xxxx/2014 Qtde. DT | Q1: AF/OS nº xxxx/2014 Qtde. DT | R1: AF/OS nº xxxx/2014 Qtde. DT | S1: AF/OS nº xxxx/2014 Qtde. DT | T1: AF/OS nº xxxx/2014 Qtde. DT | U1: AF/OS nº xxxx/2014 Qtde. DT | V1: AF/OS nº xxxx/2014 Qtde. DT
A2: CENTRO PARTICIPANTE: CEART
A3: FORNECEDOR | B3: LOTE | C3: ITEM | D3: PRODUTO - CARACTERÍSTICAS MÍNIMAS | E3: DETALHAMENTO | F3: UNIDADE | G3: Preço UNITÁRIO (R$) | H3: Qtde LICITADA | I3: Saldo / Automático | J3: ALERTA | K3: ...../...../...... | L3: ...../...../...... | M3: ...../...../...... | N3: ...../...../...... | O3: ...../...../...... | P3: ...../...../...... | Q3: ...../...../...... | R3: ...../...../...... | S3: ...../...../...... | T3: ...../...../...... | U3: ...../...../...... | V3: ...../...../......
A4: Cristiani Louri Rodrigues & Cia. Ltda - ME | B4: 1 | C4: 1 | D4: DESEMPENADEIRA, DE ACO P/CONTRUCAO, Desempenadeira dentada, com cabo de madeira, Dimensões: 255mm x 120mm. | E4: 339030.42 | F4: Peça | G4: 22 | I4: =H4-(SUM(K4:V4)) -> 0 | J4: =IF(I4<0,"ATENÇÃO","OK") -> OK | K4: 0 | L4: 0 | M4: 0 | N4: 0 | O4: 0 | P4: 0 | Q4: 0 | R4: 0 | S4: 0 | T4: 0 | U4: 0 | V4: 0
C5: 2 | D5: DESEMPENADEIRA, EM MADEIRA LISA, MED.15 X 26CM, Desempenadeira de madeira lisa. Tamanho aprox. 15cmX26cm | E5: 339030.24 | F5: Peça | G5: 5.5 | I5: =H5-(SUM(K5:V5)) -> 0 | J5: =IF(I5<0,"ATENÇÃO","OK") -> OK | K5: 0 | L5: 0 | M5: 0 | N5: 0 | O5: 0 | P5: 0 | Q5: 0 | R5: 0 | S5: 0 | T5: 0 | U5: 0 | V5: 0
C6: 3 | D6: DESEMPENADEIRA, EM PVC, MEDINDO 14 X 27CM, Desempenadeira em PVC 14x 27cm. | E6: 339030.24 | F6: Peça | G6: 4.2 | I6: =H6-(SUM(K6:V6)) -> 0 | J6: =IF(I6<0,"ATENÇÃO","OK") -> OK | K6: 0 | L6: 0 | M6: 0 | N6: 0 | O6: 0 | P6: 0 | Q6: 0 | R6: 0 | S6: 0 | T6: 0 | U6: 0 | V6: 0
C7: 4 | D7: CONEXAO DE PLASTICO PARA INSTALACOES HIDRAULICAS-SANITARIAS, ADAPTADOR CURTO EM PVC, Conexão em "PVC", para água fria, tipo "Adaptador Soldável com Flanges Livres para Caixa D’Água." Ø25mm, Linha Soldável.Material - PVC - Cloreto de Polivinila, cor marrom. | E7: 339030.24 | F7: Peça | G7: 7.7 | I7: =H7-(SUM(K7:V7)) -> 0 | J7: =IF(I7<0,"ATENÇÃO","OK") -> OK | K7: 0 | L7: 0 | M7: 0 | N7: 0 | O7: 0 | P7: 0 | Q7: 0 | R7: 0 | S7: 0 | T7: 0 | U7: 0 | V7: 0
C8: 5 | D8: LANTERNA, DE CABECA, COM 19 LEDS, Lanterna com 19 leds, recarregável. | E8: 339030.13 | F8: Peça | G8: 42.85 | I8: =H8-(SUM(K8:V8)) -> 0 | J8: =IF(I8<0,"ATENÇÃO","OK") -> OK | K8: 0 | L8: 0 | M8: 0 | N8: 0 | O8: 0 | P8: 0 | Q8: 0 | R8: 0 | S8: 0 | T8: 0 | U8: 0 | V8: 0
C9: 6 | D9: REBITADOR MANUAL, TIPO ALAVANCA, Rebitador manual tipo alavanca. Corpo em alumínio fundido. Castanhas em aço cromo molibdnênio temperadas. Cabos tubulares cromados. Ponteiras para cinco bitolas de rebites: 3.2, 4.0, 4.8, 6.0, 6.4mm. Cabos com revestimento especial. Tamanho: 16,5". | E9: 449052.38 | F9: Peça | G9: 34.7 | I9: =H9-(SUM(K9:V9)) -> 0 | J9: =IF(I9<0,"ATENÇÃO","OK") -> OK | K9: 0 | L9: 0 | M9: 0 | N9: 0 | O9: 0 | P9: 0 | Q9: 0 | R9: 0 | S9: 0 | T9: 0 | U9: 0 | V9: 0
A10: Kafer Comércio Ltda | B10: 2 | C10: 1 | D10: LIXADEIRA INDUSTRIAL, COM MESA, DE FITA, Lixadeira de cinta com disco (combinada de bancada), com mesa regulável, para lixas com comprimento de 1490mm x 150 mm, motorizada com motor de 1cv – 4 P, peso aproximado de 50kg, correia utilizada 1 =A-29. Marca / modelo referência: LX 2S ACERBI. | E10: 449052.38 | F10: Peça | G10: 1535 | H10: 2 | I10: =H10-(SUM(K10:V10)) -> 2 | J10: =IF(I10<0,"ATENÇÃO","OK") -> OK | K10: 0 | L10: 0 | M10: 0 | N10: 0 | O10: 0 | P10: 0 | Q10: 0 | R10: 0 | S10: 0 | T10: 0 | U10: 0 | V10: 0
C11: 2 | D11: LIXADEIRA, ANGULAR 115MM, TIPO PORTÁTIL, POTÊNCIA DE 850 W, TENSÃO 220V. | E11: 449052.38 | F11: Peça | G11: 253.09 | H11: 1 | I11: =H11-(SUM(K11:V11)) -> 1 | J11: =IF(I11<0,"ATENÇÃO","OK") -> OK | K11: 0 | L11: 0 | M11: 0 | N11: 0 | O11: 0 | P11: 0 | Q11: 0 | R11: 0 | S11: 0 | T11: 0 | U11: 0 | V11: 0
C12: 3 | D12: LIXADEIRA, COM MALETA E ACESSORIOS, Lixadeira de cinta manual – lixadeira de cinta elétrica com aplicação industrial, 220v, potência entre 650 e 850 W, velocidade da cinta sem carga entre 200 e 400 m/min, dimensões da lixa de aproximadamente 75x533mm, com coletor de pó, peso variando entre 3 à 5 kg. Marca / modelo referência: GBS 75 AE - BOSCH ou Dewalt DW433 etc. | E12: 449052.38 | F12: Peça | G12: 1047.36 | H12: 3 | I12: =H12-(SUM(K12:V12)) -> 3 | J12: =IF(I12<0,"ATENÇÃO","OK") -> OK | K12: 0 | L12: 0 | M12: 0 | N12: 0 | O12: 0 | P12: 0 | Q12: 0 | R12: 0 | S12: 0 | T12: 0 | U12: 0 | V12: 0
C13: 4 | D13: LIXADEIRA, DE CINTA, A lixadeira deve vir completa, com todos os acessórios, com três jogos de lixas, para o seu funcionamento. Deve possuir duas funções, lixadeira de disco e lixadeira de fita e ser apoiada no chão. A lixadeira de disco deve ter inclinação da mesa de 45º, com dimensão mínima de 250mm. A lixadeira de fita deve ter dimensão de lixa aproximada de 1480 X 150 mm e posição de trabalho de 0&#730; e 90&#730;. A potência mínima deve ser de 1CV e a tensão de 220V. | E13: 449052.38 | F13: Peça | G13: 2986.17 | I13: =H13-(SUM(K13:V13)) -> 0 | J13: =IF(I13<0,"ATENÇÃO","OK") -> OK | K13: 0 | L13: 0 | M13: 0 | N13: 0 | O13: 0 | P13: 0 | Q13: 0 | R13: 0 | S13: 0 | T13: 0 | U13: 0 | V13: 0
C14: 5 | D14: LIXADEIRA, ORBITAL, ELETRICA, Lixadeira orbital elétrica industrial ou profissional, 220v, potencia de aprox. 170w, de 13000 a 14000 oscilações por minuto, para lixa de 114x140mm, 1/3 de lixa. | E14: 449052.38 | F14: Peça | G14: 274.33 | I14: =H14-(SUM(K14:V14)) -> 0 | J14: =IF(I14<0,"ATENÇÃO","OK") -> OK | K14: 0 | L14: 0 | M14: 0 | N14: 0 | O14: 0 | P14: 0 | Q14: 0 | R14: 0 | S14: 0 | T14: 0 | U14: 0 | V14: 0
A15: Kafer Comércio Ltda | B15: 3 | C15: 1 | D15: APARELHO PARA SOLDA, ELETRICA, Aparelho de solda Monofásico. Alimentação 220V -50/ 60 Hz – Plug universal, Ciclo de tarefa: 10%, Corrente máxima: 160 A, Capacidade de entrada: 8 Kva, Intervalo de ajuste da corrente: 55 - 160 A, Diâmetro do eletrodo compatível: 2 - 3.2 mm. Incluso Cabos: Alicate, Alicate terra. | E15: 449052.38 | F15: Peça | G15: 316 | I15: =H15-(SUM(K15:V15)) -> 0 | J15: =IF(I15<0,"ATENÇÃO","OK") -> OK | K15: 0 | L15: 0 | M15: 0 | N15: 0 | O15: 0 | P15: 0 | Q15: 0 | R15: 0 | S15: 0 | T15: 0 | U15: 0 | V15: 0
C16: 2 | D16: COLETOR DE PO, COM CHAVE ELETRICA, Coletor de pó com Chave elétrica com botão de segurança, rodas e alças para movimentação, com saco de poliester de 80 litros lavável. Tensão de 220V ou bivolt. | E16: 449052.38 | F16: Peça | G16: 788.8 | I16: =H16-(SUM(K16:V16)) -> 0 | J16: =IF(I16<0,"ATENÇÃO","OK") -> OK | K16: 0 | L16: 0 | M16: 0 | N16: 0 | O16: 0 | P16: 0 | Q16: 0 | R16: 0 | S16: 0 | T16: 0 | U16: 0 | V16: 0
C17: 3 | D17: MORSA, DE BANCADA PARA FIXACAO DE PECAS NOE 8, Morsa de bancada para fixação de peças Nº 8 | E17: 449052.38 | F17: Peça | G17: 249.44 | I17: =H17-(SUM(K17:V17)) -> 0 | J17: =IF(I17<0,"ATENÇÃO","OK") -> OK | K17: 0 | L17: 0 | M17: 0 | N17: 0 | O17: 0 | P17: 0 | Q17: 0 | R17: 0 | S17: 0 | T17: 0 | U17: 0 | V17: 0
C18: 4 | D18: MORSA, MINI MORSA COM EIXO GIRATORIO, Mini morsa com eixo giratório 360&#730; que prenda superfícies de até 5cm de largura. Deve ter capa de borracha protetora nas suas “garras”. | E18: 449052.38 | F18: Peça | G18: 136.07 | I18: =H18-(SUM(K18:V18)) -> 0 | J18: =IF(I18<0,"ATENÇÃO","OK") -> OK | K18: 0 | L18: 0 | M18: 0 | N18: 0 | O18: 0 | P18: 0 | Q18: 0 | R18: 0 | S18: 0 | T18: 0 | U18: 0 | V18: 0
C19: 5 | D19: PISTOLA PARA PINTURA, DE ALTA PRESSAO, Pistola de pintura por gravidade, com bico de 1,4 mm de diâmetro, caneca em alumínio com capacidade de 600ml, para aplicação de tintas automotivas. Marca / modelo de referência: OMX-610 MARCA DEVILBISS. | E19: 449052.38 | F19: Peça | G19: 763.36 | I19: =H19-(SUM(K19:V19)) -> 0 | J19: =IF(I19<0,"ATENÇÃO","OK") -> OK | K19: 0 | L19: 0 | M19: 0 | N19: 0 | O19: 0 | P19: 0 | Q19: 0 | R19: 0 | S19: 0 | T19: 0 | U19: 0 | V19: 0
C20: 6 | D20: PLAINA DE BANCADA, DE MESA, ELETRICA, TAMANHO MEDIO, Plaina Elétrica profissional, potencia minima 620 W, largura de corte 82mm (3' ¼"), profundidade de corte 2,5X158X158mm, peso 2,6Kg, voltagem 220 V. Acompanha conjunto de calibrador da face, guia reta, faca de plaina e chave soquete. | E20: 449052.38 | F20: Peça | G20: 426.23 | H20: 1 | I20: =H20-(SUM(K20:V20)) -> 1 | J20: =IF(I20<0,"ATENÇÃO","OK") -> OK | K20: 0 | L20: 0 | M20: 0 | N20: 0 | O20: 0 | P20: 0 | Q20: 0 | R20: 0 | S20: 0 | T20: 0 | U20: 0 | V20: 0
C21: 7 | D21: PLAINA DE BANCADA, DESEMPENADEIRA, Equipamento para desempenar e desbastar, fazendo ajustes nos cortes de madeiras, compensados e MDF. Com 04 facas, eixo em diagonal, uso industrial. Descrição do produto: Motor: 1CV - 2 POLOS; Comprimento da mesa: 1.200mm; Largura da mesa: 160mm; Diâmetro do eixo: 61mm; Número de Facas: 4 un; Dimensões das Facas: 158 x 18 x 3mm; Peso: Aproximadamente 116Kg. | E21: 449052.38 | F21: Peça | G21: 4266.66 | H21: 1 | I21: =H21-(SUM(K21:V21)) -> 1 | J21: =IF(I21<0,"ATENÇÃO","OK") -> OK | K21: 0 | L21: 0 | M21: 0 | N21: 0 | O21: 0 | P21: 0 | Q21: 0 | R21: 0 | S21: 0 | T21: 0 | U21: 0 | V21: 0
A22: Kafer Comércio Ltda | B22: 5 | C22: 1 | D22: FURADEIRA, ELETRICA DE IMPACTO, Furadeira de impacto com potência mínima de 600W, com mandril de 1/2”ou 13mm, com número de rotações de 0-3000rpm. Tensão de 220V ou bivolt. Deve vir com maleta compatível. | E22: 449052.34 | F22: Peça | G22: 295.15 | I22: =H22-(SUM(K22:V22)) -> 0 | J22: =IF(I22<0,"ATENÇÃO","OK") -> OK | K22: 0 | L22: 0 | M22: 0 | N22: 0 | O22: 0 | P22: 0 | Q22: 0 | R22: 0 | S22: 0 | T22: 0 | U22: 0 | V22: 0
C23: 2 | D23: FURADEIRA, ELETRICA DE IMPACTO, Furadeira de impacto profissional ½”, com potência mínima de 800 W, 3000 RPM, 220 V, para trabalhos pesados de perfuração em concreto, aço e madeira. Deve possuir comutador mecânico de duas velocidades, carcaça de engrenagem metálica, embreagem de segurança. Carcaça e punho emborrachado. Deverá vir acompanhada de maleta com os seguintes itens: 1 chave de catraca, 1 porta bits, 1 escariador, 2 guias para pontas, 13 Bbrocas para metal / madeira / plástico (1/16, 5/64, 3/32, 7/64, 1/8, 9/64, 5/32, 11/64, 3/16, 13/64, 7/32, 15/64, 1/4 polegadas), 12 brocas para madeira (1/8, 9/64, 5/32, 11/16, 3/16, 13/64, 7/32, 15/64, 1/4, 9/32, 19/64,5/16 polegadas), 5 brocas para concreto: 1/8, 3/16, 1/4, 5/16, 3/8 polegadas. | E23: 449052.34 | F23: Peça | G23: 477.5 | H23: 1 | I23: =H23-(SUM(K23:V23)) -> 1 | J23: =IF(I23<0,"ATENÇÃO","OK") -> OK | K23: 0 | L23: 0 | M23: 0 | N23: 0 | O23: 0 | P23: 0 | Q23: 0 | R23: 0 | S23: 0 | T23: 0 | U23: 0 | V23: 0
C24: 3 | D24: FURADEIRA, MANUAL 700W DE POTENCIA, COM MANDRIL DE 1/2 POLEGADA, Furadeira Manual 700w de potência, 220V, com mandril de ½ polegada e velocidade regulável no gatilho | E24: 449052.38 | G24: 254.3 | I24: =H24-(SUM(K24:V24)) -> 0 | J24: =IF(I24<0,"ATENÇÃO","OK") -> OK | K24: 0 | L24: 0 | M24: 0 | N24: 0 | O24: 0 | P24: 0 | Q24: 0 | R24: 0 | S24: 0 | T24: 0 | U24: 0 | V24: 0
C25: 4 | D25: FURADEIRA, PARAFUSADEIRA, Parafusadeira industrial 220V., 685W 500rpm similar (DW268) com kit de chave regulador de torque com lanterna. | E25: 449052.38 | F25: Peça | G25: 591.66 | I25: =H25-(SUM(K25:V25)) -> 0 | J25: =IF(I25<0,"ATENÇÃO","OK") -> OK | K25: 0 | L25: 0 | M25: 0 | N25: 0 | O25: 0 | P25: 0 | Q25: 0 | R25: 0 | S25: 0 | T25: 0 | U25: 0 | V25: 0
C26: 5 | D26: FURADEIRA, PARAFUSADEIRA, Parafusadeira-Furadeira sem Fio, rotação variavel, reversivel, bateria de 12v, Bivolt ou 200V, acompanha carregador e suporte para bateria, com maleta, acompanha: 2 Bits Phillips de 25 mm: PH1 e PH2, 2 Bits. Pozidriv de 25 mm: PZ1 e PZ2, 2 Bits de fenda: 5 e 6 mm, 6 Brocas para metal. | E26: 449052.38 | F26: Peça | G26: 242.93 | I26: =H26-(SUM(K26:V26)) -> 0 | J26: =IF(I26<0,"ATENÇÃO","OK") -> OK | K26: 0 | L26: 0 | M26: 0 | N26: 0 | O26: 0 | P26: 0 | Q26: 0 | R26: 0 | S26: 0 | T26: 0 | U26: 0 | V26: 0
C27: 6 | D27: FURADEIRA, SEM IMPACTO, POTENCIA 600W, 220V, 1/2", 1000-2500 RPM Industrial. Motor de 600 wattsç Comutador de velocidade mecânico; Botão de trava para trabalhos contínuos; Tipo: Industria; RPM: 1000-2500RPM; Velocidade: 2 VVR; Encaixe: 1/2" | E27: 449052.34 | F27: Peça | G27: 473.53 | I27: =H27-(SUM(K27:V27)) -> 0 | J27: =IF(I27<0,"ATENÇÃO","OK") -> OK | K27: 0 | L27: 0 | M27: 0 | N27: 0 | O27: 0 | P27: 0 | Q27: 0 | R27: 0 | S27: 0 | T27: 0 | U27: 0 | V27: 0
C28: 7 | D28: FURADEIRA, TIPO PARAFUSADEIRA MOVIDA A BATERIA, Furadeira/Parafusadeira Profissional à Bateria. Mandril: 3/8"; Rotação: 400/1200RPM; Voltagem: 220V; Baterias: 12 / 14 V | E28: 449052.34 | F28: Peça | G28: 381.27 | I28: =H28-(SUM(K28:V28)) -> 0 | J28: =IF(I28<0,"ATENÇÃO","OK") -> OK | K28: 0 | L28: 0 | M28: 0 | N28: 0 | O28: 0 | P28: 0 | Q28: 0 | R28: 0 | S28: 0 | T28: 0 | U28: 0 | V28: 0
C29: 8 | D29: FURADEIRA, TIPO PARAFUSADEIRA,INDUSTRIAL ELETRONICA 650 W, Furadeira de no mínimo 650 Watts de potência;Mandril de 1/2" (13mm);Empunhadura lateral multi-posição.Alimentação 220V - 5060Hz.Incluso maleta e chave de mandril. | E29: 449052.38 | F29: Peça | G29: 353 | I29: =H29-(SUM(K29:V29)) -> 0 | J29: =IF(I29<0,"ATENÇÃO","OK") -> OK | K29: 0 | L29: 0 | M29: 0 | N29: 0 | O29: 0 | P29: 0 | Q29: 0 | R29: 0 | S29: 0 | T29: 0 | U29: 0 | V29: 0
C30: 9 | D30: FURADEIRA DE BANCADA, DE BANCADA, Descrição do produto: Potência: 350 W; Velocidade: 570-3050; Níveis de velocidade: 5 níveis de ajuste de velocidade variável; capacidade: 1,5 mm, 6 mm, 13 mm (1/16", 1/4", 1/2"); Motor de 350 W; Base de Ferro Fundido; ajuste de profundidade | E30: 449052.38 | F30: Peça | G30: 509.66 | H30: 2 | I30: =H30-(SUM(K30:V30)) -> 2 | J30: =IF(I30<0,"ATENÇÃO","OK") -> OK | K30: 0 | L30: 0 | M30: 0 | N30: 0 | O30: 0 | P30: 0 | Q30: 0 | R30: 0 | S30: 0 | T30: 0 | U30: 0 | V30: 0
C31: 10 | D31: FURADEIRA INDUSTRIAL, FURADEIRA MARTELETE ROMPEDOR, Furadeira / Martelete Rompedor SDS. Potencia mínima 800w, Encaixe tipo SDS,Velocidade variável, Função perfuração com e sem impacto. Alimentação 220V. Ref Bosch Gbh 2-24d. | E31: 449052.38 | F31: Peça | G31: 666 | I31: =H31-(SUM(K31:V31)) -> 0 | J31: =IF(I31<0,"ATENÇÃO","OK") -> OK | K31: 0 | L31: 0 | M31: 0 | N31: 0 | O31: 0 | P31: 0 | Q31: 0 | R31: 0 | S31: 0 | T31: 0 | U31: 0 | V31: 0
C32: 11 | D32: PARAFUSADEIRA ELETRICA EMPUNHAVEL, A BATERIA, Parafusadeira a bateria 12Volts, bateria íon de lítio.Mandril sem chave 3/8”, Luz LED, Clip para pendurar, 2baterias Ion de Líthium, Encaixe 3/8" (10mm), 2niveis de velocidades, de 0 a 400/ 0 a 1.500RPM, torque 25 NewTons. Marca de Referência: Dewalt. Conjunto com carregador (110/220v) e maleta. | E32: 449052.38 | F32: Peça | G32: 460.5 | I32: =H32-(SUM(K32:V32)) -> 0 | J32: =IF(I32<0,"ATENÇÃO","OK") -> OK | K32: 0 | L32: 0 | M32: 0 | N32: 0 | O32: 0 | P32: 0 | Q32: 0 | R32: 0 | S32: 0 | T32: 0 | U32: 0 | V32: 0
C33: 12 | D33: PARAFUSADEIRA ELETRICA EMPUNHAVEL, COMPATIVEL A REDE 220 VOLTS, Parafusadeira com o mínimo de 14V, com bateria em ións de lítio, com configurações de, no mínimo, 25 opções de torque e uma para furação. Tensão de 220V ou bivolt. Deve vir com maleta compatível. | E33: 449052.38 | F33: Peça | G33: 380.04 | I33: =H33-(SUM(K33:V33)) -> 0 | J33: =IF(I33<0,"ATENÇÃO","OK") -> OK | K33: 0 | L33: 0 | M33: 0 | N33: 0 | O33: 0 | P33: 0 | Q33: 0 | R33: 0 | S33: 0 | T33: 0 | U33: 0 | V33: 0
A34: Cristiani Louri Rodrigues & Cia. Ltda - ME | B34: 6 | C34: 1 | D34: PLAINA ELETRICA, PLAINA 550 W, 220 V, Plaina Elétrica 3 1/4"(82mm) 550 Watts; Gatilho com trava de segurança, utilização de Lâminas de aço rápido, manopla com ajustes de profundidade; sapata usinada com chanfros de borda, Potência: 550 Watts, Rotação: 17.000 Rpm, Capicade de corte: 1mm , Peso: 2,6 Kg, Largura da Lâmina: 82mm, Capacidade de rebaixo: 9mm, com Guia paralela e Chave para troca da Lâmina. Marca de referência: Modelo D26676 - Dewalt | E34: 449052.34 | F34: Peça | G34: 297 | I34: =H34-(SUM(K34:V34)) -> 0 | J34: =IF(I34<0,"ATENÇÃO","OK") -> OK | K34: 0 | L34: 0 | M34: 0 | N34: 0 | O34: 0 | P34: 0 | Q34: 0 | R34: 0 | S34: 0 | T34: 0 | U34: 0 | V34: 0
C35: 2 | D35: SERRA MANUAL, MEIA ESQUADRIA, Conjunto serra tipo "meia esquadria" Manual, Sistema com mesa ajustável, Indicador de grau, Escala na base, Lamina para cortar madeira e plástico, Apoio de madeira, Comprimento da lâmina de 550 mm. Material: Aço. | E35: 449052.38 | F35: Peça | G35: 338 | I35: =H35-(SUM(K35:V35)) -> 0 | J35: =IF(I35<0,"ATENÇÃO","OK") -> OK | K35: 0 | L35: 0 | M35: 0 | N35: 0 | O35: 0 | P35: 0 | Q35: 0 | R35: 0 | S35: 0 | T35: 0 | U35: 0 | V35: 0
C36: 3 | D36: SERRA MANUAL, MEIA ESQUADRIA, Serra meio-esquadria profissional – potência mínima 1500 W – serra de 10 polegadas. Com garantia e assistência técncia em Santa Catarina | E36: 449052.38 | F36: Peça | G36: 945 | I36: =H36-(SUM(K36:V36)) -> 0 | J36: =IF(I36<0,"ATENÇÃO","OK") -> OK | K36: 0 | L36: 0 | M36: 0 | N36: 0 | O36: 0 | P36: 0 | Q36: 0 | R36: 0 | S36: 0 | T36: 0 | U36: 0 | V36: 0
C37: 4 | D37: SERRA MANUAL, TICO-TICO,MANUAL, serra tico-tico 1600RPM, 220v | E37: 449052.38 | G37: 218 | H37: 2 | I37: =H37-(SUM(K37:V37)) -> 2 | J37: =IF(I37<0,"ATENÇÃO","OK") -> OK | K37: 0 | L37: 0 | M37: 0 | N37: 0 | O37: 0 | P37: 0 | Q37: 0 | R37: 0 | S37: 0 | T37: 0 | U37: 0 | V37: 0
C38: 5 | D38: SERRA MANUAL, TICO-TICO,MANUAL, Serra tico-tico de bancada com para lâminas com dimensões de 5”; Tensão de 220V ou bivolt. | E38: 449052.38 | F38: Peça | G38: 490 | I38: =H38-(SUM(K38:V38)) -> 0 | J38: =IF(I38<0,"ATENÇÃO","OK") -> OK | K38: 0 | L38: 0 | M38: 0 | N38: 0 | O38: 0 | P38: 0 | Q38: 0 | R38: 0 | S38: 0 | T38: 0 | U38: 0 | V38: 0
C39: 6 | D39: SERRA MANUAL, TICO-TICO,MANUAL, Serra tico-tico elétrica, aplicação industrial, 220V, 650W de potência mínima, de 500 a 3100 golpes por minuto, capacidade corte madeira de 90mm e aço 8,0mm, peso aproximado de até 3kg. Com 15 lâminas com 75mm de comprimento para madeira com prego e alumínio até 13mm de espessura e 15 laminas com 75mm comprimento para corte limpo em madeira com até 50mm espessura. | E39: 449052.38 | F39: Peça | G39: 470 | I39: =H39-(SUM(K39:V39)) -> 0 | J39: =IF(I39<0,"ATENÇÃO","OK") -> OK | K39: 0 | L39: 0 | M39: 0 | N39: 0 | O39: 0 | P39: 0 | Q39: 0 | R39: 0 | S39: 0 | T39: 0 | U39: 0 | V39: 0
C40: 7 | D40: SOPRADOR TERMICO, POTENCIA 1800W, Soprador Térmico 220V Temp.1: 50º; 2:300º/400º; 3:400º/570º 1800W. Características: Três níveis de temperatura; Controle constante de temperatura; Base plana para uso estável; Entradas de ar lateral com tela de proteção; Acompanha kit de acessórios e maleta plástica. Especificações técnicas: Potência: 1800 watts; Tensão: 220V; Temperatura: de 50ºC a 570°C | E40: 449052.38 | F40: Peça | G40: 151.2 | H40: 5 | I40: =H40-(SUM(K40:V40)) -> 5 | J40: =IF(I40<0,"ATENÇÃO","OK") -> OK | K40: 0 | L40: 0 | M40: 0 | N40: 0 | O40: 0 | P40: 0 | Q40: 0 | R40: 0 | S40: 0 | T40: 0 | U40: 0 | V40: 0
...

Sheet FAED
A1: PROCESSO: 1025/2014 - RELANÇAMENTO | D1: OBJETO: AQUISIÇÃO DE FERRAMENTAS, UTENSÍLIOS E MATERIAIS DE REPARO PARA O CAMPUS I, CERES E CESFI | G1: VIGÊNCIA DA ATA: 07/11/2014 até 06/11/2015 | K1: AF/OS nº xxxx/2014 Qtde. DT | L1: AF/OS nº xxxx/2014 Qtde. DT | M1: AF/OS nº xxxx/2014 Qtde. DT | N1: AF/OS nº xxxx/2014 Qtde. DT | O1: AF/OS nº xxxx/2014 Qtde. DT | P1: AF/OS nº xxxx/2014 Qtde. DT | Q1: AF/OS nº xxxx/2014 Qtde. DT | R1: AF/OS nº xxxx/2014 Qtde. DT | S1: AF/OS nº xxxx/2014 Qtde. DT | T1: AF/OS nº xxxx/2014 Qtde. DT | U1: AF/OS nº xxxx/2014 Qtde. DT | V1: AF/OS nº xxxx/2014 Qtde. DT
A2: CENTRO PARTICIPANTE: FAED
A3: FORNECEDOR | B3: LOTE | C3: ITEM | D3: PRODUTO - CARACTERÍSTICAS MÍNIMAS | E3: DETALHAMENTO | F3: UNIDADE | G3: Preço UNITÁRIO (R$) | H3: Qtde LICITADA | I3: Saldo / Automático | J3: ALERTA | K3: ...../...../...... | L3: ...../...../...... | M3: ...../...../...... | N3: ...../...../...... | O3: ...../...../...... | P3: ...../...../...... | Q3: ...../...../...... | R3: ...../...../...... | S3: ...../...../...... | T3: ...../...../...... | U3: ...../...../...... | V3: ...../...../......
A4: Cristiani Louri Rodrigues & Cia. Ltda - ME | B4: 1 | C4: 1 | D4: DESEMPENADEIRA, DE ACO P/CONTRUCAO, Desempenadeira dentada, com cabo de madeira, Dimensões: 255mm x 120mm. | E4: 339030.42 | F4: Peça | G4: 22 | I4: =H4-(SUM(K4:V4)) -> 0 | J4: =IF(I4<0,"ATENÇÃO","OK") -> OK | K4: 0 | L4: 0 | M4: 0 | N4: 0 | O4: 0 | P4: 0 | Q4: 0 | R4: 0 | S4: 0 | T4: 0 | U4: 0 | V4: 0
