Workbook
Name diasuteis: #REF!
Name diasuteis: #REF!
Name diasuteis: #REF!
Name diasuteis: #REF!
Name diasuteis: #REF!
Name diasuteis: #REF!
Name diasuteis: #REF!
Name diasuteis: #REF!
Name diasuteis: #REF!
Name diasuteis: #REF!
Name Ferias: #REF!
Name Ferias: #REF!
Name Ferias: #REF!
Name Ferias: #REF!
Name Ferias: #REF!
Name Ferias: #REF!
Name Ferias: #REF!
Name Ferias: #REF!
Name Ferias: #REF!
Name RD: OFFSET(#REF!,(MATCH(SMALL(#REF!,ROW()-10),#REF!,0)-1),0)
Name RD: OFFSET(#REF!,(MATCH(SMALL(#REF!,ROW()-10),#REF!,0)-1),0)
Name RD: OFFSET(#REF!,(MATCH(SMALL(#REF!,ROW()-10),#REF!,0)-1),0)
Name RD: OFFSET(#REF!,(MATCH(SMALL(#REF!,ROW()-10),#REF!,0)-1),0)
Name RD: OFFSET(#REF!,(MATCH(SMALL(#REF!,ROW()-10),#REF!,0)-1),0)
Name RD: OFFSET(#REF!,(MATCH(SMALL(#REF!,ROW()-10),#REF!,0)-1),0)
Name RD: OFFSET(#REF!,(MATCH(SMALL(#REF!,ROW()-10),#REF!,0)-1),0)
Name RD: OFFSET(#REF!,(MATCH(SMALL(#REF!,ROW()-10),#REF!,0)-1),0)
Name RD: OFFSET(#REF!,(MATCH(SMALL(#REF!,ROW()-10),#REF!,0)-1),0)

Sheet Reitoria
A1: PROCESSO: 1025/2014 | D1: OBJETO: AQUISIÇÃO DE FERRAMENTAS, UTENSÍLIOS E MATERIAIS DE REPARO PARA O CAMPUS I, CERES E CESFI | J1: VIGÊNCIA DA ATA: 15/10/2014 até 14/10/2015 | N1: AF nº 1988/2014 Qtde. DT | O1: AF nº 1986/2014 Qtde. DT | P1: AF nº 1987/2014 Qtde. DT | Q1: AF nº 0267/2015 Qtde. DT | R1: AF nº 0268/2015 Qtde. DT | S1: AF nº 0269/2015 Qtde. DT | T1: AF nº 1744/2015 Qtde. DT | U1: AF nº 1747/2015 Qtde. DT | V1: AF nº 1749/2015 Qtde. DT | W1: AF/OS nº xxxx/2014 Qtde. DT | X1: AF/OS nº xxxx/2014 Qtde. DT | Y1: AF/OS nº xxxx/2014 Qtde. DT
A2: CENTRO PARTICIPANTE: Reitoria
A3: FORNECEDOR | B3: LOTE | C3: ITEM | D3: PRODUTO - CARACTERÍSTICAS MÍNIMAS | E3: DETALHAMENTO | F3: MARCA/MODELO | G3: UNIDADE | H3: Entrega (Dias) | I3: Pagto. (Dias) | J3: Preço UNITÁRIO (R$) | K3: Qtde LICITADA | L3: Saldo / Automático | M3: ALERTA | N3: 41974 | O3: 41971 | P3: 41974 | Q3: 42074 | R3: 42074 | S3: 42074 | T3: 42275 | U3: 42290 | V3: 42275 | W3: ...../...../...... | X3: ...../...../...... | Y3: ...../...../......
A4: Cristiani Louri Rodrigues & Cia. Ltda - ME | B4: 1 | C4: 1 | D4: SUPORTE PARA CORTINA, EM "L", Suporte para cortina em "L"; Material: Latão; Dimensões: 5x8 | E4: 339030.24 | F4: Nacional | G4: Peça | H4: 30 | I4: 20 | J4: 0.9 | K4: 30 | L4: =K4-(SUM(N4:Y4)) -> 30 | M4: =IF(L4<0,"ATENÇÃO","OK") -> OK | N4: 0 | O4: 0 | P4: 0 | Q4: 0 | R4: 0 | S4: 0 | T4: 0 | U4: 0 | V4: 0 | W4: 0 | X4: 0 | Y4: 0
C5: 2 | D5: SUPORTE PARA CORTINA, EM "L", Suporte para cortina em "L"; Material: Latão; Dimensões: 8x10 | E5: 339030.24 | F5: Nacional | G5: Peça | H5: 30 | I5: 20 | J5: 1.65 | K5: 30 | L5: =K5-(SUM(N5:Y5)) -> 30 | M5: =IF(L5<0,"ATENÇÃO","OK") -> OK | N5: 0 | O5: 0 | P5: 0 | Q5: 0 | R5: 0 | S5: 0 | T5: 0 | U5: 0 | V5: 0 | W5: 0 | X5: 0 | Y5: 0
C6: 3 | D6: SUPORTE DIVERSOS, PARA PRATELEIRAS, Suporte para Prateleira; Material: Barra chata Metálica contraventada; Dimensões: 15cm. | E6: 339030.24 | F6: Nacional | G6: Peça | H6: 30 | I6: 20 | J6: 6 | K6: 10 | L6: =K6-(SUM(N6:Y6)) -> 10 | M6: =IF(L6<0,"ATENÇÃO","OK") -> OK | N6: 0 | O6: 0 | P6: 0 | Q6: 0 | R6: 0 | S6: 0 | T6: 0 | U6: 0 | V6: 0 | W6: 0 | X6: 0 | Y6: 0
C7: 4 | D7: SUPORTE DIVERSOS, PARA PRATELEIRAS, Suporte para Prateleira; Material: Barra chata Metálica contraventada; Dimensões: 20cm. | E7: 339030.24 | F7: Nacional | G7: Peça | H7: 30 | I7: 20 | J7: 6 | K7: 10 | L7: =K7-(SUM(N7:Y7)) -> 10 | M7: =IF(L7<0,"ATENÇÃO","OK") -> OK | N7: 0 | O7: 0 | P7: 0 | Q7: 0 | R7: 0 | S7: 0 | T7: 0 | U7: 0 | V7: 0 | W7: 0 | X7: 0 | Y7: 0
C8: 5 | D8: SUPORTE DIVERSOS, PARA PRATELEIRAS, Suporte para Prateleira; Material: Barra chata Metálica contraventada; Dimensões: 25cm. | E8: 339030.24 | F8: Nacional | G8: Peça | H8: 30 | I8: 20 | J8: 7.35 | K8: 10 | L8: =K8-(SUM(N8:Y8)) -> 10 | M8: =IF(L8<0,"ATENÇÃO","OK") -> OK | N8: 0 | O8: 0 | P8: 0 | Q8: 0 | R8: 0 | S8: 0 | T8: 0 | U8: 0 | V8: 0 | W8: 0 | X8: 0 | Y8: 0
C9: 6 | D9: SUPORTE DIVERSOS, PARA PRATELEIRAS, Suporte para Prateleira; Material: Barra chata Metálica contraventada; Dimensões: 40cm. | E9: 339030.24 | F9: Nacional | G9: Peça | H9: 30 | I9: 20 | J9: 13 | K9: 10 | L9: =K9-(SUM(N9:Y9)) -> 10 | M9: =IF(L9<0,"ATENÇÃO","OK") -> OK | N9: 0 | O9: 0 | P9: 0 | Q9: 0 | R9: 0 | S9: 0 | T9: 0 | U9: 0 | V9: 0 | W9: 0 | X9: 0 | Y9: 0
C10: 7 | D10: SUPORTE DIVERSOS, PARA PRATELEIRAS, Suporte para Prateleira; Material: Barra chata Metálica contraventada; Dimensões: 50cm. | E10: 339030.24 | F10: Nacional | G10: Peça | H10: 30 | I10: 20 | J10: 15.7 | K10: 10 | L10: =K10-(SUM(N10:Y10)) -> 10 | M10: =IF(L10<0,"ATENÇÃO","OK") -> OK | N10: 0 | O10: 0 | P10: 0 | Q10: 0 | R10: 0 | S10: 0 | T10: 0 | U10: 0 | V10: 0 | W10: 0 | X10: 0 | Y10: 0
C11: 8 | D11: SUPORTE DIVERSOS, PARA PRATELEIRAS, Suporte para trilho de prateleira, Material Metálico; Largura: 30cm | E11: 339030.24 | F11: Nacional | G11: Peça | H11: 30 | I11: 20 | J11: 5.55 | K11: 50 | L11: =K11-(SUM(N11:Y11)) -> 50 | M11: =IF(L11<0,"ATENÇÃO","OK") -> OK | N11: 0 | O11: 0 | P11: 0 | Q11: 0 | R11: 0 | S11: 0 | T11: 0 | U11: 0 | V11: 0 | W11: 0 | X11: 0 | Y11: 0
C12: 9 | D12: SUPORTE DIVERSOS, PARA PRATELEIRAS, Trilho para fixação de suporte para prateleira; Material: Metálico; Dimensões 200cm. | E12: 339030.24 | F12: Nacional | G12: Peça | H12: 30 | I12: 20 | J12: 27.5 | K12: 20 | L12: =K12-(SUM(N12:Y12)) -> 20 | M12: =IF(L12<0,"ATENÇÃO","OK") -> OK | N12: 0 | O12: 0 | P12: 0 | Q12: 0 | R12: 0 | S12: 0 | T12: 0 | U12: 0 | V12: 0 | W12: 0 | X12: 0 | Y12: 0
C13: 10 | D13: CLIPS PARA CABO, DE ACO, Clip para cabo. 5/16 - aço inox a4 | E13: 339030.24 | F13: Inca | G13: Peça | H13: 30 | I13: 20 | J13: 0.9 | K13: 15 | L13: =K13-(SUM(N13:Y13)) -> 15 | M13: =IF(L13<0,"ATENÇÃO","OK") -> OK | N13: 0 | O13: 0 | P13: 0 | Q13: 0 | R13: 0 | S13: 0 | T13: 0 | U13: 0 | V13: 0 | W13: 0 | X13: 0 | Y13: 0
C14: 11 | D14: CLIPS PARA CABO, DE ACO, Clip para cabo. 1 - aço inox a4 | E14: 339030.24 | F14: Inca | G14: Peça | H14: 30 | I14: 20 | J14: 4.73 | K14: 15 | L14: =K14-(SUM(N14:Y14)) -> 15 | M14: =IF(L14<0,"ATENÇÃO","OK") -> OK | N14: 0 | O14: 0 | P14: 0 | Q14: 0 | R14: 0 | S14: 0 | T14: 0 | U14: 0 | V14: 0 | W14: 0 | X14: 0 | Y14: 0
C15: 12 | D15: CLIPS PARA CABO, DE ACO, Clip para cabo. 1/2 - aço inox a4 | E15: 339030.24 | F15: Inca | G15: Peça | H15: 30 | I15: 20 | J15: 2.5 | K15: 15 | L15: =K15-(SUM(N15:Y15)) -> 15 | M15: =IF(L15<0,"ATENÇÃO","OK") -> OK | N15: 0 | O15: 0 | P15: 0 | Q15: 0 | R15: 0 | S15: 0 | T15: 0 | U15: 0 | V15: 0 | W15: 0 | X15: 0 | Y15: 0
C16: 13 | D16: CLIPS PARA CABO, DE ACO, Clip para cabo. 1/4 - aço inox a4 | E16: 339030.24 | F16: Inca | G16: Peça | H16: 30 | I16: 20 | J16: 0.8 | K16: 15 | L16: =K16-(SUM(N16:Y16)) -> 15 | M16: =IF(L16<0,"ATENÇÃO","OK") -> OK | N16: 0 | O16: 0 | P16: 0 | Q16: 0 | R16: 0 | S16: 0 | T16: 0 | U16: 0 | V16: 0 | W16: 0 | X16: 0 | Y16: 0
... C39: 36 | D39: CADEADO METALICO, DE LATŸO, 20 MM, Cadeado em latão maciço, haste de aço temperado e cromado. Tamanho de 20mm. Acompanhando chaves removíveis com cadeado aberto e fechado | E39: 339030.28 | F39: Soprano | G39: Peça | H39: 30 | I39: 20 | J39: 6.62 | K39: 100 | L39: =K39-(SUM(N39:Y39)) -> 100 | M39: =IF(L39<0,"ATENÇÃO","OK") -> OK | N39: 0 | O39: 0 | P39: 0 | Q39: 0 | R39: 0 | S39: 0 | T39: 0 | U39: 0 | V39: 0 | W39: 0 | X39: 0 | Y39: 0
C40: 37 | D40: CADEADO METALICO, TAMANHO DE 50MM, Cadeado em latão maciço, haste de aço temperado e cromado. Tamanho de 50mm. Acompanha chaves removíveis com cadeado aberto e fechado. | E40: 339030.28 | F40: Gold | G40: Peça | H40: 30 | I40: 20 | J40: 25.76 | L40: =K40-(SUM(N40:Y40)) -> 0 | M40: =IF(L40<0,"ATENÇÃO","OK") -> OK | N40: 0 | O40: 0 | P40: 0 | Q40: 0 | R40: 0 | S40: 0 | T40: 0 | U40: 0 | V40: 0 | W40: 0 | X40: 0 | Y40: 0
C41: 38 | D41: DOBRADICA METALICA, 3 POLEGADAS, | E41: 339030.24 | F41: Ferca | G41: Par | H41: 30 | I41: 20 | J41: 2.59 | K41: 30 | L41: =K41-(SUM(N41:Y41)) -> 30 | M41: =IF(L41<0,"ATENÇÃO","OK") -> OK | N41: 0 | O41: 0 | P41: 0 | Q41: 0 | R41: 0 | S41: 0 | T41: 0 | U41: 0 | V41: 0 | W41: 0 | X41: 0 | Y41: 0
C42: 39 | D42: DOBRADICA METALICA, JOGO DE DOBRADI«A 2"X1 1/2", Jogo de dobradiça 2"X1 1/2". | E42: 339030.42 | F42: Ferca | G42: Jogo | H42: 30 | I42: 20 | J42: 6.99 | K42: 30 | L42: =K42-(SUM(N42:Y42)) -> 30 | M42: =IF(L42<0,"ATENÇÃO","OK") -> OK | N42: 0 | O42: 0 | P42: 0 | Q42: 0 | R42: 0 | S42: 0 | T42: 0 | U42: 0 | V42: 0 | W42: 0 | X42: 0 | Y42: 0
C43: 40 | D43: TRAVA PORTA (PRENDEDOR), PRENDEDOR PISO-TETO (BATENTE PORTA-FIXADOR ), | E43: 339030.42 | F43: Soprano | G43: Peça | H43: 30 | I43: 20 | J43: 11.46 | K43: 30 | L43: =K43-(SUM(N43:Y43)) -> 30 | M43: =IF(L43<0,"ATENÇÃO","OK") -> OK | N43: 0 | O43: 0 | P43: 0 | Q43: 0 | R43: 0 | S43: 0 | T43: 0 | U43: 0 | V43: 0 | W43: 0 | X43: 0 | Y43: 0
C44: 41 | D44: TRINCO, FECHO TIPO TARGETA METALICA, Fecho tipo Targeta Metálica, Zincada, Dimensões 1.1/2" | E44: 339030.24 | F44: Loth | G44: Peça | H44: 30 | I44: 20 | J44: 1.3 | K44: 15 | L44: =K44-(SUM(N44:Y44)) -> 15 | M44: =IF(L44<0,"ATENÇÃO","OK") -> OK | N44: 0 | O44: 0 | P44: 0 | Q44: 0 | R44: 0 | S44: 0 | T44: 0 | U44: 0 | V44: 0 | W44: 0 | X44: 0 | Y44: 0
C45: 42 | D45: TRINCO, FECHO TIPO TARGETA METALICA, Fecho tipo Targeta Metálica, Zincada, Dimensões 2" | E45: 339030.24 | F45: Loth | G45: Peça | H45: 30 | I45: 20 | J45: 1.5 | K45: 15 | L45: =K45-(SUM(N45:Y45)) -> 15 | M45: =IF(L45<0,"ATENÇÃO","OK") -> OK | N45: 0 | O45: 0 | P45: 0 | Q45: 0 | R45: 0 | S45: 0 | T45: 0 | U45: 0 | V45: 0 | W45: 0 | X45: 0 | Y45: 0
C46: 43 | D46: TRINCO, FECHO TIPO TARGETA METALICA, Fecho tipo Targeta Metálica, Zincada, Dimensões 2.1/2" | E46: 339030.24 | F46: Loth | G46: Peça | H46: 30 | I46: 20 | J46: 1.8 | K46: 15 | L46: =K46-(SUM(N46:Y46)) -> 15 | M46: =IF(L46<0,"ATENÇÃO","OK") -> OK | N46: 0 | O46: 0 | P46: 0 | Q46: 0 | R46: 0 | S46: 0 | T46: 0 | U46: 0 | V46: 0 | W46: 0 | X46: 0 | Y46: 0
C47: 44 | D47: TRINCO, FECHO TIPO TARGETA METALICA, Fecho tipo Targeta Metálica, Zincada, Dimensões 3". | E47: 339030.24 | F47: Loth | G47: Peça | H47: 30 | I47: 20 | J47: 2 | K47: 15 | L47: =K47-(SUM(N47:Y47)) -> 15 | M47: =IF(L47<0,"ATENÇÃO","OK") -> OK | N47: 0 | O47: 0 | P47: 0 | Q47: 0 | R47: 0 | S47: 0 | T47: 0 | U47: 0 | V47: 0 | W47: 0 | X47: 0 | Y47: 0
C48: 45 | D48: TRINCO, FERROLHO METALICO, Ferrolho chato com porta cadeado, Material: Metálico; Acabamento: Zincado; Dimensões: 3". | E48: 339030.24 | F48: Loth | G48: Peça | H48: 30 | I48: 20 | J48: 5.6 | K48: 20 | L48: =K48-(SUM(N48:Y48)) -> 20 | M48: =IF(L48<0,"ATENÇÃO","OK") -> OK | N48: 0 | O48: 0 | P48: 0 | Q48: 0 | R48: 0 | S48: 0 | T48: 0 | U48: 0 | V48: 0 | W48: 0 | X48: 0 | Y48: 0
C49: 46 | D49: TRINCO, FERROLHO METALICO, Ferrolho chato com porta cadeado, Material: Metálico; Acabamento: Zincado; Dimensões: 4". | E49: 339030.24 | F49: Loth | G49: Peça | H49: 30 | I49: 20 | J49: 6 | K49: 20 | L49: =K49-(SUM(N49:Y49)) -> 20 | M49: =IF(L49<0,"ATENÇÃO","OK") -> OK | N49: 0 | O49: 0 | P49: 0 | Q49: 0 | R49: 0 | S49: 0 | T49: 0 | U49: 0 | V49: 0 | W49: 0 | X49: 0 | Y49: 0
C50: 47 | D50: TRINCO, FERROLHO METALICO, Ferrolho chato com porta cadeado, Material: Metálico; Acabamento: Zincado; Dimensões: 5". | E50: 339030.24 | F50: Loth | G50: Peça | H50: 30 | I50: 20 | J50: 8 | K50: 10 | L50: =K50-(SUM(N50:Y50)) -> 10 | M50: =IF(L50<0,"ATENÇÃO","OK") -> OK | N50: 0 | O50: 0 | P50: 0 | Q50: 0 | R50: 0 | S50: 0 | T50: 0 | U50: 0 | V50: 0 | W50: 0 | X50: 0 | Y50: 0
C51: 48 | D51: TRINCO, FERROLHO METALICO, Ferrolho tipo "Fio Redondo", com Porta Cadeado; Material: Metálico; Acabamento: Zincado. Dimensões: 2". | E51: 339030.24 | F51: Loth | G51: Peça | H51: 30 | I51: 20 | J51: 2.25 | K51: 10 | L51: =K51-(SUM(N51:Y51)) -> 10 | M51: =IF(L51<0,"ATENÇÃO","OK") -> OK | N51: 0 | O51: 0 | P51: 0 | Q51: 0 | R51: 0 | S51: 0 | T51: 0 | U51: 0 | V51: 0 | W51: 0 | X51: 0 | Y51: 0
C52: 49 | D52: TRINCO, FERROLHO METALICO, Ferrolho tipo "Fio Redondo", com Porta Cadeado; Material: Metálico; Acabamento: Zincado. Dimensões: 3". | E52: 339030.24 | F52: Loth | G52: Peça | H52: 30 | I52: 20 | J52: 2.6 | K52: 10 | L52: =K52-(SUM(N52:Y52)) -> 10 | M52: =IF(L52<0,"ATENÇÃO","OK") -> OK | N52: 0 | O52: 0 | P52: 0 | Q52: 0 | R52: 0 | S52: 0 | T52: 0 | U52: 0 | V52: 0 | W52: 0 | X52: 0 | Y52: 0
... C54: 51 | D54: TRINCO, FERROLHO METALICO, Ferrolho tipo "Fio Redondo", com Porta Cadeado; Material: Metálico; Acabamento: Zincado. Dimensões: 5". | E54: 339030.24 | F54: Loth | G54: Peça | H54: 30 | I54: 20 | J54: 3.9 | K54: 10 | L54: =K54-(SUM(N54:Y54)) -> 10 | M54: =IF(L54<0,"ATENÇÃO","OK") -> OK | N54: 0 | O54: 0 | P54: 0 | Q54: 0 | R54: 0 | S54: 0 | T54: 0 | U54: 0 | V54: 0 | W54: 0 | X54: 0 | Y54: 0
C55: 52 | D55: ABRACADEIRA, EM ACO CARBONO 1/2, Com parafuso de cabeça sextavada | E55: 339030.24 | F55: Inca | G55: Peça | H55: 30 | I55: 20 | J55: 1.52 | L55: =K55-(SUM(N55:Y55)) -> 0 | M55: =IF(L55<0,"ATENÇÃO","OK") -> OK | N55: 0 | O55: 0 | P55: 0 | Q55: 0 | R55: 0 | S55: 0 | T55: 0 | U55: 0 | V55: 0 | W55: 0 | X55: 0 | Y55: 0
C56: 53 | D56: ABRACADEIRA, EM ACO CARBONO 3/4, Com parafuso de cabeça sextavada. | E56: 339030.24 | F56: Inca | G56: Peça | H56: 30 | I56: 20 | J56: 1.39 | L56: =K56-(SUM(N56:Y56)) -> 0 | M56: =IF(L56<0,"ATENÇÃO","OK") -> OK | N56: 0 | O56: 0 | P56: 0 | Q56: 0 | R56: 0 | S56: 0 | T56: 0 | U56: 0 | V56: 0 | W56: 0 | X56: 0 | Y56: 0
C57: 54 | D57: ARAME DE ACO, ARAME RECOZIDO, Arame Recozido Liso nº:14, 2,0mm, Rolo de 5Kg. | E57: 339030.42 | F57: Gerdau | G57: Peça | H57: 30 | I57: 20 | J57: 8.5 | K57: 20 | L57: =K57-(SUM(N57:Y57)) -> 20 | M57: =IF(L57<0,"ATENÇÃO","OK") -> OK | N57: 0 | O57: 0 | P57: 0 | Q57: 0 | R57: 0 | S57: 0 | T57: 0 | U57: 0 | V57: 0 | W57: 0 | X57: 0 | Y57: 0
C58: 55 | D58: ARAME DE ACO, FARPADO, 500 METROS, GALVANIZADO, 1,6 MM – 350 KGF, DUPLA CAMADA | E58: 339030.24 | F58: Potro | G58: Rolo | H58: 30 | I58: 20 | J58: 216.64 | L58: =K58-(SUM(N58:Y58)) -> 0 | M58: =IF(L58<0,"ATENÇÃO","OK") -> OK | N58: 0 | O58: 0 | P58: 0 | Q58: 0 | R58: 0 | S58: 0 | T58: 0 | U58: 0 | V58: 0 | W58: 0 | X58: 0 | Y58: 0
C59: 56 | D59: ARAME DE ACO, GALVANIZADO,FIO 16, Arame galvanizado, fio 16 mm | E59: 339030.24 | F59: Potro | G59: KG | H59: 30 | I59: 20 | J59: 8.94 | L59: =K59-(SUM(N59:Y59)) -> 0 | M59: =IF(L59<0,"ATENÇÃO","OK") -> OK | N59: 0 | O59: 0 | P59: 0 | Q59: 0 | R59: 0 | S59: 0 | T59: 0 | U59: 0 | V59: 0 | W59: 0 | X59: 0 | Y59: 0
C60: 57 | D60: ARAME DE ACO, NUMERO 14, arame galvanizado nº14, 23,11mm. | E60: 339030.24 | F60: Potro | G60: KG | H60: 30 | I60: 20 | J60: 10.33 | K60: 12 | L60: =K60-(SUM(N60:Y60)) -> 12 | M60: =IF(L60<0,"ATENÇÃO","OK") -> OK | N60: 0 | O60: 0 | P60: 0 | Q60: 0 | R60: 0 | S60: 0 | T60: 0 | U60: 0 | V60: 0 | W60: 0 | X60: 0 | Y60: 0
C61: 58 | D61: ARAME DE ACO, NUMERO 20, arame galvanizado n.20, 0,89mm | E61: 339030.24 | F61: Inca | G61: KG | H61: 30 | I61: 20 | J61: 13.78 | K61: 20 | L61: =K61-(SUM(N61:Y61)) -> 20 | M61: =IF(L61<0,"ATENÇÃO","OK") -> OK | N61: 0 | O61: 0 | P61: 0 | Q61: 0 | R61: 0 | S61: 0 | T61: 0 | U61: 0 | V61: 0 | W61: 0 | X61: 0 | Y61: 0
C62: 59 | D62: ARRUELA METALICA, ARRUELA DE A«O, Arruela lisa - ansi b 18.22.1 - #6 - Aço Carbono Zincado | E62: 339030.24 | F62: Inca | G62: Peça | H62: 30 | I62: 20 | J62: 0.06 | K62: 1000 | L62: =K62-(SUM(N62:Y62)) -> 1000 | M62: =IF(L62<0,"ATENÇÃO","OK") -> OK | N62: 0 | O62: 0 | P62: 0 | Q62: 0 | R62: 0 | S62: 0 | T62: 0 | U62: 0 | V62: 0 | W62: 0 | X62: 0 | Y62: 0
C63: 60 | D63: ARRUELA METALICA, ARRUELA DE A«O, Arruela lisa - ansi b 18.22.1 - 1/8. Aço Carbono Zincado . | E63: 339030.24 | F63: Inca | G63: Peça | H63: 30 | I63: 20 | J63: 0.1 | K63: 1000 | L63: =K63-(SUM(N63:Y63)) -> 1000 | M63: =IF(L63<0,"ATENÇÃO","OK") -> OK | N63: 0 | O63: 0 | P63: 0 | Q63: 0 | R63: 0 | S63: 0 | T63: 0 | U63: 0 | V63: 0 | W63: 0 | X63: 0 | Y63: 0
...

Sheet ESAG
A1: PROCESSO: 1025/2014 | D1: OBJETO: AQUISIÇÃO DE FERRAMENTAS, UTENSÍLIOS E MATERIAIS DE REPARO PARA O CAMPUS I, CERES E CESFI | J1: VIGÊNCIA DA ATA: 15/10/2014 até 14/10/2015 | N1: AF/OS nº 1906/2015 | O1: AF/OS nº 1914/2015 Qtde. DT | P1: AF/OS nº xxxx/2014 Qtde. DT | Q1: AF/OS nº xxxx/2014 Qtde. DT | R1: AF/OS nº xxxx/2014 Qtde. DT | S1: AF/OS nº xxxx/2014 Qtde. DT | T1: AF/OS nº xxxx/2014 Qtde. DT | U1: AF/OS nº xxxx/2014 Qtde. DT | V1: AF/OS nº xxxx/2014 Qtde. DT | W1: AF/OS nº xxxx/2014 Qtde. DT | X1: AF/OS nº xxxx/2014 Qtde. DT | Y1: AF/OS nº xxxx/2014 Qtde. DT
A2: CENTRO PARTICIPANTE: ESAG
A3: FORNECEDOR | B3: LOTE | C3: ITEM | D3: PRODUTO - CARACTERÍSTICAS MÍNIMAS | E3: DETALHAMENTO | F3: MARCA/MODELO | G3: UNIDADE | H3: Entrega (Dias) | I3: Pagto. (Dias) | J3: Preço UNITÁRIO (R$) | K3: Qtde LICITADA | L3: Saldo / Automático | M3: ALERTA | N3: ...../...../...... | O3: ...../...../...... | P3: ...../...../...... | Q3: ...../...../...... | R3: ...../...../...... | S3: ...../...../...... | T3: ...../...../...... | U3: ...../...../...... | V3: ...../...../...... | W3: ...../...../...... | X3: ...../...../...... | Y3: ...../...../......
A4: Cristiani Louri Rodrigues & Cia. Ltda - ME | B4: 1 | C4: 1 | D4: SUPORTE PARA CORTINA, EM "L", Suporte para cortina em "L"; Material: Latão; Dimensões: 5x8 | E4: 339030.24 | F4: Nacional | G4: Peça | H4: 30 | I4: 20 | J4: 0.9 | L4: =K4-(SUM(N4:Y4)) -> 0 | M4: =IF(L4<0,"ATENÇÃO","OK") -> OK | N4: 0 | O4: 0 | P4: 0 | Q4: 0 | R4: 0 | S4: 0 | T4: 0 | U4: 0 | V4: 0 | W4: 0 | X4: 0 | Y4: 0
C5: 2 | D5: SUPORTE PARA CORTINA, EM "L", Suporte para cortina em "L"; Material: Latão; Dimensões: 8x10 | E5: 339030.24 | F5: Nacional | G5: Peça | H5: 30 | I5: 20 | J5: 1.65 | L5: =K5-(SUM(N5:Y5)) -> 0 | M5: =IF(L5<0,"ATENÇÃO","OK") -> OK | N5: 0 | O5: 0 | P5: 0 | Q5: 0 | R5: 0 | S5: 0 | T5: 0 | U5: 0 | V5: 0 | W5: 0 | X5: 0 | Y5: 0
C6: 3 | D6: SUPORTE DIVERSOS, PARA PRATELEIRAS, Suporte para Prateleira; Material: Barra chata Metálica contraventada; Dimensões: 15cm. | E6: 339030.24 | F6: Nacional | G6: Peça | H6: 30 | I6: 20 | J6: 6 | L6: =K6-(SUM(N6:Y6)) -> 0 | M6: =IF(L6<0,"ATENÇÃO","OK") -> OK | N6: 0 | O6: 0 | P6: 0 | Q6: 0 | R6: 0 | S6: 0 | T6: 0 | U6: 0 | V6: 0 | W6: 0 | X6: 0 | Y6: 0
C7: 4 | D7: SUPORTE DIVERSOS, PARA PRATELEIRAS, Suporte para Prateleira; Material: Barra chata Metálica contraventada; Dimensões: 20cm. | E7: 339030.24 | F7: Nacional | G7: Peça | H7: 30 | I7: 20 | J7: 6 | L7: =K7-(SUM(N7:Y7)) -> 0 | M7: =IF(L7<0,"ATENÇÃO","OK") -> OK | N7: 0 | O7: 0 | P7: 0 | Q7: 0 | R7: 0 | S7: 0 | T7: 0 | U7: 0 | V7: 0 | W7: 0 | X7: 0 | Y7: 0
C8: 5 | D8: SUPORTE DIVERSOS, PARA PRATELEIRAS, Suporte para Prateleira; Material: Barra chata Metálica contraventada; Dimensões: 25cm. | E8: 339030.24 | F8: Nacional | G8: Peça | H8: 30 | I8: 20 | J8: 7.35 | L8: =K8-(SUM(N8:Y8)) -> 0 | M8: =IF(L8<0,"ATENÇÃO","OK") -> OK | N8: 0 | O8: 0 | P8: 0 | Q8: 0 | R8: 0 | S8: 0 | T8: 0 | U8: 0 | V8: 0 | W8: 0 | X8: 0 | Y8: 0
C9: 6 | D9: SUPORTE DIVERSOS, PARA PRATELEIRAS, Suporte para Prateleira; Material: Barra chata Metálica contraventada; Dimensões: 40cm. | E9: 339030.24 | F9: Nacional | G9: Peça | H9: 30 | I9: 20 | J9: 13 | L9: =K9-(SUM(N9:Y9)) -> 0 | M9: =IF(L9<0,"ATENÇÃO","OK") -> OK | N9: 0 | O9: 0 | P9: 0 | Q9: 0 | R9: 0 | S9: 0 | T9: 0 | U9: 0 | V9: 0 | W9: 0 | X9: 0 | Y9: 0
C10: 7 | D10: SUPORTE DIVERSOS, PARA PRATELEIRAS, Suporte para Prateleira; Material: Barra chata Metálica contraventada; Dimensões: 50cm. | E10: 339030.24 | F10: Nacional | G10: Peça | H10: 30 | I10: 20 | J10: 15.7 | L10: =K10-(SUM(N10:Y10)) -> 0 | M10: =IF(L10<0,"ATENÇÃO","OK") -> OK | N10: 0 | O10: 0 | P10: 0 | Q10: 0 | R10: 0 | S10: 0 | T10: 0 | U10: 0 | V10: 0 | W10: 0 | X10: 0 | Y10: 0
C11: 8 | D11: SUPORTE DIVERSOS, PARA PRATELEIRAS, Suporte para trilho de prateleira, Material Metálico; Largura: 30cm | E11: 339030.24 | F11: Nacional | G11: Peça | H11: 30 | I11: 20 | J11: 5.55 | L11: =K11-(SUM(N11:Y11)) -> 0 | M11: =IF(L11<0,"ATENÇÃO","OK") -> OK | N11: 0 | O11: 0 | P11: 0 | Q11: 0 | R11: 0 | S11: 0 | T11: 0 | U11: 0 | V11: 0 | W11: 0 | X11: 0 | Y11: 0
C12: 9 | D12: SUPORTE DIVERSOS, PARA PRATELEIRAS, Trilho para fixação de suporte para prateleira; Material: Metálico; Dimensões 200cm. | E12: 339030.24 | F12: Nacional | G12: Peça | H12: 30 | I12: 20 | J12: 27.5 | L12: =K12-(SUM(N12:Y12)) -> 0 | M12: =IF(L12<0,"ATENÇÃO","OK") -> OK | N12: 0 | O12: 0 | P12: 0 | Q12: 0 | R12: 0 | S12: 0 | T12: 0 | U12: 0 | V12: 0 | W12: 0 | X12: 0 | Y12: 0
C13: 10 | D13: CLIPS PARA CABO, DE ACO, Clip para cabo. 5/16 - aço inox a4 | E13: 339030.24 | F13: Inca | G13: Peça | H13: 30 | I13: 20 | J13: 0.9 | L13: =K13-(SUM(N13:Y13)) -> 0 | M13: =IF(L13<0,"ATENÇÃO","OK") -> OK | N13: 0 | O13: 0 | P13: 0 | Q13: 0 | R13: 0 | S13: 0 | T13: 0 | U13: 0 | V13: 0 | W13: 0 | X13: 0 | Y13: 0
C14: 11 | D14: CLIPS PARA CABO, DE ACO, Clip para cabo. 1 - aço inox a4 | E14: 339030.24 | F14: Inca | G14: Peça | H14: 30 | I14: 20 | J14: 4.73 | L14: =K14-(SUM(N14:Y14)) -> 0 | M14: =IF(L14<0,"ATENÇÃO","OK") -> OK | N14: 0 | O14: 0 | P14: 0 | Q14: 0 | R14: 0 | S14: 0 | T14: 0 | U14: 0 | V14: 0 | W14: 0 | X14: 0 | Y14: 0
C15: 12 | D15: CLIPS PARA CABO, DE ACO, Clip para cabo. 1/2 - aço inox a4 | E15: 339030.24 | F15: Inca | G15: Peça | H15: 30 | I15: 20 | J15: 2.5 | L15: =K15-(SUM(N15:Y15)) -> 0 | M15: =IF(L15<0,"ATENÇÃO","OK") -> OK | N15: 0 | O15: 0 | P15: 0 | Q15: 0 | R15: 0 | S15: 0 | T15: 0 | U15: 0 | V15: 0 | W15: 0 | X15: 0 | Y15: 0
C16: 13 | D16: CLIPS PARA CABO, DE ACO, Clip para cabo. 1/4 - aço inox a4 | E16: 339030.24 | F16: Inca | G16: Peça | H16: 30 | I16: 20 | J16: 0.8 | L16: =K16-(SUM(N16:Y16)) -> 0 | M16: =IF(L16<0,"ATENÇÃO","OK") -> OK | N16: 0 | O16: 0 | P16: 0 | Q16: 0 | R16: 0 | S16: 0 | T16: 0 | U16: 0 | V16: 0 | W16: 0 | X16: 0 | Y16: 0
... C94: 91 | D94: BUCHA PLASTICA PARA FIXACAO, EM NYLON, Bucha Convencional, em nylon, para fixação em parede de Alvenaria e Concreto - 3mm | E94: 339030.24 | F94: Vonder | G94: Peça | H94: 30 | I94: 20 | J94: 0.15 | L94: =K94-(SUM(N94:Y94)) -> 0 | M94: =IF(L94<0,"ATENÇÃO","OK") -> OK | N94: 0 | O94: 0 | P94: 0 | Q94: 0 | R94: 0 | S94: 0 | T94: 0 | U94: 0 | V94: 0 | W94: 0 | X94: 0 | Y94: 0
C95: 92 | D95: BUCHA PLASTICA PARA FIXACAO, NUMERO 10, Bucha 10mm de polietileno, pacote com 100 unidades. | E95: 339030.24 | F95: Vonder | G95: Peça | H95: 30 | I95: 20 | J95: 3.94 | K95: 1 | L95: =K95-(SUM(N95:Y95)) -> 1 | M95: =IF(L95<0,"ATENÇÃO","OK") -> OK | N95: 0 | O95: 0 | P95: 0 | Q95: 0 | R95: 0 | S95: 0 | T95: 0 | U95: 0 | V95: 0 | W95: 0 | X95: 0 | Y95: 0
C96: 93 | D96: BUCHA PLASTICA PARA FIXACAO, NUMERO 12, Bucha 12,0mm, plástica, para parafuso pacote com 100 unidades. | E96: 339030.24 | F96: Vonder | G96: Peça | H96: 30 | I96: 20 | J96: 15.45 | L96: =K96-(SUM(N96:Y96)) -> 0 | M96: =IF(L96<0,"ATENÇÃO","OK") -> OK | N96: 0 | O96: 0 | P96: 0 | Q96: 0 | R96: 0 | S96: 0 | T96: 0 | U96: 0 | V96: 0 | W96: 0 | X96: 0 | Y96: 0
C97: 94 | D97: BUCHA PLASTICA PARA FIXACAO, NUMERO 14, Bucha para parafuso N14 | E97: 339030.42 | F97: Vonder | G97: Peça | H97: 30 | I97: 20 | J97: 1.07 | L97: =K97-(SUM(N97:Y97)) -> 0 | M97: =IF(L97<0,"ATENÇÃO","OK") -> OK | N97: 0 | O97: 0 | P97: 0 | Q97: 0 | R97: 0 | S97: 0 | T97: 0 | U97: 0 | V97: 0 | W97: 0 | X97: 0 | Y97: 0
C98: 95 | D98: FITA PERFURADA, DE METAL, 19MM, ROLO C/30M, Fita De Aço Perfurada; Largura: 17 a 19 mm; Rolo de 30m | E98: 339030.42 | F98: Inca | G98: Rolo | H98: 30 | I98: 20 | J98: 33 | L98: =K98-(SUM(N98:Y98)) -> 0 | M98: =IF(L98<0,"ATENÇÃO","OK") -> OK | N98: 0 | O98: 0 | P98: 0 | Q98: 0 | R98: 0 | S98: 0 | T98: 0 | U98: 0 | V98: 0 | W98: 0 | X98: 0 | Y98: 0
C99: 96 | D99: GANCHO, REFORCADO, Gancho Com Rosca P/ Bucha e Madeira Material: Aço Galvanizado Dimensões: 2.9 X 47. | E99: 339030.24 | F99: Inca | G99: Peça | H99: 30 | I99: 20 | J99: 0.24 | L99: =K99-(SUM(N99:Y99)) -> 0 | M99: =IF(L99<0,"ATENÇÃO","OK") -> OK | N99: 0 | O99: 0 | P99: 0 | Q99: 0 | R99: 0 | S99: 0 | T99: 0 | U99: 0 | V99: 0 | W99: 0 | X99: 0 | Y99: 0
C100: 97 | D100: GANCHO, REFORCADO, Gancho Com Rosca P/ Bucha E Madeira Material: Aço Galvanizado Dimensões: 3.3 X 58. | E100: 339030.24 | F100: Inca | G100: Peça | H100: 30 | I100: 20 | J100: 0.28 | L100: =K100-(SUM(N100:Y100)) -> 0 | M100: =IF(L100<0,"ATENÇÃO","OK") -> OK | N100: 0 | O100: 0 | P100: 0 | Q100: 0 | R100: 0 | S100: 0 | T100: 0 | U100: 0 | V100: 0 | W100: 0 | X100: 0 | Y100: 0
C101: 98 | D101: GANCHO, REFORCADO, Gancho Com Rosca P/ Bucha E Madeira Material: Aço Galvanizado Dimensões: 4.4 X 67. | E101: 339030.24 | F101: Inca | G101: Peça | H101: 30 | I101: 20 | J101: 0.3 | L101: =K101-(SUM(N101:Y101)) -> 0 | M101: =IF(L101<0,"ATENÇÃO","OK") -> OK | N101: 0 | O101: 0 | P101: 0 | Q101: 0 | R101: 0 | S101: 0 | T101: 0 | U101: 0 | V101: 0 | W101: 0 | X101: 0 | Y101: 0
C102: 99 | D102: GANCHO, REFORCADO, Gancho em metal com Rosca. Medidas aproximadas: 2,2x31mm. Para fixação em alvenaria, como um suporte para os mais variados objetos | E102: 339030.24 | F102: Inca | G102: Peça | H102: 30 | I102: 20 | J102: 5.06 | L102: =K102-(SUM(N102:Y102)) -> 0 | M102: =IF(L102<0,"ATENÇÃO","OK") -> OK | N102: 0 | O102: 0 | P102: 0 | Q102: 0 | R102: 0 | S102: 0 | T102: 0 | U102: 0 | V102: 0 | W102: 0 | X102: 0 | Y102: 0
C103: 100 | D103: GRAMPO PARA CERCA, DE ARAME FARPADO, PACOTE COM 1 KG, Grampo de Cerca 1 x 9 mm | E103: 339030.24 | F103: Disma | G103: Pacote | H103: 30 | I103: 20 | J103: 8.1 | L103: =K103-(SUM(N103:Y103)) -> 0 | M103: =IF(L103<0,"ATENÇÃO","OK") -> OK | N103: 0 | O103: 0 | P103: 0 | Q103: 0 | R103: 0 | S103: 0 | T103: 0 | U103: 0 | V103: 0 | W103: 0 | X103: 0 | Y103: 0
C104: 101 | D104: MAO FRANCESA (DISPOSITIVO DE FIXACAO), SIMPLES 100MM, | E104: 339030.24 | F104: Disma | G104: Peça | H104: 30 | I104: 20 | J104: 3.03 | L104: =K104-(SUM(N104:Y104)) -> 0 | M104: =IF(L104<0,"ATENÇÃO","OK") -> OK | N104: 0 | O104: 0 | P104: 0 | Q104: 0 | R104: 0 | S104: 0 | T104: 0 | U104: 0 | V104: 0 | W104: 0 | X104: 0 | Y104: 0
C105: 102 | D105: PARAFUSO METALICO, AUTO ATARRACHANTE 2,9X19MM C/PANELA, fendado, zincado branco. | E105: 339030.24 | F105: Mister | G105: Peça | H105: 30 | I105: 20 | J105: 0.05 | L105: =K105-(SUM(N105:Y105)) -> 0 | M105: =IF(L105<0,"ATENÇÃO","OK") -> OK | N105: 0 | O105: 0 | P105: 0 | Q105: 0 | R105: 0 | S105: 0 | T105: 0 | U105: 0 | V105: 0 | W105: 0 | X105: 0 | Y105: 0
C106: 103 | D106: PARAFUSO METALICO, COM PORCA, 8 X 25, | E106: 339030.24 | F106: Mister | G106: Peça | H106: 30 | I106: 20 | J106: 0.9 | L106: =K106-(SUM(N106:Y106)) -> 0 | M106: =IF(L106<0,"ATENÇÃO","OK") -> OK | N106: 0 | O106: 0 | P106: 0 | Q106: 0 | R106: 0 | S106: 0 | T106: 0 | U106: 0 | V106: 0 | W106: 0 | X106: 0 | Y106: 0
C107: 104 | D107: PARAFUSO METALICO, COM PORCA, 8 X 50, | E107: 339030.24 | F107: Mister | G107: Peça | H107: 30 | I107: 20 | J107: 1.09 | L107: =K107-(SUM(N107:Y107)) -> 0 | M107: =IF(L107<0,"ATENÇÃO","OK") -> OK | N107: 0 | O107: 0 | P107: 0 | Q107: 0 | R107: 0 | S107: 0 | T107: 0 | U107: 0 | V107: 0 | W107: 0 | X107: 0 | Y107: 0
... C136: 133 | D136: PARAFUSO METALICO, TIPO PHILIPS MEDINDO 3.5 X 25, Parafuso ponta agulha philips 3,5mmX25mm, acabamento fosfatizado, para gesso. Pacote com 50 unidades | E136: 339030.24 | F136: Mister | G136: Peça | H136: 30 | I136: 20 | J136: 6.17 | L136: =K136-(SUM(N136:Y136)) -> 0 | M136: =IF(L136<0,"ATENÇÃO","OK") -> OK | N136: 0 | O136: 0 | P136: 0 | Q136: 0 | R136: 0 | S136: 0 | T136: 0 | U136: 0 | V136: 0 | W136: 0 | X136: 0 | Y136: 0
C137: 134 | D137: PARAFUSO METALICO, TIPO PHILIPS, DIVERSOS TAMANHOS, Medidas: 4,0 x 25 mm. Pacote com 100 unidades. | E137: 339030.24 | F137: Mister | G137: Peça | H137: 30 | I137: 20 | J137: 5.22 | K137: 10 | L137: =K137-(SUM(N137:Y137)) -> 7 | M137: =IF(L137<0,"ATENÇÃO","OK") -> OK | N137: 3 | O137: 0 | P137: 0 | Q137: 0 | R137: 0 | S137: 0 | T137: 0 | U137: 0 | V137: 0 | W137: 0 | X137: 0 | Y137: 0
C138: 135 | D138: PARAFUSO METALICO, TIPO PHILIPS, DIVERSOS TAMANHOS, Medidas: 4,0 x 40 mm. Pacote com 100 unidades. | E138: 339030.24 | F138: Mister | G138: Peça | H138: 30 | I138: 20 | J138: 8.33 | L138: =K138-(SUM(N138:Y138)) -> 0 | M138: =IF(L138<0,"ATENÇÃO","OK") -> OK | N138: 0 | O138: 0 | P138: 0 | Q138: 0 | R138: 0 | S138: 0 | T138: 0 | U138: 0 | V138: 0 | W138: 0 | X138: 0 | Y138: 0
C139: 136 | D139: PARAFUSO METALICO, TIPO PHILIPS, DIVERSOS TAMANHOS, Parafuso auto-atarraxante cab. Panela c/ fenda - din 7971 Material: Aço Carbono Cementado; Dimensões - 4.8 X 80. | E139: 339030.24 | F139: Mister | G139: Peça | H139: 30 | I139: 20 | J139: 0.25 | L139: =K139-(SUM(N139:Y139)) -> 0 | M139: =IF(L139<0,"ATENÇÃO","OK") -> OK | N139: 0 | O139: 0 | P139: 0 | Q139: 0 | R139: 0 | S139: 0 | T139: 0 | U139: 0 | V139: 0 | W139: 0 | X139: 0 | Y139: 0
C140: 137 | D140: PARAFUSO METALICO, TIPO PHILIPS, DIVERSOS TAMANHOS, Parafuso auto-atarraxante cab. Panela c/ fenda - din 7971 Material: Aço Carbono Cementado; Dimensões - 4.2 X 50mm. | E140: 339030.24 | F140: Mister | G140: Peça | H140: 30 | I140: 20 | J140: 0.2 | L140: =K140-(SUM(N140:Y140)) -> 0 | M140: =IF(L140<0,"ATENÇÃO","OK") -> OK | N140: 0 | O140: 0 | P140: 0 | Q140: 0 | R140: 0 | S140: 0 | T140: 0 | U140: 0 | V140: 0 | W140: 0 | X140: 0 | Y140: 0
C141: 138 | D141: PARAFUSO METALICO, TIPO PHILIPS, DIVERSOS TAMANHOS, Parafuso auto-atarraxante cab. Panela c/ fenda - din 7971. Material: Aço Carbono Cementado; Dimensões - 5.5 X 80,0mm. | E141: 339030.24 | F141: Mister | G141: Peça | H141: 30 | I141: 20 | J141: 0.3 | L141: =K141-(SUM(N141:Y141)) -> 0 | M141: =IF(L141<0,"ATENÇÃO","OK") -> OK | N141: 0 | O141: 0 | P141: 0 | Q141: 0 | R141: 0 | S141: 0 | T141: 0 | U141: 0 | V141: 0 | W141: 0 | X141: 0 | Y141: 0
C142: 139 | D142: PARAFUSO METALICO, TIPO PHILIPS, DIVERSOS TAMANHOS, Parafuso cabeça chata philips, 30mmX3mm, bicromatizado, aço, para madeira, aglomerado, MDF. Pacote com 50 unidades. | E142: 339030.24 | F142: Mister | G142: Peça | H142: 30 | I142: 20 | J142: 7.16 | L142: =K142-(SUM(N142:Y142)) -> 0 | M142: =IF(L142<0,"ATENÇÃO","OK") -> OK | N142: 0 | O142: 0 | P142: 0 | Q142: 0 | R142: 0 | S142: 0 | T142: 0 | U142: 0 | V142: 0 | W142: 0 | X142: 0 | Y142: 0
C143: 140 | D143: PARAFUSO METALICO, TIPO PHILIPS, DIVERSOS TAMANHOS, Parafuso Chip Board Phillips Cabeca Tipo Panela; Material: Ferro Bicromatizado; Dimensões 3.0 X 10mm. | E143: 339030.24 | F143: Mister | G143: Peça | H143: 30 | I143: 20 | J143: 0.15 | L143: =K143-(SUM(N143:Y143)) -> 0 | M143: =IF(L143<0,"ATENÇÃO","OK") -> OK | N143: 0 | O143: 0 | P143: 0 | Q143: 0 | R143: 0 | S143: 0 | T143: 0 | U143: 0 | V143: 0 | W143: 0 | X143: 0 | Y143: 0
C144: 141 | D144: PARAFUSO METALICO, TIPO PHILIPS, DIVERSOS TAMANHOS, Parafuso Chip Board Phillips Cabeca Tipo Panela; Material: Ferro Bicromatizado; Dimensões 3.0 X 20mm. | E144: 339030.24 | F144: Mister | G144: Peça | H144: 30 | I144: 20 | J144: 0.15 | L144: =K144-(SUM(N144:Y144)) -> 0 | M144: =IF(L144<0,"ATENÇÃO","OK") -> OK | N144: 0 | O144: 0 | P144: 0 | Q144: 0 | R144: 0 | S144: 0 | T144: 0 | U144: 0 | V144: 0 | W144: 0 | X144: 0 | Y144: 0
C145: 142 | D145: PARAFUSO METALICO, TIPO PHILIPS, DIVERSOS TAMANHOS, Parafuso Chip Board Phillips Cabeca Tipo Panela; Material: Ferro Bicromatizado; Dimensões 3.5 X 40mm. | E145: 339030.24 | F145: Mister | G145: Peça | H145: 30 | I145: 20 | J145: 0.15 | L145: =K145-(SUM(N145:Y145)) -> 0 | M145: =IF(L145<0,"ATENÇÃO","OK") -> OK | N145: 0 | O145: 0 | P145: 0 | Q145: 0 | R145: 0 | S145: 0 | T145: 0 | U145: 0 | V145: 0 | W145: 0 | X145: 0 | Y145: 0
...

Sheet CEART
A1: PROCESSO: 1025/2014 | D1: OBJETO: AQUISIÇÃO DE FERRAMENTAS, UTENSÍLIOS E MATERIAIS DE REPARO PARA O CAMPUS I, CERES E CESFI | J1: VIGÊNCIA DA ATA: 15/10/2014 até 14/10/2015 | N1: AF165/2015 | O1: AF420/2015 | P1: AF418/2015 | Q1: AF415/2015 | R1: AF 416/2015 | S1: AF 417/2015 | T1: AF419/2015 | U1: AF 421/2015 | V1: AF 1157/2015 | W1: AF 1158/2015 | X1: AF 1159/2015 | Y1: AF 1160/2015 | Z1: AF 1165/2015 | AA1: AF 1167/2015 | AB1: AF 1170/2015 | AC1: AF 1887/2015 | AD1: AF 1889/2015 | AE1: AF 1890/2015 | AF1: AF 1891/2015 | AG1: AF 1892/2015 | AH1: AF 1893/2015 | AI1: AF1894/2015 | AJ1: AF 1895/2015 | AK1: AF 1896/2015 | AL1: AF 1170/2015
A2: CENTRO PARTICIPANTE: CEART
A3: FORNECEDOR | B3: LOTE | C3: ITEM | D3: PRODUTO - CARACTERÍSTICAS MÍNIMAS | E3: DETALHAMENTO | F3: MARCA/MODELO | G3: UNIDADE | H3: Entrega (Dias) | I3: Pagto. (Dias) | J3: Preço UNITÁRIO (R$) | K3: Qtde LICITADA | L3: Saldo / Automático | M3: ALERTA | N3: 42058 | O3: 42103 | P3: 42103 | Q3: 42103 | R3: 42103 | S3: 42103 | T3: 42103 | U3: 42103 | V3: 42193 | W3: 42193 | X3: 42193 | Y3: 42193 | Z3: 42194 | AA3: 42194 | AB3: 42194 | AC3: 42290 | AD3: 42290 | AE3: 42290 | AF3: 42290 | AG3: 42290 | AH3: 42290 | AI3: 42290 | AJ3: 42290 | AK3: 42290 | AL3: 42291
A4: Cristiani Louri Rodrigues & Cia. Ltda - ME | B4: 1 | C4: 1 | D4: SUPORTE PARA CORTINA, EM "L", Suporte para cortina em "L"; Material: Latão; Dimensões: 5x8 | E4: 339030.24 | F4: Nacional | G4: Peça | H4: 30 | I4: 20 | J4: 0.9 | L4: =K4-(SUM(N4:Y4)) -> 0 | M4: =IF(L4<0,"ATENÇÃO","OK") -> OK | N4: 0 | O4: 0 | P4: 0 | Q4: 0 | R4: 0 | S4: 0 | T4: 0 | U4: 0 | V4: 0
C5: 2 | D5: SUPORTE PARA CORTINA, EM "L", Suporte para cortina em "L"; Material: Latão; Dimensões: 8x10 | E5: 339030.24 | F5: Nacional | G5: Peça | H5: 30 | I5: 20 | J5: 1.65 | L5: =K5-(SUM(N5:Y5)) -> 0 | M5: =IF(L5<0,"ATENÇÃO","OK") -> OK | N5: 0 | O5: 0 | P5: 0 | Q5: 0 | R5: 0 | S5: 0 | T5: 0 | U5: 0 | V5: 0
C6: 3 | D6: SUPORTE DIVERSOS, PARA PRATELEIRAS, Suporte para Prateleira; Material: Barra chata Metálica contraventada; Dimensões: 15cm. | E6: 339030.24 | F6: Nacional | G6: Peça | H6: 30 | I6: 20 | J6: 6 | L6: =K6-(SUM(N6:Y6)) -> 0 | M6: =IF(L6<0,"ATENÇÃO","OK") -> OK | N6: 0 | O6: 0 | P6: 0 | Q6: 0 | R6: 0 | S6: 0 | T6: 0 | U6: 0 | V6: 0
C7: 4 | D7: SUPORTE DIVERSOS, PARA PRATELEIRAS, Suporte para Prateleira; Material: Barra chata Metálica contraventada; Dimensões: 20cm. | E7: 339030.24 | F7: Nacional | G7: Peça | H7: 30 | I7: 20 | J7: 6 | L7: =K7-(SUM(N7:Y7)) -> 0 | M7: =IF(L7<0,"ATENÇÃO","OK") -> OK | N7: 0 | O7: 0 | P7: 0 | Q7: 0 | R7: 0 | S7: 0 | T7: 0 | U7: 0 | V7: 0
C8: 5 | D8: SUPORTE DIVERSOS, PARA PRATELEIRAS, Suporte para Prateleira; Material: Barra chata Metálica contraventada; Dimensões: 25cm. | E8: 339030.24 | F8: Nacional | G8: Peça | H8: 30 | I8: 20 | J8: 7.35 | L8: =K8-(SUM(N8:Y8)) -> 0 | M8: =IF(L8<0,"ATENÇÃO","OK") -> OK | N8: 0 | O8: 0 | P8: 0 | Q8: 0 | R8: 0 | S8: 0 | T8: 0 | U8: 0 | V8: 0
C9: 6 | D9: SUPORTE DIVERSOS, PARA PRATELEIRAS, Suporte para Prateleira; Material: Barra chata Metálica contraventada; Dimensões: 40cm. | E9: 339030.24 | F9: Nacional | G9: Peça | H9: 30 | I9: 20 | J9: 13 | L9: =K9-(SUM(N9:Y9)) -> 0 | M9: =IF(L9<0,"ATENÇÃO","OK") -> OK | N9: 0 | O9: 0 | P9: 0 | Q9: 0 | R9: 0 | S9: 0 | T9: 0 | U9: 0 | V9: 0
C10: 7 | D10: SUPORTE DIVERSOS, PARA PRATELEIRAS, Suporte para Prateleira; Material: Barra chata Metálica contraventada; Dimensões: 50cm. | E10: 339030.24 | F10: Nacional | G10: Peça | H10: 30 | I10: 20 | J10: 15.7 | L10: =K10-(SUM(N10:Y10)) -> 0 | M10: =IF(L10<0,"ATENÇÃO","OK") -> OK | N10: 0 | O10: 0 | P10: 0 | Q10: 0 | R10: 0 | S10: 0 | T10: 0 | U10: 0 | V10: 0
C11: 8 | D11: SUPORTE DIVERSOS, PARA PRATELEIRAS, Suporte para trilho de prateleira, Material Metálico; Largura: 30cm | E11: 339030.24 | F11: Nacional | G11: Peça | H11: 30 | I11: 20 | J11: 5.55 | L11: =K11-(SUM(N11:Y11)) -> 0 | M11: =IF(L11<0,"ATENÇÃO","OK") -> OK | N11: 0 | O11: 0 | P11: 0 | Q11: 0 | R11: 0 | S11: 0 | T11: 0 | U11: 0 | V11: 0
C12: 9 | D12: SUPORTE DIVERSOS, PARA PRATELEIRAS, Trilho para fixação de suporte para prateleira; Material: Metálico; Dimensões 200cm. | E12: 339030.24 | F12: Nacional | G12: Peça | H12: 30 | I12: 20 | J12: 27.5 | L12: =K12-(SUM(N12:Y12)) -> 0 | M12: =IF(L12<0,"ATENÇÃO","OK") -> OK | N12: 0 | O12: 0 | P12: 0 | Q12: 0 | R12: 0 | S12: 0 | T12: 0 | U12: 0 | V12: 0
C13: 10 | D13: CLIPS PARA CABO, DE ACO, Clip para cabo. 5/16 - aço inox a4 | E13: 339030.24 | F13: Inca | G13: Peça | H13: 30 | I13: 20 | J13: 0.9 | L13: =K13-(SUM(N13:Y13)) -> 0 | M13: =IF(L13<0,"ATENÇÃO","OK") -> OK | N13: 0 | O13: 0 | P13: 0 | Q13: 0 | R13: 0 | S13: 0 | T13: 0 | U13: 0 | V13: 0
C14: 11 | D14: CLIPS PARA CABO, DE ACO, Clip para cabo. 1 - aço inox a4 | E14: 339030.24 | F14: Inca | G14: Peça | H14: 30 | I14: 20 | J14: 4.73 | L14: =K14-(SUM(N14:Y14)) -> 0 | M14: =IF(L14<0,"ATENÇÃO","OK") -> OK | N14: 0 | O14: 0 | P14: 0 | Q14: 0 | R14: 0 | S14: 0 | T14: 0 | U14: 0 | V14: 0
C15: 12 | D15: CLIPS PARA CABO, DE ACO, Clip para cabo. 1/2 - aço inox a4 | E15: 339030.24 | F15: Inca | G15: Peça | H15: 30 | I15: 20 | J15: 2.5 | L15: =K15-(SUM(N15:Y15)) -> 0 | M15: =IF(L15<0,"ATENÇÃO","OK") -> OK | N15: 0 | O15: 0 | P15: 0 | Q15: 0 | R15: 0 | S15: 0 | T15: 0 | U15: 0 | V15: 0
C16: 13 | D16: CLIPS PARA CABO, DE ACO, Clip para cabo. 1/4 - aço inox a4 | E16: 339030.24 | F16: Inca | G16: Peça | H16: 30 | I16: 20 | J16: 0.8 | L16: =K16-(SUM(N16:Y16)) -> 0 | M16: =IF(L16<0,"ATENÇÃO","OK") -> OK | N16: 0 | O16: 0 | P16: 0 | Q16: 0 | R16: 0 | S16: 0 | T16: 0 | U16: 0 | V16: 0
... C37: 34 | D37: ESTICADOR PARA CABO, ESTICADOR GANCHO OLHAL, Esticador gancho olhal -1/2 - aço inox a4 | E37: 339030.24 | F37: Inca | G37: Peça | H37: 30 | I37: 20 | J37: 12.7 | L37: =K37-(SUM(N37:Y37)) -> 0 | M37: =IF(L37<0,"ATENÇÃO","OK") -> OK | N37: 0 | O37: 0 | P37: 0 | Q37: 0 | R37: 0 | S37: 0 | T37: 0 | U37: 0 | V37: 0
C38: 35 | D38: CADEADO METALICO, DE LATAO, 40 MM, Cadeado de latão retangular. Material da haste: aço cementado. Tamanho: 40mm. Comprimento da haste: 22mm. Espessura da haste: 6,4mm. Com duas chaves | E38: 339030.28 | F38: Soprano | G38: Peça | H38: 30 | I38: 20 | J38: 15.24 | K38: 10 | L38: =K38-(SUM(N38:Y38)) -> 10 | M38: =IF(L38<0,"ATENÇÃO","OK") -> OK | N38: 0 | O38: 0 | P38: 0 | Q38: 0 | R38: 0 | S38: 0 | T38: 0 | U38: 0 | V38: 0
C39: 36 | D39: CADEADO METALICO, DE LATŸO, 20 MM, Cadeado em latão maciço, haste de aço temperado e cromado. Tamanho de 20mm. Acompanhando chaves removíveis com cadeado aberto e fechado | E39: 339030.28 | F39: Soprano | G39: Peça | H39: 30 | I39: 20 | J39: 6.62 | K39: 12 | L39: =K39-(SUM(N39:Y39)) -> 12 | M39: =IF(L39<0,"ATENÇÃO","OK") -> OK | N39: 0 | O39: 0 | P39: 0 | Q39: 0 | R39: 0 | S39: 0 | T39: 0 | U39: 0 | V39: 0
C40: 37 | D40: CADEADO METALICO, TAMANHO DE 50MM, Cadeado em latão maciço, haste de aço temperado e cromado. Tamanho de 50mm. Acompanha chaves removíveis com cadeado aberto e fechado. | E40: 339030.28 | F40: Gold | G40: Peça | H40: 30 | I40: 20 | J40: 25.76 | K40: 8 | L40: =K40-(SUM(N40:Y40)) -> 8 | M40: =IF(L40<0,"ATENÇÃO","OK") -> OK | N40: 0 | O40: 0 | P40: 0 | Q40: 0 | R40: 0 | S40: 0 | T40: 0 | U40: 0 | V40: 0
C41: 38 | D41: DOBRADICA METALICA, 3 POLEGADAS, | E41: 339030.24 | F41: Ferca | G41: Par | H41: 30 | I41: 20 | J41: 2.59 | L41: =K41-(SUM(N41:Y41)) -> 0 | M41: =IF(L41<0,"ATENÇÃO","OK") -> OK | N41: 0 | O41: 0 | P41: 0 | Q41: 0 | R41: 0 | S41: 0 | T41: 0 | U41: 0 | V41: 0
C42: 39 | D42: DOBRADICA METALICA, JOGO DE DOBRADI«A 2"X1 1/2", Jogo de dobradiça 2"X1 1/2". | E42: 339030.42 | F42: Ferca | G42: Jogo | H42: 30 | I42: 20 | J42: 6.99 | L42: =K42-(SUM(N42:Y42)) -> 0 | M42: =IF(L42<0,"ATENÇÃO","OK") -> OK | N42: 0 | O42: 0 | P42: 0 | Q42: 0 | R42: 0 | S42: 0 | T42: 0 | U42: 0 | V42: 0
C43: 40 | D43: TRAVA PORTA (PRENDEDOR), PRENDEDOR PISO-TETO (BATENTE PORTA-FIXADOR ), | E43: 339030.42 | F43: Soprano | G43: Peça | H43: 30 | I43: 20 | J43: 11.46 | L43: =K43-(SUM(N43:Y43)) -> 0 | M43: =IF(L43<0,"ATENÇÃO","OK") -> OK | N43: 0 | O43: 0 | P43: 0 | Q43: 0 | R43: 0 | S43: 0 | T43: 0 | U43: 0 | V43: 0
C44: 41 | D44: TRINCO, FECHO TIPO TARGETA METALICA, Fecho tipo Targeta Metálica, Zincada, Dimensões 1.1/2" | E44: 339030.24 | F44: Loth | G44: Peça | H44: 30 | I44: 20 | J44: 1.3 | L44: =K44-(SUM(N44:Y44)) -> 0 | M44: =IF(L44<0,"ATENÇÃO","OK") -> OK | N44: 0 | O44: 0 | P44: 0 | Q44: 0 | R44: 0 | S44: 0 | T44: 0 | U44: 0 | V44: 0
C45: 42 | D45: TRINCO, FECHO TIPO TARGETA METALICA, Fecho tipo Targeta Metálica, Zincada, Dimensões 2" | E45: 339030.24 | F45: Loth | G45: Peça | H45: 30 | I45: 20 | J45: 1.5 | L45: =K45-(SUM(N45:Y45)) -> 0 | M45: =IF(L45<0,"ATENÇÃO","OK") -> OK | N45: 0 | O45: 0 | P45: 0 | Q45: 0 | R45: 0 | S45: 0 | T45: 0 | U45: 0 | V45: 0
C46: 43 | D46: TRINCO, FECHO TIPO TARGETA METALICA, Fecho tipo Targeta Metálica, Zincada, Dimensões 2.1/2" | E46: 339030.24 | F46: Loth | G46: Peça | H46: 30 | I46: 20 | J46: 1.8 | L46: =K46-(SUM(N46:Y46)) -> 0 | M46: =IF(L46<0,"ATENÇÃO","OK") -> OK | N46: 0 | O46: 0 | P46: 0 | Q46: 0 | R46: 0 | S46: 0 | T46: 0 | U46: 0 | V46: 0
C47: 44 | D47: TRINCO, FECHO TIPO TARGETA METALICA, Fecho tipo Targeta Metálica, Zincada, Dimensões 3". | E47: 339030.24 | F47: Loth | G47: Peça | H47: 30 | I47: 20 | J47: 2 | L47: =K47-(SUM(N47:Y47)) -> 0 | M47: =IF(L47<0,"ATENÇÃO","OK") -> OK | N47: 0 | O47: 0 | P47: 0 | Q47: 0 | R47: 0 | S47: 0 | T47: 0 | U47: 0 | V47: 0
C48: 45 | D48: TRINCO, FERROLHO METALICO, Ferrolho chato com porta cadeado, Material: Metálico; Acabamento: Zincado; Dimensões: 3". | E48: 339030.24 | F48: Loth | G48: Peça | H48: 30 | I48: 20 | J48: 5.6 | L48: =K48-(SUM(N48:Y48)) -> 0 | M48: =IF(L48<0,"ATENÇÃO","OK") -> OK | N48: 0 | O48: 0 | P48: 0 | Q48: 0 | R48: 0 | S48: 0 | T48: 0 | U48: 0 | V48: 0
C49: 46 | D49: TRINCO, FERROLHO METALICO, Ferrolho chato com porta cadeado, Material: Metálico; Acabamento: Zincado; Dimensões: 4". | E49: 339030.24 | F49: Loth | G49: Peça | H49: 30 | I49: 20 | J49: 6 | L49: =K49-(SUM(N49:Y49)) -> 0 | M49: =IF(L49<0,"ATENÇÃO","OK") -> OK | N49: 0 | O49: 0 | P49: 0 | Q49: 0 | R49: 0 | S49: 0 | T49: 0 | U49: 0 | V49: 0
C50: 47 | D50: TRINCO, FERROLHO METALICO, Ferrolho chato com porta cadeado, Material: Metálico; Acabamento: Zincado; Dimensões: 5". | E50: 339030.24 | F50: Loth | G50: Peça | H50: 30 | I50: 20 | J50: 8 | L50: =K50-(SUM(N50:Y50)) -> 0 | M50: =IF(L50<0,"ATENÇÃO","OK") -> OK | N50: 0 | O50: 0 | P50: 0 | Q50: 0 | R50: 0 | S50: 0 | T50: 0 | U50: 0 | V50: 0
C51: 48 | D51: TRINCO, FERROLHO METALICO, Ferrolho tipo "Fio Redondo", com Porta Cadeado; Material: Metálico; Acabamento: Zincado. Dimensões: 2". | E51: 339030.24 | F51: Loth | G51: Peça | H51: 30 | I51: 20 | J51: 2.25 | L51: =K51-(SUM(N51:Y51)) -> 0 | M51: =IF(L51<0,"ATENÇÃO","OK") -> OK | N51: 0 | O51: 0 | P51: 0 | Q51: 0 | R51: 0 | S51: 0 | T51: 0 | U51: 0 | V51: 0
C52: 49 | D52: TRINCO, FERROLHO METALICO, Ferrolho tipo "Fio Redondo", com Porta Cadeado; Material: Metálico; Acabamento: Zincado. Dimensões: 3". | E52: 339030.24 | F52: Loth | G52: Peça | H52: 30 | I52: 20 | J52: 2.6 | L52: =K52-(SUM(N52:Y52)) -> 0 | M52: =IF(L52<0,"ATENÇÃO","OK") -> OK | N52: 0 | O52: 0 | P52: 0 | Q52: 0 | R52: 0 | S52: 0 | T52: 0 | U52: 0 | V52: 0
... C54: 51 | D54: TRINCO, FERROLHO METALICO, Ferrolho tipo "Fio Redondo", com Porta Cadeado; Material: Metálico; Acabamento: Zincado. Dimensões: 5". | E54: 339030.24 | F54: Loth | G54: Peça | H54: 30 | I54: 20 | J54: 3.9 | L54: =K54-(SUM(N54:Y54)) -> 0 | M54: =IF(L54<0,"ATENÇÃO","OK") -> OK | N54: 0 | O54: 0 | P54: 0 | Q54: 0 | R54: 0 | S54: 0 | T54: 0 | U54: 0 | V54: 0
C55: 52 | D55: ABRACADEIRA, EM ACO CARBONO 1/2, Com parafuso de cabeça sextavada | E55: 339030.24 | F55: Inca | G55: Peça | H55: 30 | I55: 20 | J55: 1.52 | K55: 70 | L55: =K55-(SUM(N55:Y55)) -> 70 | M55: =IF(L55<0,"ATENÇÃO","OK") -> OK | N55: 0 | O55: 0 | P55: 0 | Q55: 0 | R55: 0 | S55: 0 | T55: 0 | U55: 0 | V55: 0 | AF55: 70
C56: 53 | D56: ABRACADEIRA, EM ACO CARBONO 3/4, Com parafuso de cabeça sextavada. | E56: 339030.24 | F56: Inca | G56: Peça | H56: 30 | I56: 20 | J56: 1.39 | K56: 70 | L56: =K56-(SUM(N56:Y56)) -> 70 | M56: =IF(L56<0,"ATENÇÃO","OK") -> OK | N56: 0 | O56: 0 | P56: 0 | Q56: 0 | R56: 0 | S56: 0 | T56: 0 | U56: 0 | V56: 0 | AF56: 70
C57: 54 | D57: ARAME DE ACO, ARAME RECOZIDO, Arame Recozido Liso nº:14, 2,0mm, Rolo de 5Kg. | E57: 339030.42 | F57: Gerdau | G57: Peça | H57: 30 | I57: 20 | J57: 8.5 | L57: =K57-(SUM(N57:Y57)) -> 0 | M57: =IF(L57<0,"ATENÇÃO","OK") -> OK | N57: 0 | O57: 0 | P57: 0 | Q57: 0 | R57: 0 | S57: 0 | T57: 0 | U57: 0 | V57: 0
C58: 55 | D58: ARAME DE ACO, FARPADO, 500 METROS, GALVANIZADO, 1,6 MM – 350 KGF, DUPLA CAMADA | E58: 339030.24 | F58: Potro | G58: Rolo | H58: 30 | I58: 20 | J58: 216.64 | K58: 1 | L58: =K58-(SUM(N58:Y58)) -> 1 | M58: =IF(L58<0,"ATENÇÃO","OK") -> OK | N58: 0 | O58: 0 | P58: 0 | Q58: 0 | R58: 0 | S58: 0 | T58: 0 | U58: 0 | V58: 0
C59: 56 | D59: ARAME DE ACO, GALVANIZADO,FIO 16, Arame galvanizado, fio 16 mm | E59: 339030.24 | F59: Potro | G59: KG | H59: 30 | I59: 20 | J59: 8.94 | L59: =K59-(SUM(N59:Y59)) -> 0 | M59: =IF(L59<0,"ATENÇÃO","OK") -> OK | N59: 0 | O59: 0 | P59: 0 | Q59: 0 | R59: 0 | S59: 0 | T59: 0 | U59: 0 | V59: 0
C60: 57 | D60: ARAME DE ACO, NUMERO 14, arame galvanizado nº14, 23,11mm. | E60: 339030.24 | F60: Potro | G60: KG | H60: 30 | I60: 20 | J60: 10.33 | L60: =K60-(SUM(N60:Y60)) -> 0 | M60: =IF(L60<0,"ATENÇÃO","OK") -> OK | N60: 0 | O60: 0 | P60: 0 | Q60: 0 | R60: 0 | S60: 0 | T60: 0 | U60: 0 | V60: 0
C61: 58 | D61: ARAME DE ACO, NUMERO 20, arame galvanizado n.20, 0,89mm | E61: 339030.24 | F61: Inca | G61: KG | H61: 30 | I61: 20 | J61: 13.78 | L61: =K61-(SUM(N61:Y61)) -> 0 | M61: =IF(L61<0,"ATENÇÃO","OK") -> OK | N61: 0 | O61: 0 | P61: 0 | Q61: 0 | R61: 0 | S61: 0 | T61: 0 | U61: 0 | V61: 0
...

Sheet FAED
A1: PROCESSO: 1025/2014 | D1: OBJETO: AQUISIÇÃO DE FERRAMENTAS, UTENSÍLIOS E MATERIAIS DE REPARO PARA O CAMPUS I, CERES E CESFI | J1: VIGÊNCIA DA ATA: 15/10/2014 até 14/10/2015 | N1: AF nº 1880/2014 Qtde. DT | O1: AF nº 1881/2014 Qtde. DT | P1: AF/OS nº 1114/2015 Qtde. DT | Q1: AF/OS nº 1925/2015 Qtde. DT | R1: AF/OS nº xxxx/2014 Qtde. DT | S1: AF/OS nº xxxx/2014 Qtde. DT | T1: AF/OS nº xxxx/2014 Qtde. DT | U1: AF/OS nº xxxx/2014 Qtde. DT | V1: AF/OS nº xxxx/2014 Qtde. DT | W1: AF/OS nº xxxx/2014 Qtde. DT | X1: AF/OS nº xxxx/2014 Qtde. DT | Y1: AF/OS nº xxxx/2014 Qtde. DT
A2: CENTRO PARTICIPANTE: FAED
A3: FORNECEDOR | B3: LOTE | C3: ITEM | D3: PRODUTO - CARACTERÍSTICAS MÍNIMAS | E3: DETALHAMENTO | F3: MARCA/MODELO | G3: UNIDADE | H3: Entrega (Dias) | I3: Pagto. (Dias) | J3: Preço UNITÁRIO (R$) | K3: Qtde LICITADA | L3: Saldo / Automático | M3: ALERTA | N3: ...../...../...... | O3: ...../...../...... | P3: 42187 | Q3: 42291 | R3: ...../...../...... | S3: ...../...../...... | T3: ...../...../...... | U3: ...../...../...... | V3: ...../...../...... | W3: ...../...../...... | X3: ...../...../...... | Y3: ...../...../......
A4: Cristiani Louri Rodrigues & Cia. Ltda - ME | B4: 1 | C4: 1 | D4: SUPORTE PARA CORTINA, EM "L", Suporte para cortina em "L"; Material: Latão; Dimensões: 5x8 | E4: 339030.24 | F4: Nacional | G4: Peça | H4: 30 | I4: 20 | J4: 0.9 | L4: =K4-(SUM(N4:Y4)) -> 0 | M4: =IF(L4<0,"ATENÇÃO","OK") -> OK | N4: 0 | O4: 0 | P4: 0 | Q4: 0 | R4: 0 | S4: 0 | T4: 0 | U4: 0 | V4: 0 | W4: 0 | X4: 0 | Y4: 0
C5: 2 | D5: SUPORTE PARA CORTINA, EM "L", Suporte para cortina em "L"; Material: Latão; Dimensões: 8x10 | E5: 339030.24 | F5: Nacional | G5: Peça | H5: 30 | I5: 20 | J5: 1.65 | L5: =K5-(SUM(N5:Y5)) -> 0 | M5: =IF(L5<0,"ATENÇÃO","OK") -> OK | N5: 0 | O5: 0 | P5: 0 | Q5: 0 | R5: 0 | S5: 0 | T5: 0 | U5: 0 | V5: 0 | W5: 0 | X5: 0 | Y5: 0
C6: 3 | D6: SUPORTE DIVERSOS, PARA PRATELEIRAS, Suporte para Prateleira; Material: Barra chata Metálica contraventada; Dimensões: 15cm. | E6: 339030.24 | F6: Nacional | G6: Peça | H6: 30 | I6: 20 | J6: 6 | L6: =K6-(SUM(N6:Y6)) -> 0 | M6: =IF(L6<0,"ATENÇÃO","OK") -> OK | N6: 0 | O6: 0 | P6: 0 | Q6: 0 | R6: 0 | S6: 0 | T6: 0 | U6: 0 | V6: 0 | W6: 0 | X6: 0 | Y6: 0
C7: 4 | D7: SUPORTE DIVERSOS, PARA PRATELEIRAS, Suporte para Prateleira; Material: Barra chata Metálica contraventada; Dimensões: 20cm. | E7: 339030.24 | F7: Nacional | G7: Peça | H7: 30 | I7: 20 | J7: 6 | L7: =K7-(SUM(N7:Y7)) -> 0 | M7: =IF(L7<0,"ATENÇÃO","OK") -> OK | N7: 0 | O7: 0 | P7: 0 | Q7: 0 | R7: 0 | S7: 0 | T7: 0 | U7: 0 | V7: 0 | W7: 0 | X7: 0 | Y7: 0
C8: 5 | D8: SUPORTE DIVERSOS, PARA PRATELEIRAS, Suporte para Prateleira; Material: Barra chata Metálica contraventada; Dimensões: 25cm. | E8: 339030.24 | F8: Nacional | G8: Peça | H8: 30 | I8: 20 | J8: 7.35 | L8: =K8-(SUM(N8:Y8)) -> 0 | M8: =IF(L8<0,"ATENÇÃO","OK") -> OK | N8: 0 | O8: 0 | P8: 0 | Q8: 0 | R8: 0 | S8: 0 | T8: 0 | U8: 0 | V8: 0 | W8: 0 | X8: 0 | Y8: 0
C9: 6 | D9: SUPORTE DIVERSOS, PARA PRATELEIRAS, Suporte para Prateleira; Material: Barra chata Metálica contraventada; Dimensões: 40cm. | E9: 339030.24 | F9: Nacional | G9: Peça | H9: 30 | I9: 20 | J9: 13 | L9: =K9-(SUM(N9:Y9)) -> 0 | M9: =IF(L9<0,"ATENÇÃO","OK") -> OK | N9: 0 | O9: 0 | P9: 0 | Q9: 0 | R9: 0 | S9: 0 | T9: 0 | U9: 0 | V9: 0 | W9: 0 | X9: 0 | Y9: 0
C10: 7 | D10: SUPORTE DIVERSOS, PARA PRATELEIRAS, Suporte para Prateleira; Material: Barra chata Metálica contraventada; Dimensões: 50cm. | E10: 339030.24 | F10: Nacional | G10: Peça | H10: 30 | I10: 20 | J10: 15.7 | L10: =K10-(SUM(N10:Y10)) -> 0 | M10: =IF(L10<0,"ATENÇÃO","OK") -> OK | N10: 0 | O10: 0 | P10: 0 | Q10: 0 | R10: 0 | S10: 0 | T10: 0 | U10: 0 | V10: 0 | W10: 0 | X10: 0 | Y10: 0
C11: 8 | D11: SUPORTE DIVERSOS, PARA PRATELEIRAS, Suporte para trilho de prateleira, Material Metálico; Largura: 30cm | E11: 339030.24 | F11: Nacional | G11: Peça | H11: 30 | I11: 20 | J11: 5.55 | L11: =K11-(SUM(N11:Y11)) -> 0 | M11: =IF(L11<0,"ATENÇÃO","OK") -> OK | N11: 0 | O11: 0 | P11: 0 | Q11: 0 | R11: 0 | S11: 0 | T11: 0 | U11: 0 | V11: 0 | W11: 0 | X11: 0 | Y11: 0
C12: 9 | D12: SUPORTE DIVERSOS, PARA PRATELEIRAS, Trilho para fixação de suporte para prateleira; Material: Metálico; Dimensões 200cm. | E12: 339030.24 | F12: Nacional | G12: Peça | H12: 30 | I12: 20 | J12: 27.5 | L12: =K12-(SUM(N12:Y12)) -> 0 | M12: =IF(L12<0,"ATENÇÃO","OK") -> OK | N12: 0 | O12: 0 | P12: 0 | Q12: 0 | R12: 0 | S12: 0 | T12: 0 | U12: 0 | V12: 0 | W12: 0 | X12: 0 | Y12: 0
C13: 10 | D13: CLIPS PARA CABO, DE ACO, Clip para cabo. 5/16 - aço inox a4 | E13: 339030.24 | F13: Inca | G13: Peça | H13: 30 | I13: 20 | J13: 0.9 | L13: =K13-(SUM(N13:Y13)) -> 0 | M13: =IF(L13<0,"ATENÇÃO","OK") -> OK | N13: 0 | O13: 0 | P13: 0 | Q13: 0 | R13: 0 | S13: 0 | T13: 0 | U13: 0 | V13: 0 | W13: 0 | X13: 0 | Y13: 0
C14: 11 | D14: CLIPS PARA CABO, DE ACO, Clip para cabo. 1 - aço inox a4 | E14: 339030.24 | F14: Inca | G14: Peça | H14: 30 | I14: 20 | J14: 4.73 | L14: =K14-(SUM(N14:Y14)) -> 0 | M14: =IF(L14<0,"ATENÇÃO","OK") -> OK | N14: 0 | O14: 0 | P14: 0 | Q14: 0 | R14: 0 | S14: 0 | T14: 0 | U14: 0 | V14: 0 | W14: 0 | X14: 0 | Y14: 0
C15: 12 | D15: CLIPS PARA CABO, DE ACO, Clip para cabo. 1/2 - aço inox a4 | E15: 339030.24 | F15: Inca | G15: Peça | H15: 30 | I15: 20 | J15: 2.5 | L15: =K15-(SUM(N15:Y15)) -> 0 | M15: =IF(L15<0,"ATENÇÃO","OK") -> OK | N15: 0 | O15: 0 | P15: 0 | Q15: 0 | R15: 0 | S15: 0 | T15: 0 | U15: 0 | V15: 0 | W15: 0 | X15: 0 | Y15: 0
C16: 13 | D16: CLIPS PARA CABO, DE ACO, Clip para cabo. 1/4 - aço inox a4 | E16: 339030.24 | F16: Inca | G16: Peça | H16: 30 | I16: 20 | J16: 0.8 | L16: =K16-(SUM(N16:Y16)) -> 0 | M16: =IF(L16<0,"ATENÇÃO","OK") -> OK | N16: 0 | O16: 0 | P16: 0 | Q16: 0 | R16: 0 | S16: 0 | T16: 0 | U16: 0 | V16: 0 | W16: 0 | X16: 0 | Y16: 0
... C87: 84 | D87: BRACADEIRA, ABRA«ADEIRA FLEXIVEL ROSCA SEM FIM, Abraçadeira flexível rosca sem fim, com diâmetro mínimo de 13mm e máximo de 19mm, em aço carbono, parafuso em aço carbono. | E87: 339030.24 | F87: Inca | G87: Peça | H87: 30 | I87: 20 | J87: 0.76 | L87: =K87-(SUM(N87:Y87)) -> 0 | M87: =IF(L87<0,"ATENÇÃO","OK") -> OK | N87: 0 | O87: 0 | P87: 0 | Q87: 0 | R87: 0 | S87: 0 | T87: 0 | U87: 0 | V87: 0 | W87: 0 | X87: 0 | Y87: 0
C88: 85 | D88: BUCHA PLASTICA PARA FIXACAO, BUCHA DE NYLON 06 MM, Bucha 6mm², de polietileno. | E88: 339030.24 | F88: Vonder | G88: Peça | H88: 30 | I88: 20 | J88: 0.05 | K88: 100 | L88: =K88-(SUM(N88:Y88)) -> 100 | M88: =IF(L88<0,"ATENÇÃO","OK") -> OK | N88: 0 | O88: 0 | P88: 0 | Q88: 0 | R88: 0 | S88: 0 | T88: 0 | U88: 0 | V88: 0 | W88: 0 | X88: 0 | Y88: 0
C89: 86 | D89: BUCHA PLASTICA PARA FIXACAO, BUCHA DE NYLON 8 MM, Bucha 8mm de polietileno. | E89: 339030.24 | F89: Vonder | G89: Peça | H89: 30 | I89: 20 | J89: 0.07 | L89: =K89-(SUM(N89:Y89)) -> 0 | M89: =IF(L89<0,"ATENÇÃO","OK") -> OK | N89: 0 | O89: 0 | P89: 0 | Q89: 0 | R89: 0 | S89: 0 | T89: 0 | U89: 0 | V89: 0 | W89: 0 | X89: 0 | Y89: 0
C90: 87 | D90: BUCHA PLASTICA PARA FIXACAO, BUCHA DE NYLON S 4, Bucha nylon ( polyamida ) na medida 4mm ( S 4 ). | E90: 339030.24 | F90: Vonder | G90: Peça | H90: 30 | I90: 20 | J90: 0.18 | L90: =K90-(SUM(N90:Y90)) -> 0 | M90: =IF(L90<0,"ATENÇÃO","OK") -> OK | N90: 0 | O90: 0 | P90: 0 | Q90: 0 | R90: 0 | S90: 0 | T90: 0 | U90: 0 | V90: 0 | W90: 0 | X90: 0 | Y90: 0
C91: 88 | D91: BUCHA PLASTICA PARA FIXACAO, BUCHA DE NYLON S 5, Bucha nylon ( polyamida ) na medida 5mm ( S 5 ). | E91: 339030.24 | F91: Vonder | G91: Peça | H91: 30 | I91: 20 | J91: 0.09 | L91: =K91-(SUM(N91:Y91)) -> 0 | M91: =IF(L91<0,"ATENÇÃO","OK") -> OK | N91: 0 | O91: 0 | P91: 0 | Q91: 0 | R91: 0 | S91: 0 | T91: 0 | U91: 0 | V91: 0 | W91: 0 | X91: 0 | Y91: 0
C92: 89 | D92: BUCHA PLASTICA PARA FIXACAO, BUCHA DE REDUCAO PVC SOLDAVEL 06MM, 32x25 | E92: 339030.24 | F92: Plastubos | G92: Peça | H92: 30 | I92: 20 | J92: 0.61 | L92: =K92-(SUM(N92:Y92)) -> 0 | M92: =IF(L92<0,"ATENÇÃO","OK") -> OK | N92: 0 | O92: 0 | P92: 0 | Q92: 0 | R92: 0 | S92: 0 | T92: 0 | U92: 0 | V92: 0 | W92: 0 | X92: 0 | Y92: 0
C93: 90 | D93: BUCHA PLASTICA PARA FIXACAO, DE NYLON, NUEMRO 12, Bucha Convencional, em nylon, para fixação em parede de Alvenaria e Concreto - 12mm. | E93: 339030.24 | F93: Vonder | G93: Peça | H93: 30 | I93: 20 | J93: 0.3 | L93: =K93-(SUM(N93:Y93)) -> 0 | M93: =IF(L93<0,"ATENÇÃO","OK") -> OK | N93: 0 | O93: 0 | P93: 0 | Q93: 0 | R93: 0 | S93: 0 | T93: 0 | U93: 0 | V93: 0 | W93: 0 | X93: 0 | Y93: 0
C94: 91 | D94: BUCHA PLASTICA PARA FIXACAO, EM NYLON, Bucha Convencional, em nylon, para fixação em parede de Alvenaria e Concreto - 3mm | E94: 339030.24 | F94: Vonder | G94: Peça | H94: 30 | I94: 20 | J94: 0.15 | L94: =K94-(SUM(N94:Y94)) -> 0 | M94: =IF(L94<0,"ATENÇÃO","OK") -> OK | N94: 0 | O94: 0 | P94: 0 | Q94: 0 | R94: 0 | S94: 0 | T94: 0 | U94: 0 | V94: 0 | W94: 0 | X94: 0 | Y94: 0
C95: 92 | D95: BUCHA PLASTICA PARA FIXACAO, NUMERO 10, Bucha 10mm de polietileno, pacote com 100 unidades. | E95: 339030.24 | F95: Vonder | G95: Peça | H95: 30 | I95: 20 | J95: 3.94 | L95: =K95-(SUM(N95:Y95)) -> 0 | M95: =IF(L95<0,"ATENÇÃO","OK") -> OK | N95: 0 | O95: 0 | P95: 0 | Q95: 0 | R95: 0 | S95: 0 | T95: 0 | U95: 0 | V95: 0 | W95: 0 | X95: 0 | Y95: 0
C96: 93 | D96: BUCHA PLASTICA PARA FIXACAO, NUMERO 12, Bucha 12,0mm, plástica, para parafuso pacote com 100 unidades. | E96: 339030.24 | F96: Vonder | G96: Peça | H96: 30 | I96: 20 | J96: 15.45 | L96: =K96-(SUM(N96:Y96)) -> 0 | M96: =IF(L96<0,"ATENÇÃO","OK") -> OK | N96: 0 | O96: 0 | P96: 0 | Q96: 0 | R96: 0 | S96: 0 | T96: 0 | U96: 0 | V96: 0 | W96: 0 | X96: 0 | Y96: 0
C97: 94 | D97: BUCHA PLASTICA PARA FIXACAO, NUMERO 14, Bucha para parafuso N14 | E97: 339030.42 | F97: Vonder | G97: Peça | H97: 30 | I97: 20 | J97: 1.07 | L97: =K97-(SUM(N97:Y97)) -> 0 | M97: =IF(L97<0,"ATENÇÃO","OK") -> OK | N97: 0 | O97: 0 | P97: 0 | Q97: 0 | R97: 0 | S97: 0 | T97: 0 | U97: 0 | V97: 0 | W97: 0 | X97: 0 | Y97: 0
C98: 95 | D98: FITA PERFURADA, DE METAL, 19MM, ROLO C/30M, Fita De Aço Perfurada; Largura: 17 a 19 mm; Rolo de 30m | E98: 339030.42 | F98: Inca | G98: Rolo | H98: 30 | I98: 20 | J98: 33 | L98: =K98-(SUM(N98:Y98)) -> 0 | M98: =IF(L98<0,"ATENÇÃO","OK") -> OK | N98: 0 | O98: 0 | P98: 0 | Q98: 0 | R98: 0 | S98: 0 | T98: 0 | U98: 0 | V98: 0 | W98: 0 | X98: 0 | Y98: 0
C99: 96 | D99: GANCHO, REFORCADO, Gancho Com Rosca P/ Bucha e Madeira Material: Aço Galvanizado Dimensões: 2.9 X 47. | E99: 339030.24 | F99: Inca | G99: Peça | H99: 30 | I99: 20 | J99: 0.24 | L99: =K99-(SUM(N99:Y99)) -> 0 | M99: =IF(L99<0,"ATENÇÃO","OK") -> OK | N99: 0 | O99: 0 | P99: 0 | Q99: 0 | R99: 0 | S99: 0 | T99: 0 | U99: 0 | V99: 0 | W99: 0 | X99: 0 | Y99: 0
C100: 97 | D100: GANCHO, REFORCADO, Gancho Com Rosca P/ Bucha E Madeira Material: Aço Galvanizado Dimensões: 3.3 X 58. | E100: 339030.24 | F100: Inca | G100: Peça | H100: 30 | I100: 20 | J100: 0.28 | L100: =K100-(SUM(N100:Y100)) -> 0 | M100: =IF(L100<0,"ATENÇÃO","OK") -> OK | N100: 0 | O100: 0 | P100: 0 | Q100: 0 | R100: 0 | S100: 0 | T100: 0 | U100: 0 | V100: 0 | W100: 0 | X100: 0 | Y100: 0
... C153: 150 | D153: PARAFUSO METALICO, TIPO PHILIPS, DIVERSOS TAMANHOS, Parafuso ponta agulha philips 3,5X45mm, acabamento fosfatizado, para gesso. Pacote com 50 unidades. | E153: 339030.24 | F153: Mister | G153: Peça | H153: 30 | I153: 20 | J153: 9.97 | L153: =K153-(SUM(N153:Y153)) -> 0 | M153: =IF(L153<0,"ATENÇÃO","OK") -> OK | N153: 0 | O153: 0 | P153: 0 | Q153: 0 | R153: 0 | S153: 0 | T153: 0 | U153: 0 | V153: 0 | W153: 0 | X153: 0 | Y153: 0
C154: 151 | D154: PARAFUSO, PARA BUCHA DE 8MM, Parafuso para bucha 8mm. | E154: 339030.24 | F154: Mister | G154: Peça | H154: 30 | I154: 20 | J154: 0.16 | K154: 400 | L154: =K154-(SUM(N154:Y154)) -> 400 | M154: =IF(L154<0,"ATENÇÃO","OK") -> OK | N154: 0 | O154: 0 | P154: 0 | Q154: 0 | R154: 0 | S154: 0 | T154: 0 | U154: 0 | V154: 0 | W154: 0 | X154: 0 | Y154: 0
C155: 152 | D155: PARAFUSO, PARA TELHA 6MM, Parafuso para fixação de telha ondulada de fibrocimento de 5 e 6 mm. | E155: 339030.24 | F155: Mister | G155: Peça | H155: 30 | I155: 20 | J155: 0.42 | L155: =K155-(SUM(N155:Y155)) -> 0 | M155: =IF(L155<0,"ATENÇÃO","OK") -> OK | N155: 0 | O155: 0 | P155: 0 | Q155: 0 | R155: 0 | S155: 0 | T155: 0 | U155: 0 | V155: 0 | W155: 0 | X155: 0 | Y155: 0
C156: 153 | D156: PORCA METALICA, FERRO ZINCADO, Porca Borboleta - Forjada A Frio - Ansi B 18.17 - 1/2-13. Ferro Zincado Grau 2. | E156: 339030.24 | F156: Mister | G156: Peça | H156: 30 | I156: 20 | J156: 0.8 | L156: =K156-(SUM(N156:Y156)) -> 0 | M156: =IF(L156<0,"ATENÇÃO","OK") -> OK | N156: 0 | O156: 0 | P156: 0 | Q156: 0 | R156: 0 | S156: 0 | T156: 0 | U156: 0 | V156: 0 | W156: 0 | X156: 0 | Y156: 0
C157: 154 | D157: PORCA METALICA, FERRO ZINCADO, Porca borboleta - forjada a frio - UNC - 1/4-20. Ferro zincado grau 2. | E157: 339030.24 | F157: Inca | G157: Peça | H157: 30 | I157: 20 | J157: 0.39 | L157: =K157-(SUM(N157:Y157)) -> 0 | M157: =IF(L157<0,"ATENÇÃO","OK") -> OK | N157: 0 | O157: 0 | P157: 0 | Q157: 0 | R157: 0 | S157: 0 | T157: 0 | U157: 0 | V157: 0 | W157: 0 | X157: 0 | Y157: 0
C158: 155 | D158: PORCA METALICA, FERRO ZINCADO, Porca borboleta - forjada a frio - UNC - 5/16-18. Ferro zincado grau 2. | E158: 339030.24 | F158: Inca | G158: Peça | H158: 30 | I158: 20 | J158: 0.59 | L158: =K158-(SUM(N158:Y158)) -> 0 | M158: =IF(L158<0,"ATENÇÃO","OK") -> OK | N158: 0 | O158: 0 | P158: 0 | Q158: 0 | R158: 0 | S158: 0 | T158: 0 | U158: 0 | V158: 0 | W158: 0 | X158: 0 | Y158: 0
C159: 156 | D159: PORCA METALICA, FERRO ZINCADO, Porca borboleta - forjada a frio - UNC - 5/32-32. Ferro zincado grau 2 | E159: 339030.24 | F159: Inca | G159: Peça | H159: 30 | I159: 20 | J159: 8.62 | L159: =K159-(SUM(N159:Y159)) -> 0 | M159: =IF(L159<0,"ATENÇÃO","OK") -> OK | N159: 0 | O159: 0 | P159: 0 | Q159: 0 | R159: 0 | S159: 0 | T159: 0 | U159: 0 | V159: 0 | W159: 0 | X159: 0 | Y159: 0
C160: 157 | D160: PORCA METALICA, FERRO ZINCADO, Porca tipo Borboleta - Forjada A Frio - Ansi B 18.17 - 1/2-12. Ferro Zincado, Grau 2. | E160: 339030.24 | F160: Inca | G160: Peça | H160: 30 | I160: 20 | J160: 0.65 | L160: =K160-(SUM(N160:Y160)) -> 0 | M160: =IF(L160<0,"ATENÇÃO","OK") -> OK | N160: 0 | O160: 0 | P160: 0 | Q160: 0 | R160: 0 | S160: 0 | T160: 0 | U160: 0 | V160: 0 | W160: 0 | X160: 0 | Y160: 0
C161: 158 | D161: PORCA METALICA, SEXTAVADA 1/2, Porca Sextavada Inox 1/2". | E161: 339030.42 | F161: Inca | G161: Peça | H161: 30 | I161: 20 | J161: 0.6 | L161: =K161-(SUM(N161:Y161)) -> 0 | M161: =IF(L161<0,"ATENÇÃO","OK") -> OK | N161: 0 | O161: 0 | P161: 0 | Q161: 0 | R161: 0 | S161: 0 | T161: 0 | U161: 0 | V161: 0 | W161: 0 | X161: 0 | Y161: 0
