Workbook
Name diasuteis: #REF!
Name diasuteis: #REF!
Name diasuteis: #REF!
Name diasuteis: #REF!
Name diasuteis: #REF!
Name diasuteis: #REF!
Name diasuteis: #REF!
Name diasuteis: #REF!
Name diasuteis: #REF!
Name diasuteis: #REF!
Name diasuteis: #REF!
Name diasuteis: #REF!
Name diasuteis: #REF!
Name diasuteis: #REF!
Name Ferias: #REF!
Name Ferias: #REF!
Name Ferias: #REF!
Name Ferias: #REF!
Name Ferias: #REF!
Name Ferias: #REF!
Name Ferias: #REF!
Name Ferias: #REF!
Name Ferias: #REF!
Name Ferias: #REF!
Name Ferias: #REF!
Name Ferias: #REF!
Name Ferias: #REF!
Name RD: OFFSET(#REF!,(MATCH(SMALL(#REF!,ROW()-10),#REF!,0)-1),0)

Sheet REIT
A1: PROCESSO: 1023/2014/UDESC | D1: OBJETO: AQUISIÇÃO DE SOLUÇÃO (EQUIPAMENTOS) EM VIDEOCONFERÊNCIA PARA A UDESC | I1: VIGÊNCIA DA ATA: 10/10/2014 até 09/10/2015 | L1: Contrato nº 1831/2014 Qtde. DT | M1: Contrato nº 1830/2014 Qtde. DT | N1: Contrato nº xxxx/2014 Qtde. DT | O1: Contrato nº xxxx/2014 Qtde. DT | P1: Contrato nº xxxx/2014 Qtde. DT | Q1: Contrato nº xxxx/2014 Qtde. DT | R1: Contrato nº xxxx/2014 Qtde. DT | S1: Contrato nº xxxx/2014 Qtde. DT | T1: Contrato nº xxxx/2014 Qtde. DT | U1: Contrato nº xxxx/2014 Qtde. DT | V1: Contrato nº xxxx/2014 Qtde. DT | W1: Contrato nº xxxx/2014 Qtde. DT
A2: CENTRO PARTICIPANTE: REITORIA
A3: FORNECEDOR | B3: LOTE | C3: ITEM | D3: PRODUTO - CARACTERÍSTICAS MÍNIMAS | E3: ELEMENTO | F3: Entrega (Dias) | G3: Pagto. (Dias) | H3: Preço UNITÁRIO (R$) | I3: Qtde LICITADA | J3: Saldo / Automático | K3: ALERTA | L3: 41953 | M3: 41953 | N3: ...../...../...... | O3: ...../...../...... | P3: ...../...../...... | Q3: ...../...../...... | R3: ...../...../...... | S3: ...../...../...... | T3: ...../...../...... | U3: ...../...../...... | V3: ...../...../...... | W3: ...../...../......
A4: DIGITALNET BRASIL SISTEMAS E COL LTDA | B4: 1 | C4: 1 | D4: Unidade de Controle Multimídia – MCU (item 4.1 do Termo de Referência) | E4: 44.90.52.33 | F4: 60 | G4: 20 | H4: 263107.23 | I4: 1 | J4: =I4-(SUM(L4:W4)) -> 1 | K4: =IF(J4<0,"ATENÇÃO","OK") -> OK | L4: 0 | M4: 0 | N4: 0 | O4: 0 | P4: 0 | Q4: 0 | R4: 0 | S4: 0 | T4: 0 | U4: 0 | V4: 0 | W4: 0
C5: 2 | D5: Terminal de Videoconferência (item 4.2 do Termo de Referência) | E5: 44.90.52.33 | F5: 60 | G5: 20 | H5: 18553.09 | I5: 4 | J5: =I5-(SUM(L5:W5)) -> -2 | K5: =IF(J5<0,"ATENÇÃO","OK") -> ATENÇÃO | L5: 0 | M5: 6 | N5: 0 | O5: 0 | P5: 0 | Q5: 0 | R5: 0 | S5: 0 | T5: 0 | U5: 0 | V5: 0 | W5: 0
C6: 3 | D6: Travessia de Firewall (item 4.3 do Termo de Referência) | E6: 44.90.52.33 | F6: 60 | G6: 20 | H6: 31760.19 | I6: 1 | J6: =I6-(SUM(L6:W6)) -> 1 | K6: =IF(J6<0,"ATENÇÃO","OK") -> OK | L6: 0 | M6: 0 | N6: 0 | O6: 0 | P6: 0 | Q6: 0 | R6: 0 | S6: 0 | T6: 0 | U6: 0 | V6: 0 | W6: 0
C7: 4 | D7: Sistema de Controle de Chamadas e Plataforma de Gerência (item 4.4 do Termo de Referência) | E7: 44.90.52.33 | F7: 60 | G7: 20 | H7: 47134 | I7: 1 | J7: =I7-(SUM(L7:W7)) -> 1 | K7: =IF(J7<0,"ATENÇÃO","OK") -> OK | L7: 0 | M7: 0 | N7: 0 | O7: 0 | P7: 0 | Q7: 0 | R7: 0 | S7: 0 | T7: 0 | U7: 0 | V7: 0 | W7: 0
C8: 5 | D8: Gravação de Vídeo Digital (item 4.5 do Termo de Referência) | E8: 44.90.52.33 | F8: 60 | G8: 20 | H8: 49990.82 | I8: 1 | J8: =I8-(SUM(L8:W8)) -> 1 | K8: =IF(J8<0,"ATENÇÃO","OK") -> OK | L8: 0 | M8: 0 | N8: 0 | O8: 0 | P8: 0 | Q8: 0 | R8: 0 | S8: 0 | T8: 0 | U8: 0 | V8: 0 | W8: 0
C9: 6 | D9: Suporte para Endpoint Microfone e Controle Remoto (item 4.8 do Termo de Referência) | E9: 44.90.52.33 | F9: 60 | G9: 20 | H9: 407 | I9: 4 | J9: =I9-(SUM(L9:W9)) -> 3 | K9: =IF(J9<0,"ATENÇÃO","OK") -> OK | L9: 0 | M9: 1 | N9: 0 | O9: 0 | P9: 0 | Q9: 0 | R9: 0 | S9: 0 | T9: 0 | U9: 0 | V9: 0 | W9: 0
C10: 7 | D10: Rack para Videoconferência Sala Reunião (item 4.9 do Termo de Referência) | E10: 44.90.52.42 | F10: 60 | G10: 20 | H10: 2184 | I10: 4 | J10: =I10-(SUM(L10:W10)) -> -1 | K10: =IF(J10<0,"ATENÇÃO","OK") -> ATENÇÃO | L10: 0 | M10: 5 | N10: 0 | O10: 0 | P10: 0 | Q10: 0 | R10: 0 | S10: 0 | T10: 0 | U10: 0 | V10: 0 | W10: 0
C11: 8 | D11: Rack 42u para o Datacenter da SETIC/UDESC (item 4.10 do Termo de Referência) | E11: 44.90.52.42 | F11: 60 | G11: 20 | H11: 4324 | I11: 1 | J11: =I11-(SUM(L11:W11)) -> 1 | K11: =IF(J11<0,"ATENÇÃO","OK") -> OK | L11: 0 | M11: 0 | N11: 0 | O11: 0 | P11: 0 | Q11: 0 | R11: 0 | S11: 0 | T11: 0 | U11: 0 | V11: 0 | W11: 0
C12: 9 | D12: Treinamento (item 16 do Termo de Referência) | E12: 33.90.39.48 | F12: 60 | G12: 20 | H12: 8000 | I12: 1 | J12: =I12-(SUM(L12:W12)) -> 1 | K12: =IF(J12<0,"ATENÇÃO","OK") -> OK | L12: 0 | M12: 0 | N12: 0 | O12: 0 | P12: 0 | Q12: 0 | R12: 0 | S12: 0 | T12: 0 | U12: 0 | V12: 0 | W12: 0
C13: 10 | D13: Instalação de Unidade de Controle Multimídia – MCU (item 4.1 do Termo de Referência) | E13: 33.90.39.25 | F13: 60 | G13: 20 | H13: 3000 | I13: 1 | J13: =I13-(SUM(L13:W13)) -> 1 | K13: =IF(J13<0,"ATENÇÃO","OK") -> OK | L13: 0 | M13: 0 | N13: 0 | O13: 0 | P13: 0 | Q13: 0 | R13: 0 | S13: 0 | T13: 0 | U13: 0 | V13: 0 | W13: 0
C14: 11 | D14: Instalação de Travessia de Firewall (item 4.3 do Termo de Referência) | E14: 33.90.39.25 | F14: 60 | G14: 20 | H14: 3000 | I14: 1 | J14: =I14-(SUM(L14:W14)) -> 1 | K14: =IF(J14<0,"ATENÇÃO","OK") -> OK | L14: 0 | M14: 0 | N14: 0 | O14: 0 | P14: 0 | Q14: 0 | R14: 0 | S14: 0 | T14: 0 | U14: 0 | V14: 0 | W14: 0
C15: 12 | D15: Instalação de Sistema de Controle de Chamadas e Plataforma de Gerência (item 4.4 do Termo de Referência) | E15: 33.90.39.25 | F15: 60 | G15: 20 | H15: 3047.5 | I15: 1 | J15: =I15-(SUM(L15:W15)) -> 1 | K15: =IF(J15<0,"ATENÇÃO","OK") -> OK | L15: 0 | M15: 0 | N15: 0 | O15: 0 | P15: 0 | Q15: 0 | R15: 0 | S15: 0 | T15: 0 | U15: 0 | V15: 0 | W15: 0
C16: 13 | D16: Instalação de Gravação de Vídeo Digital (item 4.5 do Termo de Referência) | E16: 33.90.39.25 | F16: 60 | G16: 20 | H16: 3000 | I16: 1 | J16: =I16-(SUM(L16:W16)) -> 1 | K16: =IF(J16<0,"ATENÇÃO","OK") -> OK | L16: 0 | M16: 0 | N16: 0 | O16: 0 | P16: 0 | Q16: 0 | R16: 0 | S16: 0 | T16: 0 | U16: 0 | V16: 0 | W16: 0
C17: 14 | D17: Instalação de Rack 42u para o Datacenter da SETIC/UDESC (item 4.10 do Termo de Referência) | E17: 33.90.39.25 | F17: 60 | G17: 20 | H17: 933 | I17: 1 | J17: =I17-(SUM(L17:W17)) -> 1 | K17: =IF(J17<0,"ATENÇÃO","OK") -> OK | L17: 0 | M17: 0 | N17: 0 | O17: 0 | P17: 0 | Q17: 0 | R17: 0 | S17: 0 | T17: 0 | U17: 0 | V17: 0 | W17: 0
A18: COMP1 INFORMÁTICA LTDA EPP | B18: 2 | C18: 15 | D18: TV LED (item 4.6 do Termo de Referência) | E18: 44.90.52.33 | F18: 60 | G18: 20 | H18: 3335 | I18: 8 | J18: =I18-(SUM(L18:W18)) -> -4 | K18: =IF(J18<0,"ATENÇÃO","OK") -> ATENÇÃO | L18: 12 | M18: 0 | N18: 0 | O18: 0 | P18: 0 | Q18: 0 | R18: 0 | S18: 0 | T18: 0 | U18: 0 | V18: 0 | W18: 0
C19: 16 | D19: Suporte para TV de LED de No Mínimo 50” (item 4.7 do Termo de Referência) | E19: 44.90.52.33 | F19: 60 | G19: 20 | H19: 350 | I19: 8 | J19: =I19-(SUM(L19:W19)) -> 6 | K19: =IF(J19<0,"ATENÇÃO","OK") -> OK | L19: 2 | M19: 0 | N19: 0 | O19: 0 | P19: 0 | Q19: 0 | R19: 0 | S19: 0 | T19: 0 | U19: 0 | V19: 0 | W19: 0
C21: *Marca e Modelo conforme proposta readequada

Sheet ESAG
A1: PROCESSO: 1023/2014/UDESC | D1: OBJETO: AQUISIÇÃO DE SOLUÇÃO (EQUIPAMENTOS) EM VIDEOCONFERÊNCIA PARA A UDESC | I1: VIGÊNCIA DA ATA: 10/10/2014 até 09/10/2015 | L1: Contrato nº xxxx/2014 Qtde. DT | M1: Contrato nº xxxx/2014 Qtde. DT | N1: Contrato nº xxxx/2014 Qtde. DT | O1: Contrato nº xxxx/2014 Qtde. DT | P1: Contrato nº xxxx/2014 Qtde. DT | Q1: Contrato nº xxxx/2014 Qtde. DT | R1: Contrato nº xxxx/2014 Qtde. DT | S1: Contrato nº xxxx/2014 Qtde. DT | T1: Contrato nº xxxx/2014 Qtde. DT | U1: Contrato nº xxxx/2014 Qtde. DT | V1: Contrato nº xxxx/2014 Qtde. DT | W1: Contrato nº xxxx/2014 Qtde. DT
A2: CENTRO PARTICIPANTE: ESAG
A3: FORNECEDOR | B3: LOTE | C3: ITEM | D3: PRODUTO - CARACTERÍSTICAS MÍNIMAS | E3: ELEMENTO | F3: Entrega (Dias) | G3: Pagto. (Dias) | H3: Preço UNITÁRIO (R$) | I3: Qtde LICITADA | J3: Saldo / Automático | K3: ALERTA | L3: ...../...../...... | M3: ...../...../...... | N3: ...../...../...... | O3: ...../...../...... | P3: ...../...../...... | Q3: ...../...../...... | R3: ...../...../...... | S3: ...../...../...... | T3: ...../...../...... | U3: ...../...../...... | V3: ...../...../...... | W3: ...../...../......
A4: DIGITALNET BRASIL SISTEMAS E COL LTDA | B4: 1 | C4: 1 | D4: Unidade de Controle Multimídia – MCU (item 4.1 do Termo de Referência) | E4: 44.90.52.33 | F4: 60 | G4: 20 | H4: 263107.23 | J4: =I4-(SUM(L4:W4)) -> 0 | K4: =IF(J4<0,"ATENÇÃO","OK") -> OK | L4: 0 | M4: 0 | N4: 0 | O4: 0 | P4: 0 | Q4: 0 | R4: 0 | S4: 0 | T4: 0 | U4: 0 | V4: 0 | W4: 0
C5: 2 | D5: Terminal de Videoconferência (item 4.2 do Termo de Referência) | E5: 44.90.52.33 | F5: 60 | G5: 20 | H5: 18553.09 | I5: 1 | J5: =I5-(SUM(L5:W5)) -> 1 | K5: =IF(J5<0,"ATENÇÃO","OK") -> OK | L5: 0 | M5: 0 | N5: 0 | O5: 0 | P5: 0 | Q5: 0 | R5: 0 | S5: 0 | T5: 0 | U5: 0 | V5: 0 | W5: 0
C6: 3 | D6: Travessia de Firewall (item 4.3 do Termo de Referência) | E6: 44.90.52.33 | F6: 60 | G6: 20 | H6: 31760.19 | J6: =I6-(SUM(L6:W6)) -> 0 | K6: =IF(J6<0,"ATENÇÃO","OK") -> OK | L6: 0 | M6: 0 | N6: 0 | O6: 0 | P6: 0 | Q6: 0 | R6: 0 | S6: 0 | T6: 0 | U6: 0 | V6: 0 | W6: 0
C7: 4 | D7: Sistema de Controle de Chamadas e Plataforma de Gerência (item 4.4 do Termo de Referência) | E7: 44.90.52.33 | F7: 60 | G7: 20 | H7: 47134 | J7: =I7-(SUM(L7:W7)) -> 0 | K7: =IF(J7<0,"ATENÇÃO","OK") -> OK | L7: 0 | M7: 0 | N7: 0 | O7: 0 | P7: 0 | Q7: 0 | R7: 0 | S7: 0 | T7: 0 | U7: 0 | V7: 0 | W7: 0
C8: 5 | D8: Gravação de Vídeo Digital (item 4.5 do Termo de Referência) | E8: 44.90.52.33 | F8: 60 | G8: 20 | H8: 49990.82 | J8: =I8-(SUM(L8:W8)) -> 0 | K8: =IF(J8<0,"ATENÇÃO","OK") -> OK | L8: 0 | M8: 0 | N8: 0 | O8: 0 | P8: 0 | Q8: 0 | R8: 0 | S8: 0 | T8: 0 | U8: 0 | V8: 0 | W8: 0
C9: 6 | D9: Suporte para Endpoint Microfone e Controle Remoto (item 4.8 do Termo de Referência) | E9: 44.90.52.33 | F9: 60 | G9: 20 | H9: 407 | I9: 1 | J9: =I9-(SUM(L9:W9)) -> 1 | K9: =IF(J9<0,"ATENÇÃO","OK") -> OK | L9: 0 | M9: 0 | N9: 0 | O9: 0 | P9: 0 | Q9: 0 | R9: 0 | S9: 0 | T9: 0 | U9: 0 | V9: 0 | W9: 0
C10: 7 | D10: Rack para Videoconferência Sala Reunião (item 4.9 do Termo de Referência) | E10: 44.90.52.42 | F10: 60 | G10: 20 | H10: 2184 | I10: 1 | J10: =I10-(SUM(L10:W10)) -> 1 | K10: =IF(J10<0,"ATENÇÃO","OK") -> OK | L10: 0 | M10: 0 | N10: 0 | O10: 0 | P10: 0 | Q10: 0 | R10: 0 | S10: 0 | T10: 0 | U10: 0 | V10: 0 | W10: 0
C11: 8 | D11: Rack 42u para o Datacenter da SETIC/UDESC (item 4.10 do Termo de Referência) | E11: 44.90.52.42 | F11: 60 | G11: 20 | H11: 4324 | J11: =I11-(SUM(L11:W11)) -> 0 | K11: =IF(J11<0,"ATENÇÃO","OK") -> OK | L11: 0 | M11: 0 | N11: 0 | O11: 0 | P11: 0 | Q11: 0 | R11: 0 | S11: 0 | T11: 0 | U11: 0 | V11: 0 | W11: 0
C12: 9 | D12: Treinamento (item 16 do Termo de Referência) | E12: 33.90.39.48 | F12: 60 | G12: 20 | H12: 8000 | J12: =I12-(SUM(L12:W12)) -> 0 | K12: =IF(J12<0,"ATENÇÃO","OK") -> OK | L12: 0 | M12: 0 | N12: 0 | O12: 0 | P12: 0 | Q12: 0 | R12: 0 | S12: 0 | T12: 0 | U12: 0 | V12: 0 | W12: 0
C13: 10 | D13: Instalação de Unidade de Controle Multimídia – MCU (item 4.1 do Termo de Referência) | E13: 33.90.39.25 | F13: 60 | G13: 20 | H13: 3000 | J13: =I13-(SUM(L13:W13)) -> 0 | K13: =IF(J13<0,"ATENÇÃO","OK") -> OK | L13: 0 | M13: 0 | N13: 0 | O13: 0 | P13: 0 | Q13: 0 | R13: 0 | S13: 0 | T13: 0 | U13: 0 | V13: 0 | W13: 0
C14: 11 | D14: Instalação de Travessia de Firewall (item 4.3 do Termo de Referência) | E14: 33.90.39.25 | F14: 60 | G14: 20 | H14: 3000 | J14: =I14-(SUM(L14:W14)) -> 0 | K14: =IF(J14<0,"ATENÇÃO","OK") -> OK | L14: 0 | M14: 0 | N14: 0 | O14: 0 | P14: 0 | Q14: 0 | R14: 0 | S14: 0 | T14: 0 | U14: 0 | V14: 0 | W14: 0
C15: 12 | D15: Instalação de Sistema de Controle de Chamadas e Plataforma de Gerência (item 4.4 do Termo de Referência) | E15: 33.90.39.25 | F15: 60 | G15: 20 | H15: 3047.5 | J15: =I15-(SUM(L15:W15)) -> 0 | K15: =IF(J15<0,"ATENÇÃO","OK") -> OK | L15: 0 | M15: 0 | N15: 0 | O15: 0 | P15: 0 | Q15: 0 | R15: 0 | S15: 0 | T15: 0 | U15: 0 | V15: 0 | W15: 0
C16: 13 | D16: Instalação de Gravação de Vídeo Digital (item 4.5 do Termo de Referência) | E16: 33.90.39.25 | F16: 60 | G16: 20 | H16: 3000 | J16: =I16-(SUM(L16:W16)) -> 0 | K16: =IF(J16<0,"ATENÇÃO","OK") -> OK | L16: 0 | M16: 0 | N16: 0 | O16: 0 | P16: 0 | Q16: 0 | R16: 0 | S16: 0 | T16: 0 | U16: 0 | V16: 0 | W16: 0
C17: 14 | D17: Instalação de Rack 42u para o Datacenter da SETIC/UDESC (item 4.10 do Termo de Referência) | E17: 33.90.39.25 | F17: 60 | G17: 20 | H17: 933 | J17: =I17-(SUM(L17:W17)) -> 0 | K17: =IF(J17<0,"ATENÇÃO","OK") -> OK | L17: 0 | M17: 0 | N17: 0 | O17: 0 | P17: 0 | Q17: 0 | R17: 0 | S17: 0 | T17: 0 | U17: 0 | V17: 0 | W17: 0
A18: COMP1 INFORMÁTICA LTDA EPP | B18: 2 | C18: 15 | D18: TV LED (item 4.6 do Termo de Referência) | E18: 44.90.52.33 | F18: 60 | G18: 20 | H18: 3335 | I18: 2 | J18: =I18-(SUM(L18:W18)) -> 2 | K18: =IF(J18<0,"ATENÇÃO","OK") -> OK | L18: 0 | M18: 0 | N18: 0 | O18: 0 | P18: 0 | Q18: 0 | R18: 0 | S18: 0 | T18: 0 | U18: 0 | V18: 0 | W18: 0
C19: 16 | D19: Suporte para TV de LED de No Mínimo 50” (item 4.7 do Termo de Referência) | E19: 44.90.52.33 | F19: 60 | G19: 20 | H19: 350 | I19: 2 | J19: =I19-(SUM(L19:W19)) -> 2 | K19: =IF(J19<0,"ATENÇÃO","OK") -> OK | L19: 0 | M19: 0 | N19: 0 | O19: 0 | P19: 0 | Q19: 0 | R19: 0 | S19: 0 | T19: 0 | U19: 0 | V19: 0 | W19: 0
C21: *Marca e Modelo conforme proposta readequada

Sheet CEART
A1: PROCESSO: 1023/2014/UDESC | D1: OBJETO: AQUISIÇÃO DE SOLUÇÃO (EQUIPAMENTOS) EM VIDEOCONFERÊNCIA PARA A UDESC | I1: VIGÊNCIA DA ATA: 10/10/2014 até 09/10/2015 | L1: Contrato nº xxxx/2014 Qtde. DT | M1: Contrato nº xxxx/2014 Qtde. DT | N1: Contrato nº xxxx/2014 Qtde. DT | O1: Contrato nº xxxx/2014 Qtde. DT | P1: Contrato nº xxxx/2014 Qtde. DT | Q1: Contrato nº xxxx/2014 Qtde. DT | R1: Contrato nº xxxx/2014 Qtde. DT | S1: Contrato nº xxxx/2014 Qtde. DT | T1: Contrato nº xxxx/2014 Qtde. DT | U1: Contrato nº xxxx/2014 Qtde. DT | V1: Contrato nº xxxx/2014 Qtde. DT | W1: Contrato nº xxxx/2014 Qtde. DT
A2: CENTRO PARTICIPANTE: CEART
A3: FORNECEDOR | B3: LOTE | C3: ITEM | D3: PRODUTO - CARACTERÍSTICAS MÍNIMAS | E3: ELEMENTO | F3: Entrega (Dias) | G3: Pagto. (Dias) | H3: Preço UNITÁRIO (R$) | I3: Qtde LICITADA | J3: Saldo / Automático | K3: ALERTA | L3: ...../...../...... | M3: ...../...../...... | N3: ...../...../...... | O3: ...../...../...... | P3: ...../...../...... | Q3: ...../...../...... | R3: ...../...../...... | S3: ...../...../...... | T3: ...../...../...... | U3: ...../...../...... | V3: ...../...../...... | W3: ...../...../......
A4: DIGITALNET BRASIL SISTEMAS E COL LTDA | B4: 1 | C4: 1 | D4: Unidade de Controle Multimídia – MCU (item 4.1 do Termo de Referência) | E4: 44.90.52.33 | F4: 60 | G4: 20 | H4: 263107.23 | J4: =I4-(SUM(L4:W4)) -> 0 | K4: =IF(J4<0,"ATENÇÃO","OK") -> OK | L4: 0 | M4: 0 | N4: 0 | O4: 0 | P4: 0 | Q4: 0 | R4: 0 | S4: 0 | T4: 0 | U4: 0 | V4: 0 | W4: 0
C5: 2 | D5: Terminal de Videoconferência (item 4.2 do Termo de Referência) | E5: 44.90.52.33 | F5: 60 | G5: 20 | H5: 18553.09 | I5: 1 | J5: =I5-(SUM(L5:W5)) -> 1 | K5: =IF(J5<0,"ATENÇÃO","OK") -> OK | L5: 0 | M5: 0 | N5: 0 | O5: 0 | P5: 0 | Q5: 0 | R5: 0 | S5: 0 | T5: 0 | U5: 0 | V5: 0 | W5: 0
C6: 3 | D6: Travessia de Firewall (item 4.3 do Termo de Referência) | E6: 44.90.52.33 | F6: 60 | G6: 20 | H6: 31760.19 | J6: =I6-(SUM(L6:W6)) -> 0 | K6: =IF(J6<0,"ATENÇÃO","OK") -> OK | L6: 0 | M6: 0 | N6: 0 | O6: 0 | P6: 0 | Q6: 0 | R6: 0 | S6: 0 | T6: 0 | U6: 0 | V6: 0 | W6: 0
C7: 4 | D7: Sistema de Controle de Chamadas e Plataforma de Gerência (item 4.4 do Termo de Referência) | E7: 44.90.52.33 | F7: 60 | G7: 20 | H7: 47134 | J7: =I7-(SUM(L7:W7)) -> 0 | K7: =IF(J7<0,"ATENÇÃO","OK") -> OK | L7: 0 | M7: 0 | N7: 0 | O7: 0 | P7: 0 | Q7: 0 | R7: 0 | S7: 0 | T7: 0 | U7: 0 | V7: 0 | W7: 0
C8: 5 | D8: Gravação de Vídeo Digital (item 4.5 do Termo de Referência) | E8: 44.90.52.33 | F8: 60 | G8: 20 | H8: 49990.82 | J8: =I8-(SUM(L8:W8)) -> 0 | K8: =IF(J8<0,"ATENÇÃO","OK") -> OK | L8: 0 | M8: 0 | N8: 0 | O8: 0 | P8: 0 | Q8: 0 | R8: 0 | S8: 0 | T8: 0 | U8: 0 | V8: 0 | W8: 0
C9: 6 | D9: Suporte para Endpoint Microfone e Controle Remoto (item 4.8 do Termo de Referência) | E9: 44.90.52.33 | F9: 60 | G9: 20 | H9: 407 | I9: 1 | J9: =I9-(SUM(L9:W9)) -> 1 | K9: =IF(J9<0,"ATENÇÃO","OK") -> OK | L9: 0 | M9: 0 | N9: 0 | O9: 0 | P9: 0 | Q9: 0 | R9: 0 | S9: 0 | T9: 0 | U9: 0 | V9: 0 | W9: 0
C10: 7 | D10: Rack para Videoconferência Sala Reunião (item 4.9 do Termo de Referência) | E10: 44.90.52.42 | F10: 60 | G10: 20 | H10: 2184 | I10: 1 | J10: =I10-(SUM(L10:W10)) -> 1 | K10: =IF(J10<0,"ATENÇÃO","OK") -> OK | L10: 0 | M10: 0 | N10: 0 | O10: 0 | P10: 0 | Q10: 0 | R10: 0 | S10: 0 | T10: 0 | U10: 0 | V10: 0 | W10: 0
C11: 8 | D11: Rack 42u para o Datacenter da SETIC/UDESC (item 4.10 do Termo de Referência) | E11: 44.90.52.42 | F11: 60 | G11: 20 | H11: 4324 | J11: =I11-(SUM(L11:W11)) -> 0 | K11: =IF(J11<0,"ATENÇÃO","OK") -> OK | L11: 0 | M11: 0 | N11: 0 | O11: 0 | P11: 0 | Q11: 0 | R11: 0 | S11: 0 | T11: 0 | U11: 0 | V11: 0 | W11: 0
C12: 9 | D12: Treinamento (item 16 do Termo de Referência) | E12: 33.90.39.48 | F12: 60 | G12: 20 | H12: 8000 | J12: =I12-(SUM(L12:W12)) -> 0 | K12: =IF(J12<0,"ATENÇÃO","OK") -> OK | L12: 0 | M12: 0 | N12: 0 | O12: 0 | P12: 0 | Q12: 0 | R12: 0 | S12: 0 | T12: 0 | U12: 0 | V12: 0 | W12: 0
C13: 10 | D13: Instalação de Unidade de Controle Multimídia – MCU (item 4.1 do Termo de Referência) | E13: 33.90.39.25 | F13: 60 | G13: 20 | H13: 3000 | J13: =I13-(SUM(L13:W13)) -> 0 | K13: =IF(J13<0,"ATENÇÃO","OK") -> OK | L13: 0 | M13: 0 | N13: 0 | O13: 0 | P13: 0 | Q13: 0 | R13: 0 | S13: 0 | T13: 0 | U13: 0 | V13: 0 | W13: 0
C14: 11 | D14: Instalação de Travessia de Firewall (item 4.3 do Termo de Referência) | E14: 33.90.39.25 | F14: 60 | G14: 20 | H14: 3000 | J14: =I14-(SUM(L14:W14)) -> 0 | K14: =IF(J14<0,"ATENÇÃO","OK") -> OK | L14: 0 | M14: 0 | N14: 0 | O14: 0 | P14: 0 | Q14: 0 | R14: 0 | S14: 0 | T14: 0 | U14: 0 | V14: 0 | W14: 0
C15: 12 | D15: Instalação de Sistema de Controle de Chamadas e Plataforma de Gerência (item 4.4 do Termo de Referência) | E15: 33.90.39.25 | F15: 60 | G15: 20 | H15: 3047.5 | J15: =I15-(SUM(L15:W15)) -> 0 | K15: =IF(J15<0,"ATENÇÃO","OK") -> OK | L15: 0 | M15: 0 | N15: 0 | O15: 0 | P15: 0 | Q15: 0 | R15: 0 | S15: 0 | T15: 0 | U15: 0 | V15: 0 | W15: 0
C16: 13 | D16: Instalação de Gravação de Vídeo Digital (item 4.5 do Termo de Referência) | E16: 33.90.39.25 | F16: 60 | G16: 20 | H16: 3000 | J16: =I16-(SUM(L16:W16)) -> 0 | K16: =IF(J16<0,"ATENÇÃO","OK") -> OK | L16: 0 | M16: 0 | N16: 0 | O16: 0 | P16: 0 | Q16: 0 | R16: 0 | S16: 0 | T16: 0 | U16: 0 | V16: 0 | W16: 0
C17: 14 | D17: Instalação de Rack 42u para o Datacenter da SETIC/UDESC (item 4.10 do Termo de Referência) | E17: 33.90.39.25 | F17: 60 | G17: 20 | H17: 933 | J17: =I17-(SUM(L17:W17)) -> 0 | K17: =IF(J17<0,"ATENÇÃO","OK") -> OK | L17: 0 | M17: 0 | N17: 0 | O17: 0 | P17: 0 | Q17: 0 | R17: 0 | S17: 0 | T17: 0 | U17: 0 | V17: 0 | W17: 0
A18: COMP1 INFORMÁTICA LTDA EPP | B18: 2 | C18: 15 | D18: TV LED (item 4.6 do Termo de Referência) | E18: 44.90.52.33 | F18: 60 | G18: 20 | H18: 3335 | I18: 2 | J18: =I18-(SUM(L18:W18)) -> 2 | K18: =IF(J18<0,"ATENÇÃO","OK") -> OK | L18: 0 | M18: 0 | N18: 0 | O18: 0 | P18: 0 | Q18: 0 | R18: 0 | S18: 0 | T18: 0 | U18: 0 | V18: 0 | W18: 0
C19: 16 | D19: Suporte para TV de LED de No Mínimo 50” (item 4.7 do Termo de Referência) | E19: 44.90.52.33 | F19: 60 | G19: 20 | H19: 350 | I19: 2 | J19: =I19-(SUM(L19:W19)) -> 2 | K19: =IF(J19<0,"ATENÇÃO","OK") -> OK | L19: 0 | M19: 0 | N19: 0 | O19: 0 | P19: 0 | Q19: 0 | R19: 0 | S19: 0 | T19: 0 | U19: 0 | V19: 0 | W19: 0
C21: *Marca e Modelo conforme proposta readequada

Sheet FAED
A1: PROCESSO: 1023/2014/UDESC | D1: OBJETO: AQUISIÇÃO DE SOLUÇÃO (EQUIPAMENTOS) EM VIDEOCONFERÊNCIA PARA A UDESC | I1: VIGÊNCIA DA ATA: 10/10/2014 até 09/10/2015 | L1: Contrato nº xxxx/2014 Qtde. DT | M1: Contrato nº xxxx/2014 Qtde. DT | N1: Contrato nº xxxx/2014 Qtde. DT | O1: Contrato nº xxxx/2014 Qtde. DT | P1: Contrato nº xxxx/2014 Qtde. DT | Q1: Contrato nº xxxx/2014 Qtde. DT | R1: Contrato nº xxxx/2014 Qtde. DT | S1: Contrato nº xxxx/2014 Qtde. DT | T1: Contrato nº xxxx/2014 Qtde. DT | U1: Contrato nº xxxx/2014 Qtde. DT | V1: Contrato nº xxxx/2014 Qtde. DT | W1: Contrato nº xxxx/2014 Qtde. DT
A2: CENTRO PARTICIPANTE: FAED
A3: FORNECEDOR | B3: LOTE | C3: ITEM | D3: PRODUTO - CARACTERÍSTICAS MÍNIMAS | E3: ELEMENTO | F3: Entrega (Dias) | G3: Pagto. (Dias) | H3: Preço UNITÁRIO (R$) | I3: Qtde LICITADA | J3: Saldo / Automático | K3: ALERTA | L3: ...../...../...... | M3: ...../...../...... | N3: ...../...../...... | O3: ...../...../...... | P3: ...../...../...... | Q3: ...../...../...... | R3: ...../...../...... | S3: ...../...../...... | T3: ...../...../...... | U3: ...../...../...... | V3: ...../...../...... | W3: ...../...../......
A4: DIGITALNET BRASIL SISTEMAS E COL LTDA | B4: 1 | C4: 1 | D4: Unidade de Controle Multimídia – MCU (item 4.1 do Termo de Referência) | E4: 44.90.52.33 | F4: 60 | G4: 20 | H4: 263107.23 | J4: =I4-(SUM(L4:W4)) -> 0 | K4: =IF(J4<0,"ATENÇÃO","OK") -> OK | L4: 0 | M4: 0 | N4: 0 | O4: 0 | P4: 0 | Q4: 0 | R4: 0 | S4: 0 | T4: 0 | U4: 0 | V4: 0 | W4: 0
C5: 2 | D5: Terminal de Videoconferência (item 4.2 do Termo de Referência) | E5: 44.90.52.33 | F5: 60 | G5: 20 | H5: 18553.09 | I5: 1 | J5: =I5-(SUM(L5:W5)) -> 1 | K5: =IF(J5<0,"ATENÇÃO","OK") -> OK | L5: 0 | M5: 0 | N5: 0 | O5: 0 | P5: 0 | Q5: 0 | R5: 0 | S5: 0 | T5: 0 | U5: 0 | V5: 0 | W5: 0
C6: 3 | D6: Travessia de Firewall (item 4.3 do Termo de Referência) | E6: 44.90.52.33 | F6: 60 | G6: 20 | H6: 31760.19 | J6: =I6-(SUM(L6:W6)) -> 0 | K6: =IF(J6<0,"ATENÇÃO","OK") -> OK | L6: 0 | M6: 0 | N6: 0 | O6: 0 | P6: 0 | Q6: 0 | R6: 0 | S6: 0 | T6: 0 | U6: 0 | V6: 0 | W6: 0
C7: 4 | D7: Sistema de Controle de Chamadas e Plataforma de Gerência (item 4.4 do Termo de Referência) | E7: 44.90.52.33 | F7: 60 | G7: 20 | H7: 47134 | J7: =I7-(SUM(L7:W7)) -> 0 | K7: =IF(J7<0,"ATENÇÃO","OK") -> OK | L7: 0 | M7: 0 | N7: 0 | O7: 0 | P7: 0 | Q7: 0 | R7: 0 | S7: 0 | T7: 0 | U7: 0 | V7: 0 | W7: 0
C8: 5 | D8: Gravação de Vídeo Digital (item 4.5 do Termo de Referência) | E8: 44.90.52.33 | F8: 60 | G8: 20 | H8: 49990.82 | J8: =I8-(SUM(L8:W8)) -> 0 | K8: =IF(J8<0,"ATENÇÃO","OK") -> OK | L8: 0 | M8: 0 | N8: 0 | O8: 0 | P8: 0 | Q8: 0 | R8: 0 | S8: 0 | T8: 0 | U8: 0 | V8: 0 | W8: 0
C9: 6 | D9: Suporte para Endpoint Microfone e Controle Remoto (item 4.8 do Termo de Referência) | E9: 44.90.52.33 | F9: 60 | G9: 20 | H9: 407 | I9: 1 | J9: =I9-(SUM(L9:W9)) -> 1 | K9: =IF(J9<0,"ATENÇÃO","OK") -> OK | L9: 0 | M9: 0 | N9: 0 | O9: 0 | P9: 0 | Q9: 0 | R9: 0 | S9: 0 | T9: 0 | U9: 0 | V9: 0 | W9: 0
C10: 7 | D10: Rack para Videoconferência Sala Reunião (item 4.9 do Termo de Referência) | E10: 44.90.52.42 | F10: 60 | G10: 20 | H10: 2184 | I10: 1 | J10: =I10-(SUM(L10:W10)) -> 1 | K10: =IF(J10<0,"ATENÇÃO","OK") -> OK | L10: 0 | M10: 0 | N10: 0 | O10: 0 | P10: 0 | Q10: 0 | R10: 0 | S10: 0 | T10: 0 | U10: 0 | V10: 0 | W10: 0
C11: 8 | D11: Rack 42u para o Datacenter da SETIC/UDESC (item 4.10 do Termo de Referência) | E11: 44.90.52.42 | F11: 60 | G11: 20 | H11: 4324 | J11: =I11-(SUM(L11:W11)) -> 0 | K11: =IF(J11<0,"ATENÇÃO","OK") -> OK | L11: 0 | M11: 0 | N11: 0 | O11: 0 | P11: 0 | Q11: 0 | R11: 0 | S11: 0 | T11: 0 | U11: 0 | V11: 0 | W11: 0
C12: 9 | D12: Treinamento (item 16 do Termo de Referência) | E12: 33.90.39.48 | F12: 60 | G12: 20 | H12: 8000 | J12: =I12-(SUM(L12:W12)) -> 0 | K12: =IF(J12<0,"ATENÇÃO","OK") -> OK | L12: 0 | M12: 0 | N12: 0 | O12: 0 | P12: 0 | Q12: 0 | R12: 0 | S12: 0 | T12: 0 | U12: 0 | V12: 0 | W12: 0
C13: 10 | D13: Instalação de Unidade de Controle Multimídia – MCU (item 4.1 do Termo de Referência) | E13: 33.90.39.25 | F13: 60 | G13: 20 | H13: 3000 | J13: =I13-(SUM(L13:W13)) -> 0 | K13: =IF(J13<0,"ATENÇÃO","OK") -> OK | L13: 0 | M13: 0 | N13: 0 | O13: 0 | P13: 0 | Q13: 0 | R13: 0 | S13: 0 | T13: 0 | U13: 0 | V13: 0 | W13: 0
C14: 11 | D14: Instalação de Travessia de Firewall (item 4.3 do Termo de Referência) | E14: 33.90.39.25 | F14: 60 | G14: 20 | H14: 3000 | J14: =I14-(SUM(L14:W14)) -> 0 | K14: =IF(J14<0,"ATENÇÃO","OK") -> OK | L14: 0 | M14: 0 | N14: 0 | O14: 0 | P14: 0 | Q14: 0 | R14: 0 | S14: 0 | T14: 0 | U14: 0 | V14: 0 | W14: 0
C15: 12 | D15: Instalação de Sistema de Controle de Chamadas e Plataforma de Gerência (item 4.4 do Termo de Referência) | E15: 33.90.39.25 | F15: 60 | G15: 20 | H15: 3047.5 | J15: =I15-(SUM(L15:W15)) -> 0 | K15: =IF(J15<0,"ATENÇÃO","OK") -> OK | L15: 0 | M15: 0 | N15: 0 | O15: 0 | P15: 0 | Q15: 0 | R15: 0 | S15: 0 | T15: 0 | U15: 0 | V15: 0 | W15: 0
C16: 13 | D16: Instalação de Gravação de Vídeo Digital (item 4.5 do Termo de Referência) | E16: 33.90.39.25 | F16: 60 | G16: 20 | H16: 3000 | J16: =I16-(SUM(L16:W16)) -> 0 | K16: =IF(J16<0,"ATENÇÃO","OK") -> OK | L16: 0 | M16: 0 | N16: 0 | O16: 0 | P16: 0 | Q16: 0 | R16: 0 | S16: 0 | T16: 0 | U16: 0 | V16: 0 | W16: 0
C17: 14 | D17: Instalação de Rack 42u para o Datacenter da SETIC/UDESC (item 4.10 do Termo de Referência) | E17: 33.90.39.25 | F17: 60 | G17: 20 | H17: 933 | J17: =I17-(SUM(L17:W17)) -> 0 | K17: =IF(J17<0,"ATENÇÃO","OK") -> OK | L17: 0 | M17: 0 | N17: 0 | O17: 0 | P17: 0 | Q17: 0 | R17: 0 | S17: 0 | T17: 0 | U17: 0 | V17: 0 | W17: 0
A18: COMP1 INFORMÁTICA LTDA EPP | B18: 2 | C18: 15 | D18: TV LED (item 4.6 do Termo de Referência) | E18: 44.90.52.33 | F18: 60 | G18: 20 | H18: 3335 | I18: 2 | J18: =I18-(SUM(L18:W18)) -> 2 | K18: =IF(J18<0,"ATENÇÃO","OK") -> OK | L18: 0 | M18: 0 | N18: 0 | O18: 0 | P18: 0 | Q18: 0 | R18: 0 | S18: 0 | T18: 0 | U18: 0 | V18: 0 | W18: 0
C19: 16 | D19: Suporte para TV de LED de No Mínimo 50” (item 4.7 do Termo de Referência) | E19: 44.90.52.33 | F19: 60 | G19: 20 | H19: 350 | I19: 2 | J19: =I19-(SUM(L19:W19)) -> 2 | K19: =IF(J19<0,"ATENÇÃO","OK") -> OK | L19: 0 | M19: 0 | N19: 0 | O19: 0 | P19: 0 | Q19: 0 | R19: 0 | S19: 0 | T19: 0 | U19: 0 | V19: 0 | W19: 0
C21: *Marca e Modelo conforme proposta readequada

Sheet CEAD
A1: PROCESSO: 1023/2014/UDESC | D1: OBJETO: AQUISIÇÃO DE SOLUÇÃO (EQUIPAMENTOS) EM VIDEOCONFERÊNCIA PARA A UDESC | I1: VIGÊNCIA DA ATA: 10/10/2014 até 09/10/2015 | L1: Contrato nº xxxx/2014 Qtde. DT | M1: Contrato nº xxxx/2014 Qtde. DT | N1: Contrato nº xxxx/2014 Qtde. DT | O1: Contrato nº xxxx/2014 Qtde. DT | P1: Contrato nº xxxx/2014 Qtde. DT | Q1: Contrato nº xxxx/2014 Qtde. DT | R1: Contrato nº xxxx/2014 Qtde. DT | S1: Contrato nº xxxx/2014 Qtde. DT | T1: Contrato nº xxxx/2014 Qtde. DT | U1: Contrato nº xxxx/2014 Qtde. DT | V1: Contrato nº xxxx/2014 Qtde. DT | W1: Contrato nº xxxx/2014 Qtde. DT
A2: CENTRO PARTICIPANTE: CEAD
A3: FORNECEDOR | B3: LOTE | C3: ITEM | D3: PRODUTO - CARACTERÍSTICAS MÍNIMAS | E3: ELEMENTO | F3: Entrega (Dias) | G3: Pagto. (Dias) | H3: Preço UNITÁRIO (R$) | I3: Qtde LICITADA | J3: Saldo / Automático | K3: ALERTA | L3: ...../...../...... | M3: ...../...../...... | N3: ...../...../...... | O3: ...../...../...... | P3: ...../...../...... | Q3: ...../...../...... | R3: ...../...../...... | S3: ...../...../...... | T3: ...../...../...... | U3: ...../...../...... | V3: ...../...../...... | W3: ...../...../......
A4: DIGITALNET BRASIL SISTEMAS E COL LTDA | B4: 1 | C4: 1 | D4: Unidade de Controle Multimídia – MCU (item 4.1 do Termo de Referência) | E4: 44.90.52.33 | F4: 60 | G4: 20 | H4: 263107.23 | J4: =I4-(SUM(L4:W4)) -> 0 | K4: =IF(J4<0,"ATENÇÃO","OK") -> OK | L4: 0 | M4: 0 | N4: 0 | O4: 0 | P4: 0 | Q4: 0 | R4: 0 | S4: 0 | T4: 0 | U4: 0 | V4: 0 | W4: 0
C5: 2 | D5: Terminal de Videoconferência (item 4.2 do Termo de Referência) | E5: 44.90.52.33 | F5: 60 | G5: 20 | H5: 18553.09 | I5: 6 | J5: =I5-(SUM(L5:W5)) -> 6 | K5: =IF(J5<0,"ATENÇÃO","OK") -> OK | L5: 0 | M5: 0 | N5: 0 | O5: 0 | P5: 0 | Q5: 0 | R5: 0 | S5: 0 | T5: 0 | U5: 0 | V5: 0 | W5: 0
C6: 3 | D6: Travessia de Firewall (item 4.3 do Termo de Referência) | E6: 44.90.52.33 | F6: 60 | G6: 20 | H6: 31760.19 | J6: =I6-(SUM(L6:W6)) -> 0 | K6: =IF(J6<0,"ATENÇÃO","OK") -> OK | L6: 0 | M6: 0 | N6: 0 | O6: 0 | P6: 0 | Q6: 0 | R6: 0 | S6: 0 | T6: 0 | U6: 0 | V6: 0 | W6: 0
C7: 4 | D7: Sistema de Controle de Chamadas e Plataforma de Gerência (item 4.4 do Termo de Referência) | E7: 44.90.52.33 | F7: 60 | G7: 20 | H7: 47134 | J7: =I7-(SUM(L7:W7)) -> 0 | K7: =IF(J7<0,"ATENÇÃO","OK") -> OK | L7: 0 | M7: 0 | N7: 0 | O7: 0 | P7: 0 | Q7: 0 | R7: 0 | S7: 0 | T7: 0 | U7: 0 | V7: 0 | W7: 0
C8: 5 | D8: Gravação de Vídeo Digital (item 4.5 do Termo de Referência) | E8: 44.90.52.33 | F8: 60 | G8: 20 | H8: 49990.82 | J8: =I8-(SUM(L8:W8)) -> 0 | K8: =IF(J8<0,"ATENÇÃO","OK") -> OK | L8: 0 | M8: 0 | N8: 0 | O8: 0 | P8: 0 | Q8: 0 | R8: 0 | S8: 0 | T8: 0 | U8: 0 | V8: 0 | W8: 0
C9: 6 | D9: Suporte para Endpoint Microfone e Controle Remoto (item 4.8 do Termo de Referência) | E9: 44.90.52.33 | F9: 60 | G9: 20 | H9: 407 | I9: 6 | J9: =I9-(SUM(L9:W9)) -> 6 | K9: =IF(J9<0,"ATENÇÃO","OK") -> OK | L9: 0 | M9: 0 | N9: 0 | O9: 0 | P9: 0 | Q9: 0 | R9: 0 | S9: 0 | T9: 0 | U9: 0 | V9: 0 | W9: 0
C10: 7 | D10: Rack para Videoconferência Sala Reunião (item 4.9 do Termo de Referência) | E10: 44.90.52.42 | F10: 60 | G10: 20 | H10: 2184 | I10: 6 | J10: =I10-(SUM(L10:W10)) -> 6 | K10: =IF(J10<0,"ATENÇÃO","OK") -> OK | L10: 0 | M10: 0 | N10: 0 | O10: 0 | P10: 0 | Q10: 0 | R10: 0 | S10: 0 | T10: 0 | U10: 0 | V10: 0 | W10: 0
C11: 8 | D11: Rack 42u para o Datacenter da SETIC/UDESC (item 4.10 do Termo de Referência) | E11: 44.90.52.42 | F11: 60 | G11: 20 | H11: 4324 | J11: =I11-(SUM(L11:W11)) -> 0 | K11: =IF(J11<0,"ATENÇÃO","OK") -> OK | L11: 0 | M11: 0 | N11: 0 | O11: 0 | P11: 0 | Q11: 0 | R11: 0 | S11: 0 | T11: 0 | U11: 0 | V11: 0 | W11: 0
C12: 9 | D12: Treinamento (item 16 do Termo de Referência) | E12: 33.90.39.48 | F12: 60 | G12: 20 | H12: 8000 | J12: =I12-(SUM(L12:W12)) -> 0 | K12: =IF(J12<0,"ATENÇÃO","OK") -> OK | L12: 0 | M12: 0 | N12: 0 | O12: 0 | P12: 0 | Q12: 0 | R12: 0 | S12: 0 | T12: 0 | U12: 0 | V12: 0 | W12: 0
C13: 10 | D13: Instalação de Unidade de Controle Multimídia – MCU (item 4.1 do Termo de Referência) | E13: 33.90.39.25 | F13: 60 | G13: 20 | H13: 3000 | J13: =I13-(SUM(L13:W13)) -> 0 | K13: =IF(J13<0,"ATENÇÃO","OK") -> OK | L13: 0 | M13: 0 | N13: 0 | O13: 0 | P13: 0 | Q13: 0 | R13: 0 | S13: 0 | T13: 0 | U13: 0 | V13: 0 | W13: 0
C14: 11 | D14: Instalação de Travessia de Firewall (item 4.3 do Termo de Referência) | E14: 33.90.39.25 | F14: 60 | G14: 20 | H14: 3000 | J14: =I14-(SUM(L14:W14)) -> 0 | K14: =IF(J14<0,"ATENÇÃO","OK") -> OK | L14: 0 | M14: 0 | N14: 0 | O14: 0 | P14: 0 | Q14: 0 | R14: 0 | S14: 0 | T14: 0 | U14: 0 | V14: 0 | W14: 0
C15: 12 | D15: Instalação de Sistema de Controle de Chamadas e Plataforma de Gerência (item 4.4 do Termo de Referência) | E15: 33.90.39.25 | F15: 60 | G15: 20 | H15: 3047.5 | J15: =I15-(SUM(L15:W15)) -> 0 | K15: =IF(J15<0,"ATENÇÃO","OK") -> OK | L15: 0 | M15: 0 | N15: 0 | O15: 0 | P15: 0 | Q15: 0 | R15: 0 | S15: 0 | T15: 0 | U15: 0 | V15: 0 | W15: 0
C16: 13 | D16: Instalação de Gravação de Vídeo Digital (item 4.5 do Termo de Referência) | E16: 33.90.39.25 | F16: 60 | G16: 20 | H16: 3000 | J16: =I16-(SUM(L16:W16)) -> 0 | K16: =IF(J16<0,"ATENÇÃO","OK") -> OK | L16: 0 | M16: 0 | N16: 0 | O16: 0 | P16: 0 | Q16: 0 | R16: 0 | S16: 0 | T16: 0 | U16: 0 | V16: 0 | W16: 0
C17: 14 | D17: Instalação de Rack 42u para o Datacenter da SETIC/UDESC (item 4.10 do Termo de Referência) | E17: 33.90.39.25 | F17: 60 | G17: 20 | H17: 933 | J17: =I17-(SUM(L17:W17)) -> 0 | K17: =IF(J17<0,"ATENÇÃO","OK") -> OK | L17: 0 | M17: 0 | N17: 0 | O17: 0 | P17: 0 | Q17: 0 | R17: 0 | S17: 0 | T17: 0 | U17: 0 | V17: 0 | W17: 0
A18: COMP1 INFORMÁTICA LTDA EPP | B18: 2 | C18: 15 | D18: TV LED (item 4.6 do Termo de Referência) | E18: 44.90.52.33 | F18: 60 | G18: 20 | H18: 3335 | I18: 12 | J18: =I18-(SUM(L18:W18)) -> 12 | K18: =IF(J18<0,"ATENÇÃO","OK") -> OK | L18: 0 | M18: 0 | N18: 0 | O18: 0 | P18: 0 | Q18: 0 | R18: 0 | S18: 0 | T18: 0 | U18: 0 | V18: 0 | W18: 0
C19: 16 | D19: Suporte para TV de LED de No Mínimo 50” (item 4.7 do Termo de Referência) | E19: 44.90.52.33 | F19: 60 | G19: 20 | H19: 350 | I19: 12 | J19: =I19-(SUM(L19:W19)) -> 12 | K19: =IF(J19<0,"ATENÇÃO","OK") -> OK | L19: 0 | M19: 0 | N19: 0 | O19: 0 | P19: 0 | Q19: 0 | R19: 0 | S19: 0 | T19: 0 | U19: 0 | V19: 0 | W19: 0
C21: *Marca e Modelo conforme proposta readequada

Sheet CEFID
A1: PROCESSO: 1023/2014/UDESC | D1: OBJETO: AQUISIÇÃO DE SOLUÇÃO (EQUIPAMENTOS) EM VIDEOCONFERÊNCIA PARA A UDESC | I1: VIGÊNCIA DA ATA: 10/10/2014 até 09/10/2015 | L1: Contrato nº xxxx/2014 Qtde. DT | M1: Contrato nº xxxx/2014 Qtde. DT | N1: Contrato nº xxxx/2014 Qtde. DT | O1: Contrato nº xxxx/2014 Qtde. DT | P1: Contrato nº xxxx/2014 Qtde. DT | Q1: Contrato nº xxxx/2014 Qtde. DT | R1: Contrato nº xxxx/2014 Qtde. DT | S1: Contrato nº xxxx/2014 Qtde. DT | T1: Contrato nº xxxx/2014 Qtde. DT | U1: Contrato nº xxxx/2014 Qtde. DT | V1: Contrato nº xxxx/2014 Qtde. DT | W1: Contrato nº xxxx/2014 Qtde. DT
A2: CENTRO PARTICIPANTE: CEFID
A3: FORNECEDOR | B3: LOTE | C3: ITEM | D3: PRODUTO - CARACTERÍSTICAS MÍNIMAS | E3: ELEMENTO | F3: Entrega (Dias) | G3: Pagto. (Dias) | H3: Preço UNITÁRIO (R$) | I3: Qtde LICITADA | J3: Saldo / Automático | K3: ALERTA | L3: ...../...../...... | M3: ...../...../...... | N3: ...../...../...... | O3: ...../...../...... | P3: ...../...../...... | Q3: ...../...../...... | R3: ...../...../...... | S3: ...../...../...... | T3: ...../...../...... | U3: ...../...../...... | V3: ...../...../...... | W3: ...../...../......
A4: DIGITALNET BRASIL SISTEMAS E COL LTDA | B4: 1 | C4: 1 | D4: Unidade de Controle Multimídia – MCU (item 4.1 do Termo de Referência) | E4: 44.90.52.33 | F4: 60 | G4: 20 | H4: 263107.23 | J4: =I4-(SUM(L4:W4)) -> 0 | K4: =IF(J4<0,"ATENÇÃO","OK") -> OK | L4: 0 | M4: 0 | N4: 0 | O4: 0 | P4: 0 | Q4: 0 | R4: 0 | S4: 0 | T4: 0 | U4: 0 | V4: 0 | W4: 0
C5: 2 | D5: Terminal de Videoconferência (item 4.2 do Termo de Referência) | E5: 44.90.52.33 | F5: 60 | G5: 20 | H5: 18553.09 | I5: 1 | J5: =I5-(SUM(L5:W5)) -> 1 | K5: =IF(J5<0,"ATENÇÃO","OK") -> OK | L5: 0 | M5: 0 | N5: 0 | O5: 0 | P5: 0 | Q5: 0 | R5: 0 | S5: 0 | T5: 0 | U5: 0 | V5: 0 | W5: 0
C6: 3 | D6: Travessia de Firewall (item 4.3 do Termo de Referência) | E6: 44.90.52.33 | F6: 60 | G6: 20 | H6: 31760.19 | J6: =I6-(SUM(L6:W6)) -> 0 | K6: =IF(J6<0,"ATENÇÃO","OK") -> OK | L6: 0 | M6: 0 | N6: 0 | O6: 0 | P6: 0 | Q6: 0 | R6: 0 | S6: 0 | T6: 0 | U6: 0 | V6: 0 | W6: 0
C7: 4 | D7: Sistema de Controle de Chamadas e Plataforma de Gerência (item 4.4 do Termo de Referência) | E7: 44.90.52.33 | F7: 60 | G7: 20 | H7: 47134 | J7: =I7-(SUM(L7:W7)) -> 0 | K7: =IF(J7<0,"ATENÇÃO","OK") -> OK | L7: 0 | M7: 0 | N7: 0 | O7: 0 | P7: 0 | Q7: 0 | R7: 0 | S7: 0 | T7: 0 | U7: 0 | V7: 0 | W7: 0
C8: 5 | D8: Gravação de Vídeo Digital (item 4.5 do Termo de Referência) | E8: 44.90.52.33 | F8: 60 | G8: 20 | H8: 49990.82 | J8: =I8-(SUM(L8:W8)) -> 0 | K8: =IF(J8<0,"ATENÇÃO","OK") -> OK | L8: 0 | M8: 0 | N8: 0 | O8: 0 | P8: 0 | Q8: 0 | R8: 0 | S8: 0 | T8: 0 | U8: 0 | V8: 0 | W8: 0
C9: 6 | D9: Suporte para Endpoint Microfone e Controle Remoto (item 4.8 do Termo de Referência) | E9: 44.90.52.33 | F9: 60 | G9: 20 | H9: 407 | I9: 1 | J9: =I9-(SUM(L9:W9)) -> 1 | K9: =IF(J9<0,"ATENÇÃO","OK") -> OK | L9: 0 | M9: 0 | N9: 0 | O9: 0 | P9: 0 | Q9: 0 | R9: 0 | S9: 0 | T9: 0 | U9: 0 | V9: 0 | W9: 0
C10: 7 | D10: Rack para Videoconferência Sala Reunião (item 4.9 do Termo de Referência) | E10: 44.90.52.42 | F10: 60 | G10: 20 | H10: 2184 | I10: 1 | J10: =I10-(SUM(L10:W10)) -> 1 | K10: =IF(J10<0,"ATENÇÃO","OK") -> OK | L10: 0 | M10: 0 | N10: 0 | O10: 0 | P10: 0 | Q10: 0 | R10: 0 | S10: 0 | T10: 0 | U10: 0 | V10: 0 | W10: 0
C11: 8 | D11: Rack 42u para o Datacenter da SETIC/UDESC (item 4.10 do Termo de Referência) | E11: 44.90.52.42 | F11: 60 | G11: 20 | H11: 4324 | J11: =I11-(SUM(L11:W11)) -> 0 | K11: =IF(J11<0,"ATENÇÃO","OK") -> OK | L11: 0 | M11: 0 | N11: 0 | O11: 0 | P11: 0 | Q11: 0 | R11: 0 | S11: 0 | T11: 0 | U11: 0 | V11: 0 | W11: 0
C12: 9 | D12: Treinamento (item 16 do Termo de Referência) | E12: 33.90.39.48 | F12: 60 | G12: 20 | H12: 8000 | J12: =I12-(SUM(L12:W12)) -> 0 | K12: =IF(J12<0,"ATENÇÃO","OK") -> OK | L12: 0 | M12: 0 | N12: 0 | O12: 0 | P12: 0 | Q12: 0 | R12: 0 | S12: 0 | T12: 0 | U12: 0 | V12: 0 | W12: 0
C13: 10 | D13: Instalação de Unidade de Controle Multimídia – MCU (item 4.1 do Termo de Referência) | E13: 33.90.39.25 | F13: 60 | G13: 20 | H13: 3000 | J13: =I13-(SUM(L13:W13)) -> 0 | K13: =IF(J13<0,"ATENÇÃO","OK") -> OK | L13: 0 | M13: 0 | N13: 0 | O13: 0 | P13: 0 | Q13: 0 | R13: 0 | S13: 0 | T13: 0 | U13: 0 | V13: 0 | W13: 0
C14: 11 | D14: Instalação de Travessia de Firewall (item 4.3 do Termo de Referência) | E14: 33.90.39.25 | F14: 60 | G14: 20 | H14: 3000 | J14: =I14-(SUM(L14:W14)) -> 0 | K14: =IF(J14<0,"ATENÇÃO","OK") -> OK | L14: 0 | M14: 0 | N14: 0 | O14: 0 | P14: 0 | Q14: 0 | R14: 0 | S14: 0 | T14: 0 | U14: 0 | V14: 0 | W14: 0
C15: 12 | D15: Instalação de Sistema de Controle de Chamadas e Plataforma de Gerência (item 4.4 do Termo de Referência) | E15: 33.90.39.25 | F15: 60 | G15: 20 | H15: 3047.5 | J15: =I15-(SUM(L15:W15)) -> 0 | K15: =IF(J15<0,"ATENÇÃO","OK") -> OK | L15: 0 | M15: 0 | N15: 0 | O15: 0 | P15: 0 | Q15: 0 | R15: 0 | S15: 0 | T15: 0 | U15: 0 | V15: 0 | W15: 0
C16: 13 | D16: Instalação de Gravação de Vídeo Digital (item 4.5 do Termo de Referência) | E16: 33.90.39.25 | F16: 60 | G16: 20 | H16: 3000 | J16: =I16-(SUM(L16:W16)) -> 0 | K16: =IF(J16<0,"ATENÇÃO","OK") -> OK | L16: 0 | M16: 0 | N16: 0 | O16: 0 | P16: 0 | Q16: 0 | R16: 0 | S16: 0 | T16: 0 | U16: 0 | V16: 0 | W16: 0
C17: 14 | D17: Instalação de Rack 42u para o Datacenter da SETIC/UDESC (item 4.10 do Termo de Referência) | E17: 33.90.39.25 | F17: 60 | G17: 20 | H17: 933 | J17: =I17-(SUM(L17:W17)) -> 0 | K17: =IF(J17<0,"ATENÇÃO","OK") -> OK | L17: 0 | M17: 0 | N17: 0 | O17: 0 | P17: 0 | Q17: 0 | R17: 0 | S17: 0 | T17: 0 | U17: 0 | V17: 0 | W17: 0
A18: COMP1 INFORMÁTICA LTDA EPP | B18: 2 | C18: 15 | D18: TV LED (item 4.6 do Termo de Referência) | E18: 44.90.52.33 | F18: 60 | G18: 20 | H18: 3335 | I18: 2 | J18: =I18-(SUM(L18:W18)) -> 2 | K18: =IF(J18<0,"ATENÇÃO","OK") -> OK | L18: 0 | M18: 0 | N18: 0 | O18: 0 | P18: 0 | Q18: 0 | R18: 0 | S18: 0 | T18: 0 | U18: 0 | V18: 0 | W18: 0
C19: 16 | D19: Suporte para TV de LED de No Mínimo 50” (item 4.7 do Termo de Referência) | E19: 44.90.52.33 | F19: 60 | G19: 20 | H19: 350 | I19: 2 | J19: =I19-(SUM(L19:W19)) -> 2 | K19: =IF(J19<0,"ATENÇÃO","OK") -> OK | L19: 0 | M19: 0 | N19: 0 | O19: 0 | P19: 0 | Q19: 0 | R19: 0 | S19: 0 | T19: 0 | U19: 0 | V19: 0 | W19: 0
C21: *Marca e Modelo conforme proposta readequada

Sheet CERES
A1: PROCESSO: 1023/2014/UDESC | D1: OBJETO: AQUISIÇÃO DE SOLUÇÃO (EQUIPAMENTOS) EM VIDEOCONFERÊNCIA PARA A UDESC | I1: VIGÊNCIA DA ATA: 10/10/2014 até 09/10/2015 | L1: Contrato nº xxxx/2014 Qtde. DT | M1: Contrato nº xxxx/2014 Qtde. DT | N1: Contrato nº xxxx/2014 Qtde. DT | O1: Contrato nº xxxx/2014 Qtde. DT | P1: Contrato nº xxxx/2014 Qtde. DT | Q1: Contrato nº xxxx/2014 Qtde. DT | R1: Contrato nº xxxx/2014 Qtde. DT | S1: Contrato nº xxxx/2014 Qtde. DT | T1: Contrato nº xxxx/2014 Qtde. DT | U1: Contrato nº xxxx/2014 Qtde. DT | V1: Contrato nº xxxx/2014 Qtde. DT | W1: Contrato nº xxxx/2014 Qtde. DT
A2: CENTRO PARTICIPANTE: CERES
A3: FORNECEDOR | B3: LOTE | C3: ITEM | D3: PRODUTO - CARACTERÍSTICAS MÍNIMAS | E3: ELEMENTO | F3: Entrega (Dias) | G3: Pagto. (Dias) | H3: Preço UNITÁRIO (R$) | I3: Qtde LICITADA | J3: Saldo / Automático | K3: ALERTA | L3: ...../...../...... | M3: ...../...../...... | N3: ...../...../...... | O3: ...../...../...... | P3: ...../...../...... | Q3: ...../...../...... | R3: ...../...../...... | S3: ...../...../...... | T3: ...../...../...... | U3: ...../...../...... | V3: ...../...../...... | W3: ...../...../......
A4: DIGITALNET BRASIL SISTEMAS E COL LTDA | B4: 1 | C4: 1 | D4: Unidade de Controle Multimídia – MCU (item 4.1 do Termo de Referência) | E4: 44.90.52.33 | F4: 60 | G4: 20 | H4: 263107.23 | J4: =I4-(SUM(L4:W4)) -> 0 | K4: =IF(J4<0,"ATENÇÃO","OK") -> OK | L4: 0 | M4: 0 | N4: 0 | O4: 0 | P4: 0 | Q4: 0 | R4: 0 | S4: 0 | T4: 0 | U4: 0 | V4: 0 | W4: 0
C5: 2 | D5: Terminal de Videoconferência (item 4.2 do Termo de Referência) | E5: 44.90.52.33 | F5: 60 | G5: 20 | H5: 18553.09 | I5: 1 | J5: =I5-(SUM(L5:W5)) -> 1 | K5: =IF(J5<0,"ATENÇÃO","OK") -> OK | L5: 0 | M5: 0 | N5: 0 | O5: 0 | P5: 0 | Q5: 0 | R5: 0 | S5: 0 | T5: 0 | U5: 0 | V5: 0 | W5: 0
C6: 3 | D6: Travessia de Firewall (item 4.3 do Termo de Referência) | E6: 44.90.52.33 | F6: 60 | G6: 20 | H6: 31760.19 | J6: =I6-(SUM(L6:W6)) -> 0 | K6: =IF(J6<0,"ATENÇÃO","OK") -> OK | L6: 0 | M6: 0 | N6: 0 | O6: 0 | P6: 0 | Q6: 0 | R6: 0 | S6: 0 | T6: 0 | U6: 0 | V6: 0 | W6: 0
C7: 4 | D7: Sistema de Controle de Chamadas e Plataforma de Gerência (item 4.4 do Termo de Referência) | E7: 44.90.52.33 | F7: 60 | G7: 20 | H7: 47134 | J7: =I7-(SUM(L7:W7)) -> 0 | K7: =IF(J7<0,"ATENÇÃO","OK") -> OK | L7: 0 | M7: 0 | N7: 0 | O7: 0 | P7: 0 | Q7: 0 | R7: 0 | S7: 0 | T7: 0 | U7: 0 | V7: 0 | W7: 0
C8: 5 | D8: Gravação de Vídeo Digital (item 4.5 do Termo de Referência) | E8: 44.90.52.33 | F8: 60 | G8: 20 | H8: 49990.82 | J8: =I8-(SUM(L8:W8)) -> 0 | K8: =IF(J8<0,"ATENÇÃO","OK") -> OK | L8: 0 | M8: 0 | N8: 0 | O8: 0 | P8: 0 | Q8: 0 | R8: 0 | S8: 0 | T8: 0 | U8: 0 | V8: 0 | W8: 0
C9: 6 | D9: Suporte para Endpoint Microfone e Controle Remoto (item 4.8 do Termo de Referência) | E9: 44.90.52.33 | F9: 60 | G9: 20 | H9: 407 | I9: 1 | J9: =I9-(SUM(L9:W9)) -> 1 | K9: =IF(J9<0,"ATENÇÃO","OK") -> OK | L9: 0 | M9: 0 | N9: 0 | O9: 0 | P9: 0 | Q9: 0 | R9: 0 | S9: 0 | T9: 0 | U9: 0 | V9: 0 | W9: 0
C10: 7 | D10: Rack para Videoconferência Sala Reunião (item 4.9 do Termo de Referência) | E10: 44.90.52.42 | F10: 60 | G10: 20 | H10: 2184 | I10: 1 | J10: =I10-(SUM(L10:W10)) -> 1 | K10: =IF(J10<0,"ATENÇÃO","OK") -> OK | L10: 0 | M10: 0 | N10: 0 | O10: 0 | P10: 0 | Q10: 0 | R10: 0 | S10: 0 | T10: 0 | U10: 0 | V10: 0 | W10: 0
C11: 8 | D11: Rack 42u para o Datacenter da SETIC/UDESC (item 4.10 do Termo de Referência) | E11: 44.90.52.42 | F11: 60 | G11: 20 | H11: 4324 | J11: =I11-(SUM(L11:W11)) -> 0 | K11: =IF(J11<0,"ATENÇÃO","OK") -> OK | L11: 0 | M11: 0 | N11: 0 | O11: 0 | P11: 0 | Q11: 0 | R11: 0 | S11: 0 | T11: 0 | U11: 0 | V11: 0 | W11: 0
C12: 9 | D12: Treinamento (item 16 do Termo de Referência) | E12: 33.90.39.48 | F12: 60 | G12: 20 | H12: 8000 | J12: =I12-(SUM(L12:W12)) -> 0 | K12: =IF(J12<0,"ATENÇÃO","OK") -> OK | L12: 0 | M12: 0 | N12: 0 | O12: 0 | P12: 0 | Q12: 0 | R12: 0 | S12: 0 | T12: 0 | U12: 0 | V12: 0 | W12: 0
C13: 10 | D13: Instalação de Unidade de Controle Multimídia – MCU (item 4.1 do Termo de Referência) | E13: 33.90.39.25 | F13: 60 | G13: 20 | H13: 3000 | J13: =I13-(SUM(L13:W13)) -> 0 | K13: =IF(J13<0,"ATENÇÃO","OK") -> OK | L13: 0 | M13: 0 | N13: 0 | O13: 0 | P13: 0 | Q13: 0 | R13: 0 | S13: 0 | T13: 0 | U13: 0 | V13: 0 | W13: 0
C14: 11 | D14: Instalação de Travessia de Firewall (item 4.3 do Termo de Referência) | E14: 33.90.39.25 | F14: 60 | G14: 20 | H14: 3000 | J14: =I14-(SUM(L14:W14)) -> 0 | K14: =IF(J14<0,"ATENÇÃO","OK") -> OK | L14: 0 | M14: 0 | N14: 0 | O14: 0 | P14: 0 | Q14: 0 | R14: 0 | S14: 0 | T14: 0 | U14: 0 | V14: 0 | W14: 0
C15: 12 | D15: Instalação de Sistema de Controle de Chamadas e Plataforma de Gerência (item 4.4 do Termo de Referência) | E15: 33.90.39.25 | F15: 60 | G15: 20 | H15: 3047.5 | J15: =I15-(SUM(L15:W15)) -> 0 | K15: =IF(J15<0,"ATENÇÃO","OK") -> OK | L15: 0 | M15: 0 | N15: 0 | O15: 0 | P15: 0 | Q15: 0 | R15: 0 | S15: 0 | T15: 0 | U15: 0 | V15: 0 | W15: 0
C16: 13 | D16: Instalação de Gravação de Vídeo Digital (item 4.5 do Termo de Referência) | E16: 33.90.39.25 | F16: 60 | G16: 20 | H16: 3000 | J16: =I16-(SUM(L16:W16)) -> 0 | K16: =IF(J16<0,"ATENÇÃO","OK") -> OK | L16: 0 | M16: 0 | N16: 0 | O16: 0 | P16: 0 | Q16: 0 | R16: 0 | S16: 0 | T16: 0 | U16: 0 | V16: 0 | W16: 0
C17: 14 | D17: Instalação de Rack 42u para o Datacenter da SETIC/UDESC (item 4.10 do Termo de Referência) | E17: 33.90.39.25 | F17: 60 | G17: 20 | H17: 933 | J17: =I17-(SUM(L17:W17)) -> 0 | K17: =IF(J17<0,"ATENÇÃO","OK") -> OK | L17: 0 | M17: 0 | N17: 0 | O17: 0 | P17: 0 | Q17: 0 | R17: 0 | S17: 0 | T17: 0 | U17: 0 | V17: 0 | W17: 0
A18: COMP1 INFORMÁTICA LTDA EPP | B18: 2 | C18: 15 | D18: TV LED (item 4.6 do Termo de Referência) | E18: 44.90.52.33 | F18: 60 | G18: 20 | H18: 3335 | I18: 2 | J18: =I18-(SUM(L18:W18)) -> 2 | K18: =IF(J18<0,"ATENÇÃO","OK") -> OK | L18: 0 | M18: 0 | N18: 0 | O18: 0 | P18: 0 | Q18: 0 | R18: 0 | S18: 0 | T18: 0 | U18: 0 | V18: 0 | W18: 0
C19: 16 | D19: Suporte para TV de LED de No Mínimo 50” (item 4.7 do Termo de Referência) | E19: 44.90.52.33 | F19: 60 | G19: 20 | H19: 350 | I19: 2 | J19: =I19-(SUM(L19:W19)) -> 2 | K19: =IF(J19<0,"ATENÇÃO","OK") -> OK | L19: 0 | M19: 0 | N19: 0 | O19: 0 | P19: 0 | Q19: 0 | R19: 0 | S19: 0 | T19: 0 | U19: 0 | V19: 0 | W19: 0
C21: *Marca e Modelo conforme proposta readequada

Sheet CESFI
A1: PROCESSO: 1023/2014/UDESC | D1: OBJETO: AQUISIÇÃO DE SOLUÇÃO (EQUIPAMENTOS) EM VIDEOCONFERÊNCIA PARA A UDESC | I1: VIGÊNCIA DA ATA: 10/10/2014 até 09/10/2015 | L1: Contrato nº xxxx/2014 Qtde. DT | M1: Contrato nº xxxx/2014 Qtde. DT | N1: Contrato nº xxxx/2014 Qtde. DT | O1: Contrato nº xxxx/2014 Qtde. DT | P1: Contrato nº xxxx/2014 Qtde. DT | Q1: Contrato nº xxxx/2014 Qtde. DT | R1: Contrato nº xxxx/2014 Qtde. DT | S1: Contrato nº xxxx/2014 Qtde. DT | T1: Contrato nº xxxx/2014 Qtde. DT | U1: Contrato nº xxxx/2014 Qtde. DT | V1: Contrato nº xxxx/2014 Qtde. DT | W1: Contrato nº xxxx/2014 Qtde. DT
A2: CENTRO PARTICIPANTE: CESFI
A3: FORNECEDOR | B3: LOTE | C3: ITEM | D3: PRODUTO - CARACTERÍSTICAS MÍNIMAS | E3: ELEMENTO | F3: Entrega (Dias) | G3: Pagto. (Dias) | H3: Preço UNITÁRIO (R$) | I3: Qtde LICITADA | J3: Saldo / Automático | K3: ALERTA | L3: ...../...../...... | M3: ...../...../...... | N3: ...../...../...... | O3: ...../...../...... | P3: ...../...../...... | Q3: ...../...../...... | R3: ...../...../...... | S3: ...../...../...... | T3: ...../...../...... | U3: ...../...../...... | V3: ...../...../...... | W3: ...../...../......
A4: DIGITALNET BRASIL SISTEMAS E COL LTDA | B4: 1 | C4: 1 | D4: Unidade de Controle Multimídia – MCU (item 4.1 do Termo de Referência) | E4: 44.90.52.33 | F4: 60 | G4: 20 | H4: 263107.23 | J4: =I4-(SUM(L4:W4)) -> 0 | K4: =IF(J4<0,"ATENÇÃO","OK") -> OK | L4: 0 | M4: 0 | N4: 0 | O4: 0 | P4: 0 | Q4: 0 | R4: 0 | S4: 0 | T4: 0 | U4: 0 | V4: 0 | W4: 0
C5: 2 | D5: Terminal de Videoconferência (item 4.2 do Termo de Referência) | E5: 44.90.52.33 | F5: 60 | G5: 20 | H5: 18553.09 | I5: 1 | J5: =I5-(SUM(L5:W5)) -> 1 | K5: =IF(J5<0,"ATENÇÃO","OK") -> OK | L5: 0 | M5: 0 | N5: 0 | O5: 0 | P5: 0 | Q5: 0 | R5: 0 | S5: 0 | T5: 0 | U5: 0 | V5: 0 | W5: 0
C6: 3 | D6: Travessia de Firewall (item 4.3 do Termo de Referência) | E6: 44.90.52.33 | F6: 60 | G6: 20 | H6: 31760.19 | J6: =I6-(SUM(L6:W6)) -> 0 | K6: =IF(J6<0,"ATENÇÃO","OK") -> OK | L6: 0 | M6: 0 | N6: 0 | O6: 0 | P6: 0 | Q6: 0 | R6: 0 | S6: 0 | T6: 0 | U6: 0 | V6: 0 | W6: 0
C7: 4 | D7: Sistema de Controle de Chamadas e Plataforma de Gerência (item 4.4 do Termo de Referência) | E7: 44.90.52.33 | F7: 60 | G7: 20 | H7: 47134 | J7: =I7-(SUM(L7:W7)) -> 0 | K7: =IF(J7<0,"ATENÇÃO","OK") -> OK | L7: 0 | M7: 0 | N7: 0 | O7: 0 | P7: 0 | Q7: 0 | R7: 0 | S7: 0 | T7: 0 | U7: 0 | V7: 0 | W7: 0
C8: 5 | D8: Gravação de Vídeo Digital (item 4.5 do Termo de Referência) | E8: 44.90.52.33 | F8: 60 | G8: 20 | H8: 49990.82 | J8: =I8-(SUM(L8:W8)) -> 0 | K8: =IF(J8<0,"ATENÇÃO","OK") -> OK | L8: 0 | M8: 0 | N8: 0 | O8: 0 | P8: 0 | Q8: 0 | R8: 0 | S8: 0 | T8: 0 | U8: 0 | V8: 0 | W8: 0
C9: 6 | D9: Suporte para Endpoint Microfone e Controle Remoto (item 4.8 do Termo de Referência) | E9: 44.90.52.33 | F9: 60 | G9: 20 | H9: 407 | I9: 1 | J9: =I9-(SUM(L9:W9)) -> 1 | K9: =IF(J9<0,"ATENÇÃO","OK") -> OK | L9: 0 | M9: 0 | N9: 0 | O9: 0 | P9: 0 | Q9: 0 | R9: 0 | S9: 0 | T9: 0 | U9: 0 | V9: 0 | W9: 0
C10: 7 | D10: Rack para Videoconferência Sala Reunião (item 4.9 do Termo de Referência) | E10: 44.90.52.42 | F10: 60 | G10: 20 | H10: 2184 | I10: 1 | J10: =I10-(SUM(L10:W10)) -> 1 | K10: =IF(J10<0,"ATENÇÃO","OK") -> OK | L10: 0 | M10: 0 | N10: 0 | O10: 0 | P10: 0 | Q10: 0 | R10: 0 | S10: 0 | T10: 0 | U10: 0 | V10: 0 | W10: 0
C11: 8 | D11: Rack 42u para o Datacenter da SETIC/UDESC (item 4.10 do Termo de Referência) | E11: 44.90.52.42 | F11: 60 | G11: 20 | H11: 4324 | J11: =I11-(SUM(L11:W11)) -> 0 | K11: =IF(J11<0,"ATENÇÃO","OK") -> OK | L11: 0 | M11: 0 | N11: 0 | O11: 0 | P11: 0 | Q11: 0 | R11: 0 | S11: 0 | T11: 0 | U11: 0 | V11: 0 | W11: 0
C12: 9 | D12: Treinamento (item 16 do Termo de Referência) | E12: 33.90.39.48 | F12: 60 | G12: 20 | H12: 8000 | J12: =I12-(SUM(L12:W12)) -> 0 | K12: =IF(J12<0,"ATENÇÃO","OK") -> OK | L12: 0 | M12: 0 | N12: 0 | O12: 0 | P12: 0 | Q12: 0 | R12: 0 | S12: 0 | T12: 0 | U12: 0 | V12: 0 | W12: 0
C13: 10 | D13: Instalação de Unidade de Controle Multimídia – MCU (item 4.1 do Termo de Referência) | E13: 33.90.39.25 | F13: 60 | G13: 20 | H13: 3000 | J13: =I13-(SUM(L13:W13)) -> 0 | K13: =IF(J13<0,"ATENÇÃO","OK") -> OK | L13: 0 | M13: 0 | N13: 0 | O13: 0 | P13: 0 | Q13: 0 | R13: 0 | S13: 0 | T13: 0 | U13: 0 | V13: 0 | W13: 0
C14: 11 | D14: Instalação de Travessia de Firewall (item 4.3 do Termo de Referência) | E14: 33.90.39.25 | F14: 60 | G14: 20 | H14: 3000 | J14: =I14-(SUM(L14:W14)) -> 0 | K14: =IF(J14<0,"ATENÇÃO","OK") -> OK | L14: 0 | M14: 0 | N14: 0 | O14: 0 | P14: 0 | Q14: 0 | R14: 0 | S14: 0 | T14: 0 | U14: 0 | V14: 0 | W14: 0
C15: 12 | D15: Instalação de Sistema de Controle de Chamadas e Plataforma de Gerência (item 4.4 do Termo de Referência) | E15: 33.90.39.25 | F15: 60 | G15: 20 | H15: 3047.5 | J15: =I15-(SUM(L15:W15)) -> 0 | K15: =IF(J15<0,"ATENÇÃO","OK") -> OK | L15: 0 | M15: 0 | N15: 0 | O15: 0 | P15: 0 | Q15: 0 | R15: 0 | S15: 0 | T15: 0 | U15: 0 | V15: 0 | W15: 0
C16: 13 | D16: Instalação de Gravação de Vídeo Digital (item 4.5 do Termo de Referência) | E16: 33.90.39.25 | F16: 60 | G16: 20 | H16: 3000 | J16: =I16-(SUM(L16:W16)) -> 0 | K16: =IF(J16<0,"ATENÇÃO","OK") -> OK | L16: 0 | M16: 0 | N16: 0 | O16: 0 | P16: 0 | Q16: 0 | R16: 0 | S16: 0 | T16: 0 | U16: 0 | V16: 0 | W16: 0
C17: 14 | D17: Instalação de Rack 42u para o Datacenter da SETIC/UDESC (item 4.10 do Termo de Referência) | E17: 33.90.39.25 | F17: 60 | G17: 20 | H17: 933 | J17: =I17-(SUM(L17:W17)) -> 0 | K17: =IF(J17<0,"ATENÇÃO","OK") -> OK | L17: 0 | M17: 0 | N17: 0 | O17: 0 | P17: 0 | Q17: 0 | R17: 0 | S17: 0 | T17: 0 | U17: 0 | V17: 0 | W17: 0
A18: COMP1 INFORMÁTICA LTDA EPP | B18: 2 | C18: 15 | D18: TV LED (item 4.6 do Termo de Referência) | E18: 44.90.52.33 | F18: 60 | G18: 20 | H18: 3335 | I18: 2 | J18: =I18-(SUM(L18:W18)) -> 2 | K18: =IF(J18<0,"ATENÇÃO","OK") -> OK | L18: 0 | M18: 0 | N18: 0 | O18: 0 | P18: 0 | Q18: 0 | R18: 0 | S18: 0 | T18: 0 | U18: 0 | V18: 0 | W18: 0
C19: 16 | D19: Suporte para TV de LED de No Mínimo 50” (item 4.7 do Termo de Referência) | E19: 44.90.52.33 | F19: 60 | G19: 20 | H19: 350 | I19: 2 | J19: =I19-(SUM(L19:W19)) -> 2 | K19: =IF(J19<0,"ATENÇÃO","OK") -> OK | L19: 0 | M19: 0 | N19: 0 | O19: 0 | P19: 0 | Q19: 0 | R19: 0 | S19: 0 | T19: 0 | U19: 0 | V19: 0 | W19: 0
C21: *Marca e Modelo conforme proposta readequada

Sheet CAV
A1: PROCESSO: 1023/2014/UDESC | D1: OBJETO: AQUISIÇÃO DE SOLUÇÃO (EQUIPAMENTOS) EM VIDEOCONFERÊNCIA PARA A UDESC | I1: VIGÊNCIA DA ATA: 10/10/2014 até 09/10/2015 | L1: Contrato nº xxxx/2014 Qtde. DT | M1: Contrato nº xxxx/2014 Qtde. DT | N1: Contrato nº xxxx/2014 Qtde. DT | O1: Contrato nº xxxx/2014 Qtde. DT | P1: Contrato nº xxxx/2014 Qtde. DT | Q1: Contrato nº xxxx/2014 Qtde. DT | R1: Contrato nº xxxx/2014 Qtde. DT | S1: Contrato nº xxxx/2014 Qtde. DT | T1: Contrato nº xxxx/2014 Qtde. DT | U1: Contrato nº xxxx/2014 Qtde. DT | V1: Contrato nº xxxx/2014 Qtde. DT | W1: Contrato nº xxxx/2014 Qtde. DT
A2: CENTRO PARTICIPANTE: CAV
A3: FORNECEDOR | B3: LOTE | C3: ITEM | D3: PRODUTO - CARACTERÍSTICAS MÍNIMAS | E3: ELEMENTO | F3: Entrega (Dias) | G3: Pagto. (Dias) | H3: Preço UNITÁRIO (R$) | I3: Qtde LICITADA | J3: Saldo / Automático | K3: ALERTA | L3: ...../...../...... | M3: ...../...../...... | N3: ...../...../...... | O3: ...../...../...... | P3: ...../...../...... | Q3: ...../...../...... | R3: ...../...../...... | S3: ...../...../...... | T3: ...../...../...... | U3: ...../...../...... | V3: ...../...../...... | W3: ...../...../......
A4: DIGITALNET BRASIL SISTEMAS E COL LTDA | B4: 1 | C4: 1 | D4: Unidade de Controle Multimídia – MCU (item 4.1 do Termo de Referência) | E4: 44.90.52.33 | F4: 60 | G4: 20 | H4: 263107.23 | J4: =I4-(SUM(L4:W4)) -> 0 | K4: =IF(J4<0,"ATENÇÃO","OK") -> OK | L4: 0 | M4: 0 | N4: 0 | O4: 0 | P4: 0 | Q4: 0 | R4: 0 | S4: 0 | T4: 0 | U4: 0 | V4: 0 | W4: 0
C5: 2 | D5: Terminal de Videoconferência (item 4.2 do Termo de Referência) | E5: 44.90.52.33 | F5: 60 | G5: 20 | H5: 18553.09 | I5: 2 | J5: =I5-(SUM(L5:W5)) -> 2 | K5: =IF(J5<0,"ATENÇÃO","OK") -> OK | L5: 0 | M5: 0 | N5: 0 | O5: 0 | P5: 0 | Q5: 0 | R5: 0 | S5: 0 | T5: 0 | U5: 0 | V5: 0 | W5: 0
C6: 3 | D6: Travessia de Firewall (item 4.3 do Termo de Referência) | E6: 44.90.52.33 | F6: 60 | G6: 20 | H6: 31760.19 | J6: =I6-(SUM(L6:W6)) -> 0 | K6: =IF(J6<0,"ATENÇÃO","OK") -> OK | L6: 0 | M6: 0 | N6: 0 | O6: 0 | P6: 0 | Q6: 0 | R6: 0 | S6: 0 | T6: 0 | U6: 0 | V6: 0 | W6: 0
C7: 4 | D7: Sistema de Controle de Chamadas e Plataforma de Gerência (item 4.4 do Termo de Referência) | E7: 44.90.52.33 | F7: 60 | G7: 20 | H7: 47134 | J7: =I7-(SUM(L7:W7)) -> 0 | K7: =IF(J7<0,"ATENÇÃO","OK") -> OK | L7: 0 | M7: 0 | N7: 0 | O7: 0 | P7: 0 | Q7: 0 | R7: 0 | S7: 0 | T7: 0 | U7: 0 | V7: 0 | W7: 0
C8: 5 | D8: Gravação de Vídeo Digital (item 4.5 do Termo de Referência) | E8: 44.90.52.33 | F8: 60 | G8: 20 | H8: 49990.82 | J8: =I8-(SUM(L8:W8)) -> 0 | K8: =IF(J8<0,"ATENÇÃO","OK") -> OK | L8: 0 | M8: 0 | N8: 0 | O8: 0 | P8: 0 | Q8: 0 | R8: 0 | S8: 0 | T8: 0 | U8: 0 | V8: 0 | W8: 0
C9: 6 | D9: Suporte para Endpoint Microfone e Controle Remoto (item 4.8 do Termo de Referência) | E9: 44.90.52.33 | F9: 60 | G9: 20 | H9: 407 | I9: 2 | J9: =I9-(SUM(L9:W9)) -> 2 | K9: =IF(J9<0,"ATENÇÃO","OK") -> OK | L9: 0 | M9: 0 | N9: 0 | O9: 0 | P9: 0 | Q9: 0 | R9: 0 | S9: 0 | T9: 0 | U9: 0 | V9: 0 | W9: 0
C10: 7 | D10: Rack para Videoconferência Sala Reunião (item 4.9 do Termo de Referência) | E10: 44.90.52.42 | F10: 60 | G10: 20 | H10: 2184 | I10: 2 | J10: =I10-(SUM(L10:W10)) -> 2 | K10: =IF(J10<0,"ATENÇÃO","OK") -> OK | L10: 0 | M10: 0 | N10: 0 | O10: 0 | P10: 0 | Q10: 0 | R10: 0 | S10: 0 | T10: 0 | U10: 0 | V10: 0 | W10: 0
C11: 8 | D11: Rack 42u para o Datacenter da SETIC/UDESC (item 4.10 do Termo de Referência) | E11: 44.90.52.42 | F11: 60 | G11: 20 | H11: 4324 | J11: =I11-(SUM(L11:W11)) -> 0 | K11: =IF(J11<0,"ATENÇÃO","OK") -> OK | L11: 0 | M11: 0 | N11: 0 | O11: 0 | P11: 0 | Q11: 0 | R11: 0 | S11: 0 | T11: 0 | U11: 0 | V11: 0 | W11: 0
C12: 9 | D12: Treinamento (item 16 do Termo de Referência) | E12: 33.90.39.48 | F12: 60 | G12: 20 | H12: 8000 | J12: =I12-(SUM(L12:W12)) -> 0 | K12: =IF(J12<0,"ATENÇÃO","OK") -> OK | L12: 0 | M12: 0 | N12: 0 | O12: 0 | P12: 0 | Q12: 0 | R12: 0 | S12: 0 | T12: 0 | U12: 0 | V12: 0 | W12: 0
C13: 10 | D13: Instalação de Unidade de Controle Multimídia – MCU (item 4.1 do Termo de Referência) | E13: 33.90.39.25 | F13: 60 | G13: 20 | H13: 3000 | J13: =I13-(SUM(L13:W13)) -> 0 | K13: =IF(J13<0,"ATENÇÃO","OK") -> OK | L13: 0 | M13: 0 | N13: 0 | O13: 0 | P13: 0 | Q13: 0 | R13: 0 | S13: 0 | T13: 0 | U13: 0 | V13: 0 | W13: 0
C14: 11 | D14: Instalação de Travessia de Firewall (item 4.3 do Termo de Referência) | E14: 33.90.39.25 | F14: 60 | G14: 20 | H14: 3000 | J14: =I14-(SUM(L14:W14)) -> 0 | K14: =IF(J14<0,"ATENÇÃO","OK") -> OK | L14: 0 | M14: 0 | N14: 0 | O14: 0 | P14: 0 | Q14: 0 | R14: 0 | S14: 0 | T14: 0 | U14: 0 | V14: 0 | W14: 0
C15: 12 | D15: Instalação de Sistema de Controle de Chamadas e Plataforma de Gerência (item 4.4 do Termo de Referência) | E15: 33.90.39.25 | F15: 60 | G15: 20 | H15: 3047.5 | J15: =I15-(SUM(L15:W15)) -> 0 | K15: =IF(J15<0,"ATENÇÃO","OK") -> OK | L15: 0 | M15: 0 | N15: 0 | O15: 0 | P15: 0 | Q15: 0 | R15: 0 | S15: 0 | T15: 0 | U15: 0 | V15: 0 | W15: 0
C16: 13 | D16: Instalação de Gravação de Vídeo Digital (item 4.5 do Termo de Referência) | E16: 33.90.39.25 | F16: 60 | G16: 20 | H16: 3000 | J16: =I16-(SUM(L16:W16)) -> 0 | K16: =IF(J16<0,"ATENÇÃO","OK") -> OK | L16: 0 | M16: 0 | N16: 0 | O16: 0 | P16: 0 | Q16: 0 | R16: 0 | S16: 0 | T16: 0 | U16: 0 | V16: 0 | W16: 0
C17: 14 | D17: Instalação de Rack 42u para o Datacenter da SETIC/UDESC (item 4.10 do Termo de Referência) | E17: 33.90.39.25 | F17: 60 | G17: 20 | H17: 933 | J17: =I17-(SUM(L17:W17)) -> 0 | K17: =IF(J17<0,"ATENÇÃO","OK") -> OK | L17: 0 | M17: 0 | N17: 0 | O17: 0 | P17: 0 | Q17: 0 | R17: 0 | S17: 0 | T17: 0 | U17: 0 | V17: 0 | W17: 0
A18: COMP1 INFORMÁTICA LTDA EPP | B18: 2 | C18: 15 | D18: TV LED (item 4.6 do Termo de Referência) | E18: 44.90.52.33 | F18: 60 | G18: 20 | H18: 3335 | I18: 4 | J18: =I18-(SUM(L18:W18)) -> 4 | K18: =IF(J18<0,"ATENÇÃO","OK") -> OK | L18: 0 | M18: 0 | N18: 0 | O18: 0 | P18: 0 | Q18: 0 | R18: 0 | S18: 0 | T18: 0 | U18: 0 | V18: 0 | W18: 0
C19: 16 | D19: Suporte para TV de LED de No Mínimo 50” (item 4.7 do Termo de Referência) | E19: 44.90.52.33 | F19: 60 | G19: 20 | H19: 350 | I19: 4 | J19: =I19-(SUM(L19:W19)) -> 4 | K19: =IF(J19<0,"ATENÇÃO","OK") -> OK | L19: 0 | M19: 0 | N19: 0 | O19: 0 | P19: 0 | Q19: 0 | R19: 0 | S19: 0 | T19: 0 | U19: 0 | V19: 0 | W19: 0
C21: *Marca e Modelo conforme proposta readequada

Sheet CEO
A1: PROCESSO: 1023/2014/UDESC | D1: OBJETO: AQUISIÇÃO DE SOLUÇÃO (EQUIPAMENTOS) EM VIDEOCONFERÊNCIA PARA A UDESC | I1: VIGÊNCIA DA ATA: 10/10/2014 até 09/10/2015 | L1: Contrato nº xxxx/2014 Qtde. DT | M1: Contrato nº xxxx/2014 Qtde. DT | N1: Contrato nº xxxx/2014 Qtde. DT | O1: Contrato nº xxxx/2014 Qtde. DT | P1: Contrato nº xxxx/2014 Qtde. DT | Q1: Contrato nº xxxx/2014 Qtde. DT | R1: Contrato nº xxxx/2014 Qtde. DT | S1: Contrato nº xxxx/2014 Qtde. DT | T1: Contrato nº xxxx/2014 Qtde. DT | U1: Contrato nº xxxx/2014 Qtde. DT | V1: Contrato nº xxxx/2014 Qtde. DT | W1: Contrato nº xxxx/2014 Qtde. DT
A2: CENTRO PARTICIPANTE: CEO
A3: FORNECEDOR | B3: LOTE | C3: ITEM | D3: PRODUTO - CARACTERÍSTICAS MÍNIMAS | E3: ELEMENTO | F3: Entrega (Dias) | G3: Pagto. (Dias) | H3: Preço UNITÁRIO (R$) | I3: Qtde LICITADA | J3: Saldo / Automático | K3: ALERTA | L3: ...../...../...... | M3: ...../...../...... | N3: ...../...../...... | O3: ...../...../...... | P3: ...../...../...... | Q3: ...../...../...... | R3: ...../...../...... | S3: ...../...../...... | T3: ...../...../...... | U3: ...../...../...... | V3: ...../...../...... | W3: ...../...../......
A4: DIGITALNET BRASIL SISTEMAS E COL LTDA | B4: 1 | C4: 1 | D4: Unidade de Controle Multimídia – MCU (item 4.1 do Termo de Referência) | E4: 44.90.52.33 | F4: 60 | G4: 20 | H4: 263107.23 | J4: =I4-(SUM(L4:W4)) -> 0 | K4: =IF(J4<0,"ATENÇÃO","OK") -> OK | L4: 0 | M4: 0 | N4: 0 | O4: 0 | P4: 0 | Q4: 0 | R4: 0 | S4: 0 | T4: 0 | U4: 0 | V4: 0 | W4: 0
C5: 2 | D5: Terminal de Videoconferência (item 4.2 do Termo de Referência) | E5: 44.90.52.33 | F5: 60 | G5: 20 | H5: 18553.09 | I5: 3 | J5: =I5-(SUM(L5:W5)) -> 3 | K5: =IF(J5<0,"ATENÇÃO","OK") -> OK | L5: 0 | M5: 0 | N5: 0 | O5: 0 | P5: 0 | Q5: 0 | R5: 0 | S5: 0 | T5: 0 | U5: 0 | V5: 0 | W5: 0
C6: 3 | D6: Travessia de Firewall (item 4.3 do Termo de Referência) | E6: 44.90.52.33 | F6: 60 | G6: 20 | H6: 31760.19 | J6: =I6-(SUM(L6:W6)) -> 0 | K6: =IF(J6<0,"ATENÇÃO","OK") -> OK | L6: 0 | M6: 0 | N6: 0 | O6: 0 | P6: 0 | Q6: 0 | R6: 0 | S6: 0 | T6: 0 | U6: 0 | V6: 0 | W6: 0
C7: 4 | D7: Sistema de Controle de Chamadas e Plataforma de Gerência (item 4.4 do Termo de Referência) | E7: 44.90.52.33 | F7: 60 | G7: 20 | H7: 47134 | J7: =I7-(SUM(L7:W7)) -> 0 | K7: =IF(J7<0,"ATENÇÃO","OK") -> OK | L7: 0 | M7: 0 | N7: 0 | O7: 0 | P7: 0 | Q7: 0 | R7: 0 | S7: 0 | T7: 0 | U7: 0 | V7: 0 | W7: 0
C8: 5 | D8: Gravação de Vídeo Digital (item 4.5 do Termo de Referência) | E8: 44.90.52.33 | F8: 60 | G8: 20 | H8: 49990.82 | J8: =I8-(SUM(L8:W8)) -> 0 | K8: =IF(J8<0,"ATENÇÃO","OK") -> OK | L8: 0 | M8: 0 | N8: 0 | O8: 0 | P8: 0 | Q8: 0 | R8: 0 | S8: 0 | T8: 0 | U8: 0 | V8: 0 | W8: 0
C9: 6 | D9: Suporte para Endpoint Microfone e Controle Remoto (item 4.8 do Termo de Referência) | E9: 44.90.52.33 | F9: 60 | G9: 20 | H9: 407 | I9: 3 | J9: =I9-(SUM(L9:W9)) -> 3 | K9: =IF(J9<0,"ATENÇÃO","OK") -> OK | L9: 0 | M9: 0 | N9: 0 | O9: 0 | P9: 0 | Q9: 0 | R9: 0 | S9: 0 | T9: 0 | U9: 0 | V9: 0 | W9: 0
C10: 7 | D10: Rack para Videoconferência Sala Reunião (item 4.9 do Termo de Referência) | E10: 44.90.52.42 | F10: 60 | G10: 20 | H10: 2184 | I10: 3 | J10: =I10-(SUM(L10:W10)) -> 3 | K10: =IF(J10<0,"ATENÇÃO","OK") -> OK | L10: 0 | M10: 0 | N10: 0 | O10: 0 | P10: 0 | Q10: 0 | R10: 0 | S10: 0 | T10: 0 | U10: 0 | V10: 0 | W10: 0
C11: 8 | D11: Rack 42u para o Datacenter da SETIC/UDESC (item 4.10 do Termo de Referência) | E11: 44.90.52.42 | F11: 60 | G11: 20 | H11: 4324 | J11: =I11-(SUM(L11:W11)) -> 0 | K11: =IF(J11<0,"ATENÇÃO","OK") -> OK | L11: 0 | M11: 0 | N11: 0 | O11: 0 | P11: 0 | Q11: 0 | R11: 0 | S11: 0 | T11: 0 | U11: 0 | V11: 0 | W11: 0
C12: 9 | D12: Treinamento (item 16 do Termo de Referência) | E12: 33.90.39.48 | F12: 60 | G12: 20 | H12: 8000 | J12: =I12-(SUM(L12:W12)) -> 0 | K12: =IF(J12<0,"ATENÇÃO","OK") -> OK | L12: 0 | M12: 0 | N12: 0 | O12: 0 | P12: 0 | Q12: 0 | R12: 0 | S12: 0 | T12: 0 | U12: 0 | V12: 0 | W12: 0
C13: 10 | D13: Instalação de Unidade de Controle Multimídia – MCU (item 4.1 do Termo de Referência) | E13: 33.90.39.25 | F13: 60 | G13: 20 | H13: 3000 | J13: =I13-(SUM(L13:W13)) -> 0 | K13: =IF(J13<0,"ATENÇÃO","OK") -> OK | L13: 0 | M13: 0 | N13: 0 | O13: 0 | P13: 0 | Q13: 0 | R13: 0 | S13: 0 | T13: 0 | U13: 0 | V13: 0 | W13: 0
C14: 11 | D14: Instalação de Travessia de Firewall (item 4.3 do Termo de Referência) | E14: 33.90.39.25 | F14: 60 | G14: 20 | H14: 3000 | J14: =I14-(SUM(L14:W14)) -> 0 | K14: =IF(J14<0,"ATENÇÃO","OK") -> OK | L14: 0 | M14: 0 | N14: 0 | O14: 0 | P14: 0 | Q14: 0 | R14: 0 | S14: 0 | T14: 0 | U14: 0 | V14: 0 | W14: 0
C15: 12 | D15: Instalação de Sistema de Controle de Chamadas e Plataforma de Gerência (item 4.4 do Termo de Referência) | E15: 33.90.39.25 | F15: 60 | G15: 20 | H15: 3047.5 | J15: =I15-(SUM(L15:W15)) -> 0 | K15: =IF(J15<0,"ATENÇÃO","OK") -> OK | L15: 0 | M15: 0 | N15: 0 | O15: 0 | P15: 0 | Q15: 0 | R15: 0 | S15: 0 | T15: 0 | U15: 0 | V15: 0 | W15: 0
C16: 13 | D16: Instalação de Gravação de Vídeo Digital (item 4.5 do Termo de Referência) | E16: 33.90.39.25 | F16: 60 | G16: 20 | H16: 3000 | J16: =I16-(SUM(L16:W16)) -> 0 | K16: =IF(J16<0,"ATENÇÃO","OK") -> OK | L16: 0 | M16: 0 | N16: 0 | O16: 0 | P16: 0 | Q16: 0 | R16: 0 | S16: 0 | T16: 0 | U16: 0 | V16: 0 | W16: 0
C17: 14 | D17: Instalação de Rack 42u para o Datacenter da SETIC/UDESC (item 4.10 do Termo de Referência) | E17: 33.90.39.25 | F17: 60 | G17: 20 | H17: 933 | J17: =I17-(SUM(L17:W17)) -> 0 | K17: =IF(J17<0,"ATENÇÃO","OK") -> OK | L17: 0 | M17: 0 | N17: 0 | O17: 0 | P17: 0 | Q17: 0 | R17: 0 | S17: 0 | T17: 0 | U17: 0 | V17: 0 | W17: 0
A18: COMP1 INFORMÁTICA LTDA EPP | B18: 2 | C18: 15 | D18: TV LED (item 4.6 do Termo de Referência) | E18: 44.90.52.33 | F18: 60 | G18: 20 | H18: 3335 | I18: 6 | J18: =I18-(SUM(L18:W18)) -> 6 | K18: =IF(J18<0,"ATENÇÃO","OK") -> OK | L18: 0 | M18: 0 | N18: 0 | O18: 0 | P18: 0 | Q18: 0 | R18: 0 | S18: 0 | T18: 0 | U18: 0 | V18: 0 | W18: 0
C19: 16 | D19: Suporte para TV de LED de No Mínimo 50” (item 4.7 do Termo de Referência) | E19: 44.90.52.33 | F19: 60 | G19: 20 | H19: 350 | I19: 6 | J19: =I19-(SUM(L19:W19)) -> 6 | K19: =IF(J19<0,"ATENÇÃO","OK") -> OK | L19: 0 | M19: 0 | N19: 0 | O19: 0 | P19: 0 | Q19: 0 | R19: 0 | S19: 0 | T19: 0 | U19: 0 | V19: 0 | W19: 0
C21: *Marca e Modelo conforme proposta readequada

Sheet CCT
A1: PROCESSO: 1023/2014/UDESC | D1: OBJETO: AQUISIÇÃO DE SOLUÇÃO (EQUIPAMENTOS) EM VIDEOCONFERÊNCIA PARA A UDESC | I1: VIGÊNCIA DA ATA: 10/10/2014 até 09/10/2015 | L1: Contrato nº xxxx/2014 Qtde. DT | M1: Contrato nº xxxx/2014 Qtde. DT | N1: Contrato nº xxxx/2014 Qtde. DT | O1: Contrato nº xxxx/2014 Qtde. DT | P1: Contrato nº xxxx/2014 Qtde. DT | Q1: Contrato nº xxxx/2014 Qtde. DT | R1: Contrato nº xxxx/2014 Qtde. DT | S1: Contrato nº xxxx/2014 Qtde. DT | T1: Contrato nº xxxx/2014 Qtde. DT | U1: Contrato nº xxxx/2014 Qtde. DT | V1: Contrato nº xxxx/2014 Qtde. DT | W1: Contrato nº xxxx/2014 Qtde. DT
A2: CENTRO PARTICIPANTE: CCT
A3: FORNECEDOR | B3: LOTE | C3: ITEM | D3: PRODUTO - CARACTERÍSTICAS MÍNIMAS | E3: ELEMENTO | F3: Entrega (Dias) | G3: Pagto. (Dias) | H3: Preço UNITÁRIO (R$) | I3: Qtde LICITADA | J3: Saldo / Automático | K3: ALERTA | L3: ...../...../...... | M3: ...../...../...... | N3: ...../...../...... | O3: ...../...../...... | P3: ...../...../...... | Q3: ...../...../...... | R3: ...../...../...... | S3: ...../...../...... | T3: ...../...../...... | U3: ...../...../...... | V3: ...../...../...... | W3: ...../...../......
A4: DIGITALNET BRASIL SISTEMAS E COL LTDA | B4: 1 | C4: 1 | D4: Unidade de Controle Multimídia – MCU (item 4.1 do Termo de Referência) | E4: 44.90.52.33 | F4: 60 | G4: 20 | H4: 263107.23 | J4: =I4-(SUM(L4:W4)) -> 0 | K4: =IF(J4<0,"ATENÇÃO","OK") -> OK | L4: 0 | M4: 0 | N4: 0 | O4: 0 | P4: 0 | Q4: 0 | R4: 0 | S4: 0 | T4: 0 | U4: 0 | V4: 0 | W4: 0
C5: 2 | D5: Terminal de Videoconferência (item 4.2 do Termo de Referência) | E5: 44.90.52.33 | F5: 60 | G5: 20 | H5: 18553.09 | I5: 2 | J5: =I5-(SUM(L5:W5)) -> 2 | K5: =IF(J5<0,"ATENÇÃO","OK") -> OK | L5: 0 | M5: 0 | N5: 0 | O5: 0 | P5: 0 | Q5: 0 | R5: 0 | S5: 0 | T5: 0 | U5: 0 | V5: 0 | W5: 0
C6: 3 | D6: Travessia de Firewall (item 4.3 do Termo de Referência) | E6: 44.90.52.33 | F6: 60 | G6: 20 | H6: 31760.19 | J6: =I6-(SUM(L6:W6)) -> 0 | K6: =IF(J6<0,"ATENÇÃO","OK") -> OK | L6: 0 | M6: 0 | N6: 0 | O6: 0 | P6: 0 | Q6: 0 | R6: 0 | S6: 0 | T6: 0 | U6: 0 | V6: 0 | W6: 0
C7: 4 | D7: Sistema de Controle de Chamadas e Plataforma de Gerência (item 4.4 do Termo de Referência) | E7: 44.90.52.33 | F7: 60 | G7: 20 | H7: 47134 | J7: =I7-(SUM(L7:W7)) -> 0 | K7: =IF(J7<0,"ATENÇÃO","OK") -> OK | L7: 0 | M7: 0 | N7: 0 | O7: 0 | P7: 0 | Q7: 0 | R7: 0 | S7: 0 | T7: 0 | U7: 0 | V7: 0 | W7: 0
C8: 5 | D8: Gravação de Vídeo Digital (item 4.5 do Termo de Referência) | E8: 44.90.52.33 | F8: 60 | G8: 20 | H8: 49990.82 | J8: =I8-(SUM(L8:W8)) -> 0 | K8: =IF(J8<0,"ATENÇÃO","OK") -> OK | L8: 0 | M8: 0 | N8: 0 | O8: 0 | P8: 0 | Q8: 0 | R8: 0 | S8: 0 | T8: 0 | U8: 0 | V8: 0 | W8: 0
C9: 6 | D9: Suporte para Endpoint Microfone e Controle Remoto (item 4.8 do Termo de Referência) | E9: 44.90.52.33 | F9: 60 | G9: 20 | H9: 407 | I9: 2 | J9: =I9-(SUM(L9:W9)) -> 2 | K9: =IF(J9<0,"ATENÇÃO","OK") -> OK | L9: 0 | M9: 0 | N9: 0 | O9: 0 | P9: 0 | Q9: 0 | R9: 0 | S9: 0 | T9: 0 | U9: 0 | V9: 0 | W9: 0
C10: 7 | D10: Rack para Videoconferência Sala Reunião (item 4.9 do Termo de Referência) | E10: 44.90.52.42 | F10: 60 | G10: 20 | H10: 2184 | I10: 2 | J10: =I10-(SUM(L10:W10)) -> 2 | K10: =IF(J10<0,"ATENÇÃO","OK") -> OK | L10: 0 | M10: 0 | N10: 0 | O10: 0 | P10: 0 | Q10: 0 | R10: 0 | S10: 0 | T10: 0 | U10: 0 | V10: 0 | W10: 0
C11: 8 | D11: Rack 42u para o Datacenter da SETIC/UDESC (item 4.10 do Termo de Referência) | E11: 44.90.52.42 | F11: 60 | G11: 20 | H11: 4324 | J11: =I11-(SUM(L11:W11)) -> 0 | K11: =IF(J11<0,"ATENÇÃO","OK") -> OK | L11: 0 | M11: 0 | N11: 0 | O11: 0 | P11: 0 | Q11: 0 | R11: 0 | S11: 0 | T11: 0 | U11: 0 | V11: 0 | W11: 0
C12: 9 | D12: Treinamento (item 16 do Termo de Referência) | E12: 33.90.39.48 | F12: 60 | G12: 20 | H12: 8000 | J12: =I12-(SUM(L12:W12)) -> 0 | K12: =IF(J12<0,"ATENÇÃO","OK") -> OK | L12: 0 | M12: 0 | N12: 0 | O12: 0 | P12: 0 | Q12: 0 | R12: 0 | S12: 0 | T12: 0 | U12: 0 | V12: 0 | W12: 0
C13: 10 | D13: Instalação de Unidade de Controle Multimídia – MCU (item 4.1 do Termo de Referência) | E13: 33.90.39.25 | F13: 60 | G13: 20 | H13: 3000 | J13: =I13-(SUM(L13:W13)) -> 0 | K13: =IF(J13<0,"ATENÇÃO","OK") -> OK | L13: 0 | M13: 0 | N13: 0 | O13: 0 | P13: 0 | Q13: 0 | R13: 0 | S13: 0 | T13: 0 | U13: 0 | V13: 0 | W13: 0
C14: 11 | D14: Instalação de Travessia de Firewall (item 4.3 do Termo de Referência) | E14: 33.90.39.25 | F14: 60 | G14: 20 | H14: 3000 | J14: =I14-(SUM(L14:W14)) -> 0 | K14: =IF(J14<0,"ATENÇÃO","OK") -> OK | L14: 0 | M14: 0 | N14: 0 | O14: 0 | P14: 0 | Q14: 0 | R14: 0 | S14: 0 | T14: 0 | U14: 0 | V14: 0 | W14: 0
C15: 12 | D15: Instalação de Sistema de Controle de Chamadas e Plataforma de Gerência (item 4.4 do Termo de Referência) | E15: 33.90.39.25 | F15: 60 | G15: 20 | H15: 3047.5 | J15: =I15-(SUM(L15:W15)) -> 0 | K15: =IF(J15<0,"ATENÇÃO","OK") -> OK | L15: 0 | M15: 0 | N15: 0 | O15: 0 | P15: 0 | Q15: 0 | R15: 0 | S15: 0 | T15: 0 | U15: 0 | V15: 0 | W15: 0
C16: 13 | D16: Instalação de Gravação de Vídeo Digital (item 4.5 do Termo de Referência) | E16: 33.90.39.25 | F16: 60 | G16: 20 | H16: 3000 | J16: =I16-(SUM(L16:W16)) -> 0 | K16: =IF(J16<0,"ATENÇÃO","OK") -> OK | L16: 0 | M16: 0 | N16: 0 | O16: 0 | P16: 0 | Q16: 0 | R16: 0 | S16: 0 | T16: 0 | U16: 0 | V16: 0 | W16: 0
C17: 14 | D17: Instalação de Rack 42u para o Datacenter da SETIC/UDESC (item 4.10 do Termo de Referência) | E17: 33.90.39.25 | F17: 60 | G17: 20 | H17: 933 | J17: =I17-(SUM(L17:W17)) -> 0 | K17: =IF(J17<0,"ATENÇÃO","OK") -> OK | L17: 0 | M17: 0 | N17: 0 | O17: 0 | P17: 0 | Q17: 0 | R17: 0 | S17: 0 | T17: 0 | U17: 0 | V17: 0 | W17: 0
A18: COMP1 INFORMÁTICA LTDA EPP | B18: 2 | C18: 15 | D18: TV LED (item 4.6 do Termo de Referência) | E18: 44.90.52.33 | F18: 60 | G18: 20 | H18: 3335 | I18: 4 | J18: =I18-(SUM(L18:W18)) -> 4 | K18: =IF(J18<0,"ATENÇÃO","OK") -> OK | L18: 0 | M18: 0 | N18: 0 | O18: 0 | P18: 0 | Q18: 0 | R18: 0 | S18: 0 | T18: 0 | U18: 0 | V18: 0 | W18: 0
C19: 16 | D19: Suporte para TV de LED de No Mínimo 50” (item 4.7 do Termo de Referência) | E19: 44.90.52.33 | F19: 60 | G19: 20 | H19: 350 | I19: 4 | J19: =I19-(SUM(L19:W19)) -> 4 | K19: =IF(J19<0,"ATENÇÃO","OK") -> OK | L19: 0 | M19: 0 | N19: 0 | O19: 0 | P19: 0 | Q19: 0 | R19: 0 | S19: 0 | T19: 0 | U19: 0 | V19: 0 | W19: 0
C21: *Marca e Modelo conforme proposta readequada

Sheet CEPLAN
A1: PROCESSO: 1023/2014/UDESC | D1: OBJETO: AQUISIÇÃO DE SOLUÇÃO (EQUIPAMENTOS) EM VIDEOCONFERÊNCIA PARA A UDESC | I1: VIGÊNCIA DA ATA: 10/10/2014 até 09/10/2015 | L1: Contrato nº xxxx/2014 Qtde. DT | M1: Contrato nº xxxx/2014 Qtde. DT | N1: Contrato nº xxxx/2014 Qtde. DT | O1: Contrato nº xxxx/2014 Qtde. DT | P1: Contrato nº xxxx/2014 Qtde. DT | Q1: Contrato nº xxxx/2014 Qtde. DT | R1: Contrato nº xxxx/2014 Qtde. DT | S1: Contrato nº xxxx/2014 Qtde. DT | T1: Contrato nº xxxx/2014 Qtde. DT | U1: Contrato nº xxxx/2014 Qtde. DT | V1: Contrato nº xxxx/2014 Qtde. DT | W1: Contrato nº xxxx/2014 Qtde. DT
A2: CENTRO PARTICIPANTE: CEPLAN
A3: FORNECEDOR | B3: LOTE | C3: ITEM | D3: PRODUTO - CARACTERÍSTICAS MÍNIMAS | E3: ELEMENTO | F3: Entrega (Dias) | G3: Pagto. (Dias) | H3: Preço UNITÁRIO (R$) | I3: Qtde LICITADA | J3: Saldo / Automático | K3: ALERTA | L3: ...../...../...... | M3: ...../...../...... | N3: ...../...../...... | O3: ...../...../...... | P3: ...../...../...... | Q3: ...../...../...... | R3: ...../...../...... | S3: ...../...../...... | T3: ...../...../...... | U3: ...../...../...... | V3: ...../...../...... | W3: ...../...../......
A4: DIGITALNET BRASIL SISTEMAS E COL LTDA | B4: 1 | C4: 1 | D4: Unidade de Controle Multimídia – MCU (item 4.1 do Termo de Referência) | E4: 44.90.52.33 | F4: 60 | G4: 20 | H4: 263107.23 | J4: =I4-(SUM(L4:W4)) -> 0 | K4: =IF(J4<0,"ATENÇÃO","OK") -> OK | L4: 0 | M4: 0 | N4: 0 | O4: 0 | P4: 0 | Q4: 0 | R4: 0 | S4: 0 | T4: 0 | U4: 0 | V4: 0 | W4: 0
C5: 2 | D5: Terminal de Videoconferência (item 4.2 do Termo de Referência) | E5: 44.90.52.33 | F5: 60 | G5: 20 | H5: 18553.09 | I5: 1 | J5: =I5-(SUM(L5:W5)) -> 1 | K5: =IF(J5<0,"ATENÇÃO","OK") -> OK | L5: 0 | M5: 0 | N5: 0 | O5: 0 | P5: 0 | Q5: 0 | R5: 0 | S5: 0 | T5: 0 | U5: 0 | V5: 0 | W5: 0
C6: 3 | D6: Travessia de Firewall (item 4.3 do Termo de Referência) | E6: 44.90.52.33 | F6: 60 | G6: 20 | H6: 31760.19 | J6: =I6-(SUM(L6:W6)) -> 0 | K6: =IF(J6<0,"ATENÇÃO","OK") -> OK | L6: 0 | M6: 0 | N6: 0 | O6: 0 | P6: 0 | Q6: 0 | R6: 0 | S6: 0 | T6: 0 | U6: 0 | V6: 0 | W6: 0
C7: 4 | D7: Sistema de Controle de Chamadas e Plataforma de Gerência (item 4.4 do Termo de Referência) | E7: 44.90.52.33 | F7: 60 | G7: 20 | H7: 47134 | J7: =I7-(SUM(L7:W7)) -> 0 | K7: =IF(J7<0,"ATENÇÃO","OK") -> OK | L7: 0 | M7: 0 | N7: 0 | O7: 0 | P7: 0 | Q7: 0 | R7: 0 | S7: 0 | T7: 0 | U7: 0 | V7: 0 | W7: 0
C8: 5 | D8: Gravação de Vídeo Digital (item 4.5 do Termo de Referência) | E8: 44.90.52.33 | F8: 60 | G8: 20 | H8: 49990.82 | J8: =I8-(SUM(L8:W8)) -> 0 | K8: =IF(J8<0,"ATENÇÃO","OK") -> OK | L8: 0 | M8: 0 | N8: 0 | O8: 0 | P8: 0 | Q8: 0 | R8: 0 | S8: 0 | T8: 0 | U8: 0 | V8: 0 | W8: 0
C9: 6 | D9: Suporte para Endpoint Microfone e Controle Remoto (item 4.8 do Termo de Referência) | E9: 44.90.52.33 | F9: 60 | G9: 20 | H9: 407 | I9: 1 | J9: =I9-(SUM(L9:W9)) -> 1 | K9: =IF(J9<0,"ATENÇÃO","OK") -> OK | L9: 0 | M9: 0 | N9: 0 | O9: 0 | P9: 0 | Q9: 0 | R9: 0 | S9: 0 | T9: 0 | U9: 0 | V9: 0 | W9: 0
C10: 7 | D10: Rack para Videoconferência Sala Reunião (item 4.9 do Termo de Referência) | E10: 44.90.52.42 | F10: 60 | G10: 20 | H10: 2184 | I10: 1 | J10: =I10-(SUM(L10:W10)) -> 1 | K10: =IF(J10<0,"ATENÇÃO","OK") -> OK | L10: 0 | M10: 0 | N10: 0 | O10: 0 | P10: 0 | Q10: 0 | R10: 0 | S10: 0 | T10: 0 | U10: 0 | V10: 0 | W10: 0
C11: 8 | D11: Rack 42u para o Datacenter da SETIC/UDESC (item 4.10 do Termo de Referência) | E11: 44.90.52.42 | F11: 60 | G11: 20 | H11: 4324 | J11: =I11-(SUM(L11:W11)) -> 0 | K11: =IF(J11<0,"ATENÇÃO","OK") -> OK | L11: 0 | M11: 0 | N11: 0 | O11: 0 | P11: 0 | Q11: 0 | R11: 0 | S11: 0 | T11: 0 | U11: 0 | V11: 0 | W11: 0
C12: 9 | D12: Treinamento (item 16 do Termo de Referência) | E12: 33.90.39.48 | F12: 60 | G12: 20 | H12: 8000 | J12: =I12-(SUM(L12:W12)) -> 0 | K12: =IF(J12<0,"ATENÇÃO","OK") -> OK | L12: 0 | M12: 0 | N12: 0 | O12: 0 | P12: 0 | Q12: 0 | R12: 0 | S12: 0 | T12: 0 | U12: 0 | V12: 0 | W12: 0
C13: 10 | D13: Instalação de Unidade de Controle Multimídia – MCU (item 4.1 do Termo de Referência) | E13: 33.90.39.25 | F13: 60 | G13: 20 | H13: 3000 | J13: =I13-(SUM(L13:W13)) -> 0 | K13: =IF(J13<0,"ATENÇÃO","OK") -> OK | L13: 0 | M13: 0 | N13: 0 | O13: 0 | P13: 0 | Q13: 0 | R13: 0 | S13: 0 | T13: 0 | U13: 0 | V13: 0 | W13: 0
C14: 11 | D14: Instalação de Travessia de Firewall (item 4.3 do Termo de Referência) | E14: 33.90.39.25 | F14: 60 | G14: 20 | H14: 3000 | J14: =I14-(SUM(L14:W14)) -> 0 | K14: =IF(J14<0,"ATENÇÃO","OK") -> OK | L14: 0 | M14: 0 | N14: 0 | O14: 0 | P14: 0 | Q14: 0 | R14: 0 | S14: 0 | T14: 0 | U14: 0 | V14: 0 | W14: 0
C15: 12 | D15: Instalação de Sistema de Controle de Chamadas e Plataforma de Gerência (item 4.4 do Termo de Referência) | E15: 33.90.39.25 | F15: 60 | G15: 20 | H15: 3047.5 | J15: =I15-(SUM(L15:W15)) -> 0 | K15: =IF(J15<0,"ATENÇÃO","OK") -> OK | L15: 0 | M15: 0 | N15: 0 | O15: 0 | P15: 0 | Q15: 0 | R15: 0 | S15: 0 | T15: 0 | U15: 0 | V15: 0 | W15: 0
C16: 13 | D16: Instalação de Gravação de Vídeo Digital (item 4.5 do Termo de Referência) | E16: 33.90.39.25 | F16: 60 | G16: 20 | H16: 3000 | J16: =I16-(SUM(L16:W16)) -> 0 | K16: =IF(J16<0,"ATENÇÃO","OK") -> OK | L16: 0 | M16: 0 | N16: 0 | O16: 0 | P16: 0 | Q16: 0 | R16: 0 | S16: 0 | T16: 0 | U16: 0 | V16: 0 | W16: 0
C17: 14 | D17: Instalação de Rack 42u para o Datacenter da SETIC/UDESC (item 4.10 do Termo de Referência) | E17: 33.90.39.25 | F17: 60 | G17: 20 | H17: 933 | J17: =I17-(SUM(L17:W17)) -> 0 | K17: =IF(J17<0,"ATENÇÃO","OK") -> OK | L17: 0 | M17: 0 | N17: 0 | O17: 0 | P17: 0 | Q17: 0 | R17: 0 | S17: 0 | T17: 0 | U17: 0 | V17: 0 | W17: 0
A18: COMP1 INFORMÁTICA LTDA EPP | B18: 2 | C18: 15 | D18: TV LED (item 4.6 do Termo de Referência) | E18: 44.90.52.33 | F18: 60 | G18: 20 | H18: 3335 | I18: 2 | J18: =I18-(SUM(L18:W18)) -> 2 | K18: =IF(J18<0,"ATENÇÃO","OK") -> OK | L18: 0 | M18: 0 | N18: 0 | O18: 0 | P18: 0 | Q18: 0 | R18: 0 | S18: 0 | T18: 0 | U18: 0 | V18: 0 | W18: 0
C19: 16 | D19: Suporte para TV de LED de No Mínimo 50” (item 4.7 do Termo de Referência) | E19: 44.90.52.33 | F19: 60 | G19: 20 | H19: 350 | I19: 2 | J19: =I19-(SUM(L19:W19)) -> 2 | K19: =IF(J19<0,"ATENÇÃO","OK") -> OK | L19: 0 | M19: 0 | N19: 0 | O19: 0 | P19: 0 | Q19: 0 | R19: 0 | S19: 0 | T19: 0 | U19: 0 | V19: 0 | W19: 0
C21: *Marca e Modelo conforme proposta readequada

Sheet CEAVI
A1: PROCESSO: 1023/2014/UDESC | D1: OBJETO: AQUISIÇÃO DE SOLUÇÃO (EQUIPAMENTOS) EM VIDEOCONFERÊNCIA PARA A UDESC | I1: VIGÊNCIA DA ATA: 10/10/2014 até 09/10/2015 | L1: Contrato nº xxxx/2014 Qtde. DT | M1: Contrato nº xxxx/2014 Qtde. DT | N1: Contrato nº xxxx/2014 Qtde. DT | O1: Contrato nº xxxx/2014 Qtde. DT | P1: Contrato nº xxxx/2014 Qtde. DT | Q1: Contrato nº xxxx/2014 Qtde. DT | R1: Contrato nº xxxx/2014 Qtde. DT | S1: Contrato nº xxxx/2014 Qtde. DT | T1: Contrato nº xxxx/2014 Qtde. DT | U1: Contrato nº xxxx/2014 Qtde. DT | V1: Contrato nº xxxx/2014 Qtde. DT | W1: Contrato nº xxxx/2014 Qtde. DT
A2: CENTRO PARTICIPANTE: CEAVI
A3: FORNECEDOR | B3: LOTE | C3: ITEM | D3: PRODUTO - CARACTERÍSTICAS MÍNIMAS | E3: ELEMENTO | F3: Entrega (Dias) | G3: Pagto. (Dias) | H3: Preço UNITÁRIO (R$) | I3: Qtde LICITADA | J3: Saldo / Automático | K3: ALERTA | L3: ...../...../...... | M3: ...../...../...... | N3: ...../...../...... | O3: ...../...../...... | P3: ...../...../...... | Q3: ...../...../...... | R3: ...../...../...... | S3: ...../...../...... | T3: ...../...../...... | U3: ...../...../...... | V3: ...../...../...... | W3: ...../...../......
A4: DIGITALNET BRASIL SISTEMAS E COL LTDA | B4: 1 | C4: 1 | D4: Unidade de Controle Multimídia – MCU (item 4.1 do Termo de Referência) | E4: 44.90.52.33 | F4: 60 | G4: 20 | H4: 263107.23 | J4: =I4-(SUM(L4:W4)) -> 0 | K4: =IF(J4<0,"ATENÇÃO","OK") -> OK | L4: 0 | M4: 0 | N4: 0 | O4: 0 | P4: 0 | Q4: 0 | R4: 0 | S4: 0 | T4: 0 | U4: 0 | V4: 0 | W4: 0
C5: 2 | D5: Terminal de Videoconferência (item 4.2 do Termo de Referência) | E5: 44.90.52.33 | F5: 60 | G5: 20 | H5: 18553.09 | I5: 1 | J5: =I5-(SUM(L5:W5)) -> 1 | K5: =IF(J5<0,"ATENÇÃO","OK") -> OK | L5: 0 | M5: 0 | N5: 0 | O5: 0 | P5: 0 | Q5: 0 | R5: 0 | S5: 0 | T5: 0 | U5: 0 | V5: 0 | W5: 0
C6: 3 | D6: Travessia de Firewall (item 4.3 do Termo de Referência) | E6: 44.90.52.33 | F6: 60 | G6: 20 | H6: 31760.19 | J6: =I6-(SUM(L6:W6)) -> 0 | K6: =IF(J6<0,"ATENÇÃO","OK") -> OK | L6: 0 | M6: 0 | N6: 0 | O6: 0 | P6: 0 | Q6: 0 | R6: 0 | S6: 0 | T6: 0 | U6: 0 | V6: 0 | W6: 0
C7: 4 | D7: Sistema de Controle de Chamadas e Plataforma de Gerência (item 4.4 do Termo de Referência) | E7: 44.90.52.33 | F7: 60 | G7: 20 | H7: 47134 | J7: =I7-(SUM(L7:W7)) -> 0 | K7: =IF(J7<0,"ATENÇÃO","OK") -> OK | L7: 0 | M7: 0 | N7: 0 | O7: 0 | P7: 0 | Q7: 0 | R7: 0 | S7: 0 | T7: 0 | U7: 0 | V7: 0 | W7: 0
C8: 5 | D8: Gravação de Vídeo Digital (item 4.5 do Termo de Referência) | E8: 44.90.52.33 | F8: 60 | G8: 20 | H8: 49990.82 | J8: =I8-(SUM(L8:W8)) -> 0 | K8: =IF(J8<0,"ATENÇÃO","OK") -> OK | L8: 0 | M8: 0 | N8: 0 | O8: 0 | P8: 0 | Q8: 0 | R8: 0 | S8: 0 | T8: 0 | U8: 0 | V8: 0 | W8: 0
C9: 6 | D9: Suporte para Endpoint Microfone e Controle Remoto (item 4.8 do Termo de Referência) | E9: 44.90.52.33 | F9: 60 | G9: 20 | H9: 407 | I9: 1 | J9: =I9-(SUM(L9:W9)) -> 1 | K9: =IF(J9<0,"ATENÇÃO","OK") -> OK | L9: 0 | M9: 0 | N9: 0 | O9: 0 | P9: 0 | Q9: 0 | R9: 0 | S9: 0 | T9: 0 | U9: 0 | V9: 0 | W9: 0
C10: 7 | D10: Rack para Videoconferência Sala Reunião (item 4.9 do Termo de Referência) | E10: 44.90.52.42 | F10: 60 | G10: 20 | H10: 2184 | I10: 1 | J10: =I10-(SUM(L10:W10)) -> 1 | K10: =IF(J10<0,"ATENÇÃO","OK") -> OK | L10: 0 | M10: 0 | N10: 0 | O10: 0 | P10: 0 | Q10: 0 | R10: 0 | S10: 0 | T10: 0 | U10: 0 | V10: 0 | W10: 0
C11: 8 | D11: Rack 42u para o Datacenter da SETIC/UDESC (item 4.10 do Termo de Referência) | E11: 44.90.52.42 | F11: 60 | G11: 20 | H11: 4324 | J11: =I11-(SUM(L11:W11)) -> 0 | K11: =IF(J11<0,"ATENÇÃO","OK") -> OK | L11: 0 | M11: 0 | N11: 0 | O11: 0 | P11: 0 | Q11: 0 | R11: 0 | S11: 0 | T11: 0 | U11: 0 | V11: 0 | W11: 0
C12: 9 | D12: Treinamento (item 16 do Termo de Referência) | E12: 33.90.39.48 | F12: 60 | G12: 20 | H12: 8000 | J12: =I12-(SUM(L12:W12)) -> 0 | K12: =IF(J12<0,"ATENÇÃO","OK") -> OK | L12: 0 | M12: 0 | N12: 0 | O12: 0 | P12: 0 | Q12: 0 | R12: 0 | S12: 0 | T12: 0 | U12: 0 | V12: 0 | W12: 0
C13: 10 | D13: Instalação de Unidade de Controle Multimídia – MCU (item 4.1 do Termo de Referência) | E13: 33.90.39.25 | F13: 60 | G13: 20 | H13: 3000 | J13: =I13-(SUM(L13:W13)) -> 0 | K13: =IF(J13<0,"ATENÇÃO","OK") -> OK | L13: 0 | M13: 0 | N13: 0 | O13: 0 | P13: 0 | Q13: 0 | R13: 0 | S13: 0 | T13: 0 | U13: 0 | V13: 0 | W13: 0
C14: 11 | D14: Instalação de Travessia de Firewall (item 4.3 do Termo de Referência) | E14: 33.90.39.25 | F14: 60 | G14: 20 | H14: 3000 | J14: =I14-(SUM(L14:W14)) -> 0 | K14: =IF(J14<0,"ATENÇÃO","OK") -> OK | L14: 0 | M14: 0 | N14: 0 | O14: 0 | P14: 0 | Q14: 0 | R14: 0 | S14: 0 | T14: 0 | U14: 0 | V14: 0 | W14: 0
C15: 12 | D15: Instalação de Sistema de Controle de Chamadas e Plataforma de Gerência (item 4.4 do Termo de Referência) | E15: 33.90.39.25 | F15: 60 | G15: 20 | H15: 3047.5 | J15: =I15-(SUM(L15:W15)) -> 0 | K15: =IF(J15<0,"ATENÇÃO","OK") -> OK | L15: 0 | M15: 0 | N15: 0 | O15: 0 | P15: 0 | Q15: 0 | R15: 0 | S15: 0 | T15: 0 | U15: 0 | V15: 0 | W15: 0
C16: 13 | D16: Instalação de Gravação de Vídeo Digital (item 4.5 do Termo de Referência) | E16: 33.90.39.25 | F16: 60 | G16: 20 | H16: 3000 | J16: =I16-(SUM(L16:W16)) -> 0 | K16: =IF(J16<0,"ATENÇÃO","OK") -> OK | L16: 0 | M16: 0 | N16: 0 | O16: 0 | P16: 0 | Q16: 0 | R16: 0 | S16: 0 | T16: 0 | U16: 0 | V16: 0 | W16: 0
C17: 14 | D17: Instalação de Rack 42u para o Datacenter da SETIC/UDESC (item 4.10 do Termo de Referência) | E17: 33.90.39.25 | F17: 60 | G17: 20 | H17: 933 | J17: =I17-(SUM(L17:W17)) -> 0 | K17: =IF(J17<0,"ATENÇÃO","OK") -> OK | L17: 0 | M17: 0 | N17: 0 | O17: 0 | P17: 0 | Q17: 0 | R17: 0 | S17: 0 | T17: 0 | U17: 0 | V17: 0 | W17: 0
A18: COMP1 INFORMÁTICA LTDA EPP | B18: 2 | C18: 15 | D18: TV LED (item 4.6 do Termo de Referência) | E18: 44.90.52.33 | F18: 60 | G18: 20 | H18: 3335 | I18: 2 | J18: =I18-(SUM(L18:W18)) -> 2 | K18: =IF(J18<0,"ATENÇÃO","OK") -> OK | L18: 0 | M18: 0 | N18: 0 | O18: 0 | P18: 0 | Q18: 0 | R18: 0 | S18: 0 | T18: 0 | U18: 0 | V18: 0 | W18: 0
C19: 16 | D19: Suporte para TV de LED de No Mínimo 50” (item 4.7 do Termo de Referência) | E19: 44.90.52.33 | F19: 60 | G19: 20 | H19: 350 | I19: 2 | J19: =I19-(SUM(L19:W19)) -> 2 | K19: =IF(J19<0,"ATENÇÃO","OK") -> OK | L19: 0 | M19: 0 | N19: 0 | O19: 0 | P19: 0 | Q19: 0 | R19: 0 | S19: 0 | T19: 0 | U19: 0 | V19: 0 | W19: 0
C21: *Marca e Modelo conforme proposta readequada

Sheet GESTOR
A1: PROCESSO: 1023/2014/UDESC | D1: OBJETO: AQUISIÇÃO DE SOLUÇÃO (EQUIPAMENTOS) EM VIDEOCONFERÊNCIA PARA A UDESC | I1: VIGÊNCIA DA ATA: 10/10/2014 até 09/10/2015
A2: CENTRO PARTICIPANTE: Reitoria e Centros
A3: FORNECEDOR | B3: LOTE | C3: ITEM | D3: PRODUTO - CARACTERÍSTICAS MÍNIMAS | E3: ELEMENTO | F3: Entrega (Dias) | G3: Pagto. (Dias) | H3: Preço UNITÁRIO (R$) | I3: Qtde Registrada + Aditivos | J3: Quantidade Utilizada | K3: SALDO | L3: Valor Total Registrado | M3: Valor Total Utilizado
A4: DIGITALNET BRASIL SISTEMAS E COL LTDA | B4: 1 | C4: 1 | D4: Unidade de Controle Multimídia – MCU (item 4.1 do Termo de Referência) | E4: 44.90.52.33 | F4: 60 | G4: 20 | H4: 263107.23 | I4: =REIT!I4+ESAG!I4+CEART!I4+FAED!I4+CEAD!I4+CEFID!I4+CERES!I4+CESFI!I4+CAV!I4+CEO!I4+CCT!I4+CEPLAN!I4+CEAVI!I4 -> 1 | J4: =(REIT!I4-REIT!J4)+(ESAG!I4-ESAG!J4)+(CEART!I4-CEART!J4)+(FAED!I4-FAED!J4)+(CEAD!I4-CEAD!J4)+(CEFID!I4-CEFID!J4)+(CERES!I4-CERES!J4)+(CESFI!I4-CESFI!J4)+(CAV!I4-CAV!J4)+(CEO!I4-CEO!J4)+(CCT!I4-CCT!J4)+(CEPLAN!I4-CEPLAN!J4)+(CEAVI!I4-CEAVI!J4) -> 0 | K4: =I4-J4 -> 1 | L4: =H4*I4 -> 263107.23 | M4: =H4*J4 -> 0
C5: 2 | D5: Terminal de Videoconferência (item 4.2 do Termo de Referência) | E5: 44.90.52.33 | F5: 60 | G5: 20 | H5: 18553.09 | I5: =REIT!I5+ESAG!I5+CEART!I5+FAED!I5+CEAD!I5+CEFID!I5+CERES!I5+CESFI!I5+CAV!I5+CEO!I5+CCT!I5+CEPLAN!I5+CEAVI!I5 -> 25 | J5: =(REIT!I5-REIT!J5)+(ESAG!I5-ESAG!J5)+(CEART!I5-CEART!J5)+(FAED!I5-FAED!J5)+(CEAD!I5-CEAD!J5)+(CEFID!I5-CEFID!J5)+(CERES!I5-CERES!J5)+(CESFI!I5-CESFI!J5)+(CAV!I5-CAV!J5)+(CEO!I5-CEO!J5)+(CCT!I5-CCT!J5)+(CEPLAN!I5-CEPLAN!J5)+(CEAVI!I5-CEAVI!J5) -> 6 | K5: =I5-J5 -> 19 | L5: =H5*I5 -> 463827.25 | M5: =H5*J5 -> 111318.54
C6: 3 | D6: Travessia de Firewall (item 4.3 do Termo de Referência) | E6: 44.90.52.33 | F6: 60 | G6: 20 | H6: 31760.19 | I6: =REIT!I6+ESAG!I6+CEART!I6+FAED!I6+CEAD!I6+CEFID!I6+CERES!I6+CESFI!I6+CAV!I6+CEO!I6+CCT!I6+CEPLAN!I6+CEAVI!I6 -> 1 | J6: =(REIT!I6-REIT!J6)+(ESAG!I6-ESAG!J6)+(CEART!I6-CEART!J6)+(FAED!I6-FAED!J6)+(CEAD!I6-CEAD!J6)+(CEFID!I6-CEFID!J6)+(CERES!I6-CERES!J6)+(CESFI!I6-CESFI!J6)+(CAV!I6-CAV!J6)+(CEO!I6-CEO!J6)+(CCT!I6-CCT!J6)+(CEPLAN!I6-CEPLAN!J6)+(CEAVI!I6-CEAVI!J6) -> 0 | K6: =I6-J6 -> 1 | L6: =H6*I6 -> 31760.19 | M6: =H6*J6 -> 0
C7: 4 | D7: Sistema de Controle de Chamadas e Plataforma de Gerência (item 4.4 do Termo de Referência) | E7: 44.90.52.33 | F7: 60 | G7: 20 | H7: 47134 | I7: =REIT!I7+ESAG!I7+CEART!I7+FAED!I7+CEAD!I7+CEFID!I7+CERES!I7+CESFI!I7+CAV!I7+CEO!I7+CCT!I7+CEPLAN!I7+CEAVI!I7 -> 1 | J7: =(REIT!I7-REIT!J7)+(ESAG!I7-ESAG!J7)+(CEART!I7-CEART!J7)+(FAED!I7-FAED!J7)+(CEAD!I7-CEAD!J7)+(CEFID!I7-CEFID!J7)+(CERES!I7-CERES!J7)+(CESFI!I7-CESFI!J7)+(CAV!I7-CAV!J7)+(CEO!I7-CEO!J7)+(CCT!I7-CCT!J7)+(CEPLAN!I7-CEPLAN!J7)+(CEAVI!I7-CEAVI!J7) -> 0 | K7: =I7-J7 -> 1 | L7: =H7*I7 -> 47134 | M7: =H7*J7 -> 0
C8: 5 | D8: Gravação de Vídeo Digital (item 4.5 do Termo de Referência) | E8: 44.90.52.33 | F8: 60 | G8: 20 | H8: 49990.82 | I8: =REIT!I8+ESAG!I8+CEART!I8+FAED!I8+CEAD!I8+CEFID!I8+CERES!I8+CESFI!I8+CAV!I8+CEO!I8+CCT!I8+CEPLAN!I8+CEAVI!I8 -> 1 | J8: =(REIT!I8-REIT!J8)+(ESAG!I8-ESAG!J8)+(CEART!I8-CEART!J8)+(FAED!I8-FAED!J8)+(CEAD!I8-CEAD!J8)+(CEFID!I8-CEFID!J8)+(CERES!I8-CERES!J8)+(CESFI!I8-CESFI!J8)+(CAV!I8-CAV!J8)+(CEO!I8-CEO!J8)+(CCT!I8-CCT!J8)+(CEPLAN!I8-CEPLAN!J8)+(CEAVI!I8-CEAVI!J8) -> 0 | K8: =I8-J8 -> 1 | L8: =H8*I8 -> 49990.82 | M8: =H8*J8 -> 0
C9: 6 | D9: Suporte para Endpoint Microfone e Controle Remoto (item 4.8 do Termo de Referência) | E9: 44.90.52.33 | F9: 60 | G9: 20 | H9: 407 | I9: =REIT!I9+ESAG!I9+CEART!I9+FAED!I9+CEAD!I9+CEFID!I9+CERES!I9+CESFI!I9+CAV!I9+CEO!I9+CCT!I9+CEPLAN!I9+CEAVI!I9 -> 25 | J9: =(REIT!I9-REIT!J9)+(ESAG!I9-ESAG!J9)+(CEART!I9-CEART!J9)+(FAED!I9-FAED!J9)+(CEAD!I9-CEAD!J9)+(CEFID!I9-CEFID!J9)+(CERES!I9-CERES!J9)+(CESFI!I9-CESFI!J9)+(CAV!I9-CAV!J9)+(CEO!I9-CEO!J9)+(CCT!I9-CCT!J9)+(CEPLAN!I9-CEPLAN!J9)+(CEAVI!I9-CEAVI!J9) -> 1 | K9: =I9-J9 -> 24 | L9: =H9*I9 -> 10175 | M9: =H9*J9 -> 407
C10: 7 | D10: Rack para Videoconferência Sala Reunião (item 4.9 do Termo de Referência) | E10: 44.90.52.42 | F10: 60 | G10: 20 | H10: 2184 | I10: =REIT!I10+ESAG!I10+CEART!I10+FAED!I10+CEAD!I10+CEFID!I10+CERES!I10+CESFI!I10+CAV!I10+CEO!I10+CCT!I10+CEPLAN!I10+CEAVI!I10 -> 25 | J10: =(REIT!I10-REIT!J10)+(ESAG!I10-ESAG!J10)+(CEART!I10-CEART!J10)+(FAED!I10-FAED!J10)+(CEAD!I10-CEAD!J10)+(CEFID!I10-CEFID!J10)+(CERES!I10-CERES!J10)+(CESFI!I10-CESFI!J10)+(CAV!I10-CAV!J10)+(CEO!I10-CEO!J10)+(CCT!I10-CCT!J10)+(CEPLAN!I10-CEPLAN!J10)+(CEAVI!I10-CEAVI!J10) -> 5 | K10: =I10-J10 -> 20 | L10: =H10*I10 -> 54600 | M10: =H10*J10 -> 10920
C11: 8 | D11: Rack 42u para o Datacenter da SETIC/UDESC (item 4.10 do Termo de Referência) | E11: 44.90.52.42 | F11: 60 | G11: 20 | H11: 4324 | I11: =REIT!I11+ESAG!I11+CEART!I11+FAED!I11+CEAD!I11+CEFID!I11+CERES!I11+CESFI!I11+CAV!I11+CEO!I11+CCT!I11+CEPLAN!I11+CEAVI!I11 -> 1 | J11: =(REIT!I11-REIT!J11)+(ESAG!I11-ESAG!J11)+(CEART!I11-CEART!J11)+(FAED!I11-FAED!J11)+(CEAD!I11-CEAD!J11)+(CEFID!I11-CEFID!J11)+(CERES!I11-CERES!J11)+(CESFI!I11-CESFI!J11)+(CAV!I11-CAV!J11)+(CEO!I11-CEO!J11)+(CCT!I11-CCT!J11)+(CEPLAN!I11-CEPLAN!J11)+(CEAVI!I11-CEAVI!J11) -> 0 | K11: =I11-J11 -> 1 | L11: =H11*I11 -> 4324 | M11: =H11*J11 -> 0
C12: 9 | D12: Treinamento (item 16 do Termo de Referência) | E12: 33.90.39.48 | F12: 60 | G12: 20 | H12: 8000 | I12: =REIT!I12+ESAG!I12+CEART!I12+FAED!I12+CEAD!I12+CEFID!I12+CERES!I12+CESFI!I12+CAV!I12+CEO!I12+CCT!I12+CEPLAN!I12+CEAVI!I12 -> 1 | J12: =(REIT!I12-REIT!J12)+(ESAG!I12-ESAG!J12)+(CEART!I12-CEART!J12)+(FAED!I12-FAED!J12)+(CEAD!I12-CEAD!J12)+(CEFID!I12-CEFID!J12)+(CERES!I12-CERES!J12)+(CESFI!I12-CESFI!J12)+(CAV!I12-CAV!J12)+(CEO!I12-CEO!J12)+(CCT!I12-CCT!J12)+(CEPLAN!I12-CEPLAN!J12)+(CEAVI!I12-CEAVI!J12) -> 0 | K12: =I12-J12 -> 1 | L12: =H12*I12 -> 8000 | M12: =H12*J12 -> 0
C13: 10 | D13: Instalação de Unidade de Controle Multimídia – MCU (item 4.1 do Termo de Referência) | E13: 33.90.39.25 | F13: 60 | G13: 20 | H13: 3000 | I13: =REIT!I13+ESAG!I13+CEART!I13+FAED!I13+CEAD!I13+CEFID!I13+CERES!I13+CESFI!I13+CAV!I13+CEO!I13+CCT!I13+CEPLAN!I13+CEAVI!I13 -> 1 | J13: =(REIT!I13-REIT!J13)+(ESAG!I13-ESAG!J13)+(CEART!I13-CEART!J13)+(FAED!I13-FAED!J13)+(CEAD!I13-CEAD!J13)+(CEFID!I13-CEFID!J13)+(CERES!I13-CERES!J13)+(CESFI!I13-CESFI!J13)+(CAV!I13-CAV!J13)+(CEO!I13-CEO!J13)+(CCT!I13-CCT!J13)+(CEPLAN!I13-CEPLAN!J13)+(CEAVI!I13-CEAVI!J13) -> 0 | K13: =I13-J13 -> 1 | L13: =H13*I13 -> 3000 | M13: =H13*J13 -> 0
C14: 11 | D14: Instalação de Travessia de Firewall (item 4.3 do Termo de Referência) | E14: 33.90.39.25 | F14: 60 | G14: 20 | H14: 3000 | I14: =REIT!I14+ESAG!I14+CEART!I14+FAED!I14+CEAD!I14+CEFID!I14+CERES!I14+CESFI!I14+CAV!I14+CEO!I14+CCT!I14+CEPLAN!I14+CEAVI!I14 -> 1 | J14: =(REIT!I14-REIT!J14)+(ESAG!I14-ESAG!J14)+(CEART!I14-CEART!J14)+(FAED!I14-FAED!J14)+(CEAD!I14-CEAD!J14)+(CEFID!I14-CEFID!J14)+(CERES!I14-CERES!J14)+(CESFI!I14-CESFI!J14)+(CAV!I14-CAV!J14)+(CEO!I14-CEO!J14)+(CCT!I14-CCT!J14)+(CEPLAN!I14-CEPLAN!J14)+(CEAVI!I14-CEAVI!J14) -> 0 | K14: =I14-J14 -> 1 | L14: =H14*I14 -> 3000 | M14: =H14*J14 -> 0
C15: 12 | D15: Instalação de Sistema de Controle de Chamadas e Plataforma de Gerência (item 4.4 do Termo de Referência) | E15: 33.90.39.25 | F15: 60 | G15: 20 | H15: 3047.5 | I15: =REIT!I15+ESAG!I15+CEART!I15+FAED!I15+CEAD!I15+CEFID!I15+CERES!I15+CESFI!I15+CAV!I15+CEO!I15+CCT!I15+CEPLAN!I15+CEAVI!I15 -> 1 | J15: =(REIT!I15-REIT!J15)+(ESAG!I15-ESAG!J15)+(CEART!I15-CEART!J15)+(FAED!I15-FAED!J15)+(CEAD!I15-CEAD!J15)+(CEFID!I15-CEFID!J15)+(CERES!I15-CERES!J15)+(CESFI!I15-CESFI!J15)+(CAV!I15-CAV!J15)+(CEO!I15-CEO!J15)+(CCT!I15-CCT!J15)+(CEPLAN!I15-CEPLAN!J15)+(CEAVI!I15-CEAVI!J15) -> 0 | K15: =I15-J15 -> 1 | L15: =H15*I15 -> 3047.5 | M15: =H15*J15 -> 0
C16: 13 | D16: Instalação de Gravação de Vídeo Digital (item 4.5 do Termo de Referência) | E16: 33.90.39.25 | F16: 60 | G16: 20 | H16: 3000 | I16: =REIT!I16+ESAG!I16+CEART!I16+FAED!I16+CEAD!I16+CEFID!I16+CERES!I16+CESFI!I16+CAV!I16+CEO!I16+CCT!I16+CEPLAN!I16+CEAVI!I16 -> 1 | J16: =(REIT!I16-REIT!J16)+(ESAG!I16-ESAG!J16)+(CEART!I16-CEART!J16)+(FAED!I16-FAED!J16)+(CEAD!I16-CEAD!J16)+(CEFID!I16-CEFID!J16)+(CERES!I16-CERES!J16)+(CESFI!I16-CESFI!J16)+(CAV!I16-CAV!J16)+(CEO!I16-CEO!J16)+(CCT!I16-CCT!J16)+(CEPLAN!I16-CEPLAN!J16)+(CEAVI!I16-CEAVI!J16) -> 0 | K16: =I16-J16 -> 1 | L16: =H16*I16 -> 3000 | M16: =H16*J16 -> 0
C17: 14 | D17: Instalação de Rack 42u para o Datacenter da SETIC/UDESC (item 4.10 do Termo de Referência) | E17: 33.90.39.25 | F17: 60 | G17: 20 | H17: 933 | I17: =REIT!I17+ESAG!I17+CEART!I17+FAED!I17+CEAD!I17+CEFID!I17+CERES!I17+CESFI!I17+CAV!I17+CEO!I17+CCT!I17+CEPLAN!I17+CEAVI!I17 -> 1 | J17: =(REIT!I17-REIT!J17)+(ESAG!I17-ESAG!J17)+(CEART!I17-CEART!J17)+(FAED!I17-FAED!J17)+(CEAD!I17-CEAD!J17)+(CEFID!I17-CEFID!J17)+(CERES!I17-CERES!J17)+(CESFI!I17-CESFI!J17)+(CAV!I17-CAV!J17)+(CEO!I17-CEO!J17)+(CCT!I17-CCT!J17)+(CEPLAN!I17-CEPLAN!J17)+(CEAVI!I17-CEAVI!J17) -> 0 | K17: =I17-J17 -> 1 | L17: =H17*I17 -> 933 | M17: =H17*J17 -> 0
A18: COMP1 INFORMÁTICA LTDA EPP | B18: 2 | C18: 15 | D18: TV LED (item 4.6 do Termo de Referência) | E18: 44.90.52.33 | F18: 60 | G18: 20 | H18: 3335 | I18: =REIT!I18+ESAG!I18+CEART!I18+FAED!I18+CEAD!I18+CEFID!I18+CERES!I18+CESFI!I18+CAV!I18+CEO!I18+CCT!I18+CEPLAN!I18+CEAVI!I18 -> 50 | J18: =(REIT!I18-REIT!J18)+(ESAG!I18-ESAG!J18)+(CEART!I18-CEART!J18)+(FAED!I18-FAED!J18)+(CEAD!I18-CEAD!J18)+(CEFID!I18-CEFID!J18)+(CERES!I18-CERES!J18)+(CESFI!I18-CESFI!J18)+(CAV!I18-CAV!J18)+(CEO!I18-CEO!J18)+(CCT!I18-CCT!J18)+(CEPLAN!I18-CEPLAN!J18)+(CEAVI!I18-CEAVI!J18) -> 12 | K18: =I18-J18 -> 38 | L18: =H18*I18 -> 166750 | M18: =H18*J18 -> 40020
C19: 16 | D19: Suporte para TV de LED de No Mínimo 50” (item 4.7 do Termo de Referência) | E19: 44.90.52.33 | F19: 60 | G19: 20 | H19: 350 | I19: =REIT!I19+ESAG!I19+CEART!I19+FAED!I19+CEAD!I19+CEFID!I19+CERES!I19+CESFI!I19+CAV!I19+CEO!I19+CCT!I19+CEPLAN!I19+CEAVI!I19 -> 50 | J19: =(REIT!I19-REIT!J19)+(ESAG!I19-ESAG!J19)+(CEART!I19-CEART!J19)+(FAED!I19-FAED!J19)+(CEAD!I19-CEAD!J19)+(CEFID!I19-CEFID!J19)+(CERES!I19-CERES!J19)+(CESFI!I19-CESFI!J19)+(CAV!I19-CAV!J19)+(CEO!I19-CEO!J19)+(CCT!I19-CCT!J19)+(CEPLAN!I19-CEPLAN!J19)+(CEAVI!I19-CEAVI!J19) -> 2 | K19: =I19-J19 -> 48 | L19: =H19*I19 -> 17500 | M19: =H19*J19 -> 700
L20: =SUM(L4:L19) -> 1130149 | M20: =SUM(M4:M19) -> 163365.54
C21: *Marca e Modelo conforme proposta readequada
I22: Pregão 1023/2014/UDESC - SRP
I23: AQUISIÇÃO DE SOLUÇÃO (EQUIPAMENTOS) EM VIDEOCONFERÊNCIA PARA A UDESC
I24: Vigência 10/10/2014 até 09/10/2015
I25: Valor Total da Ata com Aditivo | M25: =L20 -> 1130149
I26: Valor Utilizado | M26: =M20 -> 163365.54
I27: % Aditivos | M27: 0
I28: % Utilizado | M28: =M26/M25 -> 0.14455222
I29: Resumo Atualizado em 27/11/2014

Sheet Modelo Anexo II IN 002_2014
A1: ANEXO II – Instrução Normativa n.º 002/2014
A3: DECLARAÇÃO DE DISPONIBILIDADE DE QUANTITATIVO PARA EMISSÃO DE AUTORIZAÇÃO DE FORNECIMENTO/ORDEM DE SERVIÇO – SISTEMA DE REGISTRO DE PREÇOS/UDESC
A5: Processo CPA n.º XXXX/2014
A6: Pregão n.º XXXX/2014
A7: Objeto:
A8: Vigência da Ata de Registro de Preços: XX/XX/XXXX até XX/XX/XXXXX
A10: Declaro que o Centro XXXXXXX, participante da Ata de Registro de Preços proveniente do Pregão n.º XXXX/2014, possui saldo em seu quantitativo para a emissão da Autorização de Fornecimento/Ordem de Serviço n.º XXXX/2014, no valor de R$ X.XXX,XX, a ser firmada com a empresa XXXXXXX, restando ainda em sua cota para próximas contratações com o referido fornecedor os seguintes quantitativos:
A12: Lote | B12: Item | C12: Descrição Resumida | D12: Unidade | E12: Valor Unitário (R$) | F12: Saldo Quantitativo (antes da emissão desta AF/OS) | G12: Quantitativo da AF/OS | H12: Saldo Atualizado
A19: __________________, ____/_____/____
A20: Cidade Data
A24: _____________________________________________
A25: Diretor(a) de Administração
A26: (carimbo e assinatura)
