Workbook
Name diasuteis: #REF!
Name diasuteis: #REF!
Name diasuteis: #REF!
Name diasuteis: #REF!
Name diasuteis: #REF!
Name diasuteis: #REF!
Name diasuteis: #REF!
Name diasuteis: #REF!
Name diasuteis: #REF!
Name diasuteis: #REF!
Name diasuteis: #REF!
Name diasuteis: #REF!
Name diasuteis: #REF!
Name diasuteis: #REF!
Name Ferias: #REF!
Name Ferias: #REF!
Name Ferias: #REF!
Name Ferias: #REF!
Name Ferias: #REF!
Name Ferias: #REF!
Name Ferias: #REF!
Name Ferias: #REF!
Name Ferias: #REF!
Name Ferias: #REF!
Name Ferias: #REF!
Name Ferias: #REF!
Name Ferias: #REF!
Name RD: OFFSET(#REF!,(MATCH(SMALL(#REF!,ROW()-10),#REF!,0)-1),0)

Sheet REIT
A1: PROCESSO: 1023/2014/UDESC | D1: OBJETO: AQUISIÇÃO DE SOLUÇÃO (EQUIPAMENTOS) EM VIDEOCONFERÊNCIA PARA A UDESC | I1: VIGÊNCIA DA ATA: 10/10/2014 até 09/10/2015 | L1: Contrato nº 1831/2014 Qtde. DT | M1: Contrato nº 1830/2014 Qtde. DT | N1: Contrato nº xxxx/2014 Qtde. DT | O1: Contrato nº xxxx/2014 Qtde. DT | P1: Contrato nº xxxx/2014 Qtde. DT | Q1: Contrato nº xxxx/2014 Qtde. DT | R1: Contrato nº xxxx/2014 Qtde. DT | S1: Contrato nº xxxx/2014 Qtde. DT | T1: Contrato nº xxxx/2014 Qtde. DT | U1: Contrato nº xxxx/2014 Qtde. DT | V1: Contrato nº xxxx/2014 Qtde. DT | W1: Contrato nº xxxx/2014 Qtde. DT
A2: CENTRO PARTICIPANTE: REITORIA
A3: FORNECEDOR | B3: LOTE | C3: ITEM | D3: PRODUTO - CARACTERÍSTICAS MÍNIMAS | E3: ELEMENTO | F3: Entrega (Dias) | G3: Pagto. (Dias) | H3: Preço UNITÁRIO (R$) | I3: Qtde LICITADA | J3: Saldo / Automático | K3: ALERTA | L3: 41953 | M3: 41953 | N3: ...../...../...... | O3: ...../...../...... | P3: ...../...../...... | Q3: ...../...../...... | R3: ...../...../...... | S3: ...../...../...... | T3: ...../...../...... | U3: ...../...../...... | V3: ...../...../...... | W3: ...../...../......
A4: DIGITALNET BRASIL SISTEMAS E COL LTDA | B4: 1 | C4: 1 | D4: Unidade de Controle Multimídia – MCU (item 4.1 do Termo de Referência) | E4: 44.90.52.33 | F4: 60 | G4: 20 | H4: 263107.23 | I4: 1 | J4: =I4-(SUM(L4:W4)) -> 1 | K4: =IF(J4<0,"ATENÇÃO","OK") -> OK | L4: 0 | M4: 0 | N4: 0 | O4: 0 | P4: 0 | Q4: 0 | R4: 0 | S4: 0 | T4: 0 | U4: 0 | V4: 0 | W4: 0
C5: 2 | D5: Terminal de Videoconferência (item 4.2 do Termo de Referência) | E5: 44.90.52.33 | F5: 60 | G5: 20 | H5: 18553.09 | I5: 4 | J5: =I5-(SUM(L5:W5)) -> -2 | K5: =IF(J5<0,"ATENÇÃO","OK") -> ATENÇÃO | L5: 0 | M5: 6 | N5: 0 | O5: 0 | P5: 0 | Q5: 0 | R5: 0 | S5: 0 | T5: 0 | U5: 0 | V5: 0 | W5: 0
C6: 3 | D6: Travessia de Firewall (item 4.3 do Termo de Referência) | E6: 44.90.52.33 | F6: 60 | G6: 20 | H6: 31760.19 | I6: 1 | J6: =I6-(SUM(L6:W6)) -> 1 | K6: =IF(J6<0,"ATENÇÃO","OK") -> OK | L6: 0 | M6: 0 | N6: 0 | O6: 0 | P6: 0 | Q6: 0 | R6: 0 | S6: 0 | T6: 0 | U6: 0 | V6: 0 | W6: 0
C7: 4 | D7: Sistema de Controle de Chamadas e Plataforma de Gerência (item 4.4 do Termo de Referência) | E7: 44.90.52.33 | F7: 60 | G7: 20 | H7: 47134 | I7: 1 | J7: =I7-(SUM(L7:W7)) -> 1 | K7: =IF(J7<0,"ATENÇÃO","OK") -> OK | L7: 0 | M7: 0 | N7: 0 | O7: 0 | P7: 0 | Q7: 0 | R7: 0 | S7: 0 | T7: 0 | U7: 0 | V7: 0 | W7: 0
C8: 5 | D8: Gravação de Vídeo Digital (item 4.5 do Termo de Referência) | E8: 44.90.52.33 | F8: 60 | G8: 20 | H8: 49990.82 | I8: 1 | J8: =I8-(SUM(L8:W8)) -> 1 | K8: =IF(J8<0,"ATENÇÃO","OK") -> OK | L8: 0 | M8: 0 | N8: 0 | O8: 0 | P8: 0 | Q8: 0 | R8: 0 | S8: 0 | T8: 0 | U8: 0 | V8: 0 | W8: 0
C9: 6 | D9: Suporte para Endpoint Microfone e Controle Remoto (item 4.8 do Termo de Referência) | E9: 44.90.52.33 | F9: 60 | G9: 20 | H9: 407 | I9: 4 | J9: =I9-(SUM(L9:W9)) -> 3 | K9: =IF(J9<0,"ATENÇÃO","OK") -> OK | L9: 0 | M9: 1 | N9: 0 | O9: 0 | P9: 0 | Q9: 0 | R9: 0 | S9: 0 | T9: 0 | U9: 0 | V9: 0 | W9: 0
C10: 7 | D10: Rack para Videoconferência Sala Reunião (item 4.9 do Termo de Referência) | E10: 44.90.52.42 | F10: 60 | G10: 20 | H10: 2184 | I10: 4 | J10: =I10-(SUM(L10:W10)) -> -1 | K10: =IF(J10<0,"ATENÇÃO","OK") -> ATENÇÃO | L10: 0 | M10: 5 | N10: 0 | O10: 0 | P10: 0 | Q10: 0 | R10: 0 | S10: 0 | T10: 0 | U10: 0 | V10: 0 | W10: 0
C11: 8 | D11: Rack 42u para o Datacenter da SETIC/UDESC (item 4.10 do Termo de Referência) | E11: 44.90.52.42 | F11: 60 | G11: 20 | H11: 4324 | I11: 1 | J11: =I11-(SUM(L11:W11)) -> 1 | K11: =IF(J11<0,"ATENÇÃO","OK") -> OK | L11: 0 | M11: 0 | N11: 0 | O11: 0 | P11: 0 | Q11: 0 | R11: 0 | S11: 0 | T11: 0 | U11: 0 | V11: 0 | W11: 0
C12: 9 | D12: Treinamento (item 16 do Termo de Referência) | E12: 33.90.39.48 | F12: 60 | G12: 20 | H12: 8000 | I12: 1 | J12: =I12-(SUM(L12:W12)) -> 1 | K12: =IF(J12<0,"ATENÇÃO","OK") -> OK | L12: 0 | M12: 0 | N12: 0 | O12: 0 | P12: 0 | Q12: 0 | R12: 0 | S12: 0 | T12: 0 | U12: 0 | V12: 0 | W12: 0
C13: 10 | D13: Instalação de Unidade de Controle Multimídia – MCU (item 4.1 do Termo de Referência) | E13: 33.90.39.25 | F13: 60 | G13: 20 | H13: 3000 | I13: 1 | J13: =I13-(SUM(L13:W13)) -> 1 | K13: =IF(J13<0,"ATENÇÃO","OK") -> OK | L13: 0 | M13: 0 | N13: 0 | O13: 0 | P13: 0 | Q13: 0 | R13: 0 | S13: 0 | T13: 0 | U13: 0 | V13: 0 | W13: 0
C14: 11 | D14: Instalação de Travessia de Firewall (item 4.3 do Termo de Referência) | E14: 33.90.39.25 | F14: 60 | G14: 20 | H14: 3000 | I14: 1 | J14: =I14-(SUM(L14:W14)) -> 1 | K14: =IF(J14<0,"ATENÇÃO","OK") -> OK | L14: 0 | M14: 0 | N14: 0 | O14: 0 | P14: 0 | Q14: 0 | R14: 0 | S14: 0 | T14: 0 | U14: 0 | V14: 0 | W14: 0
C15: 12 | D15: Instalação de Sistema de Controle de Chamadas e Plataforma de Gerência (item 4.4 do Termo de Referência) | E15: 33.90.39.25 | F15: 60 | G15: 20 | H15: 3047.5 | I15: 1 | J15: =I15-(SUM(L15:W15)) -> 1 | K15: =IF(J15<0,"ATENÇÃO","OK") -> OK | L15: 0 | M15: 0 | N15: 0 | O15: 0 | P15: 0 | Q15: 0 | R15: 0 | S15: 0 | T15: 0 | U15: 0 | V15: 0 | W15: 0
C16: 13 | D16: Instalação de Gravação de Vídeo Digital (item 4.5 do Termo de Referência) | E16: 33.90.39.25 | F16: 60 | G16: 20 | H16: 3000 | I16: 1 | J16: =I16-(SUM(L16:W16)) -> 1 | K16: =IF(J16<0,"ATENÇÃO","OK") -> OK | L16: 0 | M16: 0 | N16: 0 | O16: 0 | P16: 0 | Q16: 0 | R16: 0 | S16: 0 | T16: 0 | U16: 0 | V16: 0 | W16: 0
C17: 14 | D17: Instalação de Rack 42u para o Datacenter da SETIC/UDESC (item 4.10 do Termo de Referência) | E17: 33.90.39.25 | F17: 60 | G17: 20 | H17: 933 | I17: 1 | J17: =I17-(SUM(L17:W17)) -> 1 | K17: =IF(J17<0,"ATENÇÃO","OK") -> OK | L17: 0 | M17: 0 | N17: 0 | O17: 0 | P17: 0 | Q17: 0 | R17: 0 | S17: 0 | T17: 0 | U17: 0 | V17: 0 | W17: 0
A18: COMP1 INFORMÁTICA LTDA EPP | B18: 2 | C18: 15 | D18: TV LED (item 4.6 do Termo de Referência) | E18: 44.90.52.33 | F18: 60 | G18: 20 | H18: 3335 | I18: 8 | J18: =I18-(SUM(L18:W18)) -> -4 | K18: =IF(J18<0,"ATENÇÃO","OK") -> ATENÇÃO | L18: 12 | M18: 0 | N18: 0 | O18: 0 | P18: 0 | Q18: 0 | R18: 0 | S18: 0 | T18: 0 | U18: 0 | V18: 0 | W18: 0
C19: 16 | D19: Suporte para TV de LED de No Mínimo 50” (item 4.7 do Termo de Referência) | E19: 44.90.52.33 | F19: 60 | G19: 20 | H19: 350 | I19: 8 | J19: =I19-(SUM(L19:W19)) -> 6 | K19: =IF(J19<0,"ATENÇÃO","OK") -> OK | L19: 2 | M19: 0 | N19: 0 | O19: 0 | P19: 0 | Q19: 0 | R19: 0 | S19: 0 | T19: 0 | U19: 0 | V19: 0 | W19: 0
C21: *Marca e Modelo conforme proposta readequada

Sheet ESAG
A1: PROCESSO: 1023/2014/UDESC | D1: OBJETO: AQUISIÇÃO DE SOLUÇÃO (EQUIPAMENTOS) EM VIDEOCONFERÊNCIA PARA A UDESC | I1: VIGÊNCIA DA ATA: 10/10/2014 até 09/10/2015 | L1: Contrato nº xxxx/2014 Qtde. DT | M1: Contrato nº xxxx/2014 Qtde. DT | N1: Contrato nº xxxx/2014 Qtde. DT | O1: Contrato nº xxxx/2014 Qtde. DT | P1: Contrato nº xxxx/2014 Qtde. DT | Q1: Contrato nº xxxx/2014 Qtde. DT | R1: Contrato nº xxxx/2014 Qtde. DT | S1: Contrato nº xxxx/2014 Qtde. DT | T1: Contrato nº xxxx/2014 Qtde. DT | U1: Contrato nº xxxx/2014 Qtde. DT | V1: Contrato nº xxxx/2014 Qtde. DT | W1: Contrato nº xxxx/2014 Qtde. DT
A2: CENTRO PARTICIPANTE: ESAG
A3: FORNECEDOR | B3: LOTE | C3: ITEM | D3: PRODUTO - CARACTERÍSTICAS MÍNIMAS | E3: ELEMENTO | F3: Entrega (Dias) | G3: Pagto. (Dias) | H3: Preço UNITÁRIO (R$) | I3: Qtde LICITADA | J3: Saldo / Automático | K3: ALERTA | L3: ...../...../...... | M3: ...../...../...... | N3: ...../...../...... | O3: ...../...../...... | P3: ...../...../...... | Q3: ...../...../...... | R3: ...../...../...... | S3: ...../...../...... | T3: ...../...../...... | U3: ...../...../...... | V3: ...../...../...... | W3: ...../...../......
A4: DIGITALNET BRASIL SISTEMAS E COL LTDA | B4: 1 | C4: 1 | D4: Unidade de Controle Multimídia – MCU (item 4.1 do Termo de Referência) | E4: 44.90.52.33 | F4: 60 | G4: 20 | H4: 263107.23 | J4: =I4-(SUM(L4:W4)) -> 0 | K4: =IF(J4<0,"ATENÇÃO","OK") -> OK | L4: 0 | M4: 0 | N4: 0 | O4: 0 | P4: 0 | Q4: 0 | R4: 0 | S4: 0 | T4: 0 | U4: 0 | V4: 0 | W4: 0
C5: 2 | D5: Terminal de Videoconferência (item 4.2 do Termo de Referência) | E5: 44.90.52.33 | F5: 60 | G5: 20 | H5: 18553.09 | I5: 1 | J5: =I5-(SUM(L5:W5)) -> 1 | K5: =IF(J5<0,"ATENÇÃO","OK") -> OK | L5: 0 | M5: 0 | N5: 0 | O5: 0 | P5: 0 | Q5: 0 | R5: 0 | S5: 0 | T5: 0 | U5: 0 | V5: 0 | W5: 0
C6: 3 | D6: Travessia de Firewall (item 4.3 do Termo de Referência) | E6: 44.90.52.33 | F6: 60 | G6: 20 | H6: 31760.19 | J6: =I6-(SUM(L6:W6)) -> 0 | K6: =IF(J6<0,"ATENÇÃO","OK") -> OK | L6: 0 | M6: 0 | N6: 0 | O6: 0 | P6: 0 | Q6: 0 | R6: 0 | S6: 0 | T6: 0 | U6: 0 | V6: 0 | W6: 0
C7: 4 | D7: Sistema de Controle de Chamadas e Plataforma de Gerência (item 4.4 do Termo de Referência) | E7: 44.90.52.33 | F7: 60 | G7: 20 | H7: 47134 | J7: =I7-(SUM(L7:W7)) -> 0 | K7: =IF(J7<0,"ATENÇÃO","OK") -> OK | L7: 0 | M7: 0 | N7: 0 | O7: 0 | P7: 0 | Q7: 0 | R7: 0 | S7: 0 | T7: 0 | U7: 0 | V7: 0 | W7: 0
C8: 5 | D8: Gravação de Vídeo Digital (item 4.5 do Termo de Referência) | E8: 44.90.52.33 | F8: 60 | G8: 20 | H8: 49990.82 | J8: =I8-(SUM(L8:W8)) -> 0 | K8: =IF(J8<0,"ATENÇÃO","OK") -> OK | L8: 0 | M8: 0 | N8: 0 | O8: 0 | P8: 0 | Q8: 0 | R8: 0 | S8: 0 | T8: 0 | U8: 0 | V8: 0 | W8: 0
C9: 6 | D9: Suporte para Endpoint Microfone e Controle Remoto (item 4.8 do Termo de Referência) | E9: 44.90.52.33 | F9: 60 | G9: 20 | H9: 407 | I9: 1 | J9: =I9-(SUM(L9:W9)) -> 1 | K9: =IF(J9<0,"ATENÇÃO","OK") -> OK | L9: 0 | M9: 0 | N9: 0 | O9: 0 | P9: 0 | Q9: 0 | R9: 0 | S9: 0 | T9: 0 | U9: 0 | V9: 0 | W9: 0
C10: 7 | D10: Rack para Videoconferência Sala Reunião (item 4.9 do Termo de Referência) | E10: 44.90.52.42 | F10: 60 | G10: 20 | H10: 2184 | I10: 1 | J10: =I10-(SUM(L10:W10)) -> 1 | K10: =IF(J10<0,"ATENÇÃO","OK") -> OK | L10: 0 | M10: 0 | N10: 0 | O10: 0 | P10: 0 | Q10: 0 | R10: 0 | S10: 0 | T10: 0 | U10: 0 | V10: 0 | W10: 0
C11: 8 | D11: Rack 42u para o Datacenter da SETIC/UDESC (item 4.10 do Termo de Referência) | E11: 44.90.52.42 | F11: 60 | G11: 20 | H11: 4324 | J11: =I11-(SUM(L11:W11)) -> 0 | K11: =IF(J11<0,"ATENÇÃO","OK") -> OK | L11: 0 | M11: 0 | N11: 0 | O11: 0 | P11: 0 | Q11: 0 | R11: 0 | S11: 0 | T11: 0 | U11: 0 | V11: 0 | W11: 0
C12: 9 | D12: Treinamento (item 16 do Termo de Referência) | E12: 33.90.39.48 | F12: 60 | G12: 20 | H12: 8000 | J12: =I12-(SUM(L12:W12)) -> 0 | K12: =IF(J12<0,"ATENÇÃO","OK") -> OK | L12: 0 | M12: 0 | N12: 0 | O12: 0 | P12: 0 | Q12: 0 | R12: 0 | S12: 0 | T12: 0 | U12: 0 | V12: 0 | W12: 0
C13: 10 | D13: Instalação de Unidade de Controle Multimídia – MCU (item 4.1 do Termo de Referência) | E13: 33.90.39.25 | F13: 60 | G13: 20 | H13: 3000 | J13: =I13-(SUM(L13:W13)) -> 0 | K13: =IF(J13<0,"ATENÇÃO","OK") -> OK | L13: 0 | M13: 0 | N13: 0 | O13: 0 | P13: 0 | Q13: 0 | R13: 0 | S13: 0 | T13: 0 | U13: 0 | V13: 0 | W13: 0
C14: 11 | D14: Instalação de Travessia de Firewall (item 4.3 do Termo de Referência) | E14: 33.90.39.25 | F14: 60 | G14: 20 | H14: 3000 | J14: =I14-(SUM(L14:W14)) -> 0 | K14: =IF(J14<0,"ATENÇÃO","OK") -> OK | L14: 0 | M14: 0 | N14: 0 | O14: 0 | P14: 0 | Q14: 0 | R14: 0 | S14: 0 | T14: 0 | U14: 0 | V14: 0 | W14: 0
C15: 12 | D15: Instalação de Sistema de Controle de Chamadas e Plataforma de Gerência (item 4.4 do Termo de Referência) | E15: 33.90.39.25 | F15: 60 | G15: 20 | H15: 3047.5 | J15: =I15-(SUM(L15:W15)) -> 0 | K15: =IF(J15<0,"ATENÇÃO","OK") -> OK | L15: 0 | M15: 0 | N15: 0 | O15: 0 | P15: 0 | Q15: 0 | R15: 0 | S15: 0 | T15: 0 | U15: 0 | V15: 0 | W15: 0
C16: 13 | D16: Instalação de Gravação de Vídeo Digital (item 4.5 do Termo de Referência) | E16: 33.90.39.25 | F16: 60 | G16: 20 | H16: 3000 | J16: =I16-(SUM(L16:W16)) -> 0 | K16: =IF(J16<0,"ATENÇÃO","OK") -> OK | L16: 0 | M16: 0 | N16: 0 | O16: 0 | P16: 0 | Q16: 0 | R16: 0 | S16: 0 | T16: 0 | U16: 0 | V16: 0 | W16: 0
C17: 14 | D17: Instalação de Rack 42u para o Datacenter da SETIC/UDESC (item 4.10 do Termo de Referência) | E17: 33.90.39.25 | F17: 60 | G17: 20 | H17: 933 | J17: =I17-(SUM(L17:W17)) -> 0 | K17: =IF(J17<0,"ATENÇÃO","OK") -> OK | L17: 0 | M17: 0 | N17: 0 | O17: 0 | P17: 0 | Q17: 0 | R17: 0 | S17: 0 | T17: 0 | U17: 0 | V17: 0 | W17: 0
A18: COMP1 INFORMÁTICA LTDA EPP | B18: 2 | C18: 15 | D18: TV LED (item 4.6 do Termo de Referência) | E18: 44.90.52.33 | F18: 60 | G18: 20 | H18: 3335 | I18: 2 | J18: =I18-(SUM(L18:W18)) -> 2 | K18: =IF(J18<0,"ATENÇÃO","OK") -> OK | L18: 0 | M18: 0 | N18: 0 | O18: 0 | P18: 0 | Q18: 0 | R18: 0 | S18: 0 | T18: 0 | U18: 0 | V18: 0 | W18: 0
C19: 16 | D19: Suporte para TV de LED de No Mínimo 50” (item 4.7 do Termo de Referência) | E19: 44.90.52.33 | F19: 60 | G19: 20 | H19: 350 | I19: 2 | J19: =I19-(SUM(L19:W19)) -> 2 | K19: =IF(J19<0,"ATENÇÃO","OK") -> OK | L19: 0 | M19: 0 | N19: 0 | O19: 0 | P19: 0 | Q19: 0 | R19: 0 | S19: 0 | T19: 0 | U19: 0 | V19: 0 | W19: 0
C21: *Marca e Modelo conforme proposta readequada

Sheet CEART
A1: PROCESSO: 1023/2014/UDESC | D1: OBJETO: AQUISIÇÃO DE SOLUÇÃO (EQUIPAMENTOS) EM VIDEOCONFERÊNCIA PARA A UDESC | I1: VIGÊNCIA DA ATA: 10/10/2014 até 09/10/2015 | L1: Contrato nº xxxx/2014 Qtde. DT | M1: Contrato nº xxxx/2014 Qtde. DT | N1: Contrato nº xxxx/2014 Qtde. DT | O1: Contrato nº xxxx/2014 Qtde. DT | P1: Contrato nº xxxx/2014 Qtde. DT | Q1: Contrato nº xxxx/2014 Qtde. DT | R1: Contrato nº xxxx/2014 Qtde. DT | S1: Contrato nº xxxx/2014 Qtde. DT | T1: Contrato nº xxxx/2014 Qtde. DT | U1: Contrato nº xxxx/2014 Qtde. DT | V1: Contrato nº xxxx/2014 Qtde. DT | W1: Contrato nº xxxx/2014 Qtde. DT
A2: CENTRO PARTICIPANTE: CEART
A3: FORNECEDOR | B3: LOTE | C3: ITEM | D3: PRODUTO - CARACTERÍSTICAS MÍNIMAS | E3: ELEMENTO | F3: Entrega (Dias) | G3: Pagto. (Dias) | H3: Preço UNITÁRIO (R$) | I3: Qtde LICITADA | J3: Saldo / Automático | K3: ALERTA | L3: ...../...../...... | M3: ...../...../...... | N3: ...../...../...... | O3: ...../...../...... | P3: ...../...../...... | Q3: ...../...../...... | R3: ...../...../...... | S3: ...../...../...... | T3: ...../...../...... | U3: ...../...../...... | V3: ...../...../...... | W3: ...../...../......
A4: DIGITALNET BRASIL SISTEMAS E COL LTDA | B4: 1 | C4: 1 | D4: Unidade de Controle Multimídia – MCU (item 4.1 do Termo de Referência) | E4: 44.90.52.33 | F4: 60 | G4: 20 | H4: 263107.23 | J4: =I4-(SUM(L4:W4)) -> 0 | K4: =IF(J4<0,"ATENÇÃO","OK") -> OK | L4: 0 | M4: 0 | N4: 0 | O4: 0 | P4: 0 | Q4: 0 | R4: 0 | S4: 0 | T4: 0 | U4: 0 | V4: 0 | W4: 0
C5: 2 | D5: Terminal de Videoconferência (item 4.2 do Termo de Referência) | E5: 44.90.52.33 | F5: 60 | G5: 20 | H5: 18553.09 | I5: 1 | J5: =I5-(SUM(L5:W5)) -> 1 | K5: =IF(J5<0,"ATENÇÃO","OK") -> OK | L5: 0 | M5: 0 | N5: 0 | O5: 0 | P5: 0 | Q5: 0 | R5: 0 | S5: 0 | T5: 0 | U5: 0 | V5: 0 | W5: 0
C6: 3 | D6: Travessia de Firewall (item 4.3 do Termo de Referência) | E6: 44.90.52.33 | F6: 60 | G6: 20 | H6: 31760.19 | J6: =I6-(SUM(L6:W6)) -> 0 | K6: =IF(J6<0,"ATENÇÃO","OK") -> OK | L6: 0 | M6: 0 | N6: 0 | O6: 0 | P6: 0 | Q6: 0 | R6: 0 | S6: 0 | T6: 0 | U6: 0 | V6: 0 | W6: 0
C7: 4 | D7: Sistema de Controle de Chamadas e Plataforma de Gerência (item 4.4 do Termo de Referência) | E7: 44.90.52.33 | F7: 60 | G7: 20 | H7: 47134 | J7: =I7-(SUM(L7:W7)) -> 0 | K7: =IF(J7<0,"ATENÇÃO","OK") -> OK | L7: 0 | M7: 0 | N7: 0 | O7: 0 | P7: 0 | Q7: 0 | R7: 0 | S7: 0 | T7: 0 | U7: 0 | V7: 0 | W7: 0
C8: 5 | D8: Gravação de Vídeo Digital (item 4.5 do Termo de Referência) | E8: 44.90.52.33 | F8: 60 | G8: 20 | H8: 49990.82 | J8: =I8-(SUM(L8:W8)) -> 0 | K8: =IF(J8<0,"ATENÇÃO","OK") -> OK | L8: 0 | M8: 0 | N8: 0 | O8: 0 | P8: 0 | Q8: 0 | R8: 0 | S8: 0 | T8: 0 | U8: 0 | V8: 0 | W8: 0
C9: 6 | D9: Suporte para Endpoint Microfone e Controle Remoto (item 4.8 do Termo de Referência) | E9: 44.90.52.33 | F9: 60 | G9: 20 | H9: 407 | I9: 1 | J9: =I9-(SUM(L9:W9)) -> 1 | K9: =IF(J9<0,"ATENÇÃO","OK") -> OK | L9: 0 | M9: 0 | N9: 0 | O9: 0 | P9: 0 | Q9: 0 | R9: 0 | S9: 0 | T9: 0 | U9: 0 | V9: 0 | W9: 0
C10: 7 | D10: Rack para Videoconferência Sala Reunião (item 4.9 do Termo de Referência) | E10: 44.90.52.42 | F10: 60 | G10: 20 | H10: 2184 | I10: 1 | J10: =I10-(SUM(L10:W10)) -> 1 | K10: =IF(J10<0,"ATENÇÃO","OK") -> OK | L10: 0 | M10: 0 | N10: 0 | O10: 0 | P10: 0 | Q10: 0 | R10: 0 | S10: 0 | T10: 0 | U10: 0 | V10: 0 | W10: 0
C11: 8 | D11: Rack 42u para o Datacenter da SETIC/UDESC (item 4.10 do Termo de Referência) | E11: 44.90.52.42 | F11: 60 | G11: 20 | H11: 4324 | J11: =I11-(SUM(L11:W11)) -> 0 | K11: =IF(J11<0,"ATENÇÃO","OK") -> OK | L11: 0 | M11: 0 | N11: 0 | O11: 0 | P11: 0 | Q11: 0 | R11: 0 | S11: 0 | T11: 0 | U11: 0 | V11: 0 | W11: 0
C12: 9 | D12: Treinamento (item 16 do Termo de Referência) | E12: 33.90.39.48 | F12: 60 | G12: 20 | H12: 8000 | J12: =I12-(SUM(L12:W12)) -> 0 | K12: =IF(J12<0,"ATENÇÃO","OK") -> OK | L12: 0 | M12: 0 | N12: 0 | O12: 0 | P12: 0 | Q12: 0 | R12: 0 | S12: 0 | T12: 0 | U12: 0 | V12: 0 | W12: 0
C13: 10 | D13: Instalação de Unidade de Controle Multimídia – MCU (item 4.1 do Termo de Referência) | E13: 33.90.39.25 | F13: 60 | G13: 20 | H13: 3000 | J13: =I13-(SUM(L13:W13)) -> 0 | K13: =IF(J13<0,"ATENÇÃO","OK") -> OK | L13: 0 | M13: 0 | N13: 0 | O13: 0 | P13: 0 | Q13: 0 | R13: 0 | S13: 0 | T13: 0 | U13: 0 | V13: 0 | W13: 0
C14: 11 | D14: Instalação de Travessia de Firewall (item 4.3 do Termo de Referência) | E14: 33.90.39.25 | F14: 60 | G14: 20 | H14: 3000 | J14: =I14-(SUM(L14:W14)) -> 0 | K14: =IF(J14<0,"ATENÇÃO","OK") -> OK | L14: 0 | M14: 0 | N14: 0 | O14: 0 | P14: 0 | Q14: 0 | R14: 0 | S14: 0 | T14: 0 | U14: 0 | V14: 0 | W14: 0
C15: 12 | D15: Instalação de Sistema de Controle de Chamadas e Plataforma de Gerência (item 4.4 do Termo de Referência) | E15: 33.90.39.25 | F15: 60 | G15: 20 | H15: 3047.5 | J15: =I15-(SUM(L15:W15)) -> 0 | K15: =IF(J15<0,"ATENÇÃO","OK") -> OK | L15: 0 | M15: 0 | N15: 0 | O15: 0 | P15: 0 | Q15: 0 | R15: 0 | S15: 0 | T15: 0 | U15: 0 | V15: 0 | W15: 0
C16: 13 | D16: Instalação de Gravação de Vídeo Digital (item 4.5 do Termo de Referência) | E16: 33.90.39.25 | F16: 60 | G16: 20 | H16: 3000 | J16: =I16-(SUM(L16:W16)) -> 0 | K16: =IF(J16<0,"ATENÇÃO","OK") -> OK | L16: 0 | M16: 0 | N16: 0 | O16: 0 | P16: 0 | Q16: 0 | R16: 0 | S16: 0 | T16: 0 | U16: 0 | V16: 0 | W16: 0
C17: 14 | D17: Instalação de Rack 42u para o Datacenter da SETIC/UDESC (item 4.10 do Termo de Referência) | E17: 33.90.39.25 | F17: 60 | G17: 20 | H17: 933 | J17: =I17-(SUM(L17:W17)) -> 0 | K17: =IF(J17<0,"ATENÇÃO","OK") -> OK | L17: 0 | M17: 0 | N17: 0 | O17: 0 | P17: 0 | Q17: 0 | R17: 0 | S17: 0 | T17: 0 | U17: 0 | V17: 0 | W17: 0
A18: COMP1 INFORMÁTICA LTDA EPP | B18: 2 | C18: 15 | D18: TV LED (item 4.6 do Termo de Referência) | E18: 44.90.52.33 | F18: 60 | G18: 20 | H18: 3335 | I18: 2 | J18: =I18-(SUM(L18:W18)) -> 2 | K18: =IF(J18<0,"ATENÇÃO","OK") -> OK | L18: 0 | M18: 0 | N18: 0 | O18: 0 | P18: 0 | Q18: 0 | R18: 0 | S18: 0 | T18: 0 | U18: 0 | V18: 0 | W18: 0
C19: 16 | D19: Suporte para TV de LED de No Mínimo 50” (item 4.7 do Termo de Referência) | E19: 44.90.52.33 | F19: 60 | G19: 20 | H19: 350 | I19: 2 | J19: =I19-(SUM(L19:W19)) -> 2 | K19: =IF(J19<0,"ATENÇÃO","OK") -> OK | L19: 0 | M19: 0 | N19: 0 | O19: 0 | P19: 0 | Q19: 0 | R19: 0 | S19: 0 | T19: 0 | U19: 0 | V19: 0 | W19: 0
C21: *Marca e Modelo conforme proposta readequada

Sheet FAED
A1: PROCESSO: 1023/2014/UDESC | D1: OBJETO: AQUISIÇÃO DE SOLUÇÃO (EQUIPAMENTOS) EM VIDEOCONFERÊNCIA PARA A UDESC | I1: VIGÊNCIA DA ATA: 10/10/2014 até 09/10/2015 | L1: Contrato nº xxxx/2014 Qtde. DT | M1: Contrato nº xxxx/2014 Qtde. DT | N1: Contrato nº xxxx/2014 Qtde. DT | O1: Contrato nº xxxx/2014 Qtde. DT | P1: Contrato nº xxxx/2014 Qtde. DT | Q1: Contrato nº xxxx/2014 Qtde. DT | R1: Contrato nº xxxx/2014 Qtde. DT | S1: Contrato nº xxxx/2014 Qtde. DT | T1: Contrato nº xxxx/2014 Qtde. DT | U1: Contrato nº xxxx/2014 Qtde. DT | V1: Contrato nº xxxx/2014 Qtde. DT | W1: Contrato nº xxxx/2014 Qtde. DT
A2: CENTRO PARTICIPANTE: FAED
A3: FORNECEDOR | B3: LOTE | C3: ITEM | D3: PRODUTO - CARACTERÍSTICAS MÍNIMAS | E3: ELEMENTO | F3: Entrega (Dias) | G3: Pagto. (Dias) | H3: Preço UNITÁRIO (R$) | I3: Qtde LICITADA | J3: Saldo / Automático | K3: ALERTA | L3: ...../...../...... | M3: ...../...../...... | N3: ...../...../...... | O3: ...../...../...... | P3: ...../...../...... | Q3: ...../...../...... | R3: ...../...../...... | S3: ...../...../...... | T3: ...../...../...... | U3: ...../...../...... | V3: ...../...../...... | W3: ...../...../......
A4: DIGITALNET BRASIL SISTEMAS E COL LTDA | B4: 1 | C4: 1 | D4: Unidade de Controle Multimídia – MCU (item 4.1 do Termo de Referência) | E4: 44.90.52.33 | F4: 60 | G4: 20 | H4: 263107.23 | J4: =I4-(SUM(L4:W4)) -> 0 | K4: =IF(J4<0,"ATENÇÃO","OK") -> OK | L4: 0 | M4: 0 | N4: 0 | O4: 0 | P4: 0 | Q4: 0 | R4: 0 | S4: 0 | T4: 0 | U4: 0 | V4: 0 | W4: 0
C5: 2 | D5: Terminal de Videoconferência (item 4.2 do Termo de Referência) | E5: 44.90.52.33 | F5: 60 | G5: 20 | H5: 18553.09 | I5: 1 | J5: =I5-(SUM(L5:W5)) -> 1 | K5: =IF(J5<0,"ATENÇÃO","OK") -> OK | L5: 0 | M5: 0 | N5: 0 | O5: 0 | P5: 0 | Q5: 0 | R5: 0 | S5: 0 | T5: 0 | U5: 0 | V5: 0 | W5: 0
C6: 3 | D6: Travessia de Firewall (item 4.3 do Termo de Referência) | E6: 44.90.52.33 | F6: 60 | G6: 20 | H6: 31760.19 | J6: =I6-(SUM(L6:W6)) -> 0 | K6: =IF(J6<0,"ATENÇÃO","OK") -> OK | L6: 0 | M6: 0 | N6: 0 | O6: 0 | P6: 0 | Q6: 0 | R6: 0 | S6: 0 | T6: 0 | U6: 0 | V6: 0 | W6: 0
C7: 4 | D7: Sistema de Controle de Chamadas e Plataforma de Gerência (item 4.4 do Termo de Referência) | E7: 44.90.52.33 | F7: 60 | G7: 20 | H7: 47134 | J7: =I7-(SUM(L7:W7)) -> 0 | K7: =IF(J7<0,"ATENÇÃO","OK") -> OK | L7: 0 | M7: 0 | N7: 0 | O7: 0 | P7: 0 | Q7: 0 | R7: 0 | S7: 0 | T7: 0 | U7: 0 | V7: 0 | W7: 0
C8: 5 | D8: Gravação de Vídeo Digital (item 4.5 do Termo de Referência) | E8: 44.90.52.33 | F8: 60 | G8: 20 | H8: 49990.82 | J8: =I8-(SUM(L8:W8)) -> 0 | K8: =IF(J8<0,"ATENÇÃO","OK") -> OK | L8: 0 | M8: 0 | N8: 0 | O8: 0 | P8: 0 | Q8: 0 | R8: 0 | S8: 0 | T8: 0 | U8: 0 | V8: 0 | W8: 0
C9: 6 | D9: Suporte para Endpoint Microfone e Controle Remoto (item 4.8 do Termo de Referência) | E9: 44.90.52.33 | F9: 60 | G9: 20 | H9: 407 | I9: 1 | J9: =I9-(SUM(L9:W9)) -> 1 | K9: =IF(J9<0,"ATENÇÃO","OK") -> OK | L9: 0 | M9: 0 | N9: 0 | O9: 0 | P9: 0 | Q9: 0 | R9: 0 | S9: 0 | T9: 0 | U9: 0 | V9: 0 | W9: 0
C10: 7 | D10: Rack para Videoconferência Sala Reunião (item 4.9 do Termo de Referência) | E10: 44.90.52.42 | F10: 60 | G10: 20 | H10: 2184 | I10: 1 | J10: =I10-(SUM(L10:W10)) -> 1 | K10: =IF(J10<0,"ATENÇÃO","OK") -> OK | L10: 0 | M10: 0 | N10: 0 | O10: 0 | P10: 0 | Q10: 0 | R10: 0 | S10: 0 | T10: 0 | U10: 0 | V10: 0 | W10: 0
C11: 8 | D11: Rack 42u para o Datacenter da SETIC/UDESC (item 4.10 do Termo de Referência) | E11: 44.90.52.42 | F11: 60 | G11: 20 | H11: 4324 | J11: =I11-(SUM(L11:W11)) -> 0 | K11: =IF(J11<0,"ATENÇÃO","OK") -> OK | L11: 0 | M11: 0 | N11: 0 | O11: 0 | P11: 0 | Q11: 0 | R11: 0 | S11: 0 | T11: 0 | U11: 0 | V11: 0 | W11: 0
C12: 9 | D12: Treinamento (item 16 do Termo de Referência) | E12: 33.90.39.48 | F12: 60 | G12: 20 | H12: 8000 | J12: =I12-(SUM(L12:W12)) -> 0 | K12: =IF(J12<0,"ATENÇÃO","OK") -> OK | L12: 0 | M12: 0 | N12: 0 | O12: 0 | P12: 0 | Q12: 0 | R12: 0 | S12: 0 | T12: 0 | U12: 0 | V12: 0 | W12: 0
C13: 10 | D13: Instalação de Unidade de Controle Multimídia – MCU (item 4.1 do Termo de Referência) | E13: 33.90.39.25 | F13: 60 | G13: 20 | H13: 3000 | J13: =I13-(SUM(L13:W13)) -> 0 | K13: =IF(J13<0,"ATENÇÃO","OK") -> OK | L13: 0 | M13: 0 | N13: 0 | O13: 0 | P13: 0 | Q13: 0 | R13: 0 | S13: 0 | T13: 0 | U13: 0 | V13: 0 | W13: 0
C14: 11 | D14: Instalação de Travessia de Firewall (item 4.3 do Termo de Referência) | E14: 33.90.39.25 | F14: 60 | G14: 20 | H14: 3000 | J14: =I14-(SUM(L14:W14)) -> 0 | K14: =IF(J14<0,"ATENÇÃO","OK") -> OK | L14: 0 | M14: 0 | N14: 0 | O14: 0 | P14: 0 | Q14: 0 | R14: 0 | S14: 0 | T14: 0 | U14: 0 | V14: 0 | W14: 0
C15: 12 | D15: Instalação de Sistema de Controle de Chamadas e Plataforma de Gerência (item 4.4 do Termo de Referência) | E15: 33.90.39.25 | F15: 60 | G15: 20 | H15: 3047.5 | J15: =I15-(SUM(L15:W15)) -> 0 | K15: =IF(J15<0,"ATENÇÃO","OK") -> OK | L15: 0 | M15: 0 | N15: 0 | O15: 0 | P15: 0 | Q15: 0 | R15: 0 | S15: 0 | T15: 0 | U15: 0 | V15: 0 | W15: 0
C16: 13 | D16: Instalação de Gravação de Vídeo Digital (item 4.5 do Termo de Referência) | E16: 33.90.39.25 | F16: 60 | G16: 20 | H16: 3000 | J16: =I16-(SUM(L16:W16)) -> 0 | K16: =IF(J16<0,"ATENÇÃO","OK") -> OK | L16: 0 | M16: 0 | N16: 0 | O16: 0 | P16: 0 | Q16: 0 | R16: 0 | S16: 0 | T16: 0 | U16: 0 | V16: 0 | W16: 0
C17: 14 | D17: Instalação de Rack 42u para o Datacenter da SETIC/UDESC (item 4.10 do Termo de Referência) | E17: 33.90.39.25 | F17: 60 | G17: 20 | H17: 933 | J17: =I17-(SUM(L17:W17)) -> 0 | K17: =IF(J17<0,"ATENÇÃO","OK") -> OK | L17: 0 | M17: 0 | N17: 0 | O17: 0 | P17: 0 | Q17: 0 | R17: 0 | S17: 0 | T17: 0 | U17: 0 | V17: 0 | W17: 0
A18: COMP1 INFORMÁTICA LTDA EPP | B18: 2 | C18: 15 | D18: TV LED (item 4.6 do Termo de Referência) | E18: 44.90.52.33 | F18: 60 | G18: 20 | H18: 3335 | I18: 2 | J18: =I18-(SUM(L18:W18)) -> 2 | K18: =IF(J18<0,"ATENÇÃO","OK") -> OK | L18: 0 | M18: 0 | N18: 0 | O18: 0 | P18: 0 | Q18: 0 | R18: 0 | S18: 0 | T18: 0 | U18: 0 | V18: 0 | W18: 0
C19: 16 | D19: Suporte para TV de LED de No Mínimo 50” (item 4.7 do Termo de Referência) | E19: 44.90.52.33 | F19: 60 | G19: 20 | H19: 350 | I19: 2 | J19: =I19-(SUM(L19:W19)) -> 2 | K19: =IF(J19<0,"ATENÇÃO","OK") -> OK | L19: 0 | M19: 0 | N19: 0 | O19: 0 | P19: 0 | Q19: 0 | R19: 0 | S19: 0 | T19: 0 | U19: 0 | V19: 0 | W19: 0
C21: *Marca e Modelo conforme proposta readequada

Sheet CEAD
A1: PROCESSO: 1023/2014/UDESC | D1: OBJETO: AQUISIÇÃO DE SOLUÇÃO (EQUIPAMENTOS) EM VIDEOCONFERÊNCIA PARA A UDESC | I1: VIGÊNCIA DA ATA: 10/10/2014 até 09/10/2015 | L1: Contrato nº xxxx/2014 Qtde. DT | M1: Contrato nº xxxx/2014 Qtde. DT | N1: Contrato nº xxxx/2014 Qtde. DT | O1: Contrato nº xxxx/2014 Qtde. DT | P1: Contrato nº xxxx/2014 Qtde. DT | Q1: Contrato nº xxxx/2014 Qtde. DT | R1: Contrato nº xxxx/2014 Qtde. DT | S1: Contrato nº xxxx/2014 Qtde. DT | T1: Contrato nº xxxx/2014 Qtde. DT | U1: Contrato nº xxxx/2014 Qtde. DT | V1: Contrato nº xxxx/2014 Qtde. DT | W1: Contrato nº xxxx/2014 Qtde. DT
A2: CENTRO PARTICIPANTE: CEAD
A3: FORNECEDOR | B3: LOTE | C3: ITEM | D3: PRODUTO - CARACTERÍSTICAS MÍNIMAS | E3: ELEMENTO | F3: Entrega (Dias) | G3: Pagto. (Dias) | H3: Preço UNITÁRIO (R$) | I3: Qtde LICITADA | J3: Saldo / Automático | K3: ALERTA | L3: ...../...../...... | M3: ...../...../...... | N3: ...../...../...... | O3: ...../...../...... | P3: ...../...../...... | Q3: ...../...../...... | R3: ...../...../...... | S3: ...../...../...... | T3: ...../...../...... | U3: ...../...../...... | V3: ...../...../...... | W3: ...../...../......
A4: DIGITALNET BRASIL SISTEMAS E COL LTDA | B4: 1 | C4: 1 | D4: Unidade de Controle Multimídia – MCU (item 4.1 do Termo de Referência) | E4: 44.90.52.33 | F4: 60 | G4: 20 | H4: 263107.23 | J4: =I4-(SUM(L4:W4)) -> 0 | K4: =IF(J4<0,"ATENÇÃO","OK") -> OK | L4: 0 | M4: 0 | N4: 0 | O4: 0 | P4: 0 | Q4: 0 | R4: 0 | S4: 0 | T4: 0 | U4: 0 | V4: 0 | W4: 0
C5: 2 | D5: Terminal de Videoconferência (item 4.2 do Termo de Referência) | E5: 44.90.52.33 | F5: 60 | G5: 20 | H5: 18553.09 | I5: 6 | J5: =I5-(SUM(L5:W5)) -> 6 | K5: =IF(J5<0,"ATENÇÃO","OK") -> OK | L5: 0 | M5: 0 | N5: 0 | O5: 0 | P5: 0 | Q5: 0 | R5: 0 | S5: 0 | T5: 0 | U5: 0 | V5: 0 | W5: 0
C6: 3 | D6: Travessia de Firewall (item 4.3 do Termo de Referência) | E6: 44.90.52.33 | F6: 60 | G6: 20 | H6: 31760.19 | J6: =I6-(SUM(L6:W6)) -> 0 | K6: =IF(J6<0,"ATENÇÃO","OK") -> OK | L6: 0 | M6: 0 | N6: 0 | O6: 0 | P6: 0 | Q6: 0 | R6: 0 | S6: 0 | T6: 0 | U6: 0 | V6: 0 | W6: 0
C7: 4 | D7: Sistema de Controle de Chamadas e Plataforma de Gerência (item 4.4 do Termo de Referência) | E7: 44.90.52.33 | F7: 60 | G7: 20 | H7: 47134 | J7: =I7-(SUM(L7:W7)) -> 0 | K7: =IF(J7<0,"ATENÇÃO","OK") -> OK | L7: 0 | M7: 0 | N7: 0 | O7: 0 | P7: 0 | Q7: 0 | R7: 0 | S7: 0 | T7: 0 | U7: 0 | V7: 0 | W7: 0
C8: 5 | D8: Gravação de Vídeo Digital (item 4.5 do Termo de Referência) | E8: 44.90.52.33 | F8: 60 | G8: 20 | H8: 49990.82 | J8: =I8-(SUM(L8:W8)) -> 0 | K8: =IF(J8<0,"ATENÇÃO","OK") -> OK | L8: 0 | M8: 0 | N8: 0 | O8: 0 | P8: 0 | Q8: 0 | R8: 0 | S8: 0 | T8: 0 | U8: 0 | V8: 0 | W8: 0
C9: 6 | D9: Suporte para Endpoint Microfone e Controle Remoto (item 4.8 do Termo de Referência) | E9: 44.90.52.33 | F9: 60 | G9: 20 | H9: 407 | I9: 6 | J9: =I9-(SUM(L9:W9)) -> 6 | K9: =IF(J9<0,"ATENÇÃO","OK") -> OK | L9: 0 | M9: 0 | N9: 0 | O9: 0 | P9: 0 | Q9: 0 | R9: 0 | S9: 0 | T9: 0 | U9: 0 | V9: 0 | W9: 0
C10: 7 | D10: Rack para Videoconferência Sala Reunião (item 4.9 do Termo de Referência) | E10: 44.90.52.42 | F10: 60 | G10: 20 | H10: 2184 | I10: 6 | J10: =I10-(SUM(L10:W10)) -> 6 | K10: =IF(J10<0,"ATENÇÃO","OK") -> OK | L10: 0 | M10: 0 | N10: 0 | O10: 0 | P10: 0 | Q10: 0 | R10: 0 | S10: 0 | T10: 0 | U10: 0 | V10: 0 | W10: 0
C11: 8 | D11: Rack 42u para o Datacenter da SETIC/UDESC (item 4.10 do Termo de Referência) | E11: 44.90.52.42 | F11: 60 | G11: 20 | H11: 4324 | J11: =I11-(SUM(L11:W11)) -> 0 | K11: =IF(J11<0,"ATENÇÃO","OK") -> OK | L11: 0 | M11: 0 | N11: 0 | O11: 0 | P11: 0 | Q11: 0 | R11: 0 | S11: 0 | T11: 0 | U11: 0 | V11: 0 | W11: 0
C12: 9 | D12: Treinamento (item 16 do Termo de Referência) | E12: 33.90.39.48 | F12: 60 | G12: 20 | H12: 8000 | J12: =I12-(SUM(L12:W12)) -> 0 | K12: =IF(J12<0,"ATENÇÃO","OK") -> OK | L12: 0 | M12: 0 | N12: 0 | O12: 0 | P12: 0 | Q12: 0 | R12: 0 | S12: 0 | T12: 0 | U12: 0 | V12: 0 | W12: 0
C13: 10 | D13: Instalação de Unidade de Controle Multimídia – MCU (item 4.1 do Termo de Referência) | E13: 33.90.39.25 | F13: 60 | G13: 20 | H13: 3000 | J13: =I13-(SUM(L13:W13)) -> 0 | K13: =IF(J13<0,"ATENÇÃO","OK") -> OK | L13: 0 | M13: 0 | N13: 0 | O13: 0 | P13: 0 | Q13: 0 | R13: 0 | S13: 0 | T13: 0 | U13: 0 | V13: 0 | W13: 0
C14: 11 | D14: Instalação de Travessia de Firewall (item 4.3 do Termo de Referência) | E14: 33.90.39.25 | F14: 60 | G14: 20 | H14: 3000 | J14: =I14-(SUM(L14:W14)) -> 0 | K14: =IF(J14<0,"ATENÇÃO","OK") -> OK | L14: 0 | M14: 0 | N14: 0 | O14: 0 | P14: 0 | Q14: 0 | R14: 0 | S14: 0 | T14: 0 | U14: 0 | V14: 0 | W14: 0
C15: 12 | D15: Instalação de Sistema de Controle de Chamadas e Plataforma de Gerência (item 4.4 do Termo de Referência) | E15: 33.90.39.25 | F15: 60 | G15: 20 | H15: 3047.5 | J15: =I15-(SUM(L15:W15)) -> 0 | K15: =IF(J15<0,"ATENÇÃO","OK") -> OK | L15: 0 | M15: 0 | N15: 0 | O15: 0 | P15: 0 | Q15: 0 | R15: 0 | S15: 0 | T15: 0 | U15: 0 | V15: 0 | W15: 0
C16: 13 | D16: Instalação de Gravação de Vídeo Digital (item 4.5 do Termo de Referência) | E16: 33.90.39.25 | F16: 60 | G16: 20 | H16: 3000 | J16: =I16-(SUM(L16:W16)) -> 0 | K16: =IF(J16<0,"ATENÇÃO","OK") -> OK | L16: 0 | M16: 0 | N16: 0 | O16: 0 | P16: 0 | Q16: 0 | R16: 0 | S16: 0 | T16: 0 | U16: 0 | V16: 0 | W16: 0
C17: 14 | D17: Instalação de Rack 42u para o Datacenter da SETIC/UDESC (item 4.10 do Termo de Referência) | E17: 33.90.39.25 | F17: 60 | G17: 20 | H17: 933 | J17: =I17-(SUM(L17:W17)) -> 0 | K17: =IF(J17<0,"ATENÇÃO","OK") -> OK | L17: 0 | M17: 0 | N17: 0 | O17: 0 | P17: 0 | Q17: 0 | R17: 0 | S17: 0 | T17: 0 | U17: 0 | V17: 0 | W17: 0
A18: COMP1 INFORMÁTICA LTDA EPP | B18: 2 | C18: 15 | D18: TV LED (item 4.6 do Termo de Referência) | E18: 44.90.52.33 | F18: 60 | G18: 20 | H18: 3335 | I18: 12 | J18: =I18-(SUM(L18:W18)) -> 12 | K18: =IF(J18<0,"ATENÇÃO","OK") -> OK | L18: 0 | M18: 0 | N18: 0 | O18: 0 | P18: 0 | Q18: 0 | R18: 0 | S18: 0 | T18: 0 | U18: 0 | V18: 0 | W18: 0
C19: 16 | D19: Suporte para TV de LED de No Mínimo 50” (item 4.7 do Termo de Referência) | E19: 44.90.52.33 | F19: 60 | G19: 20 | H19: 350 | I19: 12 | J19: =I19-(SUM(L19:W19)) -> 12 | K19: =IF(J19<0,"ATENÇÃO","OK") -> OK | L19: 0 | M19: 0 | N19: 0 | O19: 0 | P19: 0 | Q19: 0 | R19: 0 | S19: 0 | T19: 0 | U19: 0 | V19: 0 | W19: 0
C21: *Marca e Modelo conforme proposta readequada

Sheet CEFID
A1: PROCESSO: 1023/2014/UDESC | D1: OBJETO: AQUISIÇÃO DE SOLUÇÃO (EQUIPAMENTOS) EM VIDEOCONFERÊNCIA PARA A UDESC | I1: VIGÊNCIA DA ATA: 10/10/2014 até 09/10/2015 | L1: Contrato nº xxxx/2014 Qtde. DT | M1: Contrato nº xxxx/2014 Qtde. DT | N1: Contrato nº xxxx/2014 Qtde. DT | O1: Contrato nº xxxx/2014 Qtde. DT | P1: Contrato nº xxxx/2014 Qtde. DT | Q1: Contrato nº xxxx/2014 Qtde. DT | R1: Contrato nº xxxx/2014 Qtde. DT | S1: Contrato nº xxxx/2014 Qtde. DT | T1: Contrato nº xxxx/2014 Qtde. DT | U1: Contrato nº xxxx/2014 Qtde. DT | V1: Contrato nº xxxx/2014 Qtde. DT | W1: Contrato nº xxxx/2014 Qtde. DT
A2: CENTRO PARTICIPANTE: CEFID
A3: FORNECEDOR | B3: LOTE | C3: ITEM | D3: PRODUTO - CARACTERÍSTICAS MÍNIMAS | E3: ELEMENTO | F3: Entrega (Dias) | G3: Pagto. (Dias) | H3: Preço UNITÁRIO (R$) | I3: Qtde LICITADA | J3: Saldo / Automático | K3: ALERTA | L3: ...../...../...... | M3: ...../...../...... | N3: ...../...../...... | O3: ...../...../...... | P3: ...../...../...... | Q3: ...../...../...... | R3: ...../...../...... | S3: ...../...../...... | T3: ...../...../...... | U3: ...../...../...... | V3: ...../...../...... | W3: ...../...../......
A4: DIGITALNET BRASIL SISTEMAS E COL LTDA | B4: 1 | C4: 1 | D4: Unidade de Controle Multimídia – MCU (item 4.1 do Termo de Referência) | E4: 44.90.52.33 | F4: 60 | G4: 20 | H4: 263107.23 | J4: =I4-(SUM(L4:W4)) -> 0 | K4: =IF(J4<0,"ATENÇÃO","OK") -> OK | L4: 0 | M4: 0 | N4: 0 | O4: 0 | P4: 0 | Q4: 0 | R4: 0 | S4: 0 | T4: 0 | U4: 0 | V4: 0 | W4: 0
C5: 2 | D5: Terminal de Videoconferência (item 4.2 do Termo de Referência) | E5: 44.90.52.33 | F5: 60 | G5: 20 | H5: 18553.09 | I5: 1 | J5: =I5-(SUM(L5:W5)) -> 1 | K5: =IF(J5<0,"ATENÇÃO","OK") -> OK | L5: 0 | M5: 0 | N5: 0 | O5: 0 | P5: 0 | Q5: 0 | R5: 0 | S5: 0 | T5: 0 | U5: 0 | V5: 0 | W5: 0
C6: 3 | D6: Travessia de Firewall (item 4.3 do Termo de Referência) | E6: 44.90.52.33 | F6: 60 | G6: 20 | H6: 31760.19 | J6: =I6-(SUM(L6:W6)) -> 0 | K6: =IF(J6<0,"ATENÇÃO","OK") -> OK | L6: 0 | M6: 0 | N6: 0 | O6: 0 | P6: 0 | Q6: 0 | R6: 0 | S6: 0 | T6: 0 | U6: 0 | V6: 0 | W6: 0
C7: 4 | D7: Sistema de Controle de Chamadas e Plataforma de Gerência (item 4.4 do Termo de Referência) | E7: 44.90.52.33 | F7: 60 | G7: 20 | H7: 47134 | J7: =I7-(SUM(L7:W7)) -> 0 | K7: =IF(J7<0,"ATENÇÃO","OK") -> OK | L7: 0 | M7: 0 | N7: 0 | O7: 0 | P7: 0 | Q7: 0 | R7: 0 | S7: 0 | T7: 0 | U7: 0 | V7: 0 | W7: 0
C8: 5 | D8: Gravação de Vídeo Digital (item 4.5 do Termo de Referência) | E8: 44.90.52.33 | F8: 60 | G8: 20 | H8: 49990.82 | J8: =I8-(SUM(L8:W8)) -> 0 | K8: =IF(J8<0,"ATENÇÃO","OK") -> OK | L8: 0 | M8: 0 | N8: 0 | O8: 0 | P8: 0 | Q8: 0 | R8: 0 | S8: 0 | T8: 0 | U8: 0 | V8: 0 | W8: 0
C9: 6 | D9: Suporte para Endpoint Microfone e Controle Remoto (item 4.8 do Termo de Referência) | E9: 44.90.52.33 | F9: 60 | G9: 20 | H9: 407 | I9: 1 | J9: =I9-(SUM(L9:W9)) -> 1 | K9: =IF(J9<0,"ATENÇÃO","OK") -> OK | L9: 0 | M9: 0 | N9: 0 | O9: 0 | P9: 0 | Q9: 0 | R9: 0 | S9: 0 | T9: 0 | U9: 0 | V9: 0 | W9: 0
C10: 7 | D10: Rack para Videoconferência Sala Reunião (item 4.9 do Termo de Referência) | E10: 44.90.52.42 | F10: 60 | G10: 20 | H10: 2184 | I10: 1 | J10: =I10-(SUM(L10:W10)) -> 1 | K10: =IF(J10<0,"ATENÇÃO","OK") -> OK | L10: 0 | M10: 0 | N10: 0 | O10: 0 | P10: 0 | Q10: 0 | R10: 0 | S10: 0 | T10: 0 | U10: 0 | V10: 0 | W10: 0
C11: 8 | D11: Rack 42u para o Datacenter da SETIC/UDESC (item 4.10 do Termo de Referência) | E11: 44.90.52.42 | F11: 60 | G11: 20 | H11: 4324 | J11: =I11-(SUM(L11:W11)) -> 0 | K11: =IF(J11<0,"ATENÇÃO","OK") -> OK | L11: 0 | M11: 0 | N11: 0 | O11: 0 | P11: 0 | Q11: 0 | R11: 0 | S11: 0 | T11: 0 | U11: 0 | V11: 0 | W11: 0
C12: 9 | D12: Treinamento (item 16 do Termo de Referência) | E12: 33.90.39.48 | F12: 60 | G12: 20 | H12: 8000 | J12: =I12-(SUM(L12:W12)) -> 0 | K12: =IF(J12<0,"ATENÇÃO","OK") -> OK | L12: 0 | M12: 0 | N12: 0 | O12: 0 | P12: 0 | Q12: 0 | R12: 0 | S12: 0 | T12: 0 | U12: 0 | V12: 0 | W12: 0
C13: 10 | D13: Instalação de Unidade de Controle Multimídia – MCU (item 4.1 do Termo de Referência) | E13: 33.90.39.25 | F13: 60 | G13: 20 | H13: 3000 | J13: =I13-(SUM(L13:W13)) -> 0 | K13: =IF(J13<0,"ATENÇÃO","OK") -> OK | L13: 0 | M13: 0 | N13: 0 | O13: 0 | P13: 0 | Q13: 0 | R13: 0 | S13: 0 | T13: 0 | U13: 0 | V13: 0 | W13: 0
C14: 11 | D14: Instalação de Travessia de Firewall (item 4.3 do Termo de Referência) | E14: 33.90.39.25 | F14: 60 | G14: 20 | H14: 3000 | J14: =I14-(SUM(L14:W14)) -> 0 | K14: =IF(J14<0,"ATENÇÃO","OK") -> OK | L14: 0 | M14: 0 | N14: 0 | O14: 0 | P14: 0 | Q14: 0 | R14: 0 | S14: 0 | T14: 0 | U14: 0 | V14: 0 | W14: 0
C15: 12 | D15: Instalação de Sistema de Controle de Chamadas e Plataforma de Gerência (item 4.4 do Termo de Referência) | E15: 33.90.39.25 | F15: 60 | G15: 20 | H15: 3047.5 | J15: =I15-(SUM(L15:W15)) -> 0 | K15: =IF(J15<0,"ATENÇÃO","OK") -> OK | L15: 0 | M15: 0 | N15: 0 | O15: 0 | P15: 0 | Q15: 0 | R15: 0 | S15: 0 | T15: 0 | U15: 0 | V15: 0 | W15: 0
C16: 13 | D16: Instalação de Gravação de Vídeo Digital (item 4.5 do Termo de Referência) | E16: 33.90.39.25 | F16: 60 | G16: 20 | H16: 3000 | J16: =I16-(SUM(L16:W16)) -> 0 | K16: =IF(J16<0,"ATENÇÃO","OK") -> OK | L16: 0 | M16: 0 | N16: 0 | O16: 0 | P16: 0 | Q16: 0 | R16: 0 | S16: 0 | T16: 0 | U16: 0 | V16: 0 | W16: 0
C17: 14 | D17: Instalação de Rack 42u para o Datacenter da SETIC/UDESC (item 4.10 do Termo de Referência) | E17: 33.90.39.25 | F17: 60 | G17: 20 | H17: 933 | J17: =I17-(SUM(L17:W17)) -> 0 | K17: =IF(J17<0,"ATENÇÃO","OK") -> OK | L17: 0 | M17: 0 | N17: 0 | O17: 0 | P17: 0 | Q17: 0 | R17: 0 | S17: 0 | T17: 0 | U17: 0 | V17: 0 | W17: 0
A18: COMP1 INFORMÁTICA LTDA EPP | B18: 2 | C18: 15 | D18: TV LED (item 4.6 do Termo de Referência) | E18: 44.90.52.33 | F18: 60 | G18: 20 | H18: 3335 | I18: 2 | J18: =I18-(SUM(L18:W18)) -> 2 | K18: =IF(J18<0,"ATENÇÃO","OK") -> OK | L18: 0 | M18: 0 | N18: 0 | O18: 0 | P18: 0 | Q18: 0 | R18: 0 | S18: 0 | T18: 0 | U18: 0 | V18: 0 | W18: 0
C19: 16 | D19: Suporte para TV de LED de No Mínimo 50” (item 4.7 do Termo de Referência) | E19: 44.90.52.33 | F19: 60 | G19: 20 | H19: 350 | I19: 2 | J19: =I19-(SUM(L19:W19)) -> 2 | K19: =IF(J19<0,"ATENÇÃO","OK") -> OK | L19: 0 | M19: 0 | N19: 0 | O19: 0 | P19: 0 | Q19: 0 | R19: 0 | S19: 0 | T19: 0 | U19: 0 | V19: 0 | W19: 0
C21: *Marca e Modelo conforme proposta readequada

Sheet CERES
A1: PROCESSO: 1023/2014/UDESC | D1: OBJETO: AQUISIÇÃO DE SOLUÇÃO (EQUIPAMENTOS) EM VIDEOCONFERÊNCIA PARA A UDESC | I1: VIGÊNCIA DA ATA: 10/10/2014 até 09/10/2015 | L1: Contrato nº xxxx/2014 Qtde. DT | M1: Contrato nº xxxx/2014 Qtde. DT | N1: Contrato nº xxxx/2014 Qtde. DT | O1: Contrato nº xxxx/2014 Qtde. DT | P1: Contrato nº xxxx/2014 Qtde. DT | Q1: Contrato nº xxxx/2014 Qtde. DT | R1: Contrato nº xxxx/2014 Qtde. DT | S1: Contrato nº xxxx/2014 Qtde. DT | T1: Contrato nº xxxx/2014 Qtde. DT | U1: Contrato nº xxxx/2014 Qtde. DT | V1: Contrato nº xxxx/2014 Qtde. DT | W1: Contrato nº xxxx/2014 Qtde. DT
A2: CENTRO PARTICIPANTE: CERES
A3: FORNECEDOR | B3: LOTE | C3: ITEM | D3: PRODUTO - CARACTERÍSTICAS MÍNIMAS | E3: ELEMENTO | F3: Entrega (Dias) | G3: Pagto. (Dias) | H3: Preço UNITÁRIO (R$) | I3: Qtde LICITADA | J3: Saldo / Automático | K3: ALERTA | L3: ...../...../...... | M3: ...../...../...... | N3: ...../...../...... | O3: ...../...../...... | P3: ...../...../...... | Q3: ...../...../...... | R3: ...../...../...... | S3: ...../...../...... | T3: ...../...../...... | U3: ...../...../...... | V3: ...../...../...... | W3: ...../...../......
A4: DIGITALNET BRASIL SISTEMAS E COL LTDA | B4: 1 | C4: 1 | D4: Unidade de Controle Multimídia – MCU (item 4.1 do Termo de Referência) | E4: 44.90.52.33 | F4: 60 | G4: 20 | H4: 263107.23 | J4: =I4-(SUM(L4:W4)) -> 0 | K4: =IF(J4<0,"ATENÇÃO","OK") -> OK | L4: 0 | M4: 0 | N4: 0 | O4: 0 | P4: 0 | Q4: 0 | R4: 0 | S4: 0 | T4: 0 | U4: 0 | V4: 0 | W4: 0
C5: 2 | D5: Terminal de Videoconferência (item 4.2 do Termo de Referência) | E5: 44.90.52.33 | F5: 60 | G5: 20 | H5: 18553.09 | I5: 1 | J5: =I5-(SUM(L5:W5)) -> 1 | K5: =IF(J5<0,"ATENÇÃO","OK") -> OK | L5: 0 | M5: 0 | N5: 0 | O5: 0 | P5: 0 | Q5: 0 | R5: 0 | S5: 0 | T5: 0 | U5: 0 | V5: 0 | W5: 0
C6: 3 | D6: Travessia de Firewall (item 4.3 do Termo de Referência) | E6: 44.90.52.33 | F6: 60 | G6: 20 | H6: 31760.19 | J6: =I6-(SUM(L6:W6)) -> 0 | K6: =IF(J6<0,"ATENÇÃO","OK") -> OK | L6: 0 | M6: 0 | N6: 0 | O6: 0 | P6: 0 | Q6: 0 | R6: 0 | S6: 0 | T6: 0 | U6: 0 | V6: 0 | W6: 0
C7: 4 | D7: Sistema de Controle de Chamadas e Plataforma de Gerência (item 4.4 do Termo de Referência) | E7: 44.90.52.33 | F7: 60 | G7: 20 | H7: 47134 | J7: =I7-(SUM(L7:W7)) -> 0 | K7: =IF(J7<0,"ATENÇÃO","OK") -> OK | L7: 0 | M7: 0 | N7: 0 | O7: 0 | P7: 0 | Q7: 0 | R7: 0 | S7: 0 | T7: 0 | U7: 0 | V7: 0 | W7: 0
C8: 5 | D8: Gravação de Vídeo Digital (item 4.5 do Termo de Referência) | E8: 44.90.52.33 | F8: 60 | G8: 20 | H8: 49990.82 | J8: =I8-(SUM(L8:W8)) -> 0 | K8: =IF(J8<0,"ATENÇÃO","OK") -> OK | L8: 0 | M8: 0 | N8: 0 | O8: 0 | P8: 0 | Q8: 0 | R8: 0 | S8: 0 | T8: 0 | U8: 0 | V8: 0 | W8: 0
C9: 6 | D9: Suporte para Endpoint Microfone e Controle Remoto (item 4.8 do Termo de Referência) | E9: 44.90.52.33 | F9: 60 | G9: 20 | H9: 407 | I9: 1 | J9: =I9-(SUM(L9:W9)) -> 1 | K9: =IF(J9<0,"ATENÇÃO","OK") -> OK | L9: 0 | M9: 0 | N9: 0 | O9: 0 | P9: 0 | Q9: 0 | R9: 0 | S9: 0 | T9: 0 | U9: 0 | V9: 0 | W9: 0
C10: 7 | D10: Rack para Videoconferência Sala Reunião (item 4.9 do Termo de Referência) | E10: 44.90.52.42 | F10: 60 | G10: 20 | H10: 2184 | I10: 1 | J10: =I10-(SUM(L10:W10)) -> 1 | K10: =IF(J10<0,"ATENÇÃO","OK") -> OK | L10: 0 | M10: 0 | N10: 0 | O10: 0 | P10: 0 | Q10: 0 | R10: 0 | S10: 0 | T10: 0 | U10: 0 | V10: 0 | W10: 0
C11: 8 | D11: Rack 42u para o Datacenter da SETIC/UDESC (item 4.10 do Termo de Referência) | E11: 44.90.52.42 | F11: 60 | G11: 20 | H11: 4324 | J11: =I11-(SUM(L11:W11)) -> 0 | K11: =IF(J11<0,"ATENÇÃO","OK") -> OK | L11: 0 | M11: 0 | N11: 0 | O11: 0 | P11: 0 | Q11: 0 | R11: 0 | S11: 0 | T11: 0 | U11: 0 | V11: 0 | W11: 0
C12: 9 | D12: Treinamento (item 16 do Termo de Referência) | E12: 33.90.39.48 | F12: 60 | G12: 20 | H12: 8000 | J12: =I12-(SUM(L12:W12)) -> 0 | K12: =IF(J12<0,"ATENÇÃO","OK") -> OK | L12: 0 | M12: 0 | N12: 0 | O12: 0 | P12: 0 | Q12: 0 | R12: 0 | S12: 0 | T12: 0 | U12: 0 | V12: 0 | W12: 0
C13: 10 | D13: Instalação de Unidade de Controle Multimídia – MCU (item 4.1 do Termo de Referência) | E13: 33.90.39.25 | F13: 60 | G13: 20 | H13: 3000 | J13: =I13-(SUM(L13:W13)) -> 0 | K13: =IF(J13<0,"ATENÇÃO","OK") -> OK | L13: 0 | M13: 0 | N13: 0 | O13: 0 | P13: 0 | Q13: 0 | R13: 0 | S13: 0 | T13: 0 | U13: 0 | V13: 0 | W13: 0
C14: 11 | D14: Instalação de Travessia de Firewall (item 4.3 do Termo de Referência) | E14: 33.90.39.25 | F14: 60 | G14: 20 | H14: 3000 | J14: =I14-(SUM(L14:W14)) -> 0 | K14: =IF(J14<0,"ATENÇÃO","OK") -> OK | L14: 0 | M14: 0 | N14: 0 | O14: 0 | P14: 0 | Q14: 0 | R14: 0 | S14: 0 | T14: 0 | U14: 0 | V14: 0 | W14: 0
C15: 12 | D15: Instalação de Sistema de Controle de Chamadas e Plataforma de Gerência (item 4.4 do Termo de Referência) | E15: 33.90.39.25 | F15: 60 | G15: 20 | H15: 3047.5 | J15: =I15-(SUM(L15:W15)) -> 0 | K15: =IF(J15<0,"ATENÇÃO","OK") -> OK | L15: 0 | M15: 0 | N15: 0 | O15: 0 | P15: 0 | Q15: 0 | R15: 0 | S15: 0 | T15: 0 | U15: 0 | V15: 0 | W15: 0
C16: 13 | D16: Instalação de Gravação de Vídeo Digital (item 4.5 do Termo de Referência) | E16: 33.90.39.25 | F16: 60 | G16: 20 | H16: 3000 | J16: =I16-(SUM(L16:W16)) -> 0 | K16: =IF(J16<0,"ATENÇÃO","OK") -> OK | L16: 0 | M16: 0 | N16: 0 | O16: 0 | P16: 0 | Q16: 0 | R16: 0 | S16: 0 | T16: 0 | U16: 0 | V16: 0 | W16: 0
C17: 14 | D17: Instalação de Rack 42u para o Datacenter da SETIC/UDESC (item 4.10 do Termo de Referência) | E17: 33.90.39.25 | F17: 60 | G17: 20 | H17: 933 | J17: =I17-(SUM(L17:W17)) -> 0 | K17: =IF(J17<0,"ATENÇÃO","OK") -> OK | L17: 0 | M17: 0 | N17: 0 | O17: 0 | P17: 0 | Q17: 0 | R17: 0 | S17: 0 | T17: 0 | U17: 0 | V17: 0 | W17: 0
A18: COMP1 INFORMÁTICA LTDA EPP | B18: 2 | C18: 15 | D18: TV LED (item 4.6 do Termo de Referência) | E18: 44.90.52.33 | F18: 60 | G18: 20 | H18: 3335 | I18: 2 | J18: =I18-(SUM(L18:W18)) -> 2 | K18: =IF(J18<0,"ATENÇÃO","OK") -> OK | L18: 0 | M18: 0 | N18: 0 | O18: 0 | P18: 0 | Q18: 0 | R18: 0 | S18: 0 | T18: 0 | U18: 0 | V18: 0 | W18: 0
C19: 16 | D19: Suporte para TV de LED de No Mínimo 50” (item 4.7 do Termo de Referência) | E19: 44.90.52.33 | F19: 60 | G19: 20 | H19: 350 | I19: 2 | J19: =I19-(SUM(L19:W19)) -> 2 | K19: =IF(J19<0,"ATENÇÃO","OK") -> OK | L19: 0 | M19: 0 | N19: 0 | O19: 0 | P19: 0 | Q19: 0 | R19: 0 | S19: 0 | T19: 0 | U19: 0 | V19: 0 | W19: 0
C21: *Marca e Modelo conforme proposta readequada

Sheet CESFI
A1: PROCESSO: 1023/2014/UDESC | D1: OBJETO: AQUISIÇÃO DE SOLUÇÃO (EQUIPAMENTOS) EM VIDEOCONFERÊNCIA PARA A UDESC | I1: VIGÊNCIA DA ATA: 10/10/2014 até 09/10/2015 | L1: Contrato nº xxxx/2014 Qtde. DT | M1: Contrato nº xxxx/2014 Qtde. DT | N1: Contrato nº xxxx/2014 Qtde. DT | O1: Contrato nº xxxx/2014 Qtde. DT | P1: Contrato nº xxxx/2014 Qtde. DT | Q1: Contrato nº xxxx/2014 Qtde. DT | R1: Contrato nº xxxx/2014 Qtde. DT | S1: Contrato nº xxxx/2014 Qtde. DT | T1: Contrato nº xxxx/2014 Qtde. DT | U1: Contrato nº xxxx/2014 Qtde. DT | V1: Contrato nº xxxx/2014 Qtde. DT | W1: Contrato nº xxxx/2014 Qtde. DT
A2: CENTRO PARTICIPANTE: CESFI
A3: FORNECEDOR | B3: LOTE | C3: ITEM | D3: PRODUTO - CARACTERÍSTICAS MÍNIMAS | E3: ELEMENTO | F3: Entrega (Dias) | G3: Pagto. (Dias) | H3: Preço UNITÁRIO (R$) | I3: Qtde LICITADA | J3: Saldo / Automático | K3: ALERTA | L3: ...../...../...... | M3: ...../...../...... | N3: ...../...../...... | O3: ...../...../...... | P3: ...../...../...... | Q3: ...../...../...... | R3: ...../...../...... | S3: ...../...../...... | T3: ...../...../...... | U3: ...../...../...... | V3: ...../...../...... | W3: ...../...../......
A4: DIGITALNET BRASIL SISTEMAS E COL LTDA | B4: 1 | C4: 1 | D4: Unidade de Controle Multimídia – MCU (item 4.1 do Termo de Referência) | E4: 44.90.52.33 | F4: 60 | G4: 20 | H4: 263107.23 | J4: =I4-(SUM(L4:W4)) -> 0 | K4: =IF(J4<0,"ATENÇÃO","OK") -> OK | L4: 0 | M4: 0 | N4: 0 | O4: 0 | P4: 0 | Q4: 0 | R4: 0 | S4: 0 | T4: 0 | U4: 0 | V4: 0 | W4: 0
C5: 2 | D5: Terminal de Videoconferência (item 4.2 do Termo de Referência) | E5: 44.90.52.33 | F5: 60 | G5: 20 | H5: 18553.09 | I5: 1 | J5: =I5-(SUM(L5:W5)) -> 1 | K5: =IF(J5<0,"ATENÇÃO","OK") -> OK | L5: 0 | M5: 0 | N5: 0 | O5: 0 | P5: 0 | Q5: 0 | R5: 0 | S5: 0 | T5: 0 | U5: 0 | V5: 0 | W5: 0
C6: 3 | D6: Travessia de Firewall (item 4.3 do Termo de Referência) | E6: 44.90.52.33 | F6: 60 | G6: 20 | H6: 31760.19 | J6: =I6-(SUM(L6:W6)) -> 0 | K6: =IF(J6<0,"ATENÇÃO","OK") -> OK | L6: 0 | M6: 0 | N6: 0 | O6: 0 | P6: 0 | Q6: 0 | R6: 0 | S6: 0 | T6: 0 | U6: 0 | V6: 0 | W6: 0
C7: 4 | D7: Sistema de Controle de Chamadas e Plataforma de Gerência (item 4.4 do Termo de Referência) | E7: 44.90.52.33 | F7: 60 | G7: 20 | H7: 47134 | J7: =I7-(SUM(L7:W7)) -> 0 | K7: =IF(J7<0,"ATENÇÃO","OK") -> OK | L7: 0 | M7: 0 | N7: 0 | O7: 0 | P7: 0 | Q7: 0 | R7: 0 | S7: 0 | T7: 0 | U7: 0 | V7: 0 | W7: 0
C8: 5 | D8: Gravação de Vídeo Digital (item 4.5 do Termo de Referência) | E8: 44.90.52.33 | F8: 60 | G8: 20 | H8: 49990.82 | J8: =I8-(SUM(L8:W8)) -> 0 | K8: =IF(J8<0,"ATENÇÃO","OK") -> OK | L8: 0 | M8: 0 | N8: 0 | O8: 0 | P8: 0 | Q8: 0 | R8: 0 | S8: 0 | T8: 0 | U8: 0 | V8: 0 | W8: 0
C9: 6 | D9: Suporte para Endpoint Microfone e Controle Remoto (item 4.8 do Termo de Referência) | E9: 44.90.52.33 | F9: 60 | G9: 20 | H9: 407 | I9: 1 | J9: =I9-(SUM(L9:W9)) -> 1 | K9: =IF(J9<0,"ATENÇÃO","OK") -> OK | L9: 0 | M9: 0 | N9: 0 | O9: 0 | P9: 0 | Q9: 0 | R9: 0 | S9: 0 | T9: 0 | U9: 0 | V9: 0 | W9: 0
C10: 7 | D10: Rack para Videoconferência Sala Reunião (item 4.9 do Termo de Referência) | E10: 44.90.52.42 | F10: 60 | G10: 20 | H10: 2184 | I10: 1 | J10: =I10-(SUM(L10:W10)) -> 1 | K10: =IF(J10<0,"ATENÇÃO","OK") -> OK | L10: 0 | M10: 0 | N10: 0 | O10: 0 | P10: 0 | Q10: 0 | R10: 0 | S10: 0 | T10: 0 | U10: 0 | V10: 0 | W10: 0
C11: 8 | D11: Rack 42u para o Datacenter da SETIC/UDESC (item 4.10 do Termo de Referência) | E11: 44.90.52.42 | F11: 60 | G11: 20 | H11: 4324 | J11: =I11-(SUM(L11:W11)) -> 0 | K11: =IF(J11<0,"ATENÇÃO","OK") -> OK | L11: 0 | M11: 0 | N11: 0 | O11: 0 | P11: 0 | Q11: 0 | R11: 0 | S11: 0 | T11: 0 | U11: 0 | V11: 0 | W11: 0
C12: 9 | D12: Treinamento (item 16 do Termo de Referência) | E12: 33.90.39.48 | F12: 60 | G12: 20 | H12: 8000 | J12: =I12-(SUM(L12:W12)) -> 0 | K12: =IF(J12<0,"ATENÇÃO","OK") -> OK | L12: 0 | M12: 0 | N12: 0 | O12: 0 | P12: 0 | Q12: 0 | R12: 0 | S12: 0 | T12: 0 | U12: 0 | V12: 0 | W12: 0
C13: 10 | D13: Instalação de Unidade de Controle Multimídia – MCU (item 4.1 do Termo de Referência) | E13: 33.90.39.25 | F13: 60 | G13: 20 | H13: 3000 | J13: =I13-(SUM(L13:W13)) -> 0 | K13: =IF(J13<0,"ATENÇÃO","OK") -> OK | L13: 0 | M13: 0 | N13: 0 | O13: 0 | P13: 0 | Q13: 0 | R13: 0 | S13: 0 | T13: 0 | U13: 0 | V13: 0 | W13: 0
C14: 11 | D14: Instalação de Travessia de Firewall (item 4.3 do Termo de Referência) | E14: 33.90.39.25 | F14: 60 | G14: 20 | H14: 3000 | J14: =I14-(SUM(L14:W14)) -> 0 | K14: =IF(J14<0,"ATENÇÃO","OK") -> OK | L14: 0 | M14: 0 | N14: 0 | O14: 0 | P14: 0 | Q14: 0 | R14: 0 | S14: 0 | T14: 0 | U14: 0 | V14: 0 | W14: 0
C15: 12 | D15: Instalação de Sistema de Controle de Chamadas e Plataforma de Gerência (item 4.4 do Termo de Referência) | E15: 33.90.39.25 | F15: 60 | G15: 20 | H15: 3047.5 | J15: =I15-(SUM(L15:W15)) -> 0 | K15: =IF(J15<0,"ATENÇÃO","OK") -> OK | L15: 0 | M15: 0 | N15: 0 | O15: 0 | P15: 0 | Q15: 0 | R15: 0 | S15: 0 | T15: 0 | U15: 0 | V15: 0 | W15: 0
C16: 13 | D16: Instalação de Gravação de Vídeo Digital (item 4.5 do Termo de Referência) | E16: 33.90.39.25 | F16: 60 | G16: 20 | H16: 3000 | J16: =I16-(SUM(L16:W16)) -> 0 | K16: =IF(J16<0,"ATENÇÃO","OK") -> OK | L16: 0 | M16: 0 | N16: 0 | O16: 0 | P16: 0 | Q16: 0 | R16: 0 | S16: 0 | T16: 0 | U16: 0 | V16: 0 | W16: 0
C17: 14 | D17: Instalação de Rack 42u para o Datacenter da SETIC/UDESC (item 4.10 do Termo de Referência) | E17: 33.90.39.25 | F17: 60 | G17: 20 | H17: 933 | J17: =I17-(SUM(L17:W17)) -> 0 | K17: =IF(J17<0,"ATENÇÃO","OK") -> OK | L17: 0 | M17: 0 | N17: 0 | O17: 0 | P17: 0 | Q17: 0 | R17: 0 | S17: 0 | T17: 0 | U17: 0 | V17: 0 | W17: 0
A18: COMP1 INFORMÁTICA LTDA EPP | B18: 2 | C18: 15 | D18: TV LED (item 4.6 do Termo de Referência) | E18: 44.90.52.33 | F18: 60 | G18: 20 | H18: 3335 | I18: 2 | J18: =I18-(SUM(L18:W18)) -> 2 | K18: =IF(J18<0,"ATENÇÃO","OK") -> OK | L18: 0 | M18: 0 | N18: 0 | O18: 0 | P18: 0 | Q18: 0 | R18: 0 | S18: 0 | T18: 0 | U18: 0 | V18: 0 | W18: 0
C19: 16 | D19: Suporte para TV de LED de No Mínimo 50” (item 4.7 do Termo de Referência) | E19: 44.90.52.33 | F19: 60 | G19: 20 | H19: 350 | I19: 2 | J19: =I19-(SUM(L19:W19)) -> 2 | K19: =IF(J19<0,"ATENÇÃO","OK") -> OK | L19: 0 | M19: 0 | N19: 0 | O19: 0 | P19: 0 | Q19: 0 | R19: 0 | S19: 0 | T19: 0 | U19: 0 | V19: 0 | W19: 0
C21: *Marca e Modelo conforme proposta readequada

Sheet CAV
A1: PROCESSO: 1023/2014/UDESC | D1: OBJETO: AQUISIÇÃO DE SOLUÇÃO (EQUIPAMENTOS) EM VIDEOCONFERÊNCIA PARA A UDESC | I1: VIGÊNCIA DA ATA: 10/10/2014 até 09/10/2015 | L1: Contrato nº xxxx/2014 Qtde. DT | M1: Contrato nº xxxx/2014 Qtde. DT | N1: Contrato nº xxxx/2014 Qtde. DT | O1: Contrato nº xxxx/2014 Qtde. DT | P1: Contrato nº xxxx/2014 Qtde. DT | Q1: Contrato nº xxxx/2014 Qtde. DT | R1: Contrato nº xxxx/2014 Qtde. DT | S1: Contrato nº xxxx/2014 Qtde. DT | T1: Contrato nº xxxx/2014 Qtde. DT | U1: Contrato nº xxxx/2014 Qtde. DT | V1: Contrato nº xxxx/2014 Qtde. DT | W1: Contrato nº xxxx/2014 Qtde. DT
A2: CENTRO PARTICIPANTE: CAV
A3: FORNECEDOR | B3: LOTE | C3: ITEM | D3: PRODUTO - CARACTERÍSTICAS MÍNIMAS | E3: ELEMENTO | F3: Entrega (Dias) | G3: Pagto. (Dias) | H3: Preço UNITÁRIO (R$) | I3: Qtde LICITADA | J3: Saldo / Automático | K3: ALERTA | L3: ...../...../...... | M3: ...../...../...... | N3: ...../...../...... | O3: ...../...../...... | P3: ...../...../...... | Q3: ...../...../...... | R3: ...../...../...... | S3: ...../...../...... | T3: ...../...../...... | U3: ...../...../...... | V3: ...../...../...... | W3: ...../...../......
A4: DIGITALNET BRASIL SISTEMAS E COL LTDA | B4: 1 | C4: 1 | D4: Unidade de Controle Multimídia – MCU (item 4.1 do Termo de Referência) | E4: 44.90.52.33 | F4: 60 | G4: 20 | H4: 263107.23 | J4: =I4-(SUM(L4:W4)) -> 0 | K4: =IF(J4<0,"ATENÇÃO","OK") -> OK | L4: 0 | M4: 0 | N4: 0 | O4: 0 | P4: 0 | Q4: 0 | R4: 0 | S4: 0 | T4: 0 | U4: 0 | V4: 0 | W4: 0
C5: 2 | D5: Terminal de Videoconferência (item 4.2 do Termo de Referência) | E5: 44.90.52.33 | F5: 60 | G5: 20 | H5: 18553.09 | I5: 2 | J5: =I5-(SUM(L5:W5)) -> 2 | K5: =IF(J5<0,"ATENÇÃO","OK") -> OK | L5: 0 | M5: 0 | N5: 0 | O5: 0 | P5: 0 | Q5: 0 | R5: 0 | S5: 0 | T5: 0 | U5: 0 | V5: 0 | W5: 0
C6: 3 | D6: Travessia de Firewall (item 4.3 do Termo de Referência) | E6: 44.90.52.33 | F6: 60 | G6: 20 | H6: 31760.19 | J6: =I6-(SUM(L6:W6)) -> 0 | K6: =IF(J6<0,"ATENÇÃO","OK") -> OK | L6: 0 | M6: 0 | N6: 0 | O6: 0 | P6: 0 | Q6: 0 | R6: 0 | S6: 0 | T6: 0 | U6: 0 | V6: 0 | W6: 0
C7: 4 | D7: Sistema de Controle de Chamadas e Plataforma de Gerência (item 4.4 do Termo de Referência) | E7: 44.90.52.33 | F7: 60 | G7: 20 | H7: 47134 | J7: =I7-(SUM(L7:W7)) -> 0 | K7: =IF(J7<0,"ATENÇÃO","OK") -> OK | L7: 0 | M7: 0 | N7: 0 | O7: 0 | P7: 0 | Q7: 0 | R7: 0 | S7: 0 | T7: 0 | U7: 0 | V7: 0 | W7: 0
C8: 5 | D8: Gravação de Vídeo Digital (item 4.5 do Termo de Referência) | E8: 44.90.52.33 | F8: 60 | G8: 20 | H8: 49990.82 | J8: =I8-(SUM(L8:W8)) -> 0 | K8: =IF(J8<0,"ATENÇÃO","OK") -> OK | L8: 0 | M8: 0 | N8: 0 | O8: 0 | P8: 0 | Q8: 0 | R8: 0 | S8: 0 | T8: 0 | U8: 0 | V8: 0 | W8: 0
C9: 6 | D9: Suporte para Endpoint Microfone e Controle Remoto (item 4.8 do Termo de Referência) | E9: 44.90.52.33 | F9: 60 | G9: 20 | H9: 407 | I9: 2 | J9: =I9-(SUM(L9:W9)) -> 2 | K9: =IF(J9<0,"ATENÇÃO","OK") -> OK | L9: 0 | M9: 0 | N9: 0 | O9: 0 | P9: 0 | Q9: 0 | R9: 0 | S9: 0 | T9: 0 | U9: 0 | V9: 0 | W9: 0
C10: 7 | D10: Rack para Videoconferência Sala Reunião (item 4.9 do Termo de Referência) | E10: 44.90.52.42 | F10: 60 | G10: 20 | H10: 2184 | I10: 2 | J10: =I10-(SUM(L10:W10)) -> 2 | K10: =IF(J10<0,"ATENÇÃO","OK") -> OK | L10: 0 | M10: 0 | N10: 0 | O10: 0 | P10: 0 | Q10: 0 | R10: 0 | S10: 0 | T10: 0 | U10: 0 | V10: 0 | W10: 0
C11: 8 | D11: Rack 42u para o Datacenter da SETIC/UDESC (item 4.10 do Termo de Referência) | E11: 44.90.52.42 | F11: 60 | G11: 20 | H11: 4324 | J11: =I11-(SUM(L11:W11)) -> 0 | K11: =IF(J11<0,"ATENÇÃO","OK") -> OK | L11: 0 | M11: 0 | N11: 0 | O11: 0 | P11: 0 | Q11: 0 | R11: 0 | S11: 0 | T11: 0 | U11: 0 | V11: 0 | W11: 0
C12: 9 | D12: Treinamento (item 16 do Termo de Referência) | E12: 33.90.39.48 | F12: 60 | G12: 20 | H12: 8000 | J12: =I12-(SUM(L12:W12)) -> 0 | K12: =IF(J12<0,"ATENÇÃO","OK") -> OK | L12: 0 | M12: 0 | N12: 0 | O12: 0 | P12: 0 | Q12: 0 | R12: 0 | S12: 0 | T12: 0 | U12: 0 | V12: 0 | W12: 0
C13: 10 | D13: Instalação de Unidade de Controle Multimídia – MCU (item 4.1 do Termo de Referência) | E13: 33.90.39.25 | F13: 60 | G13: 20 | H13: 3000 | J13: =I13-(SUM(L13:W13)) -> 0 | K13: =IF(J13<0,"ATENÇÃO","OK") -> OK | L13: 0 | M13: 0 | N13: 0 | O13: 0 | P13: 0 | Q13: 0 | R13: 0 | S13: 0 | T13: 0 | U13: 0 | V13: 0 | W13: 0
C14: 11 | D14: Instalação de Travessia de Firewall (item 4.3 do Termo de Referência) | E14: 33.90.39.25 | F14: 60 | G14: 20 | H14: 3000 | J14: =I14-(SUM(L14:W14)) -> 0 | K14: =IF(J14<0,"ATENÇÃO","OK") -> OK | L14: 0 | M14: 0 | N14: 0 | O14: 0 | P14: 0 | Q14: 0 | R14: 0 | S14: 0 | T14: 0 | U14: 0 | V14: 0 | W14: 0
C15: 12 | D15: Instalação de Sistema de Controle de Chamadas e Plataforma de Gerência (item 4.4 do Termo de Referência) | E15: 33.90.39.25 | F15: 60 | G15: 20 | H15: 3047.5 | J15: =I15-(SUM(L15:W15)) -> 0 | K15: =IF(J15<0,"ATENÇÃO","OK") -> OK | L15: 0 | M15: 0 | N15: 0 | O15: 0 | P15: 0 | Q15: 0 | R15: 0 | S15: 0 | T15: 0 | U15: 0 | V15: 0 | W15: 0
C16: 13 | D16: Instalação de Gravação de Vídeo Digital (item 4.5 do Termo de Referência) | E16: 33.90.39.25 | F16: 60 | G16: 20 | H16: 3000 | J16: =I16-(SUM(L16:W16)) -> 0 | K16: =IF(J16<0,"ATENÇÃO","OK") -> OK | L16: 0 | M16: 0 | N16: 0 | O16: 0 | P16: 0 | Q16: 0 | R16: 0 | S16: 0 | T16: 0 | U16: 0 | V16: 0 | W16: 0
C17: 14 | D17: Instalação de Rack 42u para o Datacenter da SETIC/UDESC (item 4.10 do Termo de Referência) | E17: 33.90.39.25 | F17: 60 | G17: 20 | H17: 933 | J17: =I17-(SUM(L17:W17)) -> 0 | K17: =IF(J17<0,"ATENÇÃO","OK") -> OK | L17: 0 | M17: 0 | N17: 0 | O17: 0 | P17: 0 | Q17: 0 | R17: 0 | S17: 0 | T17: 0 | U17: 0 | V17: 0 | W17: 0
A18: COMP1 INFORMÁTICA LTDA EPP | B18: 2 | C18: 15 | D18: TV LED (item 4.6 do Termo de Referência) | E18: 44.90.52.33 | F18: 60 | G18: 20 | H18: 3335 | I18: 4 | J18: =I18-(SUM(L18:W18)) -> 4 | K18: =IF(J18<0,"ATENÇÃO","OK") -> OK | L18: 0 | M18: 0 | N18: 0 | O18: 0 | P18: 0 | Q18: 0 | R18: 0 | S18: 0 | T18: 0 | U18: 0 | V18: 0 | W18: 0
C19: 16 | D19: Suporte para TV de LED de No Mínimo 50” (item 4.7 do Termo de Referência) | E19: 44.90.52.33 | F19: 60 | G19: 20 | H19: 350 | I19: 4 | J19: =I19-(SUM(L19:W19)) -> 4 | K19: =IF(J19<0,"ATENÇÃO","OK") -> OK | L19: 0 | M19: 0 | N19: 0 | O19: 0 | P19: 0 | Q19: 0 | R19: 0 | S19: 0 | T19: 0 | U19: 0 | V19: 0 | W19: 0
C21: *Marca e Modelo conforme proposta readequada

Sheet CEO
A1: PROCESSO: 1023/2014/UDESC | D1: OBJETO: AQUISIÇÃO DE SOLUÇÃO (EQUIPAMENTOS) EM VIDEOCONFERÊNCIA PARA A UDESC | I1: VIGÊNCIA DA ATA: 10/10/2014 até 09/10/2015 | L1: Contrato nº xxxx/2014 Qtde. DT | M1: Contrato nº xxxx/2014 Qtde. DT | N1: Contrato nº xxxx/2014 Qtde. DT | O1: Contrato nº xxxx/2014 Qtde. DT | P1: Contrato nº xxxx/2014 Qtde. DT | Q1: Contrato nº xxxx/2014 Qtde. DT | R1: Contrato nº xxxx/2014 Qtde. DT | S1: Contrato nº xxxx/2014 Qtde. DT | T1: Contrato nº xxxx/2014 Qtde. DT | U1: Contrato nº xxxx/2014 Qtde. DT | V1: Contrato nº xxxx/2014 Qtde. DT | W1: Contrato nº xxxx/2014 Qtde. DT
A2: CENTRO PARTICIPANTE: CEO
A3: FORNECEDOR | B3: LOTE | C3: ITEM | D3: PRODUTO - CARACTERÍSTICAS MÍNIMAS | E3: ELEMENTO | F3: Entrega (Dias) | G3: Pagto. (Dias) | H3: Preço UNITÁRIO (R$) | I3: Qtde LICITADA | J3: Saldo / Automático | K3: ALERTA | L3: ...../...../...... | M3: ...../...../...... | N3: ...../...../...... | O3: ...../...../...... | P3: ...../...../...... | Q3: ...../...../...... | R3: ...../...../...... | S3: ...../...../...... | T3: ...../...../...... | U3: ...../...../...... | V3: ...../...../...... | W3: ...../...../......
A4: DIGITALNET BRASIL SISTEMAS E COL LTDA | B4: 1 | C4: 1 | D4: Unidade de Controle Multimídia – MCU (item 4.1 do Termo de Referência) | E4: 44.90.52.33 | F4: 60 | G4: 20 | H4: 263107.23 | J4: =I4-(SUM(L4:W4)) -> 0 | K4: =IF(J4<0,"ATENÇÃO","OK") -> OK | L4: 0 | M4: 0 | N4: 0 | O4: 0 | P4: 0 | Q4: 0 | R4: 0 | S4: 0 | T4: 0 | U4: 0 | V4: 0 | W4: 0
C5: 2 | D5: Terminal de Videoconferência (item 4.2 do Termo de Referência) | E5: 44.90.52.33 | F5: 60 | G5: 20 | H5: 18553.09 | I5: 3 | J5: =I5-(SUM(L5:W5)) -> 3 | K5: =IF(J5<0,"ATENÇÃO","OK") -> OK | L5: 0 | M5: 0 | N5: 0 | O5: 0 | P5: 0 | Q5: 0 | R5: 0 | S5: 0 | T5: 0 | U5: 0 | V5: 0 | W5: 0
C6: 3 | D6: Travessia de Firewall (item 4.3 do Termo de Referência) | E6: 44.90.52.33 | F6: 60 | G6: 20 | H6: 31760.19 | J6: =I6-(SUM(L6:W6)) -> 0 | K6: =IF(J6<0,"ATENÇÃO","OK") -> OK | L6: 0 | M6: 0 | N6: 0 | O6: 0 | P6: 0 | Q6: 0 | R6: 0 | S6: 0 | T6: 0 | U6: 0 | V6: 0 | W6: 0
C7: 4 | D7: Sistema de Controle de Chamadas e Plataforma de Gerência (item 4.4 do Termo de Referência) | E7: 44.90.52.33 | F7: 60 | G7: 20 | H7: 47134 | J7: =I7-(SUM(L7:W7)) -> 0 | K7: =IF(J7<0,"ATENÇÃO","OK") -> OK | L7: 0 | M7: 0 | N7: 0 | O7: 0 | P7: 0 | Q7: 0 | R7: 0 | S7: 0 | T7: 0 | U7: 0 | V7: 0 | W7: 0
