Workbook
Name diasuteis: #REF!
Name diasuteis: #REF!
Name diasuteis: #REF!
Name diasuteis: #REF!
Name diasuteis: #REF!
Name Ferias: #REF!
Name Ferias: #REF!
Name Ferias: #REF!
Name Ferias: #REF!
Name RD: OFFSET(#REF!,(MATCH(SMALL(#REF!,ROW()-10),#REF!,0)-1),0)
Name RD: OFFSET(#REF!,(MATCH(SMALL(#REF!,ROW()-10),#REF!,0)-1),0)
Name RD: OFFSET(#REF!,(MATCH(SMALL(#REF!,ROW()-10),#REF!,0)-1),0)
Name RD: OFFSET(#REF!,(MATCH(SMALL(#REF!,ROW()-10),#REF!,0)-1),0)

Sheet Reitoria_PROEX
A1: PROCESSO: 906/2014 | D1: OBJETO: CONTRATAÇÃO DE EMPRESA ESPECIALIZADA EM PRESTAÇÃO DE SERVIÇOS DE SONORIZAÇÃO, ILUMINAÇÃO E INFRAESTRUTURA PARA EVENTOS. | I1: VIGÊNCIA DA ATA: 16/09/2014 até 15/09/2015 | M1: AF/OS nº 1539/2014 Qtde. DT | N1: AF/OS nº 1538/2014 Qtde. DT | O1: AF/OS nº xxxx/2014 Qtde. DT | P1: AF/OS nº xxxx/2014 Qtde. DT | Q1: AF/OS nº xxxx/2014 Qtde. DT | R1: AF/OS nº xxxx/2014 Qtde. DT | S1: AF/OS nº xxxx/2014 Qtde. DT | T1: AF/OS nº xxxx/2014 Qtde. DT | U1: AF/OS nº xxxx/2014 Qtde. DT | V1: AF/OS nº xxxx/2014 Qtde. DT | W1: AF/OS nº xxxx/2014 Qtde. DT
A2: CENTRO PARTICIPANTE: Reitoria/PROEX
A3: FORNECEDOR | B3: LOTE | C3: ITEM | D3: PRODUTO - CARACTERÍSTICAS MÍNIMAS | E3: DETALHAMENTO | F3: UNIDADE | G3: Entrega (Dias) | H3: Pagto. (Dias) | I3: Preço UNITÁRIO (R$) | J3: Qtde LICITADA | K3: Saldo / Automático | L3: ALERTA | M3: 41950 | N3: 41950 | O3: ...../...../...... | P3: ...../...../...... | Q3: ...../...../...... | R3: ...../...../...... | S3: ...../...../...... | T3: ...../...../...... | U3: ...../...../...... | V3: ...../...../...... | W3: ...../...../......
A4: Renato Henrique EPP | B4: 1 | C4: 1 | D4: LOCAÇÃO DE SOM PARA ABERTURA DE EVENTOS E SOLENIDADES: | E4: 33.90.39.23 | F4: serviço | G4: Cfme. Memorial | H4: 20 | I4: 1069 | J4: =6 -> 6 | K4: =J4-(SUM(M4:W4)) -> 6 | L4: =IF(K4<0,"ATENÇÃO","OK") -> OK | M4: 0 | N4: 0 | O4: 0 | P4: 0 | Q4: 0 | R4: 0 | S4: 0 | T4: 0 | U4: 0 | V4: 0 | W4: 0
C5: 2 | D5: LOCAÇÃO DE ESTRUTURA DE FIXAÇÃO DE LUZ E SOM: | E5: 33.90.39.23 | F5: serviço | G5: Cfme. Memorial | H5: 20 | I5: 1106 | J5: 17 | K5: =J5-(SUM(M5:W5)) -> 17 | L5: =IF(K5<0,"ATENÇÃO","OK") -> OK | M5: 0 | N5: 0 | O5: 0 | P5: 0 | Q5: 0 | R5: 0 | S5: 0 | T5: 0 | U5: 0 | V5: 0 | W5: 0
C6: 3 | D6: LOCAÇÃO DE EQUIPAMENTO DE ILUMINAÇÃO: | E6: 33.90.39.23 | F6: serviço | G6: Cfme. Memorial | H6: 20 | I6: 1602 | J6: 17 | K6: =J6-(SUM(M6:W6)) -> 17 | L6: =IF(K6<0,"ATENÇÃO","OK") -> OK | M6: 0 | N6: 0 | O6: 0 | P6: 0 | Q6: 0 | R6: 0 | S6: 0 | T6: 0 | U6: 0 | V6: 0 | W6: 0
C7: 4 | D7: SERVIÇOS DE PALCO SIMPLES: | E7: 33.90.39.23 | F7: serviço | G7: Cfme. Memorial | H7: 20 | I7: 2289 | J7: 4 | K7: =J7-(SUM(M7:W7)) -> 4 | L7: =IF(K7<0,"ATENÇÃO","OK") -> OK | M7: 0 | N7: 0 | O7: 0 | P7: 0 | Q7: 0 | R7: 0 | S7: 0 | T7: 0 | U7: 0 | V7: 0 | W7: 0
C8: 5 | D8: RÁDIO PARQUE COM 45 CAIXAS | E8: 33.90.39.23 | F8: serviço | G8: Cfme. Memorial | H8: 20 | I8: 4197 | J8: 2 | K8: =J8-(SUM(M8:W8)) -> 2 | L8: =IF(K8<0,"ATENÇÃO","OK") -> OK | M8: 0 | N8: 0 | O8: 0 | P8: 0 | Q8: 0 | R8: 0 | S8: 0 | T8: 0 | U8: 0 | V8: 0 | W8: 0
A9: Renato Henrique EPP | B9: 2 | C9: 6 | D9: LOCAÇÃO DE SOM BÁSICO PARA APRESENTAÇÕES MUSICAIS: | E9: 33.90.39.23 | F9: serviço | G9: Cfme. Memorial | H9: 20 | I9: 1589 | J9: 10 | K9: =J9-(SUM(M9:W9)) -> 10 | L9: =IF(K9<0,"ATENÇÃO","OK") -> OK | M9: 0 | N9: 0 | O9: 0 | P9: 0 | Q9: 0 | R9: 0 | S9: 0 | T9: 0 | U9: 0 | V9: 0 | W9: 0
C10: 7 | D10: LOCAÇÃO DE SOM INTERMEDIÁRIO PARA APRESENTAÇÕES MUSICAIS: | E10: 33.90.39.23 | F10: serviço | G10: Cfme. Memorial | H10: 20 | I10: 2191 | J10: 7 | K10: =J10-(SUM(M10:W10)) -> 7 | L10: =IF(K10<0,"ATENÇÃO","OK") -> OK | M10: 0 | N10: 0 | O10: 0 | P10: 0 | Q10: 0 | R10: 0 | S10: 0 | T10: 0 | U10: 0 | V10: 0 | W10: 0
C11: 8 | D11: LOCAÇÃO DE PALCO COM COBERTURA (10,00 X 8,00 X 1,90 metros): | E11: 33.90.39.23 | F11: serviço | G11: Cfme. Memorial | H11: 20 | I11: 2689 | J11: 5 | K11: =J11-(SUM(M11:W11)) -> 5 | L11: =IF(K11<0,"ATENÇÃO","OK") -> OK | M11: 0 | N11: 0 | O11: 0 | P11: 0 | Q11: 0 | R11: 0 | S11: 0 | T11: 0 | U11: 0 | V11: 0 | W11: 0
C12: 9 | D12: LOCAÇÃO DE PALCO SEM COBERTURA (8,00 X 6,00 X 1,10 METROS): | E12: 33.90.39.23 | F12: serviço | G12: Cfme. Memorial | H12: 20 | I12: 1089 | J12: 6 | K12: =J12-(SUM(M12:W12)) -> 6 | L12: =IF(K12<0,"ATENÇÃO","OK") -> OK | M12: 0 | N12: 0 | O12: 0 | P12: 0 | Q12: 0 | R12: 0 | S12: 0 | T12: 0 | U12: 0 | V12: 0 | W12: 0
C13: 10 | D13: EQUIPAMENTO DE ILUMINAÇÃO BASICA PARA APRESENTAÇÃO MUSICAL: | E13: 33.90.39.23 | F13: serviço | G13: Cfme. Memorial | H13: 20 | I13: 1891 | J13: 12 | K13: =J13-(SUM(M13:W13)) -> 12 | L13: =IF(K13<0,"ATENÇÃO","OK") -> OK | M13: 0 | N13: 0 | O13: 0 | P13: 0 | Q13: 0 | R13: 0 | S13: 0 | T13: 0 | U13: 0 | V13: 0 | W13: 0
C14: 11 | D14: CAMARIM | E14: 33.90.39.23 | F14: serviço | G14: Cfme. Memorial | H14: 20 | I14: 3192 | J14: 6 | K14: =J14-(SUM(M14:W14)) -> 6 | L14: =IF(K14<0,"ATENÇÃO","OK") -> OK | M14: 0 | N14: 0 | O14: 0 | P14: 0 | Q14: 0 | R14: 0 | S14: 0 | T14: 0 | U14: 0 | V14: 0 | W14: 0
C15: 12 | D15: PALCO TEATRO | E15: 33.90.39.23 | F15: serviço | G15: Cfme. Memorial | H15: 20 | I15: 6590 | J15: 5 | K15: =J15-(SUM(M15:W15)) -> 5 | L15: =IF(K15<0,"ATENÇÃO","OK") -> OK | M15: 0 | N15: 0 | O15: 0 | P15: 0 | Q15: 0 | R15: 0 | S15: 0 | T15: 0 | U15: 0 | V15: 0 | W15: 0
A16: Lind Guimar Machado ME - Audio Mix | B16: 3 | C16: 13 | D16: MESTRE DE CERIMÔNIA | E16: 33.90.39.23 | F16: serviço | G16: Cfme. Memorial | H16: 20 | I16: 1048 | J16: 6 | K16: =J16-(SUM(M16:W16)) -> 3 | L16: =IF(K16<0,"ATENÇÃO","OK") -> OK | M16: 3 | N16: 0 | O16: 0 | P16: 0 | Q16: 0 | R16: 0 | S16: 0 | T16: 0 | U16: 0 | V16: 0 | W16: 0
A17: CSEE - Centro de Solução em Eventos Eireli - ME | B17: 4 | C17: 14 | D17: SEGURANÇA E LIMPEZA | E17: 33.90.39.23 | F17: serviço | G17: Cfme. Memorial | H17: 20 | I17: 2790.83 | J17: 12 | K17: =J17-(SUM(M17:W17)) -> 9 | L17: =IF(K17<0,"ATENÇÃO","OK") -> OK | M17: 0 | N17: 3 | O17: 0 | P17: 0 | Q17: 0 | R17: 0 | S17: 0 | T17: 0 | U17: 0 | V17: 0 | W17: 0
A18: CSEE - Centro de Solução em Eventos Eireli - ME | B18: 5 | C18: 15 | D18: CADEIRAS | E18: 33.90.39.23 | F18: peça | G18: Cfme. Memorial | H18: 20 | I18: 3.09 | J18: 2000 | K18: =J18-(SUM(M18:W18)) -> 1970 | L18: =IF(K18<0,"ATENÇÃO","OK") -> OK | M18: 0 | N18: 30 | O18: 0 | P18: 0 | Q18: 0 | R18: 0 | S18: 0 | T18: 0 | U18: 0 | V18: 0 | W18: 0
A19: Infrutífero | B19: 6 | C19: 16 | D19: SERVIÇO DE EXPOSIÇÃO DE TELA E FOTOS | M19: 0 | N19: 0 | O19: 0 | P19: 0 | Q19: 0 | R19: 0 | S19: 0 | T19: 0 | U19: 0 | V19: 0 | W19: 0
C20: 17 | D20: TELÃO E SERVIÇO DE FILMAGEM | M20: 0 | N20: 0 | O20: 0 | P20: 0 | Q20: 0 | R20: 0 | S20: 0 | T20: 0 | U20: 0 | V20: 0 | W20: 0
C21: 18 | D21: SERVIÇO DE PROJEÇÃO DE AUDIOVISUAL | M21: 0 | N21: 0 | O21: 0 | P21: 0 | Q21: 0 | R21: 0 | S21: 0 | T21: 0 | U21: 0 | V21: 0 | W21: 0
C22: 19 | D22: PROJEÇÃO COM PAINEL DE LED 10 mm (DIMENSÕES 6,00 x 4,00 metros) | M22: 0 | N22: 0 | O22: 0 | P22: 0 | Q22: 0 | R22: 0 | S22: 0 | T22: 0 | U22: 0 | V22: 0 | W22: 0

Sheet ANPED
A1: PROCESSO: 906/2014 | D1: OBJETO: CONTRATAÇÃO DE EMPRESA ESPECIALIZADA EM PRESTAÇÃO DE SERVIÇOS DE SONORIZAÇÃO, ILUMINAÇÃO E INFRAESTRUTURA PARA EVENTOS. | I1: VIGÊNCIA DA ATA: 16/09/2014 até 15/09/2015 | M1: AF/OS nº anped sul1655/2014 Qtde. DT | N1: AF/OS nº xxxx/2014 Qtde. DT | O1: AF/OS nº xxxx/2014 Qtde. DT | P1: AF/OS nº xxxx/2014 Qtde. DT | Q1: AF/OS nº xxxx/2014 Qtde. DT | R1: AF/OS nº xxxx/2014 Qtde. DT | S1: AF/OS nº xxxx/2014 Qtde. DT | T1: AF/OS nº xxxx/2014 Qtde. DT | U1: AF/OS nº xxxx/2014 Qtde. DT | V1: AF/OS nº xxxx/2014 Qtde. DT
A2: CENTRO PARTICIPANTE: ANPED
A3: FORNECEDOR | B3: LOTE | C3: ITEM | D3: PRODUTO - CARACTERÍSTICAS MÍNIMAS | E3: DETALHAMENTO | F3: UNIDADE | G3: Entrega (Dias) | H3: Pagto. (Dias) | I3: Preço UNITÁRIO (R$) | J3: Qtde LICITADA | K3: Saldo / Automático | L3: ALERTA | M3: 41935 | N3: ...../...../...... | O3: ...../...../...... | P3: ...../...../...... | Q3: ...../...../...... | R3: ...../...../...... | S3: ...../...../...... | T3: ...../...../...... | U3: ...../...../...... | V3: ...../...../......
A4: Renato Henrique EPP | B4: 1 | C4: 1 | D4: LOCAÇÃO DE SOM PARA ABERTURA DE EVENTOS E SOLENIDADES: | E4: 33.90.39.23 | F4: serviço | G4: Cfme. Memorial | H4: 20 | I4: 1069 | J4: 5 | K4: =J4-(SUM(M4:V4)) -> 0 | L4: =IF(K4<0,"ATENÇÃO","OK") -> OK | M4: 5 | N4: 0 | O4: 0 | P4: 0 | Q4: 0 | R4: 0 | S4: 0 | T4: 0 | U4: 0 | V4: 0
C5: 2 | D5: LOCAÇÃO DE ESTRUTURA DE FIXAÇÃO DE LUZ E SOM: | E5: 33.90.39.23 | F5: serviço | G5: Cfme. Memorial | H5: 20 | I5: 1106 | J5: 2 | K5: =J5-(SUM(M5:V5)) -> 0 | L5: =IF(K5<0,"ATENÇÃO","OK") -> OK | M5: 2 | N5: 0 | O5: 0 | P5: 0 | Q5: 0 | R5: 0 | S5: 0 | T5: 0 | U5: 0 | V5: 0
C6: 3 | D6: LOCAÇÃO DE EQUIPAMENTO DE ILUMINAÇÃO: | E6: 33.90.39.23 | F6: serviço | G6: Cfme. Memorial | H6: 20 | I6: 1602 | J6: 2 | K6: =J6-(SUM(M6:V6)) -> 0 | L6: =IF(K6<0,"ATENÇÃO","OK") -> OK | M6: 2 | N6: 0 | O6: 0 | P6: 0 | Q6: 0 | R6: 0 | S6: 0 | T6: 0 | U6: 0 | V6: 0
C7: 4 | D7: SERVIÇOS DE PALCO SIMPLES: | E7: 33.90.39.23 | F7: serviço | G7: Cfme. Memorial | H7: 20 | I7: 2289 | J7: 1 | K7: =J7-(SUM(M7:V7)) -> 0 | L7: =IF(K7<0,"ATENÇÃO","OK") -> OK | M7: 1 | N7: 0 | O7: 0 | P7: 0 | Q7: 0 | R7: 0 | S7: 0 | T7: 0 | U7: 0 | V7: 0
C8: 5 | D8: RÁDIO PARQUE COM 45 CAIXAS | E8: 33.90.39.23 | F8: serviço | G8: Cfme. Memorial | H8: 20 | I8: 4197 | J8: 1 | K8: =J8-(SUM(M8:V8)) -> 0 | L8: =IF(K8<0,"ATENÇÃO","OK") -> OK | M8: 1 | N8: 0 | O8: 0 | P8: 0 | Q8: 0 | R8: 0 | S8: 0 | T8: 0 | U8: 0 | V8: 0
A9: Renato Henrique EPP | B9: 2 | C9: 6 | D9: LOCAÇÃO DE SOM BÁSICO PARA APRESENTAÇÕES MUSICAIS: | E9: 33.90.39.23 | F9: serviço | G9: Cfme. Memorial | H9: 20 | I9: 1589 | J9: 3 | K9: =J9-(SUM(M9:V9)) -> 0 | L9: =IF(K9<0,"ATENÇÃO","OK") -> OK | M9: 3 | N9: 0 | O9: 0 | P9: 0 | Q9: 0 | R9: 0 | S9: 0 | T9: 0 | U9: 0 | V9: 0
C10: 7 | D10: LOCAÇÃO DE SOM INTERMEDIÁRIO PARA APRESENTAÇÕES MUSICAIS: | E10: 33.90.39.23 | F10: serviço | G10: Cfme. Memorial | H10: 20 | I10: 2191 | K10: =J10-(SUM(M10:V10)) -> 0 | L10: =IF(K10<0,"ATENÇÃO","OK") -> OK | N10: 0 | O10: 0 | P10: 0 | Q10: 0 | R10: 0 | S10: 0 | T10: 0 | U10: 0 | V10: 0
C11: 8 | D11: LOCAÇÃO DE PALCO COM COBERTURA (10,00 X 8,00 X 1,90 metros): | E11: 33.90.39.23 | F11: serviço | G11: Cfme. Memorial | H11: 20 | I11: 2689 | J11: 1 | K11: =J11-(SUM(M11:V11)) -> 0 | L11: =IF(K11<0,"ATENÇÃO","OK") -> OK | M11: 1 | N11: 0 | O11: 0 | P11: 0 | Q11: 0 | R11: 0 | S11: 0 | T11: 0 | U11: 0 | V11: 0
C12: 9 | D12: LOCAÇÃO DE PALCO SEM COBERTURA (8,00 X 6,00 X 1,10 METROS): | E12: 33.90.39.23 | F12: serviço | G12: Cfme. Memorial | H12: 20 | I12: 1089 | K12: =J12-(SUM(M12:V12)) -> 0 | L12: =IF(K12<0,"ATENÇÃO","OK") -> OK | M12: 0 | N12: 0 | O12: 0 | P12: 0 | Q12: 0 | R12: 0 | S12: 0 | T12: 0 | U12: 0 | V12: 0
C13: 10 | D13: EQUIPAMENTO DE ILUMINAÇÃO BASICA PARA APRESENTAÇÃO MUSICAL: | E13: 33.90.39.23 | F13: serviço | G13: Cfme. Memorial | H13: 20 | I13: 1891 | J13: 3 | K13: =J13-(SUM(M13:V13)) -> 0 | L13: =IF(K13<0,"ATENÇÃO","OK") -> OK | M13: 3 | N13: 0 | O13: 0 | P13: 0 | Q13: 0 | R13: 0 | S13: 0 | T13: 0 | U13: 0 | V13: 0
C14: 11 | D14: CAMARIM | E14: 33.90.39.23 | F14: serviço | G14: Cfme. Memorial | H14: 20 | I14: 3192 | K14: =J14-(SUM(M14:V14)) -> 0 | L14: =IF(K14<0,"ATENÇÃO","OK") -> OK | M14: 0 | N14: 0 | O14: 0 | P14: 0 | Q14: 0 | R14: 0 | S14: 0 | T14: 0 | U14: 0 | V14: 0
C15: 12 | D15: PALCO TEATRO | E15: 33.90.39.23 | F15: serviço | G15: Cfme. Memorial | H15: 20 | I15: 6590 | K15: =J15-(SUM(M15:V15)) -> 0 | L15: =IF(K15<0,"ATENÇÃO","OK") -> OK | M15: 0 | N15: 0 | O15: 0 | P15: 0 | Q15: 0 | R15: 0 | S15: 0 | T15: 0 | U15: 0 | V15: 0
A16: Lind Guimar Machado ME - Audio Mix | B16: 3 | C16: 13 | D16: MESTRE DE CERIMÔNIA | E16: 33.90.39.23 | F16: serviço | G16: Cfme. Memorial | H16: 20 | I16: 1048 | K16: =J16-(SUM(M16:V16)) -> 0 | L16: =IF(K16<0,"ATENÇÃO","OK") -> OK | M16: 0 | N16: 0 | O16: 0 | P16: 0 | Q16: 0 | R16: 0 | S16: 0 | T16: 0 | U16: 0 | V16: 0
A17: CSEE - Centro de Solução em Eventos Eireli - ME | B17: 4 | C17: 14 | D17: SEGURANÇA E LIMPEZA | E17: 33.90.39.23 | F17: serviço | G17: Cfme. Memorial | H17: 20 | I17: 2790.83 | K17: =J17-(SUM(M17:V17)) -> 0 | L17: =IF(K17<0,"ATENÇÃO","OK") -> OK | M17: 0 | N17: 0 | O17: 0 | P17: 0 | Q17: 0 | R17: 0 | S17: 0 | T17: 0 | U17: 0 | V17: 0
A18: CSEE - Centro de Solução em Eventos Eireli - ME | B18: 5 | C18: 15 | D18: CADEIRAS | E18: 33.90.39.23 | F18: peça | G18: Cfme. Memorial | H18: 20 | I18: 3.09 | K18: =J18-(SUM(M18:V18)) -> 0 | L18: =IF(K18<0,"ATENÇÃO","OK") -> OK | M18: 0 | N18: 0 | O18: 0 | P18: 0 | Q18: 0 | R18: 0 | S18: 0 | T18: 0 | U18: 0 | V18: 0
A19: Infrutífero | B19: 6 | C19: 16 | D19: SERVIÇO DE EXPOSIÇÃO DE TELA E FOTOS | M19: 0 | N19: 0 | O19: 0 | P19: 0 | Q19: 0 | R19: 0 | S19: 0 | T19: 0 | U19: 0 | V19: 0
C20: 17 | D20: TELÃO E SERVIÇO DE FILMAGEM | M20: 0 | N20: 0 | O20: 0 | P20: 0 | Q20: 0 | R20: 0 | S20: 0 | T20: 0 | U20: 0 | V20: 0
C21: 18 | D21: SERVIÇO DE PROJEÇÃO DE AUDIOVISUAL | M21: 0 | N21: 0 | O21: 0 | P21: 0 | Q21: 0 | R21: 0 | S21: 0 | T21: 0 | U21: 0 | V21: 0
C22: 19 | D22: PROJEÇÃO COM PAINEL DE LED 10 mm (DIMENSÕES 6,00 x 4,00 metros) | M22: 0 | N22: 0 | O22: 0 | P22: 0 | Q22: 0 | R22: 0 | S22: 0 | T22: 0 | U22: 0 | V22: 0

Sheet GESTOR
A1: PROCESSO: 906/2014 | D1: OBJETO: CONTRATAÇÃO DE EMPRESA ESPECIALIZADA EM PRESTAÇÃO DE SERVIÇOS DE SONORIZAÇÃO, ILUMINAÇÃO E INFRAESTRUTURA PARA EVENTOS. | I1: VIGÊNCIA DA ATA: 16/09/2014 até 15/09/2015
A2: CENTRO PARTICIPANTE: Reitoria/PROEX
A3: FORNECEDOR | B3: LOTE | C3: ITEM | D3: PRODUTO - CARACTERÍSTICAS MÍNIMAS | E3: DETALHAMENTO | F3: UNIDADE | G3: Entrega (Dias) | H3: Pagto. (Dias) | I3: Preço UNITÁRIO (R$) | J3: Qtde Registrada + Aditivos | K3: Quantidade Utilizada | L3: SALDO | M3: Valor Total Registrado | N3: Valor Total Utilizado
A4: Renato Henrique EPP | B4: 1 | C4: 1 | D4: LOCAÇÃO DE SOM PARA ABERTURA DE EVENTOS E SOLENIDADES: | E4: 33.90.39.23 | F4: serviço | G4: Cfme. Memorial | H4: 20 | I4: 1069 | J4: =Reitoria_PROEX!J4+ANPED!J4 -> 11 | K4: =(Reitoria_PROEX!J4-Reitoria_PROEX!K4)+(ANPED!J4-ANPED!K4) -> 5 | L4: =J4-K4 -> 6 | M4: =I4*J4 -> 11759 | N4: =I4*K4 -> 5345
C5: 2 | D5: LOCAÇÃO DE ESTRUTURA DE FIXAÇÃO DE LUZ E SOM: | E5: 33.90.39.23 | F5: serviço | G5: Cfme. Memorial | H5: 20 | I5: 1106 | J5: =Reitoria_PROEX!J5+ANPED!J5 -> 19 | K5: =(Reitoria_PROEX!J5-Reitoria_PROEX!K5)+(ANPED!J5-ANPED!K5) -> 2 | L5: =J5-K5 -> 17 | M5: =I5*J5 -> 21014 | N5: =I5*K5 -> 2212
C6: 3 | D6: LOCAÇÃO DE EQUIPAMENTO DE ILUMINAÇÃO: | E6: 33.90.39.23 | F6: serviço | G6: Cfme. Memorial | H6: 20 | I6: 1602 | J6: =Reitoria_PROEX!J6+ANPED!J6 -> 19 | K6: =(Reitoria_PROEX!J6-Reitoria_PROEX!K6)+(ANPED!J6-ANPED!K6) -> 2 | L6: =J6-K6 -> 17 | M6: =I6*J6 -> 30438 | N6: =I6*K6 -> 3204
C7: 4 | D7: SERVIÇOS DE PALCO SIMPLES: | E7: 33.90.39.23 | F7: serviço | G7: Cfme. Memorial | H7: 20 | I7: 2289 | J7: =Reitoria_PROEX!J7+ANPED!J7 -> 5 | K7: =(Reitoria_PROEX!J7-Reitoria_PROEX!K7)+(ANPED!J7-ANPED!K7) -> 1 | L7: =J7-K7 -> 4 | M7: =I7*J7 -> 11445 | N7: =I7*K7 -> 2289
C8: 5 | D8: RÁDIO PARQUE COM 45 CAIXAS | E8: 33.90.39.23 | F8: serviço | G8: Cfme. Memorial | H8: 20 | I8: 4197 | J8: =Reitoria_PROEX!J8+ANPED!J8 -> 3 | K8: =(Reitoria_PROEX!J8-Reitoria_PROEX!K8)+(ANPED!J8-ANPED!K8) -> 1 | L8: =J8-K8 -> 2 | M8: =I8*J8 -> 12591 | N8: =I8*K8 -> 4197
A9: Renato Henrique EPP | B9: 2 | C9: 6 | D9: LOCAÇÃO DE SOM BÁSICO PARA APRESENTAÇÕES MUSICAIS: | E9: 33.90.39.23 | F9: serviço | G9: Cfme. Memorial | H9: 20 | I9: 1589 | J9: =Reitoria_PROEX!J9+ANPED!J9 -> 13 | K9: =(Reitoria_PROEX!J9-Reitoria_PROEX!K9)+(ANPED!J9-ANPED!K9) -> 3 | L9: =J9-K9 -> 10 | M9: =I9*J9 -> 20657 | N9: =I9*K9 -> 4767
C10: 7 | D10: LOCAÇÃO DE SOM INTERMEDIÁRIO PARA APRESENTAÇÕES MUSICAIS: | E10: 33.90.39.23 | F10: serviço | G10: Cfme. Memorial | H10: 20 | I10: 2191 | J10: =Reitoria_PROEX!J10+ANPED!J10 -> 7 | K10: =(Reitoria_PROEX!J10-Reitoria_PROEX!K10)+(ANPED!J10-ANPED!K10) -> 0 | L10: =J10-K10 -> 7 | M10: =I10*J10 -> 15337 | N10: =I10*K10 -> 0
C11: 8 | D11: LOCAÇÃO DE PALCO COM COBERTURA (10,00 X 8,00 X 1,90 metros): | E11: 33.90.39.23 | F11: serviço | G11: Cfme. Memorial | H11: 20 | I11: 2689 | J11: =Reitoria_PROEX!J11+ANPED!J11 -> 6 | K11: =(Reitoria_PROEX!J11-Reitoria_PROEX!K11)+(ANPED!J11-ANPED!K11) -> 1 | L11: =J11-K11 -> 5 | M11: =I11*J11 -> 16134 | N11: =I11*K11 -> 2689
C12: 9 | D12: LOCAÇÃO DE PALCO SEM COBERTURA (8,00 X 6,00 X 1,10 METROS): | E12: 33.90.39.23 | F12: serviço | G12: Cfme. Memorial | H12: 20 | I12: 1089 | J12: =Reitoria_PROEX!J12+ANPED!J12 -> 6 | K12: =(Reitoria_PROEX!J12-Reitoria_PROEX!K12)+(ANPED!J12-ANPED!K12) -> 0 | L12: =J12-K12 -> 6 | M12: =I12*J12 -> 6534 | N12: =I12*K12 -> 0
C13: 10 | D13: EQUIPAMENTO DE ILUMINAÇÃO BASICA PARA APRESENTAÇÃO MUSICAL: | E13: 33.90.39.23 | F13: serviço | G13: Cfme. Memorial | H13: 20 | I13: 1891 | J13: =Reitoria_PROEX!J13+ANPED!J13 -> 15 | K13: =(Reitoria_PROEX!J13-Reitoria_PROEX!K13)+(ANPED!J13-ANPED!K13) -> 3 | L13: =J13-K13 -> 12 | M13: =I13*J13 -> 28365 | N13: =I13*K13 -> 5673
C14: 11 | D14: CAMARIM | E14: 33.90.39.23 | F14: serviço | G14: Cfme. Memorial | H14: 20 | I14: 3192 | J14: =Reitoria_PROEX!J14+ANPED!J14 -> 6 | K14: =(Reitoria_PROEX!J14-Reitoria_PROEX!K14)+(ANPED!J14-ANPED!K14) -> 0 | L14: =J14-K14 -> 6 | M14: =I14*J14 -> 19152 | N14: =I14*K14 -> 0
C15: 12 | D15: PALCO TEATRO | E15: 33.90.39.23 | F15: serviço | G15: Cfme. Memorial | H15: 20 | I15: 6590 | J15: =Reitoria_PROEX!J15+ANPED!J15 -> 5 | K15: =(Reitoria_PROEX!J15-Reitoria_PROEX!K15)+(ANPED!J15-ANPED!K15) -> 0 | L15: =J15-K15 -> 5 | M15: =I15*J15 -> 32950 | N15: =I15*K15 -> 0
A16: Lind Guimar Machado ME - Audio Mix | B16: 3 | C16: 13 | D16: MESTRE DE CERIMÔNIA | E16: 33.90.39.23 | F16: serviço | G16: Cfme. Memorial | H16: 20 | I16: 1233.33 | J16: =Reitoria_PROEX!J16+ANPED!J16 -> 6 | K16: =(Reitoria_PROEX!J16-Reitoria_PROEX!K16)+(ANPED!J16-ANPED!K16) -> 3 | L16: =J16-K16 -> 3 | M16: =I16*J16 -> 7399.98 | N16: =I16*K16 -> 3699.99
A17: CSEE - Centro de Solução em Eventos Eireli - ME | B17: 4 | C17: 14 | D17: SEGURANÇA E LIMPEZA | E17: 33.90.39.23 | F17: serviço | G17: Cfme. Memorial | H17: 20 | I17: 2790.83 | J17: =Reitoria_PROEX!J17+ANPED!J17 -> 12 | K17: =(Reitoria_PROEX!J17-Reitoria_PROEX!K17)+(ANPED!J17-ANPED!K17) -> 3 | L17: =J17-K17 -> 9 | M17: =I17*J17 -> 33489.96 | N17: =I17*K17 -> 8372.49
A18: CSEE - Centro de Solução em Eventos Eireli - ME | B18: 5 | C18: 15 | D18: CADEIRAS | E18: 33.90.39.23 | F18: peça | G18: Cfme. Memorial | H18: 20 | I18: 3.09 | J18: =Reitoria_PROEX!J18+ANPED!J18 -> 2000 | K18: =(Reitoria_PROEX!J18-Reitoria_PROEX!K18)+(ANPED!J18-ANPED!K18) -> 30 | L18: =J18-K18 -> 1970 | M18: =I18*J18 -> 6180 | N18: =I18*K18 -> 92.7
A19: Infrutífero | B19: 6 | C19: 16 | D19: SERVIÇO DE EXPOSIÇÃO DE TELA E FOTOS | M19: =I19*J19 -> 0 | N19: =I19*K19 -> 0
C20: 17 | D20: TELÃO E SERVIÇO DE FILMAGEM | M20: =I20*J20 -> 0 | N20: =I20*K20 -> 0
C21: 18 | D21: SERVIÇO DE PROJEÇÃO DE AUDIOVISUAL | M21: =I21*J21 -> 0 | N21: =I21*K21 -> 0
C22: 19 | D22: PROJEÇÃO COM PAINEL DE LED 10 mm (DIMENSÕES 6,00 x 4,00 metros) | M22: =I22*J22 -> 0 | N22: =I22*K22 -> 0
M23: =SUM(M4:M22) -> 273445.94 | N23: =SUM(N4:N22) -> 42541.18
J25: Pregão 0906/2014/UDESC - SRP
J26: CONTRATAÇÃO DE EMPRESA ESPECIALIZADA EM PRESTAÇÃO DE SERVIÇOS DE SONORIZAÇÃO, ILUMINAÇÃO E INFRAESTRUTURA PARA EVENTOS.
J27: Vigência 16/09/2014 até 15/09/2015
J28: Valor Total da Ata com Aditivo | N28: =M23 -> 273445.94
J29: Valor Utilizado | N29: =N23 -> 42541.18
J30: % Aditivos | N30: 0
J31: % Utilizado | N31: =N29/N28 -> 0.15557437
J32: Resumo Atualizado em 27/11/2014

Sheet Aditivo ARP
A1: PROCESSO: 906/2014 | D1: OBJETO: CONTRATAÇÃO DE EMPRESA ESPECIALIZADA EM PRESTAÇÃO DE SERVIÇOS DE SONORIZAÇÃO, ILUMINAÇÃO E INFRAESTRUTURA PARA EVENTOS. | G1: VIGÊNCIA DA ATA: 16/09/2014 até 15/09/2015
A2: CENTRO PARTICIPANTE: Reitoria/PROEX
A3: FORNECEDOR | B3: LOTE | C3: ITEM | D3: PRODUTO - CARACTERÍSTICAS MÍNIMAS | E3: DETALHAMENTO | F3: UNIDADE | G3: Preço UNITÁRIO (R$) | H3: Qtde LICITADA | I3: Total LICITADO | J3: Total por Lote | K3: Qtde 1º Aditivo | L3: Total 1º Aditivo | M3: Total por Lote | N3: % 1º Aditivo
A4: Renato Henrique EPP | B4: 1 | C4: 1 | D4: LOCAÇÃO DE SOM PARA ABERTURA DE EVENTOS E SOLENIDADES: | E4: 33.90.39.23 | F4: serviço | G4: 1069 | H4: 6 | I4: =H4*G4 -> 6414 | J4: =SUM(I4:I8) -> 70000 | K4: 5 | L4: =K4*G4 -> 5345 | M4: =SUM(L4:L8) -> 17247 | N4: =(M4*100)/J4 -> 24.638571
C5: 2 | D5: LOCAÇÃO DE ESTRUTURA DE FIXAÇÃO DE LUZ E SOM: | E5: 33.90.39.23 | F5: serviço | G5: 1106 | H5: 17 | I5: =H5*G5 -> 18802 | K5: 2 | L5: =K5*G5 -> 2212
C6: 3 | D6: LOCAÇÃO DE EQUIPAMENTO DE ILUMINAÇÃO: | E6: 33.90.39.23 | F6: serviço | G6: 1602 | H6: 17 | I6: =H6*G6 -> 27234 | K6: 2 | L6: =K6*G6 -> 3204
C7: 4 | D7: SERVIÇOS DE PALCO SIMPLES: | E7: 33.90.39.23 | F7: serviço | G7: 2289 | H7: 4 | I7: =H7*G7 -> 9156 | K7: 1 | L7: =K7*G7 -> 2289
C8: 5 | D8: RÁDIO PARQUE COM 45 CAIXAS | E8: 33.90.39.23 | F8: serviço | G8: 4197 | H8: 2 | I8: =H8*G8 -> 8394 | K8: 1 | L8: =K8*G8 -> 4197
A9: Renato Henrique EPP | B9: 2 | C9: 6 | D9: LOCAÇÃO DE SOM BÁSICO PARA APRESENTAÇÕES MUSICAIS: | E9: 33.90.39.23 | F9: serviço | G9: 1589 | H9: 10 | I9: =H9*G9 -> 15890 | J9: =SUM(I9:I15) -> 126000 | K9: 3 | L9: =K9*G9 -> 4767 | M9: =SUM(L9:L14) -> 13129 | N9: =(M9*100)/J9 -> 10.419841
C10: 7 | D10: LOCAÇÃO DE SOM INTERMEDIÁRIO PARA APRESENTAÇÕES MUSICAIS: | E10: 33.90.39.23 | F10: serviço | G10: 2191 | H10: 7 | I10: =H10*G10 -> 15337
C11: 8 | D11: LOCAÇÃO DE PALCO COM COBERTURA (10,00 X 8,00 X 1,90 metros): | E11: 33.90.39.23 | F11: serviço | G11: 2689 | H11: 5 | I11: =H11*G11 -> 13445 | K11: 1 | L11: =K11*G11 -> 2689
C12: 9 | D12: LOCAÇÃO DE PALCO SEM COBERTURA (8,00 X 6,00 X 1,10 METROS): | E12: 33.90.39.23 | F12: serviço | G12: 1089 | H12: 6 | I12: =H12*G12 -> 6534
C13: 10 | D13: EQUIPAMENTO DE ILUMINAÇÃO BASICA PARA APRESENTAÇÃO MUSICAL: | E13: 33.90.39.23 | F13: serviço | G13: 1891 | H13: 12 | I13: =H13*G13 -> 22692 | K13: 3 | L13: =K13*G13 -> 5673
C14: 11 | D14: CAMARIM | E14: 33.90.39.23 | F14: serviço | G14: 3192 | H14: 6 | I14: =H14*G14 -> 19152
C15: 12 | D15: PALCO TEATRO | E15: 33.90.39.23 | F15: serviço | G15: 6590 | H15: 5 | I15: =H15*G15 -> 32950
A16: Lind Guimar Machado ME - Audio Mix | B16: 3 | C16: 13 | D16: MESTRE DE CERIMÔNIA | E16: 33.90.39.23 | F16: serviço | G16: 1233.33 | H16: 6 | I16: =H16*G16 -> 7399.98 | J16: =I16 -> 7399.98
A17: CSEE - Centro de Solução em Eventos Eireli - ME | B17: 4 | C17: 14 | D17: SEGURANÇA E LIMPEZA | E17: 33.90.39.23 | F17: serviço | G17: 2790.83 | H17: 12 | I17: =H17*G17 -> 33489.96 | J17: =I17 -> 33489.96
A18: CSEE - Centro de Solução em Eventos Eireli - ME | B18: 5 | C18: 15 | D18: CADEIRAS | E18: 33.90.39.23 | F18: peça | G18: 3.09 | H18: 2000 | I18: =H18*G18 -> 6180 | J18: =I18 -> 6180
A19: Infrutífero | B19: 6 | C19: 16 | D19: SERVIÇO DE EXPOSIÇÃO DE TELA E FOTOS
C20: 17 | D20: TELÃO E SERVIÇO DE FILMAGEM
C21: 18 | D21: SERVIÇO DE PROJEÇÃO DE AUDIOVISUAL
C22: 19 | D22: PROJEÇÃO COM PAINEL DE LED 10 mm (DIMENSÕES 6,00 x 4,00 metros)

Sheet Modelo Anexo II IN 002_2014
A1: ANEXO II – Instrução Normativa n.º 002/2014
A3: DECLARAÇÃO DE DISPONIBILIDADE DE QUANTITATIVO PARA EMISSÃO DE AUTORIZAÇÃO DE FORNECIMENTO/ORDEM DE SERVIÇO – SISTEMA DE REGISTRO DE PREÇOS/UDESC
A5: Processo CPA n.º XXXX/2014
A6: Pregão n.º XXXX/2014
A7: Objeto:
A8: Vigência da Ata de Registro de Preços: XX/XX/XXXX até XX/XX/XXXXX
A10: Declaro que o Centro XXXXXXX, participante da Ata de Registro de Preços proveniente do Pregão n.º XXXX/2014, possui saldo em seu quantitativo para a emissão da Autorização de Fornecimento/Ordem de Serviço n.º XXXX/2014, no valor de R$ X.XXX,XX, a ser firmada com a empresa XXXXXXX, restando ainda em sua cota para próximas contratações com o referido fornecedor os seguintes quantitativos:
A12: Lote | B12: Item | C12: Descrição Resumida | D12: Unidade | E12: Valor Unitário (R$) | F12: Saldo Quantitativo (antes da emissão desta AF/OS) | G12: Quantitativo da AF/OS | H12: Saldo Atualizado
A19: __________________, ____/_____/____
A20: Cidade Data
A24: _____________________________________________
A25: Diretor(a) de Administração
A26: (carimbo e assinatura)
