Workbook
Name diasuteis: #REF!
Name diasuteis: #REF!
Name diasuteis: #REF!
Name diasuteis: #REF!
Name diasuteis: #REF!
Name Ferias: #REF!
Name Ferias: #REF!
Name Ferias: #REF!
Name Ferias: #REF!
Name RD: OFFSET(#REF!,(MATCH(SMALL(#REF!,ROW()-10),#REF!,0)-1),0)
Name RD: OFFSET(#REF!,(MATCH(SMALL(#REF!,ROW()-10),#REF!,0)-1),0)
Name RD: OFFSET(#REF!,(MATCH(SMALL(#REF!,ROW()-10),#REF!,0)-1),0)
Name RD: OFFSET(#REF!,(MATCH(SMALL(#REF!,ROW()-10),#REF!,0)-1),0)

Sheet Reitoria_PROEX
A1: PROCESSO: 906/2014 | D1: OBJETO: CONTRATAÇÃO DE EMPRESA ESPECIALIZADA EM PRESTAÇÃO DE SERVIÇOS DE SONORIZAÇÃO, ILUMINAÇÃO E INFRAESTRUTURA PARA EVENTOS. | I1: VIGÊNCIA DA ATA: 16/09/2014 até 15/09/2015 | M1: AF/OS nº 1538/2014 Qtde. DT | N1: AF/OS nº 1539/2014 Qtde. DT | O1: AF/OS nº 1551/2014 Qtde. DT | P1: AF/OS nº 1538/2014 Qtde. DT | Q1: AF/OS nº 1896/2014 Qtde. DT aditivo | R1: OS nº 138/2015 Qtde. DT | S1: OS nº 405/2015 Qtde. DT | T1: OS nº 425/2015 Qtde. DT | U1: OS nº 527/2015 Qtde. DT | V1: OS nº 606/2015 Qtde. DT | W1: OS nº 753/2015 Qtde. DT | X1: OS nº 833/2015 Qtde. DT | Y1: OS nº 919/2015 Qtde. DT | Z1: OS nº 1203/2015 Qtde. DT | AA1: OS nº 1197/2015 Qtde. DT | AB1: OS nº 1485/2015 Qtde. DT | AC1: OS nº 1487/2015 Qtde. DT
A2: CENTRO PARTICIPANTE: Reitoria/PROEX
A3: FORNECEDOR | B3: LOTE | C3: ITEM | D3: PRODUTO - CARACTERÍSTICAS MÍNIMAS | E3: DETALHAMENTO | F3: UNIDADE | G3: Entrega (Dias) | H3: Pagto. (Dias) | I3: Preço UNITÁRIO (R$) | J3: Qtde LICITADA | K3: Saldo / Automático | L3: ALERTA | M3: 41929 | N3: 41929 | O3: 41929 | P3: 41950 | Q3: 41961 | R3: 42054 | S3: 42101 | T3: 42103 | U3: 42117 | V3: 42124 | W3: 42138 | X3: 42146 | Y3: 42165 | Z3: 42199 | AA3: 42199 | AB3: 42236 | AC3: 42236
A4: Renato Henrique EPP | B4: 1 | C4: 1 | D4: LOCAÇÃO DE SOM PARA ABERTURA DE EVENTOS E SOLENIDADES: | E4: 33.90.39.23 | F4: serviço | G4: Cfme. Memorial | H4: 20 | I4: 1069 | J4: =6 -> 6 | K4: =J4-(SUM(M4:AC4)) -> 0 | L4: =IF(K4<0,"ATENÇÃO","OK") -> OK | M4: 0 | N4: 2 | O4: 0 | P4: 0 | Q4: 0 | R4: 0 | S4: 1 | T4: 0 | U4: 1 | V4: 1 | W4: 0 | X4: 1 | Y4: 0 | Z4: 0 | AB4: 0 | AC4: 0
C5: 2 | D5: LOCAÇÃO DE ESTRUTURA DE FIXAÇÃO DE LUZ E SOM: | E5: 33.90.39.23 | F5: serviço | G5: Cfme. Memorial | H5: 20 | I5: 1106 | J5: 17 | K5: =J5-(SUM(M5:AC5)) -> 0 | L5: =IF(K5<0,"ATENÇÃO","OK") -> OK | M5: 0 | N5: 4 | O5: 0 | P5: 0 | Q5: 2 | R5: 4 | S5: 0 | T5: 0 | U5: 0 | V5: 1 | W5: 0 | X5: 3 | Y5: 0 | Z5: 1 | AB5: 0 | AC5: 2
C6: 3 | D6: LOCAÇÃO DE EQUIPAMENTO DE ILUMINAÇÃO: | E6: 33.90.39.23 | F6: serviço | G6: Cfme. Memorial | H6: 20 | I6: 1602 | J6: 17 | K6: =J6-(SUM(M6:AC6)) -> 0 | L6: =IF(K6<0,"ATENÇÃO","OK") -> OK | M6: 0 | N6: 4 | O6: 0 | P6: 0 | Q6: 2 | R6: 4 | S6: 0 | T6: 0 | U6: 0 | V6: 1 | W6: 0 | X6: 2 | Y6: 0 | Z6: 1 | AB6: 0 | AC6: 3
C7: 4 | D7: SERVIÇOS DE PALCO SIMPLES: | E7: 33.90.39.23 | F7: serviço | G7: Cfme. Memorial | H7: 20 | I7: 2289 | J7: 4 | K7: =J7-(SUM(M7:AC7)) -> 0 | L7: =IF(K7<0,"ATENÇÃO","OK") -> OK | M7: 0 | N7: 3 | O7: 0 | P7: 0 | Q7: 0 | R7: 0 | S7: 0 | T7: 0 | U7: 0 | V7: 0 | W7: 0 | X7: 1 | Y7: 0 | Z7: 0 | AB7: 0 | AC7: 0
C8: 5 | D8: RÁDIO PARQUE COM 45 CAIXAS | E8: 33.90.39.23 | F8: serviço | G8: Cfme. Memorial | H8: 20 | I8: 4197 | J8: 2 | K8: =J8-(SUM(M8:AC8)) -> 0 | L8: =IF(K8<0,"ATENÇÃO","OK") -> OK | M8: 0 | N8: 1 | O8: 0 | P8: 0 | Q8: 0 | R8: 0 | S8: 0 | T8: 0 | U8: 0 | V8: 0 | W8: 0 | X8: 1 | Y8: 0 | Z8: 0 | AB8: 0 | AC8: 0
A9: Renato Henrique EPP | B9: 2 | C9: 6 | D9: LOCAÇÃO DE SOM BÁSICO PARA APRESENTAÇÕES MUSICAIS: | E9: 33.90.39.23 | F9: serviço | G9: Cfme. Memorial | H9: 20 | I9: 1589 | J9: =10+1 -> 11 | K9: =J9-(SUM(M9:AC9)) -> 0 | L9: =IF(K9<0,"ATENÇÃO","OK") -> OK | M9: 0 | N9: 3 | O9: 0 | P9: 0 | Q9: 0 | R9: 3 | S9: 0 | T9: 0 | U9: 0 | V9: 1 | W9: 0 | X9: 3 | Y9: 1 | Z9: 0 | AB9: 0 | AC9: 0
C10: 7 | D10: LOCAÇÃO DE SOM INTERMEDIÁRIO PARA APRESENTAÇÕES MUSICAIS: | E10: 33.90.39.23 | F10: serviço | G10: Cfme. Memorial | H10: 20 | I10: 2191 | J10: =7+1 -> 8 | K10: =J10-(SUM(M10:AC10)) -> 0 | L10: =IF(K10<0,"ATENÇÃO","OK") -> OK | M10: 0 | N10: 2 | O10: 0 | P10: 0 | Q10: 1 | R10: 1 | S10: 0 | T10: 0 | U10: 0 | V10: 0 | W10: 0 | X10: 1 | Y10: 0 | Z10: 3 | AB10: 0 | AC10: 0
C11: 8 | D11: LOCAÇÃO DE PALCO COM COBERTURA (10,00 X 8,00 X 1,90 metros): | E11: 33.90.39.23 | F11: serviço | G11: Cfme. Memorial | H11: 20 | I11: 2689 | J11: =5+1 -> 6 | K11: =J11-(SUM(M11:AC11)) -> 0 | L11: =IF(K11<0,"ATENÇÃO","OK") -> OK | M11: 0 | N11: 0 | O11: 0 | P11: 0 | Q11: 0 | R11: 3 | S11: 0 | T11: 0 | U11: 0 | V11: 0 | W11: 0 | X11: 0 | Y11: 1 | Z11: 0 | AA11: 0 | AB11: 0 | AC11: 2
C12: 9 | D12: LOCAÇÃO DE PALCO SEM COBERTURA (8,00 X 6,00 X 1,10 METROS): | E12: 33.90.39.23 | F12: serviço | G12: Cfme. Memorial | H12: 20 | I12: 1089 | J12: =6+1 -> 7 | K12: =J12-(SUM(M12:AC12)) -> 0 | L12: =IF(K12<0,"ATENÇÃO","OK") -> OK | M12: 0 | N12: 0 | O12: 0 | P12: 0 | Q12: 1 | R12: 0 | S12: 0 | T12: 0 | U12: 0 | V12: 0 | W12: 0 | X12: 1 | Y12: 0 | Z12: 4 | AB12: 0 | AC12: 1
C13: 10 | D13: EQUIPAMENTO DE ILUMINAÇÃO BASICA PARA APRESENTAÇÃO MUSICAL: | E13: 33.90.39.23 | F13: serviço | G13: Cfme. Memorial | H13: 20 | I13: 1891 | J13: =12+1 -> 13 | K13: =J13-(SUM(M13:AC13)) -> 0 | L13: =IF(K13<0,"ATENÇÃO","OK") -> OK | M13: 0 | N13: 4 | O13: 0 | P13: 0 | Q13: 0 | R13: 0 | S13: 1 | T13: 0 | U13: 0 | V13: 2 | W13: 0 | X13: 5 | Y13: 0 | Z13: 1 | AA13: 0 | AB13: 0 | AC13: 0
C14: 11 | D14: CAMARIM | E14: 33.90.39.23 | F14: serviço | G14: Cfme. Memorial | H14: 20 | I14: 3192 | J14: 6 | K14: =J14-(SUM(M14:AC14)) -> 4 | L14: =IF(K14<0,"ATENÇÃO","OK") -> OK | M14: 0 | N14: 0 | O14: 0 | P14: 0 | Q14: 0 | R14: 0 | S14: 0 | T14: 1 | U14: 1 | V14: 0 | W14: 0 | X14: 0 | Y14: 0 | Z14: 0 | AA14: 0 | AB14: 0 | AC14: 0
C15: 12 | D15: PALCO TEATRO | E15: 33.90.39.23 | F15: serviço | G15: Cfme. Memorial | H15: 20 | I15: 6590 | J15: =5+1 -> 6 | K15: =J15-(SUM(M15:AC15)) -> 3 | L15: =IF(K15<0,"ATENÇÃO","OK") -> OK | M15: 0 | N15: 0 | O15: 0 | P15: 0 | Q15: 0 | R15: 0 | S15: 0 | T15: 0 | U15: 0 | V15: 0 | W15: 0 | X15: 2 | Y15: 0 | Z15: 0 | AA15: 0 | AB15: 0 | AC15: 1
A16: Lind Guimar Machado ME - Audio Mix | B16: 3 | C16: 13 | D16: MESTRE DE CERIMÔNIA | E16: 33.90.39.23 | F16: serviço | G16: Cfme. Memorial | H16: 20 | I16: 1048 | J16: 6 | K16: =J16-(SUM(M16:AC16)) -> 0 | L16: =IF(K16<0,"ATENÇÃO","OK") -> OK | M16: 0 | N16: 0 | O16: 3 | P16: 0 | Q16: 0 | R16: 0 | S16: 0 | T16: 0 | U16: 0 | V16: 0 | W16: 2 | X16: 0 | Y16: 0 | Z16: 0 | AA16: 1 | AB16: 0 | AC16: 0
A17: CSEE - Centro de Solução em Eventos Eireli - ME | B17: 4 | C17: 14 | D17: SEGURANÇA E LIMPEZA | E17: 33.90.39.23 | F17: serviço | G17: Cfme. Memorial | H17: 20 | I17: 2790.83 | J17: 12 | K17: =J17-(SUM(M17:AC17)) -> 6 | L17: =IF(K17<0,"ATENÇÃO","OK") -> OK | M17: 3 | N17: 0 | O17: 0 | P17: 3 | Q17: 0 | R17: 0 | S17: 0 | T17: 0 | U17: 0 | V17: 0 | W17: 0 | X17: 0 | Y17: 0 | Z17: 0 | AA17: 0 | AB17: 0 | AC17: 0
A18: CSEE - Centro de Solução em Eventos Eireli - ME | B18: 5 | C18: 15 | D18: CADEIRAS | E18: 33.90.39.23 | F18: peça | G18: Cfme. Memorial | H18: 20 | I18: 3.09 | J18: 2000 | K18: =J18-(SUM(M18:AC18)) -> 1753 | L18: =IF(K18<0,"ATENÇÃO","OK") -> OK | M18: 30 | N18: 0 | O18: 0 | P18: 30 | Q18: 0 | R18: 0 | S18: 0 | T18: 0 | U18: 0 | V18: 0 | W18: 0 | X18: 0 | Y18: 0 | Z18: 0 | AA18: 0 | AB18: 187 | AC18: 0
A19: Infrutífero | B19: 6 | C19: 16 | D19: SERVIÇO DE EXPOSIÇÃO DE TELA E FOTOS | M19: 0 | N19: 0 | O19: 0 | P19: 0 | Q19: 0 | R19: 0 | S19: 0 | T19: 0 | U19: 0 | V19: 0 | W19: 0 | X19: 0 | Y19: 0 | Z19: 0 | AA19: 0 | AB19: 0 | AC19: 0
C20: 17 | D20: TELÃO E SERVIÇO DE FILMAGEM | M20: 0 | N20: 0 | O20: 0 | P20: 0 | Q20: 0 | R20: 0 | S20: 0 | T20: 0 | U20: 0 | V20: 0 | W20: 0 | X20: 0 | Y20: 0 | Z20: 0 | AA20: 0 | AB20: 0 | AC20: 0
C21: 18 | D21: SERVIÇO DE PROJEÇÃO DE AUDIOVISUAL | M21: 0 | N21: 0 | O21: 0 | P21: 0 | Q21: 0 | R21: 0 | S21: 0 | T21: 0 | U21: 0 | V21: 0 | W21: 0 | X21: 0 | Y21: 0 | Z21: 0 | AA21: 0 | AB21: 0 | AC21: 0
C22: 19 | D22: PROJEÇÃO COM PAINEL DE LED 10 mm (DIMENSÕES 6,00 x 4,00 metros) | M22: 0 | N22: 0 | O22: 0 | P22: 0 | Q22: 0 | R22: 0 | S22: 0 | T22: 0 | U22: 0 | V22: 0 | W22: 0 | X22: 0 | Y22: 0 | Z22: 0 | AA22: 0 | AB22: 0 | AC22: 0

Sheet ANPED
A1: PROCESSO: 906/2014 | D1: OBJETO: CONTRATAÇÃO DE EMPRESA ESPECIALIZADA EM PRESTAÇÃO DE SERVIÇOS DE SONORIZAÇÃO, ILUMINAÇÃO E INFRAESTRUTURA PARA EVENTOS. | I1: VIGÊNCIA DA ATA: 16/09/2014 até 15/09/2015 | M1: AF/OS nº anped sul1655/2014 Qtde. DT
A2: CENTRO PARTICIPANTE: ANPED
A3: FORNECEDOR | B3: LOTE | C3: ITEM | D3: PRODUTO - CARACTERÍSTICAS MÍNIMAS | E3: DETALHAMENTO | F3: UNIDADE | G3: Entrega (Dias) | H3: Pagto. (Dias) | I3: Preço UNITÁRIO (R$) | J3: Qtde LICITADA | K3: Saldo / Automático | L3: ALERTA | M3: 41935
A4: Renato Henrique EPP | B4: 1 | C4: 1 | D4: LOCAÇÃO DE SOM PARA ABERTURA DE EVENTOS E SOLENIDADES: | E4: 33.90.39.23 | F4: serviço | G4: Cfme. Memorial | H4: 20 | I4: 1069 | J4: 5 | K4: =J4-(SUM(M4:M4)) -> 0 | L4: =IF(K4<0,"ATENÇÃO","OK") -> OK | M4: 5
C5: 2 | D5: LOCAÇÃO DE ESTRUTURA DE FIXAÇÃO DE LUZ E SOM: | E5: 33.90.39.23 | F5: serviço | G5: Cfme. Memorial | H5: 20 | I5: 1106 | J5: 2 | K5: =J5-(SUM(M5:M5)) -> 0 | L5: =IF(K5<0,"ATENÇÃO","OK") -> OK | M5: 2
C6: 3 | D6: LOCAÇÃO DE EQUIPAMENTO DE ILUMINAÇÃO: | E6: 33.90.39.23 | F6: serviço | G6: Cfme. Memorial | H6: 20 | I6: 1602 | J6: 2 | K6: =J6-(SUM(M6:M6)) -> 0 | L6: =IF(K6<0,"ATENÇÃO","OK") -> OK | M6: 2
C7: 4 | D7: SERVIÇOS DE PALCO SIMPLES: | E7: 33.90.39.23 | F7: serviço | G7: Cfme. Memorial | H7: 20 | I7: 2289 | J7: 1 | K7: =J7-(SUM(M7:M7)) -> 0 | L7: =IF(K7<0,"ATENÇÃO","OK") -> OK | M7: 1
C8: 5 | D8: RÁDIO PARQUE COM 45 CAIXAS | E8: 33.90.39.23 | F8: serviço | G8: Cfme. Memorial | H8: 20 | I8: 4197 | J8: 1 | K8: =J8-(SUM(M8:M8)) -> 0 | L8: =IF(K8<0,"ATENÇÃO","OK") -> OK | M8: 1
A9: Renato Henrique EPP | B9: 2 | C9: 6 | D9: LOCAÇÃO DE SOM BÁSICO PARA APRESENTAÇÕES MUSICAIS: | E9: 33.90.39.23 | F9: serviço | G9: Cfme. Memorial | H9: 20 | I9: 1589 | J9: 3 | K9: =J9-(SUM(M9:M9)) -> 0 | L9: =IF(K9<0,"ATENÇÃO","OK") -> OK | M9: 3
C10: 7 | D10: LOCAÇÃO DE SOM INTERMEDIÁRIO PARA APRESENTAÇÕES MUSICAIS: | E10: 33.90.39.23 | F10: serviço | G10: Cfme. Memorial | H10: 20 | I10: 2191 | K10: =J10-(SUM(M10:M10)) -> 0 | L10: =IF(K10<0,"ATENÇÃO","OK") -> OK | M10: 0
C11: 8 | D11: LOCAÇÃO DE PALCO COM COBERTURA (10,00 X 8,00 X 1,90 metros): | E11: 33.90.39.23 | F11: serviço | G11: Cfme. Memorial | H11: 20 | I11: 2689 | J11: 1 | K11: =J11-(SUM(M11:M11)) -> 0 | L11: =IF(K11<0,"ATENÇÃO","OK") -> OK | M11: 1
C12: 9 | D12: LOCAÇÃO DE PALCO SEM COBERTURA (8,00 X 6,00 X 1,10 METROS): | E12: 33.90.39.23 | F12: serviço | G12: Cfme. Memorial | H12: 20 | I12: 1089 | K12: =J12-(SUM(M12:M12)) -> 0 | L12: =IF(K12<0,"ATENÇÃO","OK") -> OK | M12: 0
C13: 10 | D13: EQUIPAMENTO DE ILUMINAÇÃO BASICA PARA APRESENTAÇÃO MUSICAL: | E13: 33.90.39.23 | F13: serviço | G13: Cfme. Memorial | H13: 20 | I13: 1891 | J13: 3 | K13: =J13-(SUM(M13:M13)) -> 0 | L13: =IF(K13<0,"ATENÇÃO","OK") -> OK | M13: 3
C14: 11 | D14: CAMARIM | E14: 33.90.39.23 | F14: serviço | G14: Cfme. Memorial | H14: 20 | I14: 3192 | K14: =J14-(SUM(M14:M14)) -> 0 | L14: =IF(K14<0,"ATENÇÃO","OK") -> OK | M14: 0
C15: 12 | D15: PALCO TEATRO | E15: 33.90.39.23 | F15: serviço | G15: Cfme. Memorial | H15: 20 | I15: 6590 | K15: =J15-(SUM(M15:M15)) -> 0 | L15: =IF(K15<0,"ATENÇÃO","OK") -> OK | M15: 0
A16: Lind Guimar Machado ME - Audio Mix | B16: 3 | C16: 13 | D16: MESTRE DE CERIMÔNIA | E16: 33.90.39.23 | F16: serviço | G16: Cfme. Memorial | H16: 20 | I16: 1048 | K16: =J16-(SUM(M16:M16)) -> 0 | L16: =IF(K16<0,"ATENÇÃO","OK") -> OK | M16: 0
A17: CSEE - Centro de Solução em Eventos Eireli - ME | B17: 4 | C17: 14 | D17: SEGURANÇA E LIMPEZA | E17: 33.90.39.23 | F17: serviço | G17: Cfme. Memorial | H17: 20 | I17: 2790.83 | K17: =J17-(SUM(M17:M17)) -> 0 | L17: =IF(K17<0,"ATENÇÃO","OK") -> OK | M17: 0
A18: CSEE - Centro de Solução em Eventos Eireli - ME | B18: 5 | C18: 15 | D18: CADEIRAS | E18: 33.90.39.23 | F18: peça | G18: Cfme. Memorial | H18: 20 | I18: 3.09 | K18: =J18-(SUM(M18:M18)) -> 0 | L18: =IF(K18<0,"ATENÇÃO","OK") -> OK | M18: 0
A19: Infrutífero | B19: 6 | C19: 16 | D19: SERVIÇO DE EXPOSIÇÃO DE TELA E FOTOS | M19: 0
C20: 17 | D20: TELÃO E SERVIÇO DE FILMAGEM | M20: 0
C21: 18 | D21: SERVIÇO DE PROJEÇÃO DE AUDIOVISUAL | M21: 0
C22: 19 | D22: PROJEÇÃO COM PAINEL DE LED 10 mm (DIMENSÕES 6,00 x 4,00 metros) | M22: 0

Sheet GESTOR
A1: PROCESSO: 906/2014 | D1: OBJETO: CONTRATAÇÃO DE EMPRESA ESPECIALIZADA EM PRESTAÇÃO DE SERVIÇOS DE SONORIZAÇÃO, ILUMINAÇÃO E INFRAESTRUTURA PARA EVENTOS. | I1: VIGÊNCIA DA ATA: 16/09/2014 até 15/09/2015
A2: CENTRO PARTICIPANTE: Reitoria/PROEX
A3: FORNECEDOR | B3: LOTE | C3: ITEM | D3: PRODUTO - CARACTERÍSTICAS MÍNIMAS | E3: DETALHAMENTO | F3: UNIDADE | G3: Entrega (Dias) | H3: Pagto. (Dias) | I3: Preço UNITÁRIO (R$) | J3: Qtde Registrada + Aditivos | K3: Quantidade Utilizada | L3: SALDO | M3: Valor Total Registrado | N3: Valor Total Utilizado
A4: Renato Henrique EPP | B4: 1 | C4: 1 | D4: LOCAÇÃO DE SOM PARA ABERTURA DE EVENTOS E SOLENIDADES: | E4: 33.90.39.23 | F4: serviço | G4: Cfme. Memorial | H4: 20 | I4: 1069 | J4: =Reitoria_PROEX!J4+ANPED!J4 -> 11 | K4: =(Reitoria_PROEX!J4-Reitoria_PROEX!K4)+(ANPED!J4-ANPED!K4) -> 11 | L4: =J4-K4 -> 0 | M4: =I4*J4 -> 11759 | N4: =I4*K4 -> 11759
C5: 2 | D5: LOCAÇÃO DE ESTRUTURA DE FIXAÇÃO DE LUZ E SOM: | E5: 33.90.39.23 | F5: serviço | G5: Cfme. Memorial | H5: 20 | I5: 1106 | J5: =Reitoria_PROEX!J5+ANPED!J5 -> 19 | K5: =(Reitoria_PROEX!J5-Reitoria_PROEX!K5)+(ANPED!J5-ANPED!K5) -> 19 | L5: =J5-K5 -> 0 | M5: =I5*J5 -> 21014 | N5: =I5*K5 -> 21014
C6: 3 | D6: LOCAÇÃO DE EQUIPAMENTO DE ILUMINAÇÃO: | E6: 33.90.39.23 | F6: serviço | G6: Cfme. Memorial | H6: 20 | I6: 1602 | J6: =Reitoria_PROEX!J6+ANPED!J6 -> 19 | K6: =(Reitoria_PROEX!J6-Reitoria_PROEX!K6)+(ANPED!J6-ANPED!K6) -> 19 | L6: =J6-K6 -> 0 | M6: =I6*J6 -> 30438 | N6: =I6*K6 -> 30438
C7: 4 | D7: SERVIÇOS DE PALCO SIMPLES: | E7: 33.90.39.23 | F7: serviço | G7: Cfme. Memorial | H7: 20 | I7: 2289 | J7: =Reitoria_PROEX!J7+ANPED!J7 -> 5 | K7: =(Reitoria_PROEX!J7-Reitoria_PROEX!K7)+(ANPED!J7-ANPED!K7) -> 5 | L7: =J7-K7 -> 0 | M7: =I7*J7 -> 11445 | N7: =I7*K7 -> 11445
C8: 5 | D8: RÁDIO PARQUE COM 45 CAIXAS | E8: 33.90.39.23 | F8: serviço | G8: Cfme. Memorial | H8: 20 | I8: 4197 | J8: =Reitoria_PROEX!J8+ANPED!J8 -> 3 | K8: =(Reitoria_PROEX!J8-Reitoria_PROEX!K8)+(ANPED!J8-ANPED!K8) -> 3 | L8: =J8-K8 -> 0 | M8: =I8*J8 -> 12591 | N8: =I8*K8 -> 12591
A9: Renato Henrique EPP | B9: 2 | C9: 6 | D9: LOCAÇÃO DE SOM BÁSICO PARA APRESENTAÇÕES MUSICAIS: | E9: 33.90.39.23 | F9: serviço | G9: Cfme. Memorial | H9: 20 | I9: 1589 | J9: =Reitoria_PROEX!J9+ANPED!J9 -> 14 | K9: =(Reitoria_PROEX!J9-Reitoria_PROEX!K9)+(ANPED!J9-ANPED!K9) -> 14 | L9: =J9-K9 -> 0 | M9: =I9*J9 -> 22246 | N9: =I9*K9 -> 22246
C10: 7 | D10: LOCAÇÃO DE SOM INTERMEDIÁRIO PARA APRESENTAÇÕES MUSICAIS: | E10: 33.90.39.23 | F10: serviço | G10: Cfme. Memorial | H10: 20 | I10: 2191 | J10: =Reitoria_PROEX!J10+ANPED!J10 -> 8 | K10: =(Reitoria_PROEX!J10-Reitoria_PROEX!K10)+(ANPED!J10-ANPED!K10) -> 8 | L10: =J10-K10 -> 0 | M10: =I10*J10 -> 17528 | N10: =I10*K10 -> 17528
C11: 8 | D11: LOCAÇÃO DE PALCO COM COBERTURA (10,00 X 8,00 X 1,90 metros): | E11: 33.90.39.23 | F11: serviço | G11: Cfme. Memorial | H11: 20 | I11: 2689 | J11: =Reitoria_PROEX!J11+ANPED!J11 -> 7 | K11: =(Reitoria_PROEX!J11-Reitoria_PROEX!K11)+(ANPED!J11-ANPED!K11) -> 7 | L11: =J11-K11 -> 0 | M11: =I11*J11 -> 18823 | N11: =I11*K11 -> 18823
C12: 9 | D12: LOCAÇÃO DE PALCO SEM COBERTURA (8,00 X 6,00 X 1,10 METROS): | E12: 33.90.39.23 | F12: serviço | G12: Cfme. Memorial | H12: 20 | I12: 1089 | J12: =Reitoria_PROEX!J12+ANPED!J12 -> 7 | K12: =(Reitoria_PROEX!J12-Reitoria_PROEX!K12)+(ANPED!J12-ANPED!K12) -> 7 | L12: =J12-K12 -> 0 | M12: =I12*J12 -> 7623 | N12: =I12*K12 -> 7623
C13: 10 | D13: EQUIPAMENTO DE ILUMINAÇÃO BASICA PARA APRESENTAÇÃO MUSICAL: | E13: 33.90.39.23 | F13: serviço | G13: Cfme. Memorial | H13: 20 | I13: 1891 | J13: =Reitoria_PROEX!J13+ANPED!J13 -> 16 | K13: =(Reitoria_PROEX!J13-Reitoria_PROEX!K13)+(ANPED!J13-ANPED!K13) -> 16 | L13: =J13-K13 -> 0 | M13: =I13*J13 -> 30256 | N13: =I13*K13 -> 30256
C14: 11 | D14: CAMARIM | E14: 33.90.39.23 | F14: serviço | G14: Cfme. Memorial | H14: 20 | I14: 3192 | J14: =Reitoria_PROEX!J14+ANPED!J14 -> 6 | K14: =(Reitoria_PROEX!J14-Reitoria_PROEX!K14)+(ANPED!J14-ANPED!K14) -> 2 | L14: =J14-K14 -> 4 | M14: =I14*J14 -> 19152 | N14: =I14*K14 -> 6384
C15: 12 | D15: PALCO TEATRO | E15: 33.90.39.23 | F15: serviço | G15: Cfme. Memorial | H15: 20 | I15: 6590 | J15: =Reitoria_PROEX!J15+ANPED!J15 -> 6 | K15: =(Reitoria_PROEX!J15-Reitoria_PROEX!K15)+(ANPED!J15-ANPED!K15) -> 3 | L15: =J15-K15 -> 3 | M15: =I15*J15 -> 39540 | N15: =I15*K15 -> 19770
A16: Lind Guimar Machado ME - Audio Mix | B16: 3 | C16: 13 | D16: MESTRE DE CERIMÔNIA | E16: 33.90.39.23 | F16: serviço | G16: Cfme. Memorial | H16: 20 | I16: 1233.33 | J16: =Reitoria_PROEX!J16+ANPED!J16 -> 6 | K16: =(Reitoria_PROEX!J16-Reitoria_PROEX!K16)+(ANPED!J16-ANPED!K16) -> 6 | L16: =J16-K16 -> 0 | M16: =I16*J16 -> 7399.98 | N16: =I16*K16 -> 7399.98
A17: CSEE - Centro de Solução em Eventos Eireli - ME | B17: 4 | C17: 14 | D17: SEGURANÇA E LIMPEZA | E17: 33.90.39.23 | F17: serviço | G17: Cfme. Memorial | H17: 20 | I17: 2790.83 | J17: =Reitoria_PROEX!J17+ANPED!J17 -> 12 | K17: =(Reitoria_PROEX!J17-Reitoria_PROEX!K17)+(ANPED!J17-ANPED!K17) -> 6 | L17: =J17-K17 -> 6 | M17: =I17*J17 -> 33489.96 | N17: =I17*K17 -> 16744.98
A18: CSEE - Centro de Solução em Eventos Eireli - ME | B18: 5 | C18: 15 | D18: CADEIRAS | E18: 33.90.39.23 | F18: peça | G18: Cfme. Memorial | H18: 20 | I18: 3.09 | J18: =Reitoria_PROEX!J18+ANPED!J18 -> 2000 | K18: =(Reitoria_PROEX!J18-Reitoria_PROEX!K18)+(ANPED!J18-ANPED!K18) -> 247 | L18: =J18-K18 -> 1753 | M18: =I18*J18 -> 6180 | N18: =I18*K18 -> 763.23
A19: Infrutífero | B19: 6 | C19: 16 | D19: SERVIÇO DE EXPOSIÇÃO DE TELA E FOTOS | M19: =I19*J19 -> 0 | N19: =I19*K19 -> 0
C20: 17 | D20: TELÃO E SERVIÇO DE FILMAGEM | M20: =I20*J20 -> 0 | N20: =I20*K20 -> 0
C21: 18 | D21: SERVIÇO DE PROJEÇÃO DE AUDIOVISUAL | M21: =I21*J21 -> 0 | N21: =I21*K21 -> 0
C22: 19 | D22: PROJEÇÃO COM PAINEL DE LED 10 mm (DIMENSÕES 6,00 x 4,00 metros) | M22: =I22*J22 -> 0 | N22: =I22*K22 -> 0
M23: =SUM(M4:M22) -> 289484.94 | N23: =SUM(N4:N22) -> 234785.19
J25: Pregão 0906/2014/UDESC - SRP
J26: CONTRATAÇÃO DE EMPRESA ESPECIALIZADA EM PRESTAÇÃO DE SERVIÇOS DE SONORIZAÇÃO, ILUMINAÇÃO E INFRAESTRUTURA PARA EVENTOS.
J27: Vigência 16/09/2014 até 15/09/2015
J28: Valor Total da Ata com Aditivo | N28: =M23 -> 289484.94
J29: Valor Utilizado | N29: =N23 -> 234785.19
J30: % Aditivos | N30: 0
J31: % Utilizado | N31: =N29/N28 -> 0.81104457
J32: Resumo Atualizado em 27/11/2014

Sheet Aditivos ARP
A1: PROCESSO: 906/2014 | D1: OBJETO: CONTRATAÇÃO DE EMPRESA ESPECIALIZADA EM PRESTAÇÃO DE SERVIÇOS DE SONORIZAÇÃO, ILUMINAÇÃO E INFRAESTRUTURA PARA EVENTOS. | G1: VIGÊNCIA DA ATA: 16/09/2014 até 15/09/2015
A2: CENTRO PARTICIPANTE: Reitoria/PROEX
A3: FORNECEDOR | B3: LOTE | C3: ITEM | D3: PRODUTO - CARACTERÍSTICAS MÍNIMAS | E3: DETALHAMENTO | F3: UNIDADE | G3: Preço UNITÁRIO (R$) | H3: Qtde LICITADA | I3: Total LICITADO | J3: Total por Lote | K3: Qtde 1º Aditivo | L3: Valor 1º Aditivo | M3: Total por Lote | N3: % 1º Aditivo | O3: Qtde 2º Aditivo | P3: Valor 2º Aditivo | Q3: Total por Lote | R3: % 2º Aditivo
A4: Renato Henrique EPP | B4: 1 | C4: 1 | D4: LOCAÇÃO DE SOM PARA ABERTURA DE EVENTOS E SOLENIDADES: | E4: 33.90.39.23 | F4: serviço | G4: 1069 | H4: 6 | I4: =H4*G4 -> 6414 | J4: =SUM(I4:I8) -> 70000 | K4: 5 | L4: =K4*G4 -> 5345 | M4: =SUM(L4:L8) -> 17247 | N4: =(M4*100)/J4 -> 24.638571
C5: 2 | D5: LOCAÇÃO DE ESTRUTURA DE FIXAÇÃO DE LUZ E SOM: | E5: 33.90.39.23 | F5: serviço | G5: 1106 | H5: 17 | I5: =H5*G5 -> 18802 | K5: 2 | L5: =K5*G5 -> 2212
C6: 3 | D6: LOCAÇÃO DE EQUIPAMENTO DE ILUMINAÇÃO: | E6: 33.90.39.23 | F6: serviço | G6: 1602 | H6: 17 | I6: =H6*G6 -> 27234 | K6: 2 | L6: =K6*G6 -> 3204
C7: 4 | D7: SERVIÇOS DE PALCO SIMPLES: | E7: 33.90.39.23 | F7: serviço | G7: 2289 | H7: 4 | I7: =H7*G7 -> 9156 | K7: 1 | L7: =K7*G7 -> 2289
C8: 5 | D8: RÁDIO PARQUE COM 45 CAIXAS | E8: 33.90.39.23 | F8: serviço | G8: 4197 | H8: 2 | I8: =H8*G8 -> 8394 | K8: 1 | L8: =K8*G8 -> 4197
A9: Renato Henrique EPP | B9: 2 | C9: 6 | D9: LOCAÇÃO DE SOM BÁSICO PARA APRESENTAÇÕES MUSICAIS: | E9: 33.90.39.23 | F9: serviço | G9: 1589 | H9: 10 | I9: =H9*G9 -> 15890 | J9: =SUM(I9:I15) -> 126000 | K9: 3 | L9: =K9*G9 -> 4767 | M9: =SUM(L9:L14) -> 13129 | N9: =(M9*100)/J9 -> 10.419841 | O9: 1 | P9: =O9*G9 -> 1589 | Q9: =SUM(P9:P15) -> 16039 | R9: =(Q9*100)/J9 -> 12.729365
C10: 7 | D10: LOCAÇÃO DE SOM INTERMEDIÁRIO PARA APRESENTAÇÕES MUSICAIS: | E10: 33.90.39.23 | F10: serviço | G10: 2191 | H10: 7 | I10: =H10*G10 -> 15337 | O10: 1 | P10: =O10*G10 -> 2191
C11: 8 | D11: LOCAÇÃO DE PALCO COM COBERTURA (10,00 X 8,00 X 1,90 metros): | E11: 33.90.39.23 | F11: serviço | G11: 2689 | H11: 5 | I11: =H11*G11 -> 13445 | K11: 1 | L11: =K11*G11 -> 2689 | O11: 1 | P11: =O11*G11 -> 2689
C12: 9 | D12: LOCAÇÃO DE PALCO SEM COBERTURA (8,00 X 6,00 X 1,10 METROS): | E12: 33.90.39.23 | F12: serviço | G12: 1089 | H12: 6 | I12: =H12*G12 -> 6534 | O12: 1 | P12: =O12*G12 -> 1089
C13: 10 | D13: EQUIPAMENTO DE ILUMINAÇÃO BASICA PARA APRESENTAÇÃO MUSICAL: | E13: 33.90.39.23 | F13: serviço | G13: 1891 | H13: 12 | I13: =H13*G13 -> 22692 | K13: 3 | L13: =K13*G13 -> 5673 | O13: 1 | P13: =O13*G13 -> 1891
C14: 11 | D14: CAMARIM | E14: 33.90.39.23 | F14: serviço | G14: 3192 | H14: 6 | I14: =H14*G14 -> 19152
C15: 12 | D15: PALCO TEATRO | E15: 33.90.39.23 | F15: serviço | G15: 6590 | H15: 5 | I15: =H15*G15 -> 32950 | O15: 1 | P15: =O15*G15 -> 6590
A16: Lind Guimar Machado ME - Audio Mix | B16: 3 | C16: 13 | D16: MESTRE DE CERIMÔNIA | E16: 33.90.39.23 | F16: serviço | G16: 1233.33 | H16: 6 | I16: =H16*G16 -> 7399.98 | J16: =I16 -> 7399.98
A17: CSEE - Centro de Solução em Eventos Eireli - ME | B17: 4 | C17: 14 | D17: SEGURANÇA E LIMPEZA | E17: 33.90.39.23 | F17: serviço | G17: 2790.83 | H17: 12 | I17: =H17*G17 -> 33489.96 | J17: =I17 -> 33489.96
A18: CSEE - Centro de Solução em Eventos Eireli - ME | B18: 5 | C18: 15 | D18: CADEIRAS | E18: 33.90.39.23 | F18: peça | G18: 3.09 | H18: 2000 | I18: =H18*G18 -> 6180 | J18: =I18 -> 6180
A19: Infrutífero | B19: 6 | C19: 16 | D19: SERVIÇO DE EXPOSIÇÃO DE TELA E FOTOS
C20: 17 | D20: TELÃO E SERVIÇO DE FILMAGEM
C21: 18 | D21: SERVIÇO DE PROJEÇÃO DE AUDIOVISUAL
C22: 19 | D22: PROJEÇÃO COM PAINEL DE LED 10 mm (DIMENSÕES 6,00 x 4,00 metros)

Sheet Modelo Anexo II IN 002_2014
A1: ANEXO II – Instrução Normativa n.º 002/2014
A3: DECLARAÇÃO DE DISPONIBILIDADE DE QUANTITATIVO PARA EMISSÃO DE AUTORIZAÇÃO DE FORNECIMENTO/ORDEM DE SERVIÇO – SISTEMA DE REGISTRO DE PREÇOS/UDESC
A5: Processo CPA n.º XXXX/2014
A6: Pregão n.º XXXX/2014
A7: Objeto:
A8: Vigência da Ata de Registro de Preços: XX/XX/XXXX até XX/XX/XXXXX
A10: Declaro que o Centro XXXXXXX, participante da Ata de Registro de Preços proveniente do Pregão n.º XXXX/2014, possui saldo em seu quantitativo para a emissão da Autorização de Fornecimento/Ordem de Serviço n.º XXXX/2014, no valor de R$ X.XXX,XX, a ser firmada com a empresa XXXXXXX, restando ainda em sua cota para próximas contratações com o referido fornecedor os seguintes quantitativos:
A12: Lote | B12: Item | C12: Descrição Resumida | D12: Unidade | E12: Valor Unitário (R$) | F12: Saldo Quantitativo (antes da emissão desta AF/OS) | G12: Quantitativo da AF/OS | H12: Saldo Atualizado
A19: __________________, ____/_____/____
A20: Cidade Data
A24: _____________________________________________
A25: Diretor(a) de Administração
A26: (carimbo e assinatura)
