Workbook
Name diasuteis: #REF!
Name diasuteis: #REF!
Name diasuteis: #REF!
Name diasuteis: #REF!
Name diasuteis: #REF!
Name diasuteis: #REF!
Name diasuteis: #REF!
Name diasuteis: #REF!
Name diasuteis: #REF!
Name diasuteis: #REF!
Name diasuteis: #REF!
Name diasuteis: #REF!
Name diasuteis: #REF!
Name diasuteis: #REF!
Name diasuteis: #REF!
Name Ferias: #REF!
Name Ferias: #REF!
Name Ferias: #REF!
Name Ferias: #REF!
Name Ferias: #REF!
Name Ferias: #REF!
Name Ferias: #REF!
Name Ferias: #REF!
Name Ferias: #REF!
Name Ferias: #REF!
Name Ferias: #REF!
Name Ferias: #REF!
Name Ferias: #REF!
Name Ferias: #REF!
Name RD: OFFSET(#REF!,(MATCH(SMALL(#REF!,ROW()-10),#REF!,0)-1),0)
Name RD: OFFSET(#REF!,(MATCH(SMALL(#REF!,ROW()-10),#REF!,0)-1),0)
Name RD: OFFSET(#REF!,(MATCH(SMALL(#REF!,ROW()-10),#REF!,0)-1),0)
Name RD: OFFSET(#REF!,(MATCH(SMALL(#REF!,ROW()-10),#REF!,0)-1),0)
Name RD: OFFSET(#REF!,(MATCH(SMALL(#REF!,ROW()-10),#REF!,0)-1),0)
Name RD: OFFSET(#REF!,(MATCH(SMALL(#REF!,ROW()-10),#REF!,0)-1),0)
Name RD: OFFSET(#REF!,(MATCH(SMALL(#REF!,ROW()-10),#REF!,0)-1),0)
Name RD: OFFSET(#REF!,(MATCH(SMALL(#REF!,ROW()-10),#REF!,0)-1),0)
Name RD: OFFSET(#REF!,(MATCH(SMALL(#REF!,ROW()-10),#REF!,0)-1),0)
Name RD: OFFSET(#REF!,(MATCH(SMALL(#REF!,ROW()-10),#REF!,0)-1),0)
Name RD: OFFSET(#REF!,(MATCH(SMALL(#REF!,ROW()-10),#REF!,0)-1),0)
Name RD: OFFSET(#REF!,(MATCH(SMALL(#REF!,ROW()-10),#REF!,0)-1),0)
Name RD: OFFSET(#REF!,(MATCH(SMALL(#REF!,ROW()-10),#REF!,0)-1),0)
Name RD: OFFSET(#REF!,(MATCH(SMALL(#REF!,ROW()-10),#REF!,0)-1),0)

Sheet Reitoria
A1: PROCESSO: 859/2014 | D1: OBJETO: Aquisição e instalação de aparelhos de ar condicionado | J1: VIGÊNCIA DA ATA: 27/08/2014 até 26/08/2014 | N1: AF/OS nº xxxx/2014 Qtde. DT | O1: AF/OS nº xxxx/2014 Qtde. DT | P1: AF/OS nº xxxx/2014 Qtde. DT | Q1: AF/OS nº xxxx/2014 Qtde. DT | R1: AF/OS nº xxxx/2014 Qtde. DT | S1: AF/OS nº xxxx/2014 Qtde. DT | T1: AF/OS nº xxxx/2014 Qtde. DT | U1: AF/OS nº xxxx/2014 Qtde. DT | V1: AF/OS nº xxxx/2014 Qtde. DT | W1: AF/OS nº xxxx/2014 Qtde. DT | X1: AF/OS nº xxxx/2014 Qtde. DT | Y1: AF/OS nº xxxx/2014 Qtde. DT
A2: CENTRO PARTICIPANTE: Reitoria
A3: FORNECEDOR | B3: LOTE | C3: ITEM | D3: PRODUTO - CARACTERÍSTICAS MÍNIMAS | E3: DETALHAMENTO | F3: MARCA/MODELO | G3: UNIDADE | H3: Entrega (Dias) | I3: Pagto. (Dias) | J3: Preço UNITÁRIO (R$) | K3: Qtde LICITADA | L3: Saldo / Automático | M3: ALERTA | N3: ...../...../...... | O3: ...../...../...... | P3: ...../...../...... | Q3: ...../...../...... | R3: ...../...../...... | S3: ...../...../...... | T3: ...../...../...... | U3: ...../...../...... | V3: ...../...../...... | W3: ...../...../...... | X3: ...../...../...... | Y3: ...../...../......
A4: DSM Distribuidora de Móveis e Suprimentos Eireli EPP | B4: 1 | C4: 1 | D4: Aparelho de ar condicionado tipo Split High Wall (para parede), capacidade frigorífica nominal de 9.000 btu’s, 220 V, somente frio, com controle remoto (individual) sem fio e filtro de ar lavável. Selo PROCEL “A” . | E4: 449052-34 | F4: ELGIN | G4: Peça | H4: CONFORME MEMORIAL | I4: 20 | J4: 1137.77 | K4: 1 | L4: =K4-(SUM(N4:Y4)) -> 1 | M4: =IF(L4<0,"ATENÇÃO","OK") -> OK | N4: 0 | O4: 0 | P4: 0 | Q4: 0 | R4: 0 | S4: 0 | T4: 0 | U4: 0 | V4: 0 | W4: 0 | X4: 0 | Y4: 0
A5: LS Climatizações Ltda | B5: 2 | C5: 2 | D5: Aparelho de ar condicionado tipo Split High Wall (para parede), ciclo somente frio, 220 V, capacidade frigorífica nominal de 12.000 btu’s somente frio, com controle remoto (individual) sem fio e filtro de ar lavável. Selo PROCEL “A”. | E5: 449052-34 | F5: KOMECO | G5: Peça | H5: CONFORME MEMORIAL | I5: 20 | J5: 1197.26 | K5: 6 | L5: =K5-(SUM(N5:Y5)) -> 6 | M5: =IF(L5<0,"ATENÇÃO","OK") -> OK | N5: 0 | O5: 0 | P5: 0 | Q5: 0 | R5: 0 | S5: 0 | T5: 0 | U5: 0 | V5: 0 | W5: 0 | X5: 0 | Y5: 0
B6: 3 | C6: 3 | D6: Aparelho de ar condicionado tipo Split High Wall, (para parede), ciclo somente frio, capacidade frigorífica nominal de 18.000 btu’s, 220 V, com controle remoto (individual) sem fio e filtro de ar lavável. | E6: 449052-34 | F6: ELGIN | G6: Peça | H6: CONFORME MEMORIAL | I6: 20 | J6: 1590.41 | K6: 1 | L6: =K6-(SUM(N6:Y6)) -> 1 | M6: =IF(L6<0,"ATENÇÃO","OK") -> OK | N6: 0 | O6: 0 | P6: 0 | Q6: 0 | R6: 0 | S6: 0 | T6: 0 | U6: 0 | V6: 0 | W6: 0 | X6: 0 | Y6: 0
B7: 4 | C7: 4 | D7: Aparelho de ar condicionado tipo Split High Wall (para parede), ciclo quente e frio: controle remoto sem fio, capacidade nominal de no mínimo 9.000 btus; capacidade de desumidificar o ambiente e filtro de ar lavável, tensão 220 Volts, frequência 60 Hz. Selo PROCEL “A”. | E7: 449052-34 | F7: KOMECO | G7: Peça | H7: CONFORME MEMORIAL | I7: 20 | J7: 1198.63 | K7: 3 | L7: =K7-(SUM(N7:Y7)) -> 3 | M7: =IF(L7<0,"ATENÇÃO","OK") -> OK | N7: 0 | O7: 0 | P7: 0 | Q7: 0 | R7: 0 | S7: 0 | T7: 0 | U7: 0 | V7: 0 | W7: 0 | X7: 0 | Y7: 0
B8: 5 | C8: 5 | D8: Aparelho de ar condicionado tipo Split High Wall (para parede), ciclo quente e frio, capacidade frigorífica nominal de 12.000 btu’s, 220 V,com controle remoto (individual) sem fio e filtro de ar lavável. Selo PROCEL “A”. | E8: 449052-34 | F8: KOMECO | G8: Peça | H8: CONFORME MEMORIAL | I8: 20 | J8: 1269.86 | L8: =K8-(SUM(N8:Y8)) -> 0 | M8: =IF(L8<0,"ATENÇÃO","OK") -> OK | N8: 0 | O8: 0 | P8: 0 | Q8: 0 | R8: 0 | S8: 0 | T8: 0 | U8: 0 | V8: 0 | W8: 0 | X8: 0 | Y8: 0
B9: 6 | C9: 6 | D9: Aparelho de ar condicionado tipo Split High Wall (para parede), ciclo quente e frio, capacidade frigorífica nominal de 18.000 btu’s, 220 V,com controle remoto (individual) sem fio e filtro de ar lavável. | E9: 449052-34 | F9: ELGIN | G9: Peça | H9: CONFORME MEMORIAL | I9: 20 | J9: 1713.7 | K9: 1 | L9: =K9-(SUM(N9:Y9)) -> 1 | M9: =IF(L9<0,"ATENÇÃO","OK") -> OK | N9: 0 | O9: 0 | P9: 0 | Q9: 0 | R9: 0 | S9: 0 | T9: 0 | U9: 0 | V9: 0 | W9: 0 | X9: 0 | Y9: 0
B10: 7 | C10: 7 | D10: Aparelho de ar condicionado tipo Split High Wall (para parede), ciclo quente e frio, capacidade frigorífica nominal de 24.000 btu’s, 220 V, com controle remoto (individual) sem fio e filtro de ar lavável. | E10: 449052-34 | F10: KOMECO | G10: Peça | H10: CONFORME MEMORIAL | I10: 20 | J10: 2241.1 | K10: 1 | L10: =K10-(SUM(N10:Y10)) -> 1 | M10: =IF(L10<0,"ATENÇÃO","OK") -> OK | N10: 0 | O10: 0 | P10: 0 | Q10: 0 | R10: 0 | S10: 0 | T10: 0 | U10: 0 | V10: 0 | W10: 0 | X10: 0 | Y10: 0
B11: 8 | C11: 8 | D11: Aparelho de ar condicionado tipo Split High Wall (para parede), ciclo quente e frio, capacidade frigorífica nominal de 30.000 btu’s, 220 V, com controle remoto (individual) sem fio e filtro de ar lavável. | E11: 449052-34 | F11: ELGIN | G11: Peça | H11: CONFORME MEMORIAL | I11: 20 | J11: 3107.86 | L11: =K11-(SUM(N11:Y11)) -> 0 | M11: =IF(L11<0,"ATENÇÃO","OK") -> OK | N11: 0 | O11: 0 | P11: 0 | Q11: 0 | R11: 0 | S11: 0 | T11: 0 | U11: 0 | V11: 0 | W11: 0 | X11: 0 | Y11: 0
B12: 9 | C12: 9 | D12: Aparelho de ar condicionado tipo Split Piso Teto, capacidade frigorífica nominal 24.000 BTU’s, ciclo somente frio, 220 V, com controle remoto (individual), sem fio e filtro de ar lavável. | E12: 449052-34 | F12: CARRIER | G12: Peça | H12: CONFORME MEMORIAL | I12: 20 | J12: 3472.6 | L12: =K12-(SUM(N12:Y12)) -> 0 | M12: =IF(L12<0,"ATENÇÃO","OK") -> OK | N12: 0 | O12: 0 | P12: 0 | Q12: 0 | R12: 0 | S12: 0 | T12: 0 | U12: 0 | V12: 0 | W12: 0 | X12: 0 | Y12: 0
A13: DSM Distribuidora de Móveis e Suprimentos Eireli EPP | B13: 10 | C13: 10 | D13: Aparelho de ar condicionado tipo Split Piso Teto, ciclo somente frio, capacidade frigorífica nominal de 30.000 btu’s somente frio, 220 V, com controle remoto (individual) sem fio e filtro de ar lavável. | E13: 449052-34 | F13: ELGIN | G13: Peça | H13: CONFORME MEMORIAL | I13: 20 | J13: 3570 | L13: =K13-(SUM(N13:Y13)) -> 0 | M13: =IF(L13<0,"ATENÇÃO","OK") -> OK | N13: 0 | O13: 0 | P13: 0 | Q13: 0 | R13: 0 | S13: 0 | T13: 0 | U13: 0 | V13: 0 | W13: 0 | X13: 0 | Y13: 0
B14: 11 | C14: 11 | D14: Condicionador de Ar tipo Split Piso Teto – de 36.000 BTU’s ciclo somente frio, com controle remoto (individual) sem fio. | E14: 449052-34 | F14: CARRIER | G14: Peça | H14: CONFORME MEMORIAL | I14: 20 | J14: 4093.33 | L14: =K14-(SUM(N14:Y14)) -> 0 | M14: =IF(L14<0,"ATENÇÃO","OK") -> OK | N14: 0 | O14: 0 | P14: 0 | Q14: 0 | R14: 0 | S14: 0 | T14: 0 | U14: 0 | V14: 0 | W14: 0 | X14: 0 | Y14: 0
C15: 12 | D15: Condicionador de Ar tipo Split Piso Teto – de 48.000 BTU’s ciclo somente frio, com controle remoto (individual) sem fio e filtro de ar lavável. | E15: 449052-34 | F15: ELGIN | G15: Peça | H15: CONFORME MEMORIAL | I15: 20 | J15: 4500 | L15: =K15-(SUM(N15:Y15)) -> 0 | M15: =IF(L15<0,"ATENÇÃO","OK") -> OK | N15: 0 | O15: 0 | P15: 0 | Q15: 0 | R15: 0 | S15: 0 | T15: 0 | U15: 0 | V15: 0 | W15: 0 | X15: 0 | Y15: 0
A16: Tecnoponto Ltda EPP | B16: 12 | C16: 13 | D16: Condicionador de Ar ti Split Piso Teto, ciclo somente frio, 60.000 BTU´s, com controle remoto (individual sem fio). Trifásico 380V, com pressotato de alta e baixa, rele contra inversão de fase. Selo PROCEL até "E". | E16: 449052-34 | F16: KOMECO | G16: Peça | H16: CONFORME MEMORIAL | I16: 20 | J16: 5058.82 | K16: 12 | L16: =K16-(SUM(N16:Y16)) -> 12 | M16: =IF(L16<0,"ATENÇÃO","OK") -> OK | N16: 0 | O16: 0 | P16: 0 | Q16: 0 | R16: 0 | S16: 0 | T16: 0 | U16: 0 | V16: 0 | W16: 0 | X16: 0 | Y16: 0
B17: 13 | C17: 14 | D17: Condicionado de Ar tipo Split Piso Teto/Parede, capacidade frigorífica nominal de 36.000 btu’s, ciclos quente e frio, 220 V, com controle remoto sem fio e filtro de ar lavável. | E17: 449052-34 | F17: KOMECO | G17: Peça | H17: CONFORME MEMORIAL | I17: 20 | J17: 4524.9 | L17: =K17-(SUM(N17:Y17)) -> 0 | M17: =IF(L17<0,"ATENÇÃO","OK") -> OK | N17: 0 | O17: 0 | P17: 0 | Q17: 0 | R17: 0 | S17: 0 | T17: 0 | U17: 0 | V17: 0 | W17: 0 | X17: 0 | Y17: 0
B18: 14 | C18: 15 | D18: Condicionador de Ar tipo Split Piso Teto/Parede – de 60.000 BTU’s ciclos quente e frio, com controle remoto - trifásico 380 V, com pressotato de alta e baixa, rele contra inversão de fase. Selo PROCEL até "E". | E18: 449052-34 | F18: KOMECO | G18: Peça | H18: CONFORME MEMORIAL | I18: 20 | J18: 5530 | L18: =K18-(SUM(N18:Y18)) -> 0 | M18: =IF(L18<0,"ATENÇÃO","OK") -> OK | N18: 0 | O18: 0 | P18: 0 | Q18: 0 | R18: 0 | S18: 0 | T18: 0 | U18: 0 | V18: 0 | W18: 0 | X18: 0 | Y18: 0
A19: LS Climatizações Ltda | B19: 15 | C19: 16 | D19: Aparelho de ar condicionado tipo Split Cassete, ciclo FRIO: controle remoto sem fio, capacidade nominal de no mínimo 18.000 btus; tensão 220 Volts. | E19: 449052-34 | F19: CARRIER | G19: Peça | H19: CONFORME MEMORIAL | I19: 20 | J19: 3630.14 | K19: 2 | L19: =K19-(SUM(N19:Y19)) -> 2 | M19: =IF(L19<0,"ATENÇÃO","OK") -> OK | N19: 0 | O19: 0 | P19: 0 | Q19: 0 | R19: 0 | S19: 0 | T19: 0 | U19: 0 | V19: 0 | W19: 0 | X19: 0 | Y19: 0
B20: 16 | C20: 17 | D20: Aparelho de ar condicionado tipo Split Cassete, ciclo FRIO: controle remoto sem fio, capacidade nominal de no mínimo 24.000 btus; tensão 220 Volts. | E20: 449052-34 | F20: ELGIN | G20: Peça | H20: CONFORME MEMORIAL | I20: 20 | J20: 3365.75 | K20: 1 | L20: =K20-(SUM(N20:Y20)) -> 1 | M20: =IF(L20<0,"ATENÇÃO","OK") -> OK | N20: 0 | O20: 0 | P20: 0 | Q20: 0 | R20: 0 | S20: 0 | T20: 0 | U20: 0 | V20: 0 | W20: 0 | X20: 0 | Y20: 0
B21: 17 | C21: 18 | D21: Aparelho de ar condicionado tipo Split Cassete, ciclo FRIO: controle remoto sem fio, capacidade nominal de no mínimo 36.000 btus; tensão 220 Volts. | E21: 449052-34 | F21: ELGIN | G21: Peça | H21: CONFORME MEMORIAL | I21: 20 | J21: 4330.14 | K21: 2 | L21: =K21-(SUM(N21:Y21)) -> 2 | M21: =IF(L21<0,"ATENÇÃO","OK") -> OK | N21: 0 | O21: 0 | P21: 0 | Q21: 0 | R21: 0 | S21: 0 | T21: 0 | U21: 0 | V21: 0 | W21: 0 | X21: 0 | Y21: 0
A22: DSM Distribuidora de Móveis e Suprimentos Eireli EPP | B22: 18 | C22: 19 | D22: Aparelho de ar condicionado tipo Split Cassete, capacidade nominal de no mínimo 60.000 BTU’s ciclo frio, com controle remoto - trifásico 380 V, com pressotato de alta e baixa, rele contra inversão de fase. | E22: 449052-34 | F22: ELGIN | G22: Peça | H22: CONFORME MEMORIAL | I22: 20 | J22: 6508.07 | K22: 2 | L22: =K22-(SUM(N22:Y22)) -> 2 | M22: =IF(L22<0,"ATENÇÃO","OK") -> OK | N22: 0 | O22: 0 | P22: 0 | Q22: 0 | R22: 0 | S22: 0 | T22: 0 | U22: 0 | V22: 0 | W22: 0 | X22: 0 | Y22: 0
A23: LS Climatizações Ltda | B23: 19 | C23: 20 | D23: Cortina de Ar. Dimensões aproximadas: (L X A XP): 150 x 23 x 22cm , podendo ter pequena variação de tamanho, dependendo da marca do produto. Monofásico, 220 Volts. Potência (c/v) mínimo de 1/5. Nível máximo de ruído (db): menor que 60db. Modos de operação: ventila. Velocidades (m/s) mínimo de 11. Vazão de ar: mínimo de 1300 m3/h. Temperatura somente ventilação. Recursos função automática. Saída de ar frontal e vertical. Entrada superior de ar. Direcionadores de ar vertical. Recirculação de ar (m3/m) maior que 25. Prazo de garantia de 01 ano. Item incluso: controle remoto. Cor branco. | E23: 449052-34 | F23: MIDEA | G23: Peça | H23: CONFORME MEMORIAL | I23: 20 | J23: 514.28 | K23: 4 | L23: =K23-(SUM(N23:Y23)) -> 4 | M23: =IF(L23<0,"ATENÇÃO","OK") -> OK | N23: 0 | O23: 0 | P23: 0 | Q23: 0 | R23: 0 | S23: 0 | T23: 0 | U23: 0 | V23: 0 | W23: 0 | X23: 0 | Y23: 0
A24: Frimac Refrigeração Eireli ME | B24: 20 | C24: 21 | D24: Instalação completa de equipamento de ar-condicionado tipo "split" até 24.000 BTU/h incluindo até 3 metros de distância entre evaporadora e condensadora – Composto de 01 (uma) unidade evaporadora e 01 (uma) unidade condensadora. | E24: 339039-25 | F24: XX | G24: Serviço | H24: CONFORME MEMORIAL | I24: 20 | J24: 525 | K24: 13 | L24: =K24-(SUM(N24:Y24)) -> 13 | M24: =IF(L24<0,"ATENÇÃO","OK") -> OK | N24: 0 | O24: 0 | P24: 0 | Q24: 0 | R24: 0 | S24: 0 | T24: 0 | U24: 0 | V24: 0 | W24: 0 | X24: 0 | Y24: 0
C25: 22 | D25: Instalação completa de equipamento de ar-condicionado tipo "split" de 25.000 a 48.000 BTU/h incluindo até 3 metros de distância entre evaporadora e condensadora – Composto de 01 (uma) unidade evaporadora e 01 (uma) unidade condensadora. | E25: 339039-25 | F25: XX | G25: Serviço | H25: CONFORME MEMORIAL | I25: 20 | J25: 608 | K25: 2 | L25: =K25-(SUM(N25:Y25)) -> 2 | M25: =IF(L25<0,"ATENÇÃO","OK") -> OK | N25: 0 | O25: 0 | P25: 0 | Q25: 0 | R25: 0 | S25: 0 | T25: 0 | U25: 0 | V25: 0 | W25: 0 | X25: 0 | Y25: 0
C26: 23 | D26: Instalação completa de equipamento de ar-condicionado tipo "split" acima de 48.000 BTU/h incluindo até 3 metros de distância entre evaporadora e condensadora – Composto de 01 (uma) unidade evaporadora e 01 (uma) unidade condensadora. | E26: 339039-25 | F26: XX | G26: Serviço | H26: CONFORME MEMORIAL | I26: 20 | J26: 650 | K26: 13 | L26: =K26-(SUM(N26:Y26)) -> 13 | M26: =IF(L26<0,"ATENÇÃO","OK") -> OK | N26: 0 | O26: 0 | P26: 0 | Q26: 0 | R26: 0 | S26: 0 | T26: 0 | U26: 0 | V26: 0 | W26: 0 | X26: 0 | Y26: 0
C27: 24 | D27: Metro adicional de linha para instalação de split até 24.000 BTU/h. | E27: 339039-25 | F27: ELUMA | G27: Metro | H27: CONFORME MEMORIAL | I27: 20 | J27: 20 | K27: 53 | L27: =K27-(SUM(N27:Y27)) -> 53 | M27: =IF(L27<0,"ATENÇÃO","OK") -> OK | N27: 0 | O27: 0 | P27: 0 | Q27: 0 | R27: 0 | S27: 0 | T27: 0 | U27: 0 | V27: 0 | W27: 0 | X27: 0 | Y27: 0
C28: 25 | D28: Metro adicional de linha para instalação de split de 25.000 a 48.000 BTU/h. | E28: 339039-25 | F28: ELUMA | G28: Metro | H28: CONFORME MEMORIAL | I28: 20 | J28: 25 | K28: 18 | L28: =K28-(SUM(N28:Y28)) -> 18 | M28: =IF(L28<0,"ATENÇÃO","OK") -> OK | N28: 0 | O28: 0 | P28: 0 | Q28: 0 | R28: 0 | S28: 0 | T28: 0 | U28: 0 | V28: 0 | W28: 0 | X28: 0 | Y28: 0
C29: 26 | D29: Metro adicional de linha para instalação de split acima de 48.000 BTU/h. | E29: 339039-25 | F29: ELUMA | G29: Metro | H29: CONFORME MEMORIAL | I29: 20 | J29: 28.5 | K29: 221 | L29: =K29-(SUM(N29:Y29)) -> 221 | M29: =IF(L29<0,"ATENÇÃO","OK") -> OK | N29: 0 | O29: 0 | P29: 0 | Q29: 0 | R29: 0 | S29: 0 | T29: 0 | U29: 0 | V29: 0 | W29: 0 | X29: 0 | Y29: 0
C30: 27 | D30: Desinstalação de equipamento de ar-condicionado. | E30: 339039-25 | F30: XX | G30: Serviço | H30: CONFORME MEMORIAL | I30: 20 | J30: 197 | K30: 2 | L30: =K30-(SUM(N30:Y30)) -> 2 | M30: =IF(L30<0,"ATENÇÃO","OK") -> OK | N30: 0 | O30: 0 | P30: 0 | Q30: 0 | R30: 0 | S30: 0 | T30: 0 | U30: 0 | V30: 0 | W30: 0 | X30: 0 | Y30: 0
C31: 28 | D31: Reposição de equipamento de ar condicionado. | E31: 339039-25 | F31: XX | G31: Serviço | H31: CONFORME MEMORIAL | I31: 20 | J31: 250 | L31: =K31-(SUM(N31:Y31)) -> 0 | M31: =IF(L31<0,"ATENÇÃO","OK") -> OK | N31: 0 | O31: 0 | P31: 0 | Q31: 0 | R31: 0 | S31: 0 | T31: 0 | U31: 0 | V31: 0 | W31: 0 | X31: 0 | Y31: 0
C32: 29 | D32: Instalação de Cortina de Ar. | E32: 339039-25 | F32: XX | G32: Serviço | H32: CONFORME MEMORIAL | I32: 20 | J32: 202 | K32: 4 | L32: =K32-(SUM(N32:Y32)) -> 4 | M32: =IF(L32<0,"ATENÇÃO","OK") -> OK | N32: 0 | O32: 0 | P32: 0 | Q32: 0 | R32: 0 | S32: 0 | T32: 0 | U32: 0 | V32: 0 | W32: 0 | X32: 0 | Y32: 0
A33: Frimac Refrigeração Eireli ME | B33: 21 | C33: 30 | D33: Instalação completa de equipamento de ar-condicionado tipo "split" até 24.000 BTU/h incluindo até 3 metros de distância entre evaporadora e condensadora – Composto de 01 (uma) unidade evaporadora e 01 (uma) unidade condensadora. | E33: 339039-25 | F33: XX | G33: Serviço | H33: CONFORME MEMORIAL | I33: 20 | J33: 523 | L33: =K33-(SUM(N33:Y33)) -> 0 | M33: =IF(L33<0,"ATENÇÃO","OK") -> OK | N33: 0 | O33: 0 | P33: 0 | Q33: 0 | R33: 0 | S33: 0 | T33: 0 | U33: 0 | V33: 0 | W33: 0 | X33: 0 | Y33: 0
C34: 31 | D34: Instalação completa de equipamento de ar-condicionado tipo "split" acima de 48.000 BTU/h incluindo até 3 metros de distância entre evaporadora e condensadora – Composto de 01 (uma) unidade evaporadora e 01 (uma) unidade condensadora. | E34: 339039-25 | F34: XX | G34: Serviço | H34: CONFORME MEMORIAL | I34: 20 | J34: 655 | L34: =K34-(SUM(N34:Y34)) -> 0 | M34: =IF(L34<0,"ATENÇÃO","OK") -> OK | N34: 0 | O34: 0 | P34: 0 | Q34: 0 | R34: 0 | S34: 0 | T34: 0 | U34: 0 | V34: 0 | W34: 0 | X34: 0 | Y34: 0
C35: 32 | D35: Metro adicional de linha para instalação de split até 24.000 BTU/h. | E35: 339039-25 | F35: ELUMA | G35: Metro | H35: CONFORME MEMORIAL | I35: 20 | J35: 20 | L35: =K35-(SUM(N35:Y35)) -> 0 | M35: =IF(L35<0,"ATENÇÃO","OK") -> OK | N35: 0 | O35: 0 | P35: 0 | Q35: 0 | R35: 0 | S35: 0 | T35: 0 | U35: 0 | V35: 0 | W35: 0 | X35: 0 | Y35: 0
C36: 33 | D36: Metro adicional de linha para instalação de split acima de 48.000 BTU/h. | E36: 339039-25 | F36: ELUMA | G36: Metro | H36: CONFORME MEMORIAL | I36: 20 | J36: 28.5 | L36: =K36-(SUM(N36:Y36)) -> 0 | M36: =IF(L36<0,"ATENÇÃO","OK") -> OK | N36: 0 | O36: 0 | P36: 0 | Q36: 0 | R36: 0 | S36: 0 | T36: 0 | U36: 0 | V36: 0 | W36: 0 | X36: 0 | Y36: 0
C37: 34 | D37: Desinstalação de equipamento de ar-condicionado. | E37: 339039-25 | F37: XX | G37: Serviço | H37: CONFORME MEMORIAL | I37: 20 | J37: 197 | L37: =K37-(SUM(N37:Y37)) -> 0 | M37: =IF(L37<0,"ATENÇÃO","OK") -> OK | N37: 0 | O37: 0 | P37: 0 | Q37: 0 | R37: 0 | S37: 0 | T37: 0 | U37: 0 | V37: 0 | W37: 0 | X37: 0 | Y37: 0
C38: 35 | D38: Reposição de equipamento de ar condicionado. | E38: 339039-25 | F38: XX | G38: Serviço | H38: CONFORME MEMORIAL | I38: 20 | J38: 250 | L38: =K38-(SUM(N38:Y38)) -> 0 | M38: =IF(L38<0,"ATENÇÃO","OK") -> OK | N38: 0 | O38: 0 | P38: 0 | Q38: 0 | R38: 0 | S38: 0 | T38: 0 | U38: 0 | V38: 0 | W38: 0 | X38: 0 | Y38: 0
C39: 36 | D39: Instalação de Cortina de Ar. | E39: 339039-25 | F39: XX | G39: Serviço | H39: CONFORME MEMORIAL | I39: 20 | J39: 202 | L39: =K39-(SUM(N39:Y39)) -> 0 | M39: =IF(L39<0,"ATENÇÃO","OK") -> OK | N39: 0 | O39: 0 | P39: 0 | Q39: 0 | R39: 0 | S39: 0 | T39: 0 | U39: 0 | V39: 0 | W39: 0 | X39: 0 | Y39: 0
A40: Akon Ltda ME | B40: 22 | C40: 37 | D40: Instalação completa de equipamento de ar-condicionado tipo "split" até 24.000 BTU/h incluindo até 3 metros de distância entre evaporadora e condensadora – Composto de 01 (uma) unidade evaporadora e 01 (uma) unidade condensadora. | E40: 339039-25 | F40: AKON | G40: Serviço | H40: CONFORME MEMORIAL | I40: 20 | J40: 460 | L40: =K40-(SUM(N40:Y40)) -> 0 | M40: =IF(L40<0,"ATENÇÃO","OK") -> OK | N40: 0 | O40: 0 | P40: 0 | Q40: 0 | R40: 0 | S40: 0 | T40: 0 | U40: 0 | V40: 0 | W40: 0 | X40: 0 | Y40: 0
C41: 38 | D41: Instalação completa de equipamento de ar-condicionado tipo "split" de 25.000 a 48.000 BTU/h incluindo até 3 metros de distância entre evaporadora e condensadora – Composto de 01 (uma) unidade evaporadora e 01 (uma) unidade condensadora. | E41: 339039-25 | F41: AKON | G41: Serviço | H41: CONFORME MEMORIAL | I41: 20 | J41: 550 | L41: =K41-(SUM(N41:Y41)) -> 0 | M41: =IF(L41<0,"ATENÇÃO","OK") -> OK | N41: 0 | O41: 0 | P41: 0 | Q41: 0 | R41: 0 | S41: 0 | T41: 0 | U41: 0 | V41: 0 | W41: 0 | X41: 0 | Y41: 0
C42: 39 | D42: Metro adicional de linha para instalação de split até 24.000 BTU/h. | E42: 339039-25 | F42: AKON | G42: Metro | H42: CONFORME MEMORIAL | I42: 20 | J42: 40 | L42: =K42-(SUM(N42:Y42)) -> 0 | M42: =IF(L42<0,"ATENÇÃO","OK") -> OK | N42: 0 | O42: 0 | P42: 0 | Q42: 0 | R42: 0 | S42: 0 | T42: 0 | U42: 0 | V42: 0 | W42: 0 | X42: 0 | Y42: 0
A43: W & Z Comércio e Serviços Hospitalares Ltda | B43: 23 | C43: 40 | D43: Instalação completa de equipamento de ar-condicionado tipo "split" até 24.000 BTU/h incluindo até 3 metros de distância entre evaporadora e condensadora – Composto de 01 (uma) unidade evaporadora e 01 (uma) unidade condensadora. | E43: 339039-25 | F43: W&Z | G43: Serviço | H43: CONFORME MEMORIAL | I43: 20 | J43: 490 | L43: =K43-(SUM(N43:Y43)) -> 0 | M43: =IF(L43<0,"ATENÇÃO","OK") -> OK | N43: 0 | O43: 0 | P43: 0 | Q43: 0 | R43: 0 | S43: 0 | T43: 0 | U43: 0 | V43: 0 | W43: 0 | X43: 0 | Y43: 0
C44: 41 | D44: Instalação completa de equipamento de ar-condicionado tipo "split" de 25.000 a 48.000 BTU/h incluindo até 3 metros de distância entre evaporadora e condensadora – Composto de 01 (uma) unidade evaporadora e 01 (uma) unidade condensadora. | E44: 339039-25 | F44: W&Z | G44: Serviço | H44: CONFORME MEMORIAL | I44: 20 | J44: 570 | L44: =K44-(SUM(N44:Y44)) -> 0 | M44: =IF(L44<0,"ATENÇÃO","OK") -> OK | N44: 0 | O44: 0 | P44: 0 | Q44: 0 | R44: 0 | S44: 0 | T44: 0 | U44: 0 | V44: 0 | W44: 0 | X44: 0 | Y44: 0
C45: 42 | D45: Instalação completa de equipamento de ar-condicionado tipo "split" acima de 48.000 BTU/h incluindo até 3 metros de distância entre evaporadora e condensadora – Composto de 01 (uma) unidade evaporadora e 01 (uma) unidade condensadora. | E45: 339039-25 | F45: W&Z | G45: Serviço | H45: CONFORME MEMORIAL | I45: 20 | J45: 600.01 | L45: =K45-(SUM(N45:Y45)) -> 0 | M45: =IF(L45<0,"ATENÇÃO","OK") -> OK | N45: 0 | O45: 0 | P45: 0 | Q45: 0 | R45: 0 | S45: 0 | T45: 0 | U45: 0 | V45: 0 | W45: 0 | X45: 0 | Y45: 0
C46: 43 | D46: Metro adicional de linha para instalação de split até 24.000 BTU/h. | E46: 339039-25 | F46: W&Z | G46: Metro | H46: CONFORME MEMORIAL | I46: 20 | J46: 44.49 | L46: =K46-(SUM(N46:Y46)) -> 0 | M46: =IF(L46<0,"ATENÇÃO","OK") -> OK | N46: 0 | O46: 0 | P46: 0 | Q46: 0 | R46: 0 | S46: 0 | T46: 0 | U46: 0 | V46: 0 | W46: 0 | X46: 0 | Y46: 0
C47: 44 | D47: Metro adicional de linha para instalação de split de 25.000 a 48.000 BTU/h. | E47: 339039-25 | F47: W&Z | G47: Metro | H47: CONFORME MEMORIAL | I47: 20 | J47: 53.05 | L47: =K47-(SUM(N47:Y47)) -> 0 | M47: =IF(L47<0,"ATENÇÃO","OK") -> OK | N47: 0 | O47: 0 | P47: 0 | Q47: 0 | R47: 0 | S47: 0 | T47: 0 | U47: 0 | V47: 0 | W47: 0 | X47: 0 | Y47: 0
C48: 45 | D48: Metro adicional de linha para instalação de split acima de 48.000 BTU/h. | E48: 339039-25 | F48: W&Z | G48: Metro | H48: CONFORME MEMORIAL | I48: 20 | J48: 57.55 | L48: =K48-(SUM(N48:Y48)) -> 0 | M48: =IF(L48<0,"ATENÇÃO","OK") -> OK | N48: 0 | O48: 0 | P48: 0 | Q48: 0 | R48: 0 | S48: 0 | T48: 0 | U48: 0 | V48: 0 | W48: 0 | X48: 0 | Y48: 0
C49: 46 | D49: Desinstalação de equipamento de ar-condicionado. | E49: 339039-25 | F49: W&Z | G49: Serviço | H49: CONFORME MEMORIAL | I49: 20 | J49: 197.06 | L49: =K49-(SUM(N49:Y49)) -> 0 | M49: =IF(L49<0,"ATENÇÃO","OK") -> OK | N49: 0 | O49: 0 | P49: 0 | Q49: 0 | R49: 0 | S49: 0 | T49: 0 | U49: 0 | V49: 0 | W49: 0 | X49: 0 | Y49: 0
C50: 47 | D50: Reposição de equipamento de ar condicionado. | E50: 339039-25 | F50: W&Z | G50: Serviço | H50: CONFORME MEMORIAL | I50: 20 | J50: 250 | L50: =K50-(SUM(N50:Y50)) -> 0 | M50: =IF(L50<0,"ATENÇÃO","OK") -> OK | N50: 0 | O50: 0 | P50: 0 | Q50: 0 | R50: 0 | S50: 0 | T50: 0 | U50: 0 | V50: 0 | W50: 0 | X50: 0 | Y50: 0

Sheet Museu
A1: PROCESSO: 859/2014 | D1: OBJETO: Aquisição e instalação de aparelhos de ar condicionado | J1: VIGÊNCIA DA ATA: 27/08/2014 até 26/08/2014 | N1: AF/OS nº xxxx/2014 Qtde. DT | O1: AF/OS nº xxxx/2014 Qtde. DT | P1: AF/OS nº xxxx/2014 Qtde. DT | Q1: AF/OS nº xxxx/2014 Qtde. DT | R1: AF/OS nº xxxx/2014 Qtde. DT | S1: AF/OS nº xxxx/2014 Qtde. DT | T1: AF/OS nº xxxx/2014 Qtde. DT | U1: AF/OS nº xxxx/2014 Qtde. DT | V1: AF/OS nº xxxx/2014 Qtde. DT | W1: AF/OS nº xxxx/2014 Qtde. DT | X1: AF/OS nº xxxx/2014 Qtde. DT | Y1: AF/OS nº xxxx/2014 Qtde. DT
A2: CENTRO PARTICIPANTE: Museu
A3: FORNECEDOR | B3: LOTE | C3: ITEM | D3: PRODUTO - CARACTERÍSTICAS MÍNIMAS | E3: DETALHAMENTO | F3: MARCA/MODELO | G3: UNIDADE | H3: Entrega (Dias) | I3: Pagto. (Dias) | J3: Preço UNITÁRIO (R$) | K3: Qtde LICITADA | L3: Saldo / Automático | M3: ALERTA | N3: ...../...../...... | O3: ...../...../...... | P3: ...../...../...... | Q3: ...../...../...... | R3: ...../...../...... | S3: ...../...../...... | T3: ...../...../...... | U3: ...../...../...... | V3: ...../...../...... | W3: ...../...../...... | X3: ...../...../...... | Y3: ...../...../......
A4: DSM Distribuidora de Móveis e Suprimentos Eireli EPP | B4: 1 | C4: 1 | D4: Aparelho de ar condicionado tipo Split High Wall (para parede), capacidade frigorífica nominal de 9.000 btu’s, 220 V, somente frio, com controle remoto (individual) sem fio e filtro de ar lavável. Selo PROCEL “A” . | E4: 449052-34 | F4: ELGIN | G4: Peça | H4: CONFORME MEMORIAL | I4: 20 | J4: 1137.77 | L4: =K4-(SUM(N4:Y4)) -> 0 | M4: =IF(L4<0,"ATENÇÃO","OK") -> OK | N4: 0 | O4: 0 | P4: 0 | Q4: 0 | R4: 0 | S4: 0 | T4: 0 | U4: 0 | V4: 0 | W4: 0 | X4: 0 | Y4: 0
A5: LS Climatizações Ltda | B5: 2 | C5: 2 | D5: Aparelho de ar condicionado tipo Split High Wall (para parede), ciclo somente frio, 220 V, capacidade frigorífica nominal de 12.000 btu’s somente frio, com controle remoto (individual) sem fio e filtro de ar lavável. Selo PROCEL “A”. | E5: 449052-34 | F5: KOMECO | G5: Peça | H5: CONFORME MEMORIAL | I5: 20 | J5: 1197.26 | L5: =K5-(SUM(N5:Y5)) -> 0 | M5: =IF(L5<0,"ATENÇÃO","OK") -> OK | N5: 0 | O5: 0 | P5: 0 | Q5: 0 | R5: 0 | S5: 0 | T5: 0 | U5: 0 | V5: 0 | W5: 0 | X5: 0 | Y5: 0
B6: 3 | C6: 3 | D6: Aparelho de ar condicionado tipo Split High Wall, (para parede), ciclo somente frio, capacidade frigorífica nominal de 18.000 btu’s, 220 V, com controle remoto (individual) sem fio e filtro de ar lavável. | E6: 449052-34 | F6: ELGIN | G6: Peça | H6: CONFORME MEMORIAL | I6: 20 | J6: 1590.41 | L6: =K6-(SUM(N6:Y6)) -> 0 | M6: =IF(L6<0,"ATENÇÃO","OK") -> OK | N6: 0 | O6: 0 | P6: 0 | Q6: 0 | R6: 0 | S6: 0 | T6: 0 | U6: 0 | V6: 0 | W6: 0 | X6: 0 | Y6: 0
B7: 4 | C7: 4 | D7: Aparelho de ar condicionado tipo Split High Wall (para parede), ciclo quente e frio: controle remoto sem fio, capacidade nominal de no mínimo 9.000 btus; capacidade de desumidificar o ambiente e filtro de ar lavável, tensão 220 Volts, frequência 60 Hz. Selo PROCEL “A”. | E7: 449052-34 | F7: KOMECO | G7: Peça | H7: CONFORME MEMORIAL | I7: 20 | J7: 1198.63 | L7: =K7-(SUM(N7:Y7)) -> 0 | M7: =IF(L7<0,"ATENÇÃO","OK") -> OK | N7: 0 | O7: 0 | P7: 0 | Q7: 0 | R7: 0 | S7: 0 | T7: 0 | U7: 0 | V7: 0 | W7: 0 | X7: 0 | Y7: 0
B8: 5 | C8: 5 | D8: Aparelho de ar condicionado tipo Split High Wall (para parede), ciclo quente e frio, capacidade frigorífica nominal de 12.000 btu’s, 220 V,com controle remoto (individual) sem fio e filtro de ar lavável. Selo PROCEL “A”. | E8: 449052-34 | F8: KOMECO | G8: Peça | H8: CONFORME MEMORIAL | I8: 20 | J8: 1269.86 | L8: =K8-(SUM(N8:Y8)) -> 0 | M8: =IF(L8<0,"ATENÇÃO","OK") -> OK | N8: 0 | O8: 0 | P8: 0 | Q8: 0 | R8: 0 | S8: 0 | T8: 0 | U8: 0 | V8: 0 | W8: 0 | X8: 0 | Y8: 0
B9: 6 | C9: 6 | D9: Aparelho de ar condicionado tipo Split High Wall (para parede), ciclo quente e frio, capacidade frigorífica nominal de 18.000 btu’s, 220 V,com controle remoto (individual) sem fio e filtro de ar lavável. | E9: 449052-34 | F9: ELGIN | G9: Peça | H9: CONFORME MEMORIAL | I9: 20 | J9: 1713.7 | L9: =K9-(SUM(N9:Y9)) -> 0 | M9: =IF(L9<0,"ATENÇÃO","OK") -> OK | N9: 0 | O9: 0 | P9: 0 | Q9: 0 | R9: 0 | S9: 0 | T9: 0 | U9: 0 | V9: 0 | W9: 0 | X9: 0 | Y9: 0
B10: 7 | C10: 7 | D10: Aparelho de ar condicionado tipo Split High Wall (para parede), ciclo quente e frio, capacidade frigorífica nominal de 24.000 btu’s, 220 V, com controle remoto (individual) sem fio e filtro de ar lavável. | E10: 449052-34 | F10: KOMECO | G10: Peça | H10: CONFORME MEMORIAL | I10: 20 | J10: 2241.1 | L10: =K10-(SUM(N10:Y10)) -> 0 | M10: =IF(L10<0,"ATENÇÃO","OK") -> OK | N10: 0 | O10: 0 | P10: 0 | Q10: 0 | R10: 0 | S10: 0 | T10: 0 | U10: 0 | V10: 0 | W10: 0 | X10: 0 | Y10: 0
B11: 8 | C11: 8 | D11: Aparelho de ar condicionado tipo Split High Wall (para parede), ciclo quente e frio, capacidade frigorífica nominal de 30.000 btu’s, 220 V, com controle remoto (individual) sem fio e filtro de ar lavável. | E11: 449052-34 | F11: ELGIN | G11: Peça | H11: CONFORME MEMORIAL | I11: 20 | J11: 3107.86 | L11: =K11-(SUM(N11:Y11)) -> 0 | M11: =IF(L11<0,"ATENÇÃO","OK") -> OK | N11: 0 | O11: 0 | P11: 0 | Q11: 0 | R11: 0 | S11: 0 | T11: 0 | U11: 0 | V11: 0 | W11: 0 | X11: 0 | Y11: 0
B12: 9 | C12: 9 | D12: Aparelho de ar condicionado tipo Split Piso Teto, capacidade frigorífica nominal 24.000 BTU’s, ciclo somente frio, 220 V, com controle remoto (individual), sem fio e filtro de ar lavável. | E12: 449052-34 | F12: CARRIER | G12: Peça | H12: CONFORME MEMORIAL | I12: 20 | J12: 3472.6 | L12: =K12-(SUM(N12:Y12)) -> 0 | M12: =IF(L12<0,"ATENÇÃO","OK") -> OK | N12: 0 | O12: 0 | P12: 0 | Q12: 0 | R12: 0 | S12: 0 | T12: 0 | U12: 0 | V12: 0 | W12: 0 | X12: 0 | Y12: 0
A13: DSM Distribuidora de Móveis e Suprimentos Eireli EPP | B13: 10 | C13: 10 | D13: Aparelho de ar condicionado tipo Split Piso Teto, ciclo somente frio, capacidade frigorífica nominal de 30.000 btu’s somente frio, 220 V, com controle remoto (individual) sem fio e filtro de ar lavável. | E13: 449052-34 | F13: ELGIN | G13: Peça | H13: CONFORME MEMORIAL | I13: 20 | J13: 3570 | L13: =K13-(SUM(N13:Y13)) -> 0 | M13: =IF(L13<0,"ATENÇÃO","OK") -> OK | N13: 0 | O13: 0 | P13: 0 | Q13: 0 | R13: 0 | S13: 0 | T13: 0 | U13: 0 | V13: 0 | W13: 0 | X13: 0 | Y13: 0
B14: 11 | C14: 11 | D14: Condicionador de Ar tipo Split Piso Teto – de 36.000 BTU’s ciclo somente frio, com controle remoto (individual) sem fio. | E14: 449052-34 | F14: CARRIER | G14: Peça | H14: CONFORME MEMORIAL | I14: 20 | J14: 4093.33 | L14: =K14-(SUM(N14:Y14)) -> 0 | M14: =IF(L14<0,"ATENÇÃO","OK") -> OK | N14: 0 | O14: 0 | P14: 0 | Q14: 0 | R14: 0 | S14: 0 | T14: 0 | U14: 0 | V14: 0 | W14: 0 | X14: 0 | Y14: 0
C15: 12 | D15: Condicionador de Ar tipo Split Piso Teto – de 48.000 BTU’s ciclo somente frio, com controle remoto (individual) sem fio e filtro de ar lavável. | E15: 449052-34 | F15: ELGIN | G15: Peça | H15: CONFORME MEMORIAL | I15: 20 | J15: 4500 | K15: 3 | L15: =K15-(SUM(N15:Y15)) -> 3 | M15: =IF(L15<0,"ATENÇÃO","OK") -> OK | N15: 0 | O15: 0 | P15: 0 | Q15: 0 | R15: 0 | S15: 0 | T15: 0 | U15: 0 | V15: 0 | W15: 0 | X15: 0 | Y15: 0
A16: Tecnoponto Ltda EPP | B16: 12 | C16: 13 | D16: Condicionador de Ar ti Split Piso Teto, ciclo somente frio, 60.000 BTU´s, com controle remoto (individual sem fio). Trifásico 380V, com pressotato de alta e baixa, rele contra inversão de fase. Selo PROCEL até "E". | E16: 449052-34 | F16: KOMECO | G16: Peça | H16: CONFORME MEMORIAL | I16: 20 | J16: 5058.82 | L16: =K16-(SUM(N16:Y16)) -> 0 | M16: =IF(L16<0,"ATENÇÃO","OK") -> OK | N16: 0 | O16: 0 | P16: 0 | Q16: 0 | R16: 0 | S16: 0 | T16: 0 | U16: 0 | V16: 0 | W16: 0 | X16: 0 | Y16: 0
B17: 13 | C17: 14 | D17: Condicionado de Ar tipo Split Piso Teto/Parede, capacidade frigorífica nominal de 36.000 btu’s, ciclos quente e frio, 220 V, com controle remoto sem fio e filtro de ar lavável. | E17: 449052-34 | F17: KOMECO | G17: Peça | H17: CONFORME MEMORIAL | I17: 20 | J17: 4524.9 | L17: =K17-(SUM(N17:Y17)) -> 0 | M17: =IF(L17<0,"ATENÇÃO","OK") -> OK | N17: 0 | O17: 0 | P17: 0 | Q17: 0 | R17: 0 | S17: 0 | T17: 0 | U17: 0 | V17: 0 | W17: 0 | X17: 0 | Y17: 0
B18: 14 | C18: 15 | D18: Condicionador de Ar tipo Split Piso Teto/Parede – de 60.000 BTU’s ciclos quente e frio, com controle remoto - trifásico 380 V, com pressotato de alta e baixa, rele contra inversão de fase. Selo PROCEL até "E". | E18: 449052-34 | F18: KOMECO | G18: Peça | H18: CONFORME MEMORIAL | I18: 20 | J18: 5530 | L18: =K18-(SUM(N18:Y18)) -> 0 | M18: =IF(L18<0,"ATENÇÃO","OK") -> OK | N18: 0 | O18: 0 | P18: 0 | Q18: 0 | R18: 0 | S18: 0 | T18: 0 | U18: 0 | V18: 0 | W18: 0 | X18: 0 | Y18: 0
A19: LS Climatizações Ltda | B19: 15 | C19: 16 | D19: Aparelho de ar condicionado tipo Split Cassete, ciclo FRIO: controle remoto sem fio, capacidade nominal de no mínimo 18.000 btus; tensão 220 Volts. | E19: 449052-34 | F19: CARRIER | G19: Peça | H19: CONFORME MEMORIAL | I19: 20 | J19: 3630.14 | L19: =K19-(SUM(N19:Y19)) -> 0 | M19: =IF(L19<0,"ATENÇÃO","OK") -> OK | N19: 0 | O19: 0 | P19: 0 | Q19: 0 | R19: 0 | S19: 0 | T19: 0 | U19: 0 | V19: 0 | W19: 0 | X19: 0 | Y19: 0
B20: 16 | C20: 17 | D20: Aparelho de ar condicionado tipo Split Cassete, ciclo FRIO: controle remoto sem fio, capacidade nominal de no mínimo 24.000 btus; tensão 220 Volts. | E20: 449052-34 | F20: ELGIN | G20: Peça | H20: CONFORME MEMORIAL | I20: 20 | J20: 3365.75 | L20: =K20-(SUM(N20:Y20)) -> 0 | M20: =IF(L20<0,"ATENÇÃO","OK") -> OK | N20: 0 | O20: 0 | P20: 0 | Q20: 0 | R20: 0 | S20: 0 | T20: 0 | U20: 0 | V20: 0 | W20: 0 | X20: 0 | Y20: 0
B21: 17 | C21: 18 | D21: Aparelho de ar condicionado tipo Split Cassete, ciclo FRIO: controle remoto sem fio, capacidade nominal de no mínimo 36.000 btus; tensão 220 Volts. | E21: 449052-34 | F21: ELGIN | G21: Peça | H21: CONFORME MEMORIAL | I21: 20 | J21: 4330.14 | L21: =K21-(SUM(N21:Y21)) -> 0 | M21: =IF(L21<0,"ATENÇÃO","OK") -> OK | N21: 0 | O21: 0 | P21: 0 | Q21: 0 | R21: 0 | S21: 0 | T21: 0 | U21: 0 | V21: 0 | W21: 0 | X21: 0 | Y21: 0
A22: DSM Distribuidora de Móveis e Suprimentos Eireli EPP | B22: 18 | C22: 19 | D22: Aparelho de ar condicionado tipo Split Cassete, capacidade nominal de no mínimo 60.000 BTU’s ciclo frio, com controle remoto - trifásico 380 V, com pressotato de alta e baixa, rele contra inversão de fase. | E22: 449052-34 | F22: ELGIN | G22: Peça | H22: CONFORME MEMORIAL | I22: 20 | J22: 6508.07 | L22: =K22-(SUM(N22:Y22)) -> 0 | M22: =IF(L22<0,"ATENÇÃO","OK") -> OK | N22: 0 | O22: 0 | P22: 0 | Q22: 0 | R22: 0 | S22: 0 | T22: 0 | U22: 0 | V22: 0 | W22: 0 | X22: 0 | Y22: 0
A23: LS Climatizações Ltda | B23: 19 | C23: 20 | D23: Cortina de Ar. Dimensões aproximadas: (L X A XP): 150 x 23 x 22cm , podendo ter pequena variação de tamanho, dependendo da marca do produto. Monofásico, 220 Volts. Potência (c/v) mínimo de 1/5. Nível máximo de ruído (db): menor que 60db. Modos de operação: ventila. Velocidades (m/s) mínimo de 11. Vazão de ar: mínimo de 1300 m3/h. Temperatura somente ventilação. Recursos função automática. Saída de ar frontal e vertical. Entrada superior de ar. Direcionadores de ar vertical. Recirculação de ar (m3/m) maior que 25. Prazo de garantia de 01 ano. Item incluso: controle remoto. Cor branco. | E23: 449052-34 | F23: MIDEA | G23: Peça | H23: CONFORME MEMORIAL | I23: 20 | J23: 514.28 | L23: =K23-(SUM(N23:Y23)) -> 0 | M23: =IF(L23<0,"ATENÇÃO","OK") -> OK | N23: 0 | O23: 0 | P23: 0 | Q23: 0 | R23: 0 | S23: 0 | T23: 0 | U23: 0 | V23: 0 | W23: 0 | X23: 0 | Y23: 0
A24: Frimac Refrigeração Eireli ME | B24: 20 | C24: 21 | D24: Instalação completa de equipamento de ar-condicionado tipo "split" até 24.000 BTU/h incluindo até 3 metros de distância entre evaporadora e condensadora – Composto de 01 (uma) unidade evaporadora e 01 (uma) unidade condensadora. | E24: 339039-25 | F24: XX | G24: Serviço | H24: CONFORME MEMORIAL | I24: 20 | J24: 525 | K24: 1 | L24: =K24-(SUM(N24:Y24)) -> 1 | M24: =IF(L24<0,"ATENÇÃO","OK") -> OK | N24: 0 | O24: 0 | P24: 0 | Q24: 0 | R24: 0 | S24: 0 | T24: 0 | U24: 0 | V24: 0 | W24: 0 | X24: 0 | Y24: 0
C25: 22 | D25: Instalação completa de equipamento de ar-condicionado tipo "split" de 25.000 a 48.000 BTU/h incluindo até 3 metros de distância entre evaporadora e condensadora – Composto de 01 (uma) unidade evaporadora e 01 (uma) unidade condensadora. | E25: 339039-25 | F25: XX | G25: Serviço | H25: CONFORME MEMORIAL | I25: 20 | J25: 608 | K25: 3 | L25: =K25-(SUM(N25:Y25)) -> 3 | M25: =IF(L25<0,"ATENÇÃO","OK") -> OK | N25: 0 | O25: 0 | P25: 0 | Q25: 0 | R25: 0 | S25: 0 | T25: 0 | U25: 0 | V25: 0 | W25: 0 | X25: 0 | Y25: 0
C26: 23 | D26: Instalação completa de equipamento de ar-condicionado tipo "split" acima de 48.000 BTU/h incluindo até 3 metros de distância entre evaporadora e condensadora – Composto de 01 (uma) unidade evaporadora e 01 (uma) unidade condensadora. | E26: 339039-25 | F26: XX | G26: Serviço | H26: CONFORME MEMORIAL | I26: 20 | J26: 650 | L26: =K26-(SUM(N26:Y26)) -> 0 | M26: =IF(L26<0,"ATENÇÃO","OK") -> OK | N26: 0 | O26: 0 | P26: 0 | Q26: 0 | R26: 0 | S26: 0 | T26: 0 | U26: 0 | V26: 0 | W26: 0 | X26: 0 | Y26: 0
C27: 24 | D27: Metro adicional de linha para instalação de split até 24.000 BTU/h. | E27: 339039-25 | F27: ELUMA | G27: Metro | H27: CONFORME MEMORIAL | I27: 20 | J27: 20 | K27: 10 | L27: =K27-(SUM(N27:Y27)) -> 10 | M27: =IF(L27<0,"ATENÇÃO","OK") -> OK | N27: 0 | O27: 0 | P27: 0 | Q27: 0 | R27: 0 | S27: 0 | T27: 0 | U27: 0 | V27: 0 | W27: 0 | X27: 0 | Y27: 0
C28: 25 | D28: Metro adicional de linha para instalação de split de 25.000 a 48.000 BTU/h. | E28: 339039-25 | F28: ELUMA | G28: Metro | H28: CONFORME MEMORIAL | I28: 20 | J28: 25 | L28: =K28-(SUM(N28:Y28)) -> 0 | M28: =IF(L28<0,"ATENÇÃO","OK") -> OK | N28: 0 | O28: 0 | P28: 0 | Q28: 0 | R28: 0 | S28: 0 | T28: 0 | U28: 0 | V28: 0 | W28: 0 | X28: 0 | Y28: 0
C29: 26 | D29: Metro adicional de linha para instalação de split acima de 48.000 BTU/h. | E29: 339039-25 | F29: ELUMA | G29: Metro | H29: CONFORME MEMORIAL | I29: 20 | J29: 28.5 | K29: 60 | L29: =K29-(SUM(N29:Y29)) -> 60 | M29: =IF(L29<0,"ATENÇÃO","OK") -> OK | N29: 0 | O29: 0 | P29: 0 | Q29: 0 | R29: 0 | S29: 0 | T29: 0 | U29: 0 | V29: 0 | W29: 0 | X29: 0 | Y29: 0
C30: 27 | D30: Desinstalação de equipamento de ar-condicionado. | E30: 339039-25 | F30: XX | G30: Serviço | H30: CONFORME MEMORIAL | I30: 20 | J30: 197 | K30: 1 | L30: =K30-(SUM(N30:Y30)) -> 1 | M30: =IF(L30<0,"ATENÇÃO","OK") -> OK | N30: 0 | O30: 0 | P30: 0 | Q30: 0 | R30: 0 | S30: 0 | T30: 0 | U30: 0 | V30: 0 | W30: 0 | X30: 0 | Y30: 0
C31: 28 | D31: Reposição de equipamento de ar condicionado. | E31: 339039-25 | F31: XX | G31: Serviço | H31: CONFORME MEMORIAL | I31: 20 | J31: 250 | L31: =K31-(SUM(N31:Y31)) -> 0 | M31: =IF(L31<0,"ATENÇÃO","OK") -> OK | N31: 0 | O31: 0 | P31: 0 | Q31: 0 | R31: 0 | S31: 0 | T31: 0 | U31: 0 | V31: 0 | W31: 0 | X31: 0 | Y31: 0
C32: 29 | D32: Instalação de Cortina de Ar. | E32: 339039-25 | F32: XX | G32: Serviço | H32: CONFORME MEMORIAL | I32: 20 | J32: 202 | L32: =K32-(SUM(N32:Y32)) -> 0 | M32: =IF(L32<0,"ATENÇÃO","OK") -> OK | N32: 0 | O32: 0 | P32: 0 | Q32: 0 | R32: 0 | S32: 0 | T32: 0 | U32: 0 | V32: 0 | W32: 0 | X32: 0 | Y32: 0
A33: Frimac Refrigeração Eireli ME | B33: 21 | C33: 30 | D33: Instalação completa de equipamento de ar-condicionado tipo "split" até 24.000 BTU/h incluindo até 3 metros de distância entre evaporadora e condensadora – Composto de 01 (uma) unidade evaporadora e 01 (uma) unidade condensadora. | E33: 339039-25 | F33: XX | G33: Serviço | H33: CONFORME MEMORIAL | I33: 20 | J33: 523 | L33: =K33-(SUM(N33:Y33)) -> 0 | M33: =IF(L33<0,"ATENÇÃO","OK") -> OK | N33: 0 | O33: 0 | P33: 0 | Q33: 0 | R33: 0 | S33: 0 | T33: 0 | U33: 0 | V33: 0 | W33: 0 | X33: 0 | Y33: 0
C34: 31 | D34: Instalação completa de equipamento de ar-condicionado tipo "split" acima de 48.000 BTU/h incluindo até 3 metros de distância entre evaporadora e condensadora – Composto de 01 (uma) unidade evaporadora e 01 (uma) unidade condensadora. | E34: 339039-25 | F34: XX | G34: Serviço | H34: CONFORME MEMORIAL | I34: 20 | J34: 655 | L34: =K34-(SUM(N34:Y34)) -> 0 | M34: =IF(L34<0,"ATENÇÃO","OK") -> OK | N34: 0 | O34: 0 | P34: 0 | Q34: 0 | R34: 0 | S34: 0 | T34: 0 | U34: 0 | V34: 0 | W34: 0 | X34: 0 | Y34: 0
C35: 32 | D35: Metro adicional de linha para instalação de split até 24.000 BTU/h. | E35: 339039-25 | F35: ELUMA | G35: Metro | H35: CONFORME MEMORIAL | I35: 20 | J35: 20 | L35: =K35-(SUM(N35:Y35)) -> 0 | M35: =IF(L35<0,"ATENÇÃO","OK") -> OK | N35: 0 | O35: 0 | P35: 0 | Q35: 0 | R35: 0 | S35: 0 | T35: 0 | U35: 0 | V35: 0 | W35: 0 | X35: 0 | Y35: 0
C36: 33 | D36: Metro adicional de linha para instalação de split acima de 48.000 BTU/h. | E36: 339039-25 | F36: ELUMA | G36: Metro | H36: CONFORME MEMORIAL | I36: 20 | J36: 28.5 | L36: =K36-(SUM(N36:Y36)) -> 0 | M36: =IF(L36<0,"ATENÇÃO","OK") -> OK | N36: 0 | O36: 0 | P36: 0 | Q36: 0 | R36: 0 | S36: 0 | T36: 0 | U36: 0 | V36: 0 | W36: 0 | X36: 0 | Y36: 0
C37: 34 | D37: Desinstalação de equipamento de ar-condicionado. | E37: 339039-25 | F37: XX | G37: Serviço | H37: CONFORME MEMORIAL | I37: 20 | J37: 197 | L37: =K37-(SUM(N37:Y37)) -> 0 | M37: =IF(L37<0,"ATENÇÃO","OK") -> OK | N37: 0 | O37: 0 | P37: 0 | Q37: 0 | R37: 0 | S37: 0 | T37: 0 | U37: 0 | V37: 0 | W37: 0 | X37: 0 | Y37: 0
C38: 35 | D38: Reposição de equipamento de ar condicionado. | E38: 339039-25 | F38: XX | G38: Serviço | H38: CONFORME MEMORIAL | I38: 20 | J38: 250 | L38: =K38-(SUM(N38:Y38)) -> 0 | M38: =IF(L38<0,"ATENÇÃO","OK") -> OK | N38: 0 | O38: 0 | P38: 0 | Q38: 0 | R38: 0 | S38: 0 | T38: 0 | U38: 0 | V38: 0 | W38: 0 | X38: 0 | Y38: 0
C39: 36 | D39: Instalação de Cortina de Ar. | E39: 339039-25 | F39: XX | G39: Serviço | H39: CONFORME MEMORIAL | I39: 20 | J39: 202 | L39: =K39-(SUM(N39:Y39)) -> 0 | M39: =IF(L39<0,"ATENÇÃO","OK") -> OK | N39: 0 | O39: 0 | P39: 0 | Q39: 0 | R39: 0 | S39: 0 | T39: 0 | U39: 0 | V39: 0 | W39: 0 | X39: 0 | Y39: 0
A40: Akon Ltda ME | B40: 22 | C40: 37 | D40: Instalação completa de equipamento de ar-condicionado tipo "split" até 24.000 BTU/h incluindo até 3 metros de distância entre evaporadora e condensadora – Composto de 01 (uma) unidade evaporadora e 01 (uma) unidade condensadora. | E40: 339039-25 | F40: AKON | G40: Serviço | H40: CONFORME MEMORIAL | I40: 20 | J40: 460 | L40: =K40-(SUM(N40:Y40)) -> 0 | M40: =IF(L40<0,"ATENÇÃO","OK") -> OK | N40: 0 | O40: 0 | P40: 0 | Q40: 0 | R40: 0 | S40: 0 | T40: 0 | U40: 0 | V40: 0 | W40: 0 | X40: 0 | Y40: 0
C41: 38 | D41: Instalação completa de equipamento de ar-condicionado tipo "split" de 25.000 a 48.000 BTU/h incluindo até 3 metros de distância entre evaporadora e condensadora – Composto de 01 (uma) unidade evaporadora e 01 (uma) unidade condensadora. | E41: 339039-25 | F41: AKON | G41: Serviço | H41: CONFORME MEMORIAL | I41: 20 | J41: 550 | L41: =K41-(SUM(N41:Y41)) -> 0 | M41: =IF(L41<0,"ATENÇÃO","OK") -> OK | N41: 0 | O41: 0 | P41: 0 | Q41: 0 | R41: 0 | S41: 0 | T41: 0 | U41: 0 | V41: 0 | W41: 0 | X41: 0 | Y41: 0
C42: 39 | D42: Metro adicional de linha para instalação de split até 24.000 BTU/h. | E42: 339039-25 | F42: AKON | G42: Metro | H42: CONFORME MEMORIAL | I42: 20 | J42: 40 | L42: =K42-(SUM(N42:Y42)) -> 0 | M42: =IF(L42<0,"ATENÇÃO","OK") -> OK | N42: 0 | O42: 0 | P42: 0 | Q42: 0 | R42: 0 | S42: 0 | T42: 0 | U42: 0 | V42: 0 | W42: 0 | X42: 0 | Y42: 0
A43: W & Z Comércio e Serviços Hospitalares Ltda | B43: 23 | C43: 40 | D43: Instalação completa de equipamento de ar-condicionado tipo "split" até 24.000 BTU/h incluindo até 3 metros de distância entre evaporadora e condensadora – Composto de 01 (uma) unidade evaporadora e 01 (uma) unidade condensadora. | E43: 339039-25 | F43: W&Z | G43: Serviço | H43: CONFORME MEMORIAL | I43: 20 | J43: 490 | L43: =K43-(SUM(N43:Y43)) -> 0 | M43: =IF(L43<0,"ATENÇÃO","OK") -> OK | N43: 0 | O43: 0 | P43: 0 | Q43: 0 | R43: 0 | S43: 0 | T43: 0 | U43: 0 | V43: 0 | W43: 0 | X43: 0 | Y43: 0
C44: 41 | D44: Instalação completa de equipamento de ar-condicionado tipo "split" de 25.000 a 48.000 BTU/h incluindo até 3 metros de distância entre evaporadora e condensadora – Composto de 01 (uma) unidade evaporadora e 01 (uma) unidade condensadora. | E44: 339039-25 | F44: W&Z | G44: Serviço | H44: CONFORME MEMORIAL | I44: 20 | J44: 570 | L44: =K44-(SUM(N44:Y44)) -> 0 | M44: =IF(L44<0,"ATENÇÃO","OK") -> OK | N44: 0 | O44: 0 | P44: 0 | Q44: 0 | R44: 0 | S44: 0 | T44: 0 | U44: 0 | V44: 0 | W44: 0 | X44: 0 | Y44: 0
C45: 42 | D45: Instalação completa de equipamento de ar-condicionado tipo "split" acima de 48.000 BTU/h incluindo até 3 metros de distância entre evaporadora e condensadora – Composto de 01 (uma) unidade evaporadora e 01 (uma) unidade condensadora. | E45: 339039-25 | F45: W&Z | G45: Serviço | H45: CONFORME MEMORIAL | I45: 20 | J45: 600.01 | L45: =K45-(SUM(N45:Y45)) -> 0 | M45: =IF(L45<0,"ATENÇÃO","OK") -> OK | N45: 0 | O45: 0 | P45: 0 | Q45: 0 | R45: 0 | S45: 0 | T45: 0 | U45: 0 | V45: 0 | W45: 0 | X45: 0 | Y45: 0
C46: 43 | D46: Metro adicional de linha para instalação de split até 24.000 BTU/h. | E46: 339039-25 | F46: W&Z | G46: Metro | H46: CONFORME MEMORIAL | I46: 20 | J46: 44.49 | L46: =K46-(SUM(N46:Y46)) -> 0 | M46: =IF(L46<0,"ATENÇÃO","OK") -> OK | N46: 0 | O46: 0 | P46: 0 | Q46: 0 | R46: 0 | S46: 0 | T46: 0 | U46: 0 | V46: 0 | W46: 0 | X46: 0 | Y46: 0
C47: 44 | D47: Metro adicional de linha para instalação de split de 25.000 a 48.000 BTU/h. | E47: 339039-25 | F47: W&Z | G47: Metro | H47: CONFORME MEMORIAL | I47: 20 | J47: 53.05 | L47: =K47-(SUM(N47:Y47)) -> 0 | M47: =IF(L47<0,"ATENÇÃO","OK") -> OK | N47: 0 | O47: 0 | P47: 0 | Q47: 0 | R47: 0 | S47: 0 | T47: 0 | U47: 0 | V47: 0 | W47: 0 | X47: 0 | Y47: 0
C48: 45 | D48: Metro adicional de linha para instalação de split acima de 48.000 BTU/h. | E48: 339039-25 | F48: W&Z | G48: Metro | H48: CONFORME MEMORIAL | I48: 20 | J48: 57.55 | L48: =K48-(SUM(N48:Y48)) -> 0 | M48: =IF(L48<0,"ATENÇÃO","OK") -> OK | N48: 0 | O48: 0 | P48: 0 | Q48: 0 | R48: 0 | S48: 0 | T48: 0 | U48: 0 | V48: 0 | W48: 0 | X48: 0 | Y48: 0
C49: 46 | D49: Desinstalação de equipamento de ar-condicionado. | E49: 339039-25 | F49: W&Z | G49: Serviço | H49: CONFORME MEMORIAL | I49: 20 | J49: 197.06 | L49: =K49-(SUM(N49:Y49)) -> 0 | M49: =IF(L49<0,"ATENÇÃO","OK") -> OK | N49: 0 | O49: 0 | P49: 0 | Q49: 0 | R49: 0 | S49: 0 | T49: 0 | U49: 0 | V49: 0 | W49: 0 | X49: 0 | Y49: 0
C50: 47 | D50: Reposição de equipamento de ar condicionado. | E50: 339039-25 | F50: W&Z | G50: Serviço | H50: CONFORME MEMORIAL | I50: 20 | J50: 250 | L50: =K50-(SUM(N50:Y50)) -> 0 | M50: =IF(L50<0,"ATENÇÃO","OK") -> OK | N50: 0 | O50: 0 | P50: 0 | Q50: 0 | R50: 0 | S50: 0 | T50: 0 | U50: 0 | V50: 0 | W50: 0 | X50: 0 | Y50: 0

Sheet ESAG
A1: PROCESSO: 859/2014 | D1: OBJETO: Aquisição e instalação de aparelhos de ar condicionado | J1: VIGÊNCIA DA ATA: 27/08/2014 até 26/08/2014 | N1: AF/OS nº 1844/2014 Qtde. DT | O1: AF/OS nº xxxx/2014 Qtde. DT | P1: AF/OS nº xxxx/2014 Qtde. DT | Q1: AF/OS nº xxxx/2014 Qtde. DT | R1: AF/OS nº xxxx/2014 Qtde. DT | S1: AF/OS nº xxxx/2014 Qtde. DT | T1: AF/OS nº xxxx/2014 Qtde. DT | U1: AF/OS nº xxxx/2014 Qtde. DT | V1: AF/OS nº xxxx/2014 Qtde. DT | W1: AF/OS nº xxxx/2014 Qtde. DT | X1: AF/OS nº xxxx/2014 Qtde. DT | Y1: AF/OS nº xxxx/2014 Qtde. DT
A2: CENTRO PARTICIPANTE: ESAG
A3: FORNECEDOR | B3: LOTE | C3: ITEM | D3: PRODUTO - CARACTERÍSTICAS MÍNIMAS | E3: DETALHAMENTO | F3: MARCA/MODELO | G3: UNIDADE | H3: Entrega (Dias) | I3: Pagto. (Dias) | J3: Preço UNITÁRIO (R$) | K3: Qtde LICITADA | L3: Saldo / Automático | M3: ALERTA | N3: ...../...../...... | O3: ...../...../...... | P3: ...../...../...... | Q3: ...../...../...... | R3: ...../...../...... | S3: ...../...../...... | T3: ...../...../...... | U3: ...../...../...... | V3: ...../...../...... | W3: ...../...../...... | X3: ...../...../...... | Y3: ...../...../......
A4: DSM Distribuidora de Móveis e Suprimentos Eireli EPP | B4: 1 | C4: 1 | D4: Aparelho de ar condicionado tipo Split High Wall (para parede), capacidade frigorífica nominal de 9.000 btu’s, 220 V, somente frio, com controle remoto (individual) sem fio e filtro de ar lavável. Selo PROCEL “A” . | E4: 449052-34 | F4: ELGIN | G4: Peça | H4: CONFORME MEMORIAL | I4: 20 | J4: 1137.77 | K4: 1 | L4: =K4-(SUM(N4:Y4)) -> 1 | M4: =IF(L4<0,"ATENÇÃO","OK") -> OK | O4: 0 | P4: 0 | Q4: 0 | R4: 0 | S4: 0 | T4: 0 | U4: 0 | V4: 0 | W4: 0 | X4: 0 | Y4: 0
A5: LS Climatizações Ltda | B5: 2 | C5: 2 | D5: Aparelho de ar condicionado tipo Split High Wall (para parede), ciclo somente frio, 220 V, capacidade frigorífica nominal de 12.000 btu’s somente frio, com controle remoto (individual) sem fio e filtro de ar lavável. Selo PROCEL “A”. | E5: 449052-34 | F5: KOMECO | G5: Peça | H5: CONFORME MEMORIAL | I5: 20 | J5: 1197.26 | K5: 7 | L5: =K5-(SUM(N5:Y5)) -> 7 | M5: =IF(L5<0,"ATENÇÃO","OK") -> OK | O5: 0 | P5: 0 | Q5: 0 | R5: 0 | S5: 0 | T5: 0 | U5: 0 | V5: 0 | W5: 0 | X5: 0 | Y5: 0
B6: 3 | C6: 3 | D6: Aparelho de ar condicionado tipo Split High Wall, (para parede), ciclo somente frio, capacidade frigorífica nominal de 18.000 btu’s, 220 V, com controle remoto (individual) sem fio e filtro de ar lavável. | E6: 449052-34 | F6: ELGIN | G6: Peça | H6: CONFORME MEMORIAL | I6: 20 | J6: 1590.41 | K6: 2 | L6: =K6-(SUM(N6:Y6)) -> 2 | M6: =IF(L6<0,"ATENÇÃO","OK") -> OK | O6: 0 | P6: 0 | Q6: 0 | R6: 0 | S6: 0 | T6: 0 | U6: 0 | V6: 0 | W6: 0 | X6: 0 | Y6: 0
B7: 4 | C7: 4 | D7: Aparelho de ar condicionado tipo Split High Wall (para parede), ciclo quente e frio: controle remoto sem fio, capacidade nominal de no mínimo 9.000 btus; capacidade de desumidificar o ambiente e filtro de ar lavável, tensão 220 Volts, frequência 60 Hz. Selo PROCEL “A”. | E7: 449052-34 | F7: KOMECO | G7: Peça | H7: CONFORME MEMORIAL | I7: 20 | J7: 1198.63 | L7: =K7-(SUM(N7:Y7)) -> 0 | M7: =IF(L7<0,"ATENÇÃO","OK") -> OK | O7: 0 | P7: 0 | Q7: 0 | R7: 0 | S7: 0 | T7: 0 | U7: 0 | V7: 0 | W7: 0 | X7: 0 | Y7: 0
B8: 5 | C8: 5 | D8: Aparelho de ar condicionado tipo Split High Wall (para parede), ciclo quente e frio, capacidade frigorífica nominal de 12.000 btu’s, 220 V,com controle remoto (individual) sem fio e filtro de ar lavável. Selo PROCEL “A”. | E8: 449052-34 | F8: KOMECO | G8: Peça | H8: CONFORME MEMORIAL | I8: 20 | J8: 1269.86 | L8: =K8-(SUM(N8:Y8)) -> 0 | M8: =IF(L8<0,"ATENÇÃO","OK") -> OK | O8: 0 | P8: 0 | Q8: 0 | R8: 0 | S8: 0 | T8: 0 | U8: 0 | V8: 0 | W8: 0 | X8: 0 | Y8: 0
B9: 6 | C9: 6 | D9: Aparelho de ar condicionado tipo Split High Wall (para parede), ciclo quente e frio, capacidade frigorífica nominal de 18.000 btu’s, 220 V,com controle remoto (individual) sem fio e filtro de ar lavável. | E9: 449052-34 | F9: ELGIN | G9: Peça | H9: CONFORME MEMORIAL | I9: 20 | J9: 1713.7 | L9: =K9-(SUM(N9:Y9)) -> 0 | M9: =IF(L9<0,"ATENÇÃO","OK") -> OK | O9: 0 | P9: 0 | Q9: 0 | R9: 0 | S9: 0 | T9: 0 | U9: 0 | V9: 0 | W9: 0 | X9: 0 | Y9: 0
B10: 7 | C10: 7 | D10: Aparelho de ar condicionado tipo Split High Wall (para parede), ciclo quente e frio, capacidade frigorífica nominal de 24.000 btu’s, 220 V, com controle remoto (individual) sem fio e filtro de ar lavável. | E10: 449052-34 | F10: KOMECO | G10: Peça | H10: CONFORME MEMORIAL | I10: 20 | J10: 2241.1 | L10: =K10-(SUM(N10:Y10)) -> 0 | M10: =IF(L10<0,"ATENÇÃO","OK") -> OK | O10: 0 | P10: 0 | Q10: 0 | R10: 0 | S10: 0 | T10: 0 | U10: 0 | V10: 0 | W10: 0 | X10: 0 | Y10: 0
B11: 8 | C11: 8 | D11: Aparelho de ar condicionado tipo Split High Wall (para parede), ciclo quente e frio, capacidade frigorífica nominal de 30.000 btu’s, 220 V, com controle remoto (individual) sem fio e filtro de ar lavável. | E11: 449052-34 | F11: ELGIN | G11: Peça | H11: CONFORME MEMORIAL | I11: 20 | J11: 3107.86 | L11: =K11-(SUM(N11:Y11)) -> 0 | M11: =IF(L11<0,"ATENÇÃO","OK") -> OK | O11: 0 | P11: 0 | Q11: 0 | R11: 0 | S11: 0 | T11: 0 | U11: 0 | V11: 0 | W11: 0 | X11: 0 | Y11: 0
B12: 9 | C12: 9 | D12: Aparelho de ar condicionado tipo Split Piso Teto, capacidade frigorífica nominal 24.000 BTU’s, ciclo somente frio, 220 V, com controle remoto (individual), sem fio e filtro de ar lavável. | E12: 449052-34 | F12: CARRIER | G12: Peça | H12: CONFORME MEMORIAL | I12: 20 | J12: 3472.6 | K12: 1 | L12: =K12-(SUM(N12:Y12)) -> 1 | M12: =IF(L12<0,"ATENÇÃO","OK") -> OK | O12: 0 | P12: 0 | Q12: 0 | R12: 0 | S12: 0 | T12: 0 | U12: 0 | V12: 0 | W12: 0 | X12: 0 | Y12: 0
A13: DSM Distribuidora de Móveis e Suprimentos Eireli EPP | B13: 10 | C13: 10 | D13: Aparelho de ar condicionado tipo Split Piso Teto, ciclo somente frio, capacidade frigorífica nominal de 30.000 btu’s somente frio, 220 V, com controle remoto (individual) sem fio e filtro de ar lavável. | E13: 449052-34 | F13: ELGIN | G13: Peça | H13: CONFORME MEMORIAL | I13: 20 | J13: 3570 | L13: =K13-(SUM(N13:Y13)) -> 0 | M13: =IF(L13<0,"ATENÇÃO","OK") -> OK | O13: 0 | P13: 0 | Q13: 0 | R13: 0 | S13: 0 | T13: 0 | U13: 0 | V13: 0 | W13: 0 | X13: 0 | Y13: 0
B14: 11 | C14: 11 | D14: Condicionador de Ar tipo Split Piso Teto – de 36.000 BTU’s ciclo somente frio, com controle remoto (individual) sem fio. | E14: 449052-34 | F14: CARRIER | G14: Peça | H14: CONFORME MEMORIAL | I14: 20 | J14: 4093.33 | K14: 3 | L14: =K14-(SUM(N14:Y14)) -> 3 | M14: =IF(L14<0,"ATENÇÃO","OK") -> OK | O14: 0 | P14: 0 | Q14: 0 | R14: 0 | S14: 0 | T14: 0 | U14: 0 | V14: 0 | W14: 0 | X14: 0 | Y14: 0
C15: 12 | D15: Condicionador de Ar tipo Split Piso Teto – de 48.000 BTU’s ciclo somente frio, com controle remoto (individual) sem fio e filtro de ar lavável. | E15: 449052-34 | F15: ELGIN | G15: Peça | H15: CONFORME MEMORIAL | I15: 20 | J15: 4500 | L15: =K15-(SUM(N15:Y15)) -> 0 | M15: =IF(L15<0,"ATENÇÃO","OK") -> OK | O15: 0 | P15: 0 | Q15: 0 | R15: 0 | S15: 0 | T15: 0 | U15: 0 | V15: 0 | W15: 0 | X15: 0 | Y15: 0
A16: Tecnoponto Ltda EPP | B16: 12 | C16: 13 | D16: Condicionador de Ar ti Split Piso Teto, ciclo somente frio, 60.000 BTU´s, com controle remoto (individual sem fio). Trifásico 380V, com pressotato de alta e baixa, rele contra inversão de fase. Selo PROCEL até "E". | E16: 449052-34 | F16: KOMECO | G16: Peça | H16: CONFORME MEMORIAL | I16: 20 | J16: 5058.82 | K16: 5 | L16: =K16-(SUM(N16:Y16)) -> 5 | M16: =IF(L16<0,"ATENÇÃO","OK") -> OK | O16: 0 | P16: 0 | Q16: 0 | R16: 0 | S16: 0 | T16: 0 | U16: 0 | V16: 0 | W16: 0 | X16: 0 | Y16: 0
B17: 13 | C17: 14 | D17: Condicionado de Ar tipo Split Piso Teto/Parede, capacidade frigorífica nominal de 36.000 btu’s, ciclos quente e frio, 220 V, com controle remoto sem fio e filtro de ar lavável. | E17: 449052-34 | F17: KOMECO | G17: Peça | H17: CONFORME MEMORIAL | I17: 20 | J17: 4524.9 | L17: =K17-(SUM(N17:Y17)) -> 0 | M17: =IF(L17<0,"ATENÇÃO","OK") -> OK | O17: 0 | P17: 0 | Q17: 0 | R17: 0 | S17: 0 | T17: 0 | U17: 0 | V17: 0 | W17: 0 | X17: 0 | Y17: 0
B18: 14 | C18: 15 | D18: Condicionador de Ar tipo Split Piso Teto/Parede – de 60.000 BTU’s ciclos quente e frio, com controle remoto - trifásico 380 V, com pressotato de alta e baixa, rele contra inversão de fase. Selo PROCEL até "E". | E18: 449052-34 | F18: KOMECO | G18: Peça | H18: CONFORME MEMORIAL | I18: 20 | J18: 5530 | L18: =K18-(SUM(N18:Y18)) -> 0 | M18: =IF(L18<0,"ATENÇÃO","OK") -> OK | O18: 0 | P18: 0 | Q18: 0 | R18: 0 | S18: 0 | T18: 0 | U18: 0 | V18: 0 | W18: 0 | X18: 0 | Y18: 0
A19: LS Climatizações Ltda | B19: 15 | C19: 16 | D19: Aparelho de ar condicionado tipo Split Cassete, ciclo FRIO: controle remoto sem fio, capacidade nominal de no mínimo 18.000 btus; tensão 220 Volts. | E19: 449052-34 | F19: CARRIER | G19: Peça | H19: CONFORME MEMORIAL | I19: 20 | J19: 3630.14 | L19: =K19-(SUM(N19:Y19)) -> 0 | M19: =IF(L19<0,"ATENÇÃO","OK") -> OK | O19: 0 | P19: 0 | Q19: 0 | R19: 0 | S19: 0 | T19: 0 | U19: 0 | V19: 0 | W19: 0 | X19: 0 | Y19: 0
B20: 16 | C20: 17 | D20: Aparelho de ar condicionado tipo Split Cassete, ciclo FRIO: controle remoto sem fio, capacidade nominal de no mínimo 24.000 btus; tensão 220 Volts. | E20: 449052-34 | F20: ELGIN | G20: Peça | H20: CONFORME MEMORIAL | I20: 20 | J20: 3365.75 | L20: =K20-(SUM(N20:Y20)) -> 0 | M20: =IF(L20<0,"ATENÇÃO","OK") -> OK | O20: 0 | P20: 0 | Q20: 0 | R20: 0 | S20: 0 | T20: 0 | U20: 0 | V20: 0 | W20: 0 | X20: 0 | Y20: 0
B21: 17 | C21: 18 | D21: Aparelho de ar condicionado tipo Split Cassete, ciclo FRIO: controle remoto sem fio, capacidade nominal de no mínimo 36.000 btus; tensão 220 Volts. | E21: 449052-34 | F21: ELGIN | G21: Peça | H21: CONFORME MEMORIAL | I21: 20 | J21: 4330.14 | K21: 1 | L21: =K21-(SUM(N21:Y21)) -> 1 | M21: =IF(L21<0,"ATENÇÃO","OK") -> OK | O21: 0 | P21: 0 | Q21: 0 | R21: 0 | S21: 0 | T21: 0 | U21: 0 | V21: 0 | W21: 0 | X21: 0 | Y21: 0
A22: DSM Distribuidora de Móveis e Suprimentos Eireli EPP | B22: 18 | C22: 19 | D22: Aparelho de ar condicionado tipo Split Cassete, capacidade nominal de no mínimo 60.000 BTU’s ciclo frio, com controle remoto - trifásico 380 V, com pressotato de alta e baixa, rele contra inversão de fase. | E22: 449052-34 | F22: ELGIN | G22: Peça | H22: CONFORME MEMORIAL | I22: 20 | J22: 6508.07 | K22: 11 | L22: =K22-(SUM(N22:Y22)) -> 11 | M22: =IF(L22<0,"ATENÇÃO","OK") -> OK | O22: 0 | P22: 0 | Q22: 0 | R22: 0 | S22: 0 | T22: 0 | U22: 0 | V22: 0 | W22: 0 | X22: 0 | Y22: 0
A23: LS Climatizações Ltda | B23: 19 | C23: 20 | D23: Cortina de Ar. Dimensões aproximadas: (L X A XP): 150 x 23 x 22cm , podendo ter pequena variação de tamanho, dependendo da marca do produto. Monofásico, 220 Volts. Potência (c/v) mínimo de 1/5. Nível máximo de ruído (db): menor que 60db. Modos de operação: ventila. Velocidades (m/s) mínimo de 11. Vazão de ar: mínimo de 1300 m3/h. Temperatura somente ventilação. Recursos função automática. Saída de ar frontal e vertical. Entrada superior de ar. Direcionadores de ar vertical. Recirculação de ar (m3/m) maior que 25. Prazo de garantia de 01 ano. Item incluso: controle remoto. Cor branco. | E23: 449052-34 | F23: MIDEA | G23: Peça | H23: CONFORME MEMORIAL | I23: 20 | J23: 514.28 | K23: 5 | L23: =K23-(SUM(N23:Y23)) -> 5 | M23: =IF(L23<0,"ATENÇÃO","OK") -> OK | O23: 0 | P23: 0 | Q23: 0 | R23: 0 | S23: 0 | T23: 0 | U23: 0 | V23: 0 | W23: 0 | X23: 0 | Y23: 0
A24: Frimac Refrigeração Eireli ME | B24: 20 | C24: 21 | D24: Instalação completa de equipamento de ar-condicionado tipo "split" até 24.000 BTU/h incluindo até 3 metros de distância entre evaporadora e condensadora – Composto de 01 (uma) unidade evaporadora e 01 (uma) unidade condensadora. | E24: 339039-25 | F24: XX | G24: Serviço | H24: CONFORME MEMORIAL | I24: 20 | J24: 525 | K24: 11 | L24: =K24-(SUM(N24:Y24)) -> 11 | M24: =IF(L24<0,"ATENÇÃO","OK") -> OK | O24: 0 | P24: 0 | Q24: 0 | R24: 0 | S24: 0 | T24: 0 | U24: 0 | V24: 0 | W24: 0 | X24: 0 | Y24: 0
C25: 22 | D25: Instalação completa de equipamento de ar-condicionado tipo "split" de 25.000 a 48.000 BTU/h incluindo até 3 metros de distância entre evaporadora e condensadora – Composto de 01 (uma) unidade evaporadora e 01 (uma) unidade condensadora. | E25: 339039-25 | F25: XX | G25: Serviço | H25: CONFORME MEMORIAL | I25: 20 | J25: 608 | K25: 6 | L25: =K25-(SUM(N25:Y25)) -> 5 | M25: =IF(L25<0,"ATENÇÃO","OK") -> OK | N25: 1 | O25: 0 | P25: 0 | Q25: 0 | R25: 0 | S25: 0 | T25: 0 | U25: 0 | V25: 0 | W25: 0 | X25: 0 | Y25: 0
C26: 23 | D26: Instalação completa de equipamento de ar-condicionado tipo "split" acima de 48.000 BTU/h incluindo até 3 metros de distância entre evaporadora e condensadora – Composto de 01 (uma) unidade evaporadora e 01 (uma) unidade condensadora. | E26: 339039-25 | F26: XX | G26: Serviço | H26: CONFORME MEMORIAL | I26: 20 | J26: 650 | K26: 27 | L26: =K26-(SUM(N26:Y26)) -> 24 | M26: =IF(L26<0,"ATENÇÃO","OK") -> OK | N26: 3 | O26: 0 | P26: 0 | Q26: 0 | R26: 0 | S26: 0 | T26: 0 | U26: 0 | V26: 0 | W26: 0 | X26: 0 | Y26: 0
C27: 24 | D27: Metro adicional de linha para instalação de split até 24.000 BTU/h. | E27: 339039-25 | F27: ELUMA | G27: Metro | H27: CONFORME MEMORIAL | I27: 20 | J27: 20 | K27: 55 | L27: =K27-(SUM(N27:Y27)) -> 55 | M27: =IF(L27<0,"ATENÇÃO","OK") -> OK | O27: 0 | P27: 0 | Q27: 0 | R27: 0 | S27: 0 | T27: 0 | U27: 0 | V27: 0 | W27: 0 | X27: 0 | Y27: 0
C28: 25 | D28: Metro adicional de linha para instalação de split de 25.000 a 48.000 BTU/h. | E28: 339039-25 | F28: ELUMA | G28: Metro | H28: CONFORME MEMORIAL | I28: 20 | J28: 25 | K28: 30 | L28: =K28-(SUM(N28:Y28)) -> 30 | M28: =IF(L28<0,"ATENÇÃO","OK") -> OK | O28: 0 | P28: 0 | Q28: 0 | R28: 0 | S28: 0 | T28: 0 | U28: 0 | V28: 0 | W28: 0 | X28: 0 | Y28: 0
C29: 26 | D29: Metro adicional de linha para instalação de split acima de 48.000 BTU/h. | E29: 339039-25 | F29: ELUMA | G29: Metro | H29: CONFORME MEMORIAL | I29: 20 | J29: 28.5 | K29: 135 | L29: =K29-(SUM(N29:Y29)) -> 135 | M29: =IF(L29<0,"ATENÇÃO","OK") -> OK | O29: 0 | P29: 0 | Q29: 0 | R29: 0 | S29: 0 | T29: 0 | U29: 0 | V29: 0 | W29: 0 | X29: 0 | Y29: 0
C30: 27 | D30: Desinstalação de equipamento de ar-condicionado. | E30: 339039-25 | F30: XX | G30: Serviço | H30: CONFORME MEMORIAL | I30: 20 | J30: 197 | K30: 44 | L30: =K30-(SUM(N30:Y30)) -> 41 | M30: =IF(L30<0,"ATENÇÃO","OK") -> OK | N30: 3 | O30: 0 | P30: 0 | Q30: 0 | R30: 0 | S30: 0 | T30: 0 | U30: 0 | V30: 0 | W30: 0 | X30: 0 | Y30: 0
C31: 28 | D31: Reposição de equipamento de ar condicionado. | E31: 339039-25 | F31: XX | G31: Serviço | H31: CONFORME MEMORIAL | I31: 20 | J31: 250 | K31: 31 | L31: =K31-(SUM(N31:Y31)) -> 31 | M31: =IF(L31<0,"ATENÇÃO","OK") -> OK | O31: 0 | P31: 0 | Q31: 0 | R31: 0 | S31: 0 | T31: 0 | U31: 0 | V31: 0 | W31: 0 | X31: 0 | Y31: 0
C32: 29 | D32: Instalação de Cortina de Ar. | E32: 339039-25 | F32: XX | G32: Serviço | H32: CONFORME MEMORIAL | I32: 20 | J32: 202 | K32: 5 | L32: =K32-(SUM(N32:Y32)) -> 4 | M32: =IF(L32<0,"ATENÇÃO","OK") -> OK | N32: 1 | O32: 0 | P32: 0 | Q32: 0 | R32: 0 | S32: 0 | T32: 0 | U32: 0 | V32: 0 | W32: 0 | X32: 0 | Y32: 0
A33: Frimac Refrigeração Eireli ME | B33: 21 | C33: 30 | D33: Instalação completa de equipamento de ar-condicionado tipo "split" até 24.000 BTU/h incluindo até 3 metros de distância entre evaporadora e condensadora – Composto de 01 (uma) unidade evaporadora e 01 (uma) unidade condensadora. | E33: 339039-25 | F33: XX | G33: Serviço | H33: CONFORME MEMORIAL | I33: 20 | J33: 523 | L33: =K33-(SUM(N33:Y33)) -> 0 | M33: =IF(L33<0,"ATENÇÃO","OK") -> OK | O33: 0 | P33: 0 | Q33: 0 | R33: 0 | S33: 0 | T33: 0 | U33: 0 | V33: 0 | W33: 0 | X33: 0 | Y33: 0
C34: 31 | D34: Instalação completa de equipamento de ar-condicionado tipo "split" acima de 48.000 BTU/h incluindo até 3 metros de distância entre evaporadora e condensadora – Composto de 01 (uma) unidade evaporadora e 01 (uma) unidade condensadora. | E34: 339039-25 | F34: XX | G34: Serviço | H34: CONFORME MEMORIAL | I34: 20 | J34: 655 | L34: =K34-(SUM(N34:Y34)) -> 0 | M34: =IF(L34<0,"ATENÇÃO","OK") -> OK | O34: 0 | P34: 0 | Q34: 0 | R34: 0 | S34: 0 | T34: 0 | U34: 0 | V34: 0 | W34: 0 | X34: 0 | Y34: 0
C35: 32 | D35: Metro adicional de linha para instalação de split até 24.000 BTU/h. | E35: 339039-25 | F35: ELUMA | G35: Metro | H35: CONFORME MEMORIAL | I35: 20 | J35: 20 | L35: =K35-(SUM(N35:Y35)) -> 0 | M35: =IF(L35<0,"ATENÇÃO","OK") -> OK | O35: 0 | P35: 0 | Q35: 0 | R35: 0 | S35: 0 | T35: 0 | U35: 0 | V35: 0 | W35: 0 | X35: 0 | Y35: 0
C36: 33 | D36: Metro adicional de linha para instalação de split acima de 48.000 BTU/h. | E36: 339039-25 | F36: ELUMA | G36: Metro | H36: CONFORME MEMORIAL | I36: 20 | J36: 28.5 | L36: =K36-(SUM(N36:Y36)) -> 0 | M36: =IF(L36<0,"ATENÇÃO","OK") -> OK | O36: 0 | P36: 0 | Q36: 0 | R36: 0 | S36: 0 | T36: 0 | U36: 0 | V36: 0 | W36: 0 | X36: 0 | Y36: 0
C37: 34 | D37: Desinstalação de equipamento de ar-condicionado. | E37: 339039-25 | F37: XX | G37: Serviço | H37: CONFORME MEMORIAL | I37: 20 | J37: 197 | L37: =K37-(SUM(N37:Y37)) -> 0 | M37: =IF(L37<0,"ATENÇÃO","OK") -> OK | O37: 0 | P37: 0 | Q37: 0 | R37: 0 | S37: 0 | T37: 0 | U37: 0 | V37: 0 | W37: 0 | X37: 0 | Y37: 0
C38: 35 | D38: Reposição de equipamento de ar condicionado. | E38: 339039-25 | F38: XX | G38: Serviço | H38: CONFORME MEMORIAL | I38: 20 | J38: 250 | L38: =K38-(SUM(N38:Y38)) -> 0 | M38: =IF(L38<0,"ATENÇÃO","OK") -> OK | O38: 0 | P38: 0 | Q38: 0 | R38: 0 | S38: 0 | T38: 0 | U38: 0 | V38: 0 | W38: 0 | X38: 0 | Y38: 0
C39: 36 | D39: Instalação de Cortina de Ar. | E39: 339039-25 | F39: XX | G39: Serviço | H39: CONFORME MEMORIAL | I39: 20 | J39: 202 | L39: =K39-(SUM(N39:Y39)) -> 0 | M39: =IF(L39<0,"ATENÇÃO","OK") -> OK | O39: 0 | P39: 0 | Q39: 0 | R39: 0 | S39: 0 | T39: 0 | U39: 0 | V39: 0 | W39: 0 | X39: 0 | Y39: 0
A40: Akon Ltda ME | B40: 22 | C40: 37 | D40: Instalação completa de equipamento de ar-condicionado tipo "split" até 24.000 BTU/h incluindo até 3 metros de distância entre evaporadora e condensadora – Composto de 01 (uma) unidade evaporadora e 01 (uma) unidade condensadora. | E40: 339039-25 | F40: AKON | G40: Serviço | H40: CONFORME MEMORIAL | I40: 20 | J40: 460 | L40: =K40-(SUM(N40:Y40)) -> 0 | M40: =IF(L40<0,"ATENÇÃO","OK") -> OK | O40: 0 | P40: 0 | Q40: 0 | R40: 0 | S40: 0 | T40: 0 | U40: 0 | V40: 0 | W40: 0 | X40: 0 | Y40: 0
C41: 38 | D41: Instalação completa de equipamento de ar-condicionado tipo "split" de 25.000 a 48.000 BTU/h incluindo até 3 metros de distância entre evaporadora e condensadora – Composto de 01 (uma) unidade evaporadora e 01 (uma) unidade condensadora. | E41: 339039-25 | F41: AKON | G41: Serviço | H41: CONFORME MEMORIAL | I41: 20 | J41: 550 | L41: =K41-(SUM(N41:Y41)) -> 0 | M41: =IF(L41<0,"ATENÇÃO","OK") -> OK | O41: 0 | P41: 0 | Q41: 0 | R41: 0 | S41: 0 | T41: 0 | U41: 0 | V41: 0 | W41: 0 | X41: 0 | Y41: 0
C42: 39 | D42: Metro adicional de linha para instalação de split até 24.000 BTU/h. | E42: 339039-25 | F42: AKON | G42: Metro | H42: CONFORME MEMORIAL | I42: 20 | J42: 40 | L42: =K42-(SUM(N42:Y42)) -> 0 | M42: =IF(L42<0,"ATENÇÃO","OK") -> OK | O42: 0 | P42: 0 | Q42: 0 | R42: 0 | S42: 0 | T42: 0 | U42: 0 | V42: 0 | W42: 0 | X42: 0 | Y42: 0
A43: W & Z Comércio e Serviços Hospitalares Ltda | B43: 23 | C43: 40 | D43: Instalação completa de equipamento de ar-condicionado tipo "split" até 24.000 BTU/h incluindo até 3 metros de distância entre evaporadora e condensadora – Composto de 01 (uma) unidade evaporadora e 01 (uma) unidade condensadora. | E43: 339039-25 | F43: W&Z | G43: Serviço | H43: CONFORME MEMORIAL | I43: 20 | J43: 490 | L43: =K43-(SUM(N43:Y43)) -> 0 | M43: =IF(L43<0,"ATENÇÃO","OK") -> OK | O43: 0 | P43: 0 | Q43: 0 | R43: 0 | S43: 0 | T43: 0 | U43: 0 | V43: 0 | W43: 0 | X43: 0 | Y43: 0
C44: 41 | D44: Instalação completa de equipamento de ar-condicionado tipo "split" de 25.000 a 48.000 BTU/h incluindo até 3 metros de distância entre evaporadora e condensadora – Composto de 01 (uma) unidade evaporadora e 01 (uma) unidade condensadora. | E44: 339039-25 | F44: W&Z | G44: Serviço | H44: CONFORME MEMORIAL | I44: 20 | J44: 570 | L44: =K44-(SUM(N44:Y44)) -> 0 | M44: =IF(L44<0,"ATENÇÃO","OK") -> OK | O44: 0 | P44: 0 | Q44: 0 | R44: 0 | S44: 0 | T44: 0 | U44: 0 | V44: 0 | W44: 0 | X44: 0 | Y44: 0
C45: 42 | D45: Instalação completa de equipamento de ar-condicionado tipo "split" acima de 48.000 BTU/h incluindo até 3 metros de distância entre evaporadora e condensadora – Composto de 01 (uma) unidade evaporadora e 01 (uma) unidade condensadora. | E45: 339039-25 | F45: W&Z | G45: Serviço | H45: CONFORME MEMORIAL | I45: 20 | J45: 600.01 | L45: =K45-(SUM(N45:Y45)) -> 0 | M45: =IF(L45<0,"ATENÇÃO","OK") -> OK | O45: 0 | P45: 0 | Q45: 0 | R45: 0 | S45: 0 | T45: 0 | U45: 0 | V45: 0 | W45: 0 | X45: 0 | Y45: 0
C46: 43 | D46: Metro adicional de linha para instalação de split até 24.000 BTU/h. | E46: 339039-25 | F46: W&Z | G46: Metro | H46: CONFORME MEMORIAL | I46: 20 | J46: 44.49 | L46: =K46-(SUM(N46:Y46)) -> 0 | M46: =IF(L46<0,"ATENÇÃO","OK") -> OK | O46: 0 | P46: 0 | Q46: 0 | R46: 0 | S46: 0 | T46: 0 | U46: 0 | V46: 0 | W46: 0 | X46: 0 | Y46: 0
C47: 44 | D47: Metro adicional de linha para instalação de split de 25.000 a 48.000 BTU/h. | E47: 339039-25 | F47: W&Z | G47: Metro | H47: CONFORME MEMORIAL | I47: 20 | J47: 53.05 | L47: =K47-(SUM(N47:Y47)) -> 0 | M47: =IF(L47<0,"ATENÇÃO","OK") -> OK | O47: 0 | P47: 0 | Q47: 0 | R47: 0 | S47: 0 | T47: 0 | U47: 0 | V47: 0 | W47: 0 | X47: 0 | Y47: 0
C48: 45 | D48: Metro adicional de linha para instalação de split acima de 48.000 BTU/h. | E48: 339039-25 | F48: W&Z | G48: Metro | H48: CONFORME MEMORIAL | I48: 20 | J48: 57.55 | L48: =K48-(SUM(N48:Y48)) -> 0 | M48: =IF(L48<0,"ATENÇÃO","OK") -> OK | O48: 0 | P48: 0 | Q48: 0 | R48: 0 | S48: 0 | T48: 0 | U48: 0 | V48: 0 | W48: 0 | X48: 0 | Y48: 0
C49: 46 | D49: Desinstalação de equipamento de ar-condicionado. | E49: 339039-25 | F49: W&Z | G49: Serviço | H49: CONFORME MEMORIAL | I49: 20 | J49: 197.06 | L49: =K49-(SUM(N49:Y49)) -> 0 | M49: =IF(L49<0,"ATENÇÃO","OK") -> OK | O49: 0 | P49: 0 | Q49: 0 | R49: 0 | S49: 0 | T49: 0 | U49: 0 | V49: 0 | W49: 0 | X49: 0 | Y49: 0
C50: 47 | D50: Reposição de equipamento de ar condicionado. | E50: 339039-25 | F50: W&Z | G50: Serviço | H50: CONFORME MEMORIAL | I50: 20 | J50: 250 | L50: =K50-(SUM(N50:Y50)) -> 0 | M50: =IF(L50<0,"ATENÇÃO","OK") -> OK | O50: 0 | P50: 0 | Q50: 0 | R50: 0 | S50: 0 | T50: 0 | U50: 0 | V50: 0 | W50: 0 | X50: 0 | Y50: 0

Sheet CEART
A1: PROCESSO: 859/2014 | D1: OBJETO: Aquisição e instalação de aparelhos de ar condicionado | J1: VIGÊNCIA DA ATA: 27/08/2014 até 26/08/2014 | N1: AF 1367/2014 | O1: AF 1368/2014 | P1: AF 1406/2014 | Q1: AF/OS nº xxxx/2014 Qtde. DT | R1: AF/OS nº xxxx/2014 Qtde. DT | S1: AF/OS nº xxxx/2014 Qtde. DT | T1: AF/OS nº xxxx/2014 Qtde. DT | U1: AF/OS nº xxxx/2014 Qtde. DT | V1: AF/OS nº xxxx/2014 Qtde. DT | W1: AF/OS nº xxxx/2014 Qtde. DT | X1: AF/OS nº xxxx/2014 Qtde. DT | Y1: AF/OS nº xxxx/2014 Qtde. DT
A2: CENTRO PARTICIPANTE: CEART
A3: FORNECEDOR | B3: LOTE | C3: ITEM | D3: PRODUTO - CARACTERÍSTICAS MÍNIMAS | E3: DETALHAMENTO | F3: MARCA/MODELO | G3: UNIDADE | H3: Entrega (Dias) | I3: Pagto. (Dias) | J3: Preço UNITÁRIO (R$) | K3: Qtde LICITADA | L3: Saldo / Automático | M3: ALERTA | N3: 41908 | O3: 26/09/20414 | P3: 41914 | Q3: ...../...../...... | R3: ...../...../...... | S3: ...../...../...... | T3: ...../...../...... | U3: ...../...../...... | V3: ...../...../...... | W3: ...../...../...... | X3: ...../...../...... | Y3: ...../...../......
A4: DSM Distribuidora de Móveis e Suprimentos Eireli EPP | B4: 1 | C4: 1 | D4: Aparelho de ar condicionado tipo Split High Wall (para parede), capacidade frigorífica nominal de 9.000 btu’s, 220 V, somente frio, com controle remoto (individual) sem fio e filtro de ar lavável. Selo PROCEL “A” . | E4: 449052-34 | F4: ELGIN | G4: Peça | H4: CONFORME MEMORIAL | I4: 20 | J4: 1137.77 | K4: 2 | L4: =K4-(SUM(N4:Y4)) -> 0 | M4: =IF(L4<0,"ATENÇÃO","OK") -> OK | N4: 2 | O4: 0 | P4: 0 | Q4: 0 | R4: 0 | S4: 0 | T4: 0 | U4: 0 | V4: 0 | W4: 0 | X4: 0 | Y4: 0
A5: LS Climatizações Ltda | B5: 2 | C5: 2 | D5: Aparelho de ar condicionado tipo Split High Wall (para parede), ciclo somente frio, 220 V, capacidade frigorífica nominal de 12.000 btu’s somente frio, com controle remoto (individual) sem fio e filtro de ar lavável. Selo PROCEL “A”. | E5: 449052-34 | F5: KOMECO | G5: Peça | H5: CONFORME MEMORIAL | I5: 20 | J5: 1197.26 | K5: 4 | L5: =K5-(SUM(N5:Y5)) -> 1 | M5: =IF(L5<0,"ATENÇÃO","OK") -> OK | N5: 0 | O5: 3 | P5: 0 | Q5: 0 | R5: 0 | S5: 0 | T5: 0 | U5: 0 | V5: 0 | W5: 0 | X5: 0 | Y5: 0
B6: 3 | C6: 3 | D6: Aparelho de ar condicionado tipo Split High Wall, (para parede), ciclo somente frio, capacidade frigorífica nominal de 18.000 btu’s, 220 V, com controle remoto (individual) sem fio e filtro de ar lavável. | E6: 449052-34 | F6: ELGIN | G6: Peça | H6: CONFORME MEMORIAL | I6: 20 | J6: 1590.41 | K6: 3 | L6: =K6-(SUM(N6:Y6)) -> 1 | M6: =IF(L6<0,"ATENÇÃO","OK") -> OK | N6: 0 | O6: 2 | P6: 0 | Q6: 0 | R6: 0 | S6: 0 | T6: 0 | U6: 0 | V6: 0 | W6: 0 | X6: 0 | Y6: 0
B7: 4 | C7: 4 | D7: Aparelho de ar condicionado tipo Split High Wall (para parede), ciclo quente e frio: controle remoto sem fio, capacidade nominal de no mínimo 9.000 btus; capacidade de desumidificar o ambiente e filtro de ar lavável, tensão 220 Volts, frequência 60 Hz. Selo PROCEL “A”. | E7: 449052-34 | F7: KOMECO | G7: Peça | H7: CONFORME MEMORIAL | I7: 20 | J7: 1198.63 | L7: =K7-(SUM(N7:Y7)) -> 0 | M7: =IF(L7<0,"ATENÇÃO","OK") -> OK | N7: 0 | O7: 0 | P7: 0 | Q7: 0 | R7: 0 | S7: 0 | T7: 0 | U7: 0 | V7: 0 | W7: 0 | X7: 0 | Y7: 0
B8: 5 | C8: 5 | D8: Aparelho de ar condicionado tipo Split High Wall (para parede), ciclo quente e frio, capacidade frigorífica nominal de 12.000 btu’s, 220 V,com controle remoto (individual) sem fio e filtro de ar lavável. Selo PROCEL “A”. | E8: 449052-34 | F8: KOMECO | G8: Peça | H8: CONFORME MEMORIAL | I8: 20 | J8: 1269.86 | L8: =K8-(SUM(N8:Y8)) -> 0 | M8: =IF(L8<0,"ATENÇÃO","OK") -> OK | N8: 0 | O8: 0 | P8: 0 | Q8: 0 | R8: 0 | S8: 0 | T8: 0 | U8: 0 | V8: 0 | W8: 0 | X8: 0 | Y8: 0
B9: 6 | C9: 6 | D9: Aparelho de ar condicionado tipo Split High Wall (para parede), ciclo quente e frio, capacidade frigorífica nominal de 18.000 btu’s, 220 V,com controle remoto (individual) sem fio e filtro de ar lavável. | E9: 449052-34 | F9: ELGIN | G9: Peça | H9: CONFORME MEMORIAL | I9: 20 | J9: 1713.7 | L9: =K9-(SUM(N9:Y9)) -> 0 | M9: =IF(L9<0,"ATENÇÃO","OK") -> OK | N9: 0 | O9: 0 | P9: 0 | Q9: 0 | R9: 0 | S9: 0 | T9: 0 | U9: 0 | V9: 0 | W9: 0 | X9: 0 | Y9: 0
B10: 7 | C10: 7 | D10: Aparelho de ar condicionado tipo Split High Wall (para parede), ciclo quente e frio, capacidade frigorífica nominal de 24.000 btu’s, 220 V, com controle remoto (individual) sem fio e filtro de ar lavável. | E10: 449052-34 | F10: KOMECO | G10: Peça | H10: CONFORME MEMORIAL | I10: 20 | J10: 2241.1 | L10: =K10-(SUM(N10:Y10)) -> 0 | M10: =IF(L10<0,"ATENÇÃO","OK") -> OK | N10: 0 | O10: 0 | P10: 0 | Q10: 0 | R10: 0 | S10: 0 | T10: 0 | U10: 0 | V10: 0 | W10: 0 | X10: 0 | Y10: 0
B11: 8 | C11: 8 | D11: Aparelho de ar condicionado tipo Split High Wall (para parede), ciclo quente e frio, capacidade frigorífica nominal de 30.000 btu’s, 220 V, com controle remoto (individual) sem fio e filtro de ar lavável. | E11: 449052-34 | F11: ELGIN | G11: Peça | H11: CONFORME MEMORIAL | I11: 20 | J11: 3107.86 | L11: =K11-(SUM(N11:Y11)) -> 0 | M11: =IF(L11<0,"ATENÇÃO","OK") -> OK | N11: 0 | O11: 0 | P11: 0 | Q11: 0 | R11: 0 | S11: 0 | T11: 0 | U11: 0 | V11: 0 | W11: 0 | X11: 0 | Y11: 0
B12: 9 | C12: 9 | D12: Aparelho de ar condicionado tipo Split Piso Teto, capacidade frigorífica nominal 24.000 BTU’s, ciclo somente frio, 220 V, com controle remoto (individual), sem fio e filtro de ar lavável. | E12: 449052-34 | F12: CARRIER | G12: Peça | H12: CONFORME MEMORIAL | I12: 20 | J12: 3472.6 | K12: 8 | L12: =K12-(SUM(N12:Y12)) -> 3 | M12: =IF(L12<0,"ATENÇÃO","OK") -> OK | N12: 0 | O12: 5 | P12: 0 | Q12: 0 | R12: 0 | S12: 0 | T12: 0 | U12: 0 | V12: 0 | W12: 0 | X12: 0 | Y12: 0
A13: DSM Distribuidora de Móveis e Suprimentos Eireli EPP | B13: 10 | C13: 10 | D13: Aparelho de ar condicionado tipo Split Piso Teto, ciclo somente frio, capacidade frigorífica nominal de 30.000 btu’s somente frio, 220 V, com controle remoto (individual) sem fio e filtro de ar lavável. | E13: 449052-34 | F13: ELGIN | G13: Peça | H13: CONFORME MEMORIAL | I13: 20 | J13: 3570 | K13: 1 | L13: =K13-(SUM(N13:Y13)) -> 0 | M13: =IF(L13<0,"ATENÇÃO","OK") -> OK | N13: 1 | O13: 0 | P13: 0 | Q13: 0 | R13: 0 | S13: 0 | T13: 0 | U13: 0 | V13: 0 | W13: 0 | X13: 0 | Y13: 0
B14: 11 | C14: 11 | D14: Condicionador de Ar tipo Split Piso Teto – de 36.000 BTU’s ciclo somente frio, com controle remoto (individual) sem fio. | E14: 449052-34 | F14: CARRIER | G14: Peça | H14: CONFORME MEMORIAL | I14: 20 | J14: 4093.33 | L14: =K14-(SUM(N14:Y14)) -> 0 | M14: =IF(L14<0,"ATENÇÃO","OK") -> OK | N14: 0 | O14: 0 | P14: 0 | Q14: 0 | R14: 0 | S14: 0 | T14: 0 | U14: 0 | V14: 0 | W14: 0 | X14: 0 | Y14: 0
C15: 12 | D15: Condicionador de Ar tipo Split Piso Teto – de 48.000 BTU’s ciclo somente frio, com controle remoto (individual) sem fio e filtro de ar lavável. | E15: 449052-34 | F15: ELGIN | G15: Peça | H15: CONFORME MEMORIAL | I15: 20 | J15: 4500 | L15: =K15-(SUM(N15:Y15)) -> 0 | M15: =IF(L15<0,"ATENÇÃO","OK") -> OK | N15: 0 | O15: 0 | P15: 0 | Q15: 0 | R15: 0 | S15: 0 | T15: 0 | U15: 0 | V15: 0 | W15: 0 | X15: 0 | Y15: 0
A16: Tecnoponto Ltda EPP | B16: 12 | C16: 13 | D16: Condicionador de Ar ti Split Piso Teto, ciclo somente frio, 60.000 BTU´s, com controle remoto (individual sem fio). Trifásico 380V, com pressotato de alta e baixa, rele contra inversão de fase. Selo PROCEL até "E". | E16: 449052-34 | F16: KOMECO | G16: Peça | H16: CONFORME MEMORIAL | I16: 20 | J16: 5058.82 | L16: =K16-(SUM(N16:Y16)) -> 0 | M16: =IF(L16<0,"ATENÇÃO","OK") -> OK | N16: 0 | O16: 0 | P16: 0 | Q16: 0 | R16: 0 | S16: 0 | T16: 0 | U16: 0 | V16: 0 | W16: 0 | X16: 0 | Y16: 0
B17: 13 | C17: 14 | D17: Condicionado de Ar tipo Split Piso Teto/Parede, capacidade frigorífica nominal de 36.000 btu’s, ciclos quente e frio, 220 V, com controle remoto sem fio e filtro de ar lavável. | E17: 449052-34 | F17: KOMECO | G17: Peça | H17: CONFORME MEMORIAL | I17: 20 | J17: 4524.9 | L17: =K17-(SUM(N17:Y17)) -> 0 | M17: =IF(L17<0,"ATENÇÃO","OK") -> OK | N17: 0 | O17: 0 | P17: 0 | Q17: 0 | R17: 0 | S17: 0 | T17: 0 | U17: 0 | V17: 0 | W17: 0 | X17: 0 | Y17: 0
B18: 14 | C18: 15 | D18: Condicionador de Ar tipo Split Piso Teto/Parede – de 60.000 BTU’s ciclos quente e frio, com controle remoto - trifásico 380 V, com pressotato de alta e baixa, rele contra inversão de fase. Selo PROCEL até "E". | E18: 449052-34 | F18: KOMECO | G18: Peça | H18: CONFORME MEMORIAL | I18: 20 | J18: 5530 | L18: =K18-(SUM(N18:Y18)) -> 0 | M18: =IF(L18<0,"ATENÇÃO","OK") -> OK | N18: 0 | O18: 0 | P18: 0 | Q18: 0 | R18: 0 | S18: 0 | T18: 0 | U18: 0 | V18: 0 | W18: 0 | X18: 0 | Y18: 0
A19: LS Climatizações Ltda | B19: 15 | C19: 16 | D19: Aparelho de ar condicionado tipo Split Cassete, ciclo FRIO: controle remoto sem fio, capacidade nominal de no mínimo 18.000 btus; tensão 220 Volts. | E19: 449052-34 | F19: CARRIER | G19: Peça | H19: CONFORME MEMORIAL | I19: 20 | J19: 3630.14 | L19: =K19-(SUM(N19:Y19)) -> 0 | M19: =IF(L19<0,"ATENÇÃO","OK") -> OK | N19: 0 | O19: 0 | P19: 0 | Q19: 0 | R19: 0 | S19: 0 | T19: 0 | U19: 0 | V19: 0 | W19: 0 | X19: 0 | Y19: 0
B20: 16 | C20: 17 | D20: Aparelho de ar condicionado tipo Split Cassete, ciclo FRIO: controle remoto sem fio, capacidade nominal de no mínimo 24.000 btus; tensão 220 Volts. | E20: 449052-34 | F20: ELGIN | G20: Peça | H20: CONFORME MEMORIAL | I20: 20 | J20: 3365.75 | L20: =K20-(SUM(N20:Y20)) -> 0 | M20: =IF(L20<0,"ATENÇÃO","OK") -> OK | N20: 0 | O20: 0 | P20: 0 | Q20: 0 | R20: 0 | S20: 0 | T20: 0 | U20: 0 | V20: 0 | W20: 0 | X20: 0 | Y20: 0
B21: 17 | C21: 18 | D21: Aparelho de ar condicionado tipo Split Cassete, ciclo FRIO: controle remoto sem fio, capacidade nominal de no mínimo 36.000 btus; tensão 220 Volts. | E21: 449052-34 | F21: ELGIN | G21: Peça | H21: CONFORME MEMORIAL | I21: 20 | J21: 4330.14 | L21: =K21-(SUM(N21:Y21)) -> 0 | M21: =IF(L21<0,"ATENÇÃO","OK") -> OK | N21: 0 | O21: 0 | P21: 0 | Q21: 0 | R21: 0 | S21: 0 | T21: 0 | U21: 0 | V21: 0 | W21: 0 | X21: 0 | Y21: 0
A22: DSM Distribuidora de Móveis e Suprimentos Eireli EPP | B22: 18 | C22: 19 | D22: Aparelho de ar condicionado tipo Split Cassete, capacidade nominal de no mínimo 60.000 BTU’s ciclo frio, com controle remoto - trifásico 380 V, com pressotato de alta e baixa, rele contra inversão de fase. | E22: 449052-34 | F22: ELGIN | G22: Peça | H22: CONFORME MEMORIAL | I22: 20 | J22: 6508.07 | L22: =K22-(SUM(N22:Y22)) -> 0 | M22: =IF(L22<0,"ATENÇÃO","OK") -> OK | N22: 0 | O22: 0 | P22: 0 | Q22: 0 | R22: 0 | S22: 0 | T22: 0 | U22: 0 | V22: 0 | W22: 0 | X22: 0 | Y22: 0
A23: LS Climatizações Ltda | B23: 19 | C23: 20 | D23: Cortina de Ar. Dimensões aproximadas: (L X A XP): 150 x 23 x 22cm , podendo ter pequena variação de tamanho, dependendo da marca do produto. Monofásico, 220 Volts. Potência (c/v) mínimo de 1/5. Nível máximo de ruído (db): menor que 60db. Modos de operação: ventila. Velocidades (m/s) mínimo de 11. Vazão de ar: mínimo de 1300 m3/h. Temperatura somente ventilação. Recursos função automática. Saída de ar frontal e vertical. Entrada superior de ar. Direcionadores de ar vertical. Recirculação de ar (m3/m) maior que 25. Prazo de garantia de 01 ano. Item incluso: controle remoto. Cor branco. | E23: 449052-34 | F23: MIDEA | G23: Peça | H23: CONFORME MEMORIAL | I23: 20 | J23: 514.28 | L23: =K23-(SUM(N23:Y23)) -> 0 | M23: =IF(L23<0,"ATENÇÃO","OK") -> OK | N23: 0 | O23: 0 | P23: 0 | Q23: 0 | R23: 0 | S23: 0 | T23: 0 | U23: 0 | V23: 0 | W23: 0 | X23: 0 | Y23: 0
A24: Frimac Refrigeração Eireli ME | B24: 20 | C24: 21 | D24: Instalação completa de equipamento de ar-condicionado tipo "split" até 24.000 BTU/h incluindo até 3 metros de distância entre evaporadora e condensadora – Composto de 01 (uma) unidade evaporadora e 01 (uma) unidade condensadora. | E24: 339039-25 | F24: XX | G24: Serviço | H24: CONFORME MEMORIAL | I24: 20 | J24: 525 | L24: =K24-(SUM(N24:Y24)) -> 0 | M24: =IF(L24<0,"ATENÇÃO","OK") -> OK | N24: 0 | O24: 0 | P24: 0 | Q24: 0 | R24: 0 | S24: 0 | T24: 0 | U24: 0 | V24: 0 | W24: 0 | X24: 0 | Y24: 0
C25: 22 | D25: Instalação completa de equipamento de ar-condicionado tipo "split" de 25.000 a 48.000 BTU/h incluindo até 3 metros de distância entre evaporadora e condensadora – Composto de 01 (uma) unidade evaporadora e 01 (uma) unidade condensadora. | E25: 339039-25 | F25: XX | G25: Serviço | H25: CONFORME MEMORIAL | I25: 20 | J25: 608 | K25: 4 | L25: =K25-(SUM(N25:Y25)) -> 3 | M25: =IF(L25<0,"ATENÇÃO","OK") -> OK | N25: 0 | O25: 0 | P25: 1 | Q25: 0 | R25: 0 | S25: 0 | T25: 0 | U25: 0 | V25: 0 | W25: 0 | X25: 0 | Y25: 0
C26: 23 | D26: Instalação completa de equipamento de ar-condicionado tipo "split" acima de 48.000 BTU/h incluindo até 3 metros de distância entre evaporadora e condensadora – Composto de 01 (uma) unidade evaporadora e 01 (uma) unidade condensadora. | E26: 339039-25 | F26: XX | G26: Serviço | H26: CONFORME MEMORIAL | I26: 20 | J26: 650 | K26: 1 | L26: =K26-(SUM(N26:Y26)) -> 1 | M26: =IF(L26<0,"ATENÇÃO","OK") -> OK | N26: 0 | O26: 0 | P26: 0 | Q26: 0 | R26: 0 | S26: 0 | T26: 0 | U26: 0 | V26: 0 | W26: 0 | X26: 0 | Y26: 0
C27: 24 | D27: Metro adicional de linha para instalação de split até 24.000 BTU/h. | E27: 339039-25 | F27: ELUMA | G27: Metro | H27: CONFORME MEMORIAL | I27: 20 | J27: 20 | K27: 30 | L27: =K27-(SUM(N27:Y27)) -> 30 | M27: =IF(L27<0,"ATENÇÃO","OK") -> OK | N27: 0 | O27: 0 | P27: 0 | Q27: 0 | R27: 0 | S27: 0 | T27: 0 | U27: 0 | V27: 0 | W27: 0 | X27: 0 | Y27: 0
C28: 25 | D28: Metro adicional de linha para instalação de split de 25.000 a 48.000 BTU/h. | E28: 339039-25 | F28: ELUMA | G28: Metro | H28: CONFORME MEMORIAL | I28: 20 | J28: 25 | K28: 30 | L28: =K28-(SUM(N28:Y28)) -> 30 | M28: =IF(L28<0,"ATENÇÃO","OK") -> OK | N28: 0 | O28: 0 | P28: 0 | Q28: 0 | R28: 0 | S28: 0 | T28: 0 | U28: 0 | V28: 0 | W28: 0 | X28: 0 | Y28: 0
C29: 26 | D29: Metro adicional de linha para instalação de split acima de 48.000 BTU/h. | E29: 339039-25 | F29: ELUMA | G29: Metro | H29: CONFORME MEMORIAL | I29: 20 | J29: 28.5 | K29: 20 | L29: =K29-(SUM(N29:Y29)) -> 20 | M29: =IF(L29<0,"ATENÇÃO","OK") -> OK | N29: 0 | O29: 0 | P29: 0 | Q29: 0 | R29: 0 | S29: 0 | T29: 0 | U29: 0 | V29: 0 | W29: 0 | X29: 0 | Y29: 0
C30: 27 | D30: Desinstalação de equipamento de ar-condicionado. | E30: 339039-25 | F30: XX | G30: Serviço | H30: CONFORME MEMORIAL | I30: 20 | J30: 197 | K30: 10 | L30: =K30-(SUM(N30:Y30)) -> 10 | M30: =IF(L30<0,"ATENÇÃO","OK") -> OK | N30: 0 | O30: 0 | P30: 0 | Q30: 0 | R30: 0 | S30: 0 | T30: 0 | U30: 0 | V30: 0 | W30: 0 | X30: 0 | Y30: 0
C31: 28 | D31: Reposição de equipamento de ar condicionado. | E31: 339039-25 | F31: XX | G31: Serviço | H31: CONFORME MEMORIAL | I31: 20 | J31: 250 | L31: =K31-(SUM(N31:Y31)) -> 0 | M31: =IF(L31<0,"ATENÇÃO","OK") -> OK | N31: 0 | O31: 0 | P31: 0 | Q31: 0 | R31: 0 | S31: 0 | T31: 0 | U31: 0 | V31: 0 | W31: 0 | X31: 0 | Y31: 0
C32: 29 | D32: Instalação de Cortina de Ar. | E32: 339039-25 | F32: XX | G32: Serviço | H32: CONFORME MEMORIAL | I32: 20 | J32: 202 | L32: =K32-(SUM(N32:Y32)) -> 0 | M32: =IF(L32<0,"ATENÇÃO","OK") -> OK | N32: 0 | O32: 0 | P32: 0 | Q32: 0 | R32: 0 | S32: 0 | T32: 0 | U32: 0 | V32: 0 | W32: 0 | X32: 0 | Y32: 0
A33: Frimac Refrigeração Eireli ME | B33: 21 | C33: 30 | D33: Instalação completa de equipamento de ar-condicionado tipo "split" até 24.000 BTU/h incluindo até 3 metros de distância entre evaporadora e condensadora – Composto de 01 (uma) unidade evaporadora e 01 (uma) unidade condensadora. | E33: 339039-25 | F33: XX | G33: Serviço | H33: CONFORME MEMORIAL | I33: 20 | J33: 523 | L33: =K33-(SUM(N33:Y33)) -> 0 | M33: =IF(L33<0,"ATENÇÃO","OK") -> OK | N33: 0 | O33: 0 | P33: 0 | Q33: 0 | R33: 0 | S33: 0 | T33: 0 | U33: 0 | V33: 0 | W33: 0 | X33: 0 | Y33: 0
C34: 31 | D34: Instalação completa de equipamento de ar-condicionado tipo "split" acima de 48.000 BTU/h incluindo até 3 metros de distância entre evaporadora e condensadora – Composto de 01 (uma) unidade evaporadora e 01 (uma) unidade condensadora. | E34: 339039-25 | F34: XX | G34: Serviço | H34: CONFORME MEMORIAL | I34: 20 | J34: 655 | L34: =K34-(SUM(N34:Y34)) -> 0 | M34: =IF(L34<0,"ATENÇÃO","OK") -> OK | N34: 0 | O34: 0 | P34: 0 | Q34: 0 | R34: 0 | S34: 0 | T34: 0 | U34: 0 | V34: 0 | W34: 0 | X34: 0 | Y34: 0
C35: 32 | D35: Metro adicional de linha para instalação de split até 24.000 BTU/h. | E35: 339039-25 | F35: ELUMA | G35: Metro | H35: CONFORME MEMORIAL | I35: 20 | J35: 20 | L35: =K35-(SUM(N35:Y35)) -> 0 | M35: =IF(L35<0,"ATENÇÃO","OK") -> OK | N35: 0 | O35: 0 | P35: 0 | Q35: 0 | R35: 0 | S35: 0 | T35: 0 | U35: 0 | V35: 0 | W35: 0 | X35: 0 | Y35: 0
C36: 33 | D36: Metro adicional de linha para instalação de split acima de 48.000 BTU/h. | E36: 339039-25 | F36: ELUMA | G36: Metro | H36: CONFORME MEMORIAL | I36: 20 | J36: 28.5 | L36: =K36-(SUM(N36:Y36)) -> 0 | M36: =IF(L36<0,"ATENÇÃO","OK") -> OK | N36: 0 | O36: 0 | P36: 0 | Q36: 0 | R36: 0 | S36: 0 | T36: 0 | U36: 0 | V36: 0 | W36: 0 | X36: 0 | Y36: 0
C37: 34 | D37: Desinstalação de equipamento de ar-condicionado. | E37: 339039-25 | F37: XX | G37: Serviço | H37: CONFORME MEMORIAL | I37: 20 | J37: 197 | L37: =K37-(SUM(N37:Y37)) -> 0 | M37: =IF(L37<0,"ATENÇÃO","OK") -> OK | N37: 0 | O37: 0 | P37: 0 | Q37: 0 | R37: 0 | S37: 0 | T37: 0 | U37: 0 | V37: 0 | W37: 0 | X37: 0 | Y37: 0
C38: 35 | D38: Reposição de equipamento de ar condicionado. | E38: 339039-25 | F38: XX | G38: Serviço | H38: CONFORME MEMORIAL | I38: 20 | J38: 250 | L38: =K38-(SUM(N38:Y38)) -> 0 | M38: =IF(L38<0,"ATENÇÃO","OK") -> OK | N38: 0 | O38: 0 | P38: 0 | Q38: 0 | R38: 0 | S38: 0 | T38: 0 | U38: 0 | V38: 0 | W38: 0 | X38: 0 | Y38: 0
C39: 36 | D39: Instalação de Cortina de Ar. | E39: 339039-25 | F39: XX | G39: Serviço | H39: CONFORME MEMORIAL | I39: 20 | J39: 202 | L39: =K39-(SUM(N39:Y39)) -> 0 | M39: =IF(L39<0,"ATENÇÃO","OK") -> OK | N39: 0 | O39: 0 | P39: 0 | Q39: 0 | R39: 0 | S39: 0 | T39: 0 | U39: 0 | V39: 0 | W39: 0 | X39: 0 | Y39: 0
A40: Akon Ltda ME | B40: 22 | C40: 37 | D40: Instalação completa de equipamento de ar-condicionado tipo "split" até 24.000 BTU/h incluindo até 3 metros de distância entre evaporadora e condensadora – Composto de 01 (uma) unidade evaporadora e 01 (uma) unidade condensadora. | E40: 339039-25 | F40: AKON | G40: Serviço | H40: CONFORME MEMORIAL | I40: 20 | J40: 460 | L40: =K40-(SUM(N40:Y40)) -> 0 | M40: =IF(L40<0,"ATENÇÃO","OK") -> OK | N40: 0 | O40: 0 | P40: 0 | Q40: 0 | R40: 0 | S40: 0 | T40: 0 | U40: 0 | V40: 0 | W40: 0 | X40: 0 | Y40: 0
C41: 38 | D41: Instalação completa de equipamento de ar-condicionado tipo "split" de 25.000 a 48.000 BTU/h incluindo até 3 metros de distância entre evaporadora e condensadora – Composto de 01 (uma) unidade evaporadora e 01 (uma) unidade condensadora. | E41: 339039-25 | F41: AKON | G41: Serviço | H41: CONFORME MEMORIAL | I41: 20 | J41: 550 | L41: =K41-(SUM(N41:Y41)) -> 0 | M41: =IF(L41<0,"ATENÇÃO","OK") -> OK | N41: 0 | O41: 0 | P41: 0 | Q41: 0 | R41: 0 | S41: 0 | T41: 0 | U41: 0 | V41: 0 | W41: 0 | X41: 0 | Y41: 0
C42: 39 | D42: Metro adicional de linha para instalação de split até 24.000 BTU/h. | E42: 339039-25 | F42: AKON | G42: Metro | H42: CONFORME MEMORIAL | I42: 20 | J42: 40 | L42: =K42-(SUM(N42:Y42)) -> 0 | M42: =IF(L42<0,"ATENÇÃO","OK") -> OK | N42: 0 | O42: 0 | P42: 0 | Q42: 0 | R42: 0 | S42: 0 | T42: 0 | U42: 0 | V42: 0 | W42: 0 | X42: 0 | Y42: 0
A43: W & Z Comércio e Serviços Hospitalares Ltda | B43: 23 | C43: 40 | D43: Instalação completa de equipamento de ar-condicionado tipo "split" até 24.000 BTU/h incluindo até 3 metros de distância entre evaporadora e condensadora – Composto de 01 (uma) unidade evaporadora e 01 (uma) unidade condensadora. | E43: 339039-25 | F43: W&Z | G43: Serviço | H43: CONFORME MEMORIAL | I43: 20 | J43: 490 | L43: =K43-(SUM(N43:Y43)) -> 0 | M43: =IF(L43<0,"ATENÇÃO","OK") -> OK | N43: 0 | O43: 0 | P43: 0 | Q43: 0 | R43: 0 | S43: 0 | T43: 0 | U43: 0 | V43: 0 | W43: 0 | X43: 0 | Y43: 0
C44: 41 | D44: Instalação completa de equipamento de ar-condicionado tipo "split" de 25.000 a 48.000 BTU/h incluindo até 3 metros de distância entre evaporadora e condensadora – Composto de 01 (uma) unidade evaporadora e 01 (uma) unidade condensadora. | E44: 339039-25 | F44: W&Z | G44: Serviço | H44: CONFORME MEMORIAL | I44: 20 | J44: 570 | L44: =K44-(SUM(N44:Y44)) -> 0 | M44: =IF(L44<0,"ATENÇÃO","OK") -> OK | N44: 0 | O44: 0 | P44: 0 | Q44: 0 | R44: 0 | S44: 0 | T44: 0 | U44: 0 | V44: 0 | W44: 0 | X44: 0 | Y44: 0
C45: 42 | D45: Instalação completa de equipamento de ar-condicionado tipo "split" acima de 48.000 BTU/h incluindo até 3 metros de distância entre evaporadora e condensadora – Composto de 01 (uma) unidade evaporadora e 01 (uma) unidade condensadora. | E45: 339039-25 | F45: W&Z | G45: Serviço | H45: CONFORME MEMORIAL | I45: 20 | J45: 600.01 | L45: =K45-(SUM(N45:Y45)) -> 0 | M45: =IF(L45<0,"ATENÇÃO","OK") -> OK | N45: 0 | O45: 0 | P45: 0 | Q45: 0 | R45: 0 | S45: 0 | T45: 0 | U45: 0 | V45: 0 | W45: 0 | X45: 0 | Y45: 0
C46: 43 | D46: Metro adicional de linha para instalação de split até 24.000 BTU/h. | E46: 339039-25 | F46: W&Z | G46: Metro | H46: CONFORME MEMORIAL | I46: 20 | J46: 44.49 | L46: =K46-(SUM(N46:Y46)) -> 0 | M46: =IF(L46<0,"ATENÇÃO","OK") -> OK | N46: 0 | O46: 0 | P46: 0 | Q46: 0 | R46: 0 | S46: 0 | T46: 0 | U46: 0 | V46: 0 | W46: 0 | X46: 0 | Y46: 0
C47: 44 | D47: Metro adicional de linha para instalação de split de 25.000 a 48.000 BTU/h. | E47: 339039-25 | F47: W&Z | G47: Metro | H47: CONFORME MEMORIAL | I47: 20 | J47: 53.05 | L47: =K47-(SUM(N47:Y47)) -> 0 | M47: =IF(L47<0,"ATENÇÃO","OK") -> OK | N47: 0 | O47: 0 | P47: 0 | Q47: 0 | R47: 0 | S47: 0 | T47: 0 | U47: 0 | V47: 0 | W47: 0 | X47: 0 | Y47: 0
C48: 45 | D48: Metro adicional de linha para instalação de split acima de 48.000 BTU/h. | E48: 339039-25 | F48: W&Z | G48: Metro | H48: CONFORME MEMORIAL | I48: 20 | J48: 57.55 | L48: =K48-(SUM(N48:Y48)) -> 0 | M48: =IF(L48<0,"ATENÇÃO","OK") -> OK | N48: 0 | O48: 0 | P48: 0 | Q48: 0 | R48: 0 | S48: 0 | T48: 0 | U48: 0 | V48: 0 | W48: 0 | X48: 0 | Y48: 0
C49: 46 | D49: Desinstalação de equipamento de ar-condicionado. | E49: 339039-25 | F49: W&Z | G49: Serviço | H49: CONFORME MEMORIAL | I49: 20 | J49: 197.06 | L49: =K49-(SUM(N49:Y49)) -> 0 | M49: =IF(L49<0,"ATENÇÃO","OK") -> OK | N49: 0 | O49: 0 | P49: 0 | Q49: 0 | R49: 0 | S49: 0 | T49: 0 | U49: 0 | V49: 0 | W49: 0 | X49: 0 | Y49: 0
C50: 47 | D50: Reposição de equipamento de ar condicionado. | E50: 339039-25 | F50: W&Z | G50: Serviço | H50: CONFORME MEMORIAL | I50: 20 | J50: 250 | L50: =K50-(SUM(N50:Y50)) -> 0 | M50: =IF(L50<0,"ATENÇÃO","OK") -> OK | N50: 0 | O50: 0 | P50: 0 | Q50: 0 | R50: 0 | S50: 0 | T50: 0 | U50: 0 | V50: 0 | W50: 0 | X50: 0 | Y50: 0

Sheet CEAD
A1: PROCESSO: 859/2014 | D1: OBJETO: Aquisição e instalação de aparelhos de ar condicionado | J1: VIGÊNCIA DA ATA: 27/08/2014 até 26/08/2014 | N1: AF/OS nº 1378/2014 Qtde. DT | O1: AF/OS nº xxxx/2014 Qtde. DT | P1: AF/OS nº xxxx/2014 Qtde. DT | Q1: AF/OS nº xxxx/2014 Qtde. DT | R1: AF/OS nº xxxx/2014 Qtde. DT | S1: AF/OS nº xxxx/2014 Qtde. DT | T1: AF/OS nº xxxx/2014 Qtde. DT | U1: AF/OS nº xxxx/2014 Qtde. DT | V1: AF/OS nº xxxx/2014 Qtde. DT | W1: AF/OS nº xxxx/2014 Qtde. DT | X1: AF/OS nº xxxx/2014 Qtde. DT | Y1: AF/OS nº xxxx/2014 Qtde. DT
A2: CENTRO PARTICIPANTE: CEAD
A3: FORNECEDOR | B3: LOTE | C3: ITEM | D3: PRODUTO - CARACTERÍSTICAS MÍNIMAS | E3: DETALHAMENTO | F3: MARCA/MODELO | G3: UNIDADE | H3: Entrega (Dias) | I3: Pagto. (Dias) | J3: Preço UNITÁRIO (R$) | K3: Qtde LICITADA | L3: Saldo / Automático | M3: ALERTA | N3: 41912 | O3: ...../...../...... | P3: ...../...../...... | Q3: ...../...../...... | R3: ...../...../...... | S3: ...../...../...... | T3: ...../...../...... | U3: ...../...../...... | V3: ...../...../...... | W3: ...../...../...... | X3: ...../...../...... | Y3: ...../...../......
A4: DSM Distribuidora de Móveis e Suprimentos Eireli EPP | B4: 1 | C4: 1 | D4: Aparelho de ar condicionado tipo Split High Wall (para parede), capacidade frigorífica nominal de 9.000 btu’s, 220 V, somente frio, com controle remoto (individual) sem fio e filtro de ar lavável. Selo PROCEL “A” . | E4: 449052-34 | F4: ELGIN | G4: Peça | H4: CONFORME MEMORIAL | I4: 20 | J4: 1137.77 | L4: =K4-(SUM(N4:Y4)) -> 0 | M4: =IF(L4<0,"ATENÇÃO","OK") -> OK | N4: 0 | O4: 0 | P4: 0 | Q4: 0 | R4: 0 | S4: 0 | T4: 0 | U4: 0 | V4: 0 | W4: 0 | X4: 0 | Y4: 0
A5: LS Climatizações Ltda | B5: 2 | C5: 2 | D5: Aparelho de ar condicionado tipo Split High Wall (para parede), ciclo somente frio, 220 V, capacidade frigorífica nominal de 12.000 btu’s somente frio, com controle remoto (individual) sem fio e filtro de ar lavável. Selo PROCEL “A”. | E5: 449052-34 | F5: KOMECO | G5: Peça | H5: CONFORME MEMORIAL | I5: 20 | J5: 1197.26 | L5: =K5-(SUM(N5:Y5)) -> 0 | M5: =IF(L5<0,"ATENÇÃO","OK") -> OK | N5: 0 | O5: 0 | P5: 0 | Q5: 0 | R5: 0 | S5: 0 | T5: 0 | U5: 0 | V5: 0 | W5: 0 | X5: 0 | Y5: 0
B6: 3 | C6: 3 | D6: Aparelho de ar condicionado tipo Split High Wall, (para parede), ciclo somente frio, capacidade frigorífica nominal de 18.000 btu’s, 220 V, com controle remoto (individual) sem fio e filtro de ar lavável. | E6: 449052-34 | F6: ELGIN | G6: Peça | H6: CONFORME MEMORIAL | I6: 20 | J6: 1590.41 | K6: 4 | L6: =K6-(SUM(N6:Y6)) -> 0 | M6: =IF(L6<0,"ATENÇÃO","OK") -> OK | N6: 4 | O6: 0 | P6: 0 | Q6: 0 | R6: 0 | S6: 0 | T6: 0 | U6: 0 | V6: 0 | W6: 0 | X6: 0 | Y6: 0
B7: 4 | C7: 4 | D7: Aparelho de ar condicionado tipo Split High Wall (para parede), ciclo quente e frio: controle remoto sem fio, capacidade nominal de no mínimo 9.000 btus; capacidade de desumidificar o ambiente e filtro de ar lavável, tensão 220 Volts, frequência 60 Hz. Selo PROCEL “A”. | E7: 449052-34 | F7: KOMECO | G7: Peça | H7: CONFORME MEMORIAL | I7: 20 | J7: 1198.63 | L7: =K7-(SUM(N7:Y7)) -> 0 | M7: =IF(L7<0,"ATENÇÃO","OK") -> OK | N7: 0 | O7: 0 | P7: 0 | Q7: 0 | R7: 0 | S7: 0 | T7: 0 | U7: 0 | V7: 0 | W7: 0 | X7: 0 | Y7: 0
B8: 5 | C8: 5 | D8: Aparelho de ar condicionado tipo Split High Wall (para parede), ciclo quente e frio, capacidade frigorífica nominal de 12.000 btu’s, 220 V,com controle remoto (individual) sem fio e filtro de ar lavável. Selo PROCEL “A”. | E8: 449052-34 | F8: KOMECO | G8: Peça | H8: CONFORME MEMORIAL | I8: 20 | J8: 1269.86 | L8: =K8-(SUM(N8:Y8)) -> 0 | M8: =IF(L8<0,"ATENÇÃO","OK") -> OK | N8: 0 | O8: 0 | P8: 0 | Q8: 0 | R8: 0 | S8: 0 | T8: 0 | U8: 0 | V8: 0 | W8: 0 | X8: 0 | Y8: 0
B9: 6 | C9: 6 | D9: Aparelho de ar condicionado tipo Split High Wall (para parede), ciclo quente e frio, capacidade frigorífica nominal de 18.000 btu’s, 220 V,com controle remoto (individual) sem fio e filtro de ar lavável. | E9: 449052-34 | F9: ELGIN | G9: Peça | H9: CONFORME MEMORIAL | I9: 20 | J9: 1713.7 | L9: =K9-(SUM(N9:Y9)) -> 0 | M9: =IF(L9<0,"ATENÇÃO","OK") -> OK | N9: 0 | O9: 0 | P9: 0 | Q9: 0 | R9: 0 | S9: 0 | T9: 0 | U9: 0 | V9: 0 | W9: 0 | X9: 0 | Y9: 0
B10: 7 | C10: 7 | D10: Aparelho de ar condicionado tipo Split High Wall (para parede), ciclo quente e frio, capacidade frigorífica nominal de 24.000 btu’s, 220 V, com controle remoto (individual) sem fio e filtro de ar lavável. | E10: 449052-34 | F10: KOMECO | G10: Peça | H10: CONFORME MEMORIAL | I10: 20 | J10: 2241.1 | L10: =K10-(SUM(N10:Y10)) -> 0 | M10: =IF(L10<0,"ATENÇÃO","OK") -> OK | N10: 0 | O10: 0 | P10: 0 | Q10: 0 | R10: 0 | S10: 0 | T10: 0 | U10: 0 | V10: 0 | W10: 0 | X10: 0 | Y10: 0
B11: 8 | C11: 8 | D11: Aparelho de ar condicionado tipo Split High Wall (para parede), ciclo quente e frio, capacidade frigorífica nominal de 30.000 btu’s, 220 V, com controle remoto (individual) sem fio e filtro de ar lavável. | E11: 449052-34 | F11: ELGIN | G11: Peça | H11: CONFORME MEMORIAL | I11: 20 | J11: 3107.86 | L11: =K11-(SUM(N11:Y11)) -> 0 | M11: =IF(L11<0,"ATENÇÃO","OK") -> OK | N11: 0 | O11: 0 | P11: 0 | Q11: 0 | R11: 0 | S11: 0 | T11: 0 | U11: 0 | V11: 0 | W11: 0 | X11: 0 | Y11: 0
B12: 9 | C12: 9 | D12: Aparelho de ar condicionado tipo Split Piso Teto, capacidade frigorífica nominal 24.000 BTU’s, ciclo somente frio, 220 V, com controle remoto (individual), sem fio e filtro de ar lavável. | E12: 449052-34 | F12: CARRIER | G12: Peça | H12: CONFORME MEMORIAL | I12: 20 | J12: 3472.6 | L12: =K12-(SUM(N12:Y12)) -> 0 | M12: =IF(L12<0,"ATENÇÃO","OK") -> OK | N12: 0 | O12: 0 | P12: 0 | Q12: 0 | R12: 0 | S12: 0 | T12: 0 | U12: 0 | V12: 0 | W12: 0 | X12: 0 | Y12: 0
A13: DSM Distribuidora de Móveis e Suprimentos Eireli EPP | B13: 10 | C13: 10 | D13: Aparelho de ar condicionado tipo Split Piso Teto, ciclo somente frio, capacidade frigorífica nominal de 30.000 btu’s somente frio, 220 V, com controle remoto (individual) sem fio e filtro de ar lavável. | E13: 449052-34 | F13: ELGIN | G13: Peça | H13: CONFORME MEMORIAL | I13: 20 | J13: 3570 | L13: =K13-(SUM(N13:Y13)) -> 0 | M13: =IF(L13<0,"ATENÇÃO","OK") -> OK | N13: 0 | O13: 0 | P13: 0 | Q13: 0 | R13: 0 | S13: 0 | T13: 0 | U13: 0 | V13: 0 | W13: 0 | X13: 0 | Y13: 0
B14: 11 | C14: 11 | D14: Condicionador de Ar tipo Split Piso Teto – de 36.000 BTU’s ciclo somente frio, com controle remoto (individual) sem fio. | E14: 449052-34 | F14: CARRIER | G14: Peça | H14: CONFORME MEMORIAL | I14: 20 | J14: 4093.33 | L14: =K14-(SUM(N14:Y14)) -> 0 | M14: =IF(L14<0,"ATENÇÃO","OK") -> OK | N14: 0 | O14: 0 | P14: 0 | Q14: 0 | R14: 0 | S14: 0 | T14: 0 | U14: 0 | V14: 0 | W14: 0 | X14: 0 | Y14: 0
C15: 12 | D15: Condicionador de Ar tipo Split Piso Teto – de 48.000 BTU’s ciclo somente frio, com controle remoto (individual) sem fio e filtro de ar lavável. | E15: 449052-34 | F15: ELGIN | G15: Peça | H15: CONFORME MEMORIAL | I15: 20 | J15: 4500 | L15: =K15-(SUM(N15:Y15)) -> 0 | M15: =IF(L15<0,"ATENÇÃO","OK") -> OK | N15: 0 | O15: 0 | P15: 0 | Q15: 0 | R15: 0 | S15: 0 | T15: 0 | U15: 0 | V15: 0 | W15: 0 | X15: 0 | Y15: 0
A16: Tecnoponto Ltda EPP | B16: 12 | C16: 13 | D16: Condicionador de Ar ti Split Piso Teto, ciclo somente frio, 60.000 BTU´s, com controle remoto (individual sem fio). Trifásico 380V, com pressotato de alta e baixa, rele contra inversão de fase. Selo PROCEL até "E". | E16: 449052-34 | F16: KOMECO | G16: Peça | H16: CONFORME MEMORIAL | I16: 20 | J16: 5058.82 | L16: =K16-(SUM(N16:Y16)) -> 0 | M16: =IF(L16<0,"ATENÇÃO","OK") -> OK | N16: 0 | O16: 0 | P16: 0 | Q16: 0 | R16: 0 | S16: 0 | T16: 0 | U16: 0 | V16: 0 | W16: 0 | X16: 0 | Y16: 0
B17: 13 | C17: 14 | D17: Condicionado de Ar tipo Split Piso Teto/Parede, capacidade frigorífica nominal de 36.000 btu’s, ciclos quente e frio, 220 V, com controle remoto sem fio e filtro de ar lavável. | E17: 449052-34 | F17: KOMECO | G17: Peça | H17: CONFORME MEMORIAL | I17: 20 | J17: 4524.9 | L17: =K17-(SUM(N17:Y17)) -> 0 | M17: =IF(L17<0,"ATENÇÃO","OK") -> OK | N17: 0 | O17: 0 | P17: 0 | Q17: 0 | R17: 0 | S17: 0 | T17: 0 | U17: 0 | V17: 0 | W17: 0 | X17: 0 | Y17: 0
B18: 14 | C18: 15 | D18: Condicionador de Ar tipo Split Piso Teto/Parede – de 60.000 BTU’s ciclos quente e frio, com controle remoto - trifásico 380 V, com pressotato de alta e baixa, rele contra inversão de fase. Selo PROCEL até "E". | E18: 449052-34 | F18: KOMECO | G18: Peça | H18: CONFORME MEMORIAL | I18: 20 | J18: 5530 | L18: =K18-(SUM(N18:Y18)) -> 0 | M18: =IF(L18<0,"ATENÇÃO","OK") -> OK | N18: 0 | O18: 0 | P18: 0 | Q18: 0 | R18: 0 | S18: 0 | T18: 0 | U18: 0 | V18: 0 | W18: 0 | X18: 0 | Y18: 0
A19: LS Climatizações Ltda | B19: 15 | C19: 16 | D19: Aparelho de ar condicionado tipo Split Cassete, ciclo FRIO: controle remoto sem fio, capacidade nominal de no mínimo 18.000 btus; tensão 220 Volts. | E19: 449052-34 | F19: CARRIER | G19: Peça | H19: CONFORME MEMORIAL | I19: 20 | J19: 3630.14 | L19: =K19-(SUM(N19:Y19)) -> 0 | M19: =IF(L19<0,"ATENÇÃO","OK") -> OK | N19: 0 | O19: 0 | P19: 0 | Q19: 0 | R19: 0 | S19: 0 | T19: 0 | U19: 0 | V19: 0 | W19: 0 | X19: 0 | Y19: 0
B20: 16 | C20: 17 | D20: Aparelho de ar condicionado tipo Split Cassete, ciclo FRIO: controle remoto sem fio, capacidade nominal de no mínimo 24.000 btus; tensão 220 Volts. | E20: 449052-34 | F20: ELGIN | G20: Peça | H20: CONFORME MEMORIAL | I20: 20 | J20: 3365.75 | L20: =K20-(SUM(N20:Y20)) -> 0 | M20: =IF(L20<0,"ATENÇÃO","OK") -> OK | N20: 0 | O20: 0 | P20: 0 | Q20: 0 | R20: 0 | S20: 0 | T20: 0 | U20: 0 | V20: 0 | W20: 0 | X20: 0 | Y20: 0
B21: 17 | C21: 18 | D21: Aparelho de ar condicionado tipo Split Cassete, ciclo FRIO: controle remoto sem fio, capacidade nominal de no mínimo 36.000 btus; tensão 220 Volts. | E21: 449052-34 | F21: ELGIN | G21: Peça | H21: CONFORME MEMORIAL | I21: 20 | J21: 4330.14 | L21: =K21-(SUM(N21:Y21)) -> 0 | M21: =IF(L21<0,"ATENÇÃO","OK") -> OK | N21: 0 | O21: 0 | P21: 0 | Q21: 0 | R21: 0 | S21: 0 | T21: 0 | U21: 0 | V21: 0 | W21: 0 | X21: 0 | Y21: 0
A22: DSM Distribuidora de Móveis e Suprimentos Eireli EPP | B22: 18 | C22: 19 | D22: Aparelho de ar condicionado tipo Split Cassete, capacidade nominal de no mínimo 60.000 BTU’s ciclo frio, com controle remoto - trifásico 380 V, com pressotato de alta e baixa, rele contra inversão de fase. | E22: 449052-34 | F22: ELGIN | G22: Peça | H22: CONFORME MEMORIAL | I22: 20 | J22: 6508.07 | L22: =K22-(SUM(N22:Y22)) -> 0 | M22: =IF(L22<0,"ATENÇÃO","OK") -> OK | N22: 0 | O22: 0 | P22: 0 | Q22: 0 | R22: 0 | S22: 0 | T22: 0 | U22: 0 | V22: 0 | W22: 0 | X22: 0 | Y22: 0
A23: LS Climatizações Ltda | B23: 19 | C23: 20 | D23: Cortina de Ar. Dimensões aproximadas: (L X A XP): 150 x 23 x 22cm , podendo ter pequena variação de tamanho, dependendo da marca do produto. Monofásico, 220 Volts. Potência (c/v) mínimo de 1/5. Nível máximo de ruído (db): menor que 60db. Modos de operação: ventila. Velocidades (m/s) mínimo de 11. Vazão de ar: mínimo de 1300 m3/h. Temperatura somente ventilação. Recursos função automática. Saída de ar frontal e vertical. Entrada superior de ar. Direcionadores de ar vertical. Recirculação de ar (m3/m) maior que 25. Prazo de garantia de 01 ano. Item incluso: controle remoto. Cor branco. | E23: 449052-34 | F23: MIDEA | G23: Peça | H23: CONFORME MEMORIAL | I23: 20 | J23: 514.28 | L23: =K23-(SUM(N23:Y23)) -> 0 | M23: =IF(L23<0,"ATENÇÃO","OK") -> OK | N23: 0 | O23: 0 | P23: 0 | Q23: 0 | R23: 0 | S23: 0 | T23: 0 | U23: 0 | V23: 0 | W23: 0 | X23: 0 | Y23: 0
A24: Frimac Refrigeração Eireli ME | B24: 20 | C24: 21 | D24: Instalação completa de equipamento de ar-condicionado tipo "split" até 24.000 BTU/h incluindo até 3 metros de distância entre evaporadora e condensadora – Composto de 01 (uma) unidade evaporadora e 01 (uma) unidade condensadora. | E24: 339039-25 | F24: XX | G24: Serviço | H24: CONFORME MEMORIAL | I24: 20 | J24: 525 | K24: 4 | L24: =K24-(SUM(N24:Y24)) -> 4 | M24: =IF(L24<0,"ATENÇÃO","OK") -> OK | N24: 0 | O24: 0 | P24: 0 | Q24: 0 | R24: 0 | S24: 0 | T24: 0 | U24: 0 | V24: 0 | W24: 0 | X24: 0 | Y24: 0
C25: 22 | D25: Instalação completa de equipamento de ar-condicionado tipo "split" de 25.000 a 48.000 BTU/h incluindo até 3 metros de distância entre evaporadora e condensadora – Composto de 01 (uma) unidade evaporadora e 01 (uma) unidade condensadora. | E25: 339039-25 | F25: XX | G25: Serviço | H25: CONFORME MEMORIAL | I25: 20 | J25: 608 | L25: =K25-(SUM(N25:Y25)) -> 0 | M25: =IF(L25<0,"ATENÇÃO","OK") -> OK | N25: 0 | O25: 0 | P25: 0 | Q25: 0 | R25: 0 | S25: 0 | T25: 0 | U25: 0 | V25: 0 | W25: 0 | X25: 0 | Y25: 0
C26: 23 | D26: Instalação completa de equipamento de ar-condicionado tipo "split" acima de 48.000 BTU/h incluindo até 3 metros de distância entre evaporadora e condensadora – Composto de 01 (uma) unidade evaporadora e 01 (uma) unidade condensadora. | E26: 339039-25 | F26: XX | G26: Serviço | H26: CONFORME MEMORIAL | I26: 20 | J26: 650 | L26: =K26-(SUM(N26:Y26)) -> 0 | M26: =IF(L26<0,"ATENÇÃO","OK") -> OK | N26: 0 | O26: 0 | P26: 0 | Q26: 0 | R26: 0 | S26: 0 | T26: 0 | U26: 0 | V26: 0 | W26: 0 | X26: 0 | Y26: 0
C27: 24 | D27: Metro adicional de linha para instalação de split até 24.000 BTU/h. | E27: 339039-25 | F27: ELUMA | G27: Metro | H27: CONFORME MEMORIAL | I27: 20 | J27: 20 | L27: =K27-(SUM(N27:Y27)) -> 0 | M27: =IF(L27<0,"ATENÇÃO","OK") -> OK | N27: 0 | O27: 0 | P27: 0 | Q27: 0 | R27: 0 | S27: 0 | T27: 0 | U27: 0 | V27: 0 | W27: 0 | X27: 0 | Y27: 0
C28: 25 | D28: Metro adicional de linha para instalação de split de 25.000 a 48.000 BTU/h. | E28: 339039-25 | F28: ELUMA | G28: Metro | H28: CONFORME MEMORIAL | I28: 20 | J28: 25 | L28: =K28-(SUM(N28:Y28)) -> 0 | M28: =IF(L28<0,"ATENÇÃO","OK") -> OK | N28: 0 | O28: 0 | P28: 0 | Q28: 0 | R28: 0 | S28: 0 | T28: 0 | U28: 0 | V28: 0 | W28: 0 | X28: 0 | Y28: 0
C29: 26 | D29: Metro adicional de linha para instalação de split acima de 48.000 BTU/h. | E29: 339039-25 | F29: ELUMA | G29: Metro | H29: CONFORME MEMORIAL | I29: 20 | J29: 28.5 | L29: =K29-(SUM(N29:Y29)) -> 0 | M29: =IF(L29<0,"ATENÇÃO","OK") -> OK | N29: 0 | O29: 0 | P29: 0 | Q29: 0 | R29: 0 | S29: 0 | T29: 0 | U29: 0 | V29: 0 | W29: 0 | X29: 0 | Y29: 0
C30: 27 | D30: Desinstalação de equipamento de ar-condicionado. | E30: 339039-25 | F30: XX | G30: Serviço | H30: CONFORME MEMORIAL | I30: 20 | J30: 197 | K30: 1 | L30: =K30-(SUM(N30:Y30)) -> 1 | M30: =IF(L30<0,"ATENÇÃO","OK") -> OK | N30: 0 | O30: 0 | P30: 0 | Q30: 0 | R30: 0 | S30: 0 | T30: 0 | U30: 0 | V30: 0 | W30: 0 | X30: 0 | Y30: 0
C31: 28 | D31: Reposição de equipamento de ar condicionado. | E31: 339039-25 | F31: XX | G31: Serviço | H31: CONFORME MEMORIAL | I31: 20 | J31: 250 | K31: 1 | L31: =K31-(SUM(N31:Y31)) -> 1 | M31: =IF(L31<0,"ATENÇÃO","OK") -> OK | N31: 0 | O31: 0 | P31: 0 | Q31: 0 | R31: 0 | S31: 0 | T31: 0 | U31: 0 | V31: 0 | W31: 0 | X31: 0 | Y31: 0
C32: 29 | D32: Instalação de Cortina de Ar. | E32: 339039-25 | F32: XX | G32: Serviço | H32: CONFORME MEMORIAL | I32: 20 | J32: 202 | L32: =K32-(SUM(N32:Y32)) -> 0 | M32: =IF(L32<0,"ATENÇÃO","OK") -> OK | N32: 0 | O32: 0 | P32: 0 | Q32: 0 | R32: 0 | S32: 0 | T32: 0 | U32: 0 | V32: 0 | W32: 0 | X32: 0 | Y32: 0
A33: Frimac Refrigeração Eireli ME | B33: 21 | C33: 30 | D33: Instalação completa de equipamento de ar-condicionado tipo "split" até 24.000 BTU/h incluindo até 3 metros de distância entre evaporadora e condensadora – Composto de 01 (uma) unidade evaporadora e 01 (uma) unidade condensadora. | E33: 339039-25 | F33: XX | G33: Serviço | H33: CONFORME MEMORIAL | I33: 20 | J33: 523 | L33: =K33-(SUM(N33:Y33)) -> 0 | M33: =IF(L33<0,"ATENÇÃO","OK") -> OK | N33: 0 | O33: 0 | P33: 0 | Q33: 0 | R33: 0 | S33: 0 | T33: 0 | U33: 0 | V33: 0 | W33: 0 | X33: 0 | Y33: 0
C34: 31 | D34: Instalação completa de equipamento de ar-condicionado tipo "split" acima de 48.000 BTU/h incluindo até 3 metros de distância entre evaporadora e condensadora – Composto de 01 (uma) unidade evaporadora e 01 (uma) unidade condensadora. | E34: 339039-25 | F34: XX | G34: Serviço | H34: CONFORME MEMORIAL | I34: 20 | J34: 655 | L34: =K34-(SUM(N34:Y34)) -> 0 | M34: =IF(L34<0,"ATENÇÃO","OK") -> OK | N34: 0 | O34: 0 | P34: 0 | Q34: 0 | R34: 0 | S34: 0 | T34: 0 | U34: 0 | V34: 0 | W34: 0 | X34: 0 | Y34: 0
C35: 32 | D35: Metro adicional de linha para instalação de split até 24.000 BTU/h. | E35: 339039-25 | F35: ELUMA | G35: Metro | H35: CONFORME MEMORIAL | I35: 20 | J35: 20 | L35: =K35-(SUM(N35:Y35)) -> 0 | M35: =IF(L35<0,"ATENÇÃO","OK") -> OK | N35: 0 | O35: 0 | P35: 0 | Q35: 0 | R35: 0 | S35: 0 | T35: 0 | U35: 0 | V35: 0 | W35: 0 | X35: 0 | Y35: 0
C36: 33 | D36: Metro adicional de linha para instalação de split acima de 48.000 BTU/h. | E36: 339039-25 | F36: ELUMA | G36: Metro | H36: CONFORME MEMORIAL | I36: 20 | J36: 28.5 | L36: =K36-(SUM(N36:Y36)) -> 0 | M36: =IF(L36<0,"ATENÇÃO","OK") -> OK | N36: 0 | O36: 0 | P36: 0 | Q36: 0 | R36: 0 | S36: 0 | T36: 0 | U36: 0 | V36: 0 | W36: 0 | X36: 0 | Y36: 0
C37: 34 | D37: Desinstalação de equipamento de ar-condicionado. | E37: 339039-25 | F37: XX | G37: Serviço | H37: CONFORME MEMORIAL | I37: 20 | J37: 197 | L37: =K37-(SUM(N37:Y37)) -> 0 | M37: =IF(L37<0,"ATENÇÃO","OK") -> OK | N37: 0 | O37: 0 | P37: 0 | Q37: 0 | R37: 0 | S37: 0 | T37: 0 | U37: 0 | V37: 0 | W37: 0 | X37: 0 | Y37: 0
C38: 35 | D38: Reposição de equipamento de ar condicionado. | E38: 339039-25 | F38: XX | G38: Serviço | H38: CONFORME MEMORIAL | I38: 20 | J38: 250 | L38: =K38-(SUM(N38:Y38)) -> 0 | M38: =IF(L38<0,"ATENÇÃO","OK") -> OK | N38: 0 | O38: 0 | P38: 0 | Q38: 0 | R38: 0 | S38: 0 | T38: 0 | U38: 0 | V38: 0 | W38: 0 | X38: 0 | Y38: 0
C39: 36 | D39: Instalação de Cortina de Ar. | E39: 339039-25 | F39: XX | G39: Serviço | H39: CONFORME MEMORIAL | I39: 20 | J39: 202 | L39: =K39-(SUM(N39:Y39)) -> 0 | M39: =IF(L39<0,"ATENÇÃO","OK") -> OK | N39: 0 | O39: 0 | P39: 0 | Q39: 0 | R39: 0 | S39: 0 | T39: 0 | U39: 0 | V39: 0 | W39: 0 | X39: 0 | Y39: 0
A40: Akon Ltda ME | B40: 22 | C40: 37 | D40: Instalação completa de equipamento de ar-condicionado tipo "split" até 24.000 BTU/h incluindo até 3 metros de distância entre evaporadora e condensadora – Composto de 01 (uma) unidade evaporadora e 01 (uma) unidade condensadora. | E40: 339039-25 | F40: AKON | G40: Serviço | H40: CONFORME MEMORIAL | I40: 20 | J40: 460 | L40: =K40-(SUM(N40:Y40)) -> 0 | M40: =IF(L40<0,"ATENÇÃO","OK") -> OK | N40: 0 | O40: 0 | P40: 0 | Q40: 0 | R40: 0 | S40: 0 | T40: 0 | U40: 0 | V40: 0 | W40: 0 | X40: 0 | Y40: 0
C41: 38 | D41: Instalação completa de equipamento de ar-condicionado tipo "split" de 25.000 a 48.000 BTU/h incluindo até 3 metros de distância entre evaporadora e condensadora – Composto de 01 (uma) unidade evaporadora e 01 (uma) unidade condensadora. | E41: 339039-25 | F41: AKON | G41: Serviço | H41: CONFORME MEMORIAL | I41: 20 | J41: 550 | L41: =K41-(SUM(N41:Y41)) -> 0 | M41: =IF(L41<0,"ATENÇÃO","OK") -> OK | N41: 0 | O41: 0 | P41: 0 | Q41: 0 | R41: 0 | S41: 0 | T41: 0 | U41: 0 | V41: 0 | W41: 0 | X41: 0 | Y41: 0
C42: 39 | D42: Metro adicional de linha para instalação de split até 24.000 BTU/h. | E42: 339039-25 | F42: AKON | G42: Metro | H42: CONFORME MEMORIAL | I42: 20 | J42: 40 | L42: =K42-(SUM(N42:Y42)) -> 0 | M42: =IF(L42<0,"ATENÇÃO","OK") -> OK | N42: 0 | O42: 0 | P42: 0 | Q42: 0 | R42: 0 | S42: 0 | T42: 0 | U42: 0 | V42: 0 | W42: 0 | X42: 0 | Y42: 0
A43: W & Z Comércio e Serviços Hospitalares Ltda | B43: 23 | C43: 40 | D43: Instalação completa de equipamento de ar-condicionado tipo "split" até 24.000 BTU/h incluindo até 3 metros de distância entre evaporadora e condensadora – Composto de 01 (uma) unidade evaporadora e 01 (uma) unidade condensadora. | E43: 339039-25 | F43: W&Z | G43: Serviço | H43: CONFORME MEMORIAL | I43: 20 | J43: 490 | L43: =K43-(SUM(N43:Y43)) -> 0 | M43: =IF(L43<0,"ATENÇÃO","OK") -> OK | N43: 0 | O43: 0 | P43: 0 | Q43: 0 | R43: 0 | S43: 0 | T43: 0 | U43: 0 | V43: 0 | W43: 0 | X43: 0 | Y43: 0
C44: 41 | D44: Instalação completa de equipamento de ar-condicionado tipo "split" de 25.000 a 48.000 BTU/h incluindo até 3 metros de distância entre evaporadora e condensadora – Composto de 01 (uma) unidade evaporadora e 01 (uma) unidade condensadora. | E44: 339039-25 | F44: W&Z | G44: Serviço | H44: CONFORME MEMORIAL | I44: 20 | J44: 570 | L44: =K44-(SUM(N44:Y44)) -> 0 | M44: =IF(L44<0,"ATENÇÃO","OK") -> OK | N44: 0 | O44: 0 | P44: 0 | Q44: 0 | R44: 0 | S44: 0 | T44: 0 | U44: 0 | V44: 0 | W44: 0 | X44: 0 | Y44: 0
C45: 42 | D45: Instalação completa de equipamento de ar-condicionado tipo "split" acima de 48.000 BTU/h incluindo até 3 metros de distância entre evaporadora e condensadora – Composto de 01 (uma) unidade evaporadora e 01 (uma) unidade condensadora. | E45: 339039-25 | F45: W&Z | G45: Serviço | H45: CONFORME MEMORIAL | I45: 20 | J45: 600.01 | L45: =K45-(SUM(N45:Y45)) -> 0 | M45: =IF(L45<0,"ATENÇÃO","OK") -> OK | N45: 0 | O45: 0 | P45: 0 | Q45: 0 | R45: 0 | S45: 0 | T45: 0 | U45: 0 | V45: 0 | W45: 0 | X45: 0 | Y45: 0
C46: 43 | D46: Metro adicional de linha para instalação de split até 24.000 BTU/h. | E46: 339039-25 | F46: W&Z | G46: Metro | H46: CONFORME MEMORIAL | I46: 20 | J46: 44.49 | L46: =K46-(SUM(N46:Y46)) -> 0 | M46: =IF(L46<0,"ATENÇÃO","OK") -> OK | N46: 0 | O46: 0 | P46: 0 | Q46: 0 | R46: 0 | S46: 0 | T46: 0 | U46: 0 | V46: 0 | W46: 0 | X46: 0 | Y46: 0
C47: 44 | D47: Metro adicional de linha para instalação de split de 25.000 a 48.000 BTU/h. | E47: 339039-25 | F47: W&Z | G47: Metro | H47: CONFORME MEMORIAL | I47: 20 | J47: 53.05 | L47: =K47-(SUM(N47:Y47)) -> 0 | M47: =IF(L47<0,"ATENÇÃO","OK") -> OK | N47: 0 | O47: 0 | P47: 0 | Q47: 0 | R47: 0 | S47: 0 | T47: 0 | U47: 0 | V47: 0 | W47: 0 | X47: 0 | Y47: 0
C48: 45 | D48: Metro adicional de linha para instalação de split acima de 48.000 BTU/h. | E48: 339039-25 | F48: W&Z | G48: Metro | H48: CONFORME MEMORIAL | I48: 20 | J48: 57.55 | L48: =K48-(SUM(N48:Y48)) -> 0 | M48: =IF(L48<0,"ATENÇÃO","OK") -> OK | N48: 0 | O48: 0 | P48: 0 | Q48: 0 | R48: 0 | S48: 0 | T48: 0 | U48: 0 | V48: 0 | W48: 0 | X48: 0 | Y48: 0
C49: 46 | D49: Desinstalação de equipamento de ar-condicionado. | E49: 339039-25 | F49: W&Z | G49: Serviço | H49: CONFORME MEMORIAL | I49: 20 | J49: 197.06 | L49: =K49-(SUM(N49:Y49)) -> 0 | M49: =IF(L49<0,"ATENÇÃO","OK") -> OK | N49: 0 | O49: 0 | P49: 0 | Q49: 0 | R49: 0 | S49: 0 | T49: 0 | U49: 0 | V49: 0 | W49: 0 | X49: 0 | Y49: 0
C50: 47 | D50: Reposição de equipamento de ar condicionado. | E50: 339039-25 | F50: W&Z | G50: Serviço | H50: CONFORME MEMORIAL | I50: 20 | J50: 250 | L50: =K50-(SUM(N50:Y50)) -> 0 | M50: =IF(L50<0,"ATENÇÃO","OK") -> OK | N50: 0 | O50: 0 | P50: 0 | Q50: 0 | R50: 0 | S50: 0 | T50: 0 | U50: 0 | V50: 0 | W50: 0 | X50: 0 | Y50: 0

Sheet FAED
A1: PROCESSO: 859/2014 | D1: OBJETO: Aquisição e instalação de aparelhos de ar condicionado | J1: VIGÊNCIA DA ATA: 27/08/2014 até 26/08/2014 | N1: AF/OS nº xxxx/2014 Qtde. DT | O1: AF/OS nº xxxx/2014 Qtde. DT | P1: AF/OS nº xxxx/2014 Qtde. DT | Q1: AF/OS nº xxxx/2014 Qtde. DT | R1: AF/OS nº xxxx/2014 Qtde. DT | S1: AF/OS nº xxxx/2014 Qtde. DT | T1: AF/OS nº xxxx/2014 Qtde. DT | U1: AF/OS nº xxxx/2014 Qtde. DT | V1: AF/OS nº xxxx/2014 Qtde. DT | W1: AF/OS nº xxxx/2014 Qtde. DT | X1: AF/OS nº xxxx/2014 Qtde. DT | Y1: AF/OS nº xxxx/2014 Qtde. DT
A2: CENTRO PARTICIPANTE: FAED
A3: FORNECEDOR | B3: LOTE | C3: ITEM | D3: PRODUTO - CARACTERÍSTICAS MÍNIMAS | E3: DETALHAMENTO | F3: MARCA/MODELO | G3: UNIDADE | H3: Entrega (Dias) | I3: Pagto. (Dias) | J3: Preço UNITÁRIO (R$) | K3: Qtde LICITADA | L3: Saldo / Automático | M3: ALERTA | N3: ...../...../...... | O3: ...../...../...... | P3: ...../...../...... | Q3: ...../...../...... | R3: ...../...../...... | S3: ...../...../...... | T3: ...../...../...... | U3: ...../...../...... | V3: ...../...../...... | W3: ...../...../...... | X3: ...../...../...... | Y3: ...../...../......
A4: DSM Distribuidora de Móveis e Suprimentos Eireli EPP | B4: 1 | C4: 1 | D4: Aparelho de ar condicionado tipo Split High Wall (para parede), capacidade frigorífica nominal de 9.000 btu’s, 220 V, somente frio, com controle remoto (individual) sem fio e filtro de ar lavável. Selo PROCEL “A” . | E4: 449052-34 | F4: ELGIN | G4: Peça | H4: CONFORME MEMORIAL | I4: 20 | J4: 1137.77 | K4: 4 | L4: =K4-(SUM(N4:Y4)) -> 4 | M4: =IF(L4<0,"ATENÇÃO","OK") -> OK | N4: 0 | O4: 0 | P4: 0 | Q4: 0 | R4: 0 | S4: 0 | T4: 0 | U4: 0 | V4: 0 | W4: 0 | X4: 0 | Y4: 0
A5: LS Climatizações Ltda | B5: 2 | C5: 2 | D5: Aparelho de ar condicionado tipo Split High Wall (para parede), ciclo somente frio, 220 V, capacidade frigorífica nominal de 12.000 btu’s somente frio, com controle remoto (individual) sem fio e filtro de ar lavável. Selo PROCEL “A”. | E5: 449052-34 | F5: KOMECO | G5: Peça | H5: CONFORME MEMORIAL | I5: 20 | J5: 1197.26 | K5: 3 | L5: =K5-(SUM(N5:Y5)) -> 3 | M5: =IF(L5<0,"ATENÇÃO","OK") -> OK | N5: 0 | O5: 0 | P5: 0 | Q5: 0 | R5: 0 | S5: 0 | T5: 0 | U5: 0 | V5: 0 | W5: 0 | X5: 0 | Y5: 0
B6: 3 | C6: 3 | D6: Aparelho de ar condicionado tipo Split High Wall, (para parede), ciclo somente frio, capacidade frigorífica nominal de 18.000 btu’s, 220 V, com controle remoto (individual) sem fio e filtro de ar lavável. | E6: 449052-34 | F6: ELGIN | G6: Peça | H6: CONFORME MEMORIAL | I6: 20 | J6: 1590.41 | K6: 9 | L6: =K6-(SUM(N6:Y6)) -> 9 | M6: =IF(L6<0,"ATENÇÃO","OK") -> OK | N6: 0 | O6: 0 | P6: 0 | Q6: 0 | R6: 0 | S6: 0 | T6: 0 | U6: 0 | V6: 0 | W6: 0 | X6: 0 | Y6: 0
B7: 4 | C7: 4 | D7: Aparelho de ar condicionado tipo Split High Wall (para parede), ciclo quente e frio: controle remoto sem fio, capacidade nominal de no mínimo 9.000 btus; capacidade de desumidificar o ambiente e filtro de ar lavável, tensão 220 Volts, frequência 60 Hz. Selo PROCEL “A”. | E7: 449052-34 | F7: KOMECO | G7: Peça | H7: CONFORME MEMORIAL | I7: 20 | J7: 1198.63 | K7: 4 | L7: =K7-(SUM(N7:Y7)) -> 4 | M7: =IF(L7<0,"ATENÇÃO","OK") -> OK | N7: 0 | O7: 0 | P7: 0 | Q7: 0 | R7: 0 | S7: 0 | T7: 0 | U7: 0 | V7: 0 | W7: 0 | X7: 0 | Y7: 0
B8: 5 | C8: 5 | D8: Aparelho de ar condicionado tipo Split High Wall (para parede), ciclo quente e frio, capacidade frigorífica nominal de 12.000 btu’s, 220 V,com controle remoto (individual) sem fio e filtro de ar lavável. Selo PROCEL “A”. | E8: 449052-34 | F8: KOMECO | G8: Peça | H8: CONFORME MEMORIAL | I8: 20 | J8: 1269.86 | K8: 3 | L8: =K8-(SUM(N8:Y8)) -> 3 | M8: =IF(L8<0,"ATENÇÃO","OK") -> OK | N8: 0 | O8: 0 | P8: 0 | Q8: 0 | R8: 0 | S8: 0 | T8: 0 | U8: 0 | V8: 0 | W8: 0 | X8: 0 | Y8: 0
B9: 6 | C9: 6 | D9: Aparelho de ar condicionado tipo Split High Wall (para parede), ciclo quente e frio, capacidade frigorífica nominal de 18.000 btu’s, 220 V,com controle remoto (individual) sem fio e filtro de ar lavável. | E9: 449052-34 | F9: ELGIN | G9: Peça | H9: CONFORME MEMORIAL | I9: 20 | J9: 1713.7 | K9: 4 | L9: =K9-(SUM(N9:Y9)) -> 4 | M9: =IF(L9<0,"ATENÇÃO","OK") -> OK | N9: 0 | O9: 0 | P9: 0 | Q9: 0 | R9: 0 | S9: 0 | T9: 0 | U9: 0 | V9: 0 | W9: 0 | X9: 0 | Y9: 0
B10: 7 | C10: 7 | D10: Aparelho de ar condicionado tipo Split High Wall (para parede), ciclo quente e frio, capacidade frigorífica nominal de 24.000 btu’s, 220 V, com controle remoto (individual) sem fio e filtro de ar lavável. | E10: 449052-34 | F10: KOMECO | G10: Peça | H10: CONFORME MEMORIAL | I10: 20 | J10: 2241.1 | K10: 2 | L10: =K10-(SUM(N10:Y10)) -> 2 | M10: =IF(L10<0,"ATENÇÃO","OK") -> OK | N10: 0 | O10: 0 | P10: 0 | Q10: 0 | R10: 0 | S10: 0 | T10: 0 | U10: 0 | V10: 0 | W10: 0 | X10: 0 | Y10: 0
B11: 8 | C11: 8 | D11: Aparelho de ar condicionado tipo Split High Wall (para parede), ciclo quente e frio, capacidade frigorífica nominal de 30.000 btu’s, 220 V, com controle remoto (individual) sem fio e filtro de ar lavável. | E11: 449052-34 | F11: ELGIN | G11: Peça | H11: CONFORME MEMORIAL | I11: 20 | J11: 3107.86 | K11: 13 | L11: =K11-(SUM(N11:Y11)) -> 13 | M11: =IF(L11<0,"ATENÇÃO","OK") -> OK | N11: 0 | O11: 0 | P11: 0 | Q11: 0 | R11: 0 | S11: 0 | T11: 0 | U11: 0 | V11: 0 | W11: 0 | X11: 0 | Y11: 0
B12: 9 | C12: 9 | D12: Aparelho de ar condicionado tipo Split Piso Teto, capacidade frigorífica nominal 24.000 BTU’s, ciclo somente frio, 220 V, com controle remoto (individual), sem fio e filtro de ar lavável. | E12: 449052-34 | F12: CARRIER | G12: Peça | H12: CONFORME MEMORIAL | I12: 20 | J12: 3472.6 | L12: =K12-(SUM(N12:Y12)) -> 0 | M12: =IF(L12<0,"ATENÇÃO","OK") -> OK | N12: 0 | O12: 0 | P12: 0 | Q12: 0 | R12: 0 | S12: 0 | T12: 0 | U12: 0 | V12: 0 | W12: 0 | X12: 0 | Y12: 0
A13: DSM Distribuidora de Móveis e Suprimentos Eireli EPP | B13: 10 | C13: 10 | D13: Aparelho de ar condicionado tipo Split Piso Teto, ciclo somente frio, capacidade frigorífica nominal de 30.000 btu’s somente frio, 220 V, com controle remoto (individual) sem fio e filtro de ar lavável. | E13: 449052-34 | F13: ELGIN | G13: Peça | H13: CONFORME MEMORIAL | I13: 20 | J13: 3570 | L13: =K13-(SUM(N13:Y13)) -> 0 | M13: =IF(L13<0,"ATENÇÃO","OK") -> OK | N13: 0 | O13: 0 | P13: 0 | Q13: 0 | R13: 0 | S13: 0 | T13: 0 | U13: 0 | V13: 0 | W13: 0 | X13: 0 | Y13: 0
B14: 11 | C14: 11 | D14: Condicionador de Ar tipo Split Piso Teto – de 36.000 BTU’s ciclo somente frio, com controle remoto (individual) sem fio. | E14: 449052-34 | F14: CARRIER | G14: Peça | H14: CONFORME MEMORIAL | I14: 20 | J14: 4093.33 | L14: =K14-(SUM(N14:Y14)) -> 0 | M14: =IF(L14<0,"ATENÇÃO","OK") -> OK | N14: 0 | O14: 0 | P14: 0 | Q14: 0 | R14: 0 | S14: 0 | T14: 0 | U14: 0 | V14: 0 | W14: 0 | X14: 0 | Y14: 0
C15: 12 | D15: Condicionador de Ar tipo Split Piso Teto – de 48.000 BTU’s ciclo somente frio, com controle remoto (individual) sem fio e filtro de ar lavável. | E15: 449052-34 | F15: ELGIN | G15: Peça | H15: CONFORME MEMORIAL | I15: 20 | J15: 4500 | L15: =K15-(SUM(N15:Y15)) -> 0 | M15: =IF(L15<0,"ATENÇÃO","OK") -> OK | N15: 0 | O15: 0 | P15: 0 | Q15: 0 | R15: 0 | S15: 0 | T15: 0 | U15: 0 | V15: 0 | W15: 0 | X15: 0 | Y15: 0
A16: Tecnoponto Ltda EPP | B16: 12 | C16: 13 | D16: Condicionador de Ar ti Split Piso Teto, ciclo somente frio, 60.000 BTU´s, com controle remoto (individual sem fio). Trifásico 380V, com pressotato de alta e baixa, rele contra inversão de fase. Selo PROCEL até "E". | E16: 449052-34 | F16: KOMECO | G16: Peça | H16: CONFORME MEMORIAL | I16: 20 | J16: 5058.82 | L16: =K16-(SUM(N16:Y16)) -> 0 | M16: =IF(L16<0,"ATENÇÃO","OK") -> OK | N16: 0 | O16: 0 | P16: 0 | Q16: 0 | R16: 0 | S16: 0 | T16: 0 | U16: 0 | V16: 0 | W16: 0 | X16: 0 | Y16: 0
B17: 13 | C17: 14 | D17: Condicionado de Ar tipo Split Piso Teto/Parede, capacidade frigorífica nominal de 36.000 btu’s, ciclos quente e frio, 220 V, com controle remoto sem fio e filtro de ar lavável. | E17: 449052-34 | F17: KOMECO | G17: Peça | H17: CONFORME MEMORIAL | I17: 20 | J17: 4524.9 | L17: =K17-(SUM(N17:Y17)) -> 0 | M17: =IF(L17<0,"ATENÇÃO","OK") -> OK | N17: 0 | O17: 0 | P17: 0 | Q17: 0 | R17: 0 | S17: 0 | T17: 0 | U17: 0 | V17: 0 | W17: 0 | X17: 0 | Y17: 0
B18: 14 | C18: 15 | D18: Condicionador de Ar tipo Split Piso Teto/Parede – de 60.000 BTU’s ciclos quente e frio, com controle remoto - trifásico 380 V, com pressotato de alta e baixa, rele contra inversão de fase. Selo PROCEL até "E". | E18: 449052-34 | F18: KOMECO | G18: Peça | H18: CONFORME MEMORIAL | I18: 20 | J18: 5530 | L18: =K18-(SUM(N18:Y18)) -> 0 | M18: =IF(L18<0,"ATENÇÃO","OK") -> OK | N18: 0 | O18: 0 | P18: 0 | Q18: 0 | R18: 0 | S18: 0 | T18: 0 | U18: 0 | V18: 0 | W18: 0 | X18: 0 | Y18: 0
A19: LS Climatizações Ltda | B19: 15 | C19: 16 | D19: Aparelho de ar condicionado tipo Split Cassete, ciclo FRIO: controle remoto sem fio, capacidade nominal de no mínimo 18.000 btus; tensão 220 Volts. | E19: 449052-34 | F19: CARRIER | G19: Peça | H19: CONFORME MEMORIAL | I19: 20 | J19: 3630.14 | L19: =K19-(SUM(N19:Y19)) -> 0 | M19: =IF(L19<0,"ATENÇÃO","OK") -> OK | N19: 0 | O19: 0 | P19: 0 | Q19: 0 | R19: 0 | S19: 0 | T19: 0 | U19: 0 | V19: 0 | W19: 0 | X19: 0 | Y19: 0
B20: 16 | C20: 17 | D20: Aparelho de ar condicionado tipo Split Cassete, ciclo FRIO: controle remoto sem fio, capacidade nominal de no mínimo 24.000 btus; tensão 220 Volts. | E20: 449052-34 | F20: ELGIN | G20: Peça | H20: CONFORME MEMORIAL | I20: 20 | J20: 3365.75 | L20: =K20-(SUM(N20:Y20)) -> 0 | M20: =IF(L20<0,"ATENÇÃO","OK") -> OK | N20: 0 | O20: 0 | P20: 0 | Q20: 0 | R20: 0 | S20: 0 | T20: 0 | U20: 0 | V20: 0 | W20: 0 | X20: 0 | Y20: 0
B21: 17 | C21: 18 | D21: Aparelho de ar condicionado tipo Split Cassete, ciclo FRIO: controle remoto sem fio, capacidade nominal de no mínimo 36.000 btus; tensão 220 Volts. | E21: 449052-34 | F21: ELGIN | G21: Peça | H21: CONFORME MEMORIAL | I21: 20 | J21: 4330.14 | L21: =K21-(SUM(N21:Y21)) -> 0 | M21: =IF(L21<0,"ATENÇÃO","OK") -> OK | N21: 0 | O21: 0 | P21: 0 | Q21: 0 | R21: 0 | S21: 0 | T21: 0 | U21: 0 | V21: 0 | W21: 0 | X21: 0 | Y21: 0
A22: DSM Distribuidora de Móveis e Suprimentos Eireli EPP | B22: 18 | C22: 19 | D22: Aparelho de ar condicionado tipo Split Cassete, capacidade nominal de no mínimo 60.000 BTU’s ciclo frio, com controle remoto - trifásico 380 V, com pressotato de alta e baixa, rele contra inversão de fase. | E22: 449052-34 | F22: ELGIN | G22: Peça | H22: CONFORME MEMORIAL | I22: 20 | J22: 6508.07 | L22: =K22-(SUM(N22:Y22)) -> 0 | M22: =IF(L22<0,"ATENÇÃO","OK") -> OK | N22: 0 | O22: 0 | P22: 0 | Q22: 0 | R22: 0 | S22: 0 | T22: 0 | U22: 0 | V22: 0 | W22: 0 | X22: 0 | Y22: 0
A23: LS Climatizações Ltda | B23: 19 | C23: 20 | D23: Cortina de Ar. Dimensões aproximadas: (L X A XP): 150 x 23 x 22cm , podendo ter pequena variação de tamanho, dependendo da marca do produto. Monofásico, 220 Volts. Potência (c/v) mínimo de 1/5. Nível máximo de ruído (db): menor que 60db. Modos de operação: ventila. Velocidades (m/s) mínimo de 11. Vazão de ar: mínimo de 1300 m3/h. Temperatura somente ventilação. Recursos função automática. Saída de ar frontal e vertical. Entrada superior de ar. Direcionadores de ar vertical. Recirculação de ar (m3/m) maior que 25. Prazo de garantia de 01 ano. Item incluso: controle remoto. Cor branco. | E23: 449052-34 | F23: MIDEA | G23: Peça | H23: CONFORME MEMORIAL | I23: 20 | J23: 514.28 | L23: =K23-(SUM(N23:Y23)) -> 0 | M23: =IF(L23<0,"ATENÇÃO","OK") -> OK | N23: 0 | O23: 0 | P23: 0 | Q23: 0 | R23: 0 | S23: 0 | T23: 0 | U23: 0 | V23: 0 | W23: 0 | X23: 0 | Y23: 0
A24: Frimac Refrigeração Eireli ME | B24: 20 | C24: 21 | D24: Instalação completa de equipamento de ar-condicionado tipo "split" até 24.000 BTU/h incluindo até 3 metros de distância entre evaporadora e condensadora – Composto de 01 (uma) unidade evaporadora e 01 (uma) unidade condensadora. | E24: 339039-25 | F24: XX | G24: Serviço | H24: CONFORME MEMORIAL | I24: 20 | J24: 525 | K24: 20 | L24: =K24-(SUM(N24:Y24)) -> 20 | M24: =IF(L24<0,"ATENÇÃO","OK") -> OK | N24: 0 | O24: 0 | P24: 0 | Q24: 0 | R24: 0 | S24: 0 | T24: 0 | U24: 0 | V24: 0 | W24: 0 | X24: 0 | Y24: 0
C25: 22 | D25: Instalação completa de equipamento de ar-condicionado tipo "split" de 25.000 a 48.000 BTU/h incluindo até 3 metros de distância entre evaporadora e condensadora – Composto de 01 (uma) unidade evaporadora e 01 (uma) unidade condensadora. | E25: 339039-25 | F25: XX | G25: Serviço | H25: CONFORME MEMORIAL | I25: 20 | J25: 608 | K25: 10 | L25: =K25-(SUM(N25:Y25)) -> 10 | M25: =IF(L25<0,"ATENÇÃO","OK") -> OK | N25: 0 | O25: 0 | P25: 0 | Q25: 0 | R25: 0 | S25: 0 | T25: 0 | U25: 0 | V25: 0 | W25: 0 | X25: 0 | Y25: 0
C26: 23 | D26: Instalação completa de equipamento de ar-condicionado tipo "split" acima de 48.000 BTU/h incluindo até 3 metros de distância entre evaporadora e condensadora – Composto de 01 (uma) unidade evaporadora e 01 (uma) unidade condensadora. | E26: 339039-25 | F26: XX | G26: Serviço | H26: CONFORME MEMORIAL | I26: 20 | J26: 650 | L26: =K26-(SUM(N26:Y26)) -> 0 | M26: =IF(L26<0,"ATENÇÃO","OK") -> OK | N26: 0 | O26: 0 | P26: 0 | Q26: 0 | R26: 0 | S26: 0 | T26: 0 | U26: 0 | V26: 0 | W26: 0 | X26: 0 | Y26: 0
C27: 24 | D27: Metro adicional de linha para instalação de split até 24.000 BTU/h. | E27: 339039-25 | F27: ELUMA | G27: Metro | H27: CONFORME MEMORIAL | I27: 20 | J27: 20 | K27: 10 | L27: =K27-(SUM(N27:Y27)) -> 10 | M27: =IF(L27<0,"ATENÇÃO","OK") -> OK | N27: 0 | O27: 0 | P27: 0 | Q27: 0 | R27: 0 | S27: 0 | T27: 0 | U27: 0 | V27: 0 | W27: 0 | X27: 0 | Y27: 0
C28: 25 | D28: Metro adicional de linha para instalação de split de 25.000 a 48.000 BTU/h. | E28: 339039-25 | F28: ELUMA | G28: Metro | H28: CONFORME MEMORIAL | I28: 20 | J28: 25 | K28: 10 | L28: =K28-(SUM(N28:Y28)) -> 10 | M28: =IF(L28<0,"ATENÇÃO","OK") -> OK | N28: 0 | O28: 0 | P28: 0 | Q28: 0 | R28: 0 | S28: 0 | T28: 0 | U28: 0 | V28: 0 | W28: 0 | X28: 0 | Y28: 0
C29: 26 | D29: Metro adicional de linha para instalação de split acima de 48.000 BTU/h. | E29: 339039-25 | F29: ELUMA | G29: Metro | H29: CONFORME MEMORIAL | I29: 20 | J29: 28.5 | L29: =K29-(SUM(N29:Y29)) -> 0 | M29: =IF(L29<0,"ATENÇÃO","OK") -> OK | N29: 0 | O29: 0 | P29: 0 | Q29: 0 | R29: 0 | S29: 0 | T29: 0 | U29: 0 | V29: 0 | W29: 0 | X29: 0 | Y29: 0
C30: 27 | D30: Desinstalação de equipamento de ar-condicionado. | E30: 339039-25 | F30: XX | G30: Serviço | H30: CONFORME MEMORIAL | I30: 20 | J30: 197 | K30: 15 | L30: =K30-(SUM(N30:Y30)) -> 15 | M30: =IF(L30<0,"ATENÇÃO","OK") -> OK | N30: 0 | O30: 0 | P30: 0 | Q30: 0 | R30: 0 | S30: 0 | T30: 0 | U30: 0 | V30: 0 | W30: 0 | X30: 0 | Y30: 0
C31: 28 | D31: Reposição de equipamento de ar condicionado. | E31: 339039-25 | F31: XX | G31: Serviço | H31: CONFORME MEMORIAL | I31: 20 | J31: 250 | L31: =K31-(SUM(N31:Y31)) -> 0 | M31: =IF(L31<0,"ATENÇÃO","OK") -> OK | N31: 0 | O31: 0 | P31: 0 | Q31: 0 | R31: 0 | S31: 0 | T31: 0 | U31: 0 | V31: 0 | W31: 0 | X31: 0 | Y31: 0
C32: 29 | D32: Instalação de Cortina de Ar. | E32: 339039-25 | F32: XX | G32: Serviço | H32: CONFORME MEMORIAL | I32: 20 | J32: 202 | L32: =K32-(SUM(N32:Y32)) -> 0 | M32: =IF(L32<0,"ATENÇÃO","OK") -> OK | N32: 0 | O32: 0 | P32: 0 | Q32: 0 | R32: 0 | S32: 0 | T32: 0 | U32: 0 | V32: 0 | W32: 0 | X32: 0 | Y32: 0
A33: Frimac Refrigeração Eireli ME | B33: 21 | C33: 30 | D33: Instalação completa de equipamento de ar-condicionado tipo "split" até 24.000 BTU/h incluindo até 3 metros de distância entre evaporadora e condensadora – Composto de 01 (uma) unidade evaporadora e 01 (uma) unidade condensadora. | E33: 339039-25 | F33: XX | G33: Serviço | H33: CONFORME MEMORIAL | I33: 20 | J33: 523 | L33: =K33-(SUM(N33:Y33)) -> 0 | M33: =IF(L33<0,"ATENÇÃO","OK") -> OK | N33: 0 | O33: 0 | P33: 0 | Q33: 0 | R33: 0 | S33: 0 | T33: 0 | U33: 0 | V33: 0 | W33: 0 | X33: 0 | Y33: 0
C34: 31 | D34: Instalação completa de equipamento de ar-condicionado tipo "split" acima de 48.000 BTU/h incluindo até 3 metros de distância entre evaporadora e condensadora – Composto de 01 (uma) unidade evaporadora e 01 (uma) unidade condensadora. | E34: 339039-25 | F34: XX | G34: Serviço | H34: CONFORME MEMORIAL | I34: 20 | J34: 655 | L34: =K34-(SUM(N34:Y34)) -> 0 | M34: =IF(L34<0,"ATENÇÃO","OK") -> OK | N34: 0 | O34: 0 | P34: 0 | Q34: 0 | R34: 0 | S34: 0 | T34: 0 | U34: 0 | V34: 0 | W34: 0 | X34: 0 | Y34: 0
C35: 32 | D35: Metro adicional de linha para instalação de split até 24.000 BTU/h. | E35: 339039-25 | F35: ELUMA | G35: Metro | H35: CONFORME MEMORIAL | I35: 20 | J35: 20 | L35: =K35-(SUM(N35:Y35)) -> 0 | M35: =IF(L35<0,"ATENÇÃO","OK") -> OK | N35: 0 | O35: 0 | P35: 0 | Q35: 0 | R35: 0 | S35: 0 | T35: 0 | U35: 0 | V35: 0 | W35: 0 | X35: 0 | Y35: 0
C36: 33 | D36: Metro adicional de linha para instalação de split acima de 48.000 BTU/h. | E36: 339039-25 | F36: ELUMA | G36: Metro | H36: CONFORME MEMORIAL | I36: 20 | J36: 28.5 | L36: =K36-(SUM(N36:Y36)) -> 0 | M36: =IF(L36<0,"ATENÇÃO","OK") -> OK | N36: 0 | O36: 0 | P36: 0 | Q36: 0 | R36: 0 | S36: 0 | T36: 0 | U36: 0 | V36: 0 | W36: 0 | X36: 0 | Y36: 0
C37: 34 | D37: Desinstalação de equipamento de ar-condicionado. | E37: 339039-25 | F37: XX | G37: Serviço | H37: CONFORME MEMORIAL | I37: 20 | J37: 197 | L37: =K37-(SUM(N37:Y37)) -> 0 | M37: =IF(L37<0,"ATENÇÃO","OK") -> OK | N37: 0 | O37: 0 | P37: 0 | Q37: 0 | R37: 0 | S37: 0 | T37: 0 | U37: 0 | V37: 0 | W37: 0 | X37: 0 | Y37: 0
C38: 35 | D38: Reposição de equipamento de ar condicionado. | E38: 339039-25 | F38: XX | G38: Serviço | H38: CONFORME MEMORIAL | I38: 20 | J38: 250 | L38: =K38-(SUM(N38:Y38)) -> 0 | M38: =IF(L38<0,"ATENÇÃO","OK") -> OK | N38: 0 | O38: 0 | P38: 0 | Q38: 0 | R38: 0 | S38: 0 | T38: 0 | U38: 0 | V38: 0 | W38: 0 | X38: 0 | Y38: 0
C39: 36 | D39: Instalação de Cortina de Ar. | E39: 339039-25 | F39: XX | G39: Serviço | H39: CONFORME MEMORIAL | I39: 20 | J39: 202 | L39: =K39-(SUM(N39:Y39)) -> 0 | M39: =IF(L39<0,"ATENÇÃO","OK") -> OK | N39: 0 | O39: 0 | P39: 0 | Q39: 0 | R39: 0 | S39: 0 | T39: 0 | U39: 0 | V39: 0 | W39: 0 | X39: 0 | Y39: 0
A40: Akon Ltda ME | B40: 22 | C40: 37 | D40: Instalação completa de equipamento de ar-condicionado tipo "split" até 24.000 BTU/h incluindo até 3 metros de distância entre evaporadora e condensadora – Composto de 01 (uma) unidade evaporadora e 01 (uma) unidade condensadora. | E40: 339039-25 | F40: AKON | G40: Serviço | H40: CONFORME MEMORIAL | I40: 20 | J40: 460 | L40: =K40-(SUM(N40:Y40)) -> 0 | M40: =IF(L40<0,"ATENÇÃO","OK") -> OK | N40: 0 | O40: 0 | P40: 0 | Q40: 0 | R40: 0 | S40: 0 | T40: 0 | U40: 0 | V40: 0 | W40: 0 | X40: 0 | Y40: 0
C41: 38 | D41: Instalação completa de equipamento de ar-condicionado tipo "split" de 25.000 a 48.000 BTU/h incluindo até 3 metros de distância entre evaporadora e condensadora – Composto de 01 (uma) unidade evaporadora e 01 (uma) unidade condensadora. | E41: 339039-25 | F41: AKON | G41: Serviço | H41: CONFORME MEMORIAL | I41: 20 | J41: 550 | L41: =K41-(SUM(N41:Y41)) -> 0 | M41: =IF(L41<0,"ATENÇÃO","OK") -> OK | N41: 0 | O41: 0 | P41: 0 | Q41: 0 | R41: 0 | S41: 0 | T41: 0 | U41: 0 | V41: 0 | W41: 0 | X41: 0 | Y41: 0
C42: 39 | D42: Metro adicional de linha para instalação de split até 24.000 BTU/h. | E42: 339039-25 | F42: AKON | G42: Metro | H42: CONFORME MEMORIAL | I42: 20 | J42: 40 | L42: =K42-(SUM(N42:Y42)) -> 0 | M42: =IF(L42<0,"ATENÇÃO","OK") -> OK | N42: 0 | O42: 0 | P42: 0 | Q42: 0 | R42: 0 | S42: 0 | T42: 0 | U42: 0 | V42: 0 | W42: 0 | X42: 0 | Y42: 0
A43: W & Z Comércio e Serviços Hospitalares Ltda | B43: 23 | C43: 40 | D43: Instalação completa de equipamento de ar-condicionado tipo "split" até 24.000 BTU/h incluindo até 3 metros de distância entre evaporadora e condensadora – Composto de 01 (uma) unidade evaporadora e 01 (uma) unidade condensadora. | E43: 339039-25 | F43: W&Z | G43: Serviço | H43: CONFORME MEMORIAL | I43: 20 | J43: 490 | L43: =K43-(SUM(N43:Y43)) -> 0 | M43: =IF(L43<0,"ATENÇÃO","OK") -> OK | N43: 0 | O43: 0 | P43: 0 | Q43: 0 | R43: 0 | S43: 0 | T43: 0 | U43: 0 | V43: 0 | W43: 0 | X43: 0 | Y43: 0
C44: 41 | D44: Instalação completa de equipamento de ar-condicionado tipo "split" de 25.000 a 48.000 BTU/h incluindo até 3 metros de distância entre evaporadora e condensadora – Composto de 01 (uma) unidade evaporadora e 01 (uma) unidade condensadora. | E44: 339039-25 | F44: W&Z | G44: Serviço | H44: CONFORME MEMORIAL | I44: 20 | J44: 570 | L44: =K44-(SUM(N44:Y44)) -> 0 | M44: =IF(L44<0,"ATENÇÃO","OK") -> OK | N44: 0 | O44: 0 | P44: 0 | Q44: 0 | R44: 0 | S44: 0 | T44: 0 | U44: 0 | V44: 0 | W44: 0 | X44: 0 | Y44: 0
C45: 42 | D45: Instalação completa de equipamento de ar-condicionado tipo "split" acima de 48.000 BTU/h incluindo até 3 metros de distância entre evaporadora e condensadora – Composto de 01 (uma) unidade evaporadora e 01 (uma) unidade condensadora. | E45: 339039-25 | F45: W&Z | G45: Serviço | H45: CONFORME MEMORIAL | I45: 20 | J45: 600.01 | L45: =K45-(SUM(N45:Y45)) -> 0 | M45: =IF(L45<0,"ATENÇÃO","OK") -> OK | N45: 0 | O45: 0 | P45: 0 | Q45: 0 | R45: 0 | S45: 0 | T45: 0 | U45: 0 | V45: 0 | W45: 0 | X45: 0 | Y45: 0
C46: 43 | D46: Metro adicional de linha para instalação de split até 24.000 BTU/h. | E46: 339039-25 | F46: W&Z | G46: Metro | H46: CONFORME MEMORIAL | I46: 20 | J46: 44.49 | L46: =K46-(SUM(N46:Y46)) -> 0 | M46: =IF(L46<0,"ATENÇÃO","OK") -> OK | N46: 0 | O46: 0 | P46: 0 | Q46: 0 | R46: 0 | S46: 0 | T46: 0 | U46: 0 | V46: 0 | W46: 0 | X46: 0 | Y46: 0
C47: 44 | D47: Metro adicional de linha para instalação de split de 25.000 a 48.000 BTU/h. | E47: 339039-25 | F47: W&Z | G47: Metro | H47: CONFORME MEMORIAL | I47: 20 | J47: 53.05 | L47: =K47-(SUM(N47:Y47)) -> 0 | M47: =IF(L47<0,"ATENÇÃO","OK") -> OK | N47: 0 | O47: 0 | P47: 0 | Q47: 0 | R47: 0 | S47: 0 | T47: 0 | U47: 0 | V47: 0 | W47: 0 | X47: 0 | Y47: 0
C48: 45 | D48: Metro adicional de linha para instalação de split acima de 48.000 BTU/h. | E48: 339039-25 | F48: W&Z | G48: Metro | H48: CONFORME MEMORIAL | I48: 20 | J48: 57.55 | L48: =K48-(SUM(N48:Y48)) -> 0 | M48: =IF(L48<0,"ATENÇÃO","OK") -> OK | N48: 0 | O48: 0 | P48: 0 | Q48: 0 | R48: 0 | S48: 0 | T48: 0 | U48: 0 | V48: 0 | W48: 0 | X48: 0 | Y48: 0
C49: 46 | D49: Desinstalação de equipamento de ar-condicionado. | E49: 339039-25 | F49: W&Z | G49: Serviço | H49: CONFORME MEMORIAL | I49: 20 | J49: 197.06 | L49: =K49-(SUM(N49:Y49)) -> 0 | M49: =IF(L49<0,"ATENÇÃO","OK") -> OK | N49: 0 | O49: 0 | P49: 0 | Q49: 0 | R49: 0 | S49: 0 | T49: 0 | U49: 0 | V49: 0 | W49: 0 | X49: 0 | Y49: 0
C50: 47 | D50: Reposição de equipamento de ar condicionado. | E50: 339039-25 | F50: W&Z | G50: Serviço | H50: CONFORME MEMORIAL | I50: 20 | J50: 250 | L50: =K50-(SUM(N50:Y50)) -> 0 | M50: =IF(L50<0,"ATENÇÃO","OK") -> OK | N50: 0 | O50: 0 | P50: 0 | Q50: 0 | R50: 0 | S50: 0 | T50: 0 | U50: 0 | V50: 0 | W50: 0 | X50: 0 | Y50: 0

Sheet CEFID
A1: PROCESSO: 859/2014 | D1: OBJETO: Aquisição e instalação de aparelhos de ar condicionado | J1: VIGÊNCIA DA ATA: 27/08/2014 até 26/08/2014 | N1: AF/OS nº 1562/2014 Qtde. DT | O1: AF/OS nº xxxx/2014 Qtde. DT | P1: AF/OS nº xxxx/2014 Qtde. DT | Q1: AF/OS nº xxxx/2014 Qtde. DT | R1: AF/OS nº xxxx/2014 Qtde. DT | S1: AF/OS nº xxxx/2014 Qtde. DT | T1: AF/OS nº xxxx/2014 Qtde. DT | U1: AF/OS nº xxxx/2014 Qtde. DT | V1: AF/OS nº xxxx/2014 Qtde. DT | W1: AF/OS nº xxxx/2014 Qtde. DT | X1: AF/OS nº xxxx/2014 Qtde. DT | Y1: AF/OS nº xxxx/2014 Qtde. DT
A2: CENTRO PARTICIPANTE: CEFID
A3: FORNECEDOR | B3: LOTE | C3: ITEM | D3: PRODUTO - CARACTERÍSTICAS MÍNIMAS | E3: DETALHAMENTO | F3: MARCA/MODELO | G3: UNIDADE | H3: Entrega (Dias) | I3: Pagto. (Dias) | J3: Preço UNITÁRIO (R$) | K3: Qtde LICITADA | L3: Saldo / Automático | M3: ALERTA | N3: 41932 | O3: ...../...../...... | P3: ...../...../...... | Q3: ...../...../...... | R3: ...../...../...... | S3: ...../...../...... | T3: ...../...../...... | U3: ...../...../...... | V3: ...../...../...... | W3: ...../...../...... | X3: ...../...../...... | Y3: ...../...../......
A4: DSM Distribuidora de Móveis e Suprimentos Eireli EPP | B4: 1 | C4: 1 | D4: Aparelho de ar condicionado tipo Split High Wall (para parede), capacidade frigorífica nominal de 9.000 btu’s, 220 V, somente frio, com controle remoto (individual) sem fio e filtro de ar lavável. Selo PROCEL “A” . | E4: 449052-34 | F4: ELGIN | G4: Peça | H4: CONFORME MEMORIAL | I4: 20 | J4: 1137.77 | L4: =K4-(SUM(N4:Y4)) -> 0 | M4: =IF(L4<0,"ATENÇÃO","OK") -> OK | N4: 0 | O4: 0 | P4: 0 | Q4: 0 | R4: 0 | S4: 0 | T4: 0 | U4: 0 | V4: 0 | W4: 0 | X4: 0 | Y4: 0
A5: LS Climatizações Ltda | B5: 2 | C5: 2 | D5: Aparelho de ar condicionado tipo Split High Wall (para parede), ciclo somente frio, 220 V, capacidade frigorífica nominal de 12.000 btu’s somente frio, com controle remoto (individual) sem fio e filtro de ar lavável. Selo PROCEL “A”. | E5: 449052-34 | F5: KOMECO | G5: Peça | H5: CONFORME MEMORIAL | I5: 20 | J5: 1197.26 | L5: =K5-(SUM(N5:Y5)) -> 0 | M5: =IF(L5<0,"ATENÇÃO","OK") -> OK | N5: 0 | O5: 0 | P5: 0 | Q5: 0 | R5: 0 | S5: 0 | T5: 0 | U5: 0 | V5: 0 | W5: 0 | X5: 0 | Y5: 0
B6: 3 | C6: 3 | D6: Aparelho de ar condicionado tipo Split High Wall, (para parede), ciclo somente frio, capacidade frigorífica nominal de 18.000 btu’s, 220 V, com controle remoto (individual) sem fio e filtro de ar lavável. | E6: 449052-34 | F6: ELGIN | G6: Peça | H6: CONFORME MEMORIAL | I6: 20 | J6: 1590.41 | L6: =K6-(SUM(N6:Y6)) -> 0 | M6: =IF(L6<0,"ATENÇÃO","OK") -> OK | N6: 0 | O6: 0 | P6: 0 | Q6: 0 | R6: 0 | S6: 0 | T6: 0 | U6: 0 | V6: 0 | W6: 0 | X6: 0 | Y6: 0
B7: 4 | C7: 4 | D7: Aparelho de ar condicionado tipo Split High Wall (para parede), ciclo quente e frio: controle remoto sem fio, capacidade nominal de no mínimo 9.000 btus; capacidade de desumidificar o ambiente e filtro de ar lavável, tensão 220 Volts, frequência 60 Hz. Selo PROCEL “A”. | E7: 449052-34 | F7: KOMECO | G7: Peça | H7: CONFORME MEMORIAL | I7: 20 | J7: 1198.63 | K7: 2 | L7: =K7-(SUM(N7:Y7)) -> 1 | M7: =IF(L7<0,"ATENÇÃO","OK") -> OK | N7: 1 | O7: 0 | P7: 0 | Q7: 0 | R7: 0 | S7: 0 | T7: 0 | U7: 0 | V7: 0 | W7: 0 | X7: 0 | Y7: 0
B8: 5 | C8: 5 | D8: Aparelho de ar condicionado tipo Split High Wall (para parede), ciclo quente e frio, capacidade frigorífica nominal de 12.000 btu’s, 220 V,com controle remoto (individual) sem fio e filtro de ar lavável. Selo PROCEL “A”. | E8: 449052-34 | F8: KOMECO | G8: Peça | H8: CONFORME MEMORIAL | I8: 20 | J8: 1269.86 | K8: 3 | L8: =K8-(SUM(N8:Y8)) -> 2 | M8: =IF(L8<0,"ATENÇÃO","OK") -> OK | N8: 1 | O8: 0 | P8: 0 | Q8: 0 | R8: 0 | S8: 0 | T8: 0 | U8: 0 | V8: 0 | W8: 0 | X8: 0 | Y8: 0
B9: 6 | C9: 6 | D9: Aparelho de ar condicionado tipo Split High Wall (para parede), ciclo quente e frio, capacidade frigorífica nominal de 18.000 btu’s, 220 V,com controle remoto (individual) sem fio e filtro de ar lavável. | E9: 449052-34 | F9: ELGIN | G9: Peça | H9: CONFORME MEMORIAL | I9: 20 | J9: 1713.7 | L9: =K9-(SUM(N9:Y9)) -> 0 | M9: =IF(L9<0,"ATENÇÃO","OK") -> OK | N9: 0 | O9: 0 | P9: 0 | Q9: 0 | R9: 0 | S9: 0 | T9: 0 | U9: 0 | V9: 0 | W9: 0 | X9: 0 | Y9: 0
B10: 7 | C10: 7 | D10: Aparelho de ar condicionado tipo Split High Wall (para parede), ciclo quente e frio, capacidade frigorífica nominal de 24.000 btu’s, 220 V, com controle remoto (individual) sem fio e filtro de ar lavável. | E10: 449052-34 | F10: KOMECO | G10: Peça | H10: CONFORME MEMORIAL | I10: 20 | J10: 2241.1 | L10: =K10-(SUM(N10:Y10)) -> 0 | M10: =IF(L10<0,"ATENÇÃO","OK") -> OK | N10: 0 | O10: 0 | P10: 0 | Q10: 0 | R10: 0 | S10: 0 | T10: 0 | U10: 0 | V10: 0 | W10: 0 | X10: 0 | Y10: 0
B11: 8 | C11: 8 | D11: Aparelho de ar condicionado tipo Split High Wall (para parede), ciclo quente e frio, capacidade frigorífica nominal de 30.000 btu’s, 220 V, com controle remoto (individual) sem fio e filtro de ar lavável. | E11: 449052-34 | F11: ELGIN | G11: Peça | H11: CONFORME MEMORIAL | I11: 20 | J11: 3107.86 | L11: =K11-(SUM(N11:Y11)) -> 0 | M11: =IF(L11<0,"ATENÇÃO","OK") -> OK | N11: 0 | O11: 0 | P11: 0 | Q11: 0 | R11: 0 | S11: 0 | T11: 0 | U11: 0 | V11: 0 | W11: 0 | X11: 0 | Y11: 0
B12: 9 | C12: 9 | D12: Aparelho de ar condicionado tipo Split Piso Teto, capacidade frigorífica nominal 24.000 BTU’s, ciclo somente frio, 220 V, com controle remoto (individual), sem fio e filtro de ar lavável. | E12: 449052-34 | F12: CARRIER | G12: Peça | H12: CONFORME MEMORIAL | I12: 20 | J12: 3472.6 | K12: 1 | L12: =K12-(SUM(N12:Y12)) -> 1 | M12: =IF(L12<0,"ATENÇÃO","OK") -> OK | N12: 0 | O12: 0 | P12: 0 | Q12: 0 | R12: 0 | S12: 0 | T12: 0 | U12: 0 | V12: 0 | W12: 0 | X12: 0 | Y12: 0
A13: DSM Distribuidora de Móveis e Suprimentos Eireli EPP | B13: 10 | C13: 10 | D13: Aparelho de ar condicionado tipo Split Piso Teto, ciclo somente frio, capacidade frigorífica nominal de 30.000 btu’s somente frio, 220 V, com controle remoto (individual) sem fio e filtro de ar lavável. | E13: 449052-34 | F13: ELGIN | G13: Peça | H13: CONFORME MEMORIAL | I13: 20 | J13: 3570 | L13: =K13-(SUM(N13:Y13)) -> 0 | M13: =IF(L13<0,"ATENÇÃO","OK") -> OK | N13: 0 | O13: 0 | P13: 0 | Q13: 0 | R13: 0 | S13: 0 | T13: 0 | U13: 0 | V13: 0 | W13: 0 | X13: 0 | Y13: 0
B14: 11 | C14: 11 | D14: Condicionador de Ar tipo Split Piso Teto – de 36.000 BTU’s ciclo somente frio, com controle remoto (individual) sem fio. | E14: 449052-34 | F14: CARRIER | G14: Peça | H14: CONFORME MEMORIAL | I14: 20 | J14: 4093.33 | L14: =K14-(SUM(N14:Y14)) -> 0 | M14: =IF(L14<0,"ATENÇÃO","OK") -> OK | N14: 0 | O14: 0 | P14: 0 | Q14: 0 | R14: 0 | S14: 0 | T14: 0 | U14: 0 | V14: 0 | W14: 0 | X14: 0 | Y14: 0
C15: 12 | D15: Condicionador de Ar tipo Split Piso Teto – de 48.000 BTU’s ciclo somente frio, com controle remoto (individual) sem fio e filtro de ar lavável. | E15: 449052-34 | F15: ELGIN | G15: Peça | H15: CONFORME MEMORIAL | I15: 20 | J15: 4500 | L15: =K15-(SUM(N15:Y15)) -> 0 | M15: =IF(L15<0,"ATENÇÃO","OK") -> OK | N15: 0 | O15: 0 | P15: 0 | Q15: 0 | R15: 0 | S15: 0 | T15: 0 | U15: 0 | V15: 0 | W15: 0 | X15: 0 | Y15: 0
A16: Tecnoponto Ltda EPP | B16: 12 | C16: 13 | D16: Condicionador de Ar ti Split Piso Teto, ciclo somente frio, 60.000 BTU´s, com controle remoto (individual sem fio). Trifásico 380V, com pressotato de alta e baixa, rele contra inversão de fase. Selo PROCEL até "E". | E16: 449052-34 | F16: KOMECO | G16: Peça | H16: CONFORME MEMORIAL | I16: 20 | J16: 5058.82 | L16: =K16-(SUM(N16:Y16)) -> 0 | M16: =IF(L16<0,"ATENÇÃO","OK") -> OK | N16: 0 | O16: 0 | P16: 0 | Q16: 0 | R16: 0 | S16: 0 | T16: 0 | U16: 0 | V16: 0 | W16: 0 | X16: 0 | Y16: 0
B17: 13 | C17: 14 | D17: Condicionado de Ar tipo Split Piso Teto/Parede, capacidade frigorífica nominal de 36.000 btu’s, ciclos quente e frio, 220 V, com controle remoto sem fio e filtro de ar lavável. | E17: 449052-34 | F17: KOMECO | G17: Peça | H17: CONFORME MEMORIAL | I17: 20 | J17: 4524.9 | L17: =K17-(SUM(N17:Y17)) -> 0 | M17: =IF(L17<0,"ATENÇÃO","OK") -> OK | N17: 0 | O17: 0 | P17: 0 | Q17: 0 | R17: 0 | S17: 0 | T17: 0 | U17: 0 | V17: 0 | W17: 0 | X17: 0 | Y17: 0
B18: 14 | C18: 15 | D18: Condicionador de Ar tipo Split Piso Teto/Parede – de 60.000 BTU’s ciclos quente e frio, com controle remoto - trifásico 380 V, com pressotato de alta e baixa, rele contra inversão de fase. Selo PROCEL até "E". | E18: 449052-34 | F18: KOMECO | G18: Peça | H18: CONFORME MEMORIAL | I18: 20 | J18: 5530 | L18: =K18-(SUM(N18:Y18)) -> 0 | M18: =IF(L18<0,"ATENÇÃO","OK") -> OK | N18: 0 | O18: 0 | P18: 0 | Q18: 0 | R18: 0 | S18: 0 | T18: 0 | U18: 0 | V18: 0 | W18: 0 | X18: 0 | Y18: 0
A19: LS Climatizações Ltda | B19: 15 | C19: 16 | D19: Aparelho de ar condicionado tipo Split Cassete, ciclo FRIO: controle remoto sem fio, capacidade nominal de no mínimo 18.000 btus; tensão 220 Volts. | E19: 449052-34 | F19: CARRIER | G19: Peça | H19: CONFORME MEMORIAL | I19: 20 | J19: 3630.14 | L19: =K19-(SUM(N19:Y19)) -> 0 | M19: =IF(L19<0,"ATENÇÃO","OK") -> OK | N19: 0 | O19: 0 | P19: 0 | Q19: 0 | R19: 0 | S19: 0 | T19: 0 | U19: 0 | V19: 0 | W19: 0 | X19: 0 | Y19: 0
B20: 16 | C20: 17 | D20: Aparelho de ar condicionado tipo Split Cassete, ciclo FRIO: controle remoto sem fio, capacidade nominal de no mínimo 24.000 btus; tensão 220 Volts. | E20: 449052-34 | F20: ELGIN | G20: Peça | H20: CONFORME MEMORIAL | I20: 20 | J20: 3365.75 | L20: =K20-(SUM(N20:Y20)) -> 0 | M20: =IF(L20<0,"ATENÇÃO","OK") -> OK | N20: 0 | O20: 0 | P20: 0 | Q20: 0 | R20: 0 | S20: 0 | T20: 0 | U20: 0 | V20: 0 | W20: 0 | X20: 0 | Y20: 0
B21: 17 | C21: 18 | D21: Aparelho de ar condicionado tipo Split Cassete, ciclo FRIO: controle remoto sem fio, capacidade nominal de no mínimo 36.000 btus; tensão 220 Volts. | E21: 449052-34 | F21: ELGIN | G21: Peça | H21: CONFORME MEMORIAL | I21: 20 | J21: 4330.14 | L21: =K21-(SUM(N21:Y21)) -> 0 | M21: =IF(L21<0,"ATENÇÃO","OK") -> OK | N21: 0 | O21: 0 | P21: 0 | Q21: 0 | R21: 0 | S21: 0 | T21: 0 | U21: 0 | V21: 0 | W21: 0 | X21: 0 | Y21: 0
A22: DSM Distribuidora de Móveis e Suprimentos Eireli EPP | B22: 18 | C22: 19 | D22: Aparelho de ar condicionado tipo Split Cassete, capacidade nominal de no mínimo 60.000 BTU’s ciclo frio, com controle remoto - trifásico 380 V, com pressotato de alta e baixa, rele contra inversão de fase. | E22: 449052-34 | F22: ELGIN | G22: Peça | H22: CONFORME MEMORIAL | I22: 20 | J22: 6508.07 | L22: =K22-(SUM(N22:Y22)) -> 0 | M22: =IF(L22<0,"ATENÇÃO","OK") -> OK | N22: 0 | O22: 0 | P22: 0 | Q22: 0 | R22: 0 | S22: 0 | T22: 0 | U22: 0 | V22: 0 | W22: 0 | X22: 0 | Y22: 0
A23: LS Climatizações Ltda | B23: 19 | C23: 20 | D23: Cortina de Ar. Dimensões aproximadas: (L X A XP): 150 x 23 x 22cm , podendo ter pequena variação de tamanho, dependendo da marca do produto. Monofásico, 220 Volts. Potência (c/v) mínimo de 1/5. Nível máximo de ruído (db): menor que 60db. Modos de operação: ventila. Velocidades (m/s) mínimo de 11. Vazão de ar: mínimo de 1300 m3/h. Temperatura somente ventilação. Recursos função automática. Saída de ar frontal e vertical. Entrada superior de ar. Direcionadores de ar vertical. Recirculação de ar (m3/m) maior que 25. Prazo de garantia de 01 ano. Item incluso: controle remoto. Cor branco. | E23: 449052-34 | F23: MIDEA | G23: Peça | H23: CONFORME MEMORIAL | I23: 20 | J23: 514.28 | L23: =K23-(SUM(N23:Y23)) -> 0 | M23: =IF(L23<0,"ATENÇÃO","OK") -> OK | N23: 0 | O23: 0 | P23: 0 | Q23: 0 | R23: 0 | S23: 0 | T23: 0 | U23: 0 | V23: 0 | W23: 0 | X23: 0 | Y23: 0
A24: Frimac Refrigeração Eireli ME | B24: 20 | C24: 21 | D24: Instalação completa de equipamento de ar-condicionado tipo "split" até 24.000 BTU/h incluindo até 3 metros de distância entre evaporadora e condensadora – Composto de 01 (uma) unidade evaporadora e 01 (uma) unidade condensadora. | E24: 339039-25 | F24: XX | G24: Serviço | H24: CONFORME MEMORIAL | I24: 20 | J24: 525 | K24: 6 | L24: =K24-(SUM(N24:Y24)) -> 6 | M24: =IF(L24<0,"ATENÇÃO","OK") -> OK | N24: 0 | O24: 0 | P24: 0 | Q24: 0 | R24: 0 | S24: 0 | T24: 0 | U24: 0 | V24: 0 | W24: 0 | X24: 0 | Y24: 0
C25: 22 | D25: Instalação completa de equipamento de ar-condicionado tipo "split" de 25.000 a 48.000 BTU/h incluindo até 3 metros de distância entre evaporadora e condensadora – Composto de 01 (uma) unidade evaporadora e 01 (uma) unidade condensadora. | E25: 339039-25 | F25: XX | G25: Serviço | H25: CONFORME MEMORIAL | I25: 20 | J25: 608 | L25: =K25-(SUM(N25:Y25)) -> 0 | M25: =IF(L25<0,"ATENÇÃO","OK") -> OK | N25: 0 | O25: 0 | P25: 0 | Q25: 0 | R25: 0 | S25: 0 | T25: 0 | U25: 0 | V25: 0 | W25: 0 | X25: 0 | Y25: 0
C26: 23 | D26: Instalação completa de equipamento de ar-condicionado tipo "split" acima de 48.000 BTU/h incluindo até 3 metros de distância entre evaporadora e condensadora – Composto de 01 (uma) unidade evaporadora e 01 (uma) unidade condensadora. | E26: 339039-25 | F26: XX | G26: Serviço | H26: CONFORME MEMORIAL | I26: 20 | J26: 650 | L26: =K26-(SUM(N26:Y26)) -> 0 | M26: =IF(L26<0,"ATENÇÃO","OK") -> OK | N26: 0 | O26: 0 | P26: 0 | Q26: 0 | R26: 0 | S26: 0 | T26: 0 | U26: 0 | V26: 0 | W26: 0 | X26: 0 | Y26: 0
C27: 24 | D27: Metro adicional de linha para instalação de split até 24.000 BTU/h. | E27: 339039-25 | F27: ELUMA | G27: Metro | H27: CONFORME MEMORIAL | I27: 20 | J27: 20 | K27: 10 | L27: =K27-(SUM(N27:Y27)) -> 10 | M27: =IF(L27<0,"ATENÇÃO","OK") -> OK | N27: 0 | O27: 0 | P27: 0 | Q27: 0 | R27: 0 | S27: 0 | T27: 0 | U27: 0 | V27: 0 | W27: 0 | X27: 0 | Y27: 0
C28: 25 | D28: Metro adicional de linha para instalação de split de 25.000 a 48.000 BTU/h. | E28: 339039-25 | F28: ELUMA | G28: Metro | H28: CONFORME MEMORIAL | I28: 20 | J28: 25 | L28: =K28-(SUM(N28:Y28)) -> 0 | M28: =IF(L28<0,"ATENÇÃO","OK") -> OK | N28: 0 | O28: 0 | P28: 0 | Q28: 0 | R28: 0 | S28: 0 | T28: 0 | U28: 0 | V28: 0 | W28: 0 | X28: 0 | Y28: 0
C29: 26 | D29: Metro adicional de linha para instalação de split acima de 48.000 BTU/h. | E29: 339039-25 | F29: ELUMA | G29: Metro | H29: CONFORME MEMORIAL | I29: 20 | J29: 28.5 | L29: =K29-(SUM(N29:Y29)) -> 0 | M29: =IF(L29<0,"ATENÇÃO","OK") -> OK | N29: 0 | O29: 0 | P29: 0 | Q29: 0 | R29: 0 | S29: 0 | T29: 0 | U29: 0 | V29: 0 | W29: 0 | X29: 0 | Y29: 0
C30: 27 | D30: Desinstalação de equipamento de ar-condicionado. | E30: 339039-25 | F30: XX | G30: Serviço | H30: CONFORME MEMORIAL | I30: 20 | J30: 197 | L30: =K30-(SUM(N30:Y30)) -> 0 | M30: =IF(L30<0,"ATENÇÃO","OK") -> OK | N30: 0 | O30: 0 | P30: 0 | Q30: 0 | R30: 0 | S30: 0 | T30: 0 | U30: 0 | V30: 0 | W30: 0 | X30: 0 | Y30: 0
C31: 28 | D31: Reposição de equipamento de ar condicionado. | E31: 339039-25 | F31: XX | G31: Serviço | H31: CONFORME MEMORIAL | I31: 20 | J31: 250 | L31: =K31-(SUM(N31:Y31)) -> 0 | M31: =IF(L31<0,"ATENÇÃO","OK") -> OK | N31: 0 | O31: 0 | P31: 0 | Q31: 0 | R31: 0 | S31: 0 | T31: 0 | U31: 0 | V31: 0 | W31: 0 | X31: 0 | Y31: 0
C32: 29 | D32: Instalação de Cortina de Ar. | E32: 339039-25 | F32: XX | G32: Serviço | H32: CONFORME MEMORIAL | I32: 20 | J32: 202 | L32: =K32-(SUM(N32:Y32)) -> 0 | M32: =IF(L32<0,"ATENÇÃO","OK") -> OK | N32: 0 | O32: 0 | P32: 0 | Q32: 0 | R32: 0 | S32: 0 | T32: 0 | U32: 0 | V32: 0 | W32: 0 | X32: 0 | Y32: 0
A33: Frimac Refrigeração Eireli ME | B33: 21 | C33: 30 | D33: Instalação completa de equipamento de ar-condicionado tipo "split" até 24.000 BTU/h incluindo até 3 metros de distância entre evaporadora e condensadora – Composto de 01 (uma) unidade evaporadora e 01 (uma) unidade condensadora. | E33: 339039-25 | F33: XX | G33: Serviço | H33: CONFORME MEMORIAL | I33: 20 | J33: 523 | L33: =K33-(SUM(N33:Y33)) -> 0 | M33: =IF(L33<0,"ATENÇÃO","OK") -> OK | N33: 0 | O33: 0 | P33: 0 | Q33: 0 | R33: 0 | S33: 0 | T33: 0 | U33: 0 | V33: 0 | W33: 0 | X33: 0 | Y33: 0
C34: 31 | D34: Instalação completa de equipamento de ar-condicionado tipo "split" acima de 48.000 BTU/h incluindo até 3 metros de distância entre evaporadora e condensadora – Composto de 01 (uma) unidade evaporadora e 01 (uma) unidade condensadora. | E34: 339039-25 | F34: XX | G34: Serviço | H34: CONFORME MEMORIAL | I34: 20 | J34: 655 | L34: =K34-(SUM(N34:Y34)) -> 0 | M34: =IF(L34<0,"ATENÇÃO","OK") -> OK | N34: 0 | O34: 0 | P34: 0 | Q34: 0 | R34: 0 | S34: 0 | T34: 0 | U34: 0 | V34: 0 | W34: 0 | X34: 0 | Y34: 0
C35: 32 | D35: Metro adicional de linha para instalação de split até 24.000 BTU/h. | E35: 339039-25 | F35: ELUMA | G35: Metro | H35: CONFORME MEMORIAL | I35: 20 | J35: 20 | L35: =K35-(SUM(N35:Y35)) -> 0 | M35: =IF(L35<0,"ATENÇÃO","OK") -> OK | N35: 0 | O35: 0 | P35: 0 | Q35: 0 | R35: 0 | S35: 0 | T35: 0 | U35: 0 | V35: 0 | W35: 0 | X35: 0 | Y35: 0
C36: 33 | D36: Metro adicional de linha para instalação de split acima de 48.000 BTU/h. | E36: 339039-25 | F36: ELUMA | G36: Metro | H36: CONFORME MEMORIAL | I36: 20 | J36: 28.5 | L36: =K36-(SUM(N36:Y36)) -> 0 | M36: =IF(L36<0,"ATENÇÃO","OK") -> OK | N36: 0 | O36: 0 | P36: 0 | Q36: 0 | R36: 0 | S36: 0 | T36: 0 | U36: 0 | V36: 0 | W36: 0 | X36: 0 | Y36: 0
C37: 34 | D37: Desinstalação de equipamento de ar-condicionado. | E37: 339039-25 | F37: XX | G37: Serviço | H37: CONFORME MEMORIAL | I37: 20 | J37: 197 | L37: =K37-(SUM(N37:Y37)) -> 0 | M37: =IF(L37<0,"ATENÇÃO","OK") -> OK | N37: 0 | O37: 0 | P37: 0 | Q37: 0 | R37: 0 | S37: 0 | T37: 0 | U37: 0 | V37: 0 | W37: 0 | X37: 0 | Y37: 0
C38: 35 | D38: Reposição de equipamento de ar condicionado. | E38: 339039-25 | F38: XX | G38: Serviço | H38: CONFORME MEMORIAL | I38: 20 | J38: 250 | L38: =K38-(SUM(N38:Y38)) -> 0 | M38: =IF(L38<0,"ATENÇÃO","OK") -> OK | N38: 0 | O38: 0 | P38: 0 | Q38: 0 | R38: 0 | S38: 0 | T38: 0 | U38: 0 | V38: 0 | W38: 0 | X38: 0 | Y38: 0
C39: 36 | D39: Instalação de Cortina de Ar. | E39: 339039-25 | F39: XX | G39: Serviço | H39: CONFORME MEMORIAL | I39: 20 | J39: 202 | L39: =K39-(SUM(N39:Y39)) -> 0 | M39: =IF(L39<0,"ATENÇÃO","OK") -> OK | N39: 0 | O39: 0 | P39: 0 | Q39: 0 | R39: 0 | S39: 0 | T39: 0 | U39: 0 | V39: 0 | W39: 0 | X39: 0 | Y39: 0
A40: Akon Ltda ME | B40: 22 | C40: 37 | D40: Instalação completa de equipamento de ar-condicionado tipo "split" até 24.000 BTU/h incluindo até 3 metros de distância entre evaporadora e condensadora – Composto de 01 (uma) unidade evaporadora e 01 (uma) unidade condensadora. | E40: 339039-25 | F40: AKON | G40: Serviço | H40: CONFORME MEMORIAL | I40: 20 | J40: 460 | L40: =K40-(SUM(N40:Y40)) -> 0 | M40: =IF(L40<0,"ATENÇÃO","OK") -> OK | N40: 0 | O40: 0 | P40: 0 | Q40: 0 | R40: 0 | S40: 0 | T40: 0 | U40: 0 | V40: 0 | W40: 0 | X40: 0 | Y40: 0
C41: 38 | D41: Instalação completa de equipamento de ar-condicionado tipo "split" de 25.000 a 48.000 BTU/h incluindo até 3 metros de distância entre evaporadora e condensadora – Composto de 01 (uma) unidade evaporadora e 01 (uma) unidade condensadora. | E41: 339039-25 | F41: AKON | G41: Serviço | H41: CONFORME MEMORIAL | I41: 20 | J41: 550 | L41: =K41-(SUM(N41:Y41)) -> 0 | M41: =IF(L41<0,"ATENÇÃO","OK") -> OK | N41: 0 | O41: 0 | P41: 0 | Q41: 0 | R41: 0 | S41: 0 | T41: 0 | U41: 0 | V41: 0 | W41: 0 | X41: 0 | Y41: 0
C42: 39 | D42: Metro adicional de linha para instalação de split até 24.000 BTU/h. | E42: 339039-25 | F42: AKON | G42: Metro | H42: CONFORME MEMORIAL | I42: 20 | J42: 40 | L42: =K42-(SUM(N42:Y42)) -> 0 | M42: =IF(L42<0,"ATENÇÃO","OK") -> OK | N42: 0 | O42: 0 | P42: 0 | Q42: 0 | R42: 0 | S42: 0 | T42: 0 | U42: 0 | V42: 0 | W42: 0 | X42: 0 | Y42: 0
A43: W & Z Comércio e Serviços Hospitalares Ltda | B43: 23 | C43: 40 | D43: Instalação completa de equipamento de ar-condicionado tipo "split" até 24.000 BTU/h incluindo até 3 metros de distância entre evaporadora e condensadora – Composto de 01 (uma) unidade evaporadora e 01 (uma) unidade condensadora. | E43: 339039-25 | F43: W&Z | G43: Serviço | H43: CONFORME MEMORIAL | I43: 20 | J43: 490 | L43: =K43-(SUM(N43:Y43)) -> 0 | M43: =IF(L43<0,"ATENÇÃO","OK") -> OK | N43: 0 | O43: 0 | P43: 0 | Q43: 0 | R43: 0 | S43: 0 | T43: 0 | U43: 0 | V43: 0 | W43: 0 | X43: 0 | Y43: 0
C44: 41 | D44: Instalação completa de equipamento de ar-condicionado tipo "split" de 25.000 a 48.000 BTU/h incluindo até 3 metros de distância entre evaporadora e condensadora – Composto de 01 (uma) unidade evaporadora e 01 (uma) unidade condensadora. | E44: 339039-25 | F44: W&Z | G44: Serviço | H44: CONFORME MEMORIAL | I44: 20 | J44: 570 | L44: =K44-(SUM(N44:Y44)) -> 0 | M44: =IF(L44<0,"ATENÇÃO","OK") -> OK | N44: 0 | O44: 0 | P44: 0 | Q44: 0 | R44: 0 | S44: 0 | T44: 0 | U44: 0 | V44: 0 | W44: 0 | X44: 0 | Y44: 0
C45: 42 | D45: Instalação completa de equipamento de ar-condicionado tipo "split" acima de 48.000 BTU/h incluindo até 3 metros de distância entre evaporadora e condensadora – Composto de 01 (uma) unidade evaporadora e 01 (uma) unidade condensadora. | E45: 339039-25 | F45: W&Z | G45: Serviço | H45: CONFORME MEMORIAL | I45: 20 | J45: 600.01 | L45: =K45-(SUM(N45:Y45)) -> 0 | M45: =IF(L45<0,"ATENÇÃO","OK") -> OK | N45: 0 | O45: 0 | P45: 0 | Q45: 0 | R45: 0 | S45: 0 | T45: 0 | U45: 0 | V45: 0 | W45: 0 | X45: 0 | Y45: 0
C46: 43 | D46: Metro adicional de linha para instalação de split até 24.000 BTU/h. | E46: 339039-25 | F46: W&Z | G46: Metro | H46: CONFORME MEMORIAL | I46: 20 | J46: 44.49 | L46: =K46-(SUM(N46:Y46)) -> 0 | M46: =IF(L46<0,"ATENÇÃO","OK") -> OK | N46: 0 | O46: 0 | P46: 0 | Q46: 0 | R46: 0 | S46: 0 | T46: 0 | U46: 0 | V46: 0 | W46: 0 | X46: 0 | Y46: 0
C47: 44 | D47: Metro adicional de linha para instalação de split de 25.000 a 48.000 BTU/h. | E47: 339039-25 | F47: W&Z | G47: Metro | H47: CONFORME MEMORIAL | I47: 20 | J47: 53.05 | L47: =K47-(SUM(N47:Y47)) -> 0 | M47: =IF(L47<0,"ATENÇÃO","OK") -> OK | N47: 0 | O47: 0 | P47: 0 | Q47: 0 | R47: 0 | S47: 0 | T47: 0 | U47: 0 | V47: 0 | W47: 0 | X47: 0 | Y47: 0
C48: 45 | D48: Metro adicional de linha para instalação de split acima de 48.000 BTU/h. | E48: 339039-25 | F48: W&Z | G48: Metro | H48: CONFORME MEMORIAL | I48: 20 | J48: 57.55 | L48: =K48-(SUM(N48:Y48)) -> 0 | M48: =IF(L48<0,"ATENÇÃO","OK") -> OK | N48: 0 | O48: 0 | P48: 0 | Q48: 0 | R48: 0 | S48: 0 | T48: 0 | U48: 0 | V48: 0 | W48: 0 | X48: 0 | Y48: 0
C49: 46 | D49: Desinstalação de equipamento de ar-condicionado. | E49: 339039-25 | F49: W&Z | G49: Serviço | H49: CONFORME MEMORIAL | I49: 20 | J49: 197.06 | L49: =K49-(SUM(N49:Y49)) -> 0 | M49: =IF(L49<0,"ATENÇÃO","OK") -> OK | N49: 0 | O49: 0 | P49: 0 | Q49: 0 | R49: 0 | S49: 0 | T49: 0 | U49: 0 | V49: 0 | W49: 0 | X49: 0 | Y49: 0
C50: 47 | D50: Reposição de equipamento de ar condicionado. | E50: 339039-25 | F50: W&Z | G50: Serviço | H50: CONFORME MEMORIAL | I50: 20 | J50: 250 | L50: =K50-(SUM(N50:Y50)) -> 0 | M50: =IF(L50<0,"ATENÇÃO","OK") -> OK | N50: 0 | O50: 0 | P50: 0 | Q50: 0 | R50: 0 | S50: 0 | T50: 0 | U50: 0 | V50: 0 | W50: 0 | X50: 0 | Y50: 0

Sheet CEAVI
A1: PROCESSO: 859/2014 | D1: OBJETO: Aquisição e instalação de aparelhos de ar condicionado | J1: VIGÊNCIA DA ATA: 27/08/2014 até 26/08/2014 | N1: AF/OS nº 1257/2014 Qtde. DT | O1: AF/OS nº 1466/2014 Qtde. DT | P1: AF/OS nº xxxx/2014 Qtde. DT | Q1: AF/OS nº xxxx/2014 Qtde. DT | R1: AF/OS nº xxxx/2014 Qtde. DT | S1: AF/OS nº xxxx/2014 Qtde. DT | T1: AF/OS nº xxxx/2014 Qtde. DT | U1: AF/OS nº xxxx/2014 Qtde. DT | V1: AF/OS nº xxxx/2014 Qtde. DT | W1: AF/OS nº xxxx/2014 Qtde. DT | X1: AF/OS nº xxxx/2014 Qtde. DT | Y1: AF/OS nº xxxx/2014 Qtde. DT
A2: CENTRO PARTICIPANTE: CEAVI
A3: FORNECEDOR | B3: LOTE | C3: ITEM | D3: PRODUTO - CARACTERÍSTICAS MÍNIMAS | E3: DETALHAMENTO | F3: MARCA | G3: UNIDADE | H3: Entrega (Dias) | I3: Pagto. (Dias) | J3: Preço UNITÁRIO (R$) | K3: Qtde LICITADA | L3: Saldo / Automático | M3: ALERTA | N3: 41895 | O3: 41925 | P3: ...../...../...... | Q3: ...../...../...... | R3: ...../...../...... | S3: ...../...../...... | T3: ...../...../...... | U3: ...../...../...... | V3: ...../...../...... | W3: ...../...../...... | X3: ...../...../...... | Y3: ...../...../......
A4: DSM Distribuidora de Móveis e Suprimentos Eireli EPP | B4: 1 | C4: 1 | D4: Aparelho de ar condicionado tipo Split High Wall (para parede), capacidade frigorífica nominal de 9.000 btu’s, 220 V, somente frio, com controle remoto (individual) sem fio e filtro de ar lavável. Selo PROCEL “A” . | E4: 449052-34 | F4: ELGIN | G4: Peça | H4: CONFORME MEMORIAL | I4: 20 | J4: 1137.77 | L4: =K4-(SUM(N4:Y4)) -> 0 | M4: =IF(L4<0,"ATENÇÃO","OK") -> OK | N4: 0 | O4: 0 | P4: 0 | Q4: 0 | R4: 0 | S4: 0 | T4: 0 | U4: 0 | V4: 0 | W4: 0 | X4: 0 | Y4: 0
A5: LS Climatizações Ltda | B5: 2 | C5: 2 | D5: Aparelho de ar condicionado tipo Split High Wall (para parede), ciclo somente frio, 220 V, capacidade frigorífica nominal de 12.000 btu’s somente frio, com controle remoto (individual) sem fio e filtro de ar lavável. Selo PROCEL “A”. | E5: 449052-34 | F5: KOMECO | G5: Peça | H5: CONFORME MEMORIAL | I5: 20 | J5: 1197.26 | K5: 30 | L5: =K5-(SUM(N5:Y5)) -> 30 | M5: =IF(L5<0,"ATENÇÃO","OK") -> OK | N5: 0 | O5: 0 | P5: 0 | Q5: 0 | R5: 0 | S5: 0 | T5: 0 | U5: 0 | V5: 0 | W5: 0 | X5: 0 | Y5: 0
B6: 3 | C6: 3 | D6: Aparelho de ar condicionado tipo Split High Wall, (para parede), ciclo somente frio, capacidade frigorífica nominal de 18.000 btu’s, 220 V, com controle remoto (individual) sem fio e filtro de ar lavável. | E6: 449052-34 | F6: ELGIN | G6: Peça | H6: CONFORME MEMORIAL | I6: 20 | J6: 1590.41 | L6: =K6-(SUM(N6:Y6)) -> 0 | M6: =IF(L6<0,"ATENÇÃO","OK") -> OK | N6: 0 | O6: 0 | P6: 0 | Q6: 0 | R6: 0 | S6: 0 | T6: 0 | U6: 0 | V6: 0 | W6: 0 | X6: 0 | Y6: 0
B7: 4 | C7: 4 | D7: Aparelho de ar condicionado tipo Split High Wall (para parede), ciclo quente e frio: controle remoto sem fio, capacidade nominal de no mínimo 9.000 btus; capacidade de desumidificar o ambiente e filtro de ar lavável, tensão 220 Volts, frequência 60 Hz. Selo PROCEL “A”. | E7: 449052-34 | F7: KOMECO | G7: Peça | H7: CONFORME MEMORIAL | I7: 20 | J7: 1198.63 | L7: =K7-(SUM(N7:Y7)) -> 0 | M7: =IF(L7<0,"ATENÇÃO","OK") -> OK | N7: 0 | O7: 0 | P7: 0 | Q7: 0 | R7: 0 | S7: 0 | T7: 0 | U7: 0 | V7: 0 | W7: 0 | X7: 0 | Y7: 0
B8: 5 | C8: 5 | D8: Aparelho de ar condicionado tipo Split High Wall (para parede), ciclo quente e frio, capacidade frigorífica nominal de 12.000 btu’s, 220 V,com controle remoto (individual) sem fio e filtro de ar lavável. Selo PROCEL “A”. | E8: 449052-34 | F8: KOMECO | G8: Peça | H8: CONFORME MEMORIAL | I8: 20 | J8: 1269.86 | L8: =K8-(SUM(N8:Y8)) -> 0 | M8: =IF(L8<0,"ATENÇÃO","OK") -> OK | N8: 0 | O8: 0 | P8: 0 | Q8: 0 | R8: 0 | S8: 0 | T8: 0 | U8: 0 | V8: 0 | W8: 0 | X8: 0 | Y8: 0
B9: 6 | C9: 6 | D9: Aparelho de ar condicionado tipo Split High Wall (para parede), ciclo quente e frio, capacidade frigorífica nominal de 18.000 btu’s, 220 V,com controle remoto (individual) sem fio e filtro de ar lavável. | E9: 449052-34 | F9: ELGIN | G9: Peça | H9: CONFORME MEMORIAL | I9: 20 | J9: 1713.7 | L9: =K9-(SUM(N9:Y9)) -> 0 | M9: =IF(L9<0,"ATENÇÃO","OK") -> OK | N9: 0 | O9: 0 | P9: 0 | Q9: 0 | R9: 0 | S9: 0 | T9: 0 | U9: 0 | V9: 0 | W9: 0 | X9: 0 | Y9: 0
B10: 7 | C10: 7 | D10: Aparelho de ar condicionado tipo Split High Wall (para parede), ciclo quente e frio, capacidade frigorífica nominal de 24.000 btu’s, 220 V, com controle remoto (individual) sem fio e filtro de ar lavável. | E10: 449052-34 | F10: KOMECO | G10: Peça | H10: CONFORME MEMORIAL | I10: 20 | J10: 2241.1 | L10: =K10-(SUM(N10:Y10)) -> 0 | M10: =IF(L10<0,"ATENÇÃO","OK") -> OK | N10: 0 | O10: 0 | P10: 0 | Q10: 0 | R10: 0 | S10: 0 | T10: 0 | U10: 0 | V10: 0 | W10: 0 | X10: 0 | Y10: 0
B11: 8 | C11: 8 | D11: Aparelho de ar condicionado tipo Split High Wall (para parede), ciclo quente e frio, capacidade frigorífica nominal de 30.000 btu’s, 220 V, com controle remoto (individual) sem fio e filtro de ar lavável. | E11: 449052-34 | F11: ELGIN | G11: Peça | H11: CONFORME MEMORIAL | I11: 20 | J11: 3107.86 | L11: =K11-(SUM(N11:Y11)) -> 0 | M11: =IF(L11<0,"ATENÇÃO","OK") -> OK | N11: 0 | O11: 0 | P11: 0 | Q11: 0 | R11: 0 | S11: 0 | T11: 0 | U11: 0 | V11: 0 | W11: 0 | X11: 0 | Y11: 0
B12: 9 | C12: 9 | D12: Aparelho de ar condicionado tipo Split Piso Teto, capacidade frigorífica nominal 24.000 BTU’s, ciclo somente frio, 220 V, com controle remoto (individual), sem fio e filtro de ar lavável. | E12: 449052-34 | F12: CARRIER | G12: Peça | H12: CONFORME MEMORIAL | I12: 20 | J12: 3472.6 | K12: 30 | L12: =K12-(SUM(N12:Y12)) -> 30 | M12: =IF(L12<0,"ATENÇÃO","OK") -> OK | N12: 0 | O12: 0 | P12: 0 | Q12: 0 | R12: 0 | S12: 0 | T12: 0 | U12: 0 | V12: 0 | W12: 0 | X12: 0 | Y12: 0
A13: DSM Distribuidora de Móveis e Suprimentos Eireli EPP | B13: 10 | C13: 10 | D13: Aparelho de ar condicionado tipo Split Piso Teto, ciclo somente frio, capacidade frigorífica nominal de 30.000 btu’s somente frio, 220 V, com controle remoto (individual) sem fio e filtro de ar lavável. | E13: 449052-34 | F13: ELGIN | G13: Peça | H13: CONFORME MEMORIAL | I13: 20 | J13: 3570 | L13: =K13-(SUM(N13:Y13)) -> 0 | M13: =IF(L13<0,"ATENÇÃO","OK") -> OK | N13: 0 | O13: 0 | P13: 0 | Q13: 0 | R13: 0 | S13: 0 | T13: 0 | U13: 0 | V13: 0 | W13: 0 | X13: 0 | Y13: 0
B14: 11 | C14: 11 | D14: Condicionador de Ar tipo Split Piso Teto – de 36.000 BTU’s ciclo somente frio, com controle remoto (individual) sem fio. | E14: 449052-34 | F14: CARRIER | G14: Peça | H14: CONFORME MEMORIAL | I14: 20 | J14: 4093.33 | L14: =K14-(SUM(N14:Y14)) -> 0 | M14: =IF(L14<0,"ATENÇÃO","OK") -> OK | N14: 0 | O14: 0 | P14: 0 | Q14: 0 | R14: 0 | S14: 0 | T14: 0 | U14: 0 | V14: 0 | W14: 0 | X14: 0 | Y14: 0
C15: 12 | D15: Condicionador de Ar tipo Split Piso Teto – de 48.000 BTU’s ciclo somente frio, com controle remoto (individual) sem fio e filtro de ar lavável. | E15: 449052-34 | F15: ELGIN | G15: Peça | H15: CONFORME MEMORIAL | I15: 20 | J15: 4500 | L15: =K15-(SUM(N15:Y15)) -> 0 | M15: =IF(L15<0,"ATENÇÃO","OK") -> OK | N15: 0 | O15: 0 | P15: 0 | Q15: 0 | R15: 0 | S15: 0 | T15: 0 | U15: 0 | V15: 0 | W15: 0 | X15: 0 | Y15: 0
A16: Tecnoponto Ltda EPP | B16: 12 | C16: 13 | D16: Condicionador de Ar ti Split Piso Teto, ciclo somente frio, 60.000 BTU´s, com controle remoto (individual sem fio). Trifásico 380V, com pressotato de alta e baixa, rele contra inversão de fase. Selo PROCEL até "E". | E16: 449052-34 | F16: KOMECO | G16: Peça | H16: CONFORME MEMORIAL | I16: 20 | J16: 5058.82 | L16: =K16-(SUM(N16:Y16)) -> 0 | M16: =IF(L16<0,"ATENÇÃO","OK") -> OK | N16: 0 | O16: 0 | P16: 0 | Q16: 0 | R16: 0 | S16: 0 | T16: 0 | U16: 0 | V16: 0 | W16: 0 | X16: 0 | Y16: 0
B17: 13 | C17: 14 | D17: Condicionado de Ar tipo Split Piso Teto/Parede, capacidade frigorífica nominal de 36.000 btu’s, ciclos quente e frio, 220 V, com controle remoto sem fio e filtro de ar lavável. | E17: 449052-34 | F17: KOMECO | G17: Peça | H17: CONFORME MEMORIAL | I17: 20 | J17: 4524.9 | L17: =K17-(SUM(N17:Y17)) -> 0 | M17: =IF(L17<0,"ATENÇÃO","OK") -> OK | N17: 0 | O17: 0 | P17: 0 | Q17: 0 | R17: 0 | S17: 0 | T17: 0 | U17: 0 | V17: 0 | W17: 0 | X17: 0 | Y17: 0
B18: 14 | C18: 15 | D18: Condicionador de Ar tipo Split Piso Teto/Parede – de 60.000 BTU’s ciclos quente e frio, com controle remoto - trifásico 380 V, com pressotato de alta e baixa, rele contra inversão de fase. Selo PROCEL até "E". | E18: 449052-34 | F18: KOMECO | G18: Peça | H18: CONFORME MEMORIAL | I18: 20 | J18: 5530 | L18: =K18-(SUM(N18:Y18)) -> 0 | M18: =IF(L18<0,"ATENÇÃO","OK") -> OK | N18: 0 | O18: 0 | P18: 0 | Q18: 0 | R18: 0 | S18: 0 | T18: 0 | U18: 0 | V18: 0 | W18: 0 | X18: 0 | Y18: 0
A19: LS Climatizações Ltda | B19: 15 | C19: 16 | D19: Aparelho de ar condicionado tipo Split Cassete, ciclo FRIO: controle remoto sem fio, capacidade nominal de no mínimo 18.000 btus; tensão 220 Volts. | E19: 449052-34 | F19: CARRIER | G19: Peça | H19: CONFORME MEMORIAL | I19: 20 | J19: 3630.14 | L19: =K19-(SUM(N19:Y19)) -> 0 | M19: =IF(L19<0,"ATENÇÃO","OK") -> OK | N19: 0 | O19: 0 | P19: 0 | Q19: 0 | R19: 0 | S19: 0 | T19: 0 | U19: 0 | V19: 0 | W19: 0 | X19: 0 | Y19: 0
B20: 16 | C20: 17 | D20: Aparelho de ar condicionado tipo Split Cassete, ciclo FRIO: controle remoto sem fio, capacidade nominal de no mínimo 24.000 btus; tensão 220 Volts. | E20: 449052-34 | F20: ELGIN | G20: Peça | H20: CONFORME MEMORIAL | I20: 20 | J20: 3365.75 | L20: =K20-(SUM(N20:Y20)) -> 0 | M20: =IF(L20<0,"ATENÇÃO","OK") -> OK | N20: 0 | O20: 0 | P20: 0 | Q20: 0 | R20: 0 | S20: 0 | T20: 0 | U20: 0 | V20: 0 | W20: 0 | X20: 0 | Y20: 0
B21: 17 | C21: 18 | D21: Aparelho de ar condicionado tipo Split Cassete, ciclo FRIO: controle remoto sem fio, capacidade nominal de no mínimo 36.000 btus; tensão 220 Volts. | E21: 449052-34 | F21: ELGIN | G21: Peça | H21: CONFORME MEMORIAL | I21: 20 | J21: 4330.14 | L21: =K21-(SUM(N21:Y21)) -> 0 | M21: =IF(L21<0,"ATENÇÃO","OK") -> OK | N21: 0 | O21: 0 | P21: 0 | Q21: 0 | R21: 0 | S21: 0 | T21: 0 | U21: 0 | V21: 0 | W21: 0 | X21: 0 | Y21: 0
A22: DSM Distribuidora de Móveis e Suprimentos Eireli EPP | B22: 18 | C22: 19 | D22: Aparelho de ar condicionado tipo Split Cassete, capacidade nominal de no mínimo 60.000 BTU’s ciclo frio, com controle remoto - trifásico 380 V, com pressotato de alta e baixa, rele contra inversão de fase. | E22: 449052-34 | F22: ELGIN | G22: Peça | H22: CONFORME MEMORIAL | I22: 20 | J22: 6508.07 | L22: =K22-(SUM(N22:Y22)) -> 0 | M22: =IF(L22<0,"ATENÇÃO","OK") -> OK | N22: 0 | O22: 0 | P22: 0 | Q22: 0 | R22: 0 | S22: 0 | T22: 0 | U22: 0 | V22: 0 | W22: 0 | X22: 0 | Y22: 0
A23: LS Climatizações Ltda | B23: 19 | C23: 20 | D23: Cortina de Ar. Dimensões aproximadas: (L X A XP): 150 x 23 x 22cm , podendo ter pequena variação de tamanho, dependendo da marca do produto. Monofásico, 220 Volts. Potência (c/v) mínimo de 1/5. Nível máximo de ruído (db): menor que 60db. Modos de operação: ventila. Velocidades (m/s) mínimo de 11. Vazão de ar: mínimo de 1300 m3/h. Temperatura somente ventilação. Recursos função automática. Saída de ar frontal e vertical. Entrada superior de ar. Direcionadores de ar vertical. Recirculação de ar (m3/m) maior que 25. Prazo de garantia de 01 ano. Item incluso: controle remoto. Cor branco. | E23: 449052-34 | F23: MIDEA | G23: Peça | H23: CONFORME MEMORIAL | I23: 20 | J23: 514.28 | L23: =K23-(SUM(N23:Y23)) -> 0 | M23: =IF(L23<0,"ATENÇÃO","OK") -> OK | N23: 0 | O23: 0 | P23: 0 | Q23: 0 | R23: 0 | S23: 0 | T23: 0 | U23: 0 | V23: 0 | W23: 0 | X23: 0 | Y23: 0
A24: Frimac Refrigeração Eireli ME | B24: 20 | C24: 21 | D24: Instalação completa de equipamento de ar-condicionado tipo "split" até 24.000 BTU/h incluindo até 3 metros de distância entre evaporadora e condensadora – Composto de 01 (uma) unidade evaporadora e 01 (uma) unidade condensadora. | E24: 339039-25 | F24: XX | G24: Serviço | H24: CONFORME MEMORIAL | I24: 20 | J24: 525 | L24: =K24-(SUM(N24:Y24)) -> 0 | M24: =IF(L24<0,"ATENÇÃO","OK") -> OK | N24: 0 | O24: 0 | P24: 0 | Q24: 0 | R24: 0 | S24: 0 | T24: 0 | U24: 0 | V24: 0 | W24: 0 | X24: 0 | Y24: 0
C25: 22 | D25: Instalação completa de equipamento de ar-condicionado tipo "split" de 25.000 a 48.000 BTU/h incluindo até 3 metros de distância entre evaporadora e condensadora – Composto de 01 (uma) unidade evaporadora e 01 (uma) unidade condensadora. | E25: 339039-25 | F25: XX | G25: Serviço | H25: CONFORME MEMORIAL | I25: 20 | J25: 608 | L25: =K25-(SUM(N25:Y25)) -> 0 | M25: =IF(L25<0,"ATENÇÃO","OK") -> OK | N25: 0 | O25: 0 | P25: 0 | Q25: 0 | R25: 0 | S25: 0 | T25: 0 | U25: 0 | V25: 0 | W25: 0 | X25: 0 | Y25: 0
C26: 23 | D26: Instalação completa de equipamento de ar-condicionado tipo "split" acima de 48.000 BTU/h incluindo até 3 metros de distância entre evaporadora e condensadora – Composto de 01 (uma) unidade evaporadora e 01 (uma) unidade condensadora. | E26: 339039-25 | F26: XX | G26: Serviço | H26: CONFORME MEMORIAL | I26: 20 | J26: 650 | L26: =K26-(SUM(N26:Y26)) -> 0 | M26: =IF(L26<0,"ATENÇÃO","OK") -> OK | N26: 0 | O26: 0 | P26: 0 | Q26: 0 | R26: 0 | S26: 0 | T26: 0 | U26: 0 | V26: 0 | W26: 0 | X26: 0 | Y26: 0
C27: 24 | D27: Metro adicional de linha para instalação de split até 24.000 BTU/h. | E27: 339039-25 | F27: ELUMA | G27: Metro | H27: CONFORME MEMORIAL | I27: 20 | J27: 20 | L27: =K27-(SUM(N27:Y27)) -> 0 | M27: =IF(L27<0,"ATENÇÃO","OK") -> OK | N27: 0 | O27: 0 | P27: 0 | Q27: 0 | R27: 0 | S27: 0 | T27: 0 | U27: 0 | V27: 0 | W27: 0 | X27: 0 | Y27: 0
C28: 25 | D28: Metro adicional de linha para instalação de split de 25.000 a 48.000 BTU/h. | E28: 339039-25 | F28: ELUMA | G28: Metro | H28: CONFORME MEMORIAL | I28: 20 | J28: 25 | L28: =K28-(SUM(N28:Y28)) -> 0 | M28: =IF(L28<0,"ATENÇÃO","OK") -> OK | N28: 0 | O28: 0 | P28: 0 | Q28: 0 | R28: 0 | S28: 0 | T28: 0 | U28: 0 | V28: 0 | W28: 0 | X28: 0 | Y28: 0
C29: 26 | D29: Metro adicional de linha para instalação de split acima de 48.000 BTU/h. | E29: 339039-25 | F29: ELUMA | G29: Metro | H29: CONFORME MEMORIAL | I29: 20 | J29: 28.5 | L29: =K29-(SUM(N29:Y29)) -> 0 | M29: =IF(L29<0,"ATENÇÃO","OK") -> OK | N29: 0 | O29: 0 | P29: 0 | Q29: 0 | R29: 0 | S29: 0 | T29: 0 | U29: 0 | V29: 0 | W29: 0 | X29: 0 | Y29: 0
C30: 27 | D30: Desinstalação de equipamento de ar-condicionado. | E30: 339039-25 | F30: XX | G30: Serviço | H30: CONFORME MEMORIAL | I30: 20 | J30: 197 | L30: =K30-(SUM(N30:Y30)) -> 0 | M30: =IF(L30<0,"ATENÇÃO","OK") -> OK | N30: 0 | O30: 0 | P30: 0 | Q30: 0 | R30: 0 | S30: 0 | T30: 0 | U30: 0 | V30: 0 | W30: 0 | X30: 0 | Y30: 0
C31: 28 | D31: Reposição de equipamento de ar condicionado. | E31: 339039-25 | F31: XX | G31: Serviço | H31: CONFORME MEMORIAL | I31: 20 | J31: 250 | L31: =K31-(SUM(N31:Y31)) -> 0 | M31: =IF(L31<0,"ATENÇÃO","OK") -> OK | N31: 0 | O31: 0 | P31: 0 | Q31: 0 | R31: 0 | S31: 0 | T31: 0 | U31: 0 | V31: 0 | W31: 0 | X31: 0 | Y31: 0
C32: 29 | D32: Instalação de Cortina de Ar. | E32: 339039-25 | F32: XX | G32: Serviço | H32: CONFORME MEMORIAL | I32: 20 | J32: 202 | L32: =K32-(SUM(N32:Y32)) -> 0 | M32: =IF(L32<0,"ATENÇÃO","OK") -> OK | N32: 0 | O32: 0 | P32: 0 | Q32: 0 | R32: 0 | S32: 0 | T32: 0 | U32: 0 | V32: 0 | W32: 0 | X32: 0 | Y32: 0
A33: Frimac Refrigeração Eireli ME | B33: 21 | C33: 30 | D33: Instalação completa de equipamento de ar-condicionado tipo "split" até 24.000 BTU/h incluindo até 3 metros de distância entre evaporadora e condensadora – Composto de 01 (uma) unidade evaporadora e 01 (uma) unidade condensadora. | E33: 339039-25 | F33: XX | G33: Serviço | H33: CONFORME MEMORIAL | I33: 20 | J33: 523 | K33: 60 | L33: =K33-(SUM(N33:Y33)) -> 60 | M33: =IF(L33<0,"ATENÇÃO","OK") -> OK | N33: 0 | O33: 0 | P33: 0 | Q33: 0 | R33: 0 | S33: 0 | T33: 0 | U33: 0 | V33: 0 | W33: 0 | X33: 0 | Y33: 0
C34: 31 | D34: Instalação completa de equipamento de ar-condicionado tipo "split" acima de 48.000 BTU/h incluindo até 3 metros de distância entre evaporadora e condensadora – Composto de 01 (uma) unidade evaporadora e 01 (uma) unidade condensadora. | E34: 339039-25 | F34: XX | G34: Serviço | H34: CONFORME MEMORIAL | I34: 20 | J34: 655 | K34: 16 | L34: =K34-(SUM(N34:Y34)) -> 16 | M34: =IF(L34<0,"ATENÇÃO","OK") -> OK | N34: 0 | O34: 0 | P34: 0 | Q34: 0 | R34: 0 | S34: 0 | T34: 0 | U34: 0 | V34: 0 | W34: 0 | X34: 0 | Y34: 0
C35: 32 | D35: Metro adicional de linha para instalação de split até 24.000 BTU/h. | E35: 339039-25 | F35: ELUMA | G35: Metro | H35: CONFORME MEMORIAL | I35: 20 | J35: 20 | K35: 600 | L35: =K35-(SUM(N35:Y35)) -> 600 | M35: =IF(L35<0,"ATENÇÃO","OK") -> OK | N35: 0 | O35: 0 | P35: 0 | Q35: 0 | R35: 0 | S35: 0 | T35: 0 | U35: 0 | V35: 0 | W35: 0 | X35: 0 | Y35: 0
C36: 33 | D36: Metro adicional de linha para instalação de split acima de 48.000 BTU/h. | E36: 339039-25 | F36: ELUMA | G36: Metro | H36: CONFORME MEMORIAL | I36: 20 | J36: 28.5 | K36: 200 | L36: =K36-(SUM(N36:Y36)) -> 200 | M36: =IF(L36<0,"ATENÇÃO","OK") -> OK | N36: 0 | O36: 0 | P36: 0 | Q36: 0 | R36: 0 | S36: 0 | T36: 0 | U36: 0 | V36: 0 | W36: 0 | X36: 0 | Y36: 0
C37: 34 | D37: Desinstalação de equipamento de ar-condicionado. | E37: 339039-25 | F37: XX | G37: Serviço | H37: CONFORME MEMORIAL | I37: 20 | J37: 197 | K37: 30 | L37: =K37-(SUM(N37:Y37)) -> 27 | M37: =IF(L37<0,"ATENÇÃO","OK") -> OK | N37: 2 | O37: 1 | P37: 0 | Q37: 0 | R37: 0 | S37: 0 | T37: 0 | U37: 0 | V37: 0 | W37: 0 | X37: 0 | Y37: 0
C38: 35 | D38: Reposição de equipamento de ar condicionado. | E38: 339039-25 | F38: XX | G38: Serviço | H38: CONFORME MEMORIAL | I38: 20 | J38: 250 | L38: =K38-(SUM(N38:Y38)) -> 0 | M38: =IF(L38<0,"ATENÇÃO","OK") -> OK | N38: 0 | O38: 0 | P38: 0 | Q38: 0 | R38: 0 | S38: 0 | T38: 0 | U38: 0 | V38: 0 | W38: 0 | X38: 0 | Y38: 0
C39: 36 | D39: Instalação de Cortina de Ar. | E39: 339039-25 | F39: XX | G39: Serviço | H39: CONFORME MEMORIAL | I39: 20 | J39: 202 | L39: =K39-(SUM(N39:Y39)) -> 0 | M39: =IF(L39<0,"ATENÇÃO","OK") -> OK | N39: 0 | O39: 0 | P39: 0 | Q39: 0 | R39: 0 | S39: 0 | T39: 0 | U39: 0 | V39: 0 | W39: 0 | X39: 0 | Y39: 0
A40: Akon Ltda ME | B40: 22 | C40: 37 | D40: Instalação completa de equipamento de ar-condicionado tipo "split" até 24.000 BTU/h incluindo até 3 metros de distância entre evaporadora e condensadora – Composto de 01 (uma) unidade evaporadora e 01 (uma) unidade condensadora. | E40: 339039-25 | F40: AKON | G40: Serviço | H40: CONFORME MEMORIAL | I40: 20 | J40: 460 | L40: =K40-(SUM(N40:Y40)) -> 0 | M40: =IF(L40<0,"ATENÇÃO","OK") -> OK | N40: 0 | O40: 0 | P40: 0 | Q40: 0 | R40: 0 | S40: 0 | T40: 0 | U40: 0 | V40: 0 | W40: 0 | X40: 0 | Y40: 0
C41: 38 | D41: Instalação completa de equipamento de ar-condicionado tipo "split" de 25.000 a 48.000 BTU/h incluindo até 3 metros de distância entre evaporadora e condensadora – Composto de 01 (uma) unidade evaporadora e 01 (uma) unidade condensadora. | E41: 339039-25 | F41: AKON | G41: Serviço | H41: CONFORME MEMORIAL | I41: 20 | J41: 550 | L41: =K41-(SUM(N41:Y41)) -> 0 | M41: =IF(L41<0,"ATENÇÃO","OK") -> OK | N41: 0 | O41: 0 | P41: 0 | Q41: 0 | R41: 0 | S41: 0 | T41: 0 | U41: 0 | V41: 0 | W41: 0 | X41: 0 | Y41: 0
C42: 39 | D42: Metro adicional de linha para instalação de split até 24.000 BTU/h. | E42: 339039-25 | F42: AKON | G42: Metro | H42: CONFORME MEMORIAL | I42: 20 | J42: 40 | L42: =K42-(SUM(N42:Y42)) -> 0 | M42: =IF(L42<0,"ATENÇÃO","OK") -> OK | N42: 0 | O42: 0 | P42: 0 | Q42: 0 | R42: 0 | S42: 0 | T42: 0 | U42: 0 | V42: 0 | W42: 0 | X42: 0 | Y42: 0
A43: W & Z Comércio e Serviços Hospitalares Ltda | B43: 23 | C43: 40 | D43: Instalação completa de equipamento de ar-condicionado tipo "split" até 24.000 BTU/h incluindo até 3 metros de distância entre evaporadora e condensadora – Composto de 01 (uma) unidade evaporadora e 01 (uma) unidade condensadora. | E43: 339039-25 | F43: W&Z | G43: Serviço | H43: CONFORME MEMORIAL | I43: 20 | J43: 490 | L43: =K43-(SUM(N43:Y43)) -> 0 | M43: =IF(L43<0,"ATENÇÃO","OK") -> OK | N43: 0 | O43: 0 | P43: 0 | Q43: 0 | R43: 0 | S43: 0 | T43: 0 | U43: 0 | V43: 0 | W43: 0 | X43: 0 | Y43: 0
C44: 41 | D44: Instalação completa de equipamento de ar-condicionado tipo "split" de 25.000 a 48.000 BTU/h incluindo até 3 metros de distância entre evaporadora e condensadora – Composto de 01 (uma) unidade evaporadora e 01 (uma) unidade condensadora. | E44: 339039-25 | F44: W&Z | G44: Serviço | H44: CONFORME MEMORIAL | I44: 20 | J44: 570 | L44: =K44-(SUM(N44:Y44)) -> 0 | M44: =IF(L44<0,"ATENÇÃO","OK") -> OK | N44: 0 | O44: 0 | P44: 0 | Q44: 0 | R44: 0 | S44: 0 | T44: 0 | U44: 0 | V44: 0 | W44: 0 | X44: 0 | Y44: 0
C45: 42 | D45: Instalação completa de equipamento de ar-condicionado tipo "split" acima de 48.000 BTU/h incluindo até 3 metros de distância entre evaporadora e condensadora – Composto de 01 (uma) unidade evaporadora e 01 (uma) unidade condensadora. | E45: 339039-25 | F45: W&Z | G45: Serviço | H45: CONFORME MEMORIAL | I45: 20 | J45: 600.01 | L45: =K45-(SUM(N45:Y45)) -> 0 | M45: =IF(L45<0,"ATENÇÃO","OK") -> OK | N45: 0 | O45: 0 | P45: 0 | Q45: 0 | R45: 0 | S45: 0 | T45: 0 | U45: 0 | V45: 0 | W45: 0 | X45: 0 | Y45: 0
C46: 43 | D46: Metro adicional de linha para instalação de split até 24.000 BTU/h. | E46: 339039-25 | F46: W&Z | G46: Metro | H46: CONFORME MEMORIAL | I46: 20 | J46: 44.49 | L46: =K46-(SUM(N46:Y46)) -> 0 | M46: =IF(L46<0,"ATENÇÃO","OK") -> OK | N46: 0 | O46: 0 | P46: 0 | Q46: 0 | R46: 0 | S46: 0 | T46: 0 | U46: 0 | V46: 0 | W46: 0 | X46: 0 | Y46: 0
C47: 44 | D47: Metro adicional de linha para instalação de split de 25.000 a 48.000 BTU/h. | E47: 339039-25 | F47: W&Z | G47: Metro | H47: CONFORME MEMORIAL | I47: 20 | J47: 53.05 | L47: =K47-(SUM(N47:Y47)) -> 0 | M47: =IF(L47<0,"ATENÇÃO","OK") -> OK | N47: 0 | O47: 0 | P47: 0 | Q47: 0 | R47: 0 | S47: 0 | T47: 0 | U47: 0 | V47: 0 | W47: 0 | X47: 0 | Y47: 0
C48: 45 | D48: Metro adicional de linha para instalação de split acima de 48.000 BTU/h. | E48: 339039-25 | F48: W&Z | G48: Metro | H48: CONFORME MEMORIAL | I48: 20 | J48: 57.55 | L48: =K48-(SUM(N48:Y48)) -> 0 | M48: =IF(L48<0,"ATENÇÃO","OK") -> OK | N48: 0 | O48: 0 | P48: 0 | Q48: 0 | R48: 0 | S48: 0 | T48: 0 | U48: 0 | V48: 0 | W48: 0 | X48: 0 | Y48: 0
C49: 46 | D49: Desinstalação de equipamento de ar-condicionado. | E49: 339039-25 | F49: W&Z | G49: Serviço | H49: CONFORME MEMORIAL | I49: 20 | J49: 197.06 | L49: =K49-(SUM(N49:Y49)) -> 0 | M49: =IF(L49<0,"ATENÇÃO","OK") -> OK | N49: 0 | O49: 0 | P49: 0 | Q49: 0 | R49: 0 | S49: 0 | T49: 0 | U49: 0 | V49: 0 | W49: 0 | X49: 0 | Y49: 0
C50: 47 | D50: Reposição de equipamento de ar condicionado. | E50: 339039-25 | F50: W&Z | G50: Serviço | H50: CONFORME MEMORIAL | I50: 20 | J50: 250 | L50: =K50-(SUM(N50:Y50)) -> 0 | M50: =IF(L50<0,"ATENÇÃO","OK") -> OK | N50: 0 | O50: 0 | P50: 0 | Q50: 0 | R50: 0 | S50: 0 | T50: 0 | U50: 0 | V50: 0 | W50: 0 | X50: 0 | Y50: 0

Sheet CEPLAN
A1: PROCESSO: 859/2014 | D1: OBJETO: Aquisição e instalação de aparelhos de ar condicionado | J1: VIGÊNCIA DA ATA: 27/08/2014 até 26/08/2014 | N1: AF/OS nº xxxx/2014 Qtde. DT | O1: AF/OS nº xxxx/2014 Qtde. DT | P1: AF/OS nº xxxx/2014 Qtde. DT | Q1: AF/OS nº xxxx/2014 Qtde. DT | R1: AF/OS nº xxxx/2014 Qtde. DT | S1: AF/OS nº xxxx/2014 Qtde. DT | T1: AF/OS nº xxxx/2014 Qtde. DT | U1: AF/OS nº xxxx/2014 Qtde. DT | V1: AF/OS nº xxxx/2014 Qtde. DT | W1: AF/OS nº xxxx/2014 Qtde. DT | X1: AF/OS nº xxxx/2014 Qtde. DT | Y1: AF/OS nº xxxx/2014 Qtde. DT
A2: CENTRO PARTICIPANTE: CEPLAN
A3: FORNECEDOR | B3: LOTE | C3: ITEM | D3: PRODUTO - CARACTERÍSTICAS MÍNIMAS | E3: DETALHAMENTO | F3: MARCA | G3: UNIDADE | H3: Entrega (Dias) | I3: Pagto. (Dias) | J3: Preço UNITÁRIO (R$) | K3: Qtde LICITADA | L3: Saldo / Automático | M3: ALERTA | N3: ...../...../...... | O3: ...../...../...... | P3: ...../...../...... | Q3: ...../...../...... | R3: ...../...../...... | S3: ...../...../...... | T3: ...../...../...... | U3: ...../...../...... | V3: ...../...../...... | W3: ...../...../...... | X3: ...../...../...... | Y3: ...../...../......
A4: DSM Distribuidora de Móveis e Suprimentos Eireli EPP | B4: 1 | C4: 1 | D4: Aparelho de ar condicionado tipo Split High Wall (para parede), capacidade frigorífica nominal de 9.000 btu’s, 220 V, somente frio, com controle remoto (individual) sem fio e filtro de ar lavável. Selo PROCEL “A” . | E4: 449052-34 | F4: ELGIN | G4: Peça | H4: CONFORME MEMORIAL | I4: 20 | J4: 1137.77 | L4: =K4-(SUM(N4:Y4)) -> 0 | M4: =IF(L4<0,"ATENÇÃO","OK") -> OK | N4: 0 | O4: 0 | P4: 0 | Q4: 0 | R4: 0 | S4: 0 | T4: 0 | U4: 0 | V4: 0 | W4: 0 | X4: 0 | Y4: 0
A5: LS Climatizações Ltda | B5: 2 | C5: 2 | D5: Aparelho de ar condicionado tipo Split High Wall (para parede), ciclo somente frio, 220 V, capacidade frigorífica nominal de 12.000 btu’s somente frio, com controle remoto (individual) sem fio e filtro de ar lavável. Selo PROCEL “A”. | E5: 449052-34 | F5: KOMECO | G5: Peça | H5: CONFORME MEMORIAL | I5: 20 | J5: 1197.26 | L5: =K5-(SUM(N5:Y5)) -> 0 | M5: =IF(L5<0,"ATENÇÃO","OK") -> OK | N5: 0 | O5: 0 | P5: 0 | Q5: 0 | R5: 0 | S5: 0 | T5: 0 | U5: 0 | V5: 0 | W5: 0 | X5: 0 | Y5: 0
B6: 3 | C6: 3 | D6: Aparelho de ar condicionado tipo Split High Wall, (para parede), ciclo somente frio, capacidade frigorífica nominal de 18.000 btu’s, 220 V, com controle remoto (individual) sem fio e filtro de ar lavável. | E6: 449052-34 | F6: ELGIN | G6: Peça | H6: CONFORME MEMORIAL | I6: 20 | J6: 1590.41 | L6: =K6-(SUM(N6:Y6)) -> 0 | M6: =IF(L6<0,"ATENÇÃO","OK") -> OK | N6: 0 | O6: 0 | P6: 0 | Q6: 0 | R6: 0 | S6: 0 | T6: 0 | U6: 0 | V6: 0 | W6: 0 | X6: 0 | Y6: 0
B7: 4 | C7: 4 | D7: Aparelho de ar condicionado tipo Split High Wall (para parede), ciclo quente e frio: controle remoto sem fio, capacidade nominal de no mínimo 9.000 btus; capacidade de desumidificar o ambiente e filtro de ar lavável, tensão 220 Volts, frequência 60 Hz. Selo PROCEL “A”. | E7: 449052-34 | F7: KOMECO | G7: Peça | H7: CONFORME MEMORIAL | I7: 20 | J7: 1198.63 | L7: =K7-(SUM(N7:Y7)) -> 0 | M7: =IF(L7<0,"ATENÇÃO","OK") -> OK | N7: 0 | O7: 0 | P7: 0 | Q7: 0 | R7: 0 | S7: 0 | T7: 0 | U7: 0 | V7: 0 | W7: 0 | X7: 0 | Y7: 0
B8: 5 | C8: 5 | D8: Aparelho de ar condicionado tipo Split High Wall (para parede), ciclo quente e frio, capacidade frigorífica nominal de 12.000 btu’s, 220 V,com controle remoto (individual) sem fio e filtro de ar lavável. Selo PROCEL “A”. | E8: 449052-34 | F8: KOMECO | G8: Peça | H8: CONFORME MEMORIAL | I8: 20 | J8: 1269.86 | L8: =K8-(SUM(N8:Y8)) -> 0 | M8: =IF(L8<0,"ATENÇÃO","OK") -> OK | N8: 0 | O8: 0 | P8: 0 | Q8: 0 | R8: 0 | S8: 0 | T8: 0 | U8: 0 | V8: 0 | W8: 0 | X8: 0 | Y8: 0
B9: 6 | C9: 6 | D9: Aparelho de ar condicionado tipo Split High Wall (para parede), ciclo quente e frio, capacidade frigorífica nominal de 18.000 btu’s, 220 V,com controle remoto (individual) sem fio e filtro de ar lavável. | E9: 449052-34 | F9: ELGIN | G9: Peça | H9: CONFORME MEMORIAL | I9: 20 | J9: 1713.7 | L9: =K9-(SUM(N9:Y9)) -> 0 | M9: =IF(L9<0,"ATENÇÃO","OK") -> OK | N9: 0 | O9: 0 | P9: 0 | Q9: 0 | R9: 0 | S9: 0 | T9: 0 | U9: 0 | V9: 0 | W9: 0 | X9: 0 | Y9: 0
B10: 7 | C10: 7 | D10: Aparelho de ar condicionado tipo Split High Wall (para parede), ciclo quente e frio, capacidade frigorífica nominal de 24.000 btu’s, 220 V, com controle remoto (individual) sem fio e filtro de ar lavável. | E10: 449052-34 | F10: KOMECO | G10: Peça | H10: CONFORME MEMORIAL | I10: 20 | J10: 2241.1 | L10: =K10-(SUM(N10:Y10)) -> 0 | M10: =IF(L10<0,"ATENÇÃO","OK") -> OK | N10: 0 | O10: 0 | P10: 0 | Q10: 0 | R10: 0 | S10: 0 | T10: 0 | U10: 0 | V10: 0 | W10: 0 | X10: 0 | Y10: 0
B11: 8 | C11: 8 | D11: Aparelho de ar condicionado tipo Split High Wall (para parede), ciclo quente e frio, capacidade frigorífica nominal de 30.000 btu’s, 220 V, com controle remoto (individual) sem fio e filtro de ar lavável. | E11: 449052-34 | F11: ELGIN | G11: Peça | H11: CONFORME MEMORIAL | I11: 20 | J11: 3107.86 | K11: 7 | L11: =K11-(SUM(N11:Y11)) -> 7 | M11: =IF(L11<0,"ATENÇÃO","OK") -> OK | N11: 0 | O11: 0 | P11: 0 | Q11: 0 | R11: 0 | S11: 0 | T11: 0 | U11: 0 | V11: 0 | W11: 0 | X11: 0 | Y11: 0
B12: 9 | C12: 9 | D12: Aparelho de ar condicionado tipo Split Piso Teto, capacidade frigorífica nominal 24.000 BTU’s, ciclo somente frio, 220 V, com controle remoto (individual), sem fio e filtro de ar lavável. | E12: 449052-34 | F12: CARRIER | G12: Peça | H12: CONFORME MEMORIAL | I12: 20 | J12: 3472.6 | L12: =K12-(SUM(N12:Y12)) -> 0 | M12: =IF(L12<0,"ATENÇÃO","OK") -> OK | N12: 0 | O12: 0 | P12: 0 | Q12: 0 | R12: 0 | S12: 0 | T12: 0 | U12: 0 | V12: 0 | W12: 0 | X12: 0 | Y12: 0
A13: DSM Distribuidora de Móveis e Suprimentos Eireli EPP | B13: 10 | C13: 10 | D13: Aparelho de ar condicionado tipo Split Piso Teto, ciclo somente frio, capacidade frigorífica nominal de 30.000 btu’s somente frio, 220 V, com controle remoto (individual) sem fio e filtro de ar lavável. | E13: 449052-34 | F13: ELGIN | G13: Peça | H13: CONFORME MEMORIAL | I13: 20 | J13: 3570 | L13: =K13-(SUM(N13:Y13)) -> 0 | M13: =IF(L13<0,"ATENÇÃO","OK") -> OK | N13: 0 | O13: 0 | P13: 0 | Q13: 0 | R13: 0 | S13: 0 | T13: 0 | U13: 0 | V13: 0 | W13: 0 | X13: 0 | Y13: 0
B14: 11 | C14: 11 | D14: Condicionador de Ar tipo Split Piso Teto – de 36.000 BTU’s ciclo somente frio, com controle remoto (individual) sem fio. | E14: 449052-34 | F14: CARRIER | G14: Peça | H14: CONFORME MEMORIAL | I14: 20 | J14: 4093.33 | L14: =K14-(SUM(N14:Y14)) -> 0 | M14: =IF(L14<0,"ATENÇÃO","OK") -> OK | N14: 0 | O14: 0 | P14: 0 | Q14: 0 | R14: 0 | S14: 0 | T14: 0 | U14: 0 | V14: 0 | W14: 0 | X14: 0 | Y14: 0
C15: 12 | D15: Condicionador de Ar tipo Split Piso Teto – de 48.000 BTU’s ciclo somente frio, com controle remoto (individual) sem fio e filtro de ar lavável. | E15: 449052-34 | F15: ELGIN | G15: Peça | H15: CONFORME MEMORIAL | I15: 20 | J15: 4500 | L15: =K15-(SUM(N15:Y15)) -> 0 | M15: =IF(L15<0,"ATENÇÃO","OK") -> OK | N15: 0 | O15: 0 | P15: 0 | Q15: 0 | R15: 0 | S15: 0 | T15: 0 | U15: 0 | V15: 0 | W15: 0 | X15: 0 | Y15: 0
A16: Tecnoponto Ltda EPP | B16: 12 | C16: 13 | D16: Condicionador de Ar ti Split Piso Teto, ciclo somente frio, 60.000 BTU´s, com controle remoto (individual sem fio). Trifásico 380V, com pressotato de alta e baixa, rele contra inversão de fase. Selo PROCEL até "E". | E16: 449052-34 | F16: KOMECO | G16: Peça | H16: CONFORME MEMORIAL | I16: 20 | J16: 5058.82 | L16: =K16-(SUM(N16:Y16)) -> 0 | M16: =IF(L16<0,"ATENÇÃO","OK") -> OK | N16: 0 | O16: 0 | P16: 0 | Q16: 0 | R16: 0 | S16: 0 | T16: 0 | U16: 0 | V16: 0 | W16: 0 | X16: 0 | Y16: 0
B17: 13 | C17: 14 | D17: Condicionado de Ar tipo Split Piso Teto/Parede, capacidade frigorífica nominal de 36.000 btu’s, ciclos quente e frio, 220 V, com controle remoto sem fio e filtro de ar lavável. | E17: 449052-34 | F17: KOMECO | G17: Peça | H17: CONFORME MEMORIAL | I17: 20 | J17: 4524.9 | L17: =K17-(SUM(N17:Y17)) -> 0 | M17: =IF(L17<0,"ATENÇÃO","OK") -> OK | N17: 0 | O17: 0 | P17: 0 | Q17: 0 | R17: 0 | S17: 0 | T17: 0 | U17: 0 | V17: 0 | W17: 0 | X17: 0 | Y17: 0
B18: 14 | C18: 15 | D18: Condicionador de Ar tipo Split Piso Teto/Parede – de 60.000 BTU’s ciclos quente e frio, com controle remoto - trifásico 380 V, com pressotato de alta e baixa, rele contra inversão de fase. Selo PROCEL até "E". | E18: 449052-34 | F18: KOMECO | G18: Peça | H18: CONFORME MEMORIAL | I18: 20 | J18: 5530 | L18: =K18-(SUM(N18:Y18)) -> 0 | M18: =IF(L18<0,"ATENÇÃO","OK") -> OK | N18: 0 | O18: 0 | P18: 0 | Q18: 0 | R18: 0 | S18: 0 | T18: 0 | U18: 0 | V18: 0 | W18: 0 | X18: 0 | Y18: 0
A19: LS Climatizações Ltda | B19: 15 | C19: 16 | D19: Aparelho de ar condicionado tipo Split Cassete, ciclo FRIO: controle remoto sem fio, capacidade nominal de no mínimo 18.000 btus; tensão 220 Volts. | E19: 449052-34 | F19: CARRIER | G19: Peça | H19: CONFORME MEMORIAL | I19: 20 | J19: 3630.14 | L19: =K19-(SUM(N19:Y19)) -> 0 | M19: =IF(L19<0,"ATENÇÃO","OK") -> OK | N19: 0 | O19: 0 | P19: 0 | Q19: 0 | R19: 0 | S19: 0 | T19: 0 | U19: 0 | V19: 0 | W19: 0 | X19: 0 | Y19: 0
B20: 16 | C20: 17 | D20: Aparelho de ar condicionado tipo Split Cassete, ciclo FRIO: controle remoto sem fio, capacidade nominal de no mínimo 24.000 btus; tensão 220 Volts. | E20: 449052-34 | F20: ELGIN | G20: Peça | H20: CONFORME MEMORIAL | I20: 20 | J20: 3365.75 | L20: =K20-(SUM(N20:Y20)) -> 0 | M20: =IF(L20<0,"ATENÇÃO","OK") -> OK | N20: 0 | O20: 0 | P20: 0 | Q20: 0 | R20: 0 | S20: 0 | T20: 0 | U20: 0 | V20: 0 | W20: 0 | X20: 0 | Y20: 0
B21: 17 | C21: 18 | D21: Aparelho de ar condicionado tipo Split Cassete, ciclo FRIO: controle remoto sem fio, capacidade nominal de no mínimo 36.000 btus; tensão 220 Volts. | E21: 449052-34 | F21: ELGIN | G21: Peça | H21: CONFORME MEMORIAL | I21: 20 | J21: 4330.14 | L21: =K21-(SUM(N21:Y21)) -> 0 | M21: =IF(L21<0,"ATENÇÃO","OK") -> OK | N21: 0 | O21: 0 | P21: 0 | Q21: 0 | R21: 0 | S21: 0 | T21: 0 | U21: 0 | V21: 0 | W21: 0 | X21: 0 | Y21: 0
A22: DSM Distribuidora de Móveis e Suprimentos Eireli EPP | B22: 18 | C22: 19 | D22: Aparelho de ar condicionado tipo Split Cassete, capacidade nominal de no mínimo 60.000 BTU’s ciclo frio, com controle remoto - trifásico 380 V, com pressotato de alta e baixa, rele contra inversão de fase. | E22: 449052-34 | F22: ELGIN | G22: Peça | H22: CONFORME MEMORIAL | I22: 20 | J22: 6508.07 | L22: =K22-(SUM(N22:Y22)) -> 0 | M22: =IF(L22<0,"ATENÇÃO","OK") -> OK | N22: 0 | O22: 0 | P22: 0 | Q22: 0 | R22: 0 | S22: 0 | T22: 0 | U22: 0 | V22: 0 | W22: 0 | X22: 0 | Y22: 0
A23: LS Climatizações Ltda | B23: 19 | C23: 20 | D23: Cortina de Ar. Dimensões aproximadas: (L X A XP): 150 x 23 x 22cm , podendo ter pequena variação de tamanho, dependendo da marca do produto. Monofásico, 220 Volts. Potência (c/v) mínimo de 1/5. Nível máximo de ruído (db): menor que 60db. Modos de operação: ventila. Velocidades (m/s) mínimo de 11. Vazão de ar: mínimo de 1300 m3/h. Temperatura somente ventilação. Recursos função automática. Saída de ar frontal e vertical. Entrada superior de ar. Direcionadores de ar vertical. Recirculação de ar (m3/m) maior que 25. Prazo de garantia de 01 ano. Item incluso: controle remoto. Cor branco. | E23: 449052-34 | F23: MIDEA | G23: Peça | H23: CONFORME MEMORIAL | I23: 20 | J23: 514.28 | L23: =K23-(SUM(N23:Y23)) -> 0 | M23: =IF(L23<0,"ATENÇÃO","OK") -> OK | N23: 0 | O23: 0 | P23: 0 | Q23: 0 | R23: 0 | S23: 0 | T23: 0 | U23: 0 | V23: 0 | W23: 0 | X23: 0 | Y23: 0
A24: Frimac Refrigeração Eireli ME | B24: 20 | C24: 21 | D24: Instalação completa de equipamento de ar-condicionado tipo "split" até 24.000 BTU/h incluindo até 3 metros de distância entre evaporadora e condensadora – Composto de 01 (uma) unidade evaporadora e 01 (uma) unidade condensadora. | E24: 339039-25 | F24: XX | G24: Serviço | H24: CONFORME MEMORIAL | I24: 20 | J24: 525 | L24: =K24-(SUM(N24:Y24)) -> 0 | M24: =IF(L24<0,"ATENÇÃO","OK") -> OK | N24: 0 | O24: 0 | P24: 0 | Q24: 0 | R24: 0 | S24: 0 | T24: 0 | U24: 0 | V24: 0 | W24: 0 | X24: 0 | Y24: 0
C25: 22 | D25: Instalação completa de equipamento de ar-condicionado tipo "split" de 25.000 a 48.000 BTU/h incluindo até 3 metros de distância entre evaporadora e condensadora – Composto de 01 (uma) unidade evaporadora e 01 (uma) unidade condensadora. | E25: 339039-25 | F25: XX | G25: Serviço | H25: CONFORME MEMORIAL | I25: 20 | J25: 608 | L25: =K25-(SUM(N25:Y25)) -> 0 | M25: =IF(L25<0,"ATENÇÃO","OK") -> OK | N25: 0 | O25: 0 | P25: 0 | Q25: 0 | R25: 0 | S25: 0 | T25: 0 | U25: 0 | V25: 0 | W25: 0 | X25: 0 | Y25: 0
C26: 23 | D26: Instalação completa de equipamento de ar-condicionado tipo "split" acima de 48.000 BTU/h incluindo até 3 metros de distância entre evaporadora e condensadora – Composto de 01 (uma) unidade evaporadora e 01 (uma) unidade condensadora. | E26: 339039-25 | F26: XX | G26: Serviço | H26: CONFORME MEMORIAL | I26: 20 | J26: 650 | L26: =K26-(SUM(N26:Y26)) -> 0 | M26: =IF(L26<0,"ATENÇÃO","OK") -> OK | N26: 0 | O26: 0 | P26: 0 | Q26: 0 | R26: 0 | S26: 0 | T26: 0 | U26: 0 | V26: 0 | W26: 0 | X26: 0 | Y26: 0
C27: 24 | D27: Metro adicional de linha para instalação de split até 24.000 BTU/h. | E27: 339039-25 | F27: ELUMA | G27: Metro | H27: CONFORME MEMORIAL | I27: 20 | J27: 20 | L27: =K27-(SUM(N27:Y27)) -> 0 | M27: =IF(L27<0,"ATENÇÃO","OK") -> OK | N27: 0 | O27: 0 | P27: 0 | Q27: 0 | R27: 0 | S27: 0 | T27: 0 | U27: 0 | V27: 0 | W27: 0 | X27: 0 | Y27: 0
C28: 25 | D28: Metro adicional de linha para instalação de split de 25.000 a 48.000 BTU/h. | E28: 339039-25 | F28: ELUMA | G28: Metro | H28: CONFORME MEMORIAL | I28: 20 | J28: 25 | L28: =K28-(SUM(N28:Y28)) -> 0 | M28: =IF(L28<0,"ATENÇÃO","OK") -> OK | N28: 0 | O28: 0 | P28: 0 | Q28: 0 | R28: 0 | S28: 0 | T28: 0 | U28: 0 | V28: 0 | W28: 0 | X28: 0 | Y28: 0
C29: 26 | D29: Metro adicional de linha para instalação de split acima de 48.000 BTU/h. | E29: 339039-25 | F29: ELUMA | G29: Metro | H29: CONFORME MEMORIAL | I29: 20 | J29: 28.5 | L29: =K29-(SUM(N29:Y29)) -> 0 | M29: =IF(L29<0,"ATENÇÃO","OK") -> OK | N29: 0 | O29: 0 | P29: 0 | Q29: 0 | R29: 0 | S29: 0 | T29: 0 | U29: 0 | V29: 0 | W29: 0 | X29: 0 | Y29: 0
C30: 27 | D30: Desinstalação de equipamento de ar-condicionado. | E30: 339039-25 | F30: XX | G30: Serviço | H30: CONFORME MEMORIAL | I30: 20 | J30: 197 | L30: =K30-(SUM(N30:Y30)) -> 0 | M30: =IF(L30<0,"ATENÇÃO","OK") -> OK | N30: 0 | O30: 0 | P30: 0 | Q30: 0 | R30: 0 | S30: 0 | T30: 0 | U30: 0 | V30: 0 | W30: 0 | X30: 0 | Y30: 0
C31: 28 | D31: Reposição de equipamento de ar condicionado. | E31: 339039-25 | F31: XX | G31: Serviço | H31: CONFORME MEMORIAL | I31: 20 | J31: 250 | L31: =K31-(SUM(N31:Y31)) -> 0 | M31: =IF(L31<0,"ATENÇÃO","OK") -> OK | N31: 0 | O31: 0 | P31: 0 | Q31: 0 | R31: 0 | S31: 0 | T31: 0 | U31: 0 | V31: 0 | W31: 0 | X31: 0 | Y31: 0
C32: 29 | D32: Instalação de Cortina de Ar. | E32: 339039-25 | F32: XX | G32: Serviço | H32: CONFORME MEMORIAL | I32: 20 | J32: 202 | L32: =K32-(SUM(N32:Y32)) -> 0 | M32: =IF(L32<0,"ATENÇÃO","OK") -> OK | N32: 0 | O32: 0 | P32: 0 | Q32: 0 | R32: 0 | S32: 0 | T32: 0 | U32: 0 | V32: 0 | W32: 0 | X32: 0 | Y32: 0
A33: Frimac Refrigeração Eireli ME | B33: 21 | C33: 30 | D33: Instalação completa de equipamento de ar-condicionado tipo "split" até 24.000 BTU/h incluindo até 3 metros de distância entre evaporadora e condensadora – Composto de 01 (uma) unidade evaporadora e 01 (uma) unidade condensadora. | E33: 339039-25 | F33: XX | G33: Serviço | H33: CONFORME MEMORIAL | I33: 20 | J33: 523 | L33: =K33-(SUM(N33:Y33)) -> 0 | M33: =IF(L33<0,"ATENÇÃO","OK") -> OK | N33: 0 | O33: 0 | P33: 0 | Q33: 0 | R33: 0 | S33: 0 | T33: 0 | U33: 0 | V33: 0 | W33: 0 | X33: 0 | Y33: 0
C34: 31 | D34: Instalação completa de equipamento de ar-condicionado tipo "split" acima de 48.000 BTU/h incluindo até 3 metros de distância entre evaporadora e condensadora – Composto de 01 (uma) unidade evaporadora e 01 (uma) unidade condensadora. | E34: 339039-25 | F34: XX | G34: Serviço | H34: CONFORME MEMORIAL | I34: 20 | J34: 655 | L34: =K34-(SUM(N34:Y34)) -> 0 | M34: =IF(L34<0,"ATENÇÃO","OK") -> OK | N34: 0 | O34: 0 | P34: 0 | Q34: 0 | R34: 0 | S34: 0 | T34: 0 | U34: 0 | V34: 0 | W34: 0 | X34: 0 | Y34: 0
C35: 32 | D35: Metro adicional de linha para instalação de split até 24.000 BTU/h. | E35: 339039-25 | F35: ELUMA | G35: Metro | H35: CONFORME MEMORIAL | I35: 20 | J35: 20 | L35: =K35-(SUM(N35:Y35)) -> 0 | M35: =IF(L35<0,"ATENÇÃO","OK") -> OK | N35: 0 | O35: 0 | P35: 0 | Q35: 0 | R35: 0 | S35: 0 | T35: 0 | U35: 0 | V35: 0 | W35: 0 | X35: 0 | Y35: 0
C36: 33 | D36: Metro adicional de linha para instalação de split acima de 48.000 BTU/h. | E36: 339039-25 | F36: ELUMA | G36: Metro | H36: CONFORME MEMORIAL | I36: 20 | J36: 28.5 | L36: =K36-(SUM(N36:Y36)) -> 0 | M36: =IF(L36<0,"ATENÇÃO","OK") -> OK | N36: 0 | O36: 0 | P36: 0 | Q36: 0 | R36: 0 | S36: 0 | T36: 0 | U36: 0 | V36: 0 | W36: 0 | X36: 0 | Y36: 0
C37: 34 | D37: Desinstalação de equipamento de ar-condicionado. | E37: 339039-25 | F37: XX | G37: Serviço | H37: CONFORME MEMORIAL | I37: 20 | J37: 197 | L37: =K37-(SUM(N37:Y37)) -> 0 | M37: =IF(L37<0,"ATENÇÃO","OK") -> OK | N37: 0 | O37: 0 | P37: 0 | Q37: 0 | R37: 0 | S37: 0 | T37: 0 | U37: 0 | V37: 0 | W37: 0 | X37: 0 | Y37: 0
C38: 35 | D38: Reposição de equipamento de ar condicionado. | E38: 339039-25 | F38: XX | G38: Serviço | H38: CONFORME MEMORIAL | I38: 20 | J38: 250 | L38: =K38-(SUM(N38:Y38)) -> 0 | M38: =IF(L38<0,"ATENÇÃO","OK") -> OK | N38: 0 | O38: 0 | P38: 0 | Q38: 0 | R38: 0 | S38: 0 | T38: 0 | U38: 0 | V38: 0 | W38: 0 | X38: 0 | Y38: 0
