Workbook
Name diasuteis: #REF!
Name diasuteis: #REF!
Name diasuteis: #REF!
Name diasuteis: #REF!
Name diasuteis: #REF!
Name diasuteis: #REF!
Name diasuteis: #REF!
Name diasuteis: #REF!
Name diasuteis: #REF!
Name diasuteis: #REF!
Name diasuteis: #REF!
Name diasuteis: #REF!
Name diasuteis: #REF!
Name diasuteis: #REF!
Name Ferias: #REF!
Name Ferias: #REF!
Name Ferias: #REF!
Name Ferias: #REF!
Name Ferias: #REF!
Name Ferias: #REF!
Name Ferias: #REF!
Name Ferias: #REF!
Name Ferias: #REF!
Name Ferias: #REF!
Name Ferias: #REF!
Name Ferias: #REF!
Name Ferias: #REF!
Name RD: OFFSET(#REF!,(MATCH(SMALL(#REF!,ROW()-10),#REF!,0)-1),0)

Sheet CEAD
A1: PROCESSO: 0619/2014/UDESC | D1: OBJETO: Serviços de Encadernação, Restauração e Digitalização de acervos das Bibliotecas da UDESC | K1: VIGÊNCIA DA ATA: 16/06/2014 até 16/06/2015 | N1: AF/OS nº xxxx/2014 Qtde. DT | O1: AF/OS nº xxxx/2014 Qtde. DT | P1: AF/OS nº xxxx/2014 Qtde. DT | Q1: AF/OS nº xxxx/2014 Qtde. DT | R1: AF/OS nº xxxx/2014 Qtde. DT | S1: AF/OS nº xxxx/2014 Qtde. DT | T1: AF/OS nº xxxx/2014 Qtde. DT | U1: AF/OS nº xxxx/2014 Qtde. DT | V1: AF/OS nº xxxx/2014 Qtde. DT | W1: AF/OS nº xxxx/2014 Qtde. DT | X1: AF/OS nº xxxx/2014 Qtde. DT | Y1: AF/OS nº xxxx/2014 Qtde. DT
A2: CENTRO PARTICIPANTE: CEAD
A3: FORNECEDOR | B3: LOTE | C3: ITEM | D3: PRODUTO - CARACTERÍSTICAS MÍNIMAS | E3: ELEMENTO | F3: MARCA | G3: UNIDADE | H3: Entrega (Dias) | I3: Pagto. (Dias) | J3: Preço UNITÁRIO (R$) | K3: Qtde LICITADA | L3: Saldo / Automático | M3: ALERTA | N3: ...../...../...... | O3: ...../...../...... | P3: ...../...../...... | Q3: ...../...../...... | R3: ...../...../...... | S3: ...../...../...... | T3: ...../...../...... | U3: ...../...../...... | V3: ...../...../...... | W3: ...../...../...... | X3: ...../...../...... | Y3: ...../...../......
A4: IDEAL ENCADERNAÇÕES LTDA ME | B4: 1 | C4: 1 | D4: Recuperação de capa dura com: costura simples, colagem, cantoneiras e lombadas e colocação de guardas novas | E4: 33.90.39.63 | G4: Pequeno* | I4: 20 | J4: 17 | K4: 15 | L4: =K4-(SUM(N4:Y4)) -> 15 | M4: =IF(L4<0,"ATENÇÃO","OK") -> OK | N4: 0 | O4: 0 | P4: 0 | Q4: 0 | R4: 0 | S4: 0 | T4: 0 | U4: 0 | V4: 0 | W4: 0 | X4: 0 | Y4: 0
C5: 2 | E5: 33.90.39.63 | G5: Médio* | I5: 20 | J5: 17 | K5: 10 | L5: =K5-(SUM(N5:Y5)) -> 10 | M5: =IF(L5<0,"ATENÇÃO","OK") -> OK | N5: 0 | O5: 0 | P5: 0 | Q5: 0 | R5: 0 | S5: 0 | T5: 0 | U5: 0 | V5: 0 | W5: 0 | X5: 0 | Y5: 0
C6: 3 | E6: 33.90.39.63 | G6: Grande* | I6: 20 | J6: 17 | K6: 5 | L6: =K6-(SUM(N6:Y6)) -> 5 | M6: =IF(L6<0,"ATENÇÃO","OK") -> OK | N6: 0 | O6: 0 | P6: 0 | Q6: 0 | R6: 0 | S6: 0 | T6: 0 | U6: 0 | V6: 0 | W6: 0 | X6: 0 | Y6: 0
C7: 4 | D7: Colocação e recuperação de capa brochura com costura, colagens e guardas | E7: 33.90.39.63 | G7: Pequeno* | I7: 20 | J7: 9 | K7: 20 | L7: =K7-(SUM(N7:Y7)) -> 20 | M7: =IF(L7<0,"ATENÇÃO","OK") -> OK | N7: 0 | O7: 0 | P7: 0 | Q7: 0 | R7: 0 | S7: 0 | T7: 0 | U7: 0 | V7: 0 | W7: 0 | X7: 0 | Y7: 0
C8: 5 | E8: 33.90.39.63 | G8: Médio* | I8: 20 | J8: 9.5 | K8: 50 | L8: =K8-(SUM(N8:Y8)) -> 50 | M8: =IF(L8<0,"ATENÇÃO","OK") -> OK | N8: 0 | O8: 0 | P8: 0 | Q8: 0 | R8: 0 | S8: 0 | T8: 0 | U8: 0 | V8: 0 | W8: 0 | X8: 0 | Y8: 0
C9: 6 | E9: 33.90.39.63 | G9: Grande* | I9: 20 | J9: 10 | K9: 5 | L9: =K9-(SUM(N9:Y9)) -> 5 | M9: =IF(L9<0,"ATENÇÃO","OK") -> OK | N9: 0 | O9: 0 | P9: 0 | Q9: 0 | R9: 0 | S9: 0 | T9: 0 | U9: 0 | V9: 0 | W9: 0 | X9: 0 | Y9: 0
C10: 7 | D10: Confecção e colocação de capa dura completa com costura interna, colagem e guardas | E10: 33.90.39.63 | G10: Pequeno* | I10: 20 | J10: 20 | K10: 10 | L10: =K10-(SUM(N10:Y10)) -> 10 | M10: =IF(L10<0,"ATENÇÃO","OK") -> OK | N10: 0 | O10: 0 | P10: 0 | Q10: 0 | R10: 0 | S10: 0 | T10: 0 | U10: 0 | V10: 0 | W10: 0 | X10: 0 | Y10: 0
C11: 8 | E11: 33.90.39.63 | G11: Médio* | I11: 20 | J11: 20 | K11: 10 | L11: =K11-(SUM(N11:Y11)) -> 10 | M11: =IF(L11<0,"ATENÇÃO","OK") -> OK | N11: 0 | O11: 0 | P11: 0 | Q11: 0 | R11: 0 | S11: 0 | T11: 0 | U11: 0 | V11: 0 | W11: 0 | X11: 0 | Y11: 0
C12: 9 | E12: 33.90.39.63 | G12: Grande* | I12: 20 | J12: 20 | K12: 5 | L12: =K12-(SUM(N12:Y12)) -> 5 | M12: =IF(L12<0,"ATENÇÃO","OK") -> OK | N12: 0 | O12: 0 | P12: 0 | Q12: 0 | R12: 0 | S12: 0 | T12: 0 | U12: 0 | V12: 0 | W12: 0 | X12: 0 | Y12: 0
C13: 10 | D13: Higienização c/lixas, guilhotinagem, borracha de maciez, etc | E13: 33.90.39.63 | G13: Unidade | I13: 20 | J13: 5 | K13: 15 | L13: =K13-(SUM(N13:Y13)) -> 15 | M13: =IF(L13<0,"ATENÇÃO","OK") -> OK | N13: 0 | O13: 0 | P13: 0 | Q13: 0 | R13: 0 | S13: 0 | T13: 0 | U13: 0 | V13: 0 | W13: 0 | X13: 0 | Y13: 0
C14: 11 | D14: Enxerto de folhas xerocadas | E14: 33.90.39.63 | G14: por folha | I14: 20 | J14: 0.5 | K14: 50 | L14: =K14-(SUM(N14:Y14)) -> 50 | M14: =IF(L14<0,"ATENÇÃO","OK") -> OK | N14: 0 | O14: 0 | P14: 0 | Q14: 0 | R14: 0 | S14: 0 | T14: 0 | U14: 0 | V14: 0 | W14: 0 | X14: 0 | Y14: 0
C15: 12 | D15: Restauração a úmido c/papel especial | E15: 33.90.39.63 | G15: por folha | I15: 20 | J15: 0.5 | K15: 30 | L15: =K15-(SUM(N15:Y15)) -> 30 | M15: =IF(L15<0,"ATENÇÃO","OK") -> OK | N15: 0 | O15: 0 | P15: 0 | Q15: 0 | R15: 0 | S15: 0 | T15: 0 | U15: 0 | V15: 0 | W15: 0 | X15: 0 | Y15: 0
C16: 13 | D16: Aplicação de carcelas | E16: 33.90.39.63 | G16: por folha | I16: 20 | J16: 0.25 | K16: 50 | L16: =K16-(SUM(N16:Y16)) -> 50 | M16: =IF(L16<0,"ATENÇÃO","OK") -> OK | N16: 0 | O16: 0 | P16: 0 | Q16: 0 | R16: 0 | S16: 0 | T16: 0 | U16: 0 | V16: 0 | W16: 0 | X16: 0 | Y16: 0
C17: 14 | D17: Remoção de fita adesiva | E17: 33.90.39.63 | G17: metro linear | I17: 20 | J17: 0.5 | K17: 20 | L17: =K17-(SUM(N17:Y17)) -> 20 | M17: =IF(L17<0,"ATENÇÃO","OK") -> OK | N17: 0 | O17: 0 | P17: 0 | Q17: 0 | R17: 0 | S17: 0 | T17: 0 | U17: 0 | V17: 0 | W17: 0 | X17: 0 | Y17: 0
B18: 2 | C18: 15 | D18: Restauração, encadernação e higienização de obras raras e/ou documentos históricos | E18: 33.90.39.63 | G18: Unidade | I18: 20 | J18: 12 | K18: 0 | L18: =K18-(SUM(N18:Y18)) -> 0 | M18: =IF(L18<0,"ATENÇÃO","OK") -> OK | N18: 0 | O18: 0 | P18: 0 | Q18: 0 | R18: 0 | S18: 0 | T18: 0 | U18: 0 | V18: 0 | W18: 0 | X18: 0 | Y18: 0
B19: 3 | C19: 16 | D19: Confecção de embalagens para os livros (caixa em papel triplex” de 300 g, composto de uma camada de uma espécie de papelão revestido de papel alcalino (frente e verso). | E19: 33.90.39.63 | G19: Pequeno* | I19: 20 | J19: 4.8 | K19: 0 | L19: =K19-(SUM(N19:Y19)) -> 0 | M19: =IF(L19<0,"ATENÇÃO","OK") -> OK | N19: 0 | O19: 0 | P19: 0 | Q19: 0 | R19: 0 | S19: 0 | T19: 0 | U19: 0 | V19: 0 | W19: 0 | X19: 0 | Y19: 0
A20: A4 DIGITAL PRINT LTDA EPP | B20: 4 | C20: 17 | D20: Digitalização de monografias - Fornecimento de cópia das obras em formato digital (PDF A – OCR) -Três cópias em DVD | E20: 33.90.39.63 | G20: Folha 30X20 | I20: 20 | J20: 0.18 | K20: 0 | L20: =K20-(SUM(N20:Y20)) -> 0 | M20: =IF(L20<0,"ATENÇÃO","OK") -> OK | N20: 0 | O20: 0 | P20: 0 | Q20: 0 | R20: 0 | S20: 0 | T20: 0 | U20: 0 | V20: 0 | W20: 0 | X20: 0 | Y20: 0
C21: 18 | D21: Digitalização de Livros - Fornecimento de cópia das obras em formato digital (PDF A – OCR). Três cópias em DVD | E21: 33.90.39.63 | G21: Folha Pequena* | I21: 20 | J21: 0.21 | K21: 0 | L21: =K21-(SUM(N21:Y21)) -> 0 | M21: =IF(L21<0,"ATENÇÃO","OK") -> OK | N21: 0 | O21: 0 | P21: 0 | Q21: 0 | R21: 0 | S21: 0 | T21: 0 | U21: 0 | V21: 0 | W21: 0 | X21: 0 | Y21: 0
C22: 19 | E22: 33.90.39.63 | G22: Folha Média* | I22: 20 | J22: 0.21 | K22: 0 | L22: =K22-(SUM(N22:Y22)) -> 0 | M22: =IF(L22<0,"ATENÇÃO","OK") -> OK | N22: 0 | O22: 0 | P22: 0 | Q22: 0 | R22: 0 | S22: 0 | T22: 0 | U22: 0 | V22: 0 | W22: 0 | X22: 0 | Y22: 0
C23: 20 | D23: Digitalização de Mapas - Fornecimento de cópia de mapas em formato digital (PDF A – OCR e JPG). - Três cópias em DVD | E23: 33.90.39.63 | G23: Folha Até A4 | I23: 20 | J23: 0.37 | K23: 0 | L23: =K23-(SUM(N23:Y23)) -> 0 | M23: =IF(L23<0,"ATENÇÃO","OK") -> OK | N23: 0 | O23: 0 | P23: 0 | Q23: 0 | R23: 0 | S23: 0 | T23: 0 | U23: 0 | V23: 0 | W23: 0 | X23: 0 | Y23: 0
C24: 21 | E24: 33.90.39.63 | G24: Folha Até A3** | I24: 20 | J24: 0.38 | K24: 0 | L24: =K24-(SUM(N24:Y24)) -> 0 | M24: =IF(L24<0,"ATENÇÃO","OK") -> OK | N24: 0 | O24: 0 | P24: 0 | Q24: 0 | R24: 0 | S24: 0 | T24: 0 | U24: 0 | V24: 0 | W24: 0 | X24: 0 | Y24: 0
C25: 22 | E25: 33.90.39.63 | G25: Folha Até A2** | I25: 20 | J25: 1.8 | K25: 0 | L25: =K25-(SUM(N25:Y25)) -> 0 | M25: =IF(L25<0,"ATENÇÃO","OK") -> OK | N25: 0 | O25: 0 | P25: 0 | Q25: 0 | R25: 0 | S25: 0 | T25: 0 | U25: 0 | V25: 0 | W25: 0 | X25: 0 | Y25: 0
C26: 23 | E26: 33.90.39.63 | G26: Folha Até A1** | I26: 20 | J26: 3 | K26: 0 | L26: =K26-(SUM(N26:Y26)) -> 0 | M26: =IF(L26<0,"ATENÇÃO","OK") -> OK | N26: 0 | O26: 0 | P26: 0 | Q26: 0 | R26: 0 | S26: 0 | T26: 0 | U26: 0 | V26: 0 | W26: 0 | X26: 0 | Y26: 0
C27: 24 | E27: 33.90.39.63 | G27: Folha Até A0** | I27: 20 | J27: 4.6 | K27: 0 | L27: =K27-(SUM(N27:Y27)) -> 0 | M27: =IF(L27<0,"ATENÇÃO","OK") -> OK | N27: 0 | O27: 0 | P27: 0 | Q27: 0 | R27: 0 | S27: 0 | T27: 0 | U27: 0 | V27: 0 | W27: 0 | X27: 0 | Y27: 0
C28: 25 | E28: 33.90.39.63 | G28: Folha Acima de A0** | I28: 20 | J28: 5 | K28: 0 | L28: =K28-(SUM(N28:Y28)) -> 0 | M28: =IF(L28<0,"ATENÇÃO","OK") -> OK | N28: 0 | O28: 0 | P28: 0 | Q28: 0 | R28: 0 | S28: 0 | T28: 0 | U28: 0 | V28: 0 | W28: 0 | X28: 0 | Y28: 0
C29: 26 | D29: Digitalização de jornais - Fornecimento de cópia de jornais em formato digital (PDF A – OCR e JPG). - Três cópias em DVD | E29: 33.90.39.63 | G29: Folha Até A3** | I29: 20 | J29: 0.27 | K29: 0 | L29: =K29-(SUM(N29:Y29)) -> 0 | M29: =IF(L29<0,"ATENÇÃO","OK") -> OK | N29: 0 | O29: 0 | P29: 0 | Q29: 0 | R29: 0 | S29: 0 | T29: 0 | U29: 0 | V29: 0 | W29: 0 | X29: 0 | Y29: 0
C30: 27 | E30: 33.90.39.63 | G30: Folha Acima de A0** | I30: 20 | J30: 4.6 | K30: 0 | L30: =K30-(SUM(N30:Y30)) -> 0 | M30: =IF(L30<0,"ATENÇÃO","OK") -> OK | N30: 0 | O30: 0 | P30: 0 | Q30: 0 | R30: 0 | S30: 0 | T30: 0 | U30: 0 | V30: 0 | W30: 0 | X30: 0 | Y30: 0
C32: *Obras: Pequena até A4 (210 x 297 mm), Média até A3 (297 x 420 mm ), Grande acima de A3 (297 x 420 mm)
C33: **Mapas e jornais: Até A4 ( 210 x 297 mm), Até A3 (297 x 420 mm ), Até A2 (420 x 594). Até A1 (594 x 840 mm), Até A0 (840 x 1.188 mm), Acima de A0 (Aicma de 1.188 mm)

Sheet CEART
A1: PROCESSO: 0619/2014/UDESC | D1: OBJETO: Serviços de Encadernação, Restauração e Digitalização de acervos das Bibliotecas da UDESC | K1: VIGÊNCIA DA ATA: 16/06/2014 até 16/06/2015 | N1: OS 1417/2014 | O1: AF/OS nº xxxx/2014 Qtde. DT | P1: AF/OS nº xxxx/2014 Qtde. DT | Q1: AF/OS nº xxxx/2014 Qtde. DT | R1: AF/OS nº xxxx/2014 Qtde. DT | S1: AF/OS nº xxxx/2014 Qtde. DT | T1: AF/OS nº xxxx/2014 Qtde. DT | U1: AF/OS nº xxxx/2014 Qtde. DT | V1: AF/OS nº xxxx/2014 Qtde. DT | W1: AF/OS nº xxxx/2014 Qtde. DT | X1: AF/OS nº xxxx/2014 Qtde. DT | Y1: AF/OS nº xxxx/2014 Qtde. DT
A2: CENTRO PARTICIPANTE: CEART
A3: FORNECEDOR | B3: LOTE | C3: ITEM | D3: PRODUTO - CARACTERÍSTICAS MÍNIMAS | E3: ELEMENTO | F3: MARCA | G3: UNIDADE | H3: Entrega (Dias) | I3: Pagto. (Dias) | J3: Preço UNITÁRIO (R$) | K3: Qtde LICITADA | L3: Saldo / Automático | M3: ALERTA | N3: 41915 | O3: ...../...../...... | P3: ...../...../...... | Q3: ...../...../...... | R3: ...../...../...... | S3: ...../...../...... | T3: ...../...../...... | U3: ...../...../...... | V3: ...../...../...... | W3: ...../...../...... | X3: ...../...../...... | Y3: ...../...../......
A4: IDEAL ENCADERNAÇÕES LTDA ME | B4: 1 | C4: 1 | D4: Recuperação de capa dura com: costura simples, colagem, cantoneiras e lombadas e colocação de guardas novas | E4: 33.90.39.63 | G4: Pequeno* | I4: 20 | J4: 17 | K4: 25 | L4: =K4-(SUM(N4:Y4)) -> 12 | M4: =IF(L4<0,"ATENÇÃO","OK") -> OK | N4: 13 | O4: 0 | P4: 0 | Q4: 0 | R4: 0 | S4: 0 | T4: 0 | U4: 0 | V4: 0 | W4: 0 | X4: 0 | Y4: 0
C5: 2 | E5: 33.90.39.63 | G5: Médio* | I5: 20 | J5: 17 | K5: 30 | L5: =K5-(SUM(N5:Y5)) -> 15 | M5: =IF(L5<0,"ATENÇÃO","OK") -> OK | N5: 15 | O5: 0 | P5: 0 | Q5: 0 | R5: 0 | S5: 0 | T5: 0 | U5: 0 | V5: 0 | W5: 0 | X5: 0 | Y5: 0
C6: 3 | E6: 33.90.39.63 | G6: Grande* | I6: 20 | J6: 17 | K6: 15 | L6: =K6-(SUM(N6:Y6)) -> 7 | M6: =IF(L6<0,"ATENÇÃO","OK") -> OK | N6: 8 | O6: 0 | P6: 0 | Q6: 0 | R6: 0 | S6: 0 | T6: 0 | U6: 0 | V6: 0 | W6: 0 | X6: 0 | Y6: 0
C7: 4 | D7: Colocação e recuperação de capa brochura com costura, colagens e guardas | E7: 33.90.39.63 | G7: Pequeno* | I7: 20 | J7: 9 | K7: 20 | L7: =K7-(SUM(N7:Y7)) -> 10 | M7: =IF(L7<0,"ATENÇÃO","OK") -> OK | N7: 10 | O7: 0 | P7: 0 | Q7: 0 | R7: 0 | S7: 0 | T7: 0 | U7: 0 | V7: 0 | W7: 0 | X7: 0 | Y7: 0
C8: 5 | E8: 33.90.39.63 | G8: Médio* | I8: 20 | J8: 9.5 | K8: 50 | L8: =K8-(SUM(N8:Y8)) -> 25 | M8: =IF(L8<0,"ATENÇÃO","OK") -> OK | N8: 25 | O8: 0 | P8: 0 | Q8: 0 | R8: 0 | S8: 0 | T8: 0 | U8: 0 | V8: 0 | W8: 0 | X8: 0 | Y8: 0
C9: 6 | E9: 33.90.39.63 | G9: Grande* | I9: 20 | J9: 10 | K9: 15 | L9: =K9-(SUM(N9:Y9)) -> 7 | M9: =IF(L9<0,"ATENÇÃO","OK") -> OK | N9: 8 | O9: 0 | P9: 0 | Q9: 0 | R9: 0 | S9: 0 | T9: 0 | U9: 0 | V9: 0 | W9: 0 | X9: 0 | Y9: 0
C10: 7 | D10: Confecção e colocação de capa dura completa com costura interna, colagem e guardas | E10: 33.90.39.63 | G10: Pequeno* | I10: 20 | J10: 20 | K10: 20 | L10: =K10-(SUM(N10:Y10)) -> 10 | M10: =IF(L10<0,"ATENÇÃO","OK") -> OK | N10: 10 | O10: 0 | P10: 0 | Q10: 0 | R10: 0 | S10: 0 | T10: 0 | U10: 0 | V10: 0 | W10: 0 | X10: 0 | Y10: 0
C11: 8 | E11: 33.90.39.63 | G11: Médio* | I11: 20 | J11: 20 | K11: 20 | L11: =K11-(SUM(N11:Y11)) -> 10 | M11: =IF(L11<0,"ATENÇÃO","OK") -> OK | N11: 10 | O11: 0 | P11: 0 | Q11: 0 | R11: 0 | S11: 0 | T11: 0 | U11: 0 | V11: 0 | W11: 0 | X11: 0 | Y11: 0
C12: 9 | E12: 33.90.39.63 | G12: Grande* | I12: 20 | J12: 20 | K12: 10 | L12: =K12-(SUM(N12:Y12)) -> 5 | M12: =IF(L12<0,"ATENÇÃO","OK") -> OK | N12: 5 | O12: 0 | P12: 0 | Q12: 0 | R12: 0 | S12: 0 | T12: 0 | U12: 0 | V12: 0 | W12: 0 | X12: 0 | Y12: 0
C13: 10 | D13: Higienização c/lixas, guilhotinagem, borracha de maciez, etc | E13: 33.90.39.63 | G13: Unidade | I13: 20 | J13: 5 | K13: 15 | L13: =K13-(SUM(N13:Y13)) -> 7 | M13: =IF(L13<0,"ATENÇÃO","OK") -> OK | N13: 8 | O13: 0 | P13: 0 | Q13: 0 | R13: 0 | S13: 0 | T13: 0 | U13: 0 | V13: 0 | W13: 0 | X13: 0 | Y13: 0
C14: 11 | D14: Enxerto de folhas xerocadas | E14: 33.90.39.63 | G14: por folha | I14: 20 | J14: 0.5 | K14: 70 | L14: =K14-(SUM(N14:Y14)) -> 35 | M14: =IF(L14<0,"ATENÇÃO","OK") -> OK | N14: 35 | O14: 0 | P14: 0 | Q14: 0 | R14: 0 | S14: 0 | T14: 0 | U14: 0 | V14: 0 | W14: 0 | X14: 0 | Y14: 0
C15: 12 | D15: Restauração a úmido c/papel especial | E15: 33.90.39.63 | G15: por folha | I15: 20 | J15: 0.5 | K15: 30 | L15: =K15-(SUM(N15:Y15)) -> 15 | M15: =IF(L15<0,"ATENÇÃO","OK") -> OK | N15: 15 | O15: 0 | P15: 0 | Q15: 0 | R15: 0 | S15: 0 | T15: 0 | U15: 0 | V15: 0 | W15: 0 | X15: 0 | Y15: 0
C16: 13 | D16: Aplicação de carcelas | E16: 33.90.39.63 | G16: por folha | I16: 20 | J16: 0.25 | K16: 80 | L16: =K16-(SUM(N16:Y16)) -> 40 | M16: =IF(L16<0,"ATENÇÃO","OK") -> OK | N16: 40 | O16: 0 | P16: 0 | Q16: 0 | R16: 0 | S16: 0 | T16: 0 | U16: 0 | V16: 0 | W16: 0 | X16: 0 | Y16: 0
C17: 14 | D17: Remoção de fita adesiva | E17: 33.90.39.63 | G17: metro linear | I17: 20 | J17: 0.5 | K17: 60 | L17: =K17-(SUM(N17:Y17)) -> 30 | M17: =IF(L17<0,"ATENÇÃO","OK") -> OK | N17: 30 | O17: 0 | P17: 0 | Q17: 0 | R17: 0 | S17: 0 | T17: 0 | U17: 0 | V17: 0 | W17: 0 | X17: 0 | Y17: 0
B18: 2 | C18: 15 | D18: Restauração, encadernação e higienização de obras raras e/ou documentos históricos | E18: 33.90.39.63 | G18: Unidade | I18: 20 | J18: 12 | K18: 0 | L18: =K18-(SUM(N18:Y18)) -> 0 | M18: =IF(L18<0,"ATENÇÃO","OK") -> OK | N18: 0 | O18: 0 | P18: 0 | Q18: 0 | R18: 0 | S18: 0 | T18: 0 | U18: 0 | V18: 0 | W18: 0 | X18: 0 | Y18: 0
B19: 3 | C19: 16 | D19: Confecção de embalagens para os livros (caixa em papel triplex” de 300 g, composto de uma camada de uma espécie de papelão revestido de papel alcalino (frente e verso). | E19: 33.90.39.63 | G19: Pequeno* | I19: 20 | J19: 4.8 | K19: 0 | L19: =K19-(SUM(N19:Y19)) -> 0 | M19: =IF(L19<0,"ATENÇÃO","OK") -> OK | N19: 0 | O19: 0 | P19: 0 | Q19: 0 | R19: 0 | S19: 0 | T19: 0 | U19: 0 | V19: 0 | W19: 0 | X19: 0 | Y19: 0
A20: A4 DIGITAL PRINT LTDA EPP | B20: 4 | C20: 17 | D20: Digitalização de monografias - Fornecimento de cópia das obras em formato digital (PDF A – OCR) -Três cópias em DVD | E20: 33.90.39.63 | G20: Folha 30X20 | I20: 20 | J20: 0.18 | K20: 0 | L20: =K20-(SUM(N20:Y20)) -> 0 | M20: =IF(L20<0,"ATENÇÃO","OK") -> OK | N20: 0 | O20: 0 | P20: 0 | Q20: 0 | R20: 0 | S20: 0 | T20: 0 | U20: 0 | V20: 0 | W20: 0 | X20: 0 | Y20: 0
C21: 18 | D21: Digitalização de Livros - Fornecimento de cópia das obras em formato digital (PDF A – OCR). Três cópias em DVD | E21: 33.90.39.63 | G21: Folha Pequena* | I21: 20 | J21: 0.21 | K21: 0 | L21: =K21-(SUM(N21:Y21)) -> 0 | M21: =IF(L21<0,"ATENÇÃO","OK") -> OK | N21: 0 | O21: 0 | P21: 0 | Q21: 0 | R21: 0 | S21: 0 | T21: 0 | U21: 0 | V21: 0 | W21: 0 | X21: 0 | Y21: 0
C22: 19 | E22: 33.90.39.63 | G22: Folha Média* | I22: 20 | J22: 0.21 | K22: 0 | L22: =K22-(SUM(N22:Y22)) -> 0 | M22: =IF(L22<0,"ATENÇÃO","OK") -> OK | N22: 0 | O22: 0 | P22: 0 | Q22: 0 | R22: 0 | S22: 0 | T22: 0 | U22: 0 | V22: 0 | W22: 0 | X22: 0 | Y22: 0
C23: 20 | D23: Digitalização de Mapas - Fornecimento de cópia de mapas em formato digital (PDF A – OCR e JPG). - Três cópias em DVD | E23: 33.90.39.63 | G23: Folha Até A4 | I23: 20 | J23: 0.37 | K23: 0 | L23: =K23-(SUM(N23:Y23)) -> 0 | M23: =IF(L23<0,"ATENÇÃO","OK") -> OK | N23: 0 | O23: 0 | P23: 0 | Q23: 0 | R23: 0 | S23: 0 | T23: 0 | U23: 0 | V23: 0 | W23: 0 | X23: 0 | Y23: 0
C24: 21 | E24: 33.90.39.63 | G24: Folha Até A3** | I24: 20 | J24: 0.38 | K24: 0 | L24: =K24-(SUM(N24:Y24)) -> 0 | M24: =IF(L24<0,"ATENÇÃO","OK") -> OK | N24: 0 | O24: 0 | P24: 0 | Q24: 0 | R24: 0 | S24: 0 | T24: 0 | U24: 0 | V24: 0 | W24: 0 | X24: 0 | Y24: 0
C25: 22 | E25: 33.90.39.63 | G25: Folha Até A2** | I25: 20 | J25: 1.8 | K25: 0 | L25: =K25-(SUM(N25:Y25)) -> 0 | M25: =IF(L25<0,"ATENÇÃO","OK") -> OK | N25: 0 | O25: 0 | P25: 0 | Q25: 0 | R25: 0 | S25: 0 | T25: 0 | U25: 0 | V25: 0 | W25: 0 | X25: 0 | Y25: 0
C26: 23 | E26: 33.90.39.63 | G26: Folha Até A1** | I26: 20 | J26: 3 | K26: 0 | L26: =K26-(SUM(N26:Y26)) -> 0 | M26: =IF(L26<0,"ATENÇÃO","OK") -> OK | N26: 0 | O26: 0 | P26: 0 | Q26: 0 | R26: 0 | S26: 0 | T26: 0 | U26: 0 | V26: 0 | W26: 0 | X26: 0 | Y26: 0
C27: 24 | E27: 33.90.39.63 | G27: Folha Até A0** | I27: 20 | J27: 4.6 | K27: 0 | L27: =K27-(SUM(N27:Y27)) -> 0 | M27: =IF(L27<0,"ATENÇÃO","OK") -> OK | N27: 0 | O27: 0 | P27: 0 | Q27: 0 | R27: 0 | S27: 0 | T27: 0 | U27: 0 | V27: 0 | W27: 0 | X27: 0 | Y27: 0
C28: 25 | E28: 33.90.39.63 | G28: Folha Acima de A0** | I28: 20 | J28: 5 | K28: 0 | L28: =K28-(SUM(N28:Y28)) -> 0 | M28: =IF(L28<0,"ATENÇÃO","OK") -> OK | N28: 0 | O28: 0 | P28: 0 | Q28: 0 | R28: 0 | S28: 0 | T28: 0 | U28: 0 | V28: 0 | W28: 0 | X28: 0 | Y28: 0
C29: 26 | D29: Digitalização de jornais - Fornecimento de cópia de jornais em formato digital (PDF A – OCR e JPG). - Três cópias em DVD | E29: 33.90.39.63 | G29: Folha Até A3** | I29: 20 | J29: 0.27 | K29: 0 | L29: =K29-(SUM(N29:Y29)) -> 0 | M29: =IF(L29<0,"ATENÇÃO","OK") -> OK | N29: 0 | O29: 0 | P29: 0 | Q29: 0 | R29: 0 | S29: 0 | T29: 0 | U29: 0 | V29: 0 | W29: 0 | X29: 0 | Y29: 0
C30: 27 | E30: 33.90.39.63 | G30: Folha Acima de A0** | I30: 20 | J30: 4.6 | K30: 0 | L30: =K30-(SUM(N30:Y30)) -> 0 | M30: =IF(L30<0,"ATENÇÃO","OK") -> OK | N30: 0 | O30: 0 | P30: 0 | Q30: 0 | R30: 0 | S30: 0 | T30: 0 | U30: 0 | V30: 0 | W30: 0 | X30: 0 | Y30: 0
C32: *Obras: Pequena até A4 (210 x 297 mm), Média até A3 (297 x 420 mm ), Grande acima de A3 (297 x 420 mm)
C33: **Mapas e jornais: Até A4 ( 210 x 297 mm), Até A3 (297 x 420 mm ), Até A2 (420 x 594). Até A1 (594 x 840 mm), Até A0 (840 x 1.188 mm), Acima de A0 (Aicma de 1.188 mm)

Sheet CEFID
A1: PROCESSO: 0619/2014/UDESC | D1: OBJETO: Serviços de Encadernação, Restauração e Digitalização de acervos das Bibliotecas da UDESC | K1: VIGÊNCIA DA ATA: 16/06/2014 até 16/06/2015 | N1: AF/OS nº 1215/2014 Qtde. DT | O1: AF/OS nº xxxx/2014 Qtde. DT | P1: AF/OS nº xxxx/2014 Qtde. DT | Q1: AF/OS nº xxxx/2014 Qtde. DT | R1: AF/OS nº xxxx/2014 Qtde. DT | S1: AF/OS nº xxxx/2014 Qtde. DT | T1: AF/OS nº xxxx/2014 Qtde. DT | U1: AF/OS nº xxxx/2014 Qtde. DT | V1: AF/OS nº xxxx/2014 Qtde. DT | W1: AF/OS nº xxxx/2014 Qtde. DT | X1: AF/OS nº xxxx/2014 Qtde. DT | Y1: AF/OS nº xxxx/2014 Qtde. DT
A2: CENTRO PARTICIPANTE: CEFID
A3: FORNECEDOR | B3: LOTE | C3: ITEM | D3: PRODUTO - CARACTERÍSTICAS MÍNIMAS | E3: ELEMENTO | F3: MARCA | G3: UNIDADE | H3: Entrega (Dias) | I3: Pagto. (Dias) | J3: Preço UNITÁRIO (R$) | K3: Qtde LICITADA | L3: Saldo / Automático | M3: ALERTA | N3: 41891 | O3: ...../...../...... | P3: ...../...../...... | Q3: ...../...../...... | R3: ...../...../...... | S3: ...../...../...... | T3: ...../...../...... | U3: ...../...../...... | V3: ...../...../...... | W3: ...../...../...... | X3: ...../...../...... | Y3: ...../...../......
A4: IDEAL ENCADERNAÇÕES LTDA ME | B4: 1 | C4: 1 | D4: Recuperação de capa dura com: costura simples, colagem, cantoneiras e lombadas e colocação de guardas novas | E4: 33.90.39.63 | G4: Pequeno* | I4: 20 | J4: 17 | K4: 30 | L4: =K4-(SUM(N4:Y4)) -> 15 | M4: =IF(L4<0,"ATENÇÃO","OK") -> OK | N4: 15 | O4: 0 | P4: 0 | Q4: 0 | R4: 0 | S4: 0 | T4: 0 | U4: 0 | V4: 0 | W4: 0 | X4: 0 | Y4: 0
C5: 2 | E5: 33.90.39.63 | G5: Médio* | I5: 20 | J5: 17 | K5: 50 | L5: =K5-(SUM(N5:Y5)) -> 25 | M5: =IF(L5<0,"ATENÇÃO","OK") -> OK | N5: 25 | O5: 0 | P5: 0 | Q5: 0 | R5: 0 | S5: 0 | T5: 0 | U5: 0 | V5: 0 | W5: 0 | X5: 0 | Y5: 0
C6: 3 | E6: 33.90.39.63 | G6: Grande* | I6: 20 | J6: 17 | K6: 50 | L6: =K6-(SUM(N6:Y6)) -> 25 | M6: =IF(L6<0,"ATENÇÃO","OK") -> OK | N6: 25 | O6: 0 | P6: 0 | Q6: 0 | R6: 0 | S6: 0 | T6: 0 | U6: 0 | V6: 0 | W6: 0 | X6: 0 | Y6: 0
C7: 4 | D7: Colocação e recuperação de capa brochura com costura, colagens e guardas | E7: 33.90.39.63 | G7: Pequeno* | I7: 20 | J7: 9 | K7: 30 | L7: =K7-(SUM(N7:Y7)) -> 15 | M7: =IF(L7<0,"ATENÇÃO","OK") -> OK | N7: 15 | O7: 0 | P7: 0 | Q7: 0 | R7: 0 | S7: 0 | T7: 0 | U7: 0 | V7: 0 | W7: 0 | X7: 0 | Y7: 0
C8: 5 | E8: 33.90.39.63 | G8: Médio* | I8: 20 | J8: 9.5 | K8: 30 | L8: =K8-(SUM(N8:Y8)) -> 15 | M8: =IF(L8<0,"ATENÇÃO","OK") -> OK | N8: 15 | O8: 0 | P8: 0 | Q8: 0 | R8: 0 | S8: 0 | T8: 0 | U8: 0 | V8: 0 | W8: 0 | X8: 0 | Y8: 0
C9: 6 | E9: 33.90.39.63 | G9: Grande* | I9: 20 | J9: 10 | K9: 20 | L9: =K9-(SUM(N9:Y9)) -> 10 | M9: =IF(L9<0,"ATENÇÃO","OK") -> OK | N9: 10 | O9: 0 | P9: 0 | Q9: 0 | R9: 0 | S9: 0 | T9: 0 | U9: 0 | V9: 0 | W9: 0 | X9: 0 | Y9: 0
C10: 7 | D10: Confecção e colocação de capa dura completa com costura interna, colagem e guardas | E10: 33.90.39.63 | G10: Pequeno* | I10: 20 | J10: 20 | K10: 30 | L10: =K10-(SUM(N10:Y10)) -> 15 | M10: =IF(L10<0,"ATENÇÃO","OK") -> OK | N10: 15 | O10: 0 | P10: 0 | Q10: 0 | R10: 0 | S10: 0 | T10: 0 | U10: 0 | V10: 0 | W10: 0 | X10: 0 | Y10: 0
C11: 8 | E11: 33.90.39.63 | G11: Médio* | I11: 20 | J11: 20 | K11: 25 | L11: =K11-(SUM(N11:Y11)) -> 10 | M11: =IF(L11<0,"ATENÇÃO","OK") -> OK | N11: 15 | O11: 0 | P11: 0 | Q11: 0 | R11: 0 | S11: 0 | T11: 0 | U11: 0 | V11: 0 | W11: 0 | X11: 0 | Y11: 0
C12: 9 | E12: 33.90.39.63 | G12: Grande* | I12: 20 | J12: 20 | K12: 50 | L12: =K12-(SUM(N12:Y12)) -> 25 | M12: =IF(L12<0,"ATENÇÃO","OK") -> OK | N12: 25 | O12: 0 | P12: 0 | Q12: 0 | R12: 0 | S12: 0 | T12: 0 | U12: 0 | V12: 0 | W12: 0 | X12: 0 | Y12: 0
C13: 10 | D13: Higienização c/lixas, guilhotinagem, borracha de maciez, etc | E13: 33.90.39.63 | G13: Unidade | I13: 20 | J13: 5 | K13: 25 | L13: =K13-(SUM(N13:Y13)) -> 10 | M13: =IF(L13<0,"ATENÇÃO","OK") -> OK | N13: 15 | O13: 0 | P13: 0 | Q13: 0 | R13: 0 | S13: 0 | T13: 0 | U13: 0 | V13: 0 | W13: 0 | X13: 0 | Y13: 0
C14: 11 | D14: Enxerto de folhas xerocadas | E14: 33.90.39.63 | G14: por folha | I14: 20 | J14: 0.5 | K14: 60 | L14: =K14-(SUM(N14:Y14)) -> 30 | M14: =IF(L14<0,"ATENÇÃO","OK") -> OK | N14: 30 | O14: 0 | P14: 0 | Q14: 0 | R14: 0 | S14: 0 | T14: 0 | U14: 0 | V14: 0 | W14: 0 | X14: 0 | Y14: 0
C15: 12 | D15: Restauração a úmido c/papel especial | E15: 33.90.39.63 | G15: por folha | I15: 20 | J15: 0.5 | K15: 50 | L15: =K15-(SUM(N15:Y15)) -> 25 | M15: =IF(L15<0,"ATENÇÃO","OK") -> OK | N15: 25 | O15: 0 | P15: 0 | Q15: 0 | R15: 0 | S15: 0 | T15: 0 | U15: 0 | V15: 0 | W15: 0 | X15: 0 | Y15: 0
C16: 13 | D16: Aplicação de carcelas | E16: 33.90.39.63 | G16: por folha | I16: 20 | J16: 0.25 | K16: 100 | L16: =K16-(SUM(N16:Y16)) -> 50 | M16: =IF(L16<0,"ATENÇÃO","OK") -> OK | N16: 50 | O16: 0 | P16: 0 | Q16: 0 | R16: 0 | S16: 0 | T16: 0 | U16: 0 | V16: 0 | W16: 0 | X16: 0 | Y16: 0
C17: 14 | D17: Remoção de fita adesiva | E17: 33.90.39.63 | G17: metro linear | I17: 20 | J17: 0.5 | K17: 50 | L17: =K17-(SUM(N17:Y17)) -> 25 | M17: =IF(L17<0,"ATENÇÃO","OK") -> OK | N17: 25 | O17: 0 | P17: 0 | Q17: 0 | R17: 0 | S17: 0 | T17: 0 | U17: 0 | V17: 0 | W17: 0 | X17: 0 | Y17: 0
B18: 2 | C18: 15 | D18: Restauração, encadernação e higienização de obras raras e/ou documentos históricos | E18: 33.90.39.63 | G18: Unidade | I18: 20 | J18: 12 | K18: 0 | L18: =K18-(SUM(N18:Y18)) -> 0 | M18: =IF(L18<0,"ATENÇÃO","OK") -> OK | N18: 0 | O18: 0 | P18: 0 | Q18: 0 | R18: 0 | S18: 0 | T18: 0 | U18: 0 | V18: 0 | W18: 0 | X18: 0 | Y18: 0
B19: 3 | C19: 16 | D19: Confecção de embalagens para os livros (caixa em papel triplex” de 300 g, composto de uma camada de uma espécie de papelão revestido de papel alcalino (frente e verso). | E19: 33.90.39.63 | G19: Pequeno* | I19: 20 | J19: 4.8 | K19: 0 | L19: =K19-(SUM(N19:Y19)) -> 0 | M19: =IF(L19<0,"ATENÇÃO","OK") -> OK | N19: 0 | O19: 0 | P19: 0 | Q19: 0 | R19: 0 | S19: 0 | T19: 0 | U19: 0 | V19: 0 | W19: 0 | X19: 0 | Y19: 0
A20: A4 DIGITAL PRINT LTDA EPP | B20: 4 | C20: 17 | D20: Digitalização de monografias - Fornecimento de cópia das obras em formato digital (PDF A – OCR) -Três cópias em DVD | E20: 33.90.39.63 | G20: Folha 30X20 | I20: 20 | J20: 0.18 | K20: 0 | L20: =K20-(SUM(N20:Y20)) -> 0 | M20: =IF(L20<0,"ATENÇÃO","OK") -> OK | N20: 0 | O20: 0 | P20: 0 | Q20: 0 | R20: 0 | S20: 0 | T20: 0 | U20: 0 | V20: 0 | W20: 0 | X20: 0 | Y20: 0
C21: 18 | D21: Digitalização de Livros - Fornecimento de cópia das obras em formato digital (PDF A – OCR). Três cópias em DVD | E21: 33.90.39.63 | G21: Folha Pequena* | I21: 20 | J21: 0.21 | K21: 0 | L21: =K21-(SUM(N21:Y21)) -> 0 | M21: =IF(L21<0,"ATENÇÃO","OK") -> OK | N21: 0 | O21: 0 | P21: 0 | Q21: 0 | R21: 0 | S21: 0 | T21: 0 | U21: 0 | V21: 0 | W21: 0 | X21: 0 | Y21: 0
C22: 19 | E22: 33.90.39.63 | G22: Folha Média* | I22: 20 | J22: 0.21 | K22: 0 | L22: =K22-(SUM(N22:Y22)) -> 0 | M22: =IF(L22<0,"ATENÇÃO","OK") -> OK | N22: 0 | O22: 0 | P22: 0 | Q22: 0 | R22: 0 | S22: 0 | T22: 0 | U22: 0 | V22: 0 | W22: 0 | X22: 0 | Y22: 0
C23: 20 | D23: Digitalização de Mapas - Fornecimento de cópia de mapas em formato digital (PDF A – OCR e JPG). - Três cópias em DVD | E23: 33.90.39.63 | G23: Folha Até A4 | I23: 20 | J23: 0.37 | K23: 0 | L23: =K23-(SUM(N23:Y23)) -> 0 | M23: =IF(L23<0,"ATENÇÃO","OK") -> OK | N23: 0 | O23: 0 | P23: 0 | Q23: 0 | R23: 0 | S23: 0 | T23: 0 | U23: 0 | V23: 0 | W23: 0 | X23: 0 | Y23: 0
C24: 21 | E24: 33.90.39.63 | G24: Folha Até A3** | I24: 20 | J24: 0.38 | K24: 0 | L24: =K24-(SUM(N24:Y24)) -> 0 | M24: =IF(L24<0,"ATENÇÃO","OK") -> OK | N24: 0 | O24: 0 | P24: 0 | Q24: 0 | R24: 0 | S24: 0 | T24: 0 | U24: 0 | V24: 0 | W24: 0 | X24: 0 | Y24: 0
C25: 22 | E25: 33.90.39.63 | G25: Folha Até A2** | I25: 20 | J25: 1.8 | K25: 0 | L25: =K25-(SUM(N25:Y25)) -> 0 | M25: =IF(L25<0,"ATENÇÃO","OK") -> OK | N25: 0 | O25: 0 | P25: 0 | Q25: 0 | R25: 0 | S25: 0 | T25: 0 | U25: 0 | V25: 0 | W25: 0 | X25: 0 | Y25: 0
C26: 23 | E26: 33.90.39.63 | G26: Folha Até A1** | I26: 20 | J26: 3 | K26: 0 | L26: =K26-(SUM(N26:Y26)) -> 0 | M26: =IF(L26<0,"ATENÇÃO","OK") -> OK | N26: 0 | O26: 0 | P26: 0 | Q26: 0 | R26: 0 | S26: 0 | T26: 0 | U26: 0 | V26: 0 | W26: 0 | X26: 0 | Y26: 0
C27: 24 | E27: 33.90.39.63 | G27: Folha Até A0** | I27: 20 | J27: 4.6 | K27: 0 | L27: =K27-(SUM(N27:Y27)) -> 0 | M27: =IF(L27<0,"ATENÇÃO","OK") -> OK | N27: 0 | O27: 0 | P27: 0 | Q27: 0 | R27: 0 | S27: 0 | T27: 0 | U27: 0 | V27: 0 | W27: 0 | X27: 0 | Y27: 0
C28: 25 | E28: 33.90.39.63 | G28: Folha Acima de A0** | I28: 20 | J28: 5 | K28: 0 | L28: =K28-(SUM(N28:Y28)) -> 0 | M28: =IF(L28<0,"ATENÇÃO","OK") -> OK | N28: 0 | O28: 0 | P28: 0 | Q28: 0 | R28: 0 | S28: 0 | T28: 0 | U28: 0 | V28: 0 | W28: 0 | X28: 0 | Y28: 0
C29: 26 | D29: Digitalização de jornais - Fornecimento de cópia de jornais em formato digital (PDF A – OCR e JPG). - Três cópias em DVD | E29: 33.90.39.63 | G29: Folha Até A3** | I29: 20 | J29: 0.27 | K29: 0 | L29: =K29-(SUM(N29:Y29)) -> 0 | M29: =IF(L29<0,"ATENÇÃO","OK") -> OK | N29: 0 | O29: 0 | P29: 0 | Q29: 0 | R29: 0 | S29: 0 | T29: 0 | U29: 0 | V29: 0 | W29: 0 | X29: 0 | Y29: 0
C30: 27 | E30: 33.90.39.63 | G30: Folha Acima de A0** | I30: 20 | J30: 4.6 | K30: 0 | L30: =K30-(SUM(N30:Y30)) -> 0 | M30: =IF(L30<0,"ATENÇÃO","OK") -> OK | N30: 0 | O30: 0 | P30: 0 | Q30: 0 | R30: 0 | S30: 0 | T30: 0 | U30: 0 | V30: 0 | W30: 0 | X30: 0 | Y30: 0
C32: *Obras: Pequena até A4 (210 x 297 mm), Média até A3 (297 x 420 mm ), Grande acima de A3 (297 x 420 mm)
C33: **Mapas e jornais: Até A4 ( 210 x 297 mm), Até A3 (297 x 420 mm ), Até A2 (420 x 594). Até A1 (594 x 840 mm), Até A0 (840 x 1.188 mm), Acima de A0 (Aicma de 1.188 mm)

Sheet CAV
A1: PROCESSO: 0619/2014/UDESC | D1: OBJETO: Serviços de Encadernação, Restauração e Digitalização de acervos das Bibliotecas da UDESC | K1: VIGÊNCIA DA ATA: 16/06/2014 até 16/06/2015 | N1: AF/OS nº 1104/2014 Qtde. DT | O1: AF/OS nº xxxx/2014 Qtde. DT | P1: AF/OS nº xxxx/2014 Qtde. DT | Q1: AF/OS nº xxxx/2014 Qtde. DT | R1: AF/OS nº xxxx/2014 Qtde. DT | S1: AF/OS nº xxxx/2014 Qtde. DT | T1: AF/OS nº xxxx/2014 Qtde. DT | U1: AF/OS nº xxxx/2014 Qtde. DT | V1: AF/OS nº xxxx/2014 Qtde. DT | W1: AF/OS nº xxxx/2014 Qtde. DT | X1: AF/OS nº xxxx/2014 Qtde. DT | Y1: AF/OS nº xxxx/2014 Qtde. DT
A2: CENTRO PARTICIPANTE: CAV
A3: FORNECEDOR | B3: LOTE | C3: ITEM | D3: PRODUTO - CARACTERÍSTICAS MÍNIMAS | E3: ELEMENTO | F3: MARCA | G3: UNIDADE | H3: Entrega (Dias) | I3: Pagto. (Dias) | J3: Preço UNITÁRIO (R$) | K3: Qtde LICITADA | L3: Saldo / Automático | M3: ALERTA | N3: 41884 | O3: ...../...../...... | P3: ...../...../...... | Q3: ...../...../...... | R3: ...../...../...... | S3: ...../...../...... | T3: ...../...../...... | U3: ...../...../...... | V3: ...../...../...... | W3: ...../...../...... | X3: ...../...../...... | Y3: ...../...../......
A4: IDEAL ENCADERNAÇÕES LTDA ME | B4: 1 | C4: 1 | D4: Recuperação de capa dura com: costura simples, colagem, cantoneiras e lombadas e colocação de guardas novas | E4: 33.90.39.63 | G4: Pequeno* | I4: 20 | J4: 17 | K4: 30 | L4: =K4-(SUM(N4:Y4)) -> 15 | M4: =IF(L4<0,"ATENÇÃO","OK") -> OK | N4: 15 | O4: 0 | P4: 0 | Q4: 0 | R4: 0 | S4: 0 | T4: 0 | U4: 0 | V4: 0 | W4: 0 | X4: 0 | Y4: 0
C5: 2 | E5: 33.90.39.63 | G5: Médio* | I5: 20 | J5: 17 | K5: 50 | L5: =K5-(SUM(N5:Y5)) -> 25 | M5: =IF(L5<0,"ATENÇÃO","OK") -> OK | N5: 25 | O5: 0 | P5: 0 | Q5: 0 | R5: 0 | S5: 0 | T5: 0 | U5: 0 | V5: 0 | W5: 0 | X5: 0 | Y5: 0
C6: 3 | E6: 33.90.39.63 | G6: Grande* | I6: 20 | J6: 17 | K6: 50 | L6: =K6-(SUM(N6:Y6)) -> 25 | M6: =IF(L6<0,"ATENÇÃO","OK") -> OK | N6: 25 | O6: 0 | P6: 0 | Q6: 0 | R6: 0 | S6: 0 | T6: 0 | U6: 0 | V6: 0 | W6: 0 | X6: 0 | Y6: 0
C7: 4 | D7: Colocação e recuperação de capa brochura com costura, colagens e guardas | E7: 33.90.39.63 | G7: Pequeno* | I7: 20 | J7: 9 | K7: 20 | L7: =K7-(SUM(N7:Y7)) -> 10 | M7: =IF(L7<0,"ATENÇÃO","OK") -> OK | N7: 10 | O7: 0 | P7: 0 | Q7: 0 | R7: 0 | S7: 0 | T7: 0 | U7: 0 | V7: 0 | W7: 0 | X7: 0 | Y7: 0
C8: 5 | E8: 33.90.39.63 | G8: Médio* | I8: 20 | J8: 9.5 | K8: 20 | L8: =K8-(SUM(N8:Y8)) -> 10 | M8: =IF(L8<0,"ATENÇÃO","OK") -> OK | N8: 10 | O8: 0 | P8: 0 | Q8: 0 | R8: 0 | S8: 0 | T8: 0 | U8: 0 | V8: 0 | W8: 0 | X8: 0 | Y8: 0
C9: 6 | E9: 33.90.39.63 | G9: Grande* | I9: 20 | J9: 10 | K9: 20 | L9: =K9-(SUM(N9:Y9)) -> 10 | M9: =IF(L9<0,"ATENÇÃO","OK") -> OK | N9: 10 | O9: 0 | P9: 0 | Q9: 0 | R9: 0 | S9: 0 | T9: 0 | U9: 0 | V9: 0 | W9: 0 | X9: 0 | Y9: 0
C10: 7 | D10: Confecção e colocação de capa dura completa com costura interna, colagem e guardas | E10: 33.90.39.63 | G10: Pequeno* | I10: 20 | J10: 20 | K10: 10 | L10: =K10-(SUM(N10:Y10)) -> 5 | M10: =IF(L10<0,"ATENÇÃO","OK") -> OK | N10: 5 | O10: 0 | P10: 0 | Q10: 0 | R10: 0 | S10: 0 | T10: 0 | U10: 0 | V10: 0 | W10: 0 | X10: 0 | Y10: 0
C11: 8 | E11: 33.90.39.63 | G11: Médio* | I11: 20 | J11: 20 | K11: 20 | L11: =K11-(SUM(N11:Y11)) -> 10 | M11: =IF(L11<0,"ATENÇÃO","OK") -> OK | N11: 10 | O11: 0 | P11: 0 | Q11: 0 | R11: 0 | S11: 0 | T11: 0 | U11: 0 | V11: 0 | W11: 0 | X11: 0 | Y11: 0
C12: 9 | E12: 33.90.39.63 | G12: Grande* | I12: 20 | J12: 20 | K12: 30 | L12: =K12-(SUM(N12:Y12)) -> 15 | M12: =IF(L12<0,"ATENÇÃO","OK") -> OK | N12: 15 | O12: 0 | P12: 0 | Q12: 0 | R12: 0 | S12: 0 | T12: 0 | U12: 0 | V12: 0 | W12: 0 | X12: 0 | Y12: 0
C13: 10 | D13: Higienização c/lixas, guilhotinagem, borracha de maciez, etc | E13: 33.90.39.63 | G13: Unidade | I13: 20 | J13: 5 | K13: 40 | L13: =K13-(SUM(N13:Y13)) -> 20 | M13: =IF(L13<0,"ATENÇÃO","OK") -> OK | N13: 20 | O13: 0 | P13: 0 | Q13: 0 | R13: 0 | S13: 0 | T13: 0 | U13: 0 | V13: 0 | W13: 0 | X13: 0 | Y13: 0
C14: 11 | D14: Enxerto de folhas xerocadas | E14: 33.90.39.63 | G14: por folha | I14: 20 | J14: 0.5 | K14: 50 | L14: =K14-(SUM(N14:Y14)) -> 25 | M14: =IF(L14<0,"ATENÇÃO","OK") -> OK | N14: 25 | O14: 0 | P14: 0 | Q14: 0 | R14: 0 | S14: 0 | T14: 0 | U14: 0 | V14: 0 | W14: 0 | X14: 0 | Y14: 0
C15: 12 | D15: Restauração a úmido c/papel especial | E15: 33.90.39.63 | G15: por folha | I15: 20 | J15: 0.5 | K15: 20 | L15: =K15-(SUM(N15:Y15)) -> 10 | M15: =IF(L15<0,"ATENÇÃO","OK") -> OK | N15: 10 | O15: 0 | P15: 0 | Q15: 0 | R15: 0 | S15: 0 | T15: 0 | U15: 0 | V15: 0 | W15: 0 | X15: 0 | Y15: 0
C16: 13 | D16: Aplicação de carcelas | E16: 33.90.39.63 | G16: por folha | I16: 20 | J16: 0.25 | K16: 50 | L16: =K16-(SUM(N16:Y16)) -> 25 | M16: =IF(L16<0,"ATENÇÃO","OK") -> OK | N16: 25 | O16: 0 | P16: 0 | Q16: 0 | R16: 0 | S16: 0 | T16: 0 | U16: 0 | V16: 0 | W16: 0 | X16: 0 | Y16: 0
C17: 14 | D17: Remoção de fita adesiva | E17: 33.90.39.63 | G17: metro linear | I17: 20 | J17: 0.5 | K17: 70 | L17: =K17-(SUM(N17:Y17)) -> 35 | M17: =IF(L17<0,"ATENÇÃO","OK") -> OK | N17: 35 | O17: 0 | P17: 0 | Q17: 0 | R17: 0 | S17: 0 | T17: 0 | U17: 0 | V17: 0 | W17: 0 | X17: 0 | Y17: 0
B18: 2 | C18: 15 | D18: Restauração, encadernação e higienização de obras raras e/ou documentos históricos | E18: 33.90.39.63 | G18: Unidade | I18: 20 | J18: 12 | K18: 0 | L18: =K18-(SUM(N18:Y18)) -> 0 | M18: =IF(L18<0,"ATENÇÃO","OK") -> OK | N18: 0 | O18: 0 | P18: 0 | Q18: 0 | R18: 0 | S18: 0 | T18: 0 | U18: 0 | V18: 0 | W18: 0 | X18: 0 | Y18: 0
B19: 3 | C19: 16 | D19: Confecção de embalagens para os livros (caixa em papel triplex” de 300 g, composto de uma camada de uma espécie de papelão revestido de papel alcalino (frente e verso). | E19: 33.90.39.63 | G19: Pequeno* | I19: 20 | J19: 4.8 | K19: 0 | L19: =K19-(SUM(N19:Y19)) -> 0 | M19: =IF(L19<0,"ATENÇÃO","OK") -> OK | N19: 0 | O19: 0 | P19: 0 | Q19: 0 | R19: 0 | S19: 0 | T19: 0 | U19: 0 | V19: 0 | W19: 0 | X19: 0 | Y19: 0
A20: A4 DIGITAL PRINT LTDA EPP | B20: 4 | C20: 17 | D20: Digitalização de monografias - Fornecimento de cópia das obras em formato digital (PDF A – OCR) -Três cópias em DVD | E20: 33.90.39.63 | G20: Folha 30X20 | I20: 20 | J20: 0.18 | K20: 0 | L20: =K20-(SUM(N20:Y20)) -> 0 | M20: =IF(L20<0,"ATENÇÃO","OK") -> OK | N20: 0 | O20: 0 | P20: 0 | Q20: 0 | R20: 0 | S20: 0 | T20: 0 | U20: 0 | V20: 0 | W20: 0 | X20: 0 | Y20: 0
C21: 18 | D21: Digitalização de Livros - Fornecimento de cópia das obras em formato digital (PDF A – OCR). Três cópias em DVD | E21: 33.90.39.63 | G21: Folha Pequena* | I21: 20 | J21: 0.21 | K21: 0 | L21: =K21-(SUM(N21:Y21)) -> 0 | M21: =IF(L21<0,"ATENÇÃO","OK") -> OK | N21: 0 | O21: 0 | P21: 0 | Q21: 0 | R21: 0 | S21: 0 | T21: 0 | U21: 0 | V21: 0 | W21: 0 | X21: 0 | Y21: 0
C22: 19 | E22: 33.90.39.63 | G22: Folha Média* | I22: 20 | J22: 0.21 | K22: 0 | L22: =K22-(SUM(N22:Y22)) -> 0 | M22: =IF(L22<0,"ATENÇÃO","OK") -> OK | N22: 0 | O22: 0 | P22: 0 | Q22: 0 | R22: 0 | S22: 0 | T22: 0 | U22: 0 | V22: 0 | W22: 0 | X22: 0 | Y22: 0
C23: 20 | D23: Digitalização de Mapas - Fornecimento de cópia de mapas em formato digital (PDF A – OCR e JPG). - Três cópias em DVD | E23: 33.90.39.63 | G23: Folha Até A4 | I23: 20 | J23: 0.37 | K23: 0 | L23: =K23-(SUM(N23:Y23)) -> 0 | M23: =IF(L23<0,"ATENÇÃO","OK") -> OK | N23: 0 | O23: 0 | P23: 0 | Q23: 0 | R23: 0 | S23: 0 | T23: 0 | U23: 0 | V23: 0 | W23: 0 | X23: 0 | Y23: 0
C24: 21 | E24: 33.90.39.63 | G24: Folha Até A3** | I24: 20 | J24: 0.38 | K24: 0 | L24: =K24-(SUM(N24:Y24)) -> 0 | M24: =IF(L24<0,"ATENÇÃO","OK") -> OK | N24: 0 | O24: 0 | P24: 0 | Q24: 0 | R24: 0 | S24: 0 | T24: 0 | U24: 0 | V24: 0 | W24: 0 | X24: 0 | Y24: 0
C25: 22 | E25: 33.90.39.63 | G25: Folha Até A2** | I25: 20 | J25: 1.8 | K25: 0 | L25: =K25-(SUM(N25:Y25)) -> 0 | M25: =IF(L25<0,"ATENÇÃO","OK") -> OK | N25: 0 | O25: 0 | P25: 0 | Q25: 0 | R25: 0 | S25: 0 | T25: 0 | U25: 0 | V25: 0 | W25: 0 | X25: 0 | Y25: 0
C26: 23 | E26: 33.90.39.63 | G26: Folha Até A1** | I26: 20 | J26: 3 | K26: 0 | L26: =K26-(SUM(N26:Y26)) -> 0 | M26: =IF(L26<0,"ATENÇÃO","OK") -> OK | N26: 0 | O26: 0 | P26: 0 | Q26: 0 | R26: 0 | S26: 0 | T26: 0 | U26: 0 | V26: 0 | W26: 0 | X26: 0 | Y26: 0
C27: 24 | E27: 33.90.39.63 | G27: Folha Até A0** | I27: 20 | J27: 4.6 | K27: 0 | L27: =K27-(SUM(N27:Y27)) -> 0 | M27: =IF(L27<0,"ATENÇÃO","OK") -> OK | N27: 0 | O27: 0 | P27: 0 | Q27: 0 | R27: 0 | S27: 0 | T27: 0 | U27: 0 | V27: 0 | W27: 0 | X27: 0 | Y27: 0
C28: 25 | E28: 33.90.39.63 | G28: Folha Acima de A0** | I28: 20 | J28: 5 | K28: 0 | L28: =K28-(SUM(N28:Y28)) -> 0 | M28: =IF(L28<0,"ATENÇÃO","OK") -> OK | N28: 0 | O28: 0 | P28: 0 | Q28: 0 | R28: 0 | S28: 0 | T28: 0 | U28: 0 | V28: 0 | W28: 0 | X28: 0 | Y28: 0
C29: 26 | D29: Digitalização de jornais - Fornecimento de cópia de jornais em formato digital (PDF A – OCR e JPG). - Três cópias em DVD | E29: 33.90.39.63 | G29: Folha Até A3** | I29: 20 | J29: 0.27 | K29: 0 | L29: =K29-(SUM(N29:Y29)) -> 0 | M29: =IF(L29<0,"ATENÇÃO","OK") -> OK | N29: 0 | O29: 0 | P29: 0 | Q29: 0 | R29: 0 | S29: 0 | T29: 0 | U29: 0 | V29: 0 | W29: 0 | X29: 0 | Y29: 0
C30: 27 | E30: 33.90.39.63 | G30: Folha Acima de A0** | I30: 20 | J30: 4.6 | K30: 0 | L30: =K30-(SUM(N30:Y30)) -> 0 | M30: =IF(L30<0,"ATENÇÃO","OK") -> OK | N30: 0 | O30: 0 | P30: 0 | Q30: 0 | R30: 0 | S30: 0 | T30: 0 | U30: 0 | V30: 0 | W30: 0 | X30: 0 | Y30: 0
C32: *Obras: Pequena até A4 (210 x 297 mm), Média até A3 (297 x 420 mm ), Grande acima de A3 (297 x 420 mm)
C33: **Mapas e jornais: Até A4 ( 210 x 297 mm), Até A3 (297 x 420 mm ), Até A2 (420 x 594). Até A1 (594 x 840 mm), Até A0 (840 x 1.188 mm), Acima de A0 (Aicma de 1.188 mm)

Sheet FAED
A1: PROCESSO: 0619/2014/UDESC | D1: OBJETO: Serviços de Encadernação, Restauração e Digitalização de acervos das Bibliotecas da UDESC | K1: VIGÊNCIA DA ATA: 16/06/2014 até 16/06/2015 | N1: AF/OS nº xxxx/2014 Qtde. DT | O1: AF/OS nº xxxx/2014 Qtde. DT | P1: AF/OS nº xxxx/2014 Qtde. DT | Q1: AF/OS nº xxxx/2014 Qtde. DT | R1: AF/OS nº xxxx/2014 Qtde. DT | S1: AF/OS nº xxxx/2014 Qtde. DT | T1: AF/OS nº xxxx/2014 Qtde. DT | U1: AF/OS nº xxxx/2014 Qtde. DT | V1: AF/OS nº xxxx/2014 Qtde. DT | W1: AF/OS nº xxxx/2014 Qtde. DT | X1: AF/OS nº xxxx/2014 Qtde. DT | Y1: AF/OS nº xxxx/2014 Qtde. DT
A2: CENTRO PARTICIPANTE: FAED
A3: FORNECEDOR | B3: LOTE | C3: ITEM | D3: PRODUTO - CARACTERÍSTICAS MÍNIMAS | E3: ELEMENTO | F3: MARCA | G3: UNIDADE | H3: Entrega (Dias) | I3: Pagto. (Dias) | J3: Preço UNITÁRIO (R$) | K3: Qtde LICITADA | L3: Saldo / Automático | M3: ALERTA | N3: ...../...../...... | O3: ...../...../...... | P3: ...../...../...... | Q3: ...../...../...... | R3: ...../...../...... | S3: ...../...../...... | T3: ...../...../...... | U3: ...../...../...... | V3: ...../...../...... | W3: ...../...../...... | X3: ...../...../...... | Y3: ...../...../......
A4: IDEAL ENCADERNAÇÕES LTDA ME | B4: 1 | C4: 1 | D4: Recuperação de capa dura com: costura simples, colagem, cantoneiras e lombadas e colocação de guardas novas | E4: 33.90.39.63 | G4: Pequeno* | I4: 20 | J4: 17 | K4: 30 | L4: =K4-(SUM(N4:Y4)) -> 30 | M4: =IF(L4<0,"ATENÇÃO","OK") -> OK | N4: 0 | O4: 0 | P4: 0 | Q4: 0 | R4: 0 | S4: 0 | T4: 0 | U4: 0 | V4: 0 | W4: 0 | X4: 0 | Y4: 0
C5: 2 | E5: 33.90.39.63 | G5: Médio* | I5: 20 | J5: 17 | K5: 20 | L5: =K5-(SUM(N5:Y5)) -> 20 | M5: =IF(L5<0,"ATENÇÃO","OK") -> OK | N5: 0 | O5: 0 | P5: 0 | Q5: 0 | R5: 0 | S5: 0 | T5: 0 | U5: 0 | V5: 0 | W5: 0 | X5: 0 | Y5: 0
C6: 3 | E6: 33.90.39.63 | G6: Grande* | I6: 20 | J6: 17 | K6: 10 | L6: =K6-(SUM(N6:Y6)) -> 10 | M6: =IF(L6<0,"ATENÇÃO","OK") -> OK | N6: 0 | O6: 0 | P6: 0 | Q6: 0 | R6: 0 | S6: 0 | T6: 0 | U6: 0 | V6: 0 | W6: 0 | X6: 0 | Y6: 0
C7: 4 | D7: Colocação e recuperação de capa brochura com costura, colagens e guardas | E7: 33.90.39.63 | G7: Pequeno* | I7: 20 | J7: 9 | K7: 20 | L7: =K7-(SUM(N7:Y7)) -> 20 | M7: =IF(L7<0,"ATENÇÃO","OK") -> OK | N7: 0 | O7: 0 | P7: 0 | Q7: 0 | R7: 0 | S7: 0 | T7: 0 | U7: 0 | V7: 0 | W7: 0 | X7: 0 | Y7: 0
C8: 5 | E8: 33.90.39.63 | G8: Médio* | I8: 20 | J8: 9.5 | K8: 50 | L8: =K8-(SUM(N8:Y8)) -> 50 | M8: =IF(L8<0,"ATENÇÃO","OK") -> OK | N8: 0 | O8: 0 | P8: 0 | Q8: 0 | R8: 0 | S8: 0 | T8: 0 | U8: 0 | V8: 0 | W8: 0 | X8: 0 | Y8: 0
C9: 6 | E9: 33.90.39.63 | G9: Grande* | I9: 20 | J9: 10 | K9: 5 | L9: =K9-(SUM(N9:Y9)) -> 5 | M9: =IF(L9<0,"ATENÇÃO","OK") -> OK | N9: 0 | O9: 0 | P9: 0 | Q9: 0 | R9: 0 | S9: 0 | T9: 0 | U9: 0 | V9: 0 | W9: 0 | X9: 0 | Y9: 0
C10: 7 | D10: Confecção e colocação de capa dura completa com costura interna, colagem e guardas | E10: 33.90.39.63 | G10: Pequeno* | I10: 20 | J10: 20 | K10: 25 | L10: =K10-(SUM(N10:Y10)) -> 25 | M10: =IF(L10<0,"ATENÇÃO","OK") -> OK | N10: 0 | O10: 0 | P10: 0 | Q10: 0 | R10: 0 | S10: 0 | T10: 0 | U10: 0 | V10: 0 | W10: 0 | X10: 0 | Y10: 0
C11: 8 | E11: 33.90.39.63 | G11: Médio* | I11: 20 | J11: 20 | K11: 20 | L11: =K11-(SUM(N11:Y11)) -> 20 | M11: =IF(L11<0,"ATENÇÃO","OK") -> OK | N11: 0 | O11: 0 | P11: 0 | Q11: 0 | R11: 0 | S11: 0 | T11: 0 | U11: 0 | V11: 0 | W11: 0 | X11: 0 | Y11: 0
C12: 9 | E12: 33.90.39.63 | G12: Grande* | I12: 20 | J12: 20 | K12: 5 | L12: =K12-(SUM(N12:Y12)) -> 5 | M12: =IF(L12<0,"ATENÇÃO","OK") -> OK | N12: 0 | O12: 0 | P12: 0 | Q12: 0 | R12: 0 | S12: 0 | T12: 0 | U12: 0 | V12: 0 | W12: 0 | X12: 0 | Y12: 0
C13: 10 | D13: Higienização c/lixas, guilhotinagem, borracha de maciez, etc | E13: 33.90.39.63 | G13: Unidade | I13: 20 | J13: 5 | K13: 0 | L13: =K13-(SUM(N13:Y13)) -> 0 | M13: =IF(L13<0,"ATENÇÃO","OK") -> OK | N13: 0 | O13: 0 | P13: 0 | Q13: 0 | R13: 0 | S13: 0 | T13: 0 | U13: 0 | V13: 0 | W13: 0 | X13: 0 | Y13: 0
C14: 11 | D14: Enxerto de folhas xerocadas | E14: 33.90.39.63 | G14: por folha | I14: 20 | J14: 0.5 | K14: 60 | L14: =K14-(SUM(N14:Y14)) -> 60 | M14: =IF(L14<0,"ATENÇÃO","OK") -> OK | N14: 0 | O14: 0 | P14: 0 | Q14: 0 | R14: 0 | S14: 0 | T14: 0 | U14: 0 | V14: 0 | W14: 0 | X14: 0 | Y14: 0
C15: 12 | D15: Restauração a úmido c/papel especial | E15: 33.90.39.63 | G15: por folha | I15: 20 | J15: 0.5 | K15: 75 | L15: =K15-(SUM(N15:Y15)) -> 75 | M15: =IF(L15<0,"ATENÇÃO","OK") -> OK | N15: 0 | O15: 0 | P15: 0 | Q15: 0 | R15: 0 | S15: 0 | T15: 0 | U15: 0 | V15: 0 | W15: 0 | X15: 0 | Y15: 0
C16: 13 | D16: Aplicação de carcelas | E16: 33.90.39.63 | G16: por folha | I16: 20 | J16: 0.25 | K16: 50 | L16: =K16-(SUM(N16:Y16)) -> 50 | M16: =IF(L16<0,"ATENÇÃO","OK") -> OK | N16: 0 | O16: 0 | P16: 0 | Q16: 0 | R16: 0 | S16: 0 | T16: 0 | U16: 0 | V16: 0 | W16: 0 | X16: 0 | Y16: 0
C17: 14 | D17: Remoção de fita adesiva | E17: 33.90.39.63 | G17: metro linear | I17: 20 | J17: 0.5 | K17: 35 | L17: =K17-(SUM(N17:Y17)) -> 35 | M17: =IF(L17<0,"ATENÇÃO","OK") -> OK | N17: 0 | O17: 0 | P17: 0 | Q17: 0 | R17: 0 | S17: 0 | T17: 0 | U17: 0 | V17: 0 | W17: 0 | X17: 0 | Y17: 0
B18: 2 | C18: 15 | D18: Restauração, encadernação e higienização de obras raras e/ou documentos históricos | E18: 33.90.39.63 | G18: Unidade | I18: 20 | J18: 12 | K18: 0 | L18: =K18-(SUM(N18:Y18)) -> 0 | M18: =IF(L18<0,"ATENÇÃO","OK") -> OK | N18: 0 | O18: 0 | P18: 0 | Q18: 0 | R18: 0 | S18: 0 | T18: 0 | U18: 0 | V18: 0 | W18: 0 | X18: 0 | Y18: 0
B19: 3 | C19: 16 | D19: Confecção de embalagens para os livros (caixa em papel triplex” de 300 g, composto de uma camada de uma espécie de papelão revestido de papel alcalino (frente e verso). | E19: 33.90.39.63 | G19: Pequeno* | I19: 20 | J19: 4.8 | K19: 0 | L19: =K19-(SUM(N19:Y19)) -> 0 | M19: =IF(L19<0,"ATENÇÃO","OK") -> OK | N19: 0 | O19: 0 | P19: 0 | Q19: 0 | R19: 0 | S19: 0 | T19: 0 | U19: 0 | V19: 0 | W19: 0 | X19: 0 | Y19: 0
A20: A4 DIGITAL PRINT LTDA EPP | B20: 4 | C20: 17 | D20: Digitalização de monografias - Fornecimento de cópia das obras em formato digital (PDF A – OCR) -Três cópias em DVD | E20: 33.90.39.63 | G20: Folha 30X20 | I20: 20 | J20: 0.18 | K20: 0 | L20: =K20-(SUM(N20:Y20)) -> 0 | M20: =IF(L20<0,"ATENÇÃO","OK") -> OK | N20: 0 | O20: 0 | P20: 0 | Q20: 0 | R20: 0 | S20: 0 | T20: 0 | U20: 0 | V20: 0 | W20: 0 | X20: 0 | Y20: 0
C21: 18 | D21: Digitalização de Livros - Fornecimento de cópia das obras em formato digital (PDF A – OCR). Três cópias em DVD | E21: 33.90.39.63 | G21: Folha Pequena* | I21: 20 | J21: 0.21 | K21: 0 | L21: =K21-(SUM(N21:Y21)) -> 0 | M21: =IF(L21<0,"ATENÇÃO","OK") -> OK | N21: 0 | O21: 0 | P21: 0 | Q21: 0 | R21: 0 | S21: 0 | T21: 0 | U21: 0 | V21: 0 | W21: 0 | X21: 0 | Y21: 0
C22: 19 | E22: 33.90.39.63 | G22: Folha Média* | I22: 20 | J22: 0.21 | K22: 0 | L22: =K22-(SUM(N22:Y22)) -> 0 | M22: =IF(L22<0,"ATENÇÃO","OK") -> OK | N22: 0 | O22: 0 | P22: 0 | Q22: 0 | R22: 0 | S22: 0 | T22: 0 | U22: 0 | V22: 0 | W22: 0 | X22: 0 | Y22: 0
C23: 20 | D23: Digitalização de Mapas - Fornecimento de cópia de mapas em formato digital (PDF A – OCR e JPG). - Três cópias em DVD | E23: 33.90.39.63 | G23: Folha Até A4 | I23: 20 | J23: 0.37 | K23: 0 | L23: =K23-(SUM(N23:Y23)) -> 0 | M23: =IF(L23<0,"ATENÇÃO","OK") -> OK | N23: 0 | O23: 0 | P23: 0 | Q23: 0 | R23: 0 | S23: 0 | T23: 0 | U23: 0 | V23: 0 | W23: 0 | X23: 0 | Y23: 0
C24: 21 | E24: 33.90.39.63 | G24: Folha Até A3** | I24: 20 | J24: 0.38 | K24: 0 | L24: =K24-(SUM(N24:Y24)) -> 0 | M24: =IF(L24<0,"ATENÇÃO","OK") -> OK | N24: 0 | O24: 0 | P24: 0 | Q24: 0 | R24: 0 | S24: 0 | T24: 0 | U24: 0 | V24: 0 | W24: 0 | X24: 0 | Y24: 0
C25: 22 | E25: 33.90.39.63 | G25: Folha Até A2** | I25: 20 | J25: 1.8 | K25: 0 | L25: =K25-(SUM(N25:Y25)) -> 0 | M25: =IF(L25<0,"ATENÇÃO","OK") -> OK | N25: 0 | O25: 0 | P25: 0 | Q25: 0 | R25: 0 | S25: 0 | T25: 0 | U25: 0 | V25: 0 | W25: 0 | X25: 0 | Y25: 0
C26: 23 | E26: 33.90.39.63 | G26: Folha Até A1** | I26: 20 | J26: 3 | K26: 0 | L26: =K26-(SUM(N26:Y26)) -> 0 | M26: =IF(L26<0,"ATENÇÃO","OK") -> OK | N26: 0 | O26: 0 | P26: 0 | Q26: 0 | R26: 0 | S26: 0 | T26: 0 | U26: 0 | V26: 0 | W26: 0 | X26: 0 | Y26: 0
C27: 24 | E27: 33.90.39.63 | G27: Folha Até A0** | I27: 20 | J27: 4.6 | K27: 0 | L27: =K27-(SUM(N27:Y27)) -> 0 | M27: =IF(L27<0,"ATENÇÃO","OK") -> OK | N27: 0 | O27: 0 | P27: 0 | Q27: 0 | R27: 0 | S27: 0 | T27: 0 | U27: 0 | V27: 0 | W27: 0 | X27: 0 | Y27: 0
C28: 25 | E28: 33.90.39.63 | G28: Folha Acima de A0** | I28: 20 | J28: 5 | K28: 0 | L28: =K28-(SUM(N28:Y28)) -> 0 | M28: =IF(L28<0,"ATENÇÃO","OK") -> OK | N28: 0 | O28: 0 | P28: 0 | Q28: 0 | R28: 0 | S28: 0 | T28: 0 | U28: 0 | V28: 0 | W28: 0 | X28: 0 | Y28: 0
C29: 26 | D29: Digitalização de jornais - Fornecimento de cópia de jornais em formato digital (PDF A – OCR e JPG). - Três cópias em DVD | E29: 33.90.39.63 | G29: Folha Até A3** | I29: 20 | J29: 0.27 | K29: 0 | L29: =K29-(SUM(N29:Y29)) -> 0 | M29: =IF(L29<0,"ATENÇÃO","OK") -> OK | N29: 0 | O29: 0 | P29: 0 | Q29: 0 | R29: 0 | S29: 0 | T29: 0 | U29: 0 | V29: 0 | W29: 0 | X29: 0 | Y29: 0
C30: 27 | E30: 33.90.39.63 | G30: Folha Acima de A0** | I30: 20 | J30: 4.6 | K30: 0 | L30: =K30-(SUM(N30:Y30)) -> 0 | M30: =IF(L30<0,"ATENÇÃO","OK") -> OK | N30: 0 | O30: 0 | P30: 0 | Q30: 0 | R30: 0 | S30: 0 | T30: 0 | U30: 0 | V30: 0 | W30: 0 | X30: 0 | Y30: 0
C32: *Obras: Pequena até A4 (210 x 297 mm), Média até A3 (297 x 420 mm ), Grande acima de A3 (297 x 420 mm)
C33: **Mapas e jornais: Até A4 ( 210 x 297 mm), Até A3 (297 x 420 mm ), Até A2 (420 x 594). Até A1 (594 x 840 mm), Até A0 (840 x 1.188 mm), Acima de A0 (Aicma de 1.188 mm)

Sheet IDCH_FAED
A1: PROCESSO: 0619/2014/UDESC | D1: OBJETO: Serviços de Encadernação, Restauração e Digitalização de acervos das Bibliotecas da UDESC | K1: VIGÊNCIA DA ATA: 16/06/2014 até 16/06/2015 | N1: OS nº 647/2014 Qtde. DT | O1: OS nº 652/2014 Qtde. DT | P1: AF/OS nº xxxx/2014 Qtde. DT | Q1: AF/OS nº xxxx/2014 Qtde. DT | R1: AF/OS nº xxxx/2014 Qtde. DT | S1: AF/OS nº xxxx/2014 Qtde. DT | T1: AF/OS nº xxxx/2014 Qtde. DT | U1: AF/OS nº xxxx/2014 Qtde. DT | V1: AF/OS nº xxxx/2014 Qtde. DT | W1: AF/OS nº xxxx/2014 Qtde. DT | X1: AF/OS nº xxxx/2014 Qtde. DT | Y1: AF/OS nº xxxx/2014 Qtde. DT
A2: CENTRO PARTICIPANTE: IDCH-FAED
A3: FORNECEDOR | B3: LOTE | C3: ITEM | D3: PRODUTO - CARACTERÍSTICAS MÍNIMAS | E3: ELEMENTO | F3: MARCA | G3: UNIDADE | H3: Entrega (Dias) | I3: Pagto. (Dias) | J3: Preço UNITÁRIO (R$) | K3: Qtde LICITADA | L3: Saldo / Automático | M3: ALERTA | N3: ...../...../...... | O3: ...../...../...... | P3: ...../...../...... | Q3: ...../...../...... | R3: ...../...../...... | S3: ...../...../...... | T3: ...../...../...... | U3: ...../...../...... | V3: ...../...../...... | W3: ...../...../...... | X3: ...../...../...... | Y3: ...../...../......
A4: IDEAL ENCADERNAÇÕES LTDA ME | B4: 1 | C4: 1 | D4: Recuperação de capa dura com: costura simples, colagem, cantoneiras e lombadas e colocação de guardas novas | E4: 33.90.39.63 | G4: Pequeno* | I4: 20 | J4: 17 | K4: 0 | L4: =K4-(SUM(N4:Y4)) -> 0 | M4: =IF(L4<0,"ATENÇÃO","OK") -> OK | N4: 0 | O4: 0 | P4: 0 | Q4: 0 | R4: 0 | S4: 0 | T4: 0 | U4: 0 | V4: 0 | W4: 0 | X4: 0 | Y4: 0
C5: 2 | E5: 33.90.39.63 | G5: Médio* | I5: 20 | J5: 17 | K5: 0 | L5: =K5-(SUM(N5:Y5)) -> 0 | M5: =IF(L5<0,"ATENÇÃO","OK") -> OK | N5: 0 | O5: 0 | P5: 0 | Q5: 0 | R5: 0 | S5: 0 | T5: 0 | U5: 0 | V5: 0 | W5: 0 | X5: 0 | Y5: 0
C6: 3 | E6: 33.90.39.63 | G6: Grande* | I6: 20 | J6: 17 | K6: 0 | L6: =K6-(SUM(N6:Y6)) -> 0 | M6: =IF(L6<0,"ATENÇÃO","OK") -> OK | N6: 0 | O6: 0 | P6: 0 | Q6: 0 | R6: 0 | S6: 0 | T6: 0 | U6: 0 | V6: 0 | W6: 0 | X6: 0 | Y6: 0
C7: 4 | D7: Colocação e recuperação de capa brochura com costura, colagens e guardas | E7: 33.90.39.63 | G7: Pequeno* | I7: 20 | J7: 9 | K7: 0 | L7: =K7-(SUM(N7:Y7)) -> 0 | M7: =IF(L7<0,"ATENÇÃO","OK") -> OK | N7: 0 | O7: 0 | P7: 0 | Q7: 0 | R7: 0 | S7: 0 | T7: 0 | U7: 0 | V7: 0 | W7: 0 | X7: 0 | Y7: 0
C8: 5 | E8: 33.90.39.63 | G8: Médio* | I8: 20 | J8: 9.5 | K8: 0 | L8: =K8-(SUM(N8:Y8)) -> 0 | M8: =IF(L8<0,"ATENÇÃO","OK") -> OK | N8: 0 | O8: 0 | P8: 0 | Q8: 0 | R8: 0 | S8: 0 | T8: 0 | U8: 0 | V8: 0 | W8: 0 | X8: 0 | Y8: 0
C9: 6 | E9: 33.90.39.63 | G9: Grande* | I9: 20 | J9: 10 | K9: 0 | L9: =K9-(SUM(N9:Y9)) -> 0 | M9: =IF(L9<0,"ATENÇÃO","OK") -> OK | N9: 0 | O9: 0 | P9: 0 | Q9: 0 | R9: 0 | S9: 0 | T9: 0 | U9: 0 | V9: 0 | W9: 0 | X9: 0 | Y9: 0
C10: 7 | D10: Confecção e colocação de capa dura completa com costura interna, colagem e guardas | E10: 33.90.39.63 | G10: Pequeno* | I10: 20 | J10: 20 | K10: 0 | L10: =K10-(SUM(N10:Y10)) -> 0 | M10: =IF(L10<0,"ATENÇÃO","OK") -> OK | N10: 0 | O10: 0 | P10: 0 | Q10: 0 | R10: 0 | S10: 0 | T10: 0 | U10: 0 | V10: 0 | W10: 0 | X10: 0 | Y10: 0
C11: 8 | E11: 33.90.39.63 | G11: Médio* | I11: 20 | J11: 20 | K11: 0 | L11: =K11-(SUM(N11:Y11)) -> 0 | M11: =IF(L11<0,"ATENÇÃO","OK") -> OK | N11: 0 | O11: 0 | P11: 0 | Q11: 0 | R11: 0 | S11: 0 | T11: 0 | U11: 0 | V11: 0 | W11: 0 | X11: 0 | Y11: 0
C12: 9 | E12: 33.90.39.63 | G12: Grande* | I12: 20 | J12: 20 | K12: 0 | L12: =K12-(SUM(N12:Y12)) -> 0 | M12: =IF(L12<0,"ATENÇÃO","OK") -> OK | N12: 0 | O12: 0 | P12: 0 | Q12: 0 | R12: 0 | S12: 0 | T12: 0 | U12: 0 | V12: 0 | W12: 0 | X12: 0 | Y12: 0
C13: 10 | D13: Higienização c/lixas, guilhotinagem, borracha de maciez, etc | E13: 33.90.39.63 | G13: Unidade | I13: 20 | J13: 5 | K13: 0 | L13: =K13-(SUM(N13:Y13)) -> 0 | M13: =IF(L13<0,"ATENÇÃO","OK") -> OK | N13: 0 | O13: 0 | P13: 0 | Q13: 0 | R13: 0 | S13: 0 | T13: 0 | U13: 0 | V13: 0 | W13: 0 | X13: 0 | Y13: 0
C14: 11 | D14: Enxerto de folhas xerocadas | E14: 33.90.39.63 | G14: por folha | I14: 20 | J14: 0.5 | K14: 0 | L14: =K14-(SUM(N14:Y14)) -> 0 | M14: =IF(L14<0,"ATENÇÃO","OK") -> OK | N14: 0 | O14: 0 | P14: 0 | Q14: 0 | R14: 0 | S14: 0 | T14: 0 | U14: 0 | V14: 0 | W14: 0 | X14: 0 | Y14: 0
C15: 12 | D15: Restauração a úmido c/papel especial | E15: 33.90.39.63 | G15: por folha | I15: 20 | J15: 0.5 | K15: 0 | L15: =K15-(SUM(N15:Y15)) -> 0 | M15: =IF(L15<0,"ATENÇÃO","OK") -> OK | N15: 0 | O15: 0 | P15: 0 | Q15: 0 | R15: 0 | S15: 0 | T15: 0 | U15: 0 | V15: 0 | W15: 0 | X15: 0 | Y15: 0
C16: 13 | D16: Aplicação de carcelas | E16: 33.90.39.63 | G16: por folha | I16: 20 | J16: 0.25 | K16: 0 | L16: =K16-(SUM(N16:Y16)) -> 0 | M16: =IF(L16<0,"ATENÇÃO","OK") -> OK | N16: 0 | O16: 0 | P16: 0 | Q16: 0 | R16: 0 | S16: 0 | T16: 0 | U16: 0 | V16: 0 | W16: 0 | X16: 0 | Y16: 0
C17: 14 | D17: Remoção de fita adesiva | E17: 33.90.39.63 | G17: metro linear | I17: 20 | J17: 0.5 | K17: 0 | L17: =K17-(SUM(N17:Y17)) -> 0 | M17: =IF(L17<0,"ATENÇÃO","OK") -> OK | N17: 0 | O17: 0 | P17: 0 | Q17: 0 | R17: 0 | S17: 0 | T17: 0 | U17: 0 | V17: 0 | W17: 0 | X17: 0 | Y17: 0
B18: 2 | C18: 15 | D18: Restauração, encadernação e higienização de obras raras e/ou documentos históricos | E18: 33.90.39.63 | G18: Unidade | I18: 20 | J18: 12 | K18: 1000 | L18: =K18-(SUM(N18:Y18)) -> 0 | M18: =IF(L18<0,"ATENÇÃO","OK") -> OK | N18: 1000 | O18: 0 | P18: 0 | Q18: 0 | R18: 0 | S18: 0 | T18: 0 | U18: 0 | V18: 0 | W18: 0 | X18: 0 | Y18: 0
B19: 3 | C19: 16 | D19: Confecção de embalagens para os livros (caixa em papel triplex” de 300 g, composto de uma camada de uma espécie de papelão revestido de papel alcalino (frente e verso). | E19: 33.90.39.63 | G19: Pequeno* | I19: 20 | J19: 4.8 | K19: 1000 | L19: =K19-(SUM(N19:Y19)) -> 0 | M19: =IF(L19<0,"ATENÇÃO","OK") -> OK | N19: 1000 | O19: 0 | P19: 0 | Q19: 0 | R19: 0 | S19: 0 | T19: 0 | U19: 0 | V19: 0 | W19: 0 | X19: 0 | Y19: 0
A20: A4 DIGITAL PRINT LTDA EPP | B20: 4 | C20: 17 | D20: Digitalização de monografias - Fornecimento de cópia das obras em formato digital (PDF A – OCR) -Três cópias em DVD | E20: 33.90.39.63 | G20: Folha 30X20 | I20: 20 | J20: 0.18 | K20: 30000 | L20: =K20-(SUM(N20:Y20)) -> 0 | M20: =IF(L20<0,"ATENÇÃO","OK") -> OK | N20: 0 | O20: 30000 | P20: 0 | Q20: 0 | R20: 0 | S20: 0 | T20: 0 | U20: 0 | V20: 0 | W20: 0 | X20: 0 | Y20: 0
C21: 18 | D21: Digitalização de Livros - Fornecimento de cópia das obras em formato digital (PDF A – OCR). Três cópias em DVD | E21: 33.90.39.63 | G21: Folha Pequena* | I21: 20 | J21: 0.21 | K21: 15000 | L21: =K21-(SUM(N21:Y21)) -> 0 | M21: =IF(L21<0,"ATENÇÃO","OK") -> OK | N21: 0 | O21: 15000 | P21: 0 | Q21: 0 | R21: 0 | S21: 0 | T21: 0 | U21: 0 | V21: 0 | W21: 0 | X21: 0 | Y21: 0
C22: 19 | E22: 33.90.39.63 | G22: Folha Média* | I22: 20 | J22: 0.21 | K22: 10000 | L22: =K22-(SUM(N22:Y22)) -> 0 | M22: =IF(L22<0,"ATENÇÃO","OK") -> OK | N22: 0 | O22: 10000 | P22: 0 | Q22: 0 | R22: 0 | S22: 0 | T22: 0 | U22: 0 | V22: 0 | W22: 0 | X22: 0 | Y22: 0
C23: 20 | D23: Digitalização de Mapas - Fornecimento de cópia de mapas em formato digital (PDF A – OCR e JPG). - Três cópias em DVD | E23: 33.90.39.63 | G23: Folha Até A4 | I23: 20 | J23: 0.37 | K23: 200 | L23: =K23-(SUM(N23:Y23)) -> 0 | M23: =IF(L23<0,"ATENÇÃO","OK") -> OK | N23: 0 | O23: 200 | P23: 0 | Q23: 0 | R23: 0 | S23: 0 | T23: 0 | U23: 0 | V23: 0 | W23: 0 | X23: 0 | Y23: 0
C24: 21 | E24: 33.90.39.63 | G24: Folha Até A3** | I24: 20 | J24: 0.38 | K24: 200 | L24: =K24-(SUM(N24:Y24)) -> 0 | M24: =IF(L24<0,"ATENÇÃO","OK") -> OK | N24: 0 | O24: 200 | P24: 0 | Q24: 0 | R24: 0 | S24: 0 | T24: 0 | U24: 0 | V24: 0 | W24: 0 | X24: 0 | Y24: 0
C25: 22 | E25: 33.90.39.63 | G25: Folha Até A2** | I25: 20 | J25: 1.8 | K25: 200 | L25: =K25-(SUM(N25:Y25)) -> 0 | M25: =IF(L25<0,"ATENÇÃO","OK") -> OK | N25: 0 | O25: 200 | P25: 0 | Q25: 0 | R25: 0 | S25: 0 | T25: 0 | U25: 0 | V25: 0 | W25: 0 | X25: 0 | Y25: 0
C26: 23 | E26: 33.90.39.63 | G26: Folha Até A1** | I26: 20 | J26: 3 | K26: 200 | L26: =K26-(SUM(N26:Y26)) -> 0 | M26: =IF(L26<0,"ATENÇÃO","OK") -> OK | N26: 0 | O26: 200 | P26: 0 | Q26: 0 | R26: 0 | S26: 0 | T26: 0 | U26: 0 | V26: 0 | W26: 0 | X26: 0 | Y26: 0
C27: 24 | E27: 33.90.39.63 | G27: Folha Até A0** | I27: 20 | J27: 4.6 | K27: 500 | L27: =K27-(SUM(N27:Y27)) -> 0 | M27: =IF(L27<0,"ATENÇÃO","OK") -> OK | N27: 0 | O27: 500 | P27: 0 | Q27: 0 | R27: 0 | S27: 0 | T27: 0 | U27: 0 | V27: 0 | W27: 0 | X27: 0 | Y27: 0
C28: 25 | E28: 33.90.39.63 | G28: Folha Acima de A0** | I28: 20 | J28: 5 | K28: 500 | L28: =K28-(SUM(N28:Y28)) -> 0 | M28: =IF(L28<0,"ATENÇÃO","OK") -> OK | N28: 0 | O28: 500 | P28: 0 | Q28: 0 | R28: 0 | S28: 0 | T28: 0 | U28: 0 | V28: 0 | W28: 0 | X28: 0 | Y28: 0
C29: 26 | D29: Digitalização de jornais - Fornecimento de cópia de jornais em formato digital (PDF A – OCR e JPG). - Três cópias em DVD | E29: 33.90.39.63 | G29: Folha Até A3** | I29: 20 | J29: 0.27 | K29: 2000 | L29: =K29-(SUM(N29:Y29)) -> 0 | M29: =IF(L29<0,"ATENÇÃO","OK") -> OK | N29: 0 | O29: 2000 | P29: 0 | Q29: 0 | R29: 0 | S29: 0 | T29: 0 | U29: 0 | V29: 0 | W29: 0 | X29: 0 | Y29: 0
C30: 27 | E30: 33.90.39.63 | G30: Folha Acima de A0** | I30: 20 | J30: 4.6 | K30: 3000 | L30: =K30-(SUM(N30:Y30)) -> 0 | M30: =IF(L30<0,"ATENÇÃO","OK") -> OK | N30: 0 | O30: 3000 | P30: 0 | Q30: 0 | R30: 0 | S30: 0 | T30: 0 | U30: 0 | V30: 0 | W30: 0 | X30: 0 | Y30: 0
C32: *Obras: Pequena até A4 (210 x 297 mm), Média até A3 (297 x 420 mm ), Grande acima de A3 (297 x 420 mm)
C33: **Mapas e jornais: Até A4 ( 210 x 297 mm), Até A3 (297 x 420 mm ), Até A2 (420 x 594). Até A1 (594 x 840 mm), Até A0 (840 x 1.188 mm), Acima de A0 (Aicma de 1.188 mm)

Sheet ESAG
A1: PROCESSO: 0619/2014/UDESC | D1: OBJETO: Serviços de Encadernação, Restauração e Digitalização de acervos das Bibliotecas da UDESC | K1: VIGÊNCIA DA ATA: 16/06/2014 até 16/06/2015 | N1: AF/OS nº 1775/2014 Qtde. DT | O1: AF/OS nº xxxx/2014 Qtde. DT | P1: AF/OS nº xxxx/2014 Qtde. DT | Q1: AF/OS nº xxxx/2014 Qtde. DT | R1: AF/OS nº xxxx/2014 Qtde. DT | S1: AF/OS nº xxxx/2014 Qtde. DT | T1: AF/OS nº xxxx/2014 Qtde. DT | U1: AF/OS nº xxxx/2014 Qtde. DT | V1: AF/OS nº xxxx/2014 Qtde. DT | W1: AF/OS nº xxxx/2014 Qtde. DT | X1: AF/OS nº xxxx/2014 Qtde. DT | Y1: AF/OS nº xxxx/2014 Qtde. DT
A2: CENTRO PARTICIPANTE: ESAG
A3: FORNECEDOR | B3: LOTE | C3: ITEM | D3: PRODUTO - CARACTERÍSTICAS MÍNIMAS | E3: ELEMENTO | F3: MARCA | G3: UNIDADE | H3: Entrega (Dias) | I3: Pagto. (Dias) | J3: Preço UNITÁRIO (R$) | K3: Qtde LICITADA | L3: Saldo / Automático | M3: ALERTA | N3: ...../...../...... | O3: ...../...../...... | P3: ...../...../...... | Q3: ...../...../...... | R3: ...../...../...... | S3: ...../...../...... | T3: ...../...../...... | U3: ...../...../...... | V3: ...../...../...... | W3: ...../...../...... | X3: ...../...../...... | Y3: ...../...../......
A4: IDEAL ENCADERNAÇÕES LTDA ME | B4: 1 | C4: 1 | D4: Recuperação de capa dura com: costura simples, colagem, cantoneiras e lombadas e colocação de guardas novas | E4: 33.90.39.63 | G4: Pequeno* | I4: 20 | J4: 17 | K4: 20 | L4: =K4-(SUM(N4:Y4)) -> 10 | M4: =IF(L4<0,"ATENÇÃO","OK") -> OK | N4: 10 | O4: 0 | P4: 0 | Q4: 0 | R4: 0 | S4: 0 | T4: 0 | U4: 0 | V4: 0 | W4: 0 | X4: 0 | Y4: 0
C5: 2 | E5: 33.90.39.63 | G5: Médio* | I5: 20 | J5: 17 | K5: 30 | L5: =K5-(SUM(N5:Y5)) -> 15 | M5: =IF(L5<0,"ATENÇÃO","OK") -> OK | N5: 15 | O5: 0 | P5: 0 | Q5: 0 | R5: 0 | S5: 0 | T5: 0 | U5: 0 | V5: 0 | W5: 0 | X5: 0 | Y5: 0
C6: 3 | E6: 33.90.39.63 | G6: Grande* | I6: 20 | J6: 17 | K6: 10 | L6: =K6-(SUM(N6:Y6)) -> 5 | M6: =IF(L6<0,"ATENÇÃO","OK") -> OK | N6: 5 | O6: 0 | P6: 0 | Q6: 0 | R6: 0 | S6: 0 | T6: 0 | U6: 0 | V6: 0 | W6: 0 | X6: 0 | Y6: 0
C7: 4 | D7: Colocação e recuperação de capa brochura com costura, colagens e guardas | E7: 33.90.39.63 | G7: Pequeno* | I7: 20 | J7: 9 | K7: 20 | L7: =K7-(SUM(N7:Y7)) -> 10 | M7: =IF(L7<0,"ATENÇÃO","OK") -> OK | N7: 10 | O7: 0 | P7: 0 | Q7: 0 | R7: 0 | S7: 0 | T7: 0 | U7: 0 | V7: 0 | W7: 0 | X7: 0 | Y7: 0
C8: 5 | E8: 33.90.39.63 | G8: Médio* | I8: 20 | J8: 9.5 | K8: 50 | L8: =K8-(SUM(N8:Y8)) -> 25 | M8: =IF(L8<0,"ATENÇÃO","OK") -> OK | N8: 25 | O8: 0 | P8: 0 | Q8: 0 | R8: 0 | S8: 0 | T8: 0 | U8: 0 | V8: 0 | W8: 0 | X8: 0 | Y8: 0
C9: 6 | E9: 33.90.39.63 | G9: Grande* | I9: 20 | J9: 10 | K9: 15 | L9: =K9-(SUM(N9:Y9)) -> 7 | M9: =IF(L9<0,"ATENÇÃO","OK") -> OK | N9: 8 | O9: 0 | P9: 0 | Q9: 0 | R9: 0 | S9: 0 | T9: 0 | U9: 0 | V9: 0 | W9: 0 | X9: 0 | Y9: 0
C10: 7 | D10: Confecção e colocação de capa dura completa com costura interna, colagem e guardas | E10: 33.90.39.63 | G10: Pequeno* | I10: 20 | J10: 20 | K10: 25 | L10: =K10-(SUM(N10:Y10)) -> 12 | M10: =IF(L10<0,"ATENÇÃO","OK") -> OK | N10: 13 | O10: 0 | P10: 0 | Q10: 0 | R10: 0 | S10: 0 | T10: 0 | U10: 0 | V10: 0 | W10: 0 | X10: 0 | Y10: 0
C11: 8 | E11: 33.90.39.63 | G11: Médio* | I11: 20 | J11: 20 | K11: 25 | L11: =K11-(SUM(N11:Y11)) -> 12 | M11: =IF(L11<0,"ATENÇÃO","OK") -> OK | N11: 13 | O11: 0 | P11: 0 | Q11: 0 | R11: 0 | S11: 0 | T11: 0 | U11: 0 | V11: 0 | W11: 0 | X11: 0 | Y11: 0
C12: 9 | E12: 33.90.39.63 | G12: Grande* | I12: 20 | J12: 20 | K12: 10 | L12: =K12-(SUM(N12:Y12)) -> 5 | M12: =IF(L12<0,"ATENÇÃO","OK") -> OK | N12: 5 | O12: 0 | P12: 0 | Q12: 0 | R12: 0 | S12: 0 | T12: 0 | U12: 0 | V12: 0 | W12: 0 | X12: 0 | Y12: 0
C13: 10 | D13: Higienização c/lixas, guilhotinagem, borracha de maciez, etc | E13: 33.90.39.63 | G13: Unidade | I13: 20 | J13: 5 | K13: 15 | L13: =K13-(SUM(N13:Y13)) -> 7 | M13: =IF(L13<0,"ATENÇÃO","OK") -> OK | N13: 8 | O13: 0 | P13: 0 | Q13: 0 | R13: 0 | S13: 0 | T13: 0 | U13: 0 | V13: 0 | W13: 0 | X13: 0 | Y13: 0
C14: 11 | D14: Enxerto de folhas xerocadas | E14: 33.90.39.63 | G14: por folha | I14: 20 | J14: 0.5 | K14: 80 | L14: =K14-(SUM(N14:Y14)) -> 40 | M14: =IF(L14<0,"ATENÇÃO","OK") -> OK | N14: 40 | O14: 0 | P14: 0 | Q14: 0 | R14: 0 | S14: 0 | T14: 0 | U14: 0 | V14: 0 | W14: 0 | X14: 0 | Y14: 0
C15: 12 | D15: Restauração a úmido c/papel especial | E15: 33.90.39.63 | G15: por folha | I15: 20 | J15: 0.5 | K15: 120 | L15: =K15-(SUM(N15:Y15)) -> 60 | M15: =IF(L15<0,"ATENÇÃO","OK") -> OK | N15: 60 | O15: 0 | P15: 0 | Q15: 0 | R15: 0 | S15: 0 | T15: 0 | U15: 0 | V15: 0 | W15: 0 | X15: 0 | Y15: 0
C16: 13 | D16: Aplicação de carcelas | E16: 33.90.39.63 | G16: por folha | I16: 20 | J16: 0.25 | K16: 50 | L16: =K16-(SUM(N16:Y16)) -> 25 | M16: =IF(L16<0,"ATENÇÃO","OK") -> OK | N16: 25 | O16: 0 | P16: 0 | Q16: 0 | R16: 0 | S16: 0 | T16: 0 | U16: 0 | V16: 0 | W16: 0 | X16: 0 | Y16: 0
C17: 14 | D17: Remoção de fita adesiva | E17: 33.90.39.63 | G17: metro linear | I17: 20 | J17: 0.5 | K17: 50 | L17: =K17-(SUM(N17:Y17)) -> 25 | M17: =IF(L17<0,"ATENÇÃO","OK") -> OK | N17: 25 | O17: 0 | P17: 0 | Q17: 0 | R17: 0 | S17: 0 | T17: 0 | U17: 0 | V17: 0 | W17: 0 | X17: 0 | Y17: 0
B18: 2 | C18: 15 | D18: Restauração, encadernação e higienização de obras raras e/ou documentos históricos | E18: 33.90.39.63 | G18: Unidade | I18: 20 | J18: 12 | K18: 0 | L18: =K18-(SUM(N18:Y18)) -> 0 | M18: =IF(L18<0,"ATENÇÃO","OK") -> OK | N18: 0 | O18: 0 | P18: 0 | Q18: 0 | R18: 0 | S18: 0 | T18: 0 | U18: 0 | V18: 0 | W18: 0 | X18: 0 | Y18: 0
B19: 3 | C19: 16 | D19: Confecção de embalagens para os livros (caixa em papel triplex” de 300 g, composto de uma camada de uma espécie de papelão revestido de papel alcalino (frente e verso). | E19: 33.90.39.63 | G19: Pequeno* | I19: 20 | J19: 4.8 | K19: 0 | L19: =K19-(SUM(N19:Y19)) -> 0 | M19: =IF(L19<0,"ATENÇÃO","OK") -> OK | N19: 0 | O19: 0 | P19: 0 | Q19: 0 | R19: 0 | S19: 0 | T19: 0 | U19: 0 | V19: 0 | W19: 0 | X19: 0 | Y19: 0
A20: A4 DIGITAL PRINT LTDA EPP | B20: 4 | C20: 17 | D20: Digitalização de monografias - Fornecimento de cópia das obras em formato digital (PDF A – OCR) -Três cópias em DVD | E20: 33.90.39.63 | G20: Folha 30X20 | I20: 20 | J20: 0.18 | K20: 0 | L20: =K20-(SUM(N20:Y20)) -> 0 | M20: =IF(L20<0,"ATENÇÃO","OK") -> OK | N20: 0 | O20: 0 | P20: 0 | Q20: 0 | R20: 0 | S20: 0 | T20: 0 | U20: 0 | V20: 0 | W20: 0 | X20: 0 | Y20: 0
C21: 18 | D21: Digitalização de Livros - Fornecimento de cópia das obras em formato digital (PDF A – OCR). Três cópias em DVD | E21: 33.90.39.63 | G21: Folha Pequena* | I21: 20 | J21: 0.21 | K21: 0 | L21: =K21-(SUM(N21:Y21)) -> 0 | M21: =IF(L21<0,"ATENÇÃO","OK") -> OK | N21: 0 | O21: 0 | P21: 0 | Q21: 0 | R21: 0 | S21: 0 | T21: 0 | U21: 0 | V21: 0 | W21: 0 | X21: 0 | Y21: 0
C22: 19 | E22: 33.90.39.63 | G22: Folha Média* | I22: 20 | J22: 0.21 | K22: 0 | L22: =K22-(SUM(N22:Y22)) -> 0 | M22: =IF(L22<0,"ATENÇÃO","OK") -> OK | N22: 0 | O22: 0 | P22: 0 | Q22: 0 | R22: 0 | S22: 0 | T22: 0 | U22: 0 | V22: 0 | W22: 0 | X22: 0 | Y22: 0
C23: 20 | D23: Digitalização de Mapas - Fornecimento de cópia de mapas em formato digital (PDF A – OCR e JPG). - Três cópias em DVD | E23: 33.90.39.63 | G23: Folha Até A4 | I23: 20 | J23: 0.37 | K23: 0 | L23: =K23-(SUM(N23:Y23)) -> 0 | M23: =IF(L23<0,"ATENÇÃO","OK") -> OK | N23: 0 | O23: 0 | P23: 0 | Q23: 0 | R23: 0 | S23: 0 | T23: 0 | U23: 0 | V23: 0 | W23: 0 | X23: 0 | Y23: 0
C24: 21 | E24: 33.90.39.63 | G24: Folha Até A3** | I24: 20 | J24: 0.38 | K24: 0 | L24: =K24-(SUM(N24:Y24)) -> 0 | M24: =IF(L24<0,"ATENÇÃO","OK") -> OK | N24: 0 | O24: 0 | P24: 0 | Q24: 0 | R24: 0 | S24: 0 | T24: 0 | U24: 0 | V24: 0 | W24: 0 | X24: 0 | Y24: 0
C25: 22 | E25: 33.90.39.63 | G25: Folha Até A2** | I25: 20 | J25: 1.8 | K25: 0 | L25: =K25-(SUM(N25:Y25)) -> 0 | M25: =IF(L25<0,"ATENÇÃO","OK") -> OK | N25: 0 | O25: 0 | P25: 0 | Q25: 0 | R25: 0 | S25: 0 | T25: 0 | U25: 0 | V25: 0 | W25: 0 | X25: 0 | Y25: 0
C26: 23 | E26: 33.90.39.63 | G26: Folha Até A1** | I26: 20 | J26: 3 | K26: 0 | L26: =K26-(SUM(N26:Y26)) -> 0 | M26: =IF(L26<0,"ATENÇÃO","OK") -> OK | N26: 0 | O26: 0 | P26: 0 | Q26: 0 | R26: 0 | S26: 0 | T26: 0 | U26: 0 | V26: 0 | W26: 0 | X26: 0 | Y26: 0
C27: 24 | E27: 33.90.39.63 | G27: Folha Até A0** | I27: 20 | J27: 4.6 | K27: 0 | L27: =K27-(SUM(N27:Y27)) -> 0 | M27: =IF(L27<0,"ATENÇÃO","OK") -> OK | N27: 0 | O27: 0 | P27: 0 | Q27: 0 | R27: 0 | S27: 0 | T27: 0 | U27: 0 | V27: 0 | W27: 0 | X27: 0 | Y27: 0
C28: 25 | E28: 33.90.39.63 | G28: Folha Acima de A0** | I28: 20 | J28: 5 | K28: 0 | L28: =K28-(SUM(N28:Y28)) -> 0 | M28: =IF(L28<0,"ATENÇÃO","OK") -> OK | N28: 0 | O28: 0 | P28: 0 | Q28: 0 | R28: 0 | S28: 0 | T28: 0 | U28: 0 | V28: 0 | W28: 0 | X28: 0 | Y28: 0
C29: 26 | D29: Digitalização de jornais - Fornecimento de cópia de jornais em formato digital (PDF A – OCR e JPG). - Três cópias em DVD | E29: 33.90.39.63 | G29: Folha Até A3** | I29: 20 | J29: 0.27 | K29: 0 | L29: =K29-(SUM(N29:Y29)) -> 0 | M29: =IF(L29<0,"ATENÇÃO","OK") -> OK | N29: 0 | O29: 0 | P29: 0 | Q29: 0 | R29: 0 | S29: 0 | T29: 0 | U29: 0 | V29: 0 | W29: 0 | X29: 0 | Y29: 0
C30: 27 | E30: 33.90.39.63 | G30: Folha Acima de A0** | I30: 20 | J30: 4.6 | K30: 0 | L30: =K30-(SUM(N30:Y30)) -> 0 | M30: =IF(L30<0,"ATENÇÃO","OK") -> OK | N30: 0 | O30: 0 | P30: 0 | Q30: 0 | R30: 0 | S30: 0 | T30: 0 | U30: 0 | V30: 0 | W30: 0 | X30: 0 | Y30: 0
C32: *Obras: Pequena até A4 (210 x 297 mm), Média até A3 (297 x 420 mm ), Grande acima de A3 (297 x 420 mm)
C33: **Mapas e jornais: Até A4 ( 210 x 297 mm), Até A3 (297 x 420 mm ), Até A2 (420 x 594). Até A1 (594 x 840 mm), Até A0 (840 x 1.188 mm), Acima de A0 (Aicma de 1.188 mm)

Sheet CEO
A1: PROCESSO: 0619/2014/UDESC | D1: OBJETO: Serviços de Encadernação, Restauração e Digitalização de acervos das Bibliotecas da UDESC | K1: VIGÊNCIA DA ATA: 16/06/2014 até 16/06/2015 | N1: AF/OS nº xxxx/2014 Qtde. DT | O1: AF/OS nº xxxx/2014 Qtde. DT | P1: AF/OS nº xxxx/2014 Qtde. DT | Q1: AF/OS nº xxxx/2014 Qtde. DT | R1: AF/OS nº xxxx/2014 Qtde. DT | S1: AF/OS nº xxxx/2014 Qtde. DT | T1: AF/OS nº xxxx/2014 Qtde. DT | U1: AF/OS nº xxxx/2014 Qtde. DT | V1: AF/OS nº xxxx/2014 Qtde. DT | W1: AF/OS nº xxxx/2014 Qtde. DT | X1: AF/OS nº xxxx/2014 Qtde. DT | Y1: AF/OS nº xxxx/2014 Qtde. DT
A2: CENTRO PARTICIPANTE: CEO
A3: FORNECEDOR | B3: LOTE | C3: ITEM | D3: PRODUTO - CARACTERÍSTICAS MÍNIMAS | E3: ELEMENTO | F3: MARCA | G3: UNIDADE | H3: Entrega (Dias) | I3: Pagto. (Dias) | J3: Preço UNITÁRIO (R$) | K3: Qtde LICITADA | L3: Saldo / Automático | M3: ALERTA | N3: ...../...../...... | O3: ...../...../...... | P3: ...../...../...... | Q3: ...../...../...... | R3: ...../...../...... | S3: ...../...../...... | T3: ...../...../...... | U3: ...../...../...... | V3: ...../...../...... | W3: ...../...../...... | X3: ...../...../...... | Y3: ...../...../......
A4: IDEAL ENCADERNAÇÕES LTDA ME | B4: 1 | C4: 1 | D4: Recuperação de capa dura com: costura simples, colagem, cantoneiras e lombadas e colocação de guardas novas | E4: 33.90.39.63 | G4: Pequeno* | I4: 20 | J4: 17 | K4: 10 | L4: =K4-(SUM(N4:Y4)) -> 10 | M4: =IF(L4<0,"ATENÇÃO","OK") -> OK | N4: 0 | O4: 0 | P4: 0 | Q4: 0 | R4: 0 | S4: 0 | T4: 0 | U4: 0 | V4: 0 | W4: 0 | X4: 0 | Y4: 0
C5: 2 | E5: 33.90.39.63 | G5: Médio* | I5: 20 | J5: 17 | K5: 15 | L5: =K5-(SUM(N5:Y5)) -> 15 | M5: =IF(L5<0,"ATENÇÃO","OK") -> OK | N5: 0 | O5: 0 | P5: 0 | Q5: 0 | R5: 0 | S5: 0 | T5: 0 | U5: 0 | V5: 0 | W5: 0 | X5: 0 | Y5: 0
C6: 3 | E6: 33.90.39.63 | G6: Grande* | I6: 20 | J6: 17 | K6: 35 | L6: =K6-(SUM(N6:Y6)) -> 35 | M6: =IF(L6<0,"ATENÇÃO","OK") -> OK | N6: 0 | O6: 0 | P6: 0 | Q6: 0 | R6: 0 | S6: 0 | T6: 0 | U6: 0 | V6: 0 | W6: 0 | X6: 0 | Y6: 0
C7: 4 | D7: Colocação e recuperação de capa brochura com costura, colagens e guardas | E7: 33.90.39.63 | G7: Pequeno* | I7: 20 | J7: 9 | K7: 20 | L7: =K7-(SUM(N7:Y7)) -> 20 | M7: =IF(L7<0,"ATENÇÃO","OK") -> OK | N7: 0 | O7: 0 | P7: 0 | Q7: 0 | R7: 0 | S7: 0 | T7: 0 | U7: 0 | V7: 0 | W7: 0 | X7: 0 | Y7: 0
C8: 5 | E8: 33.90.39.63 | G8: Médio* | I8: 20 | J8: 9.5 | K8: 15 | L8: =K8-(SUM(N8:Y8)) -> 15 | M8: =IF(L8<0,"ATENÇÃO","OK") -> OK | N8: 0 | O8: 0 | P8: 0 | Q8: 0 | R8: 0 | S8: 0 | T8: 0 | U8: 0 | V8: 0 | W8: 0 | X8: 0 | Y8: 0
C9: 6 | E9: 33.90.39.63 | G9: Grande* | I9: 20 | J9: 10 | K9: 25 | L9: =K9-(SUM(N9:Y9)) -> 25 | M9: =IF(L9<0,"ATENÇÃO","OK") -> OK | N9: 0 | O9: 0 | P9: 0 | Q9: 0 | R9: 0 | S9: 0 | T9: 0 | U9: 0 | V9: 0 | W9: 0 | X9: 0 | Y9: 0
C10: 7 | D10: Confecção e colocação de capa dura completa com costura interna, colagem e guardas | E10: 33.90.39.63 | G10: Pequeno* | I10: 20 | J10: 20 | K10: 0 | L10: =K10-(SUM(N10:Y10)) -> 0 | M10: =IF(L10<0,"ATENÇÃO","OK") -> OK | N10: 0 | O10: 0 | P10: 0 | Q10: 0 | R10: 0 | S10: 0 | T10: 0 | U10: 0 | V10: 0 | W10: 0 | X10: 0 | Y10: 0
C11: 8 | E11: 33.90.39.63 | G11: Médio* | I11: 20 | J11: 20 | K11: 10 | L11: =K11-(SUM(N11:Y11)) -> 10 | M11: =IF(L11<0,"ATENÇÃO","OK") -> OK | N11: 0 | O11: 0 | P11: 0 | Q11: 0 | R11: 0 | S11: 0 | T11: 0 | U11: 0 | V11: 0 | W11: 0 | X11: 0 | Y11: 0
C12: 9 | E12: 33.90.39.63 | G12: Grande* | I12: 20 | J12: 20 | K12: 15 | L12: =K12-(SUM(N12:Y12)) -> 15 | M12: =IF(L12<0,"ATENÇÃO","OK") -> OK | N12: 0 | O12: 0 | P12: 0 | Q12: 0 | R12: 0 | S12: 0 | T12: 0 | U12: 0 | V12: 0 | W12: 0 | X12: 0 | Y12: 0
C13: 10 | D13: Higienização c/lixas, guilhotinagem, borracha de maciez, etc | E13: 33.90.39.63 | G13: Unidade | I13: 20 | J13: 5 | K13: 0 | L13: =K13-(SUM(N13:Y13)) -> 0 | M13: =IF(L13<0,"ATENÇÃO","OK") -> OK | N13: 0 | O13: 0 | P13: 0 | Q13: 0 | R13: 0 | S13: 0 | T13: 0 | U13: 0 | V13: 0 | W13: 0 | X13: 0 | Y13: 0
C14: 11 | D14: Enxerto de folhas xerocadas | E14: 33.90.39.63 | G14: por folha | I14: 20 | J14: 0.5 | K14: 0 | L14: =K14-(SUM(N14:Y14)) -> 0 | M14: =IF(L14<0,"ATENÇÃO","OK") -> OK | N14: 0 | O14: 0 | P14: 0 | Q14: 0 | R14: 0 | S14: 0 | T14: 0 | U14: 0 | V14: 0 | W14: 0 | X14: 0 | Y14: 0
C15: 12 | D15: Restauração a úmido c/papel especial | E15: 33.90.39.63 | G15: por folha | I15: 20 | J15: 0.5 | K15: 0 | L15: =K15-(SUM(N15:Y15)) -> 0 | M15: =IF(L15<0,"ATENÇÃO","OK") -> OK | N15: 0 | O15: 0 | P15: 0 | Q15: 0 | R15: 0 | S15: 0 | T15: 0 | U15: 0 | V15: 0 | W15: 0 | X15: 0 | Y15: 0
C16: 13 | D16: Aplicação de carcelas | E16: 33.90.39.63 | G16: por folha | I16: 20 | J16: 0.25 | K16: 100 | L16: =K16-(SUM(N16:Y16)) -> 100 | M16: =IF(L16<0,"ATENÇÃO","OK") -> OK | N16: 0 | O16: 0 | P16: 0 | Q16: 0 | R16: 0 | S16: 0 | T16: 0 | U16: 0 | V16: 0 | W16: 0 | X16: 0 | Y16: 0
C17: 14 | D17: Remoção de fita adesiva | E17: 33.90.39.63 | G17: metro linear | I17: 20 | J17: 0.5 | K17: 0 | L17: =K17-(SUM(N17:Y17)) -> 0 | M17: =IF(L17<0,"ATENÇÃO","OK") -> OK | N17: 0 | O17: 0 | P17: 0 | Q17: 0 | R17: 0 | S17: 0 | T17: 0 | U17: 0 | V17: 0 | W17: 0 | X17: 0 | Y17: 0
B18: 2 | C18: 15 | D18: Restauração, encadernação e higienização de obras raras e/ou documentos históricos | E18: 33.90.39.63 | G18: Unidade | I18: 20 | J18: 12 | K18: 0 | L18: =K18-(SUM(N18:Y18)) -> 0 | M18: =IF(L18<0,"ATENÇÃO","OK") -> OK | N18: 0 | O18: 0 | P18: 0 | Q18: 0 | R18: 0 | S18: 0 | T18: 0 | U18: 0 | V18: 0 | W18: 0 | X18: 0 | Y18: 0
B19: 3 | C19: 16 | D19: Confecção de embalagens para os livros (caixa em papel triplex” de 300 g, composto de uma camada de uma espécie de papelão revestido de papel alcalino (frente e verso). | E19: 33.90.39.63 | G19: Pequeno* | I19: 20 | J19: 4.8 | K19: 0 | L19: =K19-(SUM(N19:Y19)) -> 0 | M19: =IF(L19<0,"ATENÇÃO","OK") -> OK | N19: 0 | O19: 0 | P19: 0 | Q19: 0 | R19: 0 | S19: 0 | T19: 0 | U19: 0 | V19: 0 | W19: 0 | X19: 0 | Y19: 0
A20: A4 DIGITAL PRINT LTDA EPP | B20: 4 | C20: 17 | D20: Digitalização de monografias - Fornecimento de cópia das obras em formato digital (PDF A – OCR) -Três cópias em DVD | E20: 33.90.39.63 | G20: Folha 30X20 | I20: 20 | J20: 0.18 | K20: 0 | L20: =K20-(SUM(N20:Y20)) -> 0 | M20: =IF(L20<0,"ATENÇÃO","OK") -> OK | N20: 0 | O20: 0 | P20: 0 | Q20: 0 | R20: 0 | S20: 0 | T20: 0 | U20: 0 | V20: 0 | W20: 0 | X20: 0 | Y20: 0
C21: 18 | D21: Digitalização de Livros - Fornecimento de cópia das obras em formato digital (PDF A – OCR). Três cópias em DVD | E21: 33.90.39.63 | G21: Folha Pequena* | I21: 20 | J21: 0.21 | K21: 0 | L21: =K21-(SUM(N21:Y21)) -> 0 | M21: =IF(L21<0,"ATENÇÃO","OK") -> OK | N21: 0 | O21: 0 | P21: 0 | Q21: 0 | R21: 0 | S21: 0 | T21: 0 | U21: 0 | V21: 0 | W21: 0 | X21: 0 | Y21: 0
C22: 19 | E22: 33.90.39.63 | G22: Folha Média* | I22: 20 | J22: 0.21 | K22: 0 | L22: =K22-(SUM(N22:Y22)) -> 0 | M22: =IF(L22<0,"ATENÇÃO","OK") -> OK | N22: 0 | O22: 0 | P22: 0 | Q22: 0 | R22: 0 | S22: 0 | T22: 0 | U22: 0 | V22: 0 | W22: 0 | X22: 0 | Y22: 0
C23: 20 | D23: Digitalização de Mapas - Fornecimento de cópia de mapas em formato digital (PDF A – OCR e JPG). - Três cópias em DVD | E23: 33.90.39.63 | G23: Folha Até A4 | I23: 20 | J23: 0.37 | K23: 0 | L23: =K23-(SUM(N23:Y23)) -> 0 | M23: =IF(L23<0,"ATENÇÃO","OK") -> OK | N23: 0 | O23: 0 | P23: 0 | Q23: 0 | R23: 0 | S23: 0 | T23: 0 | U23: 0 | V23: 0 | W23: 0 | X23: 0 | Y23: 0
C24: 21 | E24: 33.90.39.63 | G24: Folha Até A3** | I24: 20 | J24: 0.38 | K24: 0 | L24: =K24-(SUM(N24:Y24)) -> 0 | M24: =IF(L24<0,"ATENÇÃO","OK") -> OK | N24: 0 | O24: 0 | P24: 0 | Q24: 0 | R24: 0 | S24: 0 | T24: 0 | U24: 0 | V24: 0 | W24: 0 | X24: 0 | Y24: 0
C25: 22 | E25: 33.90.39.63 | G25: Folha Até A2** | I25: 20 | J25: 1.8 | K25: 0 | L25: =K25-(SUM(N25:Y25)) -> 0 | M25: =IF(L25<0,"ATENÇÃO","OK") -> OK | N25: 0 | O25: 0 | P25: 0 | Q25: 0 | R25: 0 | S25: 0 | T25: 0 | U25: 0 | V25: 0 | W25: 0 | X25: 0 | Y25: 0
C26: 23 | E26: 33.90.39.63 | G26: Folha Até A1** | I26: 20 | J26: 3 | K26: 0 | L26: =K26-(SUM(N26:Y26)) -> 0 | M26: =IF(L26<0,"ATENÇÃO","OK") -> OK | N26: 0 | O26: 0 | P26: 0 | Q26: 0 | R26: 0 | S26: 0 | T26: 0 | U26: 0 | V26: 0 | W26: 0 | X26: 0 | Y26: 0
C27: 24 | E27: 33.90.39.63 | G27: Folha Até A0** | I27: 20 | J27: 4.6 | K27: 0 | L27: =K27-(SUM(N27:Y27)) -> 0 | M27: =IF(L27<0,"ATENÇÃO","OK") -> OK | N27: 0 | O27: 0 | P27: 0 | Q27: 0 | R27: 0 | S27: 0 | T27: 0 | U27: 0 | V27: 0 | W27: 0 | X27: 0 | Y27: 0
C28: 25 | E28: 33.90.39.63 | G28: Folha Acima de A0** | I28: 20 | J28: 5 | K28: 0 | L28: =K28-(SUM(N28:Y28)) -> 0 | M28: =IF(L28<0,"ATENÇÃO","OK") -> OK | N28: 0 | O28: 0 | P28: 0 | Q28: 0 | R28: 0 | S28: 0 | T28: 0 | U28: 0 | V28: 0 | W28: 0 | X28: 0 | Y28: 0
C29: 26 | D29: Digitalização de jornais - Fornecimento de cópia de jornais em formato digital (PDF A – OCR e JPG). - Três cópias em DVD | E29: 33.90.39.63 | G29: Folha Até A3** | I29: 20 | J29: 0.27 | K29: 0 | L29: =K29-(SUM(N29:Y29)) -> 0 | M29: =IF(L29<0,"ATENÇÃO","OK") -> OK | N29: 0 | O29: 0 | P29: 0 | Q29: 0 | R29: 0 | S29: 0 | T29: 0 | U29: 0 | V29: 0 | W29: 0 | X29: 0 | Y29: 0
C30: 27 | E30: 33.90.39.63 | G30: Folha Acima de A0** | I30: 20 | J30: 4.6 | K30: 0 | L30: =K30-(SUM(N30:Y30)) -> 0 | M30: =IF(L30<0,"ATENÇÃO","OK") -> OK | N30: 0 | O30: 0 | P30: 0 | Q30: 0 | R30: 0 | S30: 0 | T30: 0 | U30: 0 | V30: 0 | W30: 0 | X30: 0 | Y30: 0
C32: *Obras: Pequena até A4 (210 x 297 mm), Média até A3 (297 x 420 mm ), Grande acima de A3 (297 x 420 mm)
C33: **Mapas e jornais: Até A4 ( 210 x 297 mm), Até A3 (297 x 420 mm ), Até A2 (420 x 594). Até A1 (594 x 840 mm), Até A0 (840 x 1.188 mm), Acima de A0 (Aicma de 1.188 mm)

Sheet CCT
A1: PROCESSO: 0619/2014/UDESC | D1: OBJETO: Serviços de Encadernação, Restauração e Digitalização de acervos das Bibliotecas da UDESC | K1: VIGÊNCIA DA ATA: 16/06/2014 até 16/06/2015 | N1: AF/OS nº xxxx/2014 Qtde. DT | O1: AF/OS nº xxxx/2014 Qtde. DT | P1: AF/OS nº xxxx/2014 Qtde. DT | Q1: AF/OS nº xxxx/2014 Qtde. DT | R1: AF/OS nº xxxx/2014 Qtde. DT | S1: AF/OS nº xxxx/2014 Qtde. DT | T1: AF/OS nº xxxx/2014 Qtde. DT | U1: AF/OS nº xxxx/2014 Qtde. DT | V1: AF/OS nº xxxx/2014 Qtde. DT | W1: AF/OS nº xxxx/2014 Qtde. DT | X1: AF/OS nº xxxx/2014 Qtde. DT | Y1: AF/OS nº xxxx/2014 Qtde. DT
A2: CENTRO PARTICIPANTE: CCT
A3: FORNECEDOR | B3: LOTE | C3: ITEM | D3: PRODUTO - CARACTERÍSTICAS MÍNIMAS | E3: ELEMENTO | F3: MARCA | G3: UNIDADE | H3: Entrega (Dias) | I3: Pagto. (Dias) | J3: Preço UNITÁRIO (R$) | K3: Qtde LICITADA | L3: Saldo / Automático | M3: ALERTA | N3: ...../...../...... | O3: ...../...../...... | P3: ...../...../...... | Q3: ...../...../...... | R3: ...../...../...... | S3: ...../...../...... | T3: ...../...../...... | U3: ...../...../...... | V3: ...../...../...... | W3: ...../...../...... | X3: ...../...../...... | Y3: ...../...../......
A4: IDEAL ENCADERNAÇÕES LTDA ME | B4: 1 | C4: 1 | D4: Recuperação de capa dura com: costura simples, colagem, cantoneiras e lombadas e colocação de guardas novas | E4: 33.90.39.63 | G4: Pequeno* | I4: 20 | J4: 17 | K4: 50 | L4: =K4-(SUM(N4:Y4)) -> 50 | M4: =IF(L4<0,"ATENÇÃO","OK") -> OK | N4: 0 | O4: 0 | P4: 0 | Q4: 0 | R4: 0 | S4: 0 | T4: 0 | U4: 0 | V4: 0 | W4: 0 | X4: 0 | Y4: 0
C5: 2 | E5: 33.90.39.63 | G5: Médio* | I5: 20 | J5: 17 | K5: 40 | L5: =K5-(SUM(N5:Y5)) -> 40 | M5: =IF(L5<0,"ATENÇÃO","OK") -> OK | N5: 0 | O5: 0 | P5: 0 | Q5: 0 | R5: 0 | S5: 0 | T5: 0 | U5: 0 | V5: 0 | W5: 0 | X5: 0 | Y5: 0
C6: 3 | E6: 33.90.39.63 | G6: Grande* | I6: 20 | J6: 17 | K6: 35 | L6: =K6-(SUM(N6:Y6)) -> 35 | M6: =IF(L6<0,"ATENÇÃO","OK") -> OK | N6: 0 | O6: 0 | P6: 0 | Q6: 0 | R6: 0 | S6: 0 | T6: 0 | U6: 0 | V6: 0 | W6: 0 | X6: 0 | Y6: 0
C7: 4 | D7: Colocação e recuperação de capa brochura com costura, colagens e guardas | E7: 33.90.39.63 | G7: Pequeno* | I7: 20 | J7: 9 | K7: 35 | L7: =K7-(SUM(N7:Y7)) -> 35 | M7: =IF(L7<0,"ATENÇÃO","OK") -> OK | N7: 0 | O7: 0 | P7: 0 | Q7: 0 | R7: 0 | S7: 0 | T7: 0 | U7: 0 | V7: 0 | W7: 0 | X7: 0 | Y7: 0
C8: 5 | E8: 33.90.39.63 | G8: Médio* | I8: 20 | J8: 9.5 | K8: 50 | L8: =K8-(SUM(N8:Y8)) -> 50 | M8: =IF(L8<0,"ATENÇÃO","OK") -> OK | N8: 0 | O8: 0 | P8: 0 | Q8: 0 | R8: 0 | S8: 0 | T8: 0 | U8: 0 | V8: 0 | W8: 0 | X8: 0 | Y8: 0
C9: 6 | E9: 33.90.39.63 | G9: Grande* | I9: 20 | J9: 10 | K9: 45 | L9: =K9-(SUM(N9:Y9)) -> 45 | M9: =IF(L9<0,"ATENÇÃO","OK") -> OK | N9: 0 | O9: 0 | P9: 0 | Q9: 0 | R9: 0 | S9: 0 | T9: 0 | U9: 0 | V9: 0 | W9: 0 | X9: 0 | Y9: 0
C10: 7 | D10: Confecção e colocação de capa dura completa com costura interna, colagem e guardas | E10: 33.90.39.63 | G10: Pequeno* | I10: 20 | J10: 20 | K10: 45 | L10: =K10-(SUM(N10:Y10)) -> 45 | M10: =IF(L10<0,"ATENÇÃO","OK") -> OK | N10: 0 | O10: 0 | P10: 0 | Q10: 0 | R10: 0 | S10: 0 | T10: 0 | U10: 0 | V10: 0 | W10: 0 | X10: 0 | Y10: 0
C11: 8 | E11: 33.90.39.63 | G11: Médio* | I11: 20 | J11: 20 | K11: 40 | L11: =K11-(SUM(N11:Y11)) -> 40 | M11: =IF(L11<0,"ATENÇÃO","OK") -> OK | N11: 0 | O11: 0 | P11: 0 | Q11: 0 | R11: 0 | S11: 0 | T11: 0 | U11: 0 | V11: 0 | W11: 0 | X11: 0 | Y11: 0
C12: 9 | E12: 33.90.39.63 | G12: Grande* | I12: 20 | J12: 20 | K12: 30 | L12: =K12-(SUM(N12:Y12)) -> 30 | M12: =IF(L12<0,"ATENÇÃO","OK") -> OK | N12: 0 | O12: 0 | P12: 0 | Q12: 0 | R12: 0 | S12: 0 | T12: 0 | U12: 0 | V12: 0 | W12: 0 | X12: 0 | Y12: 0
C13: 10 | D13: Higienização c/lixas, guilhotinagem, borracha de maciez, etc | E13: 33.90.39.63 | G13: Unidade | I13: 20 | J13: 5 | K13: 35 | L13: =K13-(SUM(N13:Y13)) -> 35 | M13: =IF(L13<0,"ATENÇÃO","OK") -> OK | N13: 0 | O13: 0 | P13: 0 | Q13: 0 | R13: 0 | S13: 0 | T13: 0 | U13: 0 | V13: 0 | W13: 0 | X13: 0 | Y13: 0
C14: 11 | D14: Enxerto de folhas xerocadas | E14: 33.90.39.63 | G14: por folha | I14: 20 | J14: 0.5 | K14: 180 | L14: =K14-(SUM(N14:Y14)) -> 180 | M14: =IF(L14<0,"ATENÇÃO","OK") -> OK | N14: 0 | O14: 0 | P14: 0 | Q14: 0 | R14: 0 | S14: 0 | T14: 0 | U14: 0 | V14: 0 | W14: 0 | X14: 0 | Y14: 0
C15: 12 | D15: Restauração a úmido c/papel especial | E15: 33.90.39.63 | G15: por folha | I15: 20 | J15: 0.5 | K15: 100 | L15: =K15-(SUM(N15:Y15)) -> 100 | M15: =IF(L15<0,"ATENÇÃO","OK") -> OK | N15: 0 | O15: 0 | P15: 0 | Q15: 0 | R15: 0 | S15: 0 | T15: 0 | U15: 0 | V15: 0 | W15: 0 | X15: 0 | Y15: 0
C16: 13 | D16: Aplicação de carcelas | E16: 33.90.39.63 | G16: por folha | I16: 20 | J16: 0.25 | K16: 150 | L16: =K16-(SUM(N16:Y16)) -> 150 | M16: =IF(L16<0,"ATENÇÃO","OK") -> OK | N16: 0 | O16: 0 | P16: 0 | Q16: 0 | R16: 0 | S16: 0 | T16: 0 | U16: 0 | V16: 0 | W16: 0 | X16: 0 | Y16: 0
C17: 14 | D17: Remoção de fita adesiva | E17: 33.90.39.63 | G17: metro linear | I17: 20 | J17: 0.5 | K17: 100 | L17: =K17-(SUM(N17:Y17)) -> 100 | M17: =IF(L17<0,"ATENÇÃO","OK") -> OK | N17: 0 | O17: 0 | P17: 0 | Q17: 0 | R17: 0 | S17: 0 | T17: 0 | U17: 0 | V17: 0 | W17: 0 | X17: 0 | Y17: 0
B18: 2 | C18: 15 | D18: Restauração, encadernação e higienização de obras raras e/ou documentos históricos | E18: 33.90.39.63 | G18: Unidade | I18: 20 | J18: 12 | K18: 0 | L18: =K18-(SUM(N18:Y18)) -> 0 | M18: =IF(L18<0,"ATENÇÃO","OK") -> OK | N18: 0 | O18: 0 | P18: 0 | Q18: 0 | R18: 0 | S18: 0 | T18: 0 | U18: 0 | V18: 0 | W18: 0 | X18: 0 | Y18: 0
B19: 3 | C19: 16 | D19: Confecção de embalagens para os livros (caixa em papel triplex” de 300 g, composto de uma camada de uma espécie de papelão revestido de papel alcalino (frente e verso). | E19: 33.90.39.63 | G19: Pequeno* | I19: 20 | J19: 4.8 | K19: 0 | L19: =K19-(SUM(N19:Y19)) -> 0 | M19: =IF(L19<0,"ATENÇÃO","OK") -> OK | N19: 0 | O19: 0 | P19: 0 | Q19: 0 | R19: 0 | S19: 0 | T19: 0 | U19: 0 | V19: 0 | W19: 0 | X19: 0 | Y19: 0
A20: A4 DIGITAL PRINT LTDA EPP | B20: 4 | C20: 17 | D20: Digitalização de monografias - Fornecimento de cópia das obras em formato digital (PDF A – OCR) -Três cópias em DVD | E20: 33.90.39.63 | G20: Folha 30X20 | I20: 20 | J20: 0.18 | K20: 0 | L20: =K20-(SUM(N20:Y20)) -> 0 | M20: =IF(L20<0,"ATENÇÃO","OK") -> OK | N20: 0 | O20: 0 | P20: 0 | Q20: 0 | R20: 0 | S20: 0 | T20: 0 | U20: 0 | V20: 0 | W20: 0 | X20: 0 | Y20: 0
C21: 18 | D21: Digitalização de Livros - Fornecimento de cópia das obras em formato digital (PDF A – OCR). Três cópias em DVD | E21: 33.90.39.63 | G21: Folha Pequena* | I21: 20 | J21: 0.21 | K21: 0 | L21: =K21-(SUM(N21:Y21)) -> 0 | M21: =IF(L21<0,"ATENÇÃO","OK") -> OK | N21: 0 | O21: 0 | P21: 0 | Q21: 0 | R21: 0 | S21: 0 | T21: 0 | U21: 0 | V21: 0 | W21: 0 | X21: 0 | Y21: 0
C22: 19 | E22: 33.90.39.63 | G22: Folha Média* | I22: 20 | J22: 0.21 | K22: 0 | L22: =K22-(SUM(N22:Y22)) -> 0 | M22: =IF(L22<0,"ATENÇÃO","OK") -> OK | N22: 0 | O22: 0 | P22: 0 | Q22: 0 | R22: 0 | S22: 0 | T22: 0 | U22: 0 | V22: 0 | W22: 0 | X22: 0 | Y22: 0
C23: 20 | D23: Digitalização de Mapas - Fornecimento de cópia de mapas em formato digital (PDF A – OCR e JPG). - Três cópias em DVD | E23: 33.90.39.63 | G23: Folha Até A4 | I23: 20 | J23: 0.37 | K23: 0 | L23: =K23-(SUM(N23:Y23)) -> 0 | M23: =IF(L23<0,"ATENÇÃO","OK") -> OK | N23: 0 | O23: 0 | P23: 0 | Q23: 0 | R23: 0 | S23: 0 | T23: 0 | U23: 0 | V23: 0 | W23: 0 | X23: 0 | Y23: 0
C24: 21 | E24: 33.90.39.63 | G24: Folha Até A3** | I24: 20 | J24: 0.38 | K24: 0 | L24: =K24-(SUM(N24:Y24)) -> 0 | M24: =IF(L24<0,"ATENÇÃO","OK") -> OK | N24: 0 | O24: 0 | P24: 0 | Q24: 0 | R24: 0 | S24: 0 | T24: 0 | U24: 0 | V24: 0 | W24: 0 | X24: 0 | Y24: 0
C25: 22 | E25: 33.90.39.63 | G25: Folha Até A2** | I25: 20 | J25: 1.8 | K25: 0 | L25: =K25-(SUM(N25:Y25)) -> 0 | M25: =IF(L25<0,"ATENÇÃO","OK") -> OK | N25: 0 | O25: 0 | P25: 0 | Q25: 0 | R25: 0 | S25: 0 | T25: 0 | U25: 0 | V25: 0 | W25: 0 | X25: 0 | Y25: 0
C26: 23 | E26: 33.90.39.63 | G26: Folha Até A1** | I26: 20 | J26: 3 | K26: 0 | L26: =K26-(SUM(N26:Y26)) -> 0 | M26: =IF(L26<0,"ATENÇÃO","OK") -> OK | N26: 0 | O26: 0 | P26: 0 | Q26: 0 | R26: 0 | S26: 0 | T26: 0 | U26: 0 | V26: 0 | W26: 0 | X26: 0 | Y26: 0
C27: 24 | E27: 33.90.39.63 | G27: Folha Até A0** | I27: 20 | J27: 4.6 | K27: 0 | L27: =K27-(SUM(N27:Y27)) -> 0 | M27: =IF(L27<0,"ATENÇÃO","OK") -> OK | N27: 0 | O27: 0 | P27: 0 | Q27: 0 | R27: 0 | S27: 0 | T27: 0 | U27: 0 | V27: 0 | W27: 0 | X27: 0 | Y27: 0
C28: 25 | E28: 33.90.39.63 | G28: Folha Acima de A0** | I28: 20 | J28: 5 | K28: 0 | L28: =K28-(SUM(N28:Y28)) -> 0 | M28: =IF(L28<0,"ATENÇÃO","OK") -> OK | N28: 0 | O28: 0 | P28: 0 | Q28: 0 | R28: 0 | S28: 0 | T28: 0 | U28: 0 | V28: 0 | W28: 0 | X28: 0 | Y28: 0
C29: 26 | D29: Digitalização de jornais - Fornecimento de cópia de jornais em formato digital (PDF A – OCR e JPG). - Três cópias em DVD | E29: 33.90.39.63 | G29: Folha Até A3** | I29: 20 | J29: 0.27 | K29: 0 | L29: =K29-(SUM(N29:Y29)) -> 0 | M29: =IF(L29<0,"ATENÇÃO","OK") -> OK | N29: 0 | O29: 0 | P29: 0 | Q29: 0 | R29: 0 | S29: 0 | T29: 0 | U29: 0 | V29: 0 | W29: 0 | X29: 0 | Y29: 0
C30: 27 | E30: 33.90.39.63 | G30: Folha Acima de A0** | I30: 20 | J30: 4.6 | K30: 0 | L30: =K30-(SUM(N30:Y30)) -> 0 | M30: =IF(L30<0,"ATENÇÃO","OK") -> OK | N30: 0 | O30: 0 | P30: 0 | Q30: 0 | R30: 0 | S30: 0 | T30: 0 | U30: 0 | V30: 0 | W30: 0 | X30: 0 | Y30: 0
C32: *Obras: Pequena até A4 (210 x 297 mm), Média até A3 (297 x 420 mm ), Grande acima de A3 (297 x 420 mm)
C33: **Mapas e jornais: Até A4 ( 210 x 297 mm), Até A3 (297 x 420 mm ), Até A2 (420 x 594). Até A1 (594 x 840 mm), Até A0 (840 x 1.188 mm), Acima de A0 (Aicma de 1.188 mm)

Sheet CEPLAN
A1: PROCESSO: 0619/2014/UDESC | D1: OBJETO: Serviços de Encadernação, Restauração e Digitalização de acervos das Bibliotecas da UDESC | K1: VIGÊNCIA DA ATA: 16/06/2014 até 16/06/2015 | N1: AF/OS nº 860/2014 Qtde. DT | O1: AF/OS nº xxxx/2014 Qtde. DT | P1: AF/OS nº xxxx/2014 Qtde. DT | Q1: AF/OS nº xxxx/2014 Qtde. DT | R1: AF/OS nº xxxx/2014 Qtde. DT | S1: AF/OS nº xxxx/2014 Qtde. DT | T1: AF/OS nº xxxx/2014 Qtde. DT | U1: AF/OS nº xxxx/2014 Qtde. DT | V1: AF/OS nº xxxx/2014 Qtde. DT | W1: AF/OS nº xxxx/2014 Qtde. DT | X1: AF/OS nº xxxx/2014 Qtde. DT | Y1: AF/OS nº xxxx/2014 Qtde. DT
A2: CENTRO PARTICIPANTE: CEPLAN
A3: FORNECEDOR | B3: LOTE | C3: ITEM | D3: PRODUTO - CARACTERÍSTICAS MÍNIMAS | E3: ELEMENTO | F3: MARCA | G3: UNIDADE | H3: Entrega (Dias) | I3: Pagto. (Dias) | J3: Preço UNITÁRIO (R$) | K3: Qtde LICITADA | L3: Saldo / Automático | M3: ALERTA | N3: ...../...../...... | O3: ...../...../...... | P3: ...../...../...... | Q3: ...../...../...... | R3: ...../...../...... | S3: ...../...../...... | T3: ...../...../...... | U3: ...../...../...... | V3: ...../...../...... | W3: ...../...../...... | X3: ...../...../...... | Y3: ...../...../......
A4: IDEAL ENCADERNAÇÕES LTDA ME | B4: 1 | C4: 1 | D4: Recuperação de capa dura com: costura simples, colagem, cantoneiras e lombadas e colocação de guardas novas | E4: 33.90.39.63 | G4: Pequeno* | I4: 20 | J4: 17 | K4: 1 | L4: =K4-(SUM(N4:Y4)) -> 0 | M4: =IF(L4<0,"ATENÇÃO","OK") -> OK | N4: 1 | O4: 0 | P4: 0 | Q4: 0 | R4: 0 | S4: 0 | T4: 0 | U4: 0 | V4: 0 | W4: 0 | X4: 0 | Y4: 0
C5: 2 | E5: 33.90.39.63 | G5: Médio* | I5: 20 | J5: 17 | K5: 0 | L5: =K5-(SUM(N5:Y5)) -> 0 | M5: =IF(L5<0,"ATENÇÃO","OK") -> OK | N5: 0 | O5: 0 | P5: 0 | Q5: 0 | R5: 0 | S5: 0 | T5: 0 | U5: 0 | V5: 0 | W5: 0 | X5: 0 | Y5: 0
C6: 3 | E6: 33.90.39.63 | G6: Grande* | I6: 20 | J6: 17 | K6: 0 | L6: =K6-(SUM(N6:Y6)) -> 0 | M6: =IF(L6<0,"ATENÇÃO","OK") -> OK | N6: 0 | O6: 0 | P6: 0 | Q6: 0 | R6: 0 | S6: 0 | T6: 0 | U6: 0 | V6: 0 | W6: 0 | X6: 0 | Y6: 0
C7: 4 | D7: Colocação e recuperação de capa brochura com costura, colagens e guardas | E7: 33.90.39.63 | G7: Pequeno* | I7: 20 | J7: 9 | K7: 18 | L7: =K7-(SUM(N7:Y7)) -> 9 | M7: =IF(L7<0,"ATENÇÃO","OK") -> OK | N7: 9 | O7: 0 | P7: 0 | Q7: 0 | R7: 0 | S7: 0 | T7: 0 | U7: 0 | V7: 0 | W7: 0 | X7: 0 | Y7: 0
C8: 5 | E8: 33.90.39.63 | G8: Médio* | I8: 20 | J8: 9.5 | K8: 0 | L8: =K8-(SUM(N8:Y8)) -> 0 | M8: =IF(L8<0,"ATENÇÃO","OK") -> OK | N8: 0 | O8: 0 | P8: 0 | Q8: 0 | R8: 0 | S8: 0 | T8: 0 | U8: 0 | V8: 0 | W8: 0 | X8: 0 | Y8: 0
C9: 6 | E9: 33.90.39.63 | G9: Grande* | I9: 20 | J9: 10 | K9: 0 | L9: =K9-(SUM(N9:Y9)) -> 0 | M9: =IF(L9<0,"ATENÇÃO","OK") -> OK | N9: 0 | O9: 0 | P9: 0 | Q9: 0 | R9: 0 | S9: 0 | T9: 0 | U9: 0 | V9: 0 | W9: 0 | X9: 0 | Y9: 0
C10: 7 | D10: Confecção e colocação de capa dura completa com costura interna, colagem e guardas | E10: 33.90.39.63 | G10: Pequeno* | I10: 20 | J10: 20 | K10: 51 | L10: =K10-(SUM(N10:Y10)) -> 26 | M10: =IF(L10<0,"ATENÇÃO","OK") -> OK | N10: 25 | O10: 0 | P10: 0 | Q10: 0 | R10: 0 | S10: 0 | T10: 0 | U10: 0 | V10: 0 | W10: 0 | X10: 0 | Y10: 0
C11: 8 | E11: 33.90.39.63 | G11: Médio* | I11: 20 | J11: 20 | K11: 0 | L11: =K11-(SUM(N11:Y11)) -> 0 | M11: =IF(L11<0,"ATENÇÃO","OK") -> OK | N11: 0 | O11: 0 | P11: 0 | Q11: 0 | R11: 0 | S11: 0 | T11: 0 | U11: 0 | V11: 0 | W11: 0 | X11: 0 | Y11: 0
C12: 9 | E12: 33.90.39.63 | G12: Grande* | I12: 20 | J12: 20 | K12: 0 | L12: =K12-(SUM(N12:Y12)) -> 0 | M12: =IF(L12<0,"ATENÇÃO","OK") -> OK | N12: 0 | O12: 0 | P12: 0 | Q12: 0 | R12: 0 | S12: 0 | T12: 0 | U12: 0 | V12: 0 | W12: 0 | X12: 0 | Y12: 0
C13: 10 | D13: Higienização c/lixas, guilhotinagem, borracha de maciez, etc | E13: 33.90.39.63 | G13: Unidade | I13: 20 | J13: 5 | K13: 2 | L13: =K13-(SUM(N13:Y13)) -> 0 | M13: =IF(L13<0,"ATENÇÃO","OK") -> OK | N13: 2 | O13: 0 | P13: 0 | Q13: 0 | R13: 0 | S13: 0 | T13: 0 | U13: 0 | V13: 0 | W13: 0 | X13: 0 | Y13: 0
C14: 11 | D14: Enxerto de folhas xerocadas | E14: 33.90.39.63 | G14: por folha | I14: 20 | J14: 0.5 | K14: 0 | L14: =K14-(SUM(N14:Y14)) -> 0 | M14: =IF(L14<0,"ATENÇÃO","OK") -> OK | N14: 0 | O14: 0 | P14: 0 | Q14: 0 | R14: 0 | S14: 0 | T14: 0 | U14: 0 | V14: 0 | W14: 0 | X14: 0 | Y14: 0
C15: 12 | D15: Restauração a úmido c/papel especial | E15: 33.90.39.63 | G15: por folha | I15: 20 | J15: 0.5 | K15: 0 | L15: =K15-(SUM(N15:Y15)) -> 0 | M15: =IF(L15<0,"ATENÇÃO","OK") -> OK | N15: 0 | O15: 0 | P15: 0 | Q15: 0 | R15: 0 | S15: 0 | T15: 0 | U15: 0 | V15: 0 | W15: 0 | X15: 0 | Y15: 0
C16: 13 | D16: Aplicação de carcelas | E16: 33.90.39.63 | G16: por folha | I16: 20 | J16: 0.25 | K16: 0 | L16: =K16-(SUM(N16:Y16)) -> 0 | M16: =IF(L16<0,"ATENÇÃO","OK") -> OK | N16: 0 | O16: 0 | P16: 0 | Q16: 0 | R16: 0 | S16: 0 | T16: 0 | U16: 0 | V16: 0 | W16: 0 | X16: 0 | Y16: 0
C17: 14 | D17: Remoção de fita adesiva | E17: 33.90.39.63 | G17: metro linear | I17: 20 | J17: 0.5 | K17: 1 | L17: =K17-(SUM(N17:Y17)) -> 0 | M17: =IF(L17<0,"ATENÇÃO","OK") -> OK | N17: 1 | O17: 0 | P17: 0 | Q17: 0 | R17: 0 | S17: 0 | T17: 0 | U17: 0 | V17: 0 | W17: 0 | X17: 0 | Y17: 0
B18: 2 | C18: 15 | D18: Restauração, encadernação e higienização de obras raras e/ou documentos históricos | E18: 33.90.39.63 | G18: Unidade | I18: 20 | J18: 12 | K18: 0 | L18: =K18-(SUM(N18:Y18)) -> 0 | M18: =IF(L18<0,"ATENÇÃO","OK") -> OK | N18: 0 | O18: 0 | P18: 0 | Q18: 0 | R18: 0 | S18: 0 | T18: 0 | U18: 0 | V18: 0 | W18: 0 | X18: 0 | Y18: 0
B19: 3 | C19: 16 | D19: Confecção de embalagens para os livros (caixa em papel triplex” de 300 g, composto de uma camada de uma espécie de papelão revestido de papel alcalino (frente e verso). | E19: 33.90.39.63 | G19: Pequeno* | I19: 20 | J19: 4.8 | K19: 0 | L19: =K19-(SUM(N19:Y19)) -> 0 | M19: =IF(L19<0,"ATENÇÃO","OK") -> OK | N19: 0 | O19: 0 | P19: 0 | Q19: 0 | R19: 0 | S19: 0 | T19: 0 | U19: 0 | V19: 0 | W19: 0 | X19: 0 | Y19: 0
A20: A4 DIGITAL PRINT LTDA EPP | B20: 4 | C20: 17 | D20: Digitalização de monografias - Fornecimento de cópia das obras em formato digital (PDF A – OCR) -Três cópias em DVD | E20: 33.90.39.63 | G20: Folha 30X20 | I20: 20 | J20: 0.18 | K20: 0 | L20: =K20-(SUM(N20:Y20)) -> 0 | M20: =IF(L20<0,"ATENÇÃO","OK") -> OK | N20: 0 | O20: 0 | P20: 0 | Q20: 0 | R20: 0 | S20: 0 | T20: 0 | U20: 0 | V20: 0 | W20: 0 | X20: 0 | Y20: 0
C21: 18 | D21: Digitalização de Livros - Fornecimento de cópia das obras em formato digital (PDF A – OCR). Três cópias em DVD | E21: 33.90.39.63 | G21: Folha Pequena* | I21: 20 | J21: 0.21 | K21: 0 | L21: =K21-(SUM(N21:Y21)) -> 0 | M21: =IF(L21<0,"ATENÇÃO","OK") -> OK | N21: 0 | O21: 0 | P21: 0 | Q21: 0 | R21: 0 | S21: 0 | T21: 0 | U21: 0 | V21: 0 | W21: 0 | X21: 0 | Y21: 0
C22: 19 | E22: 33.90.39.63 | G22: Folha Média* | I22: 20 | J22: 0.21 | K22: 0 | L22: =K22-(SUM(N22:Y22)) -> 0 | M22: =IF(L22<0,"ATENÇÃO","OK") -> OK | N22: 0 | O22: 0 | P22: 0 | Q22: 0 | R22: 0 | S22: 0 | T22: 0 | U22: 0 | V22: 0 | W22: 0 | X22: 0 | Y22: 0
C23: 20 | D23: Digitalização de Mapas - Fornecimento de cópia de mapas em formato digital (PDF A – OCR e JPG). - Três cópias em DVD | E23: 33.90.39.63 | G23: Folha Até A4 | I23: 20 | J23: 0.37 | K23: 0 | L23: =K23-(SUM(N23:Y23)) -> 0 | M23: =IF(L23<0,"ATENÇÃO","OK") -> OK | N23: 0 | O23: 0 | P23: 0 | Q23: 0 | R23: 0 | S23: 0 | T23: 0 | U23: 0 | V23: 0 | W23: 0 | X23: 0 | Y23: 0
C24: 21 | E24: 33.90.39.63 | G24: Folha Até A3** | I24: 20 | J24: 0.38 | K24: 0 | L24: =K24-(SUM(N24:Y24)) -> 0 | M24: =IF(L24<0,"ATENÇÃO","OK") -> OK | N24: 0 | O24: 0 | P24: 0 | Q24: 0 | R24: 0 | S24: 0 | T24: 0 | U24: 0 | V24: 0 | W24: 0 | X24: 0 | Y24: 0
C25: 22 | E25: 33.90.39.63 | G25: Folha Até A2** | I25: 20 | J25: 1.8 | K25: 0 | L25: =K25-(SUM(N25:Y25)) -> 0 | M25: =IF(L25<0,"ATENÇÃO","OK") -> OK | N25: 0 | O25: 0 | P25: 0 | Q25: 0 | R25: 0 | S25: 0 | T25: 0 | U25: 0 | V25: 0 | W25: 0 | X25: 0 | Y25: 0
C26: 23 | E26: 33.90.39.63 | G26: Folha Até A1** | I26: 20 | J26: 3 | K26: 0 | L26: =K26-(SUM(N26:Y26)) -> 0 | M26: =IF(L26<0,"ATENÇÃO","OK") -> OK | N26: 0 | O26: 0 | P26: 0 | Q26: 0 | R26: 0 | S26: 0 | T26: 0 | U26: 0 | V26: 0 | W26: 0 | X26: 0 | Y26: 0
C27: 24 | E27: 33.90.39.63 | G27: Folha Até A0** | I27: 20 | J27: 4.6 | K27: 0 | L27: =K27-(SUM(N27:Y27)) -> 0 | M27: =IF(L27<0,"ATENÇÃO","OK") -> OK | N27: 0 | O27: 0 | P27: 0 | Q27: 0 | R27: 0 | S27: 0 | T27: 0 | U27: 0 | V27: 0 | W27: 0 | X27: 0 | Y27: 0
C28: 25 | E28: 33.90.39.63 | G28: Folha Acima de A0** | I28: 20 | J28: 5 | K28: 0 | L28: =K28-(SUM(N28:Y28)) -> 0 | M28: =IF(L28<0,"ATENÇÃO","OK") -> OK | N28: 0 | O28: 0 | P28: 0 | Q28: 0 | R28: 0 | S28: 0 | T28: 0 | U28: 0 | V28: 0 | W28: 0 | X28: 0 | Y28: 0
C29: 26 | D29: Digitalização de jornais - Fornecimento de cópia de jornais em formato digital (PDF A – OCR e JPG). - Três cópias em DVD | E29: 33.90.39.63 | G29: Folha Até A3** | I29: 20 | J29: 0.27 | K29: 0 | L29: =K29-(SUM(N29:Y29)) -> 0 | M29: =IF(L29<0,"ATENÇÃO","OK") -> OK | N29: 0 | O29: 0 | P29: 0 | Q29: 0 | R29: 0 | S29: 0 | T29: 0 | U29: 0 | V29: 0 | W29: 0 | X29: 0 | Y29: 0
C30: 27 | E30: 33.90.39.63 | G30: Folha Acima de A0** | I30: 20 | J30: 4.6 | K30: 0 | L30: =K30-(SUM(N30:Y30)) -> 0 | M30: =IF(L30<0,"ATENÇÃO","OK") -> OK | N30: 0 | O30: 0 | P30: 0 | Q30: 0 | R30: 0 | S30: 0 | T30: 0 | U30: 0 | V30: 0 | W30: 0 | X30: 0 | Y30: 0
C32: *Obras: Pequena até A4 (210 x 297 mm), Média até A3 (297 x 420 mm ), Grande acima de A3 (297 x 420 mm)
C33: **Mapas e jornais: Até A4 ( 210 x 297 mm), Até A3 (297 x 420 mm ), Até A2 (420 x 594). Até A1 (594 x 840 mm), Até A0 (840 x 1.188 mm), Acima de A0 (Aicma de 1.188 mm)

Sheet CERES
A1: PROCESSO: 0619/2014/UDESC | D1: OBJETO: Serviços de Encadernação, Restauração e Digitalização de acervos das Bibliotecas da UDESC | K1: VIGÊNCIA DA ATA: 16/06/2014 até 16/06/2015 | N1: AF/OS nº xxxx/2014 Qtde. DT | O1: AF/OS nº xxxx/2014 Qtde. DT | P1: AF/OS nº xxxx/2014 Qtde. DT | Q1: AF/OS nº xxxx/2014 Qtde. DT | R1: AF/OS nº xxxx/2014 Qtde. DT | S1: AF/OS nº xxxx/2014 Qtde. DT | T1: AF/OS nº xxxx/2014 Qtde. DT | U1: AF/OS nº xxxx/2014 Qtde. DT | V1: AF/OS nº xxxx/2014 Qtde. DT | W1: AF/OS nº xxxx/2014 Qtde. DT | X1: AF/OS nº xxxx/2014 Qtde. DT | Y1: AF/OS nº xxxx/2014 Qtde. DT
A2: CENTRO PARTICIPANTE: CERES
A3: FORNECEDOR | B3: LOTE | C3: ITEM | D3: PRODUTO - CARACTERÍSTICAS MÍNIMAS | E3: ELEMENTO | F3: MARCA | G3: UNIDADE | H3: Entrega (Dias) | I3: Pagto. (Dias) | J3: Preço UNITÁRIO (R$) | K3: Qtde LICITADA | L3: Saldo / Automático | M3: ALERTA | N3: ...../...../...... | O3: ...../...../...... | P3: ...../...../...... | Q3: ...../...../...... | R3: ...../...../...... | S3: ...../...../...... | T3: ...../...../...... | U3: ...../...../...... | V3: ...../...../...... | W3: ...../...../...... | X3: ...../...../...... | Y3: ...../...../......
A4: IDEAL ENCADERNAÇÕES LTDA ME | B4: 1 | C4: 1 | D4: Recuperação de capa dura com: costura simples, colagem, cantoneiras e lombadas e colocação de guardas novas | E4: 33.90.39.63 | G4: Pequeno* | I4: 20 | J4: 17 | K4: 15 | L4: =K4-(SUM(N4:Y4)) -> 15 | M4: =IF(L4<0,"ATENÇÃO","OK") -> OK | N4: 0 | O4: 0 | P4: 0 | Q4: 0 | R4: 0 | S4: 0 | T4: 0 | U4: 0 | V4: 0 | W4: 0 | X4: 0 | Y4: 0
C5: 2 | E5: 33.90.39.63 | G5: Médio* | I5: 20 | J5: 17 | K5: 10 | L5: =K5-(SUM(N5:Y5)) -> 10 | M5: =IF(L5<0,"ATENÇÃO","OK") -> OK | N5: 0 | O5: 0 | P5: 0 | Q5: 0 | R5: 0 | S5: 0 | T5: 0 | U5: 0 | V5: 0 | W5: 0 | X5: 0 | Y5: 0
C6: 3 | E6: 33.90.39.63 | G6: Grande* | I6: 20 | J6: 17 | K6: 10 | L6: =K6-(SUM(N6:Y6)) -> 10 | M6: =IF(L6<0,"ATENÇÃO","OK") -> OK | N6: 0 | O6: 0 | P6: 0 | Q6: 0 | R6: 0 | S6: 0 | T6: 0 | U6: 0 | V6: 0 | W6: 0 | X6: 0 | Y6: 0
C7: 4 | D7: Colocação e recuperação de capa brochura com costura, colagens e guardas | E7: 33.90.39.63 | G7: Pequeno* | I7: 20 | J7: 9 | K7: 15 | L7: =K7-(SUM(N7:Y7)) -> 15 | M7: =IF(L7<0,"ATENÇÃO","OK") -> OK | N7: 0 | O7: 0 | P7: 0 | Q7: 0 | R7: 0 | S7: 0 | T7: 0 | U7: 0 | V7: 0 | W7: 0 | X7: 0 | Y7: 0
C8: 5 | E8: 33.90.39.63 | G8: Médio* | I8: 20 | J8: 9.5 | K8: 15 | L8: =K8-(SUM(N8:Y8)) -> 15 | M8: =IF(L8<0,"ATENÇÃO","OK") -> OK | N8: 0 | O8: 0 | P8: 0 | Q8: 0 | R8: 0 | S8: 0 | T8: 0 | U8: 0 | V8: 0 | W8: 0 | X8: 0 | Y8: 0
C9: 6 | E9: 33.90.39.63 | G9: Grande* | I9: 20 | J9: 10 | K9: 3 | L9: =K9-(SUM(N9:Y9)) -> 3 | M9: =IF(L9<0,"ATENÇÃO","OK") -> OK | N9: 0 | O9: 0 | P9: 0 | Q9: 0 | R9: 0 | S9: 0 | T9: 0 | U9: 0 | V9: 0 | W9: 0 | X9: 0 | Y9: 0
C10: 7 | D10: Confecção e colocação de capa dura completa com costura interna, colagem e guardas | E10: 33.90.39.63 | G10: Pequeno* | I10: 20 | J10: 20 | K10: 10 | L10: =K10-(SUM(N10:Y10)) -> 10 | M10: =IF(L10<0,"ATENÇÃO","OK") -> OK | N10: 0 | O10: 0 | P10: 0 | Q10: 0 | R10: 0 | S10: 0 | T10: 0 | U10: 0 | V10: 0 | W10: 0 | X10: 0 | Y10: 0
C11: 8 | E11: 33.90.39.63 | G11: Médio* | I11: 20 | J11: 20 | K11: 10 | L11: =K11-(SUM(N11:Y11)) -> 10 | M11: =IF(L11<0,"ATENÇÃO","OK") -> OK | N11: 0 | O11: 0 | P11: 0 | Q11: 0 | R11: 0 | S11: 0 | T11: 0 | U11: 0 | V11: 0 | W11: 0 | X11: 0 | Y11: 0
C12: 9 | E12: 33.90.39.63 | G12: Grande* | I12: 20 | J12: 20 | K12: 5 | L12: =K12-(SUM(N12:Y12)) -> 5 | M12: =IF(L12<0,"ATENÇÃO","OK") -> OK | N12: 0 | O12: 0 | P12: 0 | Q12: 0 | R12: 0 | S12: 0 | T12: 0 | U12: 0 | V12: 0 | W12: 0 | X12: 0 | Y12: 0
C13: 10 | D13: Higienização c/lixas, guilhotinagem, borracha de maciez, etc | E13: 33.90.39.63 | G13: Unidade | I13: 20 | J13: 5 | K13: 0 | L13: =K13-(SUM(N13:Y13)) -> 0 | M13: =IF(L13<0,"ATENÇÃO","OK") -> OK | N13: 0 | O13: 0 | P13: 0 | Q13: 0 | R13: 0 | S13: 0 | T13: 0 | U13: 0 | V13: 0 | W13: 0 | X13: 0 | Y13: 0
C14: 11 | D14: Enxerto de folhas xerocadas | E14: 33.90.39.63 | G14: por folha | I14: 20 | J14: 0.5 | K14: 0 | L14: =K14-(SUM(N14:Y14)) -> 0 | M14: =IF(L14<0,"ATENÇÃO","OK") -> OK | N14: 0 | O14: 0 | P14: 0 | Q14: 0 | R14: 0 | S14: 0 | T14: 0 | U14: 0 | V14: 0 | W14: 0 | X14: 0 | Y14: 0
C15: 12 | D15: Restauração a úmido c/papel especial | E15: 33.90.39.63 | G15: por folha | I15: 20 | J15: 0.5 | K15: 0 | L15: =K15-(SUM(N15:Y15)) -> 0 | M15: =IF(L15<0,"ATENÇÃO","OK") -> OK | N15: 0 | O15: 0 | P15: 0 | Q15: 0 | R15: 0 | S15: 0 | T15: 0 | U15: 0 | V15: 0 | W15: 0 | X15: 0 | Y15: 0
C16: 13 | D16: Aplicação de carcelas | E16: 33.90.39.63 | G16: por folha | I16: 20 | J16: 0.25 | K16: 0 | L16: =K16-(SUM(N16:Y16)) -> 0 | M16: =IF(L16<0,"ATENÇÃO","OK") -> OK | N16: 0 | O16: 0 | P16: 0 | Q16: 0 | R16: 0 | S16: 0 | T16: 0 | U16: 0 | V16: 0 | W16: 0 | X16: 0 | Y16: 0
C17: 14 | D17: Remoção de fita adesiva | E17: 33.90.39.63 | G17: metro linear | I17: 20 | J17: 0.5 | K17: 5 | L17: =K17-(SUM(N17:Y17)) -> 5 | M17: =IF(L17<0,"ATENÇÃO","OK") -> OK | N17: 0 | O17: 0 | P17: 0 | Q17: 0 | R17: 0 | S17: 0 | T17: 0 | U17: 0 | V17: 0 | W17: 0 | X17: 0 | Y17: 0
B18: 2 | C18: 15 | D18: Restauração, encadernação e higienização de obras raras e/ou documentos históricos | E18: 33.90.39.63 | G18: Unidade | I18: 20 | J18: 12 | K18: 0 | L18: =K18-(SUM(N18:Y18)) -> 0 | M18: =IF(L18<0,"ATENÇÃO","OK") -> OK | N18: 0 | O18: 0 | P18: 0 | Q18: 0 | R18: 0 | S18: 0 | T18: 0 | U18: 0 | V18: 0 | W18: 0 | X18: 0 | Y18: 0
B19: 3 | C19: 16 | D19: Confecção de embalagens para os livros (caixa em papel triplex” de 300 g, composto de uma camada de uma espécie de papelão revestido de papel alcalino (frente e verso). | E19: 33.90.39.63 | G19: Pequeno* | I19: 20 | J19: 4.8 | K19: 0 | L19: =K19-(SUM(N19:Y19)) -> 0 | M19: =IF(L19<0,"ATENÇÃO","OK") -> OK | N19: 0 | O19: 0 | P19: 0 | Q19: 0 | R19: 0 | S19: 0 | T19: 0 | U19: 0 | V19: 0 | W19: 0 | X19: 0 | Y19: 0
A20: A4 DIGITAL PRINT LTDA EPP | B20: 4 | C20: 17 | D20: Digitalização de monografias - Fornecimento de cópia das obras em formato digital (PDF A – OCR) -Três cópias em DVD | E20: 33.90.39.63 | G20: Folha 30X20 | I20: 20 | J20: 0.18 | K20: 0 | L20: =K20-(SUM(N20:Y20)) -> 0 | M20: =IF(L20<0,"ATENÇÃO","OK") -> OK | N20: 0 | O20: 0 | P20: 0 | Q20: 0 | R20: 0 | S20: 0 | T20: 0 | U20: 0 | V20: 0 | W20: 0 | X20: 0 | Y20: 0
C21: 18 | D21: Digitalização de Livros - Fornecimento de cópia das obras em formato digital (PDF A – OCR). Três cópias em DVD | E21: 33.90.39.63 | G21: Folha Pequena* | I21: 20 | J21: 0.21 | K21: 0 | L21: =K21-(SUM(N21:Y21)) -> 0 | M21: =IF(L21<0,"ATENÇÃO","OK") -> OK | N21: 0 | O21: 0 | P21: 0 | Q21: 0 | R21: 0 | S21: 0 | T21: 0 | U21: 0 | V21: 0 | W21: 0 | X21: 0 | Y21: 0
C22: 19 | E22: 33.90.39.63 | G22: Folha Média* | I22: 20 | J22: 0.21 | K22: 0 | L22: =K22-(SUM(N22:Y22)) -> 0 | M22: =IF(L22<0,"ATENÇÃO","OK") -> OK | N22: 0 | O22: 0 | P22: 0 | Q22: 0 | R22: 0 | S22: 0 | T22: 0 | U22: 0 | V22: 0 | W22: 0 | X22: 0 | Y22: 0
C23: 20 | D23: Digitalização de Mapas - Fornecimento de cópia de mapas em formato digital (PDF A – OCR e JPG). - Três cópias em DVD | E23: 33.90.39.63 | G23: Folha Até A4 | I23: 20 | J23: 0.37 | K23: 0 | L23: =K23-(SUM(N23:Y23)) -> 0 | M23: =IF(L23<0,"ATENÇÃO","OK") -> OK | N23: 0 | O23: 0 | P23: 0 | Q23: 0 | R23: 0 | S23: 0 | T23: 0 | U23: 0 | V23: 0 | W23: 0 | X23: 0 | Y23: 0
C24: 21 | E24: 33.90.39.63 | G24: Folha Até A3** | I24: 20 | J24: 0.38 | K24: 0 | L24: =K24-(SUM(N24:Y24)) -> 0 | M24: =IF(L24<0,"ATENÇÃO","OK") -> OK | N24: 0 | O24: 0 | P24: 0 | Q24: 0 | R24: 0 | S24: 0 | T24: 0 | U24: 0 | V24: 0 | W24: 0 | X24: 0 | Y24: 0
C25: 22 | E25: 33.90.39.63 | G25: Folha Até A2** | I25: 20 | J25: 1.8 | K25: 0 | L25: =K25-(SUM(N25:Y25)) -> 0 | M25: =IF(L25<0,"ATENÇÃO","OK") -> OK | N25: 0 | O25: 0 | P25: 0 | Q25: 0 | R25: 0 | S25: 0 | T25: 0 | U25: 0 | V25: 0 | W25: 0 | X25: 0 | Y25: 0
C26: 23 | E26: 33.90.39.63 | G26: Folha Até A1** | I26: 20 | J26: 3 | K26: 0 | L26: =K26-(SUM(N26:Y26)) -> 0 | M26: =IF(L26<0,"ATENÇÃO","OK") -> OK | N26: 0 | O26: 0 | P26: 0 | Q26: 0 | R26: 0 | S26: 0 | T26: 0 | U26: 0 | V26: 0 | W26: 0 | X26: 0 | Y26: 0
C27: 24 | E27: 33.90.39.63 | G27: Folha Até A0** | I27: 20 | J27: 4.6 | K27: 0 | L27: =K27-(SUM(N27:Y27)) -> 0 | M27: =IF(L27<0,"ATENÇÃO","OK") -> OK | N27: 0 | O27: 0 | P27: 0 | Q27: 0 | R27: 0 | S27: 0 | T27: 0 | U27: 0 | V27: 0 | W27: 0 | X27: 0 | Y27: 0
C28: 25 | E28: 33.90.39.63 | G28: Folha Acima de A0** | I28: 20 | J28: 5 | K28: 0 | L28: =K28-(SUM(N28:Y28)) -> 0 | M28: =IF(L28<0,"ATENÇÃO","OK") -> OK | N28: 0 | O28: 0 | P28: 0 | Q28: 0 | R28: 0 | S28: 0 | T28: 0 | U28: 0 | V28: 0 | W28: 0 | X28: 0 | Y28: 0
C29: 26 | D29: Digitalização de jornais - Fornecimento de cópia de jornais em formato digital (PDF A – OCR e JPG). - Três cópias em DVD | E29: 33.90.39.63 | G29: Folha Até A3** | I29: 20 | J29: 0.27 | K29: 0 | L29: =K29-(SUM(N29:Y29)) -> 0 | M29: =IF(L29<0,"ATENÇÃO","OK") -> OK | N29: 0 | O29: 0 | P29: 0 | Q29: 0 | R29: 0 | S29: 0 | T29: 0 | U29: 0 | V29: 0 | W29: 0 | X29: 0 | Y29: 0
C30: 27 | E30: 33.90.39.63 | G30: Folha Acima de A0** | I30: 20 | J30: 4.6 | K30: 0 | L30: =K30-(SUM(N30:Y30)) -> 0 | M30: =IF(L30<0,"ATENÇÃO","OK") -> OK | N30: 0 | O30: 0 | P30: 0 | Q30: 0 | R30: 0 | S30: 0 | T30: 0 | U30: 0 | V30: 0 | W30: 0 | X30: 0 | Y30: 0
C32: *Obras: Pequena até A4 (210 x 297 mm), Média até A3 (297 x 420 mm ), Grande acima de A3 (297 x 420 mm)
C33: **Mapas e jornais: Até A4 ( 210 x 297 mm), Até A3 (297 x 420 mm ), Até A2 (420 x 594). Até A1 (594 x 840 mm), Até A0 (840 x 1.188 mm), Acima de A0 (Aicma de 1.188 mm)

Sheet CESFI
A1: PROCESSO: 0619/2014/UDESC | D1: OBJETO: Serviços de Encadernação, Restauração e Digitalização de acervos das Bibliotecas da UDESC | K1: VIGÊNCIA DA ATA: 16/06/2014 até 16/06/2015 | N1: AF/OS nº xxxx/2014 Qtde. DT | O1: AF/OS nº xxxx/2014 Qtde. DT | P1: AF/OS nº xxxx/2014 Qtde. DT | Q1: AF/OS nº xxxx/2014 Qtde. DT | R1: AF/OS nº xxxx/2014 Qtde. DT | S1: AF/OS nº xxxx/2014 Qtde. DT | T1: AF/OS nº xxxx/2014 Qtde. DT | U1: AF/OS nº xxxx/2014 Qtde. DT | V1: AF/OS nº xxxx/2014 Qtde. DT | W1: AF/OS nº xxxx/2014 Qtde. DT | X1: AF/OS nº xxxx/2014 Qtde. DT | Y1: AF/OS nº xxxx/2014 Qtde. DT
A2: CENTRO PARTICIPANTE: CESFI
A3: FORNECEDOR | B3: LOTE | C3: ITEM | D3: PRODUTO - CARACTERÍSTICAS MÍNIMAS | E3: ELEMENTO | F3: MARCA | G3: UNIDADE | H3: Entrega (Dias) | I3: Pagto. (Dias) | J3: Preço UNITÁRIO (R$) | K3: Qtde LICITADA | L3: Saldo / Automático | M3: ALERTA | N3: ...../...../...... | O3: ...../...../...... | P3: ...../...../...... | Q3: ...../...../...... | R3: ...../...../...... | S3: ...../...../...... | T3: ...../...../...... | U3: ...../...../...... | V3: ...../...../...... | W3: ...../...../...... | X3: ...../...../...... | Y3: ...../...../......
A4: IDEAL ENCADERNAÇÕES LTDA ME | B4: 1 | C4: 1 | D4: Recuperação de capa dura com: costura simples, colagem, cantoneiras e lombadas e colocação de guardas novas | E4: 33.90.39.63 | G4: Pequeno* | I4: 20 | J4: 17 | K4: 15 | L4: =K4-(SUM(N4:Y4)) -> 15 | M4: =IF(L4<0,"ATENÇÃO","OK") -> OK | N4: 0 | O4: 0 | P4: 0 | Q4: 0 | R4: 0 | S4: 0 | T4: 0 | U4: 0 | V4: 0 | W4: 0 | X4: 0 | Y4: 0
C5: 2 | E5: 33.90.39.63 | G5: Médio* | I5: 20 | J5: 17 | K5: 10 | L5: =K5-(SUM(N5:Y5)) -> 10 | M5: =IF(L5<0,"ATENÇÃO","OK") -> OK | N5: 0 | O5: 0 | P5: 0 | Q5: 0 | R5: 0 | S5: 0 | T5: 0 | U5: 0 | V5: 0 | W5: 0 | X5: 0 | Y5: 0
C6: 3 | E6: 33.90.39.63 | G6: Grande* | I6: 20 | J6: 17 | K6: 10 | L6: =K6-(SUM(N6:Y6)) -> 10 | M6: =IF(L6<0,"ATENÇÃO","OK") -> OK | N6: 0 | O6: 0 | P6: 0 | Q6: 0 | R6: 0 | S6: 0 | T6: 0 | U6: 0 | V6: 0 | W6: 0 | X6: 0 | Y6: 0
C7: 4 | D7: Colocação e recuperação de capa brochura com costura, colagens e guardas | E7: 33.90.39.63 | G7: Pequeno* | I7: 20 | J7: 9 | K7: 10 | L7: =K7-(SUM(N7:Y7)) -> 10 | M7: =IF(L7<0,"ATENÇÃO","OK") -> OK | N7: 0 | O7: 0 | P7: 0 | Q7: 0 | R7: 0 | S7: 0 | T7: 0 | U7: 0 | V7: 0 | W7: 0 | X7: 0 | Y7: 0
C8: 5 | E8: 33.90.39.63 | G8: Médio* | I8: 20 | J8: 9.5 | K8: 15 | L8: =K8-(SUM(N8:Y8)) -> 15 | M8: =IF(L8<0,"ATENÇÃO","OK") -> OK | N8: 0 | O8: 0 | P8: 0 | Q8: 0 | R8: 0 | S8: 0 | T8: 0 | U8: 0 | V8: 0 | W8: 0 | X8: 0 | Y8: 0
C9: 6 | E9: 33.90.39.63 | G9: Grande* | I9: 20 | J9: 10 | K9: 3 | L9: =K9-(SUM(N9:Y9)) -> 3 | M9: =IF(L9<0,"ATENÇÃO","OK") -> OK | N9: 0 | O9: 0 | P9: 0 | Q9: 0 | R9: 0 | S9: 0 | T9: 0 | U9: 0 | V9: 0 | W9: 0 | X9: 0 | Y9: 0
C10: 7 | D10: Confecção e colocação de capa dura completa com costura interna, colagem e guardas | E10: 33.90.39.63 | G10: Pequeno* | I10: 20 | J10: 20 | K10: 15 | L10: =K10-(SUM(N10:Y10)) -> 15 | M10: =IF(L10<0,"ATENÇÃO","OK") -> OK | N10: 0 | O10: 0 | P10: 0 | Q10: 0 | R10: 0 | S10: 0 | T10: 0 | U10: 0 | V10: 0 | W10: 0 | X10: 0 | Y10: 0
C11: 8 | E11: 33.90.39.63 | G11: Médio* | I11: 20 | J11: 20 | K11: 10 | L11: =K11-(SUM(N11:Y11)) -> 10 | M11: =IF(L11<0,"ATENÇÃO","OK") -> OK | N11: 0 | O11: 0 | P11: 0 | Q11: 0 | R11: 0 | S11: 0 | T11: 0 | U11: 0 | V11: 0 | W11: 0 | X11: 0 | Y11: 0
C12: 9 | E12: 33.90.39.63 | G12: Grande* | I12: 20 | J12: 20 | K12: 5 | L12: =K12-(SUM(N12:Y12)) -> 5 | M12: =IF(L12<0,"ATENÇÃO","OK") -> OK | N12: 0 | O12: 0 | P12: 0 | Q12: 0 | R12: 0 | S12: 0 | T12: 0 | U12: 0 | V12: 0 | W12: 0 | X12: 0 | Y12: 0
C13: 10 | D13: Higienização c/lixas, guilhotinagem, borracha de maciez, etc | E13: 33.90.39.63 | G13: Unidade | I13: 20 | J13: 5 | K13: 0 | L13: =K13-(SUM(N13:Y13)) -> 0 | M13: =IF(L13<0,"ATENÇÃO","OK") -> OK | N13: 0 | O13: 0 | P13: 0 | Q13: 0 | R13: 0 | S13: 0 | T13: 0 | U13: 0 | V13: 0 | W13: 0 | X13: 0 | Y13: 0
C14: 11 | D14: Enxerto de folhas xerocadas | E14: 33.90.39.63 | G14: por folha | I14: 20 | J14: 0.5 | K14: 0 | L14: =K14-(SUM(N14:Y14)) -> 0 | M14: =IF(L14<0,"ATENÇÃO","OK") -> OK | N14: 0 | O14: 0 | P14: 0 | Q14: 0 | R14: 0 | S14: 0 | T14: 0 | U14: 0 | V14: 0 | W14: 0 | X14: 0 | Y14: 0
C15: 12 | D15: Restauração a úmido c/papel especial | E15: 33.90.39.63 | G15: por folha | I15: 20 | J15: 0.5 | K15: 0 | L15: =K15-(SUM(N15:Y15)) -> 0 | M15: =IF(L15<0,"ATENÇÃO","OK") -> OK | N15: 0 | O15: 0 | P15: 0 | Q15: 0 | R15: 0 | S15: 0 | T15: 0 | U15: 0 | V15: 0 | W15: 0 | X15: 0 | Y15: 0
C16: 13 | D16: Aplicação de carcelas | E16: 33.90.39.63 | G16: por folha | I16: 20 | J16: 0.25 | K16: 0 | L16: =K16-(SUM(N16:Y16)) -> 0 | M16: =IF(L16<0,"ATENÇÃO","OK") -> OK | N16: 0 | O16: 0 | P16: 0 | Q16: 0 | R16: 0 | S16: 0 | T16: 0 | U16: 0 | V16: 0 | W16: 0 | X16: 0 | Y16: 0
C17: 14 | D17: Remoção de fita adesiva | E17: 33.90.39.63 | G17: metro linear | I17: 20 | J17: 0.5 | K17: 5 | L17: =K17-(SUM(N17:Y17)) -> 5 | M17: =IF(L17<0,"ATENÇÃO","OK") -> OK | N17: 0 | O17: 0 | P17: 0 | Q17: 0 | R17: 0 | S17: 0 | T17: 0 | U17: 0 | V17: 0 | W17: 0 | X17: 0 | Y17: 0
B18: 2 | C18: 15 | D18: Restauração, encadernação e higienização de obras raras e/ou documentos históricos | E18: 33.90.39.63 | G18: Unidade | I18: 20 | J18: 12 | K18: 0 | L18: =K18-(SUM(N18:Y18)) -> 0 | M18: =IF(L18<0,"ATENÇÃO","OK") -> OK | N18: 0 | O18: 0 | P18: 0 | Q18: 0 | R18: 0 | S18: 0 | T18: 0 | U18: 0 | V18: 0 | W18: 0 | X18: 0 | Y18: 0
B19: 3 | C19: 16 | D19: Confecção de embalagens para os livros (caixa em papel triplex” de 300 g, composto de uma camada de uma espécie de papelão revestido de papel alcalino (frente e verso). | E19: 33.90.39.63 | G19: Pequeno* | I19: 20 | J19: 4.8 | K19: 0 | L19: =K19-(SUM(N19:Y19)) -> 0 | M19: =IF(L19<0,"ATENÇÃO","OK") -> OK | N19: 0 | O19: 0 | P19: 0 | Q19: 0 | R19: 0 | S19: 0 | T19: 0 | U19: 0 | V19: 0 | W19: 0 | X19: 0 | Y19: 0
A20: A4 DIGITAL PRINT LTDA EPP | B20: 4 | C20: 17 | D20: Digitalização de monografias - Fornecimento de cópia das obras em formato digital (PDF A – OCR) -Três cópias em DVD | E20: 33.90.39.63 | G20: Folha 30X20 | I20: 20 | J20: 0.18 | K20: 0 | L20: =K20-(SUM(N20:Y20)) -> 0 | M20: =IF(L20<0,"ATENÇÃO","OK") -> OK | N20: 0 | O20: 0 | P20: 0 | Q20: 0 | R20: 0 | S20: 0 | T20: 0 | U20: 0 | V20: 0 | W20: 0 | X20: 0 | Y20: 0
C21: 18 | D21: Digitalização de Livros - Fornecimento de cópia das obras em formato digital (PDF A – OCR). Três cópias em DVD | E21: 33.90.39.63 | G21: Folha Pequena* | I21: 20 | J21: 0.21 | K21: 0 | L21: =K21-(SUM(N21:Y21)) -> 0 | M21: =IF(L21<0,"ATENÇÃO","OK") -> OK | N21: 0 | O21: 0 | P21: 0 | Q21: 0 | R21: 0 | S21: 0 | T21: 0 | U21: 0 | V21: 0 | W21: 0 | X21: 0 | Y21: 0
C22: 19 | E22: 33.90.39.63 | G22: Folha Média* | I22: 20 | J22: 0.21 | K22: 0 | L22: =K22-(SUM(N22:Y22)) -> 0 | M22: =IF(L22<0,"ATENÇÃO","OK") -> OK | N22: 0 | O22: 0 | P22: 0 | Q22: 0 | R22: 0 | S22: 0 | T22: 0 | U22: 0 | V22: 0 | W22: 0 | X22: 0 | Y22: 0
C23: 20 | D23: Digitalização de Mapas - Fornecimento de cópia de mapas em formato digital (PDF A – OCR e JPG). - Três cópias em DVD | E23: 33.90.39.63 | G23: Folha Até A4 | I23: 20 | J23: 0.37 | K23: 0 | L23: =K23-(SUM(N23:Y23)) -> 0 | M23: =IF(L23<0,"ATENÇÃO","OK") -> OK | N23: 0 | O23: 0 | P23: 0 | Q23: 0 | R23: 0 | S23: 0 | T23: 0 | U23: 0 | V23: 0 | W23: 0 | X23: 0 | Y23: 0
C24: 21 | E24: 33.90.39.63 | G24: Folha Até A3** | I24: 20 | J24: 0.38 | K24: 0 | L24: =K24-(SUM(N24:Y24)) -> 0 | M24: =IF(L24<0,"ATENÇÃO","OK") -> OK | N24: 0 | O24: 0 | P24: 0 | Q24: 0 | R24: 0 | S24: 0 | T24: 0 | U24: 0 | V24: 0 | W24: 0 | X24: 0 | Y24: 0
C25: 22 | E25: 33.90.39.63 | G25: Folha Até A2** | I25: 20 | J25: 1.8 | K25: 0 | L25: =K25-(SUM(N25:Y25)) -> 0 | M25: =IF(L25<0,"ATENÇÃO","OK") -> OK | N25: 0 | O25: 0 | P25: 0 | Q25: 0 | R25: 0 | S25: 0 | T25: 0 | U25: 0 | V25: 0 | W25: 0 | X25: 0 | Y25: 0
C26: 23 | E26: 33.90.39.63 | G26: Folha Até A1** | I26: 20 | J26: 3 | K26: 0 | L26: =K26-(SUM(N26:Y26)) -> 0 | M26: =IF(L26<0,"ATENÇÃO","OK") -> OK | N26: 0 | O26: 0 | P26: 0 | Q26: 0 | R26: 0 | S26: 0 | T26: 0 | U26: 0 | V26: 0 | W26: 0 | X26: 0 | Y26: 0
C27: 24 | E27: 33.90.39.63 | G27: Folha Até A0** | I27: 20 | J27: 4.6 | K27: 0 | L27: =K27-(SUM(N27:Y27)) -> 0 | M27: =IF(L27<0,"ATENÇÃO","OK") -> OK | N27: 0 | O27: 0 | P27: 0 | Q27: 0 | R27: 0 | S27: 0 | T27: 0 | U27: 0 | V27: 0 | W27: 0 | X27: 0 | Y27: 0
C28: 25 | E28: 33.90.39.63 | G28: Folha Acima de A0** | I28: 20 | J28: 5 | K28: 0 | L28: =K28-(SUM(N28:Y28)) -> 0 | M28: =IF(L28<0,"ATENÇÃO","OK") -> OK | N28: 0 | O28: 0 | P28: 0 | Q28: 0 | R28: 0 | S28: 0 | T28: 0 | U28: 0 | V28: 0 | W28: 0 | X28: 0 | Y28: 0
C29: 26 | D29: Digitalização de jornais - Fornecimento de cópia de jornais em formato digital (PDF A – OCR e JPG). - Três cópias em DVD | E29: 33.90.39.63 | G29: Folha Até A3** | I29: 20 | J29: 0.27 | K29: 0 | L29: =K29-(SUM(N29:Y29)) -> 0 | M29: =IF(L29<0,"ATENÇÃO","OK") -> OK | N29: 0 | O29: 0 | P29: 0 | Q29: 0 | R29: 0 | S29: 0 | T29: 0 | U29: 0 | V29: 0 | W29: 0 | X29: 0 | Y29: 0
C30: 27 | E30: 33.90.39.63 | G30: Folha Acima de A0** | I30: 20 | J30: 4.6 | K30: 0 | L30: =K30-(SUM(N30:Y30)) -> 0 | M30: =IF(L30<0,"ATENÇÃO","OK") -> OK | N30: 0 | O30: 0 | P30: 0 | Q30: 0 | R30: 0 | S30: 0 | T30: 0 | U30: 0 | V30: 0 | W30: 0 | X30: 0 | Y30: 0
C32: *Obras: Pequena até A4 (210 x 297 mm), Média até A3 (297 x 420 mm ), Grande acima de A3 (297 x 420 mm)
C33: **Mapas e jornais: Até A4 ( 210 x 297 mm), Até A3 (297 x 420 mm ), Até A2 (420 x 594). Até A1 (594 x 840 mm), Até A0 (840 x 1.188 mm), Acima de A0 (Aicma de 1.188 mm)

Sheet GESTOR
A1: PROCESSO: 0619/2014/UDESC | D1: OBJETO: Serviços de Encadernação, Restauração e Digitalização de acervos das Bibliotecas da UDESC | K1: VIGÊNCIA DA ATA: 16/06/2014 até 16/06/2015
A2: CENTRO PARTICIPANTE: CEAD, CEART, CEFID, CAV, FAED, IDCH-FAED, ESAG, CEO, CCT, CEPLAN, CERES e CESFI
A3: FORNECEDOR | B3: LOTE | C3: ITEM | D3: PRODUTO - CARACTERÍSTICAS MÍNIMAS | E3: ELEMENTO | F3: MARCA | G3: UNIDADE | H3: Entrega (Dias) | I3: Pagto. (Dias) | J3: Preço UNITÁRIO (R$) | K3: Qtde Registrada + Aditivos | L3: Quantidade Utilizada | M3: SALDO | N3: Valor Total Registrado | O3: Valor Total Utilizado
A4: IDEAL ENCADERNAÇÕES LTDA ME | B4: 1 | C4: 1 | D4: Recuperação de capa dura com: costura simples, colagem, cantoneiras e lombadas e colocação de guardas novas | E4: 33.90.39.63 | G4: Pequeno* | I4: 20 | J4: 17 | K4: =CEAD!K4+CEART!K4+CEFID!K4+CAV!K4+FAED!K4+ESAG!K4+CEO!K4+CCT!K4+CEPLAN!K4+CERES!K4+CESFI!K4+IDCH_FAED!K4 -> 241 | L4: =(CEAD!K4-CEAD!L4)+(CEART!K4-CEART!L4)+(CEFID!K4-CEFID!L4)+(CAV!K4-CAV!L4)+(FAED!K4-FAED!L4)+(IDCH_FAED!K4-IDCH_FAED!L4)+(ESAG!K4-ESAG!L4)+(CEO!K4-CEO!L4)+(CCT!K4-CCT!L4)+(CEPLAN!K4-CEPLAN!L4)+(CERES!K4-CERES!L4)+(CESFI!K4-CESFI!L4) -> 54 | M4: =K4-L4 -> 187 | N4: =J4*K4 -> 4097 | O4: =J4*L4 -> 918
C5: 2 | E5: 33.90.39.63 | G5: Médio* | I5: 20 | J5: 17 | K5: =CEAD!K5+CEART!K5+CEFID!K5+CAV!K5+FAED!K5+ESAG!K5+CEO!K5+CCT!K5+CEPLAN!K5+CERES!K5+CESFI!K5+IDCH_FAED!K5 -> 265 | L5: =(CEAD!K5-CEAD!L5)+(CEART!K5-CEART!L5)+(CEFID!K5-CEFID!L5)+(CAV!K5-CAV!L5)+(FAED!K5-FAED!L5)+(IDCH_FAED!K5-IDCH_FAED!L5)+(ESAG!K5-ESAG!L5)+(CEO!K5-CEO!L5)+(CCT!K5-CCT!L5)+(CEPLAN!K5-CEPLAN!L5)+(CERES!K5-CERES!L5)+(CESFI!K5-CESFI!L5) -> 80 | M5: =K5-L5 -> 185 | N5: =J5*K5 -> 4505 | O5: =J5*L5 -> 1360
C6: 3 | E6: 33.90.39.63 | G6: Grande* | I6: 20 | J6: 17 | K6: =CEAD!K6+CEART!K6+CEFID!K6+CAV!K6+FAED!K6+ESAG!K6+CEO!K6+CCT!K6+CEPLAN!K6+CERES!K6+CESFI!K6+IDCH_FAED!K6 -> 230 | L6: =(CEAD!K6-CEAD!L6)+(CEART!K6-CEART!L6)+(CEFID!K6-CEFID!L6)+(CAV!K6-CAV!L6)+(FAED!K6-FAED!L6)+(IDCH_FAED!K6-IDCH_FAED!L6)+(ESAG!K6-ESAG!L6)+(CEO!K6-CEO!L6)+(CCT!K6-CCT!L6)+(CEPLAN!K6-CEPLAN!L6)+(CERES!K6-CERES!L6)+(CESFI!K6-CESFI!L6) -> 63 | M6: =K6-L6 -> 167 | N6: =J6*K6 -> 3910 | O6: =J6*L6 -> 1071
C7: 4 | D7: Colocação e recuperação de capa brochura com costura, colagens e guardas | E7: 33.90.39.63 | G7: Pequeno* | I7: 20 | J7: 9 | K7: =CEAD!K7+CEART!K7+CEFID!K7+CAV!K7+FAED!K7+ESAG!K7+CEO!K7+CCT!K7+CEPLAN!K7+CERES!K7+CESFI!K7+IDCH_FAED!K7 -> 228 | L7: =(CEAD!K7-CEAD!L7)+(CEART!K7-CEART!L7)+(CEFID!K7-CEFID!L7)+(CAV!K7-CAV!L7)+(FAED!K7-FAED!L7)+(IDCH_FAED!K7-IDCH_FAED!L7)+(ESAG!K7-ESAG!L7)+(CEO!K7-CEO!L7)+(CCT!K7-CCT!L7)+(CEPLAN!K7-CEPLAN!L7)+(CERES!K7-CERES!L7)+(CESFI!K7-CESFI!L7) -> 54 | M7: =K7-L7 -> 174 | N7: =J7*K7 -> 2052 | O7: =J7*L7 -> 486
C8: 5 | E8: 33.90.39.63 | G8: Médio* | I8: 20 | J8: 9.5 | K8: =CEAD!K8+CEART!K8+CEFID!K8+CAV!K8+FAED!K8+ESAG!K8+CEO!K8+CCT!K8+CEPLAN!K8+CERES!K8+CESFI!K8+IDCH_FAED!K8 -> 345 | L8: =(CEAD!K8-CEAD!L8)+(CEART!K8-CEART!L8)+(CEFID!K8-CEFID!L8)+(CAV!K8-CAV!L8)+(FAED!K8-FAED!L8)+(IDCH_FAED!K8-IDCH_FAED!L8)+(ESAG!K8-ESAG!L8)+(CEO!K8-CEO!L8)+(CCT!K8-CCT!L8)+(CEPLAN!K8-CEPLAN!L8)+(CERES!K8-CERES!L8)+(CESFI!K8-CESFI!L8) -> 75 | M8: =K8-L8 -> 270 | N8: =J8*K8 -> 3277.5 | O8: =J8*L8 -> 712.5
C9: 6 | E9: 33.90.39.63 | G9: Grande* | I9: 20 | J9: 10 | K9: =CEAD!K9+CEART!K9+CEFID!K9+CAV!K9+FAED!K9+ESAG!K9+CEO!K9+CCT!K9+CEPLAN!K9+CERES!K9+CESFI!K9+IDCH_FAED!K9 -> 156 | L9: =(CEAD!K9-CEAD!L9)+(CEART!K9-CEART!L9)+(CEFID!K9-CEFID!L9)+(CAV!K9-CAV!L9)+(FAED!K9-FAED!L9)+(IDCH_FAED!K9-IDCH_FAED!L9)+(ESAG!K9-ESAG!L9)+(CEO!K9-CEO!L9)+(CCT!K9-CCT!L9)+(CEPLAN!K9-CEPLAN!L9)+(CERES!K9-CERES!L9)+(CESFI!K9-CESFI!L9) -> 36 | M9: =K9-L9 -> 120 | N9: =J9*K9 -> 1560 | O9: =J9*L9 -> 360
C10: 7 | D10: Confecção e colocação de capa dura completa com costura interna, colagem e guardas | E10: 33.90.39.63 | G10: Pequeno* | I10: 20 | J10: 20 | K10: =CEAD!K10+CEART!K10+CEFID!K10+CAV!K10+FAED!K10+ESAG!K10+CEO!K10+CCT!K10+CEPLAN!K10+CERES!K10+CESFI!K10+IDCH_FAED!K10 -> 241 | L10: =(CEAD!K10-CEAD!L10)+(CEART!K10-CEART!L10)+(CEFID!K10-CEFID!L10)+(CAV!K10-CAV!L10)+(FAED!K10-FAED!L10)+(IDCH_FAED!K10-IDCH_FAED!L10)+(ESAG!K10-ESAG!L10)+(CEO!K10-CEO!L10)+(CCT!K10-CCT!L10)+(CEPLAN!K10-CEPLAN!L10)+(CERES!K10-CERES!L10)+(CESFI!K10-CESFI!L10) -> 68 | M10: =K10-L10 -> 173 | N10: =J10*K10 -> 4820 | O10: =J10*L10 -> 1360
C11: 8 | E11: 33.90.39.63 | G11: Médio* | I11: 20 | J11: 20 | K11: =CEAD!K11+CEART!K11+CEFID!K11+CAV!K11+FAED!K11+ESAG!K11+CEO!K11+CCT!K11+CEPLAN!K11+CERES!K11+CESFI!K11+IDCH_FAED!K11 -> 190 | L11: =(CEAD!K11-CEAD!L11)+(CEART!K11-CEART!L11)+(CEFID!K11-CEFID!L11)+(CAV!K11-CAV!L11)+(FAED!K11-FAED!L11)+(IDCH_FAED!K11-IDCH_FAED!L11)+(ESAG!K11-ESAG!L11)+(CEO!K11-CEO!L11)+(CCT!K11-CCT!L11)+(CEPLAN!K11-CEPLAN!L11)+(CERES!K11-CERES!L11)+(CESFI!K11-CESFI!L11) -> 48 | M11: =K11-L11 -> 142 | N11: =J11*K11 -> 3800 | O11: =J11*L11 -> 960
C12: 9 | E12: 33.90.39.63 | G12: Grande* | I12: 20 | J12: 20 | K12: =CEAD!K12+CEART!K12+CEFID!K12+CAV!K12+FAED!K12+ESAG!K12+CEO!K12+CCT!K12+CEPLAN!K12+CERES!K12+CESFI!K12+IDCH_FAED!K12 -> 165 | L12: =(CEAD!K12-CEAD!L12)+(CEART!K12-CEART!L12)+(CEFID!K12-CEFID!L12)+(CAV!K12-CAV!L12)+(FAED!K12-FAED!L12)+(IDCH_FAED!K12-IDCH_FAED!L12)+(ESAG!K12-ESAG!L12)+(CEO!K12-CEO!L12)+(CCT!K12-CCT!L12)+(CEPLAN!K12-CEPLAN!L12)+(CERES!K12-CERES!L12)+(CESFI!K12-CESFI!L12) -> 50 | M12: =K12-L12 -> 115 | N12: =J12*K12 -> 3300 | O12: =J12*L12 -> 1000
C13: 10 | D13: Higienização c/lixas, guilhotinagem, borracha de maciez, etc | E13: 33.90.39.63 | G13: Unidade | I13: 20 | J13: 5 | K13: =CEAD!K13+CEART!K13+CEFID!K13+CAV!K13+FAED!K13+ESAG!K13+CEO!K13+CCT!K13+CEPLAN!K13+CERES!K13+CESFI!K13+IDCH_FAED!K13 -> 147 | L13: =(CEAD!K13-CEAD!L13)+(CEART!K13-CEART!L13)+(CEFID!K13-CEFID!L13)+(CAV!K13-CAV!L13)+(FAED!K13-FAED!L13)+(IDCH_FAED!K13-IDCH_FAED!L13)+(ESAG!K13-ESAG!L13)+(CEO!K13-CEO!L13)+(CCT!K13-CCT!L13)+(CEPLAN!K13-CEPLAN!L13)+(CERES!K13-CERES!L13)+(CESFI!K13-CESFI!L13) -> 53 | M13: =K13-L13 -> 94 | N13: =J13*K13 -> 735 | O13: =J13*L13 -> 265
C14: 11 | D14: Enxerto de folhas xerocadas | E14: 33.90.39.63 | G14: por folha | I14: 20 | J14: 0.5 | K14: =CEAD!K14+CEART!K14+CEFID!K14+CAV!K14+FAED!K14+ESAG!K14+CEO!K14+CCT!K14+CEPLAN!K14+CERES!K14+CESFI!K14+IDCH_FAED!K14 -> 550 | L14: =(CEAD!K14-CEAD!L14)+(CEART!K14-CEART!L14)+(CEFID!K14-CEFID!L14)+(CAV!K14-CAV!L14)+(FAED!K14-FAED!L14)+(IDCH_FAED!K14-IDCH_FAED!L14)+(ESAG!K14-ESAG!L14)+(CEO!K14-CEO!L14)+(CCT!K14-CCT!L14)+(CEPLAN!K14-CEPLAN!L14)+(CERES!K14-CERES!L14)+(CESFI!K14-CESFI!L14) -> 130 | M14: =K14-L14 -> 420 | N14: =J14*K14 -> 275 | O14: =J14*L14 -> 65
C15: 12 | D15: Restauração a úmido c/papel especial | E15: 33.90.39.63 | G15: por folha | I15: 20 | J15: 0.5 | K15: =CEAD!K15+CEART!K15+CEFID!K15+CAV!K15+FAED!K15+ESAG!K15+CEO!K15+CCT!K15+CEPLAN!K15+CERES!K15+CESFI!K15+IDCH_FAED!K15 -> 425 | L15: =(CEAD!K15-CEAD!L15)+(CEART!K15-CEART!L15)+(CEFID!K15-CEFID!L15)+(CAV!K15-CAV!L15)+(FAED!K15-FAED!L15)+(IDCH_FAED!K15-IDCH_FAED!L15)+(ESAG!K15-ESAG!L15)+(CEO!K15-CEO!L15)+(CCT!K15-CCT!L15)+(CEPLAN!K15-CEPLAN!L15)+(CERES!K15-CERES!L15)+(CESFI!K15-CESFI!L15) -> 110 | M15: =K15-L15 -> 315 | N15: =J15*K15 -> 212.5 | O15: =J15*L15 -> 55
C16: 13 | D16: Aplicação de carcelas | E16: 33.90.39.63 | G16: por folha | I16: 20 | J16: 0.25 | K16: =CEAD!K16+CEART!K16+CEFID!K16+CAV!K16+FAED!K16+ESAG!K16+CEO!K16+CCT!K16+CEPLAN!K16+CERES!K16+CESFI!K16+IDCH_FAED!K16 -> 630 | L16: =(CEAD!K16-CEAD!L16)+(CEART!K16-CEART!L16)+(CEFID!K16-CEFID!L16)+(CAV!K16-CAV!L16)+(FAED!K16-FAED!L16)+(IDCH_FAED!K16-IDCH_FAED!L16)+(ESAG!K16-ESAG!L16)+(CEO!K16-CEO!L16)+(CCT!K16-CCT!L16)+(CEPLAN!K16-CEPLAN!L16)+(CERES!K16-CERES!L16)+(CESFI!K16-CESFI!L16) -> 140 | M16: =K16-L16 -> 490 | N16: =J16*K16 -> 157.5 | O16: =J16*L16 -> 35
C17: 14 | D17: Remoção de fita adesiva | E17: 33.90.39.63 | G17: metro linear | I17: 20 | J17: 0.5 | K17: =CEAD!K17+CEART!K17+CEFID!K17+CAV!K17+FAED!K17+ESAG!K17+CEO!K17+CCT!K17+CEPLAN!K17+CERES!K17+CESFI!K17+IDCH_FAED!K17 -> 396 | L17: =(CEAD!K17-CEAD!L17)+(CEART!K17-CEART!L17)+(CEFID!K17-CEFID!L17)+(CAV!K17-CAV!L17)+(FAED!K17-FAED!L17)+(IDCH_FAED!K17-IDCH_FAED!L17)+(ESAG!K17-ESAG!L17)+(CEO!K17-CEO!L17)+(CCT!K17-CCT!L17)+(CEPLAN!K17-CEPLAN!L17)+(CERES!K17-CERES!L17)+(CESFI!K17-CESFI!L17) -> 116 | M17: =K17-L17 -> 280 | N17: =J17*K17 -> 198 | O17: =J17*L17 -> 58
B18: 2 | C18: 15 | D18: Restauração, encadernação e higienização de obras raras e/ou documentos históricos | E18: 33.90.39.63 | G18: Unidade | I18: 20 | J18: 12 | K18: =CEAD!K18+CEART!K18+CEFID!K18+CAV!K18+FAED!K18+ESAG!K18+CEO!K18+CCT!K18+CEPLAN!K18+CERES!K18+CESFI!K18+IDCH_FAED!K18 -> 1000 | L18: =(CEAD!K18-CEAD!L18)+(CEART!K18-CEART!L18)+(CEFID!K18-CEFID!L18)+(CAV!K18-CAV!L18)+(FAED!K18-FAED!L18)+(IDCH_FAED!K18-IDCH_FAED!L18)+(ESAG!K18-ESAG!L18)+(CEO!K18-CEO!L18)+(CCT!K18-CCT!L18)+(CEPLAN!K18-CEPLAN!L18)+(CERES!K18-CERES!L18)+(CESFI!K18-CESFI!L18) -> 1000 | M18: =K18-L18 -> 0 | N18: =J18*K18 -> 12000 | O18: =J18*L18 -> 12000
B19: 3 | C19: 16 | D19: Confecção de embalagens para os livros (caixa em papel triplex” de 300 g, composto de uma camada de uma espécie de papelão revestido de papel alcalino (frente e verso). | E19: 33.90.39.63 | G19: Pequeno* | I19: 20 | J19: 4.8 | K19: =CEAD!K19+CEART!K19+CEFID!K19+CAV!K19+FAED!K19+ESAG!K19+CEO!K19+CCT!K19+CEPLAN!K19+CERES!K19+CESFI!K19+IDCH_FAED!K19 -> 1000 | L19: =(CEAD!K19-CEAD!L19)+(CEART!K19-CEART!L19)+(CEFID!K19-CEFID!L19)+(CAV!K19-CAV!L19)+(FAED!K19-FAED!L19)+(IDCH_FAED!K19-IDCH_FAED!L19)+(ESAG!K19-ESAG!L19)+(CEO!K19-CEO!L19)+(CCT!K19-CCT!L19)+(CEPLAN!K19-CEPLAN!L19)+(CERES!K19-CERES!L19)+(CESFI!K19-CESFI!L19) -> 1000 | M19: =K19-L19 -> 0 | N19: =J19*K19 -> 4800 | O19: =J19*L19 -> 4800
A20: A4 DIGITAL PRINT LTDA EPP | B20: 4 | C20: 17 | D20: Digitalização de monografias - Fornecimento de cópia das obras em formato digital (PDF A – OCR) -Três cópias em DVD | E20: 33.90.39.63 | G20: Folha 30X20 | I20: 20 | J20: 0.18 | K20: =CEAD!K20+CEART!K20+CEFID!K20+CAV!K20+FAED!K20+ESAG!K20+CEO!K20+CCT!K20+CEPLAN!K20+CERES!K20+CESFI!K20+IDCH_FAED!K20 -> 30000 | L20: =(CEAD!K20-CEAD!L20)+(CEART!K20-CEART!L20)+(CEFID!K20-CEFID!L20)+(CAV!K20-CAV!L20)+(FAED!K20-FAED!L20)+(IDCH_FAED!K20-IDCH_FAED!L20)+(ESAG!K20-ESAG!L20)+(CEO!K20-CEO!L20)+(CCT!K20-CCT!L20)+(CEPLAN!K20-CEPLAN!L20)+(CERES!K20-CERES!L20)+(CESFI!K20-CESFI!L20) -> 30000 | M20: =K20-L20 -> 0 | N20: =J20*K20 -> 5400 | O20: =J20*L20 -> 5400
C21: 18 | D21: Digitalização de Livros - Fornecimento de cópia das obras em formato digital (PDF A – OCR). Três cópias em DVD | E21: 33.90.39.63 | G21: Folha Pequena* | I21: 20 | J21: 0.21 | K21: =CEAD!K21+CEART!K21+CEFID!K21+CAV!K21+FAED!K21+ESAG!K21+CEO!K21+CCT!K21+CEPLAN!K21+CERES!K21+CESFI!K21+IDCH_FAED!K21 -> 15000 | L21: =(CEAD!K21-CEAD!L21)+(CEART!K21-CEART!L21)+(CEFID!K21-CEFID!L21)+(CAV!K21-CAV!L21)+(FAED!K21-FAED!L21)+(IDCH_FAED!K21-IDCH_FAED!L21)+(ESAG!K21-ESAG!L21)+(CEO!K21-CEO!L21)+(CCT!K21-CCT!L21)+(CEPLAN!K21-CEPLAN!L21)+(CERES!K21-CERES!L21)+(CESFI!K21-CESFI!L21) -> 15000 | M21: =K21-L21 -> 0 | N21: =J21*K21 -> 3150 | O21: =J21*L21 -> 3150
C22: 19 | E22: 33.90.39.63 | G22: Folha Média* | I22: 20 | J22: 0.21 | K22: =CEAD!K22+CEART!K22+CEFID!K22+CAV!K22+FAED!K22+ESAG!K22+CEO!K22+CCT!K22+CEPLAN!K22+CERES!K22+CESFI!K22+IDCH_FAED!K22 -> 10000 | L22: =(CEAD!K22-CEAD!L22)+(CEART!K22-CEART!L22)+(CEFID!K22-CEFID!L22)+(CAV!K22-CAV!L22)+(FAED!K22-FAED!L22)+(IDCH_FAED!K22-IDCH_FAED!L22)+(ESAG!K22-ESAG!L22)+(CEO!K22-CEO!L22)+(CCT!K22-CCT!L22)+(CEPLAN!K22-CEPLAN!L22)+(CERES!K22-CERES!L22)+(CESFI!K22-CESFI!L22) -> 10000 | M22: =K22-L22 -> 0 | N22: =J22*K22 -> 2100 | O22: =J22*L22 -> 2100
C23: 20 | D23: Digitalização de Mapas - Fornecimento de cópia de mapas em formato digital (PDF A – OCR e JPG). - Três cópias em DVD | E23: 33.90.39.63 | G23: Folha Até A4 | I23: 20 | J23: 0.37 | K23: =CEAD!K23+CEART!K23+CEFID!K23+CAV!K23+FAED!K23+ESAG!K23+CEO!K23+CCT!K23+CEPLAN!K23+CERES!K23+CESFI!K23+IDCH_FAED!K23 -> 200 | L23: =(CEAD!K23-CEAD!L23)+(CEART!K23-CEART!L23)+(CEFID!K23-CEFID!L23)+(CAV!K23-CAV!L23)+(FAED!K23-FAED!L23)+(IDCH_FAED!K23-IDCH_FAED!L23)+(ESAG!K23-ESAG!L23)+(CEO!K23-CEO!L23)+(CCT!K23-CCT!L23)+(CEPLAN!K23-CEPLAN!L23)+(CERES!K23-CERES!L23)+(CESFI!K23-CESFI!L23) -> 200 | M23: =K23-L23 -> 0 | N23: =J23*K23 -> 74 | O23: =J23*L23 -> 74
C24: 21 | E24: 33.90.39.63 | G24: Folha Até A3** | I24: 20 | J24: 0.38 | K24: =CEAD!K24+CEART!K24+CEFID!K24+CAV!K24+FAED!K24+ESAG!K24+CEO!K24+CCT!K24+CEPLAN!K24+CERES!K24+CESFI!K24+IDCH_FAED!K24 -> 200 | L24: =(CEAD!K24-CEAD!L24)+(CEART!K24-CEART!L24)+(CEFID!K24-CEFID!L24)+(CAV!K24-CAV!L24)+(FAED!K24-FAED!L24)+(IDCH_FAED!K24-IDCH_FAED!L24)+(ESAG!K24-ESAG!L24)+(CEO!K24-CEO!L24)+(CCT!K24-CCT!L24)+(CEPLAN!K24-CEPLAN!L24)+(CERES!K24-CERES!L24)+(CESFI!K24-CESFI!L24) -> 200 | M24: =K24-L24 -> 0 | N24: =J24*K24 -> 76 | O24: =J24*L24 -> 76
C25: 22 | E25: 33.90.39.63 | G25: Folha Até A2** | I25: 20 | J25: 1.8 | K25: =CEAD!K25+CEART!K25+CEFID!K25+CAV!K25+FAED!K25+ESAG!K25+CEO!K25+CCT!K25+CEPLAN!K25+CERES!K25+CESFI!K25+IDCH_FAED!K25 -> 200 | L25: =(CEAD!K25-CEAD!L25)+(CEART!K25-CEART!L25)+(CEFID!K25-CEFID!L25)+(CAV!K25-CAV!L25)+(FAED!K25-FAED!L25)+(IDCH_FAED!K25-IDCH_FAED!L25)+(ESAG!K25-ESAG!L25)+(CEO!K25-CEO!L25)+(CCT!K25-CCT!L25)+(CEPLAN!K25-CEPLAN!L25)+(CERES!K25-CERES!L25)+(CESFI!K25-CESFI!L25) -> 200 | M25: =K25-L25 -> 0 | N25: =J25*K25 -> 360 | O25: =J25*L25 -> 360
C26: 23 | E26: 33.90.39.63 | G26: Folha Até A1** | I26: 20 | J26: 3 | K26: =CEAD!K26+CEART!K26+CEFID!K26+CAV!K26+FAED!K26+ESAG!K26+CEO!K26+CCT!K26+CEPLAN!K26+CERES!K26+CESFI!K26+IDCH_FAED!K26 -> 200 | L26: =(CEAD!K26-CEAD!L26)+(CEART!K26-CEART!L26)+(CEFID!K26-CEFID!L26)+(CAV!K26-CAV!L26)+(FAED!K26-FAED!L26)+(IDCH_FAED!K26-IDCH_FAED!L26)+(ESAG!K26-ESAG!L26)+(CEO!K26-CEO!L26)+(CCT!K26-CCT!L26)+(CEPLAN!K26-CEPLAN!L26)+(CERES!K26-CERES!L26)+(CESFI!K26-CESFI!L26) -> 200 | M26: =K26-L26 -> 0 | N26: =J26*K26 -> 600 | O26: =J26*L26 -> 600
C27: 24 | E27: 33.90.39.63 | G27: Folha Até A0** | I27: 20 | J27: 4.6 | K27: =CEAD!K27+CEART!K27+CEFID!K27+CAV!K27+FAED!K27+ESAG!K27+CEO!K27+CCT!K27+CEPLAN!K27+CERES!K27+CESFI!K27+IDCH_FAED!K27 -> 500 | L27: =(CEAD!K27-CEAD!L27)+(CEART!K27-CEART!L27)+(CEFID!K27-CEFID!L27)+(CAV!K27-CAV!L27)+(FAED!K27-FAED!L27)+(IDCH_FAED!K27-IDCH_FAED!L27)+(ESAG!K27-ESAG!L27)+(CEO!K27-CEO!L27)+(CCT!K27-CCT!L27)+(CEPLAN!K27-CEPLAN!L27)+(CERES!K27-CERES!L27)+(CESFI!K27-CESFI!L27) -> 500 | M27: =K27-L27 -> 0 | N27: =J27*K27 -> 2300 | O27: =J27*L27 -> 2300
C28: 25 | E28: 33.90.39.63 | G28: Folha Acima de A0** | I28: 20 | J28: 5 | K28: =CEAD!K28+CEART!K28+CEFID!K28+CAV!K28+FAED!K28+ESAG!K28+CEO!K28+CCT!K28+CEPLAN!K28+CERES!K28+CESFI!K28+IDCH_FAED!K28 -> 500 | L28: =(CEAD!K28-CEAD!L28)+(CEART!K28-CEART!L28)+(CEFID!K28-CEFID!L28)+(CAV!K28-CAV!L28)+(FAED!K28-FAED!L28)+(IDCH_FAED!K28-IDCH_FAED!L28)+(ESAG!K28-ESAG!L28)+(CEO!K28-CEO!L28)+(CCT!K28-CCT!L28)+(CEPLAN!K28-CEPLAN!L28)+(CERES!K28-CERES!L28)+(CESFI!K28-CESFI!L28) -> 500 | M28: =K28-L28 -> 0 | N28: =J28*K28 -> 2500 | O28: =J28*L28 -> 2500
C29: 26 | D29: Digitalização de jornais - Fornecimento de cópia de jornais em formato digital (PDF A – OCR e JPG). - Três cópias em DVD | E29: 33.90.39.63 | G29: Folha Até A3** | I29: 20 | J29: 0.27 | K29: =CEAD!K29+CEART!K29+CEFID!K29+CAV!K29+FAED!K29+ESAG!K29+CEO!K29+CCT!K29+CEPLAN!K29+CERES!K29+CESFI!K29+IDCH_FAED!K29 -> 2000 | L29: =(CEAD!K29-CEAD!L29)+(CEART!K29-CEART!L29)+(CEFID!K29-CEFID!L29)+(CAV!K29-CAV!L29)+(FAED!K29-FAED!L29)+(IDCH_FAED!K29-IDCH_FAED!L29)+(ESAG!K29-ESAG!L29)+(CEO!K29-CEO!L29)+(CCT!K29-CCT!L29)+(CEPLAN!K29-CEPLAN!L29)+(CERES!K29-CERES!L29)+(CESFI!K29-CESFI!L29) -> 2000 | M29: =K29-L29 -> 0 | N29: =J29*K29 -> 540 | O29: =J29*L29 -> 540
C30: 27 | E30: 33.90.39.63 | G30: Folha Acima de A0** | I30: 20 | J30: 4.6 | K30: =CEAD!K30+CEART!K30+CEFID!K30+CAV!K30+FAED!K30+ESAG!K30+CEO!K30+CCT!K30+CEPLAN!K30+CERES!K30+CESFI!K30+IDCH_FAED!K30 -> 3000 | L30: =(CEAD!K30-CEAD!L30)+(CEART!K30-CEART!L30)+(CEFID!K30-CEFID!L30)+(CAV!K30-CAV!L30)+(FAED!K30-FAED!L30)+(IDCH_FAED!K30-IDCH_FAED!L30)+(ESAG!K30-ESAG!L30)+(CEO!K30-CEO!L30)+(CCT!K30-CCT!L30)+(CEPLAN!K30-CEPLAN!L30)+(CERES!K30-CERES!L30)+(CESFI!K30-CESFI!L30) -> 3000 | M30: =K30-L30 -> 0 | N30: =J30*K30 -> 13800 | O30: =J30*L30 -> 13800
N31: =SUM(N4:N30) -> 80599.5 | O31: =SUM(O4:O30) -> 56405.5
K33: Pregão 0619/2014/UDESC - SRP
K34: Serviços de Encadernação, Restauração e Digitalização de acervos das Bibliotecas da UDESC
K35: Vigência 16/06/2014 até 16/06/2015
K36: Valor Total da Ata com Aditivo | O36: =N31 -> 80599.5
K37: Valor Utilizado | O37: =O31 -> 56405.5
K38: % Aditivos | O38: 0
K39: % Utilizado | O39: =O37/O36 -> 0.69982444
K40: Resumo Atualizado em 27/11/2014

Sheet Modelo Anexo II IN 002_2014
A1: ANEXO II – Instrução Normativa n.º 002/2014
A3: DECLARAÇÃO DE DISPONIBILIDADE DE QUANTITATIVO PARA EMISSÃO DE AUTORIZAÇÃO DE FORNECIMENTO/ORDEM DE SERVIÇO – SISTEMA DE REGISTRO DE PREÇOS/UDESC
A5: Processo CPA n.º XXXX/2014
A6: Pregão n.º XXXX/2014
A7: Objeto:
A8: Vigência da Ata de Registro de Preços: XX/XX/XXXX até XX/XX/XXXXX
A10: Declaro que o Centro XXXXXXX, participante da Ata de Registro de Preços proveniente do Pregão n.º XXXX/2014, possui saldo em seu quantitativo para a emissão da Autorização de Fornecimento/Ordem de Serviço n.º XXXX/2014, no valor de R$ X.XXX,XX, a ser firmada com a empresa XXXXXXX, restando ainda em sua cota para próximas contratações com o referido fornecedor os seguintes quantitativos:
A12: Lote | B12: Item | C12: Descrição Resumida | D12: Unidade | E12: Valor Unitário (R$) | F12: Saldo Quantitativo (antes da emissão desta AF/OS) | G12: Quantitativo da AF/OS | H12: Saldo Atualizado
A19: __________________, ____/_____/____
A20: Cidade Data
A24: _____________________________________________
A25: Diretor(a) de Administração
A26: (carimbo e assinatura)
