Workbook
Name diasuteis: #REF!
Name diasuteis: #REF!
Name diasuteis: #REF!
Name diasuteis: #REF!
Name diasuteis: #REF!
Name diasuteis: #REF!
Name diasuteis: #REF!
Name diasuteis: #REF!
Name diasuteis: #REF!
Name diasuteis: #REF!
Name diasuteis: #REF!
Name diasuteis: #REF!
Name diasuteis: #REF!
Name diasuteis: #REF!
Name Ferias: #REF!
Name Ferias: #REF!
Name Ferias: #REF!
Name Ferias: #REF!
Name Ferias: #REF!
Name Ferias: #REF!
Name Ferias: #REF!
Name Ferias: #REF!
Name Ferias: #REF!
Name Ferias: #REF!
Name Ferias: #REF!
Name Ferias: #REF!
Name Ferias: #REF!
Name RD: OFFSET(#REF!,(MATCH(SMALL(#REF!,ROW()-10),#REF!,0)-1),0)

Sheet CEAD
A1: PROCESSO: 0619/2014/UDESC | D1: OBJETO: Serviços de Encadernação, Restauração e Digitalização de acervos das Bibliotecas da UDESC | K1: VIGÊNCIA DA ATA: 16/06/2014 até 16/06/2015 | N1: AF/OS nº xxxx/2014 Qtde. DT | O1: AF/OS nº xxxx/2014 Qtde. DT | P1: AF/OS nº xxxx/2014 Qtde. DT | Q1: AF/OS nº xxxx/2014 Qtde. DT | R1: AF/OS nº xxxx/2014 Qtde. DT | S1: AF/OS nº xxxx/2014 Qtde. DT | T1: AF/OS nº xxxx/2014 Qtde. DT | U1: AF/OS nº xxxx/2014 Qtde. DT | V1: AF/OS nº xxxx/2014 Qtde. DT | W1: AF/OS nº xxxx/2014 Qtde. DT | X1: AF/OS nº xxxx/2014 Qtde. DT | Y1: AF/OS nº xxxx/2014 Qtde. DT
A2: CENTRO PARTICIPANTE: CEAD
A3: FORNECEDOR | B3: LOTE | C3: ITEM | D3: PRODUTO - CARACTERÍSTICAS MÍNIMAS | E3: ELEMENTO | F3: MARCA | G3: UNIDADE | H3: Entrega (Dias) | I3: Pagto. (Dias) | J3: Preço UNITÁRIO (R$) | K3: Qtde LICITADA | L3: Saldo / Automático | M3: ALERTA | N3: ...../...../...... | O3: ...../...../...... | P3: ...../...../...... | Q3: ...../...../...... | R3: ...../...../...... | S3: ...../...../...... | T3: ...../...../...... | U3: ...../...../...... | V3: ...../...../...... | W3: ...../...../...... | X3: ...../...../...... | Y3: ...../...../......
A4: IDEAL ENCADERNAÇÕES LTDA ME | B4: 1 | C4: 1 | D4: Recuperação de capa dura com: costura simples, colagem, cantoneiras e lombadas e colocação de guardas novas | E4: 33.90.39.63 | G4: Pequeno* | I4: 20 | J4: 17 | K4: 15 | L4: =K4-(SUM(N4:Y4)) -> 15 | M4: =IF(L4<0,"ATENÇÃO","OK") -> OK | N4: 0 | O4: 0 | P4: 0 | Q4: 0 | R4: 0 | S4: 0 | T4: 0 | U4: 0 | V4: 0 | W4: 0 | X4: 0 | Y4: 0
C5: 2 | E5: 33.90.39.63 | G5: Médio* | I5: 20 | J5: 17 | K5: 10 | L5: =K5-(SUM(N5:Y5)) -> 10 | M5: =IF(L5<0,"ATENÇÃO","OK") -> OK | N5: 0 | O5: 0 | P5: 0 | Q5: 0 | R5: 0 | S5: 0 | T5: 0 | U5: 0 | V5: 0 | W5: 0 | X5: 0 | Y5: 0
C6: 3 | E6: 33.90.39.63 | G6: Grande* | I6: 20 | J6: 17 | K6: 5 | L6: =K6-(SUM(N6:Y6)) -> 5 | M6: =IF(L6<0,"ATENÇÃO","OK") -> OK | N6: 0 | O6: 0 | P6: 0 | Q6: 0 | R6: 0 | S6: 0 | T6: 0 | U6: 0 | V6: 0 | W6: 0 | X6: 0 | Y6: 0
C7: 4 | D7: Colocação e recuperação de capa brochura com costura, colagens e guardas | E7: 33.90.39.63 | G7: Pequeno* | I7: 20 | J7: 9 | K7: 20 | L7: =K7-(SUM(N7:Y7)) -> 20 | M7: =IF(L7<0,"ATENÇÃO","OK") -> OK | N7: 0 | O7: 0 | P7: 0 | Q7: 0 | R7: 0 | S7: 0 | T7: 0 | U7: 0 | V7: 0 | W7: 0 | X7: 0 | Y7: 0
C8: 5 | E8: 33.90.39.63 | G8: Médio* | I8: 20 | J8: 9.5 | K8: 50 | L8: =K8-(SUM(N8:Y8)) -> 50 | M8: =IF(L8<0,"ATENÇÃO","OK") -> OK | N8: 0 | O8: 0 | P8: 0 | Q8: 0 | R8: 0 | S8: 0 | T8: 0 | U8: 0 | V8: 0 | W8: 0 | X8: 0 | Y8: 0
C9: 6 | E9: 33.90.39.63 | G9: Grande* | I9: 20 | J9: 10 | K9: 5 | L9: =K9-(SUM(N9:Y9)) -> 5 | M9: =IF(L9<0,"ATENÇÃO","OK") -> OK | N9: 0 | O9: 0 | P9: 0 | Q9: 0 | R9: 0 | S9: 0 | T9: 0 | U9: 0 | V9: 0 | W9: 0 | X9: 0 | Y9: 0
C10: 7 | D10: Confecção e colocação de capa dura completa com costura interna, colagem e guardas | E10: 33.90.39.63 | G10: Pequeno* | I10: 20 | J10: 20 | K10: 10 | L10: =K10-(SUM(N10:Y10)) -> 10 | M10: =IF(L10<0,"ATENÇÃO","OK") -> OK | N10: 0 | O10: 0 | P10: 0 | Q10: 0 | R10: 0 | S10: 0 | T10: 0 | U10: 0 | V10: 0 | W10: 0 | X10: 0 | Y10: 0
C11: 8 | E11: 33.90.39.63 | G11: Médio* | I11: 20 | J11: 20 | K11: 10 | L11: =K11-(SUM(N11:Y11)) -> 10 | M11: =IF(L11<0,"ATENÇÃO","OK") -> OK | N11: 0 | O11: 0 | P11: 0 | Q11: 0 | R11: 0 | S11: 0 | T11: 0 | U11: 0 | V11: 0 | W11: 0 | X11: 0 | Y11: 0
C12: 9 | E12: 33.90.39.63 | G12: Grande* | I12: 20 | J12: 20 | K12: 5 | L12: =K12-(SUM(N12:Y12)) -> 5 | M12: =IF(L12<0,"ATENÇÃO","OK") -> OK | N12: 0 | O12: 0 | P12: 0 | Q12: 0 | R12: 0 | S12: 0 | T12: 0 | U12: 0 | V12: 0 | W12: 0 | X12: 0 | Y12: 0
C13: 10 | D13: Higienização c/lixas, guilhotinagem, borracha de maciez, etc | E13: 33.90.39.63 | G13: Unidade | I13: 20 | J13: 5 | K13: 15 | L13: =K13-(SUM(N13:Y13)) -> 15 | M13: =IF(L13<0,"ATENÇÃO","OK") -> OK | N13: 0 | O13: 0 | P13: 0 | Q13: 0 | R13: 0 | S13: 0 | T13: 0 | U13: 0 | V13: 0 | W13: 0 | X13: 0 | Y13: 0
C14: 11 | D14: Enxerto de folhas xerocadas | E14: 33.90.39.63 | G14: por folha | I14: 20 | J14: 0.5 | K14: 50 | L14: =K14-(SUM(N14:Y14)) -> 50 | M14: =IF(L14<0,"ATENÇÃO","OK") -> OK | N14: 0 | O14: 0 | P14: 0 | Q14: 0 | R14: 0 | S14: 0 | T14: 0 | U14: 0 | V14: 0 | W14: 0 | X14: 0 | Y14: 0
C15: 12 | D15: Restauração a úmido c/papel especial | E15: 33.90.39.63 | G15: por folha | I15: 20 | J15: 0.5 | K15: 30 | L15: =K15-(SUM(N15:Y15)) -> 30 | M15: =IF(L15<0,"ATENÇÃO","OK") -> OK | N15: 0 | O15: 0 | P15: 0 | Q15: 0 | R15: 0 | S15: 0 | T15: 0 | U15: 0 | V15: 0 | W15: 0 | X15: 0 | Y15: 0
C16: 13 | D16: Aplicação de carcelas | E16: 33.90.39.63 | G16: por folha | I16: 20 | J16: 0.25 | K16: 50 | L16: =K16-(SUM(N16:Y16)) -> 50 | M16: =IF(L16<0,"ATENÇÃO","OK") -> OK | N16: 0 | O16: 0 | P16: 0 | Q16: 0 | R16: 0 | S16: 0 | T16: 0 | U16: 0 | V16: 0 | W16: 0 | X16: 0 | Y16: 0
C17: 14 | D17: Remoção de fita adesiva | E17: 33.90.39.63 | G17: metro linear | I17: 20 | J17: 0.5 | K17: 20 | L17: =K17-(SUM(N17:Y17)) -> 20 | M17: =IF(L17<0,"ATENÇÃO","OK") -> OK | N17: 0 | O17: 0 | P17: 0 | Q17: 0 | R17: 0 | S17: 0 | T17: 0 | U17: 0 | V17: 0 | W17: 0 | X17: 0 | Y17: 0
B18: 2 | C18: 15 | D18: Restauração, encadernação e higienização de obras raras e/ou documentos históricos | E18: 33.90.39.63 | G18: Unidade | I18: 20 | J18: 12 | K18: 0 | L18: =K18-(SUM(N18:Y18)) -> 0 | M18: =IF(L18<0,"ATENÇÃO","OK") -> OK | N18: 0 | O18: 0 | P18: 0 | Q18: 0 | R18: 0 | S18: 0 | T18: 0 | U18: 0 | V18: 0 | W18: 0 | X18: 0 | Y18: 0
B19: 3 | C19: 16 | D19: Confecção de embalagens para os livros (caixa em papel triplex” de 300 g, composto de uma camada de uma espécie de papelão revestido de papel alcalino (frente e verso). | E19: 33.90.39.63 | G19: Pequeno* | I19: 20 | J19: 4.8 | K19: 0 | L19: =K19-(SUM(N19:Y19)) -> 0 | M19: =IF(L19<0,"ATENÇÃO","OK") -> OK | N19: 0 | O19: 0 | P19: 0 | Q19: 0 | R19: 0 | S19: 0 | T19: 0 | U19: 0 | V19: 0 | W19: 0 | X19: 0 | Y19: 0
A20: A4 DIGITAL PRINT LTDA EPP | B20: 4 | C20: 17 | D20: Digitalização de monografias - Fornecimento de cópia das obras em formato digital (PDF A – OCR) -Três cópias em DVD | E20: 33.90.39.63 | G20: Folha 30X20 | I20: 20 | J20: 0.18 | K20: 0 | L20: =K20-(SUM(N20:Y20)) -> 0 | M20: =IF(L20<0,"ATENÇÃO","OK") -> OK | N20: 0 | O20: 0 | P20: 0 | Q20: 0 | R20: 0 | S20: 0 | T20: 0 | U20: 0 | V20: 0 | W20: 0 | X20: 0 | Y20: 0
C21: 18 | D21: Digitalização de Livros - Fornecimento de cópia das obras em formato digital (PDF A – OCR). Três cópias em DVD | E21: 33.90.39.63 | G21: Folha Pequena* | I21: 20 | J21: 0.21 | K21: 0 | L21: =K21-(SUM(N21:Y21)) -> 0 | M21: =IF(L21<0,"ATENÇÃO","OK") -> OK | N21: 0 | O21: 0 | P21: 0 | Q21: 0 | R21: 0 | S21: 0 | T21: 0 | U21: 0 | V21: 0 | W21: 0 | X21: 0 | Y21: 0
C22: 19 | E22: 33.90.39.63 | G22: Folha Média* | I22: 20 | J22: 0.21 | K22: 0 | L22: =K22-(SUM(N22:Y22)) -> 0 | M22: =IF(L22<0,"ATENÇÃO","OK") -> OK | N22: 0 | O22: 0 | P22: 0 | Q22: 0 | R22: 0 | S22: 0 | T22: 0 | U22: 0 | V22: 0 | W22: 0 | X22: 0 | Y22: 0
C23: 20 | D23: Digitalização de Mapas - Fornecimento de cópia de mapas em formato digital (PDF A – OCR e JPG). - Três cópias em DVD | E23: 33.90.39.63 | G23: Folha Até A4 | I23: 20 | J23: 0.37 | K23: 0 | L23: =K23-(SUM(N23:Y23)) -> 0 | M23: =IF(L23<0,"ATENÇÃO","OK") -> OK | N23: 0 | O23: 0 | P23: 0 | Q23: 0 | R23: 0 | S23: 0 | T23: 0 | U23: 0 | V23: 0 | W23: 0 | X23: 0 | Y23: 0
C24: 21 | E24: 33.90.39.63 | G24: Folha Até A3** | I24: 20 | J24: 0.38 | K24: 0 | L24: =K24-(SUM(N24:Y24)) -> 0 | M24: =IF(L24<0,"ATENÇÃO","OK") -> OK | N24: 0 | O24: 0 | P24: 0 | Q24: 0 | R24: 0 | S24: 0 | T24: 0 | U24: 0 | V24: 0 | W24: 0 | X24: 0 | Y24: 0
C25: 22 | E25: 33.90.39.63 | G25: Folha Até A2** | I25: 20 | J25: 1.8 | K25: 0 | L25: =K25-(SUM(N25:Y25)) -> 0 | M25: =IF(L25<0,"ATENÇÃO","OK") -> OK | N25: 0 | O25: 0 | P25: 0 | Q25: 0 | R25: 0 | S25: 0 | T25: 0 | U25: 0 | V25: 0 | W25: 0 | X25: 0 | Y25: 0
C26: 23 | E26: 33.90.39.63 | G26: Folha Até A1** | I26: 20 | J26: 3 | K26: 0 | L26: =K26-(SUM(N26:Y26)) -> 0 | M26: =IF(L26<0,"ATENÇÃO","OK") -> OK | N26: 0 | O26: 0 | P26: 0 | Q26: 0 | R26: 0 | S26: 0 | T26: 0 | U26: 0 | V26: 0 | W26: 0 | X26: 0 | Y26: 0
C27: 24 | E27: 33.90.39.63 | G27: Folha Até A0** | I27: 20 | J27: 4.6 | K27: 0 | L27: =K27-(SUM(N27:Y27)) -> 0 | M27: =IF(L27<0,"ATENÇÃO","OK") -> OK | N27: 0 | O27: 0 | P27: 0 | Q27: 0 | R27: 0 | S27: 0 | T27: 0 | U27: 0 | V27: 0 | W27: 0 | X27: 0 | Y27: 0
C28: 25 | E28: 33.90.39.63 | G28: Folha Acima de A0** | I28: 20 | J28: 5 | K28: 0 | L28: =K28-(SUM(N28:Y28)) -> 0 | M28: =IF(L28<0,"ATENÇÃO","OK") -> OK | N28: 0 | O28: 0 | P28: 0 | Q28: 0 | R28: 0 | S28: 0 | T28: 0 | U28: 0 | V28: 0 | W28: 0 | X28: 0 | Y28: 0
C29: 26 | D29: Digitalização de jornais - Fornecimento de cópia de jornais em formato digital (PDF A – OCR e JPG). - Três cópias em DVD | E29: 33.90.39.63 | G29: Folha Até A3** | I29: 20 | J29: 0.27 | K29: 0 | L29: =K29-(SUM(N29:Y29)) -> 0 | M29: =IF(L29<0,"ATENÇÃO","OK") -> OK | N29: 0 | O29: 0 | P29: 0 | Q29: 0 | R29: 0 | S29: 0 | T29: 0 | U29: 0 | V29: 0 | W29: 0 | X29: 0 | Y29: 0
C30: 27 | E30: 33.90.39.63 | G30: Folha Acima de A0** | I30: 20 | J30: 4.6 | K30: 0 | L30: =K30-(SUM(N30:Y30)) -> 0 | M30: =IF(L30<0,"ATENÇÃO","OK") -> OK | N30: 0 | O30: 0 | P30: 0 | Q30: 0 | R30: 0 | S30: 0 | T30: 0 | U30: 0 | V30: 0 | W30: 0 | X30: 0 | Y30: 0
C32: *Obras: Pequena até A4 (210 x 297 mm), Média até A3 (297 x 420 mm ), Grande acima de A3 (297 x 420 mm)
C33: **Mapas e jornais: Até A4 ( 210 x 297 mm), Até A3 (297 x 420 mm ), Até A2 (420 x 594). Até A1 (594 x 840 mm), Até A0 (840 x 1.188 mm), Acima de A0 (Aicma de 1.188 mm)

Sheet CEART
A1: PROCESSO: 0619/2014/UDESC | D1: OBJETO: Serviços de Encadernação, Restauração e Digitalização de acervos das Bibliotecas da UDESC | K1: VIGÊNCIA DA ATA: 16/06/2014 até 16/06/2015 | N1: OS 1417/2014 | O1: AF/OS nº xxxx/2014 Qtde. DT | P1: AF/OS nº xxxx/2014 Qtde. DT | Q1: AF/OS nº xxxx/2014 Qtde. DT | R1: AF/OS nº xxxx/2014 Qtde. DT | S1: AF/OS nº xxxx/2014 Qtde. DT | T1: AF/OS nº xxxx/2014 Qtde. DT | U1: AF/OS nº xxxx/2014 Qtde. DT | V1: AF/OS nº xxxx/2014 Qtde. DT | W1: AF/OS nº xxxx/2014 Qtde. DT | X1: AF/OS nº xxxx/2014 Qtde. DT | Y1: AF/OS nº xxxx/2014 Qtde. DT
A2: CENTRO PARTICIPANTE: CEART
A3: FORNECEDOR | B3: LOTE | C3: ITEM | D3: PRODUTO - CARACTERÍSTICAS MÍNIMAS | E3: ELEMENTO | F3: MARCA | G3: UNIDADE | H3: Entrega (Dias) | I3: Pagto. (Dias) | J3: Preço UNITÁRIO (R$) | K3: Qtde LICITADA | L3: Saldo / Automático | M3: ALERTA | N3: 41915 | O3: ...../...../...... | P3: ...../...../...... | Q3: ...../...../...... | R3: ...../...../...... | S3: ...../...../...... | T3: ...../...../...... | U3: ...../...../...... | V3: ...../...../...... | W3: ...../...../...... | X3: ...../...../...... | Y3: ...../...../......
A4: IDEAL ENCADERNAÇÕES LTDA ME | B4: 1 | C4: 1 | D4: Recuperação de capa dura com: costura simples, colagem, cantoneiras e lombadas e colocação de guardas novas | E4: 33.90.39.63 | G4: Pequeno* | I4: 20 | J4: 17 | K4: 25 | L4: =K4-(SUM(N4:Y4)) -> 12 | M4: =IF(L4<0,"ATENÇÃO","OK") -> OK | N4: 13 | O4: 0 | P4: 0 | Q4: 0 | R4: 0 | S4: 0 | T4: 0 | U4: 0 | V4: 0 | W4: 0 | X4: 0 | Y4: 0
C5: 2 | E5: 33.90.39.63 | G5: Médio* | I5: 20 | J5: 17 | K5: 30 | L5: =K5-(SUM(N5:Y5)) -> 15 | M5: =IF(L5<0,"ATENÇÃO","OK") -> OK | N5: 15 | O5: 0 | P5: 0 | Q5: 0 | R5: 0 | S5: 0 | T5: 0 | U5: 0 | V5: 0 | W5: 0 | X5: 0 | Y5: 0
C6: 3 | E6: 33.90.39.63 | G6: Grande* | I6: 20 | J6: 17 | K6: 15 | L6: =K6-(SUM(N6:Y6)) -> 7 | M6: =IF(L6<0,"ATENÇÃO","OK") -> OK | N6: 8 | O6: 0 | P6: 0 | Q6: 0 | R6: 0 | S6: 0 | T6: 0 | U6: 0 | V6: 0 | W6: 0 | X6: 0 | Y6: 0
C7: 4 | D7: Colocação e recuperação de capa brochura com costura, colagens e guardas | E7: 33.90.39.63 | G7: Pequeno* | I7: 20 | J7: 9 | K7: 20 | L7: =K7-(SUM(N7:Y7)) -> 10 | M7: =IF(L7<0,"ATENÇÃO","OK") -> OK | N7: 10 | O7: 0 | P7: 0 | Q7: 0 | R7: 0 | S7: 0 | T7: 0 | U7: 0 | V7: 0 | W7: 0 | X7: 0 | Y7: 0
C8: 5 | E8: 33.90.39.63 | G8: Médio* | I8: 20 | J8: 9.5 | K8: 50 | L8: =K8-(SUM(N8:Y8)) -> 25 | M8: =IF(L8<0,"ATENÇÃO","OK") -> OK | N8: 25 | O8: 0 | P8: 0 | Q8: 0 | R8: 0 | S8: 0 | T8: 0 | U8: 0 | V8: 0 | W8: 0 | X8: 0 | Y8: 0
C9: 6 | E9: 33.90.39.63 | G9: Grande* | I9: 20 | J9: 10 | K9: 15 | L9: =K9-(SUM(N9:Y9)) -> 7 | M9: =IF(L9<0,"ATENÇÃO","OK") -> OK | N9: 8 | O9: 0 | P9: 0 | Q9: 0 | R9: 0 | S9: 0 | T9: 0 | U9: 0 | V9: 0 | W9: 0 | X9: 0 | Y9: 0
C10: 7 | D10: Confecção e colocação de capa dura completa com costura interna, colagem e guardas | E10: 33.90.39.63 | G10: Pequeno* | I10: 20 | J10: 20 | K10: 20 | L10: =K10-(SUM(N10:Y10)) -> 10 | M10: =IF(L10<0,"ATENÇÃO","OK") -> OK | N10: 10 | O10: 0 | P10: 0 | Q10: 0 | R10: 0 | S10: 0 | T10: 0 | U10: 0 | V10: 0 | W10: 0 | X10: 0 | Y10: 0
C11: 8 | E11: 33.90.39.63 | G11: Médio* | I11: 20 | J11: 20 | K11: 20 | L11: =K11-(SUM(N11:Y11)) -> 10 | M11: =IF(L11<0,"ATENÇÃO","OK") -> OK | N11: 10 | O11: 0 | P11: 0 | Q11: 0 | R11: 0 | S11: 0 | T11: 0 | U11: 0 | V11: 0 | W11: 0 | X11: 0 | Y11: 0
C12: 9 | E12: 33.90.39.63 | G12: Grande* | I12: 20 | J12: 20 | K12: 10 | L12: =K12-(SUM(N12:Y12)) -> 5 | M12: =IF(L12<0,"ATENÇÃO","OK") -> OK | N12: 5 | O12: 0 | P12: 0 | Q12: 0 | R12: 0 | S12: 0 | T12: 0 | U12: 0 | V12: 0 | W12: 0 | X12: 0 | Y12: 0
C13: 10 | D13: Higienização c/lixas, guilhotinagem, borracha de maciez, etc | E13: 33.90.39.63 | G13: Unidade | I13: 20 | J13: 5 | K13: 15 | L13: =K13-(SUM(N13:Y13)) -> 7 | M13: =IF(L13<0,"ATENÇÃO","OK") -> OK | N13: 8 | O13: 0 | P13: 0 | Q13: 0 | R13: 0 | S13: 0 | T13: 0 | U13: 0 | V13: 0 | W13: 0 | X13: 0 | Y13: 0
C14: 11 | D14: Enxerto de folhas xerocadas | E14: 33.90.39.63 | G14: por folha | I14: 20 | J14: 0.5 | K14: 70 | L14: =K14-(SUM(N14:Y14)) -> 35 | M14: =IF(L14<0,"ATENÇÃO","OK") -> OK | N14: 35 | O14: 0 | P14: 0 | Q14: 0 | R14: 0 | S14: 0 | T14: 0 | U14: 0 | V14: 0 | W14: 0 | X14: 0 | Y14: 0
C15: 12 | D15: Restauração a úmido c/papel especial | E15: 33.90.39.63 | G15: por folha | I15: 20 | J15: 0.5 | K15: 30 | L15: =K15-(SUM(N15:Y15)) -> 15 | M15: =IF(L15<0,"ATENÇÃO","OK") -> OK | N15: 15 | O15: 0 | P15: 0 | Q15: 0 | R15: 0 | S15: 0 | T15: 0 | U15: 0 | V15: 0 | W15: 0 | X15: 0 | Y15: 0
C16: 13 | D16: Aplicação de carcelas | E16: 33.90.39.63 | G16: por folha | I16: 20 | J16: 0.25 | K16: 80 | L16: =K16-(SUM(N16:Y16)) -> 40 | M16: =IF(L16<0,"ATENÇÃO","OK") -> OK | N16: 40 | O16: 0 | P16: 0 | Q16: 0 | R16: 0 | S16: 0 | T16: 0 | U16: 0 | V16: 0 | W16: 0 | X16: 0 | Y16: 0
C17: 14 | D17: Remoção de fita adesiva | E17: 33.90.39.63 | G17: metro linear | I17: 20 | J17: 0.5 | K17: 60 | L17: =K17-(SUM(N17:Y17)) -> 30 | M17: =IF(L17<0,"ATENÇÃO","OK") -> OK | N17: 30 | O17: 0 | P17: 0 | Q17: 0 | R17: 0 | S17: 0 | T17: 0 | U17: 0 | V17: 0 | W17: 0 | X17: 0 | Y17: 0
B18: 2 | C18: 15 | D18: Restauração, encadernação e higienização de obras raras e/ou documentos históricos | E18: 33.90.39.63 | G18: Unidade | I18: 20 | J18: 12 | K18: 0 | L18: =K18-(SUM(N18:Y18)) -> 0 | M18: =IF(L18<0,"ATENÇÃO","OK") -> OK | N18: 0 | O18: 0 | P18: 0 | Q18: 0 | R18: 0 | S18: 0 | T18: 0 | U18: 0 | V18: 0 | W18: 0 | X18: 0 | Y18: 0
B19: 3 | C19: 16 | D19: Confecção de embalagens para os livros (caixa em papel triplex” de 300 g, composto de uma camada de uma espécie de papelão revestido de papel alcalino (frente e verso). | E19: 33.90.39.63 | G19: Pequeno* | I19: 20 | J19: 4.8 | K19: 0 | L19: =K19-(SUM(N19:Y19)) -> 0 | M19: =IF(L19<0,"ATENÇÃO","OK") -> OK | N19: 0 | O19: 0 | P19: 0 | Q19: 0 | R19: 0 | S19: 0 | T19: 0 | U19: 0 | V19: 0 | W19: 0 | X19: 0 | Y19: 0
A20: A4 DIGITAL PRINT LTDA EPP | B20: 4 | C20: 17 | D20: Digitalização de monografias - Fornecimento de cópia das obras em formato digital (PDF A – OCR) -Três cópias em DVD | E20: 33.90.39.63 | G20: Folha 30X20 | I20: 20 | J20: 0.18 | K20: 0 | L20: =K20-(SUM(N20:Y20)) -> 0 | M20: =IF(L20<0,"ATENÇÃO","OK") -> OK | N20: 0 | O20: 0 | P20: 0 | Q20: 0 | R20: 0 | S20: 0 | T20: 0 | U20: 0 | V20: 0 | W20: 0 | X20: 0 | Y20: 0
C21: 18 | D21: Digitalização de Livros - Fornecimento de cópia das obras em formato digital (PDF A – OCR). Três cópias em DVD | E21: 33.90.39.63 | G21: Folha Pequena* | I21: 20 | J21: 0.21 | K21: 0 | L21: =K21-(SUM(N21:Y21)) -> 0 | M21: =IF(L21<0,"ATENÇÃO","OK") -> OK | N21: 0 | O21: 0 | P21: 0 | Q21: 0 | R21: 0 | S21: 0 | T21: 0 | U21: 0 | V21: 0 | W21: 0 | X21: 0 | Y21: 0
C22: 19 | E22: 33.90.39.63 | G22: Folha Média* | I22: 20 | J22: 0.21 | K22: 0 | L22: =K22-(SUM(N22:Y22)) -> 0 | M22: =IF(L22<0,"ATENÇÃO","OK") -> OK | N22: 0 | O22: 0 | P22: 0 | Q22: 0 | R22: 0 | S22: 0 | T22: 0 | U22: 0 | V22: 0 | W22: 0 | X22: 0 | Y22: 0
C23: 20 | D23: Digitalização de Mapas - Fornecimento de cópia de mapas em formato digital (PDF A – OCR e JPG). - Três cópias em DVD | E23: 33.90.39.63 | G23: Folha Até A4 | I23: 20 | J23: 0.37 | K23: 0 | L23: =K23-(SUM(N23:Y23)) -> 0 | M23: =IF(L23<0,"ATENÇÃO","OK") -> OK | N23: 0 | O23: 0 | P23: 0 | Q23: 0 | R23: 0 | S23: 0 | T23: 0 | U23: 0 | V23: 0 | W23: 0 | X23: 0 | Y23: 0
C24: 21 | E24: 33.90.39.63 | G24: Folha Até A3** | I24: 20 | J24: 0.38 | K24: 0 | L24: =K24-(SUM(N24:Y24)) -> 0 | M24: =IF(L24<0,"ATENÇÃO","OK") -> OK | N24: 0 | O24: 0 | P24: 0 | Q24: 0 | R24: 0 | S24: 0 | T24: 0 | U24: 0 | V24: 0 | W24: 0 | X24: 0 | Y24: 0
C25: 22 | E25: 33.90.39.63 | G25: Folha Até A2** | I25: 20 | J25: 1.8 | K25: 0 | L25: =K25-(SUM(N25:Y25)) -> 0 | M25: =IF(L25<0,"ATENÇÃO","OK") -> OK | N25: 0 | O25: 0 | P25: 0 | Q25: 0 | R25: 0 | S25: 0 | T25: 0 | U25: 0 | V25: 0 | W25: 0 | X25: 0 | Y25: 0
C26: 23 | E26: 33.90.39.63 | G26: Folha Até A1** | I26: 20 | J26: 3 | K26: 0 | L26: =K26-(SUM(N26:Y26)) -> 0 | M26: =IF(L26<0,"ATENÇÃO","OK") -> OK | N26: 0 | O26: 0 | P26: 0 | Q26: 0 | R26: 0 | S26: 0 | T26: 0 | U26: 0 | V26: 0 | W26: 0 | X26: 0 | Y26: 0
C27: 24 | E27: 33.90.39.63 | G27: Folha Até A0** | I27: 20 | J27: 4.6 | K27: 0 | L27: =K27-(SUM(N27:Y27)) -> 0 | M27: =IF(L27<0,"ATENÇÃO","OK") -> OK | N27: 0 | O27: 0 | P27: 0 | Q27: 0 | R27: 0 | S27: 0 | T27: 0 | U27: 0 | V27: 0 | W27: 0 | X27: 0 | Y27: 0
C28: 25 | E28: 33.90.39.63 | G28: Folha Acima de A0** | I28: 20 | J28: 5 | K28: 0 | L28: =K28-(SUM(N28:Y28)) -> 0 | M28: =IF(L28<0,"ATENÇÃO","OK") -> OK | N28: 0 | O28: 0 | P28: 0 | Q28: 0 | R28: 0 | S28: 0 | T28: 0 | U28: 0 | V28: 0 | W28: 0 | X28: 0 | Y28: 0
C29: 26 | D29: Digitalização de jornais - Fornecimento de cópia de jornais em formato digital (PDF A – OCR e JPG). - Três cópias em DVD | E29: 33.90.39.63 | G29: Folha Até A3** | I29: 20 | J29: 0.27 | K29: 0 | L29: =K29-(SUM(N29:Y29)) -> 0 | M29: =IF(L29<0,"ATENÇÃO","OK") -> OK | N29: 0 | O29: 0 | P29: 0 | Q29: 0 | R29: 0 | S29: 0 | T29: 0 | U29: 0 | V29: 0 | W29: 0 | X29: 0 | Y29: 0
C30: 27 | E30: 33.90.39.63 | G30: Folha Acima de A0** | I30: 20 | J30: 4.6 | K30: 0 | L30: =K30-(SUM(N30:Y30)) -> 0 | M30: =IF(L30<0,"ATENÇÃO","OK") -> OK | N30: 0 | O30: 0 | P30: 0 | Q30: 0 | R30: 0 | S30: 0 | T30: 0 | U30: 0 | V30: 0 | W30: 0 | X30: 0 | Y30: 0
C32: *Obras: Pequena até A4 (210 x 297 mm), Média até A3 (297 x 420 mm ), Grande acima de A3 (297 x 420 mm)
C33: **Mapas e jornais: Até A4 ( 210 x 297 mm), Até A3 (297 x 420 mm ), Até A2 (420 x 594). Até A1 (594 x 840 mm), Até A0 (840 x 1.188 mm), Acima de A0 (Aicma de 1.188 mm)

Sheet CEFID
A1: PROCESSO: 0619/2014/UDESC | D1: OBJETO: Serviços de Encadernação, Restauração e Digitalização de acervos das Bibliotecas da UDESC | K1: VIGÊNCIA DA ATA: 16/06/2014 até 16/06/2015 | N1: AF/OS nº 1215/2014 Qtde. DT | O1: AF/OS nº xxxx/2014 Qtde. DT | P1: AF/OS nº xxxx/2014 Qtde. DT | Q1: AF/OS nº xxxx/2014 Qtde. DT | R1: AF/OS nº xxxx/2014 Qtde. DT | S1: AF/OS nº xxxx/2014 Qtde. DT | T1: AF/OS nº xxxx/2014 Qtde. DT | U1: AF/OS nº xxxx/2014 Qtde. DT | V1: AF/OS nº xxxx/2014 Qtde. DT | W1: AF/OS nº xxxx/2014 Qtde. DT | X1: AF/OS nº xxxx/2014 Qtde. DT | Y1: AF/OS nº xxxx/2014 Qtde. DT
A2: CENTRO PARTICIPANTE: CEFID
A3: FORNECEDOR | B3: LOTE | C3: ITEM | D3: PRODUTO - CARACTERÍSTICAS MÍNIMAS | E3: ELEMENTO | F3: MARCA | G3: UNIDADE | H3: Entrega (Dias) | I3: Pagto. (Dias) | J3: Preço UNITÁRIO (R$) | K3: Qtde LICITADA | L3: Saldo / Automático | M3: ALERTA | N3: 41891 | O3: ...../...../...... | P3: ...../...../...... | Q3: ...../...../...... | R3: ...../...../...... | S3: ...../...../...... | T3: ...../...../...... | U3: ...../...../...... | V3: ...../...../...... | W3: ...../...../...... | X3: ...../...../...... | Y3: ...../...../......
A4: IDEAL ENCADERNAÇÕES LTDA ME | B4: 1 | C4: 1 | D4: Recuperação de capa dura com: costura simples, colagem, cantoneiras e lombadas e colocação de guardas novas | E4: 33.90.39.63 | G4: Pequeno* | I4: 20 | J4: 17 | K4: 30 | L4: =K4-(SUM(N4:Y4)) -> 15 | M4: =IF(L4<0,"ATENÇÃO","OK") -> OK | N4: 15 | O4: 0 | P4: 0 | Q4: 0 | R4: 0 | S4: 0 | T4: 0 | U4: 0 | V4: 0 | W4: 0 | X4: 0 | Y4: 0
C5: 2 | E5: 33.90.39.63 | G5: Médio* | I5: 20 | J5: 17 | K5: 50 | L5: =K5-(SUM(N5:Y5)) -> 25 | M5: =IF(L5<0,"ATENÇÃO","OK") -> OK | N5: 25 | O5: 0 | P5: 0 | Q5: 0 | R5: 0 | S5: 0 | T5: 0 | U5: 0 | V5: 0 | W5: 0 | X5: 0 | Y5: 0
C6: 3 | E6: 33.90.39.63 | G6: Grande* | I6: 20 | J6: 17 | K6: 50 | L6: =K6-(SUM(N6:Y6)) -> 25 | M6: =IF(L6<0,"ATENÇÃO","OK") -> OK | N6: 25 | O6: 0 | P6: 0 | Q6: 0 | R6: 0 | S6: 0 | T6: 0 | U6: 0 | V6: 0 | W6: 0 | X6: 0 | Y6: 0
C7: 4 | D7: Colocação e recuperação de capa brochura com costura, colagens e guardas | E7: 33.90.39.63 | G7: Pequeno* | I7: 20 | J7: 9 | K7: 30 | L7: =K7-(SUM(N7:Y7)) -> 15 | M7: =IF(L7<0,"ATENÇÃO","OK") -> OK | N7: 15 | O7: 0 | P7: 0 | Q7: 0 | R7: 0 | S7: 0 | T7: 0 | U7: 0 | V7: 0 | W7: 0 | X7: 0 | Y7: 0
C8: 5 | E8: 33.90.39.63 | G8: Médio* | I8: 20 | J8: 9.5 | K8: 30 | L8: =K8-(SUM(N8:Y8)) -> 15 | M8: =IF(L8<0,"ATENÇÃO","OK") -> OK | N8: 15 | O8: 0 | P8: 0 | Q8: 0 | R8: 0 | S8: 0 | T8: 0 | U8: 0 | V8: 0 | W8: 0 | X8: 0 | Y8: 0
C9: 6 | E9: 33.90.39.63 | G9: Grande* | I9: 20 | J9: 10 | K9: 20 | L9: =K9-(SUM(N9:Y9)) -> 10 | M9: =IF(L9<0,"ATENÇÃO","OK") -> OK | N9: 10 | O9: 0 | P9: 0 | Q9: 0 | R9: 0 | S9: 0 | T9: 0 | U9: 0 | V9: 0 | W9: 0 | X9: 0 | Y9: 0
C10: 7 | D10: Confecção e colocação de capa dura completa com costura interna, colagem e guardas | E10: 33.90.39.63 | G10: Pequeno* | I10: 20 | J10: 20 | K10: 30 | L10: =K10-(SUM(N10:Y10)) -> 15 | M10: =IF(L10<0,"ATENÇÃO","OK") -> OK | N10: 15 | O10: 0 | P10: 0 | Q10: 0 | R10: 0 | S10: 0 | T10: 0 | U10: 0 | V10: 0 | W10: 0 | X10: 0 | Y10: 0
C11: 8 | E11: 33.90.39.63 | G11: Médio* | I11: 20 | J11: 20 | K11: 25 | L11: =K11-(SUM(N11:Y11)) -> 10 | M11: =IF(L11<0,"ATENÇÃO","OK") -> OK | N11: 15 | O11: 0 | P11: 0 | Q11: 0 | R11: 0 | S11: 0 | T11: 0 | U11: 0 | V11: 0 | W11: 0 | X11: 0 | Y11: 0
C12: 9 | E12: 33.90.39.63 | G12: Grande* | I12: 20 | J12: 20 | K12: 50 | L12: =K12-(SUM(N12:Y12)) -> 25 | M12: =IF(L12<0,"ATENÇÃO","OK") -> OK | N12: 25 | O12: 0 | P12: 0 | Q12: 0 | R12: 0 | S12: 0 | T12: 0 | U12: 0 | V12: 0 | W12: 0 | X12: 0 | Y12: 0
C13: 10 | D13: Higienização c/lixas, guilhotinagem, borracha de maciez, etc | E13: 33.90.39.63 | G13: Unidade | I13: 20 | J13: 5 | K13: 25 | L13: =K13-(SUM(N13:Y13)) -> 10 | M13: =IF(L13<0,"ATENÇÃO","OK") -> OK | N13: 15 | O13: 0 | P13: 0 | Q13: 0 | R13: 0 | S13: 0 | T13: 0 | U13: 0 | V13: 0 | W13: 0 | X13: 0 | Y13: 0
C14: 11 | D14: Enxerto de folhas xerocadas | E14: 33.90.39.63 | G14: por folha | I14: 20 | J14: 0.5 | K14: 60 | L14: =K14-(SUM(N14:Y14)) -> 30 | M14: =IF(L14<0,"ATENÇÃO","OK") -> OK | N14: 30 | O14: 0 | P14: 0 | Q14: 0 | R14: 0 | S14: 0 | T14: 0 | U14: 0 | V14: 0 | W14: 0 | X14: 0 | Y14: 0
C15: 12 | D15: Restauração a úmido c/papel especial | E15: 33.90.39.63 | G15: por folha | I15: 20 | J15: 0.5 | K15: 50 | L15: =K15-(SUM(N15:Y15)) -> 25 | M15: =IF(L15<0,"ATENÇÃO","OK") -> OK | N15: 25 | O15: 0 | P15: 0 | Q15: 0 | R15: 0 | S15: 0 | T15: 0 | U15: 0 | V15: 0 | W15: 0 | X15: 0 | Y15: 0
C16: 13 | D16: Aplicação de carcelas | E16: 33.90.39.63 | G16: por folha | I16: 20 | J16: 0.25 | K16: 100 | L16: =K16-(SUM(N16:Y16)) -> 50 | M16: =IF(L16<0,"ATENÇÃO","OK") -> OK | N16: 50 | O16: 0 | P16: 0 | Q16: 0 | R16: 0 | S16: 0 | T16: 0 | U16: 0 | V16: 0 | W16: 0 | X16: 0 | Y16: 0
C17: 14 | D17: Remoção de fita adesiva | E17: 33.90.39.63 | G17: metro linear | I17: 20 | J17: 0.5 | K17: 50 | L17: =K17-(SUM(N17:Y17)) -> 25 | M17: =IF(L17<0,"ATENÇÃO","OK") -> OK | N17: 25 | O17: 0 | P17: 0 | Q17: 0 | R17: 0 | S17: 0 | T17: 0 | U17: 0 | V17: 0 | W17: 0 | X17: 0 | Y17: 0
B18: 2 | C18: 15 | D18: Restauração, encadernação e higienização de obras raras e/ou documentos históricos | E18: 33.90.39.63 | G18: Unidade | I18: 20 | J18: 12 | K18: 0 | L18: =K18-(SUM(N18:Y18)) -> 0 | M18: =IF(L18<0,"ATENÇÃO","OK") -> OK | N18: 0 | O18: 0 | P18: 0 | Q18: 0 | R18: 0 | S18: 0 | T18: 0 | U18: 0 | V18: 0 | W18: 0 | X18: 0 | Y18: 0
B19: 3 | C19: 16 | D19: Confecção de embalagens para os livros (caixa em papel triplex” de 300 g, composto de uma camada de uma espécie de papelão revestido de papel alcalino (frente e verso). | E19: 33.90.39.63 | G19: Pequeno* | I19: 20 | J19: 4.8 | K19: 0 | L19: =K19-(SUM(N19:Y19)) -> 0 | M19: =IF(L19<0,"ATENÇÃO","OK") -> OK | N19: 0 | O19: 0 | P19: 0 | Q19: 0 | R19: 0 | S19: 0 | T19: 0 | U19: 0 | V19: 0 | W19: 0 | X19: 0 | Y19: 0
A20: A4 DIGITAL PRINT LTDA EPP | B20: 4 | C20: 17 | D20: Digitalização de monografias - Fornecimento de cópia das obras em formato digital (PDF A – OCR) -Três cópias em DVD | E20: 33.90.39.63 | G20: Folha 30X20 | I20: 20 | J20: 0.18 | K20: 0 | L20: =K20-(SUM(N20:Y20)) -> 0 | M20: =IF(L20<0,"ATENÇÃO","OK") -> OK | N20: 0 | O20: 0 | P20: 0 | Q20: 0 | R20: 0 | S20: 0 | T20: 0 | U20: 0 | V20: 0 | W20: 0 | X20: 0 | Y20: 0
C21: 18 | D21: Digitalização de Livros - Fornecimento de cópia das obras em formato digital (PDF A – OCR). Três cópias em DVD | E21: 33.90.39.63 | G21: Folha Pequena* | I21: 20 | J21: 0.21 | K21: 0 | L21: =K21-(SUM(N21:Y21)) -> 0 | M21: =IF(L21<0,"ATENÇÃO","OK") -> OK | N21: 0 | O21: 0 | P21: 0 | Q21: 0 | R21: 0 | S21: 0 | T21: 0 | U21: 0 | V21: 0 | W21: 0 | X21: 0 | Y21: 0
C22: 19 | E22: 33.90.39.63 | G22: Folha Média* | I22: 20 | J22: 0.21 | K22: 0 | L22: =K22-(SUM(N22:Y22)) -> 0 | M22: =IF(L22<0,"ATENÇÃO","OK") -> OK | N22: 0 | O22: 0 | P22: 0 | Q22: 0 | R22: 0 | S22: 0 | T22: 0 | U22: 0 | V22: 0 | W22: 0 | X22: 0 | Y22: 0
C23: 20 | D23: Digitalização de Mapas - Fornecimento de cópia de mapas em formato digital (PDF A – OCR e JPG). - Três cópias em DVD | E23: 33.90.39.63 | G23: Folha Até A4 | I23: 20 | J23: 0.37 | K23: 0 | L23: =K23-(SUM(N23:Y23)) -> 0 | M23: =IF(L23<0,"ATENÇÃO","OK") -> OK | N23: 0 | O23: 0 | P23: 0 | Q23: 0 | R23: 0 | S23: 0 | T23: 0 | U23: 0 | V23: 0 | W23: 0 | X23: 0 | Y23: 0
C24: 21 | E24: 33.90.39.63 | G24: Folha Até A3** | I24: 20 | J24: 0.38 | K24: 0 | L24: =K24-(SUM(N24:Y24)) -> 0 | M24: =IF(L24<0,"ATENÇÃO","OK") -> OK | N24: 0 | O24: 0 | P24: 0 | Q24: 0 | R24: 0 | S24: 0 | T24: 0 | U24: 0 | V24: 0 | W24: 0 | X24: 0 | Y24: 0
C25: 22 | E25: 33.90.39.63 | G25: Folha Até A2** | I25: 20 | J25: 1.8 | K25: 0 | L25: =K25-(SUM(N25:Y25)) -> 0 | M25: =IF(L25<0,"ATENÇÃO","OK") -> OK | N25: 0 | O25: 0 | P25: 0 | Q25: 0 | R25: 0 | S25: 0 | T25: 0 | U25: 0 | V25: 0 | W25: 0 | X25: 0 | Y25: 0
C26: 23 | E26: 33.90.39.63 | G26: Folha Até A1** | I26: 20 | J26: 3 | K26: 0 | L26: =K26-(SUM(N26:Y26)) -> 0 | M26: =IF(L26<0,"ATENÇÃO","OK") -> OK | N26: 0 | O26: 0 | P26: 0 | Q26: 0 | R26: 0 | S26: 0 | T26: 0 | U26: 0 | V26: 0 | W26: 0 | X26: 0 | Y26: 0
C27: 24 | E27: 33.90.39.63 | G27: Folha Até A0** | I27: 20 | J27: 4.6 | K27: 0 | L27: =K27-(SUM(N27:Y27)) -> 0 | M27: =IF(L27<0,"ATENÇÃO","OK") -> OK | N27: 0 | O27: 0 | P27: 0 | Q27: 0 | R27: 0 | S27: 0 | T27: 0 | U27: 0 | V27: 0 | W27: 0 | X27: 0 | Y27: 0
C28: 25 | E28: 33.90.39.63 | G28: Folha Acima de A0** | I28: 20 | J28: 5 | K28: 0 | L28: =K28-(SUM(N28:Y28)) -> 0 | M28: =IF(L28<0,"ATENÇÃO","OK") -> OK | N28: 0 | O28: 0 | P28: 0 | Q28: 0 | R28: 0 | S28: 0 | T28: 0 | U28: 0 | V28: 0 | W28: 0 | X28: 0 | Y28: 0
C29: 26 | D29: Digitalização de jornais - Fornecimento de cópia de jornais em formato digital (PDF A – OCR e JPG). - Três cópias em DVD | E29: 33.90.39.63 | G29: Folha Até A3** | I29: 20 | J29: 0.27 | K29: 0 | L29: =K29-(SUM(N29:Y29)) -> 0 | M29: =IF(L29<0,"ATENÇÃO","OK") -> OK | N29: 0 | O29: 0 | P29: 0 | Q29: 0 | R29: 0 | S29: 0 | T29: 0 | U29: 0 | V29: 0 | W29: 0 | X29: 0 | Y29: 0
C30: 27 | E30: 33.90.39.63 | G30: Folha Acima de A0** | I30: 20 | J30: 4.6 | K30: 0 | L30: =K30-(SUM(N30:Y30)) -> 0 | M30: =IF(L30<0,"ATENÇÃO","OK") -> OK | N30: 0 | O30: 0 | P30: 0 | Q30: 0 | R30: 0 | S30: 0 | T30: 0 | U30: 0 | V30: 0 | W30: 0 | X30: 0 | Y30: 0
C32: *Obras: Pequena até A4 (210 x 297 mm), Média até A3 (297 x 420 mm ), Grande acima de A3 (297 x 420 mm)
C33: **Mapas e jornais: Até A4 ( 210 x 297 mm), Até A3 (297 x 420 mm ), Até A2 (420 x 594). Até A1 (594 x 840 mm), Até A0 (840 x 1.188 mm), Acima de A0 (Aicma de 1.188 mm)

Sheet CAV
A1: PROCESSO: 0619/2014/UDESC | D1: OBJETO: Serviços de Encadernação, Restauração e Digitalização de acervos das Bibliotecas da UDESC | K1: VIGÊNCIA DA ATA: 16/06/2014 até 16/06/2015 | N1: AF/OS nº 1104/2014 Qtde. DT | O1: AF/OS nº xxxx/2014 Qtde. DT | P1: AF/OS nº xxxx/2014 Qtde. DT | Q1: AF/OS nº xxxx/2014 Qtde. DT | R1: AF/OS nº xxxx/2014 Qtde. DT | S1: AF/OS nº xxxx/2014 Qtde. DT | T1: AF/OS nº xxxx/2014 Qtde. DT | U1: AF/OS nº xxxx/2014 Qtde. DT | V1: AF/OS nº xxxx/2014 Qtde. DT | W1: AF/OS nº xxxx/2014 Qtde. DT | X1: AF/OS nº xxxx/2014 Qtde. DT | Y1: AF/OS nº xxxx/2014 Qtde. DT
A2: CENTRO PARTICIPANTE: CAV
A3: FORNECEDOR | B3: LOTE | C3: ITEM | D3: PRODUTO - CARACTERÍSTICAS MÍNIMAS | E3: ELEMENTO | F3: MARCA | G3: UNIDADE | H3: Entrega (Dias) | I3: Pagto. (Dias) | J3: Preço UNITÁRIO (R$) | K3: Qtde LICITADA | L3: Saldo / Automático | M3: ALERTA | N3: 41884 | O3: ...../...../...... | P3: ...../...../...... | Q3: ...../...../...... | R3: ...../...../...... | S3: ...../...../...... | T3: ...../...../...... | U3: ...../...../...... | V3: ...../...../...... | W3: ...../...../...... | X3: ...../...../...... | Y3: ...../...../......
A4: IDEAL ENCADERNAÇÕES LTDA ME | B4: 1 | C4: 1 | D4: Recuperação de capa dura com: costura simples, colagem, cantoneiras e lombadas e colocação de guardas novas | E4: 33.90.39.63 | G4: Pequeno* | I4: 20 | J4: 17 | K4: 30 | L4: =K4-(SUM(N4:Y4)) -> 15 | M4: =IF(L4<0,"ATENÇÃO","OK") -> OK | N4: 15 | O4: 0 | P4: 0 | Q4: 0 | R4: 0 | S4: 0 | T4: 0 | U4: 0 | V4: 0 | W4: 0 | X4: 0 | Y4: 0
C5: 2 | E5: 33.90.39.63 | G5: Médio* | I5: 20 | J5: 17 | K5: 50 | L5: =K5-(SUM(N5:Y5)) -> 25 | M5: =IF(L5<0,"ATENÇÃO","OK") -> OK | N5: 25 | O5: 0 | P5: 0 | Q5: 0 | R5: 0 | S5: 0 | T5: 0 | U5: 0 | V5: 0 | W5: 0 | X5: 0 | Y5: 0
C6: 3 | E6: 33.90.39.63 | G6: Grande* | I6: 20 | J6: 17 | K6: 50 | L6: =K6-(SUM(N6:Y6)) -> 25 | M6: =IF(L6<0,"ATENÇÃO","OK") -> OK | N6: 25 | O6: 0 | P6: 0 | Q6: 0 | R6: 0 | S6: 0 | T6: 0 | U6: 0 | V6: 0 | W6: 0 | X6: 0 | Y6: 0
C7: 4 | D7: Colocação e recuperação de capa brochura com costura, colagens e guardas | E7: 33.90.39.63 | G7: Pequeno* | I7: 20 | J7: 9 | K7: 20 | L7: =K7-(SUM(N7:Y7)) -> 10 | M7: =IF(L7<0,"ATENÇÃO","OK") -> OK | N7: 10 | O7: 0 | P7: 0 | Q7: 0 | R7: 0 | S7: 0 | T7: 0 | U7: 0 | V7: 0 | W7: 0 | X7: 0 | Y7: 0
C8: 5 | E8: 33.90.39.63 | G8: Médio* | I8: 20 | J8: 9.5 | K8: 20 | L8: =K8-(SUM(N8:Y8)) -> 10 | M8: =IF(L8<0,"ATENÇÃO","OK") -> OK | N8: 10 | O8: 0 | P8: 0 | Q8: 0 | R8: 0 | S8: 0 | T8: 0 | U8: 0 | V8: 0 | W8: 0 | X8: 0 | Y8: 0
C9: 6 | E9: 33.90.39.63 | G9: Grande* | I9: 20 | J9: 10 | K9: 20 | L9: =K9-(SUM(N9:Y9)) -> 10 | M9: =IF(L9<0,"ATENÇÃO","OK") -> OK | N9: 10 | O9: 0 | P9: 0 | Q9: 0 | R9: 0 | S9: 0 | T9: 0 | U9: 0 | V9: 0 | W9: 0 | X9: 0 | Y9: 0
C10: 7 | D10: Confecção e colocação de capa dura completa com costura interna, colagem e guardas | E10: 33.90.39.63 | G10: Pequeno* | I10: 20 | J10: 20 | K10: 10 | L10: =K10-(SUM(N10:Y10)) -> 5 | M10: =IF(L10<0,"ATENÇÃO","OK") -> OK | N10: 5 | O10: 0 | P10: 0 | Q10: 0 | R10: 0 | S10: 0 | T10: 0 | U10: 0 | V10: 0 | W10: 0 | X10: 0 | Y10: 0
C11: 8 | E11: 33.90.39.63 | G11: Médio* | I11: 20 | J11: 20 | K11: 20 | L11: =K11-(SUM(N11:Y11)) -> 10 | M11: =IF(L11<0,"ATENÇÃO","OK") -> OK | N11: 10 | O11: 0 | P11: 0 | Q11: 0 | R11: 0 | S11: 0 | T11: 0 | U11: 0 | V11: 0 | W11: 0 | X11: 0 | Y11: 0
C12: 9 | E12: 33.90.39.63 | G12: Grande* | I12: 20 | J12: 20 | K12: 30 | L12: =K12-(SUM(N12:Y12)) -> 15 | M12: =IF(L12<0,"ATENÇÃO","OK") -> OK | N12: 15 | O12: 0 | P12: 0 | Q12: 0 | R12: 0 | S12: 0 | T12: 0 | U12: 0 | V12: 0 | W12: 0 | X12: 0 | Y12: 0
C13: 10 | D13: Higienização c/lixas, guilhotinagem, borracha de maciez, etc | E13: 33.90.39.63 | G13: Unidade | I13: 20 | J13: 5 | K13: 40 | L13: =K13-(SUM(N13:Y13)) -> 20 | M13: =IF(L13<0,"ATENÇÃO","OK") -> OK | N13: 20 | O13: 0 | P13: 0 | Q13: 0 | R13: 0 | S13: 0 | T13: 0 | U13: 0 | V13: 0 | W13: 0 | X13: 0 | Y13: 0
C14: 11 | D14: Enxerto de folhas xerocadas | E14: 33.90.39.63 | G14: por folha | I14: 20 | J14: 0.5 | K14: 50 | L14: =K14-(SUM(N14:Y14)) -> 25 | M14: =IF(L14<0,"ATENÇÃO","OK") -> OK | N14: 25 | O14: 0 | P14: 0 | Q14: 0 | R14: 0 | S14: 0 | T14: 0 | U14: 0 | V14: 0 | W14: 0 | X14: 0 | Y14: 0
C15: 12 | D15: Restauração a úmido c/papel especial | E15: 33.90.39.63 | G15: por folha | I15: 20 | J15: 0.5 | K15: 20 | L15: =K15-(SUM(N15:Y15)) -> 10 | M15: =IF(L15<0,"ATENÇÃO","OK") -> OK | N15: 10 | O15: 0 | P15: 0 | Q15: 0 | R15: 0 | S15: 0 | T15: 0 | U15: 0 | V15: 0 | W15: 0 | X15: 0 | Y15: 0
C16: 13 | D16: Aplicação de carcelas | E16: 33.90.39.63 | G16: por folha | I16: 20 | J16: 0.25 | K16: 50 | L16: =K16-(SUM(N16:Y16)) -> 25 | M16: =IF(L16<0,"ATENÇÃO","OK") -> OK | N16: 25 | O16: 0 | P16: 0 | Q16: 0 | R16: 0 | S16: 0 | T16: 0 | U16: 0 | V16: 0 | W16: 0 | X16: 0 | Y16: 0
C17: 14 | D17: Remoção de fita adesiva | E17: 33.90.39.63 | G17: metro linear | I17: 20 | J17: 0.5 | K17: 70 | L17: =K17-(SUM(N17:Y17)) -> 35 | M17: =IF(L17<0,"ATENÇÃO","OK") -> OK | N17: 35 | O17: 0 | P17: 0 | Q17: 0 | R17: 0 | S17: 0 | T17: 0 | U17: 0 | V17: 0 | W17: 0 | X17: 0 | Y17: 0
B18: 2 | C18: 15 | D18: Restauração, encadernação e higienização de obras raras e/ou documentos históricos | E18: 33.90.39.63 | G18: Unidade | I18: 20 | J18: 12 | K18: 0 | L18: =K18-(SUM(N18:Y18)) -> 0 | M18: =IF(L18<0,"ATENÇÃO","OK") -> OK | N18: 0 | O18: 0 | P18: 0 | Q18: 0 | R18: 0 | S18: 0 | T18: 0 | U18: 0 | V18: 0 | W18: 0 | X18: 0 | Y18: 0
B19: 3 | C19: 16 | D19: Confecção de embalagens para os livros (caixa em papel triplex” de 300 g, composto de uma camada de uma espécie de papelão revestido de papel alcalino (frente e verso). | E19: 33.90.39.63 | G19: Pequeno* | I19: 20 | J19: 4.8 | K19: 0 | L19: =K19-(SUM(N19:Y19)) -> 0 | M19: =IF(L19<0,"ATENÇÃO","OK") -> OK | N19: 0 | O19: 0 | P19: 0 | Q19: 0 | R19: 0 | S19: 0 | T19: 0 | U19: 0 | V19: 0 | W19: 0 | X19: 0 | Y19: 0
A20: A4 DIGITAL PRINT LTDA EPP | B20: 4 | C20: 17 | D20: Digitalização de monografias - Fornecimento de cópia das obras em formato digital (PDF A – OCR) -Três cópias em DVD | E20: 33.90.39.63 | G20: Folha 30X20 | I20: 20 | J20: 0.18 | K20: 0 | L20: =K20-(SUM(N20:Y20)) -> 0 | M20: =IF(L20<0,"ATENÇÃO","OK") -> OK | N20: 0 | O20: 0 | P20: 0 | Q20: 0 | R20: 0 | S20: 0 | T20: 0 | U20: 0 | V20: 0 | W20: 0 | X20: 0 | Y20: 0
C21: 18 | D21: Digitalização de Livros - Fornecimento de cópia das obras em formato digital (PDF A – OCR). Três cópias em DVD | E21: 33.90.39.63 | G21: Folha Pequena* | I21: 20 | J21: 0.21 | K21: 0 | L21: =K21-(SUM(N21:Y21)) -> 0 | M21: =IF(L21<0,"ATENÇÃO","OK") -> OK | N21: 0 | O21: 0 | P21: 0 | Q21: 0 | R21: 0 | S21: 0 | T21: 0 | U21: 0 | V21: 0 | W21: 0 | X21: 0 | Y21: 0
C22: 19 | E22: 33.90.39.63 | G22: Folha Média* | I22: 20 | J22: 0.21 | K22: 0 | L22: =K22-(SUM(N22:Y22)) -> 0 | M22: =IF(L22<0,"ATENÇÃO","OK") -> OK | N22: 0 | O22: 0 | P22: 0 | Q22: 0 | R22: 0 | S22: 0 | T22: 0 | U22: 0 | V22: 0 | W22: 0 | X22: 0 | Y22: 0
C23: 20 | D23: Digitalização de Mapas - Fornecimento de cópia de mapas em formato digital (PDF A – OCR e JPG). - Três cópias em DVD | E23: 33.90.39.63 | G23: Folha Até A4 | I23: 20 | J23: 0.37 | K23: 0 | L23: =K23-(SUM(N23:Y23)) -> 0 | M23: =IF(L23<0,"ATENÇÃO","OK") -> OK | N23: 0 | O23: 0 | P23: 0 | Q23: 0 | R23: 0 | S23: 0 | T23: 0 | U23: 0 | V23: 0 | W23: 0 | X23: 0 | Y23: 0
C24: 21 | E24: 33.90.39.63 | G24: Folha Até A3** | I24: 20 | J24: 0.38 | K24: 0 | L24: =K24-(SUM(N24:Y24)) -> 0 | M24: =IF(L24<0,"ATENÇÃO","OK") -> OK | N24: 0 | O24: 0 | P24: 0 | Q24: 0 | R24: 0 | S24: 0 | T24: 0 | U24: 0 | V24: 0 | W24: 0 | X24: 0 | Y24: 0
C25: 22 | E25: 33.90.39.63 | G25: Folha Até A2** | I25: 20 | J25: 1.8 | K25: 0 | L25: =K25-(SUM(N25:Y25)) -> 0 | M25: =IF(L25<0,"ATENÇÃO","OK") -> OK | N25: 0 | O25: 0 | P25: 0 | Q25: 0 | R25: 0 | S25: 0 | T25: 0 | U25: 0 | V25: 0 | W25: 0 | X25: 0 | Y25: 0
C26: 23 | E26: 33.90.39.63 | G26: Folha Até A1** | I26: 20 | J26: 3 | K26: 0 | L26: =K26-(SUM(N26:Y26)) -> 0 | M26: =IF(L26<0,"ATENÇÃO","OK") -> OK | N26: 0 | O26: 0 | P26: 0 | Q26: 0 | R26: 0 | S26: 0 | T26: 0 | U26: 0 | V26: 0 | W26: 0 | X26: 0 | Y26: 0
C27: 24 | E27: 33.90.39.63 | G27: Folha Até A0** | I27: 20 | J27: 4.6 | K27: 0 | L27: =K27-(SUM(N27:Y27)) -> 0 | M27: =IF(L27<0,"ATENÇÃO","OK") -> OK | N27: 0 | O27: 0 | P27: 0 | Q27: 0 | R27: 0 | S27: 0 | T27: 0 | U27: 0 | V27: 0 | W27: 0 | X27: 0 | Y27: 0
C28: 25 | E28: 33.90.39.63 | G28: Folha Acima de A0** | I28: 20 | J28: 5 | K28: 0 | L28: =K28-(SUM(N28:Y28)) -> 0 | M28: =IF(L28<0,"ATENÇÃO","OK") -> OK | N28: 0 | O28: 0 | P28: 0 | Q28: 0 | R28: 0 | S28: 0 | T28: 0 | U28: 0 | V28: 0 | W28: 0 | X28: 0 | Y28: 0
C29: 26 | D29: Digitalização de jornais - Fornecimento de cópia de jornais em formato digital (PDF A – OCR e JPG). - Três cópias em DVD | E29: 33.90.39.63 | G29: Folha Até A3** | I29: 20 | J29: 0.27 | K29: 0 | L29: =K29-(SUM(N29:Y29)) -> 0 | M29: =IF(L29<0,"ATENÇÃO","OK") -> OK | N29: 0 | O29: 0 | P29: 0 | Q29: 0 | R29: 0 | S29: 0 | T29: 0 | U29: 0 | V29: 0 | W29: 0 | X29: 0 | Y29: 0
C30: 27 | E30: 33.90.39.63 | G30: Folha Acima de A0** | I30: 20 | J30: 4.6 | K30: 0 | L30: =K30-(SUM(N30:Y30)) -> 0 | M30: =IF(L30<0,"ATENÇÃO","OK") -> OK | N30: 0 | O30: 0 | P30: 0 | Q30: 0 | R30: 0 | S30: 0 | T30: 0 | U30: 0 | V30: 0 | W30: 0 | X30: 0 | Y30: 0
C32: *Obras: Pequena até A4 (210 x 297 mm), Média até A3 (297 x 420 mm ), Grande acima de A3 (297 x 420 mm)
C33: **Mapas e jornais: Até A4 ( 210 x 297 mm), Até A3 (297 x 420 mm ), Até A2 (420 x 594). Até A1 (594 x 840 mm), Até A0 (840 x 1.188 mm), Acima de A0 (Aicma de 1.188 mm)

Sheet FAED
A1: PROCESSO: 0619/2014/UDESC | D1: OBJETO: Serviços de Encadernação, Restauração e Digitalização de acervos das Bibliotecas da UDESC | K1: VIGÊNCIA DA ATA: 16/06/2014 até 16/06/2015 | N1: AF/OS nº xxxx/2014 Qtde. DT | O1: AF/OS nº xxxx/2014 Qtde. DT | P1: AF/OS nº xxxx/2014 Qtde. DT | Q1: AF/OS nº xxxx/2014 Qtde. DT | R1: AF/OS nº xxxx/2014 Qtde. DT | S1: AF/OS nº xxxx/2014 Qtde. DT | T1: AF/OS nº xxxx/2014 Qtde. DT | U1: AF/OS nº xxxx/2014 Qtde. DT | V1: AF/OS nº xxxx/2014 Qtde. DT | W1: AF/OS nº xxxx/2014 Qtde. DT | X1: AF/OS nº xxxx/2014 Qtde. DT | Y1: AF/OS nº xxxx/2014 Qtde. DT
A2: CENTRO PARTICIPANTE: FAED
A3: FORNECEDOR | B3: LOTE | C3: ITEM | D3: PRODUTO - CARACTERÍSTICAS MÍNIMAS | E3: ELEMENTO | F3: MARCA | G3: UNIDADE | H3: Entrega (Dias) | I3: Pagto. (Dias) | J3: Preço UNITÁRIO (R$) | K3: Qtde LICITADA | L3: Saldo / Automático | M3: ALERTA | N3: ...../...../...... | O3: ...../...../...... | P3: ...../...../...... | Q3: ...../...../...... | R3: ...../...../...... | S3: ...../...../...... | T3: ...../...../...... | U3: ...../...../...... | V3: ...../...../...... | W3: ...../...../...... | X3: ...../...../...... | Y3: ...../...../......
A4: IDEAL ENCADERNAÇÕES LTDA ME | B4: 1 | C4: 1 | D4: Recuperação de capa dura com: costura simples, colagem, cantoneiras e lombadas e colocação de guardas novas | E4: 33.90.39.63 | G4: Pequeno* | I4: 20 | J4: 17 | K4: 30 | L4: =K4-(SUM(N4:Y4)) -> 30 | M4: =IF(L4<0,"ATENÇÃO","OK") -> OK | N4: 0 | O4: 0 | P4: 0 | Q4: 0 | R4: 0 | S4: 0 | T4: 0 | U4: 0 | V4: 0 | W4: 0 | X4: 0 | Y4: 0
C5: 2 | E5: 33.90.39.63 | G5: Médio* | I5: 20 | J5: 17 | K5: 20 | L5: =K5-(SUM(N5:Y5)) -> 20 | M5: =IF(L5<0,"ATENÇÃO","OK") -> OK | N5: 0 | O5: 0 | P5: 0 | Q5: 0 | R5: 0 | S5: 0 | T5: 0 | U5: 0 | V5: 0 | W5: 0 | X5: 0 | Y5: 0
C6: 3 | E6: 33.90.39.63 | G6: Grande* | I6: 20 | J6: 17 | K6: 10 | L6: =K6-(SUM(N6:Y6)) -> 10 | M6: =IF(L6<0,"ATENÇÃO","OK") -> OK | N6: 0 | O6: 0 | P6: 0 | Q6: 0 | R6: 0 | S6: 0 | T6: 0 | U6: 0 | V6: 0 | W6: 0 | X6: 0 | Y6: 0
C7: 4 | D7: Colocação e recuperação de capa brochura com costura, colagens e guardas | E7: 33.90.39.63 | G7: Pequeno* | I7: 20 | J7: 9 | K7: 20 | L7: =K7-(SUM(N7:Y7)) -> 20 | M7: =IF(L7<0,"ATENÇÃO","OK") -> OK | N7: 0 | O7: 0 | P7: 0 | Q7: 0 | R7: 0 | S7: 0 | T7: 0 | U7: 0 | V7: 0 | W7: 0 | X7: 0 | Y7: 0
C8: 5 | E8: 33.90.39.63 | G8: Médio* | I8: 20 | J8: 9.5 | K8: 50 | L8: =K8-(SUM(N8:Y8)) -> 50 | M8: =IF(L8<0,"ATENÇÃO","OK") -> OK | N8: 0 | O8: 0 | P8: 0 | Q8: 0 | R8: 0 | S8: 0 | T8: 0 | U8: 0 | V8: 0 | W8: 0 | X8: 0 | Y8: 0
C9: 6 | E9: 33.90.39.63 | G9: Grande* | I9: 20 | J9: 10 | K9: 5 | L9: =K9-(SUM(N9:Y9)) -> 5 | M9: =IF(L9<0,"ATENÇÃO","OK") -> OK | N9: 0 | O9: 0 | P9: 0 | Q9: 0 | R9: 0 | S9: 0 | T9: 0 | U9: 0 | V9: 0 | W9: 0 | X9: 0 | Y9: 0
C10: 7 | D10: Confecção e colocação de capa dura completa com costura interna, colagem e guardas | E10: 33.90.39.63 | G10: Pequeno* | I10: 20 | J10: 20 | K10: 25 | L10: =K10-(SUM(N10:Y10)) -> 25 | M10: =IF(L10<0,"ATENÇÃO","OK") -> OK | N10: 0 | O10: 0 | P10: 0 | Q10: 0 | R10: 0 | S10: 0 | T10: 0 | U10: 0 | V10: 0 | W10: 0 | X10: 0 | Y10: 0
C11: 8 | E11: 33.90.39.63 | G11: Médio* | I11: 20 | J11: 20 | K11: 20 | L11: =K11-(SUM(N11:Y11)) -> 20 | M11: =IF(L11<0,"ATENÇÃO","OK") -> OK | N11: 0 | O11: 0 | P11: 0 | Q11: 0 | R11: 0 | S11: 0 | T11: 0 | U11: 0 | V11: 0 | W11: 0 | X11: 0 | Y11: 0
C12: 9 | E12: 33.90.39.63 | G12: Grande* | I12: 20 | J12: 20 | K12: 5 | L12: =K12-(SUM(N12:Y12)) -> 5 | M12: =IF(L12<0,"ATENÇÃO","OK") -> OK | N12: 0 | O12: 0 | P12: 0 | Q12: 0 | R12: 0 | S12: 0 | T12: 0 | U12: 0 | V12: 0 | W12: 0 | X12: 0 | Y12: 0
C13: 10 | D13: Higienização c/lixas, guilhotinagem, borracha de maciez, etc | E13: 33.90.39.63 | G13: Unidade | I13: 20 | J13: 5 | K13: 0 | L13: =K13-(SUM(N13:Y13)) -> 0 | M13: =IF(L13<0,"ATENÇÃO","OK") -> OK | N13: 0 | O13: 0 | P13: 0 | Q13: 0 | R13: 0 | S13: 0 | T13: 0 | U13: 0 | V13: 0 | W13: 0 | X13: 0 | Y13: 0
C14: 11 | D14: Enxerto de folhas xerocadas | E14: 33.90.39.63 | G14: por folha | I14: 20 | J14: 0.5 | K14: 60 | L14: =K14-(SUM(N14:Y14)) -> 60 | M14: =IF(L14<0,"ATENÇÃO","OK") -> OK | N14: 0 | O14: 0 | P14: 0 | Q14: 0 | R14: 0 | S14: 0 | T14: 0 | U14: 0 | V14: 0 | W14: 0 | X14: 0 | Y14: 0
C15: 12 | D15: Restauração a úmido c/papel especial | E15: 33.90.39.63 | G15: por folha | I15: 20 | J15: 0.5 | K15: 75 | L15: =K15-(SUM(N15:Y15)) -> 75 | M15: =IF(L15<0,"ATENÇÃO","OK") -> OK | N15: 0 | O15: 0 | P15: 0 | Q15: 0 | R15: 0 | S15: 0 | T15: 0 | U15: 0 | V15: 0 | W15: 0 | X15: 0 | Y15: 0
C16: 13 | D16: Aplicação de carcelas | E16: 33.90.39.63 | G16: por folha | I16: 20 | J16: 0.25 | K16: 50 | L16: =K16-(SUM(N16:Y16)) -> 50 | M16: =IF(L16<0,"ATENÇÃO","OK") -> OK | N16: 0 | O16: 0 | P16: 0 | Q16: 0 | R16: 0 | S16: 0 | T16: 0 | U16: 0 | V16: 0 | W16: 0 | X16: 0 | Y16: 0
C17: 14 | D17: Remoção de fita adesiva | E17: 33.90.39.63 | G17: metro linear | I17: 20 | J17: 0.5 | K17: 35 | L17: =K17-(SUM(N17:Y17)) -> 35 | M17: =IF(L17<0,"ATENÇÃO","OK") -> OK | N17: 0 | O17: 0 | P17: 0 | Q17: 0 | R17: 0 | S17: 0 | T17: 0 | U17: 0 | V17: 0 | W17: 0 | X17: 0 | Y17: 0
B18: 2 | C18: 15 | D18: Restauração, encadernação e higienização de obras raras e/ou documentos históricos | E18: 33.90.39.63 | G18: Unidade | I18: 20 | J18: 12 | K18: 0 | L18: =K18-(SUM(N18:Y18)) -> 0 | M18: =IF(L18<0,"ATENÇÃO","OK") -> OK | N18: 0 | O18: 0 | P18: 0 | Q18: 0 | R18: 0 | S18: 0 | T18: 0 | U18: 0 | V18: 0 | W18: 0 | X18: 0 | Y18: 0
B19: 3 | C19: 16 | D19: Confecção de embalagens para os livros (caixa em papel triplex” de 300 g, composto de uma camada de uma espécie de papelão revestido de papel alcalino (frente e verso). | E19: 33.90.39.63 | G19: Pequeno* | I19: 20 | J19: 4.8 | K19: 0 | L19: =K19-(SUM(N19:Y19)) -> 0 | M19: =IF(L19<0,"ATENÇÃO","OK") -> OK | N19: 0 | O19: 0 | P19: 0 | Q19: 0 | R19: 0 | S19: 0 | T19: 0 | U19: 0 | V19: 0 | W19: 0 | X19: 0 | Y19: 0
A20: A4 DIGITAL PRINT LTDA EPP | B20: 4 | C20: 17 | D20: Digitalização de monografias - Fornecimento de cópia das obras em formato digital (PDF A – OCR) -Três cópias em DVD | E20: 33.90.39.63 | G20: Folha 30X20 | I20: 20 | J20: 0.18 | K20: 0 | L20: =K20-(SUM(N20:Y20)) -> 0 | M20: =IF(L20<0,"ATENÇÃO","OK") -> OK | N20: 0 | O20: 0 | P20: 0 | Q20: 0 | R20: 0 | S20: 0 | T20: 0 | U20: 0 | V20: 0 | W20: 0 | X20: 0 | Y20: 0
C21: 18 | D21: Digitalização de Livros - Fornecimento de cópia das obras em formato digital (PDF A – OCR). Três cópias em DVD | E21: 33.90.39.63 | G21: Folha Pequena* | I21: 20 | J21: 0.21 | K21: 0 | L21: =K21-(SUM(N21:Y21)) -> 0 | M21: =IF(L21<0,"ATENÇÃO","OK") -> OK | N21: 0 | O21: 0 | P21: 0 | Q21: 0 | R21: 0 | S21: 0 | T21: 0 | U21: 0 | V21: 0 | W21: 0 | X21: 0 | Y21: 0
C22: 19 | E22: 33.90.39.63 | G22: Folha Média* | I22: 20 | J22: 0.21 | K22: 0 | L22: =K22-(SUM(N22:Y22)) -> 0 | M22: =IF(L22<0,"ATENÇÃO","OK") -> OK | N22: 0 | O22: 0 | P22: 0 | Q22: 0 | R22: 0 | S22: 0 | T22: 0 | U22: 0 | V22: 0 | W22: 0 | X22: 0 | Y22: 0
C23: 20 | D23: Digitalização de Mapas - Fornecimento de cópia de mapas em formato digital (PDF A – OCR e JPG). - Três cópias em DVD | E23: 33.90.39.63 | G23: Folha Até A4 | I23: 20 | J23: 0.37 | K23: 0 | L23: =K23-(SUM(N23:Y23)) -> 0 | M23: =IF(L23<0,"ATENÇÃO","OK") -> OK | N23: 0 | O23: 0 | P23: 0 | Q23: 0 | R23: 0 | S23: 0 | T23: 0 | U23: 0 | V23: 0 | W23: 0 | X23: 0 | Y23: 0
C24: 21 | E24: 33.90.39.63 | G24: Folha Até A3** | I24: 20 | J24: 0.38 | K24: 0 | L24: =K24-(SUM(N24:Y24)) -> 0 | M24: =IF(L24<0,"ATENÇÃO","OK") -> OK | N24: 0 | O24: 0 | P24: 0 | Q24: 0 | R24: 0 | S24: 0 | T24: 0 | U24: 0 | V24: 0 | W24: 0 | X24: 0 | Y24: 0
C25: 22 | E25: 33.90.39.63 | G25: Folha Até A2** | I25: 20 | J25: 1.8 | K25: 0 | L25: =K25-(SUM(N25:Y25)) -> 0 | M25: =IF(L25<0,"ATENÇÃO","OK") -> OK | N25: 0 | O25: 0 | P25: 0 | Q25: 0 | R25: 0 | S25: 0 | T25: 0 | U25: 0 | V25: 0 | W25: 0 | X25: 0 | Y25: 0
C26: 23 | E26: 33.90.39.63 | G26: Folha Até A1** | I26: 20 | J26: 3 | K26: 0 | L26: =K26-(SUM(N26:Y26)) -> 0 | M26: =IF(L26<0,"ATENÇÃO","OK") -> OK | N26: 0 | O26: 0 | P26: 0 | Q26: 0 | R26: 0 | S26: 0 | T26: 0 | U26: 0 | V26: 0 | W26: 0 | X26: 0 | Y26: 0
C27: 24 | E27: 33.90.39.63 | G27: Folha Até A0** | I27: 20 | J27: 4.6 | K27: 0 | L27: =K27-(SUM(N27:Y27)) -> 0 | M27: =IF(L27<0,"ATENÇÃO","OK") -> OK | N27: 0 | O27: 0 | P27: 0 | Q27: 0 | R27: 0 | S27: 0 | T27: 0 | U27: 0 | V27: 0 | W27: 0 | X27: 0 | Y27: 0
C28: 25 | E28: 33.90.39.63 | G28: Folha Acima de A0** | I28: 20 | J28: 5 | K28: 0 | L28: =K28-(SUM(N28:Y28)) -> 0 | M28: =IF(L28<0,"ATENÇÃO","OK") -> OK | N28: 0 | O28: 0 | P28: 0 | Q28: 0 | R28: 0 | S28: 0 | T28: 0 | U28: 0 | V28: 0 | W28: 0 | X28: 0 | Y28: 0
C29: 26 | D29: Digitalização de jornais - Fornecimento de cópia de jornais em formato digital (PDF A – OCR e JPG). - Três cópias em DVD | E29: 33.90.39.63 | G29: Folha Até A3** | I29: 20 | J29: 0.27 | K29: 0 | L29: =K29-(SUM(N29:Y29)) -> 0 | M29: =IF(L29<0,"ATENÇÃO","OK") -> OK | N29: 0 | O29: 0 | P29: 0 | Q29: 0 | R29: 0 | S29: 0 | T29: 0 | U29: 0 | V29: 0 | W29: 0 | X29: 0 | Y29: 0
C30: 27 | E30: 33.90.39.63 | G30: Folha Acima de A0** | I30: 20 | J30: 4.6 | K30: 0 | L30: =K30-(SUM(N30:Y30)) -> 0 | M30: =IF(L30<0,"ATENÇÃO","OK") -> OK | N30: 0 | O30: 0 | P30: 0 | Q30: 0 | R30: 0 | S30: 0 | T30: 0 | U30: 0 | V30: 0 | W30: 0 | X30: 0 | Y30: 0
C32: *Obras: Pequena até A4 (210 x 297 mm), Média até A3 (297 x 420 mm ), Grande acima de A3 (297 x 420 mm)
C33: **Mapas e jornais: Até A4 ( 210 x 297 mm), Até A3 (297 x 420 mm ), Até A2 (420 x 594). Até A1 (594 x 840 mm), Até A0 (840 x 1.188 mm), Acima de A0 (Aicma de 1.188 mm)

Sheet IDCH_FAED
A1: PROCESSO: 0619/2014/UDESC | D1: OBJETO: Serviços de Encadernação, Restauração e Digitalização de acervos das Bibliotecas da UDESC | K1: VIGÊNCIA DA ATA: 16/06/2014 até 16/06/2015 | N1: OS nº 647/2014 Qtde. DT | O1: OS nº 652/2014 Qtde. DT | P1: AF/OS nº xxxx/2014 Qtde. DT | Q1: AF/OS nº xxxx/2014 Qtde. DT | R1: AF/OS nº xxxx/2014 Qtde. DT | S1: AF/OS nº xxxx/2014 Qtde. DT | T1: AF/OS nº xxxx/2014 Qtde. DT | U1: AF/OS nº xxxx/2014 Qtde. DT | V1: AF/OS nº xxxx/2014 Qtde. DT | W1: AF/OS nº xxxx/2014 Qtde. DT | X1: AF/OS nº xxxx/2014 Qtde. DT | Y1: AF/OS nº xxxx/2014 Qtde. DT
A2: CENTRO PARTICIPANTE: IDCH-FAED
A3: FORNECEDOR | B3: LOTE | C3: ITEM | D3: PRODUTO - CARACTERÍSTICAS MÍNIMAS | E3: ELEMENTO | F3: MARCA | G3: UNIDADE | H3: Entrega (Dias) | I3: Pagto. (Dias) | J3: Preço UNITÁRIO (R$) | K3: Qtde LICITADA | L3: Saldo / Automático | M3: ALERTA | N3: ...../...../...... | O3: ...../...../...... | P3: ...../...../...... | Q3: ...../...../...... | R3: ...../...../...... | S3: ...../...../...... | T3: ...../...../...... | U3: ...../...../...... | V3: ...../...../...... | W3: ...../...../...... | X3: ...../...../...... | Y3: ...../...../......
A4: IDEAL ENCADERNAÇÕES LTDA ME | B4: 1 | C4: 1 | D4: Recuperação de capa dura com: costura simples, colagem, cantoneiras e lombadas e colocação de guardas novas | E4: 33.90.39.63 | G4: Pequeno* | I4: 20 | J4: 17 | K4: 0 | L4: =K4-(SUM(N4:Y4)) -> 0 | M4: =IF(L4<0,"ATENÇÃO","OK") -> OK | N4: 0 | O4: 0 | P4: 0 | Q4: 0 | R4: 0 | S4: 0 | T4: 0 | U4: 0 | V4: 0 | W4: 0 | X4: 0 | Y4: 0
C5: 2 | E5: 33.90.39.63 | G5: Médio* | I5: 20 | J5: 17 | K5: 0 | L5: =K5-(SUM(N5:Y5)) -> 0 | M5: =IF(L5<0,"ATENÇÃO","OK") -> OK | N5: 0 | O5: 0 | P5: 0 | Q5: 0 | R5: 0 | S5: 0 | T5: 0 | U5: 0 | V5: 0 | W5: 0 | X5: 0 | Y5: 0
C6: 3 | E6: 33.90.39.63 | G6: Grande* | I6: 20 | J6: 17 | K6: 0 | L6: =K6-(SUM(N6:Y6)) -> 0 | M6: =IF(L6<0,"ATENÇÃO","OK") -> OK | N6: 0 | O6: 0 | P6: 0 | Q6: 0 | R6: 0 | S6: 0 | T6: 0 | U6: 0 | V6: 0 | W6: 0 | X6: 0 | Y6: 0
C7: 4 | D7: Colocação e recuperação de capa brochura com costura, colagens e guardas | E7: 33.90.39.63 | G7: Pequeno* | I7: 20 | J7: 9 | K7: 0 | L7: =K7-(SUM(N7:Y7)) -> 0 | M7: =IF(L7<0,"ATENÇÃO","OK") -> OK | N7: 0 | O7: 0 | P7: 0 | Q7: 0 | R7: 0 | S7: 0 | T7: 0 | U7: 0 | V7: 0 | W7: 0 | X7: 0 | Y7: 0
C8: 5 | E8: 33.90.39.63 | G8: Médio* | I8: 20 | J8: 9.5 | K8: 0 | L8: =K8-(SUM(N8:Y8)) -> 0 | M8: =IF(L8<0,"ATENÇÃO","OK") -> OK | N8: 0 | O8: 0 | P8: 0 | Q8: 0 | R8: 0 | S8: 0 | T8: 0 | U8: 0 | V8: 0 | W8: 0 | X8: 0 | Y8: 0
C9: 6 | E9: 33.90.39.63 | G9: Grande* | I9: 20 | J9: 10 | K9: 0 | L9: =K9-(SUM(N9:Y9)) -> 0 | M9: =IF(L9<0,"ATENÇÃO","OK") -> OK | N9: 0 | O9: 0 | P9: 0 | Q9: 0 | R9: 0 | S9: 0 | T9: 0 | U9: 0 | V9: 0 | W9: 0 | X9: 0 | Y9: 0
C10: 7 | D10: Confecção e colocação de capa dura completa com costura interna, colagem e guardas | E10: 33.90.39.63 | G10: Pequeno* | I10: 20 | J10: 20 | K10: 0 | L10: =K10-(SUM(N10:Y10)) -> 0 | M10: =IF(L10<0,"ATENÇÃO","OK") -> OK | N10: 0 | O10: 0 | P10: 0 | Q10: 0 | R10: 0 | S10: 0 | T10: 0 | U10: 0 | V10: 0 | W10: 0 | X10: 0 | Y10: 0
C11: 8 | E11: 33.90.39.63 | G11: Médio* | I11: 20 | J11: 20 | K11: 0 | L11: =K11-(SUM(N11:Y11)) -> 0 | M11: =IF(L11<0,"ATENÇÃO","OK") -> OK | N11: 0 | O11: 0 | P11: 0 | Q11: 0 | R11: 0 | S11: 0 | T11: 0 | U11: 0 | V11: 0 | W11: 0 | X11: 0 | Y11: 0
C12: 9 | E12: 33.90.39.63 | G12: Grande* | I12: 20 | J12: 20 | K12: 0 | L12: =K12-(SUM(N12:Y12)) -> 0 | M12: =IF(L12<0,"ATENÇÃO","OK") -> OK | N12: 0 | O12: 0 | P12: 0 | Q12: 0 | R12: 0 | S12: 0 | T12: 0 | U12: 0 | V12: 0 | W12: 0 | X12: 0 | Y12: 0
C13: 10 | D13: Higienização c/lixas, guilhotinagem, borracha de maciez, etc | E13: 33.90.39.63 | G13: Unidade | I13: 20 | J13: 5 | K13: 0 | L13: =K13-(SUM(N13:Y13)) -> 0 | M13: =IF(L13<0,"ATENÇÃO","OK") -> OK | N13: 0 | O13: 0 | P13: 0 | Q13: 0 | R13: 0 | S13: 0 | T13: 0 | U13: 0 | V13: 0 | W13: 0 | X13: 0 | Y13: 0
C14: 11 | D14: Enxerto de folhas xerocadas | E14: 33.90.39.63 | G14: por folha | I14: 20 | J14: 0.5 | K14: 0 | L14: =K14-(SUM(N14:Y14)) -> 0 | M14: =IF(L14<0,"ATENÇÃO","OK") -> OK | N14: 0 | O14: 0 | P14: 0 | Q14: 0 | R14: 0 | S14: 0 | T14: 0 | U14: 0 | V14: 0 | W14: 0 | X14: 0 | Y14: 0
C15: 12 | D15: Restauração a úmido c/papel especial | E15: 33.90.39.63 | G15: por folha | I15: 20 | J15: 0.5 | K15: 0 | L15: =K15-(SUM(N15:Y15)) -> 0 | M15: =IF(L15<0,"ATENÇÃO","OK") -> OK | N15: 0 | O15: 0 | P15: 0 | Q15: 0 | R15: 0 | S15: 0 | T15: 0 | U15: 0 | V15: 0 | W15: 0 | X15: 0 | Y15: 0
C16: 13 | D16: Aplicação de carcelas | E16: 33.90.39.63 | G16: por folha | I16: 20 | J16: 0.25 | K16: 0 | L16: =K16-(SUM(N16:Y16)) -> 0 | M16: =IF(L16<0,"ATENÇÃO","OK") -> OK | N16: 0 | O16: 0 | P16: 0 | Q16: 0 | R16: 0 | S16: 0 | T16: 0 | U16: 0 | V16: 0 | W16: 0 | X16: 0 | Y16: 0
C17: 14 | D17: Remoção de fita adesiva | E17: 33.90.39.63 | G17: metro linear | I17: 20 | J17: 0.5 | K17: 0 | L17: =K17-(SUM(N17:Y17)) -> 0 | M17: =IF(L17<0,"ATENÇÃO","OK") -> OK | N17: 0 | O17: 0 | P17: 0 | Q17: 0 | R17: 0 | S17: 0 | T17: 0 | U17: 0 | V17: 0 | W17: 0 | X17: 0 | Y17: 0
B18: 2 | C18: 15 | D18: Restauração, encadernação e higienização de obras raras e/ou documentos históricos | E18: 33.90.39.63 | G18: Unidade | I18: 20 | J18: 12 | K18: 1000 | L18: =K18-(SUM(N18:Y18)) -> 0 | M18: =IF(L18<0,"ATENÇÃO","OK") -> OK | N18: 1000 | O18: 0 | P18: 0 | Q18: 0 | R18: 0 | S18: 0 | T18: 0 | U18: 0 | V18: 0 | W18: 0 | X18: 0 | Y18: 0
B19: 3 | C19: 16 | D19: Confecção de embalagens para os livros (caixa em papel triplex” de 300 g, composto de uma camada de uma espécie de papelão revestido de papel alcalino (frente e verso). | E19: 33.90.39.63 | G19: Pequeno* | I19: 20 | J19: 4.8 | K19: 1000 | L19: =K19-(SUM(N19:Y19)) -> 0 | M19: =IF(L19<0,"ATENÇÃO","OK") -> OK | N19: 1000 | O19: 0 | P19: 0 | Q19: 0 | R19: 0 | S19: 0 | T19: 0 | U19: 0 | V19: 0 | W19: 0 | X19: 0 | Y19: 0
A20: A4 DIGITAL PRINT LTDA EPP | B20: 4 | C20: 17 | D20: Digitalização de monografias - Fornecimento de cópia das obras em formato digital (PDF A – OCR) -Três cópias em DVD | E20: 33.90.39.63 | G20: Folha 30X20 | I20: 20 | J20: 0.18 | K20: 30000 | L20: =K20-(SUM(N20:Y20)) -> 0 | M20: =IF(L20<0,"ATENÇÃO","OK") -> OK | N20: 0 | O20: 30000 | P20: 0 | Q20: 0 | R20: 0 | S20: 0 | T20: 0 | U20: 0 | V20: 0 | W20: 0 | X20: 0 | Y20: 0
C21: 18 | D21: Digitalização de Livros - Fornecimento de cópia das obras em formato digital (PDF A – OCR). Três cópias em DVD | E21: 33.90.39.63 | G21: Folha Pequena* | I21: 20 | J21: 0.21 | K21: 15000 | L21: =K21-(SUM(N21:Y21)) -> 0 | M21: =IF(L21<0,"ATENÇÃO","OK") -> OK | N21: 0 | O21: 15000 | P21: 0 | Q21: 0 | R21: 0 | S21: 0 | T21: 0 | U21: 0 | V21: 0 | W21: 0 | X21: 0 | Y21: 0
C22: 19 | E22: 33.90.39.63 | G22: Folha Média* | I22: 20 | J22: 0.21 | K22: 10000 | L22: =K22-(SUM(N22:Y22)) -> 0 | M22: =IF(L22<0,"ATENÇÃO","OK") -> OK | N22: 0 | O22: 10000 | P22: 0 | Q22: 0 | R22: 0 | S22: 0 | T22: 0 | U22: 0 | V22: 0 | W22: 0 | X22: 0 | Y22: 0
C23: 20 | D23: Digitalização de Mapas - Fornecimento de cópia de mapas em formato digital (PDF A – OCR e JPG). - Três cópias em DVD | E23: 33.90.39.63 | G23: Folha Até A4 | I23: 20 | J23: 0.37 | K23: 200 | L23: =K23-(SUM(N23:Y23)) -> 0 | M23: =IF(L23<0,"ATENÇÃO","OK") -> OK | N23: 0 | O23: 200 | P23: 0 | Q23: 0 | R23: 0 | S23: 0 | T23: 0 | U23: 0 | V23: 0 | W23: 0 | X23: 0 | Y23: 0
C24: 21 | E24: 33.90.39.63 | G24: Folha Até A3** | I24: 20 | J24: 0.38 | K24: 200 | L24: =K24-(SUM(N24:Y24)) -> 0 | M24: =IF(L24<0,"ATENÇÃO","OK") -> OK | N24: 0 | O24: 200 | P24: 0 | Q24: 0 | R24: 0 | S24: 0 | T24: 0 | U24: 0 | V24: 0 | W24: 0 | X24: 0 | Y24: 0
C25: 22 | E25: 33.90.39.63 | G25: Folha Até A2** | I25: 20 | J25: 1.8 | K25: 200 | L25: =K25-(SUM(N25:Y25)) -> 0 | M25: =IF(L25<0,"ATENÇÃO","OK") -> OK | N25: 0 | O25: 200 | P25: 0 | Q25: 0 | R25: 0 | S25: 0 | T25: 0 | U25: 0 | V25: 0 | W25: 0 | X25: 0 | Y25: 0
C26: 23 | E26: 33.90.39.63 | G26: Folha Até A1** | I26: 20 | J26: 3 | K26: 200 | L26: =K26-(SUM(N26:Y26)) -> 0 | M26: =IF(L26<0,"ATENÇÃO","OK") -> OK | N26: 0 | O26: 200 | P26: 0 | Q26: 0 | R26: 0 | S26: 0 | T26: 0 | U26: 0 | V26: 0 | W26: 0 | X26: 0 | Y26: 0
C27: 24 | E27: 33.90.39.63 | G27: Folha Até A0** | I27: 20 | J27: 4.6 | K27: 500 | L27: =K27-(SUM(N27:Y27)) -> 0 | M27: =IF(L27<0,"ATENÇÃO","OK") -> OK | N27: 0 | O27: 500 | P27: 0 | Q27: 0 | R27: 0 | S27: 0 | T27: 0 | U27: 0 | V27: 0 | W27: 0 | X27: 0 | Y27: 0
C28: 25 | E28: 33.90.39.63 | G28: Folha Acima de A0** | I28: 20 | J28: 5 | K28: 500 | L28: =K28-(SUM(N28:Y28)) -> 0 | M28: =IF(L28<0,"ATENÇÃO","OK") -> OK | N28: 0 | O28: 500 | P28: 0 | Q28: 0 | R28: 0 | S28: 0 | T28: 0 | U28: 0 | V28: 0 | W28: 0 | X28: 0 | Y28: 0
C29: 26 | D29: Digitalização de jornais - Fornecimento de cópia de jornais em formato digital (PDF A – OCR e JPG). - Três cópias em DVD | E29: 33.90.39.63 | G29: Folha Até A3** | I29: 20 | J29: 0.27 | K29: 2000 | L29: =K29-(SUM(N29:Y29)) -> 0 | M29: =IF(L29<0,"ATENÇÃO","OK") -> OK | N29: 0 | O29: 2000 | P29: 0 | Q29: 0 | R29: 0 | S29: 0 | T29: 0 | U29: 0 | V29: 0 | W29: 0 | X29: 0 | Y29: 0
C30: 27 | E30: 33.90.39.63 | G30: Folha Acima de A0** | I30: 20 | J30: 4.6 | K30: 3000 | L30: =K30-(SUM(N30:Y30)) -> 0 | M30: =IF(L30<0,"ATENÇÃO","OK") -> OK | N30: 0 | O30: 3000 | P30: 0 | Q30: 0 | R30: 0 | S30: 0 | T30: 0 | U30: 0 | V30: 0 | W30: 0 | X30: 0 | Y30: 0
C32: *Obras: Pequena até A4 (210 x 297 mm), Média até A3 (297 x 420 mm ), Grande acima de A3 (297 x 420 mm)
C33: **Mapas e jornais: Até A4 ( 210 x 297 mm), Até A3 (297 x 420 mm ), Até A2 (420 x 594). Até A1 (594 x 840 mm), Até A0 (840 x 1.188 mm), Acima de A0 (Aicma de 1.188 mm)

Sheet ESAG
A1: PROCESSO: 0619/2014/UDESC | D1: OBJETO: Serviços de Encadernação, Restauração e Digitalização de acervos das Bibliotecas da UDESC | K1: VIGÊNCIA DA ATA: 16/06/2014 até 16/06/2015 | N1: AF/OS nº 1775/2014 Qtde. DT | O1: AF/OS nº xxxx/2014 Qtde. DT | P1: AF/OS nº xxxx/2014 Qtde. DT | Q1: AF/OS nº xxxx/2014 Qtde. DT | R1: AF/OS nº xxxx/2014 Qtde. DT | S1: AF/OS nº xxxx/2014 Qtde. DT | T1: AF/OS nº xxxx/2014 Qtde. DT | U1: AF/OS nº xxxx/2014 Qtde. DT | V1: AF/OS nº xxxx/2014 Qtde. DT | W1: AF/OS nº xxxx/2014 Qtde. DT | X1: AF/OS nº xxxx/2014 Qtde. DT | Y1: AF/OS nº xxxx/2014 Qtde. DT
A2: CENTRO PARTICIPANTE: ESAG
A3: FORNECEDOR | B3: LOTE | C3: ITEM | D3: PRODUTO - CARACTERÍSTICAS MÍNIMAS | E3: ELEMENTO | F3: MARCA | G3: UNIDADE | H3: Entrega (Dias) | I3: Pagto. (Dias) | J3: Preço UNITÁRIO (R$) | K3: Qtde LICITADA | L3: Saldo / Automático | M3: ALERTA | N3: ...../...../...... | O3: ...../...../...... | P3: ...../...../...... | Q3: ...../...../...... | R3: ...../...../...... | S3: ...../...../...... | T3: ...../...../...... | U3: ...../...../...... | V3: ...../...../...... | W3: ...../...../...... | X3: ...../...../...... | Y3: ...../...../......
A4: IDEAL ENCADERNAÇÕES LTDA ME | B4: 1 | C4: 1 | D4: Recuperação de capa dura com: costura simples, colagem, cantoneiras e lombadas e colocação de guardas novas | E4: 33.90.39.63 | G4: Pequeno* | I4: 20 | J4: 17 | K4: 20 | L4: =K4-(SUM(N4:Y4)) -> 10 | M4: =IF(L4<0,"ATENÇÃO","OK") -> OK | N4: 10 | O4: 0 | P4: 0 | Q4: 0 | R4: 0 | S4: 0 | T4: 0 | U4: 0 | V4: 0 | W4: 0 | X4: 0 | Y4: 0
C5: 2 | E5: 33.90.39.63 | G5: Médio* | I5: 20 | J5: 17 | K5: 30 | L5: =K5-(SUM(N5:Y5)) -> 15 | M5: =IF(L5<0,"ATENÇÃO","OK") -> OK | N5: 15 | O5: 0 | P5: 0 | Q5: 0 | R5: 0 | S5: 0 | T5: 0 | U5: 0 | V5: 0 | W5: 0 | X5: 0 | Y5: 0
C6: 3 | E6: 33.90.39.63 | G6: Grande* | I6: 20 | J6: 17 | K6: 10 | L6: =K6-(SUM(N6:Y6)) -> 5 | M6: =IF(L6<0,"ATENÇÃO","OK") -> OK | N6: 5 | O6: 0 | P6: 0 | Q6: 0 | R6: 0 | S6: 0 | T6: 0 | U6: 0 | V6: 0 | W6: 0 | X6: 0 | Y6: 0
