Workbook
Name diasuteis: #REF!
Name diasuteis: #REF!
Name diasuteis: #REF!
Name diasuteis: #REF!
Name diasuteis: #REF!
Name diasuteis: #REF!
Name diasuteis: #REF!
Name diasuteis: #REF!
Name diasuteis: #REF!
Name diasuteis: #REF!
Name diasuteis: #REF!
Name Ferias: #REF!
Name Ferias: #REF!
Name Ferias: #REF!
Name Ferias: #REF!
Name Ferias: #REF!
Name Ferias: #REF!
Name Ferias: #REF!
Name Ferias: #REF!
Name Ferias: #REF!
Name Ferias: #REF!
Name RD: OFFSET(#REF!,(MATCH(SMALL(#REF!,ROW()-10),#REF!,0)-1),0)
Name RD: OFFSET(#REF!,(MATCH(SMALL(#REF!,ROW()-10),#REF!,0)-1),0)

Sheet REIT
A1: PROCESSO: 0252/2014/UDESC | D1: OBJETO: FORNECIMENTO DE REFEIÇÃO PARA JOGOS, COFFEE BREAK E COQUETEL | K1: VIGÊNCIA DA ATA: 28/04/2014 até 28/04/2015 | N1: AF/OS nº 371/2014 Qtde. DT | O1: AF/OS nº 392/2014 Qtde. DT | P1: AF/OS nº 454/2014 Qtde. DT | Q1: AF/OS nº 493/2014 Qtde. DT | R1: AF/OS nº 621/2014 Qtde. DT | S1: AF/OS nº 694/2014 Qtde. DT | T1: AF/OS nº 871/2014 Qtde. DT | U1: AF/OS nº 912/2014 Qtde. DT | V1: AF/OS nº xxxx/2014 Qtde. DT - com credito da FAED de 300 item 04 | W1: AF/OS nº 1455/2014 Qtde. DT | X1: AF/OS nº 1583/2014 Qtde. DT | Y1: AF/OS nº 1671/2014 Qtde. DT
A2: CENTRO PARTICIPANTE: REITORIA
A3: FORNECEDOR | B3: LOTE | C3: ITEM | D3: PRODUTO - CARACTERÍSTICAS MÍNIMAS | E3: ELEMENTO | F3: MARCA | G3: UNIDADE | H3: Entrega (Dias) | I3: Pagto. (Dias) | J3: Preço UNITÁRIO (R$) | K3: Qtde LICITADA | L3: Saldo / Automático | M3: ALERTA | N3: 41759 | O3: 41774 | P3: 41805 | Q3: 41793 | R3: 41845 | S3: 41845 | T3: 41849 | U3: 41856 | V3: 41890 | W3: 41921 | X3: 41932 | Y3: 41936
A4: Villa Gourmet Eventos LTDA-EPP | B4: 1 | C4: 1 | D4: COFFEE BREAK TIPO 1 - CONFORME TERMO DE REFERÊNCIA - Fpolis | G4: Pessoa | I4: 20 | J4: 7.1 | K4: =0+350 -> 350 | L4: =K4-(SUM(N4:Y4)) -> 0 | M4: =IF(L4<0,"ATENÇÃO","OK") -> OK | N4: 0 | O4: 0 | P4: 0 | Q4: 0 | R4: 0 | S4: 0 | T4: 0 | U4: 0 | V4: 0 | W4: 0 | X4: 350 | Y4: 0
C5: 2 | D5: COFFEE BREAK TIPO 2 - CONFORME TERMO DE REFERÊNCIA - Fpolis | G5: Pessoa | I5: 20 | J5: 8 | K5: =2000+300+300+500-65 -> 3035 | L5: =K5-(SUM(N5:Y5)) -> 340 | M5: =IF(L5<0,"ATENÇÃO","OK") -> OK | N5: 0 | O5: 100 | P5: 250 | Q5: 105 | R5: 660 | S5: 0 | T5: 590 | U5: 600 | V5: 230 | W5: 0 | X5: 0 | Y5: 160
C6: 3 | D6: COFFEE BREAK TIPO 3 - CONFORME TERMO DE REFERÊNCIA - Fpolis | G6: Pessoa | I6: 20 | J6: 11.2 | K6: =500+125-250 -> 375 | L6: =K6-(SUM(N6:Y6)) -> 125 | M6: =IF(L6<0,"ATENÇÃO","OK") -> OK | N6: 0 | O6: 0 | P6: 100 | Q6: 100 | R6: 0 | S6: 0 | T6: 0 | U6: 50 | V6: 0 | W6: 0 | X6: 0 | Y6: 0
C7: 4 | D7: COQUETEL - CONFORME TERMO DE REFERÊNCIA - Fpolis | G7: Pessoa | I7: 20 | J7: 25.98 | K7: =200+50+300 -> 550 | L7: =K7-(SUM(N7:Y7)) -> 50 | M7: =IF(L7<0,"ATENÇÃO","OK") -> OK | N7: 0 | O7: 0 | P7: 125 | Q7: 0 | R7: 0 | S7: 0 | T7: 0 | U7: 0 | V7: 375 | W7: 0 | X7: 0 | Y7: 0
B8: 2 | C8: 5 | D8: COFFEE BREAK TIPO 2 - CONFORME TERMO DE REFERÊNCIA - Baln Camboriú | G8: Pessoa | I8: 20 | J8: 12 | K8: 0 | L8: =K8-(SUM(N8:Y8)) -> 0 | M8: =IF(L8<0,"ATENÇÃO","OK") -> OK | N8: 0 | O8: 0 | P8: 0 | Q8: 0 | R8: 0 | S8: 0 | T8: 0 | U8: 0 | V8: 0 | W8: 0 | X8: 0 | Y8: 0
B9: 3 | C9: 6 | D9: COFFEE BREAK TIPO 3 - CONFORME TERMO DE REFERÊNCIA - Laguna | G9: Pessoa | I9: 20 | J9: 11.76 | K9: 0 | L9: =K9-(SUM(N9:Y9)) -> 0 | M9: =IF(L9<0,"ATENÇÃO","OK") -> OK | N9: 0 | O9: 0 | P9: 0 | Q9: 0 | R9: 0 | S9: 0 | T9: 0 | U9: 0 | V9: 0 | W9: 0 | X9: 0 | Y9: 0
C10: 7 | D10: COQUETEL - CONFORME TERMO DE REFERÊNCIA - Laguna | G10: Pessoa | I10: 20 | J10: 26.82 | K10: 0 | L10: =K10-(SUM(N10:Y10)) -> 0 | M10: =IF(L10<0,"ATENÇÃO","OK") -> OK | N10: 0 | O10: 0 | P10: 0 | Q10: 0 | R10: 0 | S10: 0 | T10: 0 | U10: 0 | V10: 0 | W10: 0 | X10: 0 | Y10: 0
B11: 4 | C11: 8 | D11: CAFÉ DA MANHÃ - CONFORME TERMO DE REFERÊNCIA - Chapecó. | G11: Refeição | I11: 20 | J11: 7.23 | K11: 900 | L11: =K11-(SUM(N11:Y11)) -> 100 | M11: =IF(L11<0,"ATENÇÃO","OK") -> OK | N11: 0 | O11: 0 | P11: 0 | Q11: 0 | R11: 0 | S11: 0 | T11: 0 | U11: 0 | V11: 0 | W11: 800 | X11: 0 | Y11: 0
C12: 9 | D12: ALMOÇO - CONFORME TERMO DE REFERÊNCIA - Chapecó | G12: Refeição | I12: 20 | J12: 15.9 | K12: 900 | L12: =K12-(SUM(N12:Y12)) -> 150 | M12: =IF(L12<0,"ATENÇÃO","OK") -> OK | N12: 0 | O12: 0 | P12: 0 | Q12: 0 | R12: 0 | S12: 0 | T12: 0 | U12: 0 | V12: 0 | W12: 750 | X12: 0 | Y12: 0
C13: 10 | D13: JANTAR - CONFORME TERMO DE REFERÊNCIA - Chapecó | G13: Refeição | I13: 20 | J13: 15.9 | K13: 900 | L13: =K13-(SUM(N13:Y13)) -> 50 | M13: =IF(L13<0,"ATENÇÃO","OK") -> OK | N13: 0 | O13: 0 | P13: 0 | Q13: 0 | R13: 0 | S13: 0 | T13: 0 | U13: 0 | V13: 0 | W13: 850 | X13: 0 | Y13: 0
B14: 5 | C14: 11 | D14: CAFÉ DA MANHÃ - CONFORME TERMO DE REFERÊNCIA - Lages | G14: Refeição | I14: 20 | J14: 4.94 | K14: 4800 | L14: =K14-(SUM(N14:Y14)) -> 0 | M14: =IF(L14<0,"ATENÇÃO","OK") -> OK | N14: 4800 | O14: 0 | P14: 0 | Q14: 0 | R14: 0 | S14: 0 | T14: 0 | U14: 0 | V14: 0 | W14: 0 | X14: 0 | Y14: 0
C15: 12 | D15: ALMOÇO - CONFORME TERMO DE REFERÊNCIA - Lages | G15: Refeição | I15: 20 | J15: 13.1 | K15: 4800 | L15: =K15-(SUM(N15:Y15)) -> 0 | M15: =IF(L15<0,"ATENÇÃO","OK") -> OK | N15: 4800 | O15: 0 | P15: 0 | Q15: 0 | R15: 0 | S15: 0 | T15: 0 | U15: 0 | V15: 0 | W15: 0 | X15: 0 | Y15: 0
C16: 13 | D16: JANTAR - CONFORME TERMO DE REFERÊNCIA - Lages | G16: Refeição | I16: 20 | J16: 13.1 | K16: 4800 | L16: =K16-(SUM(N16:Y16)) -> 0 | M16: =IF(L16<0,"ATENÇÃO","OK") -> OK | N16: 4800 | O16: 0 | P16: 0 | Q16: 0 | R16: 0 | S16: 0 | T16: 0 | U16: 0 | V16: 0 | W16: 0 | X16: 0 | Y16: 0
B17: 6 | C17: 14 | D17: CAFÉ DA MANHÃ - CONFORME TERMO DE REFERÊNCIA - cidade catarinense a definir | G17: Refeição | I17: 20 | J17: 7.92 | K17: 940 | L17: =K17-(SUM(N17:Y17)) -> 0 | M17: =IF(L17<0,"ATENÇÃO","OK") -> OK | N17: 0 | O17: 0 | P17: 0 | Q17: 0 | R17: 0 | S17: 940 | T17: 0 | U17: 0 | V17: 0 | W17: 0 | X17: 0 | Y17: 0
C18: 15 | D18: ALMOÇO - CONFORME TERMO DE REFERÊNCIA - cidade catarinense a definir | G18: Refeição | I18: 20 | J18: 17.1 | K18: 940 | L18: =K18-(SUM(N18:Y18)) -> 0 | M18: =IF(L18<0,"ATENÇÃO","OK") -> OK | N18: 0 | O18: 0 | P18: 0 | Q18: 0 | R18: 0 | S18: 940 | T18: 0 | U18: 0 | V18: 0 | W18: 0 | X18: 0 | Y18: 0
C19: 16 | D19: JANTAR - CONFORME TERMO DE REFERÊNCIA - cidade catarinense a definir | G19: Refeição | I19: 20 | J19: 17.1 | K19: 940 | L19: =K19-(SUM(N19:Y19)) -> 0 | M19: =IF(L19<0,"ATENÇÃO","OK") -> OK | N19: 0 | O19: 0 | P19: 0 | Q19: 0 | R19: 0 | S19: 940 | T19: 0 | U19: 0 | V19: 0 | W19: 0 | X19: 0 | Y19: 0

Sheet ESAG
A1: PROCESSO: 0252/2014/UDESC | D1: OBJETO: FORNECIMENTO DE REFEIÇÃO PARA JOGOS, COFFEE BREAK E COQUETEL | K1: VIGÊNCIA DA ATA: 28/04/2014 até 28/04/2015 | N1: AF/OS nº 471/2014 Qtde. DT | O1: AF/OS nº 943/2014 Qtde. DT | P1: AF/OS nº 1012/2014 Qtde. DT | Q1: AF/OS nº 1013/2014 Qtde. DT | R1: AF/OS nº 1033/2014Qtde. DT | S1: AF/OS nº 1286/2014Qtde. DT | T1: AF/OS nº 1482/2014 Qtde. DT | U1: AF/OS nº xxxx/2014 Qtde. DT | V1: AF/OS nº xxxx/2014 Qtde. DT | W1: AF/OS nº xxxx/2014 Qtde. DT | X1: AF/OS nº xxxx/2014 Qtde. DT | Y1: AF/OS nº xxxx/2014 Qtde. DT
A2: CENTRO PARTICIPANTE: ESAG
A3: FORNECEDOR | B3: LOTE | C3: ITEM | D3: PRODUTO - CARACTERÍSTICAS MÍNIMAS | E3: ELEMENTO | F3: MARCA | G3: UNIDADE | H3: Entrega (Dias) | I3: Pagto. (Dias) | J3: Preço UNITÁRIO (R$) | K3: Qtde LICITADA | L3: Saldo / Automático | M3: ALERTA | N3: ...../...../...... | O3: ...../...../...... | P3: ...../...../...... | Q3: ...../...../...... | R3: ...../...../...... | S3: ...../...../...... | T3: ...../...../...... | U3: ...../...../...... | V3: ...../...../...... | W3: ...../...../...... | X3: ...../...../...... | Y3: ...../...../......
A4: Villa Gourmet Eventos LTDA-EPP | B4: 1 | C4: 1 | D4: COFFEE BREAK TIPO 1 - CONFORME TERMO DE REFERÊNCIA - Fpolis | G4: Pessoa | I4: 20 | J4: 7.1 | K4: 0 | L4: =K4-(SUM(N4:Y4)) -> 0 | M4: =IF(L4<0,"ATENÇÃO","OK") -> OK | N4: 0 | O4: 0 | P4: 0 | Q4: 0 | R4: 0 | S4: 0 | T4: 0 | U4: 0 | V4: 0 | W4: 0 | X4: 0 | Y4: 0
C5: 2 | D5: COFFEE BREAK TIPO 2 - CONFORME TERMO DE REFERÊNCIA - Fpolis | G5: Pessoa | I5: 20 | J5: 8 | K5: 2500 | L5: =K5-(SUM(N5:Y5)) -> 1028 | M5: =IF(L5<0,"ATENÇÃO","OK") -> OK | N5: 500 | O5: 125 | P5: 250 | Q5: 120 | R5: 250 | S5: 40 | T5: 187 | U5: 0 | V5: 0 | W5: 0 | X5: 0 | Y5: 0
C6: 3 | D6: COFFEE BREAK TIPO 3 - CONFORME TERMO DE REFERÊNCIA - Fpolis | G6: Pessoa | I6: 20 | J6: 11.2 | K6: 400 | L6: =K6-(SUM(N6:Y6)) -> 300 | M6: =IF(L6<0,"ATENÇÃO","OK") -> OK | N6: 100 | O6: 0 | P6: 0 | Q6: 0 | R6: 0 | S6: 0 | T6: 0 | U6: 0 | V6: 0 | W6: 0 | X6: 0 | Y6: 0
C7: 4 | D7: COQUETEL - CONFORME TERMO DE REFERÊNCIA - Fpolis | G7: Pessoa | I7: 20 | J7: 25.98 | K7: 0 | L7: =K7-(SUM(N7:Y7)) -> 0 | M7: =IF(L7<0,"ATENÇÃO","OK") -> OK | N7: 0 | O7: 0 | P7: 0 | Q7: 0 | R7: 0 | S7: 0 | T7: 0 | U7: 0 | V7: 0 | W7: 0 | X7: 0 | Y7: 0
B8: 2 | C8: 5 | D8: COFFEE BREAK TIPO 2 - CONFORME TERMO DE REFERÊNCIA - Baln Camboriú | G8: Pessoa | I8: 20 | J8: 12 | K8: 0 | L8: =K8-(SUM(N8:Y8)) -> 0 | M8: =IF(L8<0,"ATENÇÃO","OK") -> OK | N8: 0 | O8: 0 | P8: 0 | Q8: 0 | R8: 0 | S8: 0 | T8: 0 | U8: 0 | V8: 0 | W8: 0 | X8: 0 | Y8: 0
B9: 3 | C9: 6 | D9: COFFEE BREAK TIPO 3 - CONFORME TERMO DE REFERÊNCIA - Laguna | G9: Pessoa | I9: 20 | J9: 11.76 | K9: 0 | L9: =K9-(SUM(N9:Y9)) -> 0 | M9: =IF(L9<0,"ATENÇÃO","OK") -> OK | N9: 0 | O9: 0 | P9: 0 | Q9: 0 | R9: 0 | S9: 0 | T9: 0 | U9: 0 | V9: 0 | W9: 0 | X9: 0 | Y9: 0
C10: 7 | D10: COQUETEL - CONFORME TERMO DE REFERÊNCIA - Laguna | G10: Pessoa | I10: 20 | J10: 26.82 | K10: 0 | L10: =K10-(SUM(N10:Y10)) -> 0 | M10: =IF(L10<0,"ATENÇÃO","OK") -> OK | N10: 0 | O10: 0 | P10: 0 | Q10: 0 | R10: 0 | S10: 0 | T10: 0 | U10: 0 | V10: 0 | W10: 0 | X10: 0 | Y10: 0
B11: 4 | C11: 8 | D11: CAFÉ DA MANHÃ - CONFORME TERMO DE REFERÊNCIA - Chapecó. | G11: Refeição | I11: 20 | J11: 7.23 | K11: 0 | L11: =K11-(SUM(N11:Y11)) -> 0 | M11: =IF(L11<0,"ATENÇÃO","OK") -> OK | N11: 0 | O11: 0 | P11: 0 | Q11: 0 | R11: 0 | S11: 0 | T11: 0 | U11: 0 | V11: 0 | W11: 0 | X11: 0 | Y11: 0
C12: 9 | D12: ALMOÇO - CONFORME TERMO DE REFERÊNCIA - Chapecó | G12: Refeição | I12: 20 | J12: 15.9 | K12: 0 | L12: =K12-(SUM(N12:Y12)) -> 0 | M12: =IF(L12<0,"ATENÇÃO","OK") -> OK | N12: 0 | O12: 0 | P12: 0 | Q12: 0 | R12: 0 | S12: 0 | T12: 0 | U12: 0 | V12: 0 | W12: 0 | X12: 0 | Y12: 0
C13: 10 | D13: JANTAR - CONFORME TERMO DE REFERÊNCIA - Chapecó | G13: Refeição | I13: 20 | J13: 15.9 | K13: 0 | L13: =K13-(SUM(N13:Y13)) -> 0 | M13: =IF(L13<0,"ATENÇÃO","OK") -> OK | N13: 0 | O13: 0 | P13: 0 | Q13: 0 | R13: 0 | S13: 0 | T13: 0 | U13: 0 | V13: 0 | W13: 0 | X13: 0 | Y13: 0
B14: 5 | C14: 11 | D14: CAFÉ DA MANHÃ - CONFORME TERMO DE REFERÊNCIA - Lages | G14: Refeição | I14: 20 | J14: 4.94 | K14: 0 | L14: =K14-(SUM(N14:Y14)) -> 0 | M14: =IF(L14<0,"ATENÇÃO","OK") -> OK | N14: 0 | O14: 0 | P14: 0 | Q14: 0 | R14: 0 | S14: 0 | T14: 0 | U14: 0 | V14: 0 | W14: 0 | X14: 0 | Y14: 0
C15: 12 | D15: ALMOÇO - CONFORME TERMO DE REFERÊNCIA - Lages | G15: Refeição | I15: 20 | J15: 13.1 | K15: 0 | L15: =K15-(SUM(N15:Y15)) -> 0 | M15: =IF(L15<0,"ATENÇÃO","OK") -> OK | N15: 0 | O15: 0 | P15: 0 | Q15: 0 | R15: 0 | S15: 0 | T15: 0 | U15: 0 | V15: 0 | W15: 0 | X15: 0 | Y15: 0
C16: 13 | D16: JANTAR - CONFORME TERMO DE REFERÊNCIA - Lages | G16: Refeição | I16: 20 | J16: 13.1 | K16: 0 | L16: =K16-(SUM(N16:Y16)) -> 0 | M16: =IF(L16<0,"ATENÇÃO","OK") -> OK | N16: 0 | O16: 0 | P16: 0 | Q16: 0 | R16: 0 | S16: 0 | T16: 0 | U16: 0 | V16: 0 | W16: 0 | X16: 0 | Y16: 0
B17: 6 | C17: 14 | D17: CAFÉ DA MANHÃ - CONFORME TERMO DE REFERÊNCIA - cidade catarinense a definir | G17: Refeição | I17: 20 | J17: 7.92 | K17: 0 | L17: =K17-(SUM(N17:Y17)) -> 0 | M17: =IF(L17<0,"ATENÇÃO","OK") -> OK | N17: 0 | O17: 0 | P17: 0 | Q17: 0 | R17: 0 | S17: 0 | T17: 0 | U17: 0 | V17: 0 | W17: 0 | X17: 0 | Y17: 0
C18: 15 | D18: ALMOÇO - CONFORME TERMO DE REFERÊNCIA - cidade catarinense a definir | G18: Refeição | I18: 20 | J18: 17.1 | K18: 0 | L18: =K18-(SUM(N18:Y18)) -> 0 | M18: =IF(L18<0,"ATENÇÃO","OK") -> OK | N18: 0 | O18: 0 | P18: 0 | Q18: 0 | R18: 0 | S18: 0 | T18: 0 | U18: 0 | V18: 0 | W18: 0 | X18: 0 | Y18: 0
C19: 16 | D19: JANTAR - CONFORME TERMO DE REFERÊNCIA - cidade catarinense a definir | G19: Refeição | I19: 20 | J19: 17.1 | K19: 0 | L19: =K19-(SUM(N19:Y19)) -> 0 | M19: =IF(L19<0,"ATENÇÃO","OK") -> OK | N19: 0 | O19: 0 | P19: 0 | Q19: 0 | R19: 0 | S19: 0 | T19: 0 | U19: 0 | V19: 0 | W19: 0 | X19: 0 | Y19: 0

Sheet CEART
A1: PROCESSO: 0252/2014/UDESC | D1: OBJETO: FORNECIMENTO DE REFEIÇÃO PARA JOGOS, COFFEE BREAK E COQUETEL | K1: VIGÊNCIA DA ATA: 28/04/2014 até 28/04/2015 | N1: OS 431/2014 | O1: OS 532/2014 | P1: OS 1016/2014 | Q1: OS 1300/2014 | R1: OS 1426/2014 | S1: AF/OS nº xxxx/2014 Qtde. DT | T1: AF/OS nº xxxx/2014 Qtde. DT | U1: AF/OS nº xxxx/2014 Qtde. DT | V1: AF/OS nº xxxx/2014 Qtde. DT | W1: AF/OS nº xxxx/2014 Qtde. DT | X1: AF/OS nº xxxx/2014 Qtde. DT | Y1: AF/OS nº xxxx/2014 Qtde. DT
A2: CENTRO PARTICIPANTE: CEART
A3: FORNECEDOR | B3: LOTE | C3: ITEM | D3: PRODUTO - CARACTERÍSTICAS MÍNIMAS | E3: ELEMENTO | F3: MARCA | G3: UNIDADE | H3: Entrega (Dias) | I3: Pagto. (Dias) | J3: Preço UNITÁRIO (R$) | K3: Qtde LICITADA | L3: Saldo / Automático | M3: ALERTA | N3: 41778 | O3: 41792 | P3: 41869 | Q3: 41900 | R3: 41918 | S3: ...../...../...... | T3: ...../...../...... | U3: ...../...../...... | V3: ...../...../...... | W3: ...../...../...... | X3: ...../...../...... | Y3: ...../...../......
A4: Villa Gourmet Eventos LTDA-EPP | B4: 1 | C4: 1 | D4: COFFEE BREAK TIPO 1 - CONFORME TERMO DE REFERÊNCIA - Fpolis | G4: Pessoa | I4: 20 | J4: 7.1 | K4: 260 | L4: =K4-(SUM(N4:Y4)) -> 260 | M4: =IF(L4<0,"ATENÇÃO","OK") -> OK | N4: 0 | O4: 0 | P4: 0 | Q4: 0 | R4: 0 | S4: 0 | T4: 0 | U4: 0 | V4: 0 | W4: 0 | X4: 0 | Y4: 0
C5: 2 | D5: COFFEE BREAK TIPO 2 - CONFORME TERMO DE REFERÊNCIA - Fpolis | G5: Pessoa | I5: 20 | J5: 8 | K5: =1080-300 -> 780 | L5: =K5-(SUM(N5:Y5)) -> 326 | M5: =IF(L5<0,"ATENÇÃO","OK") -> OK | N5: 80 | O5: 50 | P5: 124 | Q5: 160 | R5: 40 | S5: 0 | T5: 0 | U5: 0 | V5: 0 | W5: 0 | X5: 0 | Y5: 0
C6: 3 | D6: COFFEE BREAK TIPO 3 - CONFORME TERMO DE REFERÊNCIA - Fpolis | G6: Pessoa | I6: 20 | J6: 11.2 | K6: 160 | L6: =K6-(SUM(N6:Y6)) -> 160 | M6: =IF(L6<0,"ATENÇÃO","OK") -> OK | N6: 0 | O6: 0 | P6: 0 | Q6: 0 | R6: 0 | S6: 0 | T6: 0 | U6: 0 | V6: 0 | W6: 0 | X6: 0 | Y6: 0
C7: 4 | D7: COQUETEL - CONFORME TERMO DE REFERÊNCIA - Fpolis | G7: Pessoa | I7: 20 | J7: 25.98 | K7: 100 | L7: =K7-(SUM(N7:Y7)) -> 100 | M7: =IF(L7<0,"ATENÇÃO","OK") -> OK | N7: 0 | O7: 0 | P7: 0 | Q7: 0 | R7: 0 | S7: 0 | T7: 0 | U7: 0 | V7: 0 | W7: 0 | X7: 0 | Y7: 0
B8: 2 | C8: 5 | D8: COFFEE BREAK TIPO 2 - CONFORME TERMO DE REFERÊNCIA - Baln Camboriú | G8: Pessoa | I8: 20 | J8: 12 | K8: 0 | L8: =K8-(SUM(N8:Y8)) -> 0 | M8: =IF(L8<0,"ATENÇÃO","OK") -> OK | N8: 0 | O8: 0 | P8: 0 | Q8: 0 | R8: 0 | S8: 0 | T8: 0 | U8: 0 | V8: 0 | W8: 0 | X8: 0 | Y8: 0
B9: 3 | C9: 6 | D9: COFFEE BREAK TIPO 3 - CONFORME TERMO DE REFERÊNCIA - Laguna | G9: Pessoa | I9: 20 | J9: 11.76 | K9: 0 | L9: =K9-(SUM(N9:Y9)) -> 0 | M9: =IF(L9<0,"ATENÇÃO","OK") -> OK | N9: 0 | O9: 0 | P9: 0 | Q9: 0 | R9: 0 | S9: 0 | T9: 0 | U9: 0 | V9: 0 | W9: 0 | X9: 0 | Y9: 0
C10: 7 | D10: COQUETEL - CONFORME TERMO DE REFERÊNCIA - Laguna | G10: Pessoa | I10: 20 | J10: 26.82 | K10: 0 | L10: =K10-(SUM(N10:Y10)) -> 0 | M10: =IF(L10<0,"ATENÇÃO","OK") -> OK | N10: 0 | O10: 0 | P10: 0 | Q10: 0 | R10: 0 | S10: 0 | T10: 0 | U10: 0 | V10: 0 | W10: 0 | X10: 0 | Y10: 0
B11: 4 | C11: 8 | D11: CAFÉ DA MANHÃ - CONFORME TERMO DE REFERÊNCIA - Chapecó. | G11: Refeição | I11: 20 | J11: 7.23 | K11: 0 | L11: =K11-(SUM(N11:Y11)) -> 0 | M11: =IF(L11<0,"ATENÇÃO","OK") -> OK | N11: 0 | O11: 0 | P11: 0 | Q11: 0 | R11: 0 | S11: 0 | T11: 0 | U11: 0 | V11: 0 | W11: 0 | X11: 0 | Y11: 0
C12: 9 | D12: ALMOÇO - CONFORME TERMO DE REFERÊNCIA - Chapecó | G12: Refeição | I12: 20 | J12: 15.9 | K12: 0 | L12: =K12-(SUM(N12:Y12)) -> 0 | M12: =IF(L12<0,"ATENÇÃO","OK") -> OK | N12: 0 | O12: 0 | P12: 0 | Q12: 0 | R12: 0 | S12: 0 | T12: 0 | U12: 0 | V12: 0 | W12: 0 | X12: 0 | Y12: 0
C13: 10 | D13: JANTAR - CONFORME TERMO DE REFERÊNCIA - Chapecó | G13: Refeição | I13: 20 | J13: 15.9 | K13: 0 | L13: =K13-(SUM(N13:Y13)) -> 0 | M13: =IF(L13<0,"ATENÇÃO","OK") -> OK | N13: 0 | O13: 0 | P13: 0 | Q13: 0 | R13: 0 | S13: 0 | T13: 0 | U13: 0 | V13: 0 | W13: 0 | X13: 0 | Y13: 0
B14: 5 | C14: 11 | D14: CAFÉ DA MANHÃ - CONFORME TERMO DE REFERÊNCIA - Lages | G14: Refeição | I14: 20 | J14: 4.94 | K14: 0 | L14: =K14-(SUM(N14:Y14)) -> 0 | M14: =IF(L14<0,"ATENÇÃO","OK") -> OK | N14: 0 | O14: 0 | P14: 0 | Q14: 0 | R14: 0 | S14: 0 | T14: 0 | U14: 0 | V14: 0 | W14: 0 | X14: 0 | Y14: 0
C15: 12 | D15: ALMOÇO - CONFORME TERMO DE REFERÊNCIA - Lages | G15: Refeição | I15: 20 | J15: 13.1 | K15: 0 | L15: =K15-(SUM(N15:Y15)) -> 0 | M15: =IF(L15<0,"ATENÇÃO","OK") -> OK | N15: 0 | O15: 0 | P15: 0 | Q15: 0 | R15: 0 | S15: 0 | T15: 0 | U15: 0 | V15: 0 | W15: 0 | X15: 0 | Y15: 0
C16: 13 | D16: JANTAR - CONFORME TERMO DE REFERÊNCIA - Lages | G16: Refeição | I16: 20 | J16: 13.1 | K16: 0 | L16: =K16-(SUM(N16:Y16)) -> 0 | M16: =IF(L16<0,"ATENÇÃO","OK") -> OK | N16: 0 | O16: 0 | P16: 0 | Q16: 0 | R16: 0 | S16: 0 | T16: 0 | U16: 0 | V16: 0 | W16: 0 | X16: 0 | Y16: 0
B17: 6 | C17: 14 | D17: CAFÉ DA MANHÃ - CONFORME TERMO DE REFERÊNCIA - cidade catarinense a definir | G17: Refeição | I17: 20 | J17: 7.92 | K17: 0 | L17: =K17-(SUM(N17:Y17)) -> 0 | M17: =IF(L17<0,"ATENÇÃO","OK") -> OK | N17: 0 | O17: 0 | P17: 0 | Q17: 0 | R17: 0 | S17: 0 | T17: 0 | U17: 0 | V17: 0 | W17: 0 | X17: 0 | Y17: 0
C18: 15 | D18: ALMOÇO - CONFORME TERMO DE REFERÊNCIA - cidade catarinense a definir | G18: Refeição | I18: 20 | J18: 17.1 | K18: 0 | L18: =K18-(SUM(N18:Y18)) -> 0 | M18: =IF(L18<0,"ATENÇÃO","OK") -> OK | N18: 0 | O18: 0 | P18: 0 | Q18: 0 | R18: 0 | S18: 0 | T18: 0 | U18: 0 | V18: 0 | W18: 0 | X18: 0 | Y18: 0
C19: 16 | D19: JANTAR - CONFORME TERMO DE REFERÊNCIA - cidade catarinense a definir | G19: Refeição | I19: 20 | J19: 17.1 | K19: 0 | L19: =K19-(SUM(N19:Y19)) -> 0 | M19: =IF(L19<0,"ATENÇÃO","OK") -> OK | N19: 0 | O19: 0 | P19: 0 | Q19: 0 | R19: 0 | S19: 0 | T19: 0 | U19: 0 | V19: 0 | W19: 0 | X19: 0 | Y19: 0

Sheet FAED
A1: PROCESSO: 0252/2014/UDESC | D1: OBJETO: FORNECIMENTO DE REFEIÇÃO PARA JOGOS, COFFEE BREAK E COQUETEL | K1: VIGÊNCIA DA ATA: 28/04/2014 até 28/04/2015 | N1: AF nº 406/2014 Qtde. DT | O1: AF nº 620/2014 Qtde. DT | P1: AF nº 627/2014 Qtde. DT | Q1: AF nº 654/2014 Qtde. DT | R1: AF nº 962/2014 Qtde. DT | S1: AF nº 985/2014 Qtde. DT | T1: AF nº 987/2014 Qtde. DT | U1: AF nº 1102/2014 Qtde. DT | V1: AF nº 1130/2014 Qtde. DT | W1: AF nº 1189/2014 Qtde. DT | X1: AF nº 1250/2014 Qtde. DT | Y1: AF nº 1249/2014 Qtde. DT | Z1: AF nº 1284/2014 Qtde. DT | AA1: AF nº 1429/2014 Qtde. DT | AB1: AF nº 1490/2014 Qtde. DT | AC1: AF nº 1535/2014 Qtde. DT
A2: CENTRO PARTICIPANTE: FAED | O2: AF nº 620/2014 Qtde. DT | P2: AF nº 627/2014 Qtde. DT | Q2: AF nº 654/2014 Qtde. DT | R2: AF nº 962/2014 Qtde. DT | S2: AF nº 985/2014 Qtde. DT | T2: AF nº 987/2014 Qtde. DT | U2: AF nº 1102/2014 Qtde. DT | V2: AF nº 1130/2014 Qtde. DT | W2: AF nº 1189/2014 Qtde. DT | X2: AF nº 1250/2014 Qtde. DT | Y2: AF nº 1249/2014 Qtde. DT | Z2: AF nº 1284/2014 Qtde. DT | AA2: AF nº 1429/2014 Qtde. DT | AB2: AF nº 1490/2014 Qtde. DT | AC2: AF nº 1535/2014 Qtde. DT
A3: FORNECEDOR | B3: LOTE | C3: ITEM | D3: PRODUTO - CARACTERÍSTICAS MÍNIMAS | E3: ELEMENTO | F3: MARCA | G3: UNIDADE | H3: Entrega (Dias) | I3: Pagto. (Dias) | J3: Preço UNITÁRIO (R$) | K3: Qtde LICITADA | L3: Saldo / Automático | M3: ALERTA | N3: 41774 | O3: 41808 | P3: 41813 | Q3: 41822 | R3: 41865 | S3: 41869 | T3: 41869 | U3: 41884 | V3: ...../...../...... | W3: ...../...../......
A4: Villa Gourmet Eventos LTDA-EPP | B4: 1 | C4: 1 | D4: COFFEE BREAK TIPO 1 - CONFORME TERMO DE REFERÊNCIA - Fpolis | G4: Pessoa | I4: 20 | J4: 7.1 | K4: 0 | L4: =K4-(SUM(N4:AC4)) -> 0 | M4: =IF(L4<0,"ATENÇÃO","OK") -> OK | N4: 0 | O4: 0 | P4: 0 | Q4: 0 | R4: 0 | S4: 0 | T4: 0 | U4: 0 | V4: 0 | W4: 0 | X4: 0 | Y4: 0 | Z4: 0 | AA4: 0 | AB4: 0 | AC4: 0
C5: 2 | D5: COFFEE BREAK TIPO 2 - CONFORME TERMO DE REFERÊNCIA - Fpolis | G5: Pessoa | I5: 20 | J5: 8 | K5: =2040-300+65 -> 1805 | L5: =K5-(SUM(N5:AC5)) -> 100 | M5: =IF(L5<0,"ATENÇÃO","OK") -> OK | N5: 200 | O5: 200 | P5: 120 | Q5: 0 | R5: 150 | S5: 100 | T5: 120 | U5: 100 | V5: 150 | W5: 0 | X5: 100 | Y5: 150 | Z5: 50 | AA5: 100 | AB5: 80 | AC5: 85
C6: 3 | D6: COFFEE BREAK TIPO 3 - CONFORME TERMO DE REFERÊNCIA - Fpolis | G6: Pessoa | I6: 20 | J6: 11.2 | K6: =480+250 -> 730 | L6: =K6-(SUM(N6:AC6)) -> 90 | M6: =IF(L6<0,"ATENÇÃO","OK") -> OK | N6: 0 | O6: 0 | P6: 0 | Q6: 80 | R6: 0 | S6: 0 | T6: 0 | U6: 0 | V6: 0 | W6: 560 | X6: 0 | Y6: 0 | Z6: 0 | AA6: 0 | AB6: 0 | AC6: 0
C7: 4 | D7: COQUETEL - CONFORME TERMO DE REFERÊNCIA - Fpolis | G7: Pessoa | I7: 20 | J7: 25.98 | K7: =400-300 -> 100 | L7: =K7-(SUM(N7:AC7)) -> 100 | M7: =IF(L7<0,"ATENÇÃO","OK") -> OK | N7: 0 | O7: 0 | P7: 0 | Q7: 0 | R7: 0 | S7: 0 | T7: 0 | U7: 0 | V7: 0 | W7: 0 | X7: 0 | Y7: 0 | Z7: 0 | AA7: 0 | AB7: 0 | AC7: 0
B8: 2 | C8: 5 | D8: COFFEE BREAK TIPO 2 - CONFORME TERMO DE REFERÊNCIA - Baln Camboriú | G8: Pessoa | I8: 20 | J8: 12 | K8: 0 | L8: =K8-(SUM(N8:AC8)) -> 0 | M8: =IF(L8<0,"ATENÇÃO","OK") -> OK | N8: 0 | O8: 0 | P8: 0 | Q8: 0 | R8: 0 | S8: 0 | T8: 0 | U8: 0 | V8: 0 | W8: 0 | X8: 0 | Y8: 0 | Z8: 0 | AA8: 0 | AB8: 0 | AC8: 0
B9: 3 | C9: 6 | D9: COFFEE BREAK TIPO 3 - CONFORME TERMO DE REFERÊNCIA - Laguna | G9: Pessoa | I9: 20 | J9: 11.76 | K9: 0 | L9: =K9-(SUM(N9:AC9)) -> 0 | M9: =IF(L9<0,"ATENÇÃO","OK") -> OK | N9: 0 | O9: 0 | P9: 0 | Q9: 0 | R9: 0 | S9: 0 | T9: 0 | U9: 0 | V9: 0 | W9: 0 | X9: 0 | Y9: 0 | Z9: 0 | AA9: 0 | AB9: 0 | AC9: 0
C10: 7 | D10: COQUETEL - CONFORME TERMO DE REFERÊNCIA - Laguna | G10: Pessoa | I10: 20 | J10: 26.82 | K10: 0 | L10: =K10-(SUM(N10:AC10)) -> 0 | M10: =IF(L10<0,"ATENÇÃO","OK") -> OK | N10: 0 | O10: 0 | P10: 0 | Q10: 0 | R10: 0 | S10: 0 | T10: 0 | U10: 0 | V10: 0 | W10: 0 | X10: 0 | Y10: 0 | Z10: 0 | AA10: 0 | AB10: 0 | AC10: 0
B11: 4 | C11: 8 | D11: CAFÉ DA MANHÃ - CONFORME TERMO DE REFERÊNCIA - Chapecó. | G11: Refeição | I11: 20 | J11: 7.23 | K11: 0 | L11: =K11-(SUM(N11:AC11)) -> 0 | M11: =IF(L11<0,"ATENÇÃO","OK") -> OK | N11: 0 | O11: 0 | P11: 0 | Q11: 0 | R11: 0 | S11: 0 | T11: 0 | U11: 0 | V11: 0 | W11: 0 | X11: 0 | Y11: 0 | Z11: 0 | AA11: 0 | AB11: 0 | AC11: 0
C12: 9 | D12: ALMOÇO - CONFORME TERMO DE REFERÊNCIA - Chapecó | G12: Refeição | I12: 20 | J12: 15.9 | K12: 0 | L12: =K12-(SUM(N12:AC12)) -> 0 | M12: =IF(L12<0,"ATENÇÃO","OK") -> OK | N12: 0 | O12: 0 | P12: 0 | Q12: 0 | R12: 0 | S12: 0 | T12: 0 | U12: 0 | V12: 0 | W12: 0 | X12: 0 | Y12: 0 | Z12: 0 | AA12: 0 | AB12: 0 | AC12: 0
C13: 10 | D13: JANTAR - CONFORME TERMO DE REFERÊNCIA - Chapecó | G13: Refeição | I13: 20 | J13: 15.9 | K13: 0 | L13: =K13-(SUM(N13:AC13)) -> 0 | M13: =IF(L13<0,"ATENÇÃO","OK") -> OK | N13: 0 | O13: 0 | P13: 0 | Q13: 0 | R13: 0 | S13: 0 | T13: 0 | U13: 0 | V13: 0 | W13: 0 | X13: 0 | Y13: 0 | Z13: 0 | AA13: 0 | AB13: 0 | AC13: 0
B14: 5 | C14: 11 | D14: CAFÉ DA MANHÃ - CONFORME TERMO DE REFERÊNCIA - Lages | G14: Refeição | I14: 20 | J14: 4.94 | K14: 0 | L14: =K14-(SUM(N14:AC14)) -> 0 | M14: =IF(L14<0,"ATENÇÃO","OK") -> OK | N14: 0 | O14: 0 | P14: 0 | Q14: 0 | R14: 0 | S14: 0 | T14: 0 | U14: 0 | V14: 0 | W14: 0 | X14: 0 | Y14: 0 | Z14: 0 | AA14: 0 | AB14: 0 | AC14: 0
C15: 12 | D15: ALMOÇO - CONFORME TERMO DE REFERÊNCIA - Lages | G15: Refeição | I15: 20 | J15: 13.1 | K15: 0 | L15: =K15-(SUM(N15:AC15)) -> 0 | M15: =IF(L15<0,"ATENÇÃO","OK") -> OK | N15: 0 | O15: 0 | P15: 0 | Q15: 0 | R15: 0 | S15: 0 | T15: 0 | U15: 0 | V15: 0 | W15: 0 | X15: 0 | Y15: 0 | Z15: 0 | AA15: 0 | AB15: 0 | AC15: 0
C16: 13 | D16: JANTAR - CONFORME TERMO DE REFERÊNCIA - Lages | G16: Refeição | I16: 20 | J16: 13.1 | K16: 0 | L16: =K16-(SUM(N16:AC16)) -> 0 | M16: =IF(L16<0,"ATENÇÃO","OK") -> OK | N16: 0 | O16: 0 | P16: 0 | Q16: 0 | R16: 0 | S16: 0 | T16: 0 | U16: 0 | V16: 0 | W16: 0 | X16: 0 | Y16: 0 | Z16: 0 | AA16: 0 | AB16: 0 | AC16: 0
B17: 6 | C17: 14 | D17: CAFÉ DA MANHÃ - CONFORME TERMO DE REFERÊNCIA - cidade catarinense a definir | G17: Refeição | I17: 20 | J17: 7.92 | K17: 0 | L17: =K17-(SUM(N17:AC17)) -> 0 | M17: =IF(L17<0,"ATENÇÃO","OK") -> OK | N17: 0 | O17: 0 | P17: 0 | Q17: 0 | R17: 0 | S17: 0 | T17: 0 | U17: 0 | V17: 0 | W17: 0 | X17: 0 | Y17: 0 | Z17: 0 | AA17: 0 | AB17: 0 | AC17: 0
C18: 15 | D18: ALMOÇO - CONFORME TERMO DE REFERÊNCIA - cidade catarinense a definir | G18: Refeição | I18: 20 | J18: 17.1 | K18: 0 | L18: =K18-(SUM(N18:AC18)) -> 0 | M18: =IF(L18<0,"ATENÇÃO","OK") -> OK | N18: 0 | O18: 0 | P18: 0 | Q18: 0 | R18: 0 | S18: 0 | T18: 0 | U18: 0 | V18: 0 | W18: 0 | X18: 0 | Y18: 0 | Z18: 0 | AA18: 0 | AB18: 0 | AC18: 0
C19: 16 | D19: JANTAR - CONFORME TERMO DE REFERÊNCIA - cidade catarinense a definir | G19: Refeição | I19: 20 | J19: 17.1 | K19: 0 | L19: =K19-(SUM(N19:AC19)) -> 0 | M19: =IF(L19<0,"ATENÇÃO","OK") -> OK | N19: 0 | O19: 0 | P19: 0 | Q19: 0 | R19: 0 | S19: 0 | T19: 0 | U19: 0 | V19: 0 | W19: 0 | X19: 0 | Y19: 0 | Z19: 0 | AA19: 0 | AB19: 0 | AC19: 0

Sheet CEAD
A1: PROCESSO: 0252/2014/UDESC | D1: OBJETO: FORNECIMENTO DE REFEIÇÃO PARA JOGOS, COFFEE BREAK E COQUETEL | K1: VIGÊNCIA DA ATA: 28/04/2014 até 28/04/2015 | N1: AF/OS nº 486/2014 Qtde. DT | O1: AF/OS nº xxxx/2014 Qtde. DT | P1: AF/OS nº xxxx/2014 Qtde. DT | Q1: AF/OS nº xxxx/2014 Qtde. DT | R1: AF/OS nº xxxx/2014 Qtde. DT | S1: AF/OS nº xxxx/2014 Qtde. DT | T1: AF/OS nº xxxx/2014 Qtde. DT | U1: AF/OS nº xxxx/2014 Qtde. DT | V1: AF/OS nº xxxx/2014 Qtde. DT | W1: AF/OS nº xxxx/2014 Qtde. DT | X1: AF/OS nº xxxx/2014 Qtde. DT | Y1: AF/OS nº xxxx/2014 Qtde. DT
A2: CENTRO PARTICIPANTE: CEAD
A3: FORNECEDOR | B3: LOTE | C3: ITEM | D3: PRODUTO - CARACTERÍSTICAS MÍNIMAS | E3: ELEMENTO | F3: MARCA | G3: UNIDADE | H3: Entrega (Dias) | I3: Pagto. (Dias) | J3: Preço UNITÁRIO (R$) | K3: Qtde LICITADA | L3: Saldo / Automático | M3: ALERTA | N3: 41792 | O3: ...../...../...... | P3: ...../...../...... | Q3: ...../...../...... | R3: ...../...../...... | S3: ...../...../...... | T3: ...../...../...... | U3: ...../...../...... | V3: ...../...../...... | W3: ...../...../...... | X3: ...../...../...... | Y3: ...../...../......
A4: Villa Gourmet Eventos LTDA-EPP | B4: 1 | C4: 1 | D4: COFFEE BREAK TIPO 1 - CONFORME TERMO DE REFERÊNCIA - Fpolis | G4: Pessoa | I4: 20 | J4: 7.1 | K4: 320 | L4: =K4-(SUM(N4:Y4)) -> 0 | M4: =IF(L4<0,"ATENÇÃO","OK") -> OK | N4: 320 | O4: 0 | P4: 0 | Q4: 0 | R4: 0 | S4: 0 | T4: 0 | U4: 0 | V4: 0 | W4: 0 | X4: 0 | Y4: 0
C5: 2 | D5: COFFEE BREAK TIPO 2 - CONFORME TERMO DE REFERÊNCIA - Fpolis | G5: Pessoa | I5: 20 | J5: 8 | K5: 960 | L5: =K5-(SUM(N5:Y5)) -> 0 | M5: =IF(L5<0,"ATENÇÃO","OK") -> OK | N5: 960 | O5: 0 | P5: 0 | Q5: 0 | R5: 0 | S5: 0 | T5: 0 | U5: 0 | V5: 0 | W5: 0 | X5: 0 | Y5: 0
C6: 3 | D6: COFFEE BREAK TIPO 3 - CONFORME TERMO DE REFERÊNCIA - Fpolis | G6: Pessoa | I6: 20 | J6: 11.2 | K6: 340 | L6: =K6-(SUM(N6:Y6)) -> 0 | M6: =IF(L6<0,"ATENÇÃO","OK") -> OK | N6: 340 | O6: 0 | P6: 0 | Q6: 0 | R6: 0 | S6: 0 | T6: 0 | U6: 0 | V6: 0 | W6: 0 | X6: 0 | Y6: 0
C7: 4 | D7: COQUETEL - CONFORME TERMO DE REFERÊNCIA - Fpolis | G7: Pessoa | I7: 20 | J7: 25.98 | K7: 0 | L7: =K7-(SUM(N7:Y7)) -> 0 | M7: =IF(L7<0,"ATENÇÃO","OK") -> OK | N7: 0 | O7: 0 | P7: 0 | Q7: 0 | R7: 0 | S7: 0 | T7: 0 | U7: 0 | V7: 0 | W7: 0 | X7: 0 | Y7: 0
B8: 2 | C8: 5 | D8: COFFEE BREAK TIPO 2 - CONFORME TERMO DE REFERÊNCIA - Baln Camboriú | G8: Pessoa | I8: 20 | J8: 12 | K8: 0 | L8: =K8-(SUM(N8:Y8)) -> 0 | M8: =IF(L8<0,"ATENÇÃO","OK") -> OK | N8: 0 | O8: 0 | P8: 0 | Q8: 0 | R8: 0 | S8: 0 | T8: 0 | U8: 0 | V8: 0 | W8: 0 | X8: 0 | Y8: 0
B9: 3 | C9: 6 | D9: COFFEE BREAK TIPO 3 - CONFORME TERMO DE REFERÊNCIA - Laguna | G9: Pessoa | I9: 20 | J9: 11.76 | K9: 0 | L9: =K9-(SUM(N9:Y9)) -> 0 | M9: =IF(L9<0,"ATENÇÃO","OK") -> OK | N9: 0 | O9: 0 | P9: 0 | Q9: 0 | R9: 0 | S9: 0 | T9: 0 | U9: 0 | V9: 0 | W9: 0 | X9: 0 | Y9: 0
C10: 7 | D10: COQUETEL - CONFORME TERMO DE REFERÊNCIA - Laguna | G10: Pessoa | I10: 20 | J10: 26.82 | K10: 0 | L10: =K10-(SUM(N10:Y10)) -> 0 | M10: =IF(L10<0,"ATENÇÃO","OK") -> OK | N10: 0 | O10: 0 | P10: 0 | Q10: 0 | R10: 0 | S10: 0 | T10: 0 | U10: 0 | V10: 0 | W10: 0 | X10: 0 | Y10: 0
B11: 4 | C11: 8 | D11: CAFÉ DA MANHÃ - CONFORME TERMO DE REFERÊNCIA - Chapecó. | G11: Refeição | I11: 20 | J11: 7.23 | K11: 0 | L11: =K11-(SUM(N11:Y11)) -> 0 | M11: =IF(L11<0,"ATENÇÃO","OK") -> OK | N11: 0 | O11: 0 | P11: 0 | Q11: 0 | R11: 0 | S11: 0 | T11: 0 | U11: 0 | V11: 0 | W11: 0 | X11: 0 | Y11: 0
C12: 9 | D12: ALMOÇO - CONFORME TERMO DE REFERÊNCIA - Chapecó | G12: Refeição | I12: 20 | J12: 15.9 | K12: 0 | L12: =K12-(SUM(N12:Y12)) -> 0 | M12: =IF(L12<0,"ATENÇÃO","OK") -> OK | N12: 0 | O12: 0 | P12: 0 | Q12: 0 | R12: 0 | S12: 0 | T12: 0 | U12: 0 | V12: 0 | W12: 0 | X12: 0 | Y12: 0
C13: 10 | D13: JANTAR - CONFORME TERMO DE REFERÊNCIA - Chapecó | G13: Refeição | I13: 20 | J13: 15.9 | K13: 0 | L13: =K13-(SUM(N13:Y13)) -> 0 | M13: =IF(L13<0,"ATENÇÃO","OK") -> OK | N13: 0 | O13: 0 | P13: 0 | Q13: 0 | R13: 0 | S13: 0 | T13: 0 | U13: 0 | V13: 0 | W13: 0 | X13: 0 | Y13: 0
B14: 5 | C14: 11 | D14: CAFÉ DA MANHÃ - CONFORME TERMO DE REFERÊNCIA - Lages | G14: Refeição | I14: 20 | J14: 4.94 | K14: 0 | L14: =K14-(SUM(N14:Y14)) -> 0 | M14: =IF(L14<0,"ATENÇÃO","OK") -> OK | N14: 0 | O14: 0 | P14: 0 | Q14: 0 | R14: 0 | S14: 0 | T14: 0 | U14: 0 | V14: 0 | W14: 0 | X14: 0 | Y14: 0
C15: 12 | D15: ALMOÇO - CONFORME TERMO DE REFERÊNCIA - Lages | G15: Refeição | I15: 20 | J15: 13.1 | K15: 0 | L15: =K15-(SUM(N15:Y15)) -> 0 | M15: =IF(L15<0,"ATENÇÃO","OK") -> OK | N15: 0 | O15: 0 | P15: 0 | Q15: 0 | R15: 0 | S15: 0 | T15: 0 | U15: 0 | V15: 0 | W15: 0 | X15: 0 | Y15: 0
C16: 13 | D16: JANTAR - CONFORME TERMO DE REFERÊNCIA - Lages | G16: Refeição | I16: 20 | J16: 13.1 | K16: 0 | L16: =K16-(SUM(N16:Y16)) -> 0 | M16: =IF(L16<0,"ATENÇÃO","OK") -> OK | N16: 0 | O16: 0 | P16: 0 | Q16: 0 | R16: 0 | S16: 0 | T16: 0 | U16: 0 | V16: 0 | W16: 0 | X16: 0 | Y16: 0
B17: 6 | C17: 14 | D17: CAFÉ DA MANHÃ - CONFORME TERMO DE REFERÊNCIA - cidade catarinense a definir | G17: Refeição | I17: 20 | J17: 7.92 | K17: 0 | L17: =K17-(SUM(N17:Y17)) -> 0 | M17: =IF(L17<0,"ATENÇÃO","OK") -> OK | N17: 0 | O17: 0 | P17: 0 | Q17: 0 | R17: 0 | S17: 0 | T17: 0 | U17: 0 | V17: 0 | W17: 0 | X17: 0 | Y17: 0
C18: 15 | D18: ALMOÇO - CONFORME TERMO DE REFERÊNCIA - cidade catarinense a definir | G18: Refeição | I18: 20 | J18: 17.1 | K18: 0 | L18: =K18-(SUM(N18:Y18)) -> 0 | M18: =IF(L18<0,"ATENÇÃO","OK") -> OK | N18: 0 | O18: 0 | P18: 0 | Q18: 0 | R18: 0 | S18: 0 | T18: 0 | U18: 0 | V18: 0 | W18: 0 | X18: 0 | Y18: 0
C19: 16 | D19: JANTAR - CONFORME TERMO DE REFERÊNCIA - cidade catarinense a definir | G19: Refeição | I19: 20 | J19: 17.1 | K19: 0 | L19: =K19-(SUM(N19:Y19)) -> 0 | M19: =IF(L19<0,"ATENÇÃO","OK") -> OK | N19: 0 | O19: 0 | P19: 0 | Q19: 0 | R19: 0 | S19: 0 | T19: 0 | U19: 0 | V19: 0 | W19: 0 | X19: 0 | Y19: 0

Sheet CEFID
A1: PROCESSO: 0252/2014/UDESC | D1: OBJETO: FORNECIMENTO DE REFEIÇÃO PARA JOGOS, COFFEE BREAK E COQUETEL | K1: VIGÊNCIA DA ATA: 28/04/2014 até 28/04/2015 | N1: AF/OS nº 679/2014 Qtde. DT | O1: AF/OS nº 881/2014 Qtde. DT | P1: AF/OS nº 1028/2014 Qtde. DT | Q1: AF/OS nº 1263/2014 Qtde. DT | R1: AF/OS nº 1381/2014 Qtde. DT | S1: AF/OS nº xxxx/2014 Qtde. DT | T1: AF/OS nº xxxx/2014 Qtde. DT | U1: AF/OS nº xxxx/2014 Qtde. DT | V1: AF/OS nº xxxx/2014 Qtde. DT | W1: AF/OS nº xxxx/2014 Qtde. DT | X1: AF/OS nº xxxx/2014 Qtde. DT | Y1: AF/OS nº xxxx/2014 Qtde. DT
A2: CENTRO PARTICIPANTE: CEFID
A3: FORNECEDOR | B3: LOTE | C3: ITEM | D3: PRODUTO - CARACTERÍSTICAS MÍNIMAS | E3: ELEMENTO | F3: MARCA | G3: UNIDADE | H3: Entrega (Dias) | I3: Pagto. (Dias) | J3: Preço UNITÁRIO (R$) | K3: Qtde LICITADA | L3: Saldo / Automático | M3: ALERTA | N3: 41822 | O3: 41851 | P3: 41871 | Q3: 41897 | R3: 41912 | S3: ...../...../...... | T3: ...../...../...... | U3: ...../...../...... | V3: ...../...../...... | W3: ...../...../...... | X3: ...../...../...... | Y3: ...../...../......
A4: Villa Gourmet Eventos LTDA-EPP | B4: 1 | C4: 1 | D4: COFFEE BREAK TIPO 1 - CONFORME TERMO DE REFERÊNCIA - Fpolis | G4: Pessoa | I4: 20 | J4: 7.1 | K4: 0 | L4: =K4-(SUM(N4:Y4)) -> 0 | M4: =IF(L4<0,"ATENÇÃO","OK") -> OK | N4: 0 | O4: 0 | P4: 0 | Q4: 0 | R4: 0 | S4: 0 | T4: 0 | U4: 0 | V4: 0 | W4: 0 | X4: 0 | Y4: 0
C5: 2 | D5: COFFEE BREAK TIPO 2 - CONFORME TERMO DE REFERÊNCIA - Fpolis | G5: Pessoa | I5: 20 | J5: 8 | K5: 2000 | L5: =K5-(SUM(N5:Y5)) -> 1043 | M5: =IF(L5<0,"ATENÇÃO","OK") -> OK | N5: 50 | O5: 300 | P5: 80 | Q5: 390 | R5: 137 | S5: 0 | T5: 0 | U5: 0 | V5: 0 | W5: 0 | X5: 0 | Y5: 0
C6: 3 | D6: COFFEE BREAK TIPO 3 - CONFORME TERMO DE REFERÊNCIA - Fpolis | G6: Pessoa | I6: 20 | J6: 11.2 | K6: 0 | L6: =K6-(SUM(N6:Y6)) -> 0 | M6: =IF(L6<0,"ATENÇÃO","OK") -> OK | N6: 0 | O6: 0 | P6: 0 | Q6: 0 | R6: 0 | S6: 0 | T6: 0 | U6: 0 | V6: 0 | W6: 0 | X6: 0 | Y6: 0
C7: 4 | D7: COQUETEL - CONFORME TERMO DE REFERÊNCIA - Fpolis | G7: Pessoa | I7: 20 | J7: 25.98 | K7: 0 | L7: =K7-(SUM(N7:Y7)) -> 0 | M7: =IF(L7<0,"ATENÇÃO","OK") -> OK | N7: 0 | O7: 0 | P7: 0 | Q7: 0 | R7: 0 | S7: 0 | T7: 0 | U7: 0 | V7: 0 | W7: 0 | X7: 0 | Y7: 0
B8: 2 | C8: 5 | D8: COFFEE BREAK TIPO 2 - CONFORME TERMO DE REFERÊNCIA - Baln Camboriú | G8: Pessoa | I8: 20 | J8: 12 | K8: 0 | L8: =K8-(SUM(N8:Y8)) -> 0 | M8: =IF(L8<0,"ATENÇÃO","OK") -> OK | N8: 0 | O8: 0 | P8: 0 | Q8: 0 | R8: 0 | S8: 0 | T8: 0 | U8: 0 | V8: 0 | W8: 0 | X8: 0 | Y8: 0
B9: 3 | C9: 6 | D9: COFFEE BREAK TIPO 3 - CONFORME TERMO DE REFERÊNCIA - Laguna | G9: Pessoa | I9: 20 | J9: 11.76 | K9: 0 | L9: =K9-(SUM(N9:Y9)) -> 0 | M9: =IF(L9<0,"ATENÇÃO","OK") -> OK | N9: 0 | O9: 0 | P9: 0 | Q9: 0 | R9: 0 | S9: 0 | T9: 0 | U9: 0 | V9: 0 | W9: 0 | X9: 0 | Y9: 0
C10: 7 | D10: COQUETEL - CONFORME TERMO DE REFERÊNCIA - Laguna | G10: Pessoa | I10: 20 | J10: 26.82 | K10: 0 | L10: =K10-(SUM(N10:Y10)) -> 0 | M10: =IF(L10<0,"ATENÇÃO","OK") -> OK | N10: 0 | O10: 0 | P10: 0 | Q10: 0 | R10: 0 | S10: 0 | T10: 0 | U10: 0 | V10: 0 | W10: 0 | X10: 0 | Y10: 0
B11: 4 | C11: 8 | D11: CAFÉ DA MANHÃ - CONFORME TERMO DE REFERÊNCIA - Chapecó. | G11: Refeição | I11: 20 | J11: 7.23 | K11: 0 | L11: =K11-(SUM(N11:Y11)) -> 0 | M11: =IF(L11<0,"ATENÇÃO","OK") -> OK | N11: 0 | O11: 0 | P11: 0 | Q11: 0 | R11: 0 | S11: 0 | T11: 0 | U11: 0 | V11: 0 | W11: 0 | X11: 0 | Y11: 0
C12: 9 | D12: ALMOÇO - CONFORME TERMO DE REFERÊNCIA - Chapecó | G12: Refeição | I12: 20 | J12: 15.9 | K12: 0 | L12: =K12-(SUM(N12:Y12)) -> 0 | M12: =IF(L12<0,"ATENÇÃO","OK") -> OK | N12: 0 | O12: 0 | P12: 0 | Q12: 0 | R12: 0 | S12: 0 | T12: 0 | U12: 0 | V12: 0 | W12: 0 | X12: 0 | Y12: 0
C13: 10 | D13: JANTAR - CONFORME TERMO DE REFERÊNCIA - Chapecó | G13: Refeição | I13: 20 | J13: 15.9 | K13: 0 | L13: =K13-(SUM(N13:Y13)) -> 0 | M13: =IF(L13<0,"ATENÇÃO","OK") -> OK | N13: 0 | O13: 0 | P13: 0 | Q13: 0 | R13: 0 | S13: 0 | T13: 0 | U13: 0 | V13: 0 | W13: 0 | X13: 0 | Y13: 0
B14: 5 | C14: 11 | D14: CAFÉ DA MANHÃ - CONFORME TERMO DE REFERÊNCIA - Lages | G14: Refeição | I14: 20 | J14: 4.94 | K14: 0 | L14: =K14-(SUM(N14:Y14)) -> 0 | M14: =IF(L14<0,"ATENÇÃO","OK") -> OK | N14: 0 | O14: 0 | P14: 0 | Q14: 0 | R14: 0 | S14: 0 | T14: 0 | U14: 0 | V14: 0 | W14: 0 | X14: 0 | Y14: 0
C15: 12 | D15: ALMOÇO - CONFORME TERMO DE REFERÊNCIA - Lages | G15: Refeição | I15: 20 | J15: 13.1 | K15: 0 | L15: =K15-(SUM(N15:Y15)) -> 0 | M15: =IF(L15<0,"ATENÇÃO","OK") -> OK | N15: 0 | O15: 0 | P15: 0 | Q15: 0 | R15: 0 | S15: 0 | T15: 0 | U15: 0 | V15: 0 | W15: 0 | X15: 0 | Y15: 0
C16: 13 | D16: JANTAR - CONFORME TERMO DE REFERÊNCIA - Lages | G16: Refeição | I16: 20 | J16: 13.1 | K16: 0 | L16: =K16-(SUM(N16:Y16)) -> 0 | M16: =IF(L16<0,"ATENÇÃO","OK") -> OK | N16: 0 | O16: 0 | P16: 0 | Q16: 0 | R16: 0 | S16: 0 | T16: 0 | U16: 0 | V16: 0 | W16: 0 | X16: 0 | Y16: 0
B17: 6 | C17: 14 | D17: CAFÉ DA MANHÃ - CONFORME TERMO DE REFERÊNCIA - cidade catarinense a definir | G17: Refeição | I17: 20 | J17: 7.92 | K17: 0 | L17: =K17-(SUM(N17:Y17)) -> 0 | M17: =IF(L17<0,"ATENÇÃO","OK") -> OK | N17: 0 | O17: 0 | P17: 0 | Q17: 0 | R17: 0 | S17: 0 | T17: 0 | U17: 0 | V17: 0 | W17: 0 | X17: 0 | Y17: 0
C18: 15 | D18: ALMOÇO - CONFORME TERMO DE REFERÊNCIA - cidade catarinense a definir | G18: Refeição | I18: 20 | J18: 17.1 | K18: 0 | L18: =K18-(SUM(N18:Y18)) -> 0 | M18: =IF(L18<0,"ATENÇÃO","OK") -> OK | N18: 0 | O18: 0 | P18: 0 | Q18: 0 | R18: 0 | S18: 0 | T18: 0 | U18: 0 | V18: 0 | W18: 0 | X18: 0 | Y18: 0
C19: 16 | D19: JANTAR - CONFORME TERMO DE REFERÊNCIA - cidade catarinense a definir | G19: Refeição | I19: 20 | J19: 17.1 | K19: 0 | L19: =K19-(SUM(N19:Y19)) -> 0 | M19: =IF(L19<0,"ATENÇÃO","OK") -> OK | N19: 0 | O19: 0 | P19: 0 | Q19: 0 | R19: 0 | S19: 0 | T19: 0 | U19: 0 | V19: 0 | W19: 0 | X19: 0 | Y19: 0

Sheet CESFI
A1: PROCESSO: 0252/2014/UDESC | D1: OBJETO: FORNECIMENTO DE REFEIÇÃO PARA JOGOS, COFFEE BREAK E COQUETEL | K1: VIGÊNCIA DA ATA: 28/04/2014 até 28/04/2015 | N1: AF/OS nº xxxx/2014 Qtde. DT | O1: AF/OS nº xxxx/2014 Qtde. DT | P1: AF/OS nº xxxx/2014 Qtde. DT | Q1: AF/OS nº xxxx/2014 Qtde. DT | R1: AF/OS nº xxxx/2014 Qtde. DT | S1: AF/OS nº xxxx/2014 Qtde. DT | T1: AF/OS nº xxxx/2014 Qtde. DT | U1: AF/OS nº xxxx/2014 Qtde. DT | V1: AF/OS nº xxxx/2014 Qtde. DT | W1: AF/OS nº xxxx/2014 Qtde. DT | X1: AF/OS nº xxxx/2014 Qtde. DT | Y1: AF/OS nº xxxx/2014 Qtde. DT
A2: CENTRO PARTICIPANTE: CESFI
A3: FORNECEDOR | B3: LOTE | C3: ITEM | D3: PRODUTO - CARACTERÍSTICAS MÍNIMAS | E3: ELEMENTO | F3: MARCA | G3: UNIDADE | H3: Entrega (Dias) | I3: Pagto. (Dias) | J3: Preço UNITÁRIO (R$) | K3: Qtde LICITADA | L3: Saldo / Automático | M3: ALERTA | N3: ...../...../...... | O3: ...../...../...... | P3: ...../...../...... | Q3: ...../...../...... | R3: ...../...../...... | S3: ...../...../...... | T3: ...../...../...... | U3: ...../...../...... | V3: ...../...../...... | W3: ...../...../...... | X3: ...../...../...... | Y3: ...../...../......
A4: Villa Gourmet Eventos LTDA-EPP | B4: 1 | C4: 1 | D4: COFFEE BREAK TIPO 1 - CONFORME TERMO DE REFERÊNCIA - Fpolis | G4: Pessoa | I4: 20 | J4: 7.1 | K4: 0 | L4: =K4-(SUM(N4:Y4)) -> 0 | M4: =IF(L4<0,"ATENÇÃO","OK") -> OK | N4: 0 | O4: 0 | P4: 0 | Q4: 0 | R4: 0 | S4: 0 | T4: 0 | U4: 0 | V4: 0 | W4: 0 | X4: 0 | Y4: 0
C5: 2 | D5: COFFEE BREAK TIPO 2 - CONFORME TERMO DE REFERÊNCIA - Fpolis | G5: Pessoa | I5: 20 | J5: 8 | K5: 0 | L5: =K5-(SUM(N5:Y5)) -> 0 | M5: =IF(L5<0,"ATENÇÃO","OK") -> OK | N5: 0 | O5: 0 | P5: 0 | Q5: 0 | R5: 0 | S5: 0 | T5: 0 | U5: 0 | V5: 0 | W5: 0 | X5: 0 | Y5: 0
C6: 3 | D6: COFFEE BREAK TIPO 3 - CONFORME TERMO DE REFERÊNCIA - Fpolis | G6: Pessoa | I6: 20 | J6: 11.2 | K6: 0 | L6: =K6-(SUM(N6:Y6)) -> 0 | M6: =IF(L6<0,"ATENÇÃO","OK") -> OK | N6: 0 | O6: 0 | P6: 0 | Q6: 0 | R6: 0 | S6: 0 | T6: 0 | U6: 0 | V6: 0 | W6: 0 | X6: 0 | Y6: 0
C7: 4 | D7: COQUETEL - CONFORME TERMO DE REFERÊNCIA - Fpolis | G7: Pessoa | I7: 20 | J7: 25.98 | K7: 0 | L7: =K7-(SUM(N7:Y7)) -> 0 | M7: =IF(L7<0,"ATENÇÃO","OK") -> OK | N7: 0 | O7: 0 | P7: 0 | Q7: 0 | R7: 0 | S7: 0 | T7: 0 | U7: 0 | V7: 0 | W7: 0 | X7: 0 | Y7: 0
B8: 2 | C8: 5 | D8: COFFEE BREAK TIPO 2 - CONFORME TERMO DE REFERÊNCIA - Baln Camboriú | G8: Pessoa | I8: 20 | J8: 12 | K8: 180 | L8: =K8-(SUM(N8:Y8)) -> 180 | M8: =IF(L8<0,"ATENÇÃO","OK") -> OK | N8: 0 | O8: 0 | P8: 0 | Q8: 0 | R8: 0 | S8: 0 | T8: 0 | U8: 0 | V8: 0 | W8: 0 | X8: 0 | Y8: 0
B9: 3 | C9: 6 | D9: COFFEE BREAK TIPO 3 - CONFORME TERMO DE REFERÊNCIA - Laguna | G9: Pessoa | I9: 20 | J9: 11.76 | K9: 0 | L9: =K9-(SUM(N9:Y9)) -> 0 | M9: =IF(L9<0,"ATENÇÃO","OK") -> OK | N9: 0 | O9: 0 | P9: 0 | Q9: 0 | R9: 0 | S9: 0 | T9: 0 | U9: 0 | V9: 0 | W9: 0 | X9: 0 | Y9: 0
C10: 7 | D10: COQUETEL - CONFORME TERMO DE REFERÊNCIA - Laguna | G10: Pessoa | I10: 20 | J10: 26.82 | K10: 0 | L10: =K10-(SUM(N10:Y10)) -> 0 | M10: =IF(L10<0,"ATENÇÃO","OK") -> OK | N10: 0 | O10: 0 | P10: 0 | Q10: 0 | R10: 0 | S10: 0 | T10: 0 | U10: 0 | V10: 0 | W10: 0 | X10: 0 | Y10: 0
B11: 4 | C11: 8 | D11: CAFÉ DA MANHÃ - CONFORME TERMO DE REFERÊNCIA - Chapecó. | G11: Refeição | I11: 20 | J11: 7.23 | K11: 0 | L11: =K11-(SUM(N11:Y11)) -> 0 | M11: =IF(L11<0,"ATENÇÃO","OK") -> OK | N11: 0 | O11: 0 | P11: 0 | Q11: 0 | R11: 0 | S11: 0 | T11: 0 | U11: 0 | V11: 0 | W11: 0 | X11: 0 | Y11: 0
C12: 9 | D12: ALMOÇO - CONFORME TERMO DE REFERÊNCIA - Chapecó | G12: Refeição | I12: 20 | J12: 15.9 | K12: 0 | L12: =K12-(SUM(N12:Y12)) -> 0 | M12: =IF(L12<0,"ATENÇÃO","OK") -> OK | N12: 0 | O12: 0 | P12: 0 | Q12: 0 | R12: 0 | S12: 0 | T12: 0 | U12: 0 | V12: 0 | W12: 0 | X12: 0 | Y12: 0
C13: 10 | D13: JANTAR - CONFORME TERMO DE REFERÊNCIA - Chapecó | G13: Refeição | I13: 20 | J13: 15.9 | K13: 0 | L13: =K13-(SUM(N13:Y13)) -> 0 | M13: =IF(L13<0,"ATENÇÃO","OK") -> OK | N13: 0 | O13: 0 | P13: 0 | Q13: 0 | R13: 0 | S13: 0 | T13: 0 | U13: 0 | V13: 0 | W13: 0 | X13: 0 | Y13: 0
B14: 5 | C14: 11 | D14: CAFÉ DA MANHÃ - CONFORME TERMO DE REFERÊNCIA - Lages | G14: Refeição | I14: 20 | J14: 4.94 | K14: 0 | L14: =K14-(SUM(N14:Y14)) -> 0 | M14: =IF(L14<0,"ATENÇÃO","OK") -> OK | N14: 0 | O14: 0 | P14: 0 | Q14: 0 | R14: 0 | S14: 0 | T14: 0 | U14: 0 | V14: 0 | W14: 0 | X14: 0 | Y14: 0
C15: 12 | D15: ALMOÇO - CONFORME TERMO DE REFERÊNCIA - Lages | G15: Refeição | I15: 20 | J15: 13.1 | K15: 0 | L15: =K15-(SUM(N15:Y15)) -> 0 | M15: =IF(L15<0,"ATENÇÃO","OK") -> OK | N15: 0 | O15: 0 | P15: 0 | Q15: 0 | R15: 0 | S15: 0 | T15: 0 | U15: 0 | V15: 0 | W15: 0 | X15: 0 | Y15: 0
C16: 13 | D16: JANTAR - CONFORME TERMO DE REFERÊNCIA - Lages | G16: Refeição | I16: 20 | J16: 13.1 | K16: 0 | L16: =K16-(SUM(N16:Y16)) -> 0 | M16: =IF(L16<0,"ATENÇÃO","OK") -> OK | N16: 0 | O16: 0 | P16: 0 | Q16: 0 | R16: 0 | S16: 0 | T16: 0 | U16: 0 | V16: 0 | W16: 0 | X16: 0 | Y16: 0
B17: 6 | C17: 14 | D17: CAFÉ DA MANHÃ - CONFORME TERMO DE REFERÊNCIA - cidade catarinense a definir | G17: Refeição | I17: 20 | J17: 7.92 | K17: 0 | L17: =K17-(SUM(N17:Y17)) -> 0 | M17: =IF(L17<0,"ATENÇÃO","OK") -> OK | N17: 0 | O17: 0 | P17: 0 | Q17: 0 | R17: 0 | S17: 0 | T17: 0 | U17: 0 | V17: 0 | W17: 0 | X17: 0 | Y17: 0
C18: 15 | D18: ALMOÇO - CONFORME TERMO DE REFERÊNCIA - cidade catarinense a definir | G18: Refeição | I18: 20 | J18: 17.1 | K18: 0 | L18: =K18-(SUM(N18:Y18)) -> 0 | M18: =IF(L18<0,"ATENÇÃO","OK") -> OK | N18: 0 | O18: 0 | P18: 0 | Q18: 0 | R18: 0 | S18: 0 | T18: 0 | U18: 0 | V18: 0 | W18: 0 | X18: 0 | Y18: 0
C19: 16 | D19: JANTAR - CONFORME TERMO DE REFERÊNCIA - cidade catarinense a definir | G19: Refeição | I19: 20 | J19: 17.1 | K19: 0 | L19: =K19-(SUM(N19:Y19)) -> 0 | M19: =IF(L19<0,"ATENÇÃO","OK") -> OK | N19: 0 | O19: 0 | P19: 0 | Q19: 0 | R19: 0 | S19: 0 | T19: 0 | U19: 0 | V19: 0 | W19: 0 | X19: 0 | Y19: 0

Sheet CERES
A1: PROCESSO: 0252/2014/UDESC | D1: OBJETO: FORNECIMENTO DE REFEIÇÃO PARA JOGOS, COFFEE BREAK E COQUETEL | K1: VIGÊNCIA DA ATA: 28/04/2014 até 28/04/2015 | N1: AF/OS nº 635/2014 Qtde. DT | O1: AF/OS nº 1190/2014 Qtde. DT | P1: AF/OS nº 1813/2014 Qtde. DT | Q1: AF/OS nº xxxx/2014 Qtde. DT | R1: AF/OS nº xxxx/2014 Qtde. DT | S1: AF/OS nº xxxx/2014 Qtde. DT | T1: AF/OS nº xxxx/2014 Qtde. DT | U1: AF/OS nº xxxx/2014 Qtde. DT | V1: AF/OS nº xxxx/2014 Qtde. DT | W1: AF/OS nº xxxx/2014 Qtde. DT | X1: AF/OS nº xxxx/2014 Qtde. DT | Y1: AF/OS nº xxxx/2014 Qtde. DT
A2: CENTRO PARTICIPANTE: CERES
A3: FORNECEDOR | B3: LOTE | C3: ITEM | D3: PRODUTO - CARACTERÍSTICAS MÍNIMAS | E3: ELEMENTO | F3: MARCA | G3: UNIDADE | H3: Entrega (Dias) | I3: Pagto. (Dias) | J3: Preço UNITÁRIO (R$) | K3: Qtde LICITADA | L3: Saldo / Automático | M3: ALERTA | N3: ...../...../...... | O3: ...../...../...... | P3: ...../...../...... | Q3: ...../...../...... | R3: ...../...../...... | S3: ...../...../...... | T3: ...../...../...... | U3: ...../...../...... | V3: ...../...../...... | W3: ...../...../...... | X3: ...../...../...... | Y3: ...../...../......
A4: Villa Gourmet Eventos LTDA-EPP | B4: 1 | C4: 1 | D4: COFFEE BREAK TIPO 1 - CONFORME TERMO DE REFERÊNCIA - Fpolis | G4: Pessoa | I4: 20 | J4: 7.1 | K4: 0 | L4: =K4-(SUM(N4:Y4)) -> 0 | M4: =IF(L4<0,"ATENÇÃO","OK") -> OK | N4: 0 | O4: 0 | P4: 0 | Q4: 0 | R4: 0 | S4: 0 | T4: 0 | U4: 0 | V4: 0 | W4: 0 | X4: 0 | Y4: 0
C5: 2 | D5: COFFEE BREAK TIPO 2 - CONFORME TERMO DE REFERÊNCIA - Fpolis | G5: Pessoa | I5: 20 | J5: 8 | K5: 0 | L5: =K5-(SUM(N5:Y5)) -> 0 | M5: =IF(L5<0,"ATENÇÃO","OK") -> OK | N5: 0 | O5: 0 | P5: 0 | Q5: 0 | R5: 0 | S5: 0 | T5: 0 | U5: 0 | V5: 0 | W5: 0 | X5: 0 | Y5: 0
C6: 3 | D6: COFFEE BREAK TIPO 3 - CONFORME TERMO DE REFERÊNCIA - Fpolis | G6: Pessoa | I6: 20 | J6: 11.2 | K6: 0 | L6: =K6-(SUM(N6:Y6)) -> 0 | M6: =IF(L6<0,"ATENÇÃO","OK") -> OK | N6: 0 | O6: 0 | P6: 0 | Q6: 0 | R6: 0 | S6: 0 | T6: 0 | U6: 0 | V6: 0 | W6: 0 | X6: 0 | Y6: 0
C7: 4 | D7: COQUETEL - CONFORME TERMO DE REFERÊNCIA - Fpolis | G7: Pessoa | I7: 20 | J7: 25.98 | K7: 0 | L7: =K7-(SUM(N7:Y7)) -> 0 | M7: =IF(L7<0,"ATENÇÃO","OK") -> OK | N7: 0 | O7: 0 | P7: 0 | Q7: 0 | R7: 0 | S7: 0 | T7: 0 | U7: 0 | V7: 0 | W7: 0 | X7: 0 | Y7: 0
B8: 2 | C8: 5 | D8: COFFEE BREAK TIPO 2 - CONFORME TERMO DE REFERÊNCIA - Baln Camboriú | G8: Pessoa | I8: 20 | J8: 12 | K8: 0 | L8: =K8-(SUM(N8:Y8)) -> 0 | M8: =IF(L8<0,"ATENÇÃO","OK") -> OK | N8: 0 | O8: 0 | P8: 0 | Q8: 0 | R8: 0 | S8: 0 | T8: 0 | U8: 0 | V8: 0 | W8: 0 | X8: 0 | Y8: 0
B9: 3 | C9: 6 | D9: COFFEE BREAK TIPO 3 - CONFORME TERMO DE REFERÊNCIA - Laguna | G9: Pessoa | I9: 20 | J9: 11.76 | K9: 2600 | L9: =K9-(SUM(N9:Y9)) -> 2280 | M9: =IF(L9<0,"ATENÇÃO","OK") -> OK | N9: 150 | O9: 100 | P9: 70 | Q9: 0 | R9: 0 | S9: 0 | T9: 0 | U9: 0 | V9: 0 | W9: 0 | X9: 0 | Y9: 0
C10: 7 | D10: COQUETEL - CONFORME TERMO DE REFERÊNCIA - Laguna | G10: Pessoa | I10: 20 | J10: 26.82 | K10: 150 | L10: =K10-(SUM(N10:Y10)) -> 150 | M10: =IF(L10<0,"ATENÇÃO","OK") -> OK | N10: 0 | O10: 0 | P10: 0 | Q10: 0 | R10: 0 | S10: 0 | T10: 0 | U10: 0 | V10: 0 | W10: 0 | X10: 0 | Y10: 0
B11: 4 | C11: 8 | D11: CAFÉ DA MANHÃ - CONFORME TERMO DE REFERÊNCIA - Chapecó. | G11: Refeição | I11: 20 | J11: 7.23 | K11: 0 | L11: =K11-(SUM(N11:Y11)) -> 0 | M11: =IF(L11<0,"ATENÇÃO","OK") -> OK | N11: 0 | O11: 0 | P11: 0 | Q11: 0 | R11: 0 | S11: 0 | T11: 0 | U11: 0 | V11: 0 | W11: 0 | X11: 0 | Y11: 0
C12: 9 | D12: ALMOÇO - CONFORME TERMO DE REFERÊNCIA - Chapecó | G12: Refeição | I12: 20 | J12: 15.9 | K12: 0 | L12: =K12-(SUM(N12:Y12)) -> 0 | M12: =IF(L12<0,"ATENÇÃO","OK") -> OK | N12: 0 | O12: 0 | P12: 0 | Q12: 0 | R12: 0 | S12: 0 | T12: 0 | U12: 0 | V12: 0 | W12: 0 | X12: 0 | Y12: 0
C13: 10 | D13: JANTAR - CONFORME TERMO DE REFERÊNCIA - Chapecó | G13: Refeição | I13: 20 | J13: 15.9 | K13: 0 | L13: =K13-(SUM(N13:Y13)) -> 0 | M13: =IF(L13<0,"ATENÇÃO","OK") -> OK | N13: 0 | O13: 0 | P13: 0 | Q13: 0 | R13: 0 | S13: 0 | T13: 0 | U13: 0 | V13: 0 | W13: 0 | X13: 0 | Y13: 0
B14: 5 | C14: 11 | D14: CAFÉ DA MANHÃ - CONFORME TERMO DE REFERÊNCIA - Lages | G14: Refeição | I14: 20 | J14: 4.94 | K14: 0 | L14: =K14-(SUM(N14:Y14)) -> 0 | M14: =IF(L14<0,"ATENÇÃO","OK") -> OK | N14: 0 | O14: 0 | P14: 0 | Q14: 0 | R14: 0 | S14: 0 | T14: 0 | U14: 0 | V14: 0 | W14: 0 | X14: 0 | Y14: 0
C15: 12 | D15: ALMOÇO - CONFORME TERMO DE REFERÊNCIA - Lages | G15: Refeição | I15: 20 | J15: 13.1 | K15: 0 | L15: =K15-(SUM(N15:Y15)) -> 0 | M15: =IF(L15<0,"ATENÇÃO","OK") -> OK | N15: 0 | O15: 0 | P15: 0 | Q15: 0 | R15: 0 | S15: 0 | T15: 0 | U15: 0 | V15: 0 | W15: 0 | X15: 0 | Y15: 0
C16: 13 | D16: JANTAR - CONFORME TERMO DE REFERÊNCIA - Lages | G16: Refeição | I16: 20 | J16: 13.1 | K16: 0 | L16: =K16-(SUM(N16:Y16)) -> 0 | M16: =IF(L16<0,"ATENÇÃO","OK") -> OK | N16: 0 | O16: 0 | P16: 0 | Q16: 0 | R16: 0 | S16: 0 | T16: 0 | U16: 0 | V16: 0 | W16: 0 | X16: 0 | Y16: 0
B17: 6 | C17: 14 | D17: CAFÉ DA MANHÃ - CONFORME TERMO DE REFERÊNCIA - cidade catarinense a definir | G17: Refeição | I17: 20 | J17: 7.92 | K17: 0 | L17: =K17-(SUM(N17:Y17)) -> 0 | M17: =IF(L17<0,"ATENÇÃO","OK") -> OK | N17: 0 | O17: 0 | P17: 0 | Q17: 0 | R17: 0 | S17: 0 | T17: 0 | U17: 0 | V17: 0 | W17: 0 | X17: 0 | Y17: 0
C18: 15 | D18: ALMOÇO - CONFORME TERMO DE REFERÊNCIA - cidade catarinense a definir | G18: Refeição | I18: 20 | J18: 17.1 | K18: 0 | L18: =K18-(SUM(N18:Y18)) -> 0 | M18: =IF(L18<0,"ATENÇÃO","OK") -> OK | N18: 0 | O18: 0 | P18: 0 | Q18: 0 | R18: 0 | S18: 0 | T18: 0 | U18: 0 | V18: 0 | W18: 0 | X18: 0 | Y18: 0
C19: 16 | D19: JANTAR - CONFORME TERMO DE REFERÊNCIA - cidade catarinense a definir | G19: Refeição | I19: 20 | J19: 17.1 | K19: 0 | L19: =K19-(SUM(N19:Y19)) -> 0 | M19: =IF(L19<0,"ATENÇÃO","OK") -> OK | N19: 0 | O19: 0 | P19: 0 | Q19: 0 | R19: 0 | S19: 0 | T19: 0 | U19: 0 | V19: 0 | W19: 0 | X19: 0 | Y19: 0

Sheet GESTOR
A1: PROCESSO: 0252/2014/UDESC | D1: OBJETO: FORNECIMENTO DE REFEIÇÃO PARA JOGOS, COFFEE BREAK E COQUETEL | K1: VIGÊNCIA DA ATA: 28/04/2014 até 28/04/2015
A2: CENTRO PARTICIPANTE: REITORIA + 7 CENTROS
A3: FORNECEDOR | B3: LOTE | C3: ITEM | D3: PRODUTO - CARACTERÍSTICAS MÍNIMAS | E3: ELEMENTO | F3: MARCA | G3: UNIDADE | H3: Entrega (Dias) | I3: Pagto. (Dias) | J3: Preço UNITÁRIO (R$) | K3: Qtde Registrada + Aditivos | L3: Quantidade Utilizada | M3: SALDO | N3: Valor Total Registrado | O3: Valor Total Utilizado
A4: Villa Gourmet Eventos LTDA-EPP | B4: 1 | C4: 1 | D4: COFFEE BREAK TIPO 1 - CONFORME TERMO DE REFERÊNCIA - Fpolis | G4: Pessoa | I4: 20 | J4: 7.1 | K4: =REIT!K4+ESAG!K4+CEART!K4+FAED!K4+CEAD!K4+CEFID!K4+CESFI!K4+CERES!K4 -> 930 | L4: =(REIT!K4-REIT!L4)+(ESAG!K4-ESAG!L4)+(CEART!K4-CEART!L4)+(FAED!K4-FAED!L4)+(CEAD!K4-CEAD!L4)+(CEFID!K4-CEFID!L4)+(CESFI!K4-CESFI!L4)+(CERES!K4-CERES!L4) -> 670 | M4: =K4-L4 -> 260 | N4: =J4*K4 -> 6603 | O4: =J4*L4 -> 4757
C5: 2 | D5: COFFEE BREAK TIPO 2 - CONFORME TERMO DE REFERÊNCIA - Fpolis | G5: Pessoa | I5: 20 | J5: 8 | K5: =REIT!K5+ESAG!K5+CEART!K5+FAED!K5+CEAD!K5+CEFID!K5+CESFI!K5+CERES!K5 -> 11080 | L5: =(REIT!K5-REIT!L5)+(ESAG!K5-ESAG!L5)+(CEART!K5-CEART!L5)+(FAED!K5-FAED!L5)+(CEAD!K5-CEAD!L5)+(CEFID!K5-CEFID!L5)+(CESFI!K5-CESFI!L5)+(CERES!K5-CERES!L5) -> 8243 | M5: =K5-L5 -> 2837 | N5: =J5*K5 -> 88640 | O5: =J5*L5 -> 65944
C6: 3 | D6: COFFEE BREAK TIPO 3 - CONFORME TERMO DE REFERÊNCIA - Fpolis | G6: Pessoa | I6: 20 | J6: 11.2 | K6: =REIT!K6+ESAG!K6+CEART!K6+FAED!K6+CEAD!K6+CEFID!K6+CESFI!K6+CERES!K6 -> 2005 | L6: =(REIT!K6-REIT!L6)+(ESAG!K6-ESAG!L6)+(CEART!K6-CEART!L6)+(FAED!K6-FAED!L6)+(CEAD!K6-CEAD!L6)+(CEFID!K6-CEFID!L6)+(CESFI!K6-CESFI!L6)+(CERES!K6-CERES!L6) -> 1330 | M6: =K6-L6 -> 675 | N6: =J6*K6 -> 22456 | O6: =J6*L6 -> 14896
C7: 4 | D7: COQUETEL - CONFORME TERMO DE REFERÊNCIA - Fpolis | G7: Pessoa | I7: 20 | J7: 25.98 | K7: =REIT!K7+ESAG!K7+CEART!K7+FAED!K7+CEAD!K7+CEFID!K7+CESFI!K7+CERES!K7 -> 750 | L7: =(REIT!K7-REIT!L7)+(ESAG!K7-ESAG!L7)+(CEART!K7-CEART!L7)+(FAED!K7-FAED!L7)+(CEAD!K7-CEAD!L7)+(CEFID!K7-CEFID!L7)+(CESFI!K7-CESFI!L7)+(CERES!K7-CERES!L7) -> 500 | M7: =K7-L7 -> 250 | N7: =J7*K7 -> 19485 | O7: =J7*L7 -> 12990
B8: 2 | C8: 5 | D8: COFFEE BREAK TIPO 2 - CONFORME TERMO DE REFERÊNCIA - Baln Camboriú | G8: Pessoa | I8: 20 | J8: 12 | K8: =REIT!K8+ESAG!K8+CEART!K8+FAED!K8+CEAD!K8+CEFID!K8+CESFI!K8+CERES!K8 -> 180 | L8: =(REIT!K8-REIT!L8)+(ESAG!K8-ESAG!L8)+(CEART!K8-CEART!L8)+(FAED!K8-FAED!L8)+(CEAD!K8-CEAD!L8)+(CEFID!K8-CEFID!L8)+(CESFI!K8-CESFI!L8)+(CERES!K8-CERES!L8) -> 0 | M8: =K8-L8 -> 180 | N8: =J8*K8 -> 2160 | O8: =J8*L8 -> 0
B9: 3 | C9: 6 | D9: COFFEE BREAK TIPO 3 - CONFORME TERMO DE REFERÊNCIA - Laguna | G9: Pessoa | I9: 20 | J9: 11.76 | K9: =REIT!K9+ESAG!K9+CEART!K9+FAED!K9+CEAD!K9+CEFID!K9+CESFI!K9+CERES!K9 -> 2600 | L9: =(REIT!K9-REIT!L9)+(ESAG!K9-ESAG!L9)+(CEART!K9-CEART!L9)+(FAED!K9-FAED!L9)+(CEAD!K9-CEAD!L9)+(CEFID!K9-CEFID!L9)+(CESFI!K9-CESFI!L9)+(CERES!K9-CERES!L9) -> 320 | M9: =K9-L9 -> 2280 | N9: =J9*K9 -> 30576 | O9: =J9*L9 -> 3763.2
C10: 7 | D10: COQUETEL - CONFORME TERMO DE REFERÊNCIA - Laguna | G10: Pessoa | I10: 20 | J10: 26.82 | K10: =REIT!K10+ESAG!K10+CEART!K10+FAED!K10+CEAD!K10+CEFID!K10+CESFI!K10+CERES!K10 -> 150 | L10: =(REIT!K10-REIT!L10)+(ESAG!K10-ESAG!L10)+(CEART!K10-CEART!L10)+(FAED!K10-FAED!L10)+(CEAD!K10-CEAD!L10)+(CEFID!K10-CEFID!L10)+(CESFI!K10-CESFI!L10)+(CERES!K10-CERES!L10) -> 0 | M10: =K10-L10 -> 150 | N10: =J10*K10 -> 4023 | O10: =J10*L10 -> 0
B11: 4 | C11: 8 | D11: CAFÉ DA MANHÃ - CONFORME TERMO DE REFERÊNCIA - Chapecó. | G11: Refeição | I11: 20 | J11: 7.23 | K11: =REIT!K11+ESAG!K11+CEART!K11+FAED!K11+CEAD!K11+CEFID!K11+CESFI!K11+CERES!K11 -> 900 | L11: =(REIT!K11-REIT!L11)+(ESAG!K11-ESAG!L11)+(CEART!K11-CEART!L11)+(FAED!K11-FAED!L11)+(CEAD!K11-CEAD!L11)+(CEFID!K11-CEFID!L11)+(CESFI!K11-CESFI!L11)+(CERES!K11-CERES!L11) -> 800 | M11: =K11-L11 -> 100 | N11: =J11*K11 -> 6507 | O11: =J11*L11 -> 5784
C12: 9 | D12: ALMOÇO - CONFORME TERMO DE REFERÊNCIA - Chapecó | G12: Refeição | I12: 20 | J12: 15.9 | K12: =REIT!K12+ESAG!K12+CEART!K12+FAED!K12+CEAD!K12+CEFID!K12+CESFI!K12+CERES!K12 -> 900 | L12: =(REIT!K12-REIT!L12)+(ESAG!K12-ESAG!L12)+(CEART!K12-CEART!L12)+(FAED!K12-FAED!L12)+(CEAD!K12-CEAD!L12)+(CEFID!K12-CEFID!L12)+(CESFI!K12-CESFI!L12)+(CERES!K12-CERES!L12) -> 750 | M12: =K12-L12 -> 150 | N12: =J12*K12 -> 14310 | O12: =J12*L12 -> 11925
C13: 10 | D13: JANTAR - CONFORME TERMO DE REFERÊNCIA - Chapecó | G13: Refeição | I13: 20 | J13: 15.9 | K13: =REIT!K13+ESAG!K13+CEART!K13+FAED!K13+CEAD!K13+CEFID!K13+CESFI!K13+CERES!K13 -> 900 | L13: =(REIT!K13-REIT!L13)+(ESAG!K13-ESAG!L13)+(CEART!K13-CEART!L13)+(FAED!K13-FAED!L13)+(CEAD!K13-CEAD!L13)+(CEFID!K13-CEFID!L13)+(CESFI!K13-CESFI!L13)+(CERES!K13-CERES!L13) -> 850 | M13: =K13-L13 -> 50 | N13: =J13*K13 -> 14310 | O13: =J13*L13 -> 13515
B14: 5 | C14: 11 | D14: CAFÉ DA MANHÃ - CONFORME TERMO DE REFERÊNCIA - Lages | G14: Refeição | I14: 20 | J14: 4.94 | K14: =REIT!K14+ESAG!K14+CEART!K14+FAED!K14+CEAD!K14+CEFID!K14+CESFI!K14+CERES!K14 -> 4800 | L14: =(REIT!K14-REIT!L14)+(ESAG!K14-ESAG!L14)+(CEART!K14-CEART!L14)+(FAED!K14-FAED!L14)+(CEAD!K14-CEAD!L14)+(CEFID!K14-CEFID!L14)+(CESFI!K14-CESFI!L14)+(CERES!K14-CERES!L14) -> 4800 | M14: =K14-L14 -> 0 | N14: =J14*K14 -> 23712 | O14: =J14*L14 -> 23712
C15: 12 | D15: ALMOÇO - CONFORME TERMO DE REFERÊNCIA - Lages | G15: Refeição | I15: 20 | J15: 13.1 | K15: =REIT!K15+ESAG!K15+CEART!K15+FAED!K15+CEAD!K15+CEFID!K15+CESFI!K15+CERES!K15 -> 4800 | L15: =(REIT!K15-REIT!L15)+(ESAG!K15-ESAG!L15)+(CEART!K15-CEART!L15)+(FAED!K15-FAED!L15)+(CEAD!K15-CEAD!L15)+(CEFID!K15-CEFID!L15)+(CESFI!K15-CESFI!L15)+(CERES!K15-CERES!L15) -> 4800 | M15: =K15-L15 -> 0 | N15: =J15*K15 -> 62880 | O15: =J15*L15 -> 62880
C16: 13 | D16: JANTAR - CONFORME TERMO DE REFERÊNCIA - Lages | G16: Refeição | I16: 20 | J16: 13.1 | K16: =REIT!K16+ESAG!K16+CEART!K16+FAED!K16+CEAD!K16+CEFID!K16+CESFI!K16+CERES!K16 -> 4800 | L16: =(REIT!K16-REIT!L16)+(ESAG!K16-ESAG!L16)+(CEART!K16-CEART!L16)+(FAED!K16-FAED!L16)+(CEAD!K16-CEAD!L16)+(CEFID!K16-CEFID!L16)+(CESFI!K16-CESFI!L16)+(CERES!K16-CERES!L16) -> 4800 | M16: =K16-L16 -> 0 | N16: =J16*K16 -> 62880 | O16: =J16*L16 -> 62880
B17: 6 | C17: 14 | D17: CAFÉ DA MANHÃ - CONFORME TERMO DE REFERÊNCIA - cidade catarinense a definir | G17: Refeição | I17: 20 | J17: 7.92 | K17: =REIT!K17+ESAG!K17+CEART!K17+FAED!K17+CEAD!K17+CEFID!K17+CESFI!K17+CERES!K17 -> 940 | L17: =(REIT!K17-REIT!L17)+(ESAG!K17-ESAG!L17)+(CEART!K17-CEART!L17)+(FAED!K17-FAED!L17)+(CEAD!K17-CEAD!L17)+(CEFID!K17-CEFID!L17)+(CESFI!K17-CESFI!L17)+(CERES!K17-CERES!L17) -> 940 | M17: =K17-L17 -> 0 | N17: =J17*K17 -> 7444.8 | O17: =J17*L17 -> 7444.8
C18: 15 | D18: ALMOÇO - CONFORME TERMO DE REFERÊNCIA - cidade catarinense a definir | G18: Refeição | I18: 20 | J18: 17.1 | K18: =REIT!K18+ESAG!K18+CEART!K18+FAED!K18+CEAD!K18+CEFID!K18+CESFI!K18+CERES!K18 -> 940 | L18: =(REIT!K18-REIT!L18)+(ESAG!K18-ESAG!L18)+(CEART!K18-CEART!L18)+(FAED!K18-FAED!L18)+(CEAD!K18-CEAD!L18)+(CEFID!K18-CEFID!L18)+(CESFI!K18-CESFI!L18)+(CERES!K18-CERES!L18) -> 940 | M18: =K18-L18 -> 0 | N18: =J18*K18 -> 16074 | O18: =J18*L18 -> 16074
C19: 16 | D19: JANTAR - CONFORME TERMO DE REFERÊNCIA - cidade catarinense a definir | G19: Refeição | I19: 20 | J19: 17.1 | K19: =REIT!K19+ESAG!K19+CEART!K19+FAED!K19+CEAD!K19+CEFID!K19+CESFI!K19+CERES!K19 -> 940 | L19: =(REIT!K19-REIT!L19)+(ESAG!K19-ESAG!L19)+(CEART!K19-CEART!L19)+(FAED!K19-FAED!L19)+(CEAD!K19-CEAD!L19)+(CEFID!K19-CEFID!L19)+(CESFI!K19-CESFI!L19)+(CERES!K19-CERES!L19) -> 940 | M19: =K19-L19 -> 0 | N19: =J19*K19 -> 16074 | O19: =J19*L19 -> 16074
N20: =SUM(N4:N19) -> 398134.8 | O20: =SUM(O4:O19) -> 322639
K22: Pregão 0252/2014/UDESC - SRP
K23: FORNECIMENTO DE REFEIÇÃO PARA JOGOS, COFFEE BREAK E COQUETEL
K24: Vigência 28/04/2014 até 28/04/2015
K25: Valor Total da Ata com Aditivo | O25: =N20 -> 398134.8
K26: Valor Utilizado | O26: =O20 -> 322639
K27: % Aditivos | O27: 0.07
K28: % Utilizado | O28: =O26/O25 -> 0.81037628
K29: Resumo Atualizado em 27/11/2014

Sheet Aditivo 1
A3: PROCESSO: 0252/2014/UDESC | D3: OBJETO: FORNECIMENTO DE REFEIÇÃO PARA JOGOS, COFFEE BREAK E COQUETEL | H3: VIGÊNCIA DA ATA: 28/04/2014 até 28/04/2015
A4: FORNECEDOR | B4: LOTE | C4: ITEM | D4: PRODUTO - CARACTERÍSTICAS MÍNIMAS | E4: UNIDADE | F4: Pagto. (Dias) | G4: Preço Unit Registrado | H4: Qtde Total Registrada | I4: Valor Total Registrado | J4: Qtde Aditivo | K4: Valor Aditivado
A5: Villa Gourmet Eventos Ltda EPP | B5: 1 | C5: 1 | D5: COFFEE BREAK TIPO 1* - Fpolis | E5: Pessoa | F5: 20 | G5: 7.1 | H5: 580 | I5: =H5*G5 -> 4118 | J5: 350 | K5: =J5*G5 -> 2485
C6: 2 | D6: COFFEE BREAK TIPO 2*- Fpolis | E6: Pessoa | F6: 20 | G6: 8 | H6: 10580 | I6: =H6*G6 -> 84640 | J6: 500 | K6: =J6*G6 -> 4000
C7: 3 | D7: COFFEE BREAK TIPO 3* - Fpolis | E7: Pessoa | F7: 20 | G7: 11.2 | H7: 1880 | I7: =H7*G7 -> 21056 | J7: 125 | K7: =J7*G7 -> 1400
C8: 4 | D8: COQUETEL* - Fpolis | E8: Pessoa | F8: 20 | G8: 25.98 | H8: 700 | I8: =H8*G8 -> 18186 | J8: 50 | K8: =J8*G8 -> 1299
D9: *Conforme Termo de Referência | I9: =SUM(I5:I8) -> 128000 | K9: =SUM(K5:K8) -> 9184
D11: Percentual de Aditivo sobre o Lote 1 | E11: =K9/I9 -> 0.07175
