Workbook
Name diasuteis: #REF!
Name diasuteis: #REF!
Name diasuteis: #REF!
Name diasuteis: #REF!
Name diasuteis: #REF!
Name diasuteis: #REF!
Name diasuteis: #REF!
Name diasuteis: #REF!
Name diasuteis: #REF!
Name diasuteis: #REF!
Name diasuteis: #REF!
Name diasuteis: #REF!
Name diasuteis: #REF!
Name diasuteis: #REF!
Name diasuteis: #REF!
Name Ferias: #REF!
Name Ferias: #REF!
Name Ferias: #REF!
Name Ferias: #REF!
Name Ferias: #REF!
Name Ferias: #REF!
Name Ferias: #REF!
Name Ferias: #REF!
Name Ferias: #REF!
Name Ferias: #REF!
Name Ferias: #REF!
Name Ferias: #REF!
Name Ferias: #REF!
Name Ferias: #REF!
Name RD: OFFSET(#REF!,(MATCH(SMALL(#REF!,ROW()-10),#REF!,0)-1),0)

Sheet REIT
A1: PROCESSO: 003/2014/SEA | D1: OBJETO: Aquisição de café, leite, açucar e água. | K1: VIGÊNCIA DA ATA: 21/02/2014 até 21/02/2015 | N1: AF/OS nº 423/2014 Qtde. DT | O1: AF/OS nº 755/2014 Qtde. DT | P1: AF/OS nº 1403/2014 Qtde. DT | Q1: AF/OS nº 1867/2014 Qtde. DT | R1: AF/OS nº xxxx/2014 Qtde. DT | S1: AF/OS nº xxxx/2014 Qtde. DT | T1: AF/OS nº xxxx/2014 Qtde. DT | U1: AF/OS nº xxxx/2014 Qtde. DT | V1: AF/OS nº xxxx/2014 Qtde. DT | W1: AF/OS nº xxxx/2014 Qtde. DT | X1: AF/OS nº xxxx/2014 Qtde. DT | Y1: AF/OS nº xxxx/2014 Qtde. DT
A2: CENTRO PARTICIPANTE: REITORIA - Região Grande Florianópolis
A3: FORNECEDOR | B3: LOTE | C3: ITEM | D3: PRODUTO - CARACTERÍSTICAS MÍNIMAS | E3: ELEMENTO | F3: MARCA | G3: UNIDADE | H3: Entrega (Dias) | I3: Pagto. (Dias) | J3: Preço UNITÁRIO (R$) | K3: Qtde LICITADA | L3: Saldo / Automático | M3: ALERTA | N3: 41782 | O3: 41838 | P3: 41925 | Q3: 41956 | R3: ...../...../...... | S3: ...../...../...... | T3: ...../...../...... | U3: ...../...../...... | V3: ...../...../...... | W3: ...../...../...... | X3: ...../...../...... | Y3: ...../...../......
A4: ESTANCIA HIDROMINERAL SANTA RITA DE CASSIA LTDA | B4: I | C4: 1 | D4: AGUA MINERAL S/GAS, BOMBONA C/ 20 LITROS * Água mineral, potável, natural, sem gás, com validade mínima de 3 (três) meses a cada fornecimento, envasada em garrafão de 20 litros PET (politereftalato de etileno), com cessão gratuita (comodato) de garrafões em quantidade suficiente para abastecimento e reposição, com vida útil máxima de 3 anos, lacrados, dentro dos padrões estabelecidos pelo Departamento Nacional de Produção Mineral - DPNPM e de acordo com a Portaria nº 470/1999, RDCs nºs 274 e 275 de 2005, RDC 23/2000 e RDC 27/2010, da ANVISA-MS. Rotulo com carimbo de aprovação ou numero do processo do DNPM, contendo, no mínimo, nome da fonte e da empresa envasadora, seu CNPJ, Município, Estado, numero do lote, composição química, características físico-químicas, nome do laboratório, numero e data da analise da água, volume, data de envasamento, validade e a expressão "Não contem glúten" com impressão indelével, devendo obedecer a Portaria 387/2008 DNPM, especificações da ANVISA (Resolução nº 105/99 e suas atualizações), e normas da ABNT NMR 14222, 14328 e 14638. (Código: 00142-2 015 - Grupo-classe: 1903). | E4: 339030-07 | F4: Santa Rita | G4: Peça | H4: 20 | I4: 20 | J4: 4.56 | K4: 2000 | L4: =K4-(SUM(N4:Y4)) -> 1200 | M4: =IF(L4<0,"ATENÇÃO","OK") -> OK | N4: 500 | Q4: 300 | R4: 0 | S4: 0 | T4: 0 | U4: 0 | V4: 0 | W4: 0 | X4: 0 | Y4: 0
C5: 2 | D5: AGUA MINERAL NATURAL C/ GAS (EMB. DESCARTAVEL 500ML) Água mineral, natural, potável, com gás, envasada em garrafa PET (politereftalato de etileno) descartável com 500ml, lacrados, dentro dos padrões estabelecidos pelo Departamento Nacional de Produção Mineral-DNPM e de acordo com a Portaria nº 470/1999, RDCs nºs 274 e 275 de 2005, RDC 23/2000 e RDC 27/2010, da ANVISA-MS, acondicionadas em fardo com 12 unidades, e com validade mínima de 6 (seis) meses a cada fornecimento. Rotulo com carimbo de aprovação ou numero do processo do DNPM, contendo, no mínimo, nome da fonte e da empresa envasadora, seu CNPJ, Município, Estado, numero do lote, composição química, características físico-químicas, nome do laboratório, numero e data da analise da água, volume, data de envasamento e validade e a expressão "Não contem glúten" com impressão indelével. (Código: 00142-2 002 - Grupo-classe: 1903) | E5: 339030-07 | F5: Santa Rita | G5: Peça | H5: 20 | I5: 20 | J5: 0.66 | K5: 7200 | L5: =K5-(SUM(N5:Y5)) -> 3600 | M5: =IF(L5<0,"ATENÇÃO","OK") -> OK | N5: 3600 | P5: 0 | Q5: 0 | R5: 0 | S5: 0 | T5: 0 | U5: 0 | V5: 0 | W5: 0 | X5: 0 | Y5: 0
C6: 3 | D6: AGUA MINERAL NATURAL S/ GAS (EMB. DESCARTAVEL C/ 500ML) Água mineral natural, potável, sem gás, envasada em garrafa PET (politereftalato de etileno) descartável com 500ml, lacrados, dentro dos padrões estabelecidos pelo Departamento Nacional de Produção Mineral-DNPM e de acordo com a Portaria nº 470/1999, RDCs nºs 274 e 275 de 2005, RDC 23/2000 e RDC 27/2010, da ANVISA-MS, acondicionadas em fardo com 12 unidades, e com validade mínima de mínima de 6 (seis) meses a cada fornecimento. Rotulagem: Rotulo com carimbo de aprovação ou numero do processo do DNPM, contendo, no mínimo, nome da fonte, e da empresa envasadora, seu CNPJ, Município, Estado, numero do lote, composição química, características físico - químicas, nome do laboratório, numero e data da analise da água, volume, data de envasamento e validade e a expressão "Não contem glúten" com impressão indelével. (Código: 00142-2 003 - Grupo-classe: 1903). | E6: 339030-07 | F6: Santa Rita | G6: Peça | H6: 20 | I6: 20 | J6: 0.61 | K6: 19200 | L6: =K6-(SUM(N6:Y6)) -> 8400 | M6: =IF(L6<0,"ATENÇÃO","OK") -> OK | N6: 7200 | O6: 0 | P6: 0 | Q6: 3600 | R6: 0 | S6: 0 | T6: 0 | U6: 0 | V6: 0 | W6: 0 | X6: 0 | Y6: 0
C7: 4 | D7: AGUA MINERAL SEM GÁS, EM COPO DE 200ML. Água mineral, sem gás, em copo de 200ml, obtida diretamente de fontes naturais, envasada dentro dos padrões estabelecidos pelo Departamento Nacional de Produção Mineral-DNPM e de acordo com a Portaria nº 470/1999, RDCs nºs 274 e 275 de 2005, RDC 23/2000 e RDC 27/2010, da ANVISA-MS. Apresentação: A água devera apresentar-se límpida, sem flocos em deposito ou corpos estranhos e com validade mínima de 6 (seis) meses a cada fornecimento. Apresentação: Embalada em copo, fabricado em plástico resistente, com tampa lacrada, com rotulo intacto, sem vazamentos, manchas, odores, furos, fissuras ou amassados, acondicionados em caixas resistentes com 48 unidades. Rotulo com carimbo de aprovação ou numero do processo do DNPM, contendo, no mínimo, nome da fonte e da empresa envasadora, seu CNPJ, Município, Estado, numero do lote, composição química, características físico-químicas, nome do laboratório, numero e data da analise da água, volume, data de envasamento e validade e a expressão "Não contem glúten" com impressão indelével. (Código: 10301-2 009 - Grupo-classe: 1903). | E7: 339030-07 | F7: Santa Rita | G7: Peça | H7: 20 | I7: 20 | J7: 0.27 | L7: =K7-(SUM(N7:Y7)) -> 0 | M7: =IF(L7<0,"ATENÇÃO","OK") -> OK | N7: 0 | O7: 0 | P7: 0 | Q7: 0 | R7: 0 | S7: 0 | T7: 0 | U7: 0 | V7: 0 | W7: 0 | X7: 0 | Y7: 0
A8: JJ MATTOS INDUSTRIA E COMERCIO DE CAFÉ LTDA | B8: II | C8: 5 | D8: CAFE TORRADO E MOIDO EMB. A VACUO PRENSADO EMB.500G Café torrado e moído emb. a vácuo prensado emb. 500g, em pó, homogêneo, torrado e moído, categoria do tipo SUPERIOR, constituído com predominância de grãos de café arábica. Características sensoriais: fragrância: marcante; aroma: característico, marcante; acidez: baixa a moderada; amargor: moderado; sabor: característico e equilibrado; sabor residual: bom, duradouro; defeitos: pouca interferência; adstringência: baixa; corpo: razoavelmente encorpado; qualidade da bebida: dura a melhor; qualidade global: razoavelmente bom a bom, com embalagem vácuo-puro. Com fabricação de no máximo de 30 (trinta) dias antes da data de entrega. Prazo de validade do produto de no mínimo de 12 (doze) meses. O café deverá ter, além da embalagem vácuo-puro, embalagem individual de cartolina, que deverá estar acondicionada em caixa de papelão, com 05 ou 10 kg cada, identificação da categoria do café, lote, prazo de validade e demais informações de acordo com exigências legais vigentes que tratam das embalagens e rotulagens e, que atenda ao padrão de identidade e qualidade (com nota de qualidade global da bebida, igual ou maior que 6,0 (seis) pontos e demais condições estabelecidas de acordo com a legislação vigente. (Decreto Federal n.º 27.173, de 14/09/1949, e Portaria INMETRO nº 157, de 19/08/2002), Portaria 377, de 26/04/1999, IN nº 8 de 11/06/2003 e, IN nº 16, de 24/05/2010 do MAPA, Resoluções: RDC nº 277, de 22/09/05, RDC nº 175, de 08/07/03, RDC nº 259/02, RDC nº 12, de 02/01/01, RDC 123, de 13/025/2004, RDC 259 de 20/09/2002, da ANVISA, e, Resoluções SAA-28, de 01/06/2007 e, SAA-30, de 22/06/2007). Código: 00144-9 005. Grupo - Classe 1903). | E8: 339030-07 | F8: Jurere Superior | G8: Kg | H8: 20 | I8: 20 | J8: 8.5 | K8: 1000 | L8: =K8-(SUM(N8:Y8)) -> 1000 | M8: =IF(L8<0,"ATENÇÃO","OK") -> OK | N8: 0 | O8: 0 | P8: 0 | Q8: 0 | R8: 0 | S8: 0 | T8: 0 | U8: 0 | V8: 0 | W8: 0 | X8: 0 | Y8: 0
A9: TARCIANE LOHN BOECHATT EPP | B9: III | C9: 6 | D9: ACUCAR REFINADO (EMB. C/ 1KG) * Açúcar (embalagem com 01 kg.), refinado de origem vegetal, constituído fundamentalmente por sacarose de cana-de-açúcar, com alto teor de pureza com relação à sacarose, aspecto sólido amorfo, Cor: branca, para utilização em alimentação humana, com validade de 01 (um) ano a cada fornecimento. (Código 00141-4 002 -Grupo-classe1903). | E9: 339030-07 | F9: Caravelas | G9: Kg | H9: 20 | I9: 20 | J9: 1.61 | K9: 1500 | L9: =K9-(SUM(N9:Y9)) -> 900 | M9: =IF(L9<0,"ATENÇÃO","OK") -> OK | N9: 0 | O9: 600 | P9: 0 | Q9: 0 | R9: 0 | S9: 0 | T9: 0 | U9: 0 | V9: 0 | W9: 0 | X9: 0 | Y9: 0
A10: TARCIANE LOHN BOECHATT EPP | B10: IV | C10: 7 | D10: LEITE DE VACA INTEGRAL, EMBALAGEM LONGA VIDA C/1000ML * Leite de vaca, integral, (UHT) pasteurizado em ultra/altas temperaturas, embalagem em caixa tipo longa vida longa vida, com 1.000ml, devidamente rotuladas conforme legislação vigente e possuir registro nos Órgãos de Inspeção Sanitária; com validade mínima de 60 dias a cada fornecimento. (Código: 00137-6 011 - Grupo-classe: 1901). | E10: 339030-07 | F10: Longuiru | G10: Litro | H10: 20 | I10: 20 | J10: 1.94 | K10: 1440 | L10: =K10-(SUM(N10:Y10)) -> 1080 | M10: =IF(L10<0,"ATENÇÃO","OK") -> OK | N10: 0 | O10: 0 | P10: 360 | Q10: 0 | R10: 0 | S10: 0 | T10: 0 | U10: 0 | V10: 0 | W10: 0 | X10: 0 | Y10: 0
C11: 8 | D11: LEITE DESNATADO, EMBALAGEM LONGA VIDA COM 01 LITRO * Leite de vaca, desnatado, (UHT) pasteurizado em ultra/altas temperaturas, embalagem em caixa tipo longa vida longa vida, com 1.000ml, devidamente rotuladas conforme legislação vigente e possuir registro nos Órgãos de Inspeção Sanitária; com validade mínima de 60 dias a cada fornecimento. (Código: 00137-6 012 - Grupo-classe: 1901) | E11: 339030-07 | F11: Piracanjuba | G11: Litro | H11: 20 | I11: 20 | J11: 1.82 | L11: =K11-(SUM(N11:Y11)) -> 0 | M11: =IF(L11<0,"ATENÇÃO","OK") -> OK | N11: 0 | O11: 0 | P11: 0 | Q11: 0 | R11: 0 | S11: 0 | T11: 0 | U11: 0 | V11: 0 | W11: 0 | X11: 0 | Y11: 0
C12: 9 | D12: LEITE SEMI-DESNATADO, ESTERELIZADO, TIPO LONGA VIDA * Leite de vaca, semi-desnatado, (UHT) pasteurizado em ultra/altas temperaturas, embalagem em caixa tipo longa vida longa vida, com 1.000ml, devidamente rotuladas conforme legislação vigente e possuir registro nos Órgãos de Inspeção Sanitária; com validade mínima de 60 dias a cada fornecimento. (Código: 00137-6 023 - Grupo-classe: 1901) | E12: 339030-07 | F12: Piracanjuba | G12: Litro | H12: 20 | I12: 20 | J12: 1.84 | L12: =K12-(SUM(N12:Y12)) -> 0 | M12: =IF(L12<0,"ATENÇÃO","OK") -> OK | N12: 0 | O12: 0 | P12: 0 | Q12: 0 | R12: 0 | S12: 0 | T12: 0 | U12: 0 | V12: 0 | W12: 0 | X12: 0 | Y12: 0

Sheet ESAG
A1: PROCESSO: 003/2014/SEA | D1: OBJETO: Aquisição de café, leite, açucar e água. | K1: VIGÊNCIA DA ATA: 21/02/2014 até 21/02/2015 | N1: AF/OS nº xxxx/2014 Qtde. DT | O1: AF/OS nº xxxx/2014 Qtde. DT | P1: AF/OS nº xxxx/2014 Qtde. DT | Q1: AF/OS nº xxxx/2014 Qtde. DT | R1: AF/OS nº xxxx/2014 Qtde. DT | S1: AF/OS nº xxxx/2014 Qtde. DT | T1: AF/OS nº xxxx/2014 Qtde. DT | U1: AF/OS nº xxxx/2014 Qtde. DT | V1: AF/OS nº xxxx/2014 Qtde. DT | W1: AF/OS nº xxxx/2014 Qtde. DT | X1: AF/OS nº xxxx/2014 Qtde. DT | Y1: AF/OS nº xxxx/2014 Qtde. DT
A2: CENTRO PARTICIPANTE: ESAG - Região Grande Florianópolis
A3: FORNECEDOR | B3: LOTE | C3: ITEM | D3: PRODUTO - CARACTERÍSTICAS MÍNIMAS | E3: ELEMENTO | F3: MARCA | G3: UNIDADE | H3: Entrega (Dias) | I3: Pagto. (Dias) | J3: Preço UNITÁRIO (R$) | K3: Qtde LICITADA | L3: Saldo / Automático | M3: ALERTA | N3: ...../...../...... | O3: ...../...../...... | P3: ...../...../...... | Q3: ...../...../...... | R3: ...../...../...... | S3: ...../...../...... | T3: ...../...../...... | U3: ...../...../...... | V3: ...../...../...... | W3: ...../...../...... | X3: ...../...../...... | Y3: ...../...../......
A4: ESTANCIA HIDROMINERAL SANTA RITA DE CASSIA LTDA | B4: I | C4: 1 | D4: AGUA MINERAL S/GAS, BOMBONA C/ 20 LITROS * Água mineral, potável, natural, sem gás, com validade mínima de 3 (três) meses a cada fornecimento, envasada em garrafão de 20 litros PET (politereftalato de etileno), com cessão gratuita (comodato) de garrafões em quantidade suficiente para abastecimento e reposição, com vida útil máxima de 3 anos, lacrados, dentro dos padrões estabelecidos pelo Departamento Nacional de Produção Mineral - DPNPM e de acordo com a Portaria nº 470/1999, RDCs nºs 274 e 275 de 2005, RDC 23/2000 e RDC 27/2010, da ANVISA-MS. Rotulo com carimbo de aprovação ou numero do processo do DNPM, contendo, no mínimo, nome da fonte e da empresa envasadora, seu CNPJ, Município, Estado, numero do lote, composição química, características físico-químicas, nome do laboratório, numero e data da analise da água, volume, data de envasamento, validade e a expressão "Não contem glúten" com impressão indelével, devendo obedecer a Portaria 387/2008 DNPM, especificações da ANVISA (Resolução nº 105/99 e suas atualizações), e normas da ABNT NMR 14222, 14328 e 14638. (Código: 00142-2 015 - Grupo-classe: 1903). | E4: 339030-07 | F4: Santa Rita | G4: Peça | H4: 20 | I4: 20 | J4: 4.56 | K4: 350 | L4: =K4-(SUM(N4:Y4)) -> 350 | M4: =IF(L4<0,"ATENÇÃO","OK") -> OK | N4: 0 | O4: 0 | P4: 0 | Q4: 0 | R4: 0 | S4: 0 | T4: 0 | U4: 0 | V4: 0 | W4: 0 | X4: 0 | Y4: 0
C5: 2 | D5: AGUA MINERAL NATURAL C/ GAS (EMB. DESCARTAVEL 500ML) Água mineral, natural, potável, com gás, envasada em garrafa PET (politereftalato de etileno) descartável com 500ml, lacrados, dentro dos padrões estabelecidos pelo Departamento Nacional de Produção Mineral-DNPM e de acordo com a Portaria nº 470/1999, RDCs nºs 274 e 275 de 2005, RDC 23/2000 e RDC 27/2010, da ANVISA-MS, acondicionadas em fardo com 12 unidades, e com validade mínima de 6 (seis) meses a cada fornecimento. Rotulo com carimbo de aprovação ou numero do processo do DNPM, contendo, no mínimo, nome da fonte e da empresa envasadora, seu CNPJ, Município, Estado, numero do lote, composição química, características físico-químicas, nome do laboratório, numero e data da analise da água, volume, data de envasamento e validade e a expressão "Não contem glúten" com impressão indelével. (Código: 00142-2 002 - Grupo-classe: 1903) | E5: 339030-07 | F5: Santa Rita | G5: Peça | H5: 20 | I5: 20 | J5: 0.66 | K5: 7200 | L5: =K5-(SUM(N5:Y5)) -> 7200 | M5: =IF(L5<0,"ATENÇÃO","OK") -> OK | P5: 0 | Q5: 0 | R5: 0 | S5: 0 | T5: 0 | U5: 0 | V5: 0 | W5: 0 | X5: 0 | Y5: 0
C6: 3 | D6: AGUA MINERAL NATURAL S/ GAS (EMB. DESCARTAVEL C/ 500ML) Água mineral natural, potável, sem gás, envasada em garrafa PET (politereftalato de etileno) descartável com 500ml, lacrados, dentro dos padrões estabelecidos pelo Departamento Nacional de Produção Mineral-DNPM e de acordo com a Portaria nº 470/1999, RDCs nºs 274 e 275 de 2005, RDC 23/2000 e RDC 27/2010, da ANVISA-MS, acondicionadas em fardo com 12 unidades, e com validade mínima de mínima de 6 (seis) meses a cada fornecimento. Rotulagem: Rotulo com carimbo de aprovação ou numero do processo do DNPM, contendo, no mínimo, nome da fonte, e da empresa envasadora, seu CNPJ, Município, Estado, numero do lote, composição química, características físico - químicas, nome do laboratório, numero e data da analise da água, volume, data de envasamento e validade e a expressão "Não contem glúten" com impressão indelével. (Código: 00142-2 003 - Grupo-classe: 1903). | E6: 339030-07 | F6: Santa Rita | G6: Peça | H6: 20 | I6: 20 | J6: 0.61 | K6: 21600 | L6: =K6-(SUM(N6:Y6)) -> 21600 | M6: =IF(L6<0,"ATENÇÃO","OK") -> OK | N6: 0 | O6: 0 | P6: 0 | Q6: 0 | R6: 0 | S6: 0 | T6: 0 | U6: 0 | V6: 0 | W6: 0 | X6: 0 | Y6: 0
C7: 4 | D7: AGUA MINERAL SEM GÁS, EM COPO DE 200ML. Água mineral, sem gás, em copo de 200ml, obtida diretamente de fontes naturais, envasada dentro dos padrões estabelecidos pelo Departamento Nacional de Produção Mineral-DNPM e de acordo com a Portaria nº 470/1999, RDCs nºs 274 e 275 de 2005, RDC 23/2000 e RDC 27/2010, da ANVISA-MS. Apresentação: A água devera apresentar-se límpida, sem flocos em deposito ou corpos estranhos e com validade mínima de 6 (seis) meses a cada fornecimento. Apresentação: Embalada em copo, fabricado em plástico resistente, com tampa lacrada, com rotulo intacto, sem vazamentos, manchas, odores, furos, fissuras ou amassados, acondicionados em caixas resistentes com 48 unidades. Rotulo com carimbo de aprovação ou numero do processo do DNPM, contendo, no mínimo, nome da fonte e da empresa envasadora, seu CNPJ, Município, Estado, numero do lote, composição química, características físico-químicas, nome do laboratório, numero e data da analise da água, volume, data de envasamento e validade e a expressão "Não contem glúten" com impressão indelével. (Código: 10301-2 009 - Grupo-classe: 1903). | E7: 339030-07 | F7: Santa Rita | G7: Peça | H7: 20 | I7: 20 | J7: 0.27 | L7: =K7-(SUM(N7:Y7)) -> 0 | M7: =IF(L7<0,"ATENÇÃO","OK") -> OK | N7: 0 | O7: 0 | P7: 0 | Q7: 0 | R7: 0 | S7: 0 | T7: 0 | U7: 0 | V7: 0 | W7: 0 | X7: 0 | Y7: 0
A8: JJ MATTOS INDUSTRIA E COMERCIO DE CAFÉ LTDA | B8: II | C8: 5 | D8: CAFE TORRADO E MOIDO EMB. A VACUO PRENSADO EMB.500G Café torrado e moído emb. a vácuo prensado emb. 500g, em pó, homogêneo, torrado e moído, categoria do tipo SUPERIOR, constituído com predominância de grãos de café arábica. Características sensoriais: fragrância: marcante; aroma: característico, marcante; acidez: baixa a moderada; amargor: moderado; sabor: característico e equilibrado; sabor residual: bom, duradouro; defeitos: pouca interferência; adstringência: baixa; corpo: razoavelmente encorpado; qualidade da bebida: dura a melhor; qualidade global: razoavelmente bom a bom, com embalagem vácuo-puro. Com fabricação de no máximo de 30 (trinta) dias antes da data de entrega. Prazo de validade do produto de no mínimo de 12 (doze) meses. O café deverá ter, além da embalagem vácuo-puro, embalagem individual de cartolina, que deverá estar acondicionada em caixa de papelão, com 05 ou 10 kg cada, identificação da categoria do café, lote, prazo de validade e demais informações de acordo com exigências legais vigentes que tratam das embalagens e rotulagens e, que atenda ao padrão de identidade e qualidade (com nota de qualidade global da bebida, igual ou maior que 6,0 (seis) pontos e demais condições estabelecidas de acordo com a legislação vigente. (Decreto Federal n.º 27.173, de 14/09/1949, e Portaria INMETRO nº 157, de 19/08/2002), Portaria 377, de 26/04/1999, IN nº 8 de 11/06/2003 e, IN nº 16, de 24/05/2010 do MAPA, Resoluções: RDC nº 277, de 22/09/05, RDC nº 175, de 08/07/03, RDC nº 259/02, RDC nº 12, de 02/01/01, RDC 123, de 13/025/2004, RDC 259 de 20/09/2002, da ANVISA, e, Resoluções SAA-28, de 01/06/2007 e, SAA-30, de 22/06/2007). Código: 00144-9 005. Grupo - Classe 1903). | E8: 339030-07 | F8: Jurere Superior | G8: Kg | H8: 20 | I8: 20 | J8: 8.5 | K8: 1000 | L8: =K8-(SUM(N8:Y8)) -> 1000 | M8: =IF(L8<0,"ATENÇÃO","OK") -> OK | N8: 0 | O8: 0 | P8: 0 | Q8: 0 | R8: 0 | S8: 0 | T8: 0 | U8: 0 | V8: 0 | W8: 0 | X8: 0 | Y8: 0
A9: TARCIANE LOHN BOECHATT EPP | B9: III | C9: 6 | D9: ACUCAR REFINADO (EMB. C/ 1KG) * Açúcar (embalagem com 01 kg.), refinado de origem vegetal, constituído fundamentalmente por sacarose de cana-de-açúcar, com alto teor de pureza com relação à sacarose, aspecto sólido amorfo, Cor: branca, para utilização em alimentação humana, com validade de 01 (um) ano a cada fornecimento. (Código 00141-4 002 -Grupo-classe1903). | E9: 339030-07 | F9: Caravelas | G9: Kg | H9: 20 | I9: 20 | J9: 1.61 | K9: 600 | L9: =K9-(SUM(N9:Y9)) -> 600 | M9: =IF(L9<0,"ATENÇÃO","OK") -> OK | N9: 0 | O9: 0 | P9: 0 | Q9: 0 | R9: 0 | S9: 0 | T9: 0 | U9: 0 | V9: 0 | W9: 0 | X9: 0 | Y9: 0
A10: TARCIANE LOHN BOECHATT EPP | B10: IV | C10: 7 | D10: LEITE DE VACA INTEGRAL, EMBALAGEM LONGA VIDA C/1000ML * Leite de vaca, integral, (UHT) pasteurizado em ultra/altas temperaturas, embalagem em caixa tipo longa vida longa vida, com 1.000ml, devidamente rotuladas conforme legislação vigente e possuir registro nos Órgãos de Inspeção Sanitária; com validade mínima de 60 dias a cada fornecimento. (Código: 00137-6 011 - Grupo-classe: 1901). | E10: 339030-07 | F10: Longuiru | G10: Litro | H10: 20 | I10: 20 | J10: 1.94 | L10: =K10-(SUM(N10:Y10)) -> 0 | M10: =IF(L10<0,"ATENÇÃO","OK") -> OK | N10: 0 | O10: 0 | P10: 0 | Q10: 0 | R10: 0 | S10: 0 | T10: 0 | U10: 0 | V10: 0 | W10: 0 | X10: 0 | Y10: 0
C11: 8 | D11: LEITE DESNATADO, EMBALAGEM LONGA VIDA COM 01 LITRO * Leite de vaca, desnatado, (UHT) pasteurizado em ultra/altas temperaturas, embalagem em caixa tipo longa vida longa vida, com 1.000ml, devidamente rotuladas conforme legislação vigente e possuir registro nos Órgãos de Inspeção Sanitária; com validade mínima de 60 dias a cada fornecimento. (Código: 00137-6 012 - Grupo-classe: 1901) | E11: 339030-07 | F11: Piracanjuba | G11: Litro | H11: 20 | I11: 20 | J11: 1.82 | L11: =K11-(SUM(N11:Y11)) -> 0 | M11: =IF(L11<0,"ATENÇÃO","OK") -> OK | N11: 0 | O11: 0 | P11: 0 | Q11: 0 | R11: 0 | S11: 0 | T11: 0 | U11: 0 | V11: 0 | W11: 0 | X11: 0 | Y11: 0
C12: 9 | D12: LEITE SEMI-DESNATADO, ESTERELIZADO, TIPO LONGA VIDA * Leite de vaca, semi-desnatado, (UHT) pasteurizado em ultra/altas temperaturas, embalagem em caixa tipo longa vida longa vida, com 1.000ml, devidamente rotuladas conforme legislação vigente e possuir registro nos Órgãos de Inspeção Sanitária; com validade mínima de 60 dias a cada fornecimento. (Código: 00137-6 023 - Grupo-classe: 1901) | E12: 339030-07 | F12: Piracanjuba | G12: Litro | H12: 20 | I12: 20 | J12: 1.84 | L12: =K12-(SUM(N12:Y12)) -> 0 | M12: =IF(L12<0,"ATENÇÃO","OK") -> OK | N12: 0 | O12: 0 | P12: 0 | Q12: 0 | R12: 0 | S12: 0 | T12: 0 | U12: 0 | V12: 0 | W12: 0 | X12: 0 | Y12: 0

Sheet CEART
A1: PROCESSO: 003/2014/SEA | D1: OBJETO: Aquisição de café, leite, açucar e água. | K1: VIGÊNCIA DA ATA: 21/02/2014 até 21/02/2015 | N1: AF nº 283/2014 | O1: AF nº 695/2014 | P1: AF 1313/2014 | Q1: AF 1323/2014 | R1: AF 1322/2014 | S1: AF/OS nº xxxx/2014 Qtde. DT | T1: AF/OS nº xxxx/2014 Qtde. DT | U1: AF/OS nº xxxx/2014 Qtde. DT | V1: AF/OS nº xxxx/2014 Qtde. DT | W1: AF/OS nº xxxx/2014 Qtde. DT | X1: AF/OS nº xxxx/2014 Qtde. DT | Y1: AF/OS nº xxxx/2014 Qtde. DT
A2: CENTRO PARTICIPANTE: CEART - Região Grande Florianópolis
A3: FORNECEDOR | B3: LOTE | C3: ITEM | D3: PRODUTO - CARACTERÍSTICAS MÍNIMAS | E3: ELEMENTO | F3: MARCA | G3: UNIDADE | H3: Entrega (Dias) | I3: Pagto. (Dias) | J3: Preço UNITÁRIO (R$) | K3: Qtde LICITADA | L3: Saldo / Automático | M3: ALERTA | N3: 41732 | O3: 41828 | P3: 41901 | Q3: 41904 | R3: 41904 | S3: ...../...../...... | T3: ...../...../...... | U3: ...../...../...... | V3: ...../...../...... | W3: ...../...../...... | X3: ...../...../...... | Y3: ...../...../......
A4: ESTANCIA HIDROMINERAL SANTA RITA DE CASSIA LTDA | B4: I | C4: 1 | D4: AGUA MINERAL S/GAS, BOMBONA C/ 20 LITROS * Água mineral, potável, natural, sem gás, com validade mínima de 3 (três) meses a cada fornecimento, envasada em garrafão de 20 litros PET (politereftalato de etileno), com cessão gratuita (comodato) de garrafões em quantidade suficiente para abastecimento e reposição, com vida útil máxima de 3 anos, lacrados, dentro dos padrões estabelecidos pelo Departamento Nacional de Produção Mineral - DPNPM e de acordo com a Portaria nº 470/1999, RDCs nºs 274 e 275 de 2005, RDC 23/2000 e RDC 27/2010, da ANVISA-MS. Rotulo com carimbo de aprovação ou numero do processo do DNPM, contendo, no mínimo, nome da fonte e da empresa envasadora, seu CNPJ, Município, Estado, numero do lote, composição química, características físico-químicas, nome do laboratório, numero e data da analise da água, volume, data de envasamento, validade e a expressão "Não contem glúten" com impressão indelével, devendo obedecer a Portaria 387/2008 DNPM, especificações da ANVISA (Resolução nº 105/99 e suas atualizações), e normas da ABNT NMR 14222, 14328 e 14638. (Código: 00142-2 015 - Grupo-classe: 1903). | E4: 339030-07 | F4: Santa Rita | G4: Peça | H4: 20 | I4: 20 | J4: 4.56 | K4: 800 | L4: =K4-(SUM(N4:Y4)) -> 700 | M4: =IF(L4<0,"ATENÇÃO","OK") -> OK | N4: 0 | O4: 0 | P4: 100 | S4: 0 | T4: 0 | U4: 0 | V4: 0 | W4: 0 | X4: 0 | Y4: 0
C5: 2 | D5: AGUA MINERAL NATURAL C/ GAS (EMB. DESCARTAVEL 500ML) Água mineral, natural, potável, com gás, envasada em garrafa PET (politereftalato de etileno) descartável com 500ml, lacrados, dentro dos padrões estabelecidos pelo Departamento Nacional de Produção Mineral-DNPM e de acordo com a Portaria nº 470/1999, RDCs nºs 274 e 275 de 2005, RDC 23/2000 e RDC 27/2010, da ANVISA-MS, acondicionadas em fardo com 12 unidades, e com validade mínima de 6 (seis) meses a cada fornecimento. Rotulo com carimbo de aprovação ou numero do processo do DNPM, contendo, no mínimo, nome da fonte e da empresa envasadora, seu CNPJ, Município, Estado, numero do lote, composição química, características físico-químicas, nome do laboratório, numero e data da analise da água, volume, data de envasamento e validade e a expressão "Não contem glúten" com impressão indelével. (Código: 00142-2 002 - Grupo-classe: 1903) | E5: 339030-07 | F5: Santa Rita | G5: Peça | H5: 20 | I5: 20 | J5: 0.66 | K5: 1200 | L5: =K5-(SUM(N5:Y5)) -> 1000 | M5: =IF(L5<0,"ATENÇÃO","OK") -> OK | N5: 0 | O5: 100 | Q5: 100 | S5: 0 | T5: 0 | U5: 0 | V5: 0 | W5: 0 | X5: 0 | Y5: 0
C6: 3 | D6: AGUA MINERAL NATURAL S/ GAS (EMB. DESCARTAVEL C/ 500ML) Água mineral natural, potável, sem gás, envasada em garrafa PET (politereftalato de etileno) descartável com 500ml, lacrados, dentro dos padrões estabelecidos pelo Departamento Nacional de Produção Mineral-DNPM e de acordo com a Portaria nº 470/1999, RDCs nºs 274 e 275 de 2005, RDC 23/2000 e RDC 27/2010, da ANVISA-MS, acondicionadas em fardo com 12 unidades, e com validade mínima de mínima de 6 (seis) meses a cada fornecimento. Rotulagem: Rotulo com carimbo de aprovação ou numero do processo do DNPM, contendo, no mínimo, nome da fonte, e da empresa envasadora, seu CNPJ, Município, Estado, numero do lote, composição química, características físico - químicas, nome do laboratório, numero e data da analise da água, volume, data de envasamento e validade e a expressão "Não contem glúten" com impressão indelével. (Código: 00142-2 003 - Grupo-classe: 1903). | E6: 339030-07 | F6: Santa Rita | G6: Peça | H6: 20 | I6: 20 | J6: 0.61 | K6: 24000 | L6: =K6-(SUM(N6:Y6)) -> 23500 | M6: =IF(L6<0,"ATENÇÃO","OK") -> OK | N6: 200 | O6: 0 | R6: 300 | S6: 0 | T6: 0 | U6: 0 | V6: 0 | W6: 0 | X6: 0 | Y6: 0
C7: 4 | D7: AGUA MINERAL SEM GÁS, EM COPO DE 200ML. Água mineral, sem gás, em copo de 200ml, obtida diretamente de fontes naturais, envasada dentro dos padrões estabelecidos pelo Departamento Nacional de Produção Mineral-DNPM e de acordo com a Portaria nº 470/1999, RDCs nºs 274 e 275 de 2005, RDC 23/2000 e RDC 27/2010, da ANVISA-MS. Apresentação: A água devera apresentar-se límpida, sem flocos em deposito ou corpos estranhos e com validade mínima de 6 (seis) meses a cada fornecimento. Apresentação: Embalada em copo, fabricado em plástico resistente, com tampa lacrada, com rotulo intacto, sem vazamentos, manchas, odores, furos, fissuras ou amassados, acondicionados em caixas resistentes com 48 unidades. Rotulo com carimbo de aprovação ou numero do processo do DNPM, contendo, no mínimo, nome da fonte e da empresa envasadora, seu CNPJ, Município, Estado, numero do lote, composição química, características físico-químicas, nome do laboratório, numero e data da analise da água, volume, data de envasamento e validade e a expressão "Não contem glúten" com impressão indelével. (Código: 10301-2 009 - Grupo-classe: 1903). | E7: 339030-07 | F7: Santa Rita | G7: Peça | H7: 20 | I7: 20 | J7: 0.27 | L7: =K7-(SUM(N7:Y7)) -> 0 | M7: =IF(L7<0,"ATENÇÃO","OK") -> OK | N7: 0 | O7: 0 | S7: 0 | T7: 0 | U7: 0 | V7: 0 | W7: 0 | X7: 0 | Y7: 0
A8: JJ MATTOS INDUSTRIA E COMERCIO DE CAFÉ LTDA | B8: II | C8: 5 | D8: CAFE TORRADO E MOIDO EMB. A VACUO PRENSADO EMB.500G Café torrado e moído emb. a vácuo prensado emb. 500g, em pó, homogêneo, torrado e moído, categoria do tipo SUPERIOR, constituído com predominância de grãos de café arábica. Características sensoriais: fragrância: marcante; aroma: característico, marcante; acidez: baixa a moderada; amargor: moderado; sabor: característico e equilibrado; sabor residual: bom, duradouro; defeitos: pouca interferência; adstringência: baixa; corpo: razoavelmente encorpado; qualidade da bebida: dura a melhor; qualidade global: razoavelmente bom a bom, com embalagem vácuo-puro. Com fabricação de no máximo de 30 (trinta) dias antes da data de entrega. Prazo de validade do produto de no mínimo de 12 (doze) meses. O café deverá ter, além da embalagem vácuo-puro, embalagem individual de cartolina, que deverá estar acondicionada em caixa de papelão, com 05 ou 10 kg cada, identificação da categoria do café, lote, prazo de validade e demais informações de acordo com exigências legais vigentes que tratam das embalagens e rotulagens e, que atenda ao padrão de identidade e qualidade (com nota de qualidade global da bebida, igual ou maior que 6,0 (seis) pontos e demais condições estabelecidas de acordo com a legislação vigente. (Decreto Federal n.º 27.173, de 14/09/1949, e Portaria INMETRO nº 157, de 19/08/2002), Portaria 377, de 26/04/1999, IN nº 8 de 11/06/2003 e, IN nº 16, de 24/05/2010 do MAPA, Resoluções: RDC nº 277, de 22/09/05, RDC nº 175, de 08/07/03, RDC nº 259/02, RDC nº 12, de 02/01/01, RDC 123, de 13/025/2004, RDC 259 de 20/09/2002, da ANVISA, e, Resoluções SAA-28, de 01/06/2007 e, SAA-30, de 22/06/2007). Código: 00144-9 005. Grupo - Classe 1903). | E8: 339030-07 | F8: Jurere Superior | G8: Kg | H8: 20 | I8: 20 | J8: 8.5 | K8: 400 | L8: =K8-(SUM(N8:Y8)) -> 400 | M8: =IF(L8<0,"ATENÇÃO","OK") -> OK | N8: 0 | O8: 0 | S8: 0 | T8: 0 | U8: 0 | V8: 0 | W8: 0 | X8: 0 | Y8: 0
A9: TARCIANE LOHN BOECHATT EPP | B9: III | C9: 6 | D9: ACUCAR REFINADO (EMB. C/ 1KG) * Açúcar (embalagem com 01 kg.), refinado de origem vegetal, constituído fundamentalmente por sacarose de cana-de-açúcar, com alto teor de pureza com relação à sacarose, aspecto sólido amorfo, Cor: branca, para utilização em alimentação humana, com validade de 01 (um) ano a cada fornecimento. (Código 00141-4 002 -Grupo-classe1903). | E9: 339030-07 | F9: Caravelas | G9: Kg | H9: 20 | I9: 20 | J9: 1.61 | K9: 400 | L9: =K9-(SUM(N9:Y9)) -> 400 | M9: =IF(L9<0,"ATENÇÃO","OK") -> OK | N9: 0 | O9: 0 | P9: 0 | Q9: 0 | R9: 0 | S9: 0 | T9: 0 | U9: 0 | V9: 0 | W9: 0 | X9: 0 | Y9: 0
A10: TARCIANE LOHN BOECHATT EPP | B10: IV | C10: 7 | D10: LEITE DE VACA INTEGRAL, EMBALAGEM LONGA VIDA C/1000ML * Leite de vaca, integral, (UHT) pasteurizado em ultra/altas temperaturas, embalagem em caixa tipo longa vida longa vida, com 1.000ml, devidamente rotuladas conforme legislação vigente e possuir registro nos Órgãos de Inspeção Sanitária; com validade mínima de 60 dias a cada fornecimento. (Código: 00137-6 011 - Grupo-classe: 1901). | E10: 339030-07 | F10: Longuiru | G10: Litro | H10: 20 | I10: 20 | J10: 1.94 | L10: =K10-(SUM(N10:Y10)) -> 0 | M10: =IF(L10<0,"ATENÇÃO","OK") -> OK | N10: 0 | O10: 0 | P10: 0 | Q10: 0 | R10: 0 | S10: 0 | T10: 0 | U10: 0 | V10: 0 | W10: 0 | X10: 0 | Y10: 0
C11: 8 | D11: LEITE DESNATADO, EMBALAGEM LONGA VIDA COM 01 LITRO * Leite de vaca, desnatado, (UHT) pasteurizado em ultra/altas temperaturas, embalagem em caixa tipo longa vida longa vida, com 1.000ml, devidamente rotuladas conforme legislação vigente e possuir registro nos Órgãos de Inspeção Sanitária; com validade mínima de 60 dias a cada fornecimento. (Código: 00137-6 012 - Grupo-classe: 1901) | E11: 339030-07 | F11: Piracanjuba | G11: Litro | H11: 20 | I11: 20 | J11: 1.82 | L11: =K11-(SUM(N11:Y11)) -> 0 | M11: =IF(L11<0,"ATENÇÃO","OK") -> OK | N11: 0 | O11: 0 | P11: 0 | Q11: 0 | R11: 0 | S11: 0 | T11: 0 | U11: 0 | V11: 0 | W11: 0 | X11: 0 | Y11: 0
C12: 9 | D12: LEITE SEMI-DESNATADO, ESTERELIZADO, TIPO LONGA VIDA * Leite de vaca, semi-desnatado, (UHT) pasteurizado em ultra/altas temperaturas, embalagem em caixa tipo longa vida longa vida, com 1.000ml, devidamente rotuladas conforme legislação vigente e possuir registro nos Órgãos de Inspeção Sanitária; com validade mínima de 60 dias a cada fornecimento. (Código: 00137-6 023 - Grupo-classe: 1901) | E12: 339030-07 | F12: Piracanjuba | G12: Litro | H12: 20 | I12: 20 | J12: 1.84 | L12: =K12-(SUM(N12:Y12)) -> 0 | M12: =IF(L12<0,"ATENÇÃO","OK") -> OK | N12: 0 | O12: 0 | P12: 0 | Q12: 0 | R12: 0 | S12: 0 | T12: 0 | U12: 0 | V12: 0 | W12: 0 | X12: 0 | Y12: 0

Sheet FAED
A1: PROCESSO: 003/2014/SEA | D1: OBJETO: Aquisição de café, leite, açucar e água. | K1: VIGÊNCIA DA ATA: 21/02/2014 até 21/02/2015 | N1: AF nº 554/2014 Qtde. DT | O1: AF nº 896/2014 Qtde. DT | P1: AF nº 1160/2014 Qtde. DT | Q1: AF nº 1330/2014 Qtde. DT | R1: AF/OS nº xxxx/2014 Qtde. DT | S1: AF/OS nº xxxx/2014 Qtde. DT | T1: AF/OS nº xxxx/2014 Qtde. DT | U1: AF/OS nº xxxx/2014 Qtde. DT | V1: AF/OS nº xxxx/2014 Qtde. DT | W1: AF/OS nº xxxx/2014 Qtde. DT | X1: AF/OS nº xxxx/2014 Qtde. DT | Y1: AF/OS nº xxxx/2014 Qtde. DT
A2: CENTRO PARTICIPANTE: FAED - Região Grande Florianópolis
A3: FORNECEDOR | B3: LOTE | C3: ITEM | D3: PRODUTO - CARACTERÍSTICAS MÍNIMAS | E3: ELEMENTO | F3: MARCA | G3: UNIDADE | H3: Entrega (Dias) | I3: Pagto. (Dias) | J3: Preço UNITÁRIO (R$) | K3: Qtde LICITADA | L3: Saldo / Automático | M3: ALERTA | N3: ...../...../...... | O3: ...../...../...... | P3: ...../...../...... | Q3: ...../...../...... | R3: ...../...../...... | S3: ...../...../...... | T3: ...../...../...... | U3: ...../...../...... | V3: ...../...../...... | W3: ...../...../...... | X3: ...../...../...... | Y3: ...../...../......
A4: ESTANCIA HIDROMINERAL SANTA RITA DE CASSIA LTDA | B4: I | C4: 1 | D4: AGUA MINERAL S/GAS, BOMBONA C/ 20 LITROS * Água mineral, potável, natural, sem gás, com validade mínima de 3 (três) meses a cada fornecimento, envasada em garrafão de 20 litros PET (politereftalato de etileno), com cessão gratuita (comodato) de garrafões em quantidade suficiente para abastecimento e reposição, com vida útil máxima de 3 anos, lacrados, dentro dos padrões estabelecidos pelo Departamento Nacional de Produção Mineral - DPNPM e de acordo com a Portaria nº 470/1999, RDCs nºs 274 e 275 de 2005, RDC 23/2000 e RDC 27/2010, da ANVISA-MS. Rotulo com carimbo de aprovação ou numero do processo do DNPM, contendo, no mínimo, nome da fonte e da empresa envasadora, seu CNPJ, Município, Estado, numero do lote, composição química, características físico-químicas, nome do laboratório, numero e data da analise da água, volume, data de envasamento, validade e a expressão "Não contem glúten" com impressão indelével, devendo obedecer a Portaria 387/2008 DNPM, especificações da ANVISA (Resolução nº 105/99 e suas atualizações), e normas da ABNT NMR 14222, 14328 e 14638. (Código: 00142-2 015 - Grupo-classe: 1903). | E4: 339030-07 | F4: Santa Rita | G4: Peça | H4: 20 | I4: 20 | J4: 4.56 | K4: 800 | L4: =K4-(SUM(N4:Y4)) -> 550 | M4: =IF(L4<0,"ATENÇÃO","OK") -> OK | N4: 200 | O4: 0 | P4: 0 | Q4: 50 | R4: 0 | S4: 0 | T4: 0 | U4: 0 | V4: 0 | W4: 0 | X4: 0 | Y4: 0
C5: 2 | D5: AGUA MINERAL NATURAL C/ GAS (EMB. DESCARTAVEL 500ML) Água mineral, natural, potável, com gás, envasada em garrafa PET (politereftalato de etileno) descartável com 500ml, lacrados, dentro dos padrões estabelecidos pelo Departamento Nacional de Produção Mineral-DNPM e de acordo com a Portaria nº 470/1999, RDCs nºs 274 e 275 de 2005, RDC 23/2000 e RDC 27/2010, da ANVISA-MS, acondicionadas em fardo com 12 unidades, e com validade mínima de 6 (seis) meses a cada fornecimento. Rotulo com carimbo de aprovação ou numero do processo do DNPM, contendo, no mínimo, nome da fonte e da empresa envasadora, seu CNPJ, Município, Estado, numero do lote, composição química, características físico-químicas, nome do laboratório, numero e data da analise da água, volume, data de envasamento e validade e a expressão "Não contem glúten" com impressão indelével. (Código: 00142-2 002 - Grupo-classe: 1903) | E5: 339030-07 | F5: Santa Rita | G5: Peça | H5: 20 | I5: 20 | J5: 0.66 | K5: 250 | L5: =K5-(SUM(N5:Y5)) -> 70 | M5: =IF(L5<0,"ATENÇÃO","OK") -> OK | N5: 0 | O5: 120 | P5: 0 | Q5: 60 | R5: 0 | S5: 0 | T5: 0 | U5: 0 | V5: 0 | W5: 0 | X5: 0 | Y5: 0
C6: 3 | D6: AGUA MINERAL NATURAL S/ GAS (EMB. DESCARTAVEL C/ 500ML) Água mineral natural, potável, sem gás, envasada em garrafa PET (politereftalato de etileno) descartável com 500ml, lacrados, dentro dos padrões estabelecidos pelo Departamento Nacional de Produção Mineral-DNPM e de acordo com a Portaria nº 470/1999, RDCs nºs 274 e 275 de 2005, RDC 23/2000 e RDC 27/2010, da ANVISA-MS, acondicionadas em fardo com 12 unidades, e com validade mínima de mínima de 6 (seis) meses a cada fornecimento. Rotulagem: Rotulo com carimbo de aprovação ou numero do processo do DNPM, contendo, no mínimo, nome da fonte, e da empresa envasadora, seu CNPJ, Município, Estado, numero do lote, composição química, características físico - químicas, nome do laboratório, numero e data da analise da água, volume, data de envasamento e validade e a expressão "Não contem glúten" com impressão indelével. (Código: 00142-2 003 - Grupo-classe: 1903). | E6: 339030-07 | F6: Santa Rita | G6: Peça | H6: 20 | I6: 20 | J6: 0.61 | K6: 1800 | L6: =K6-(SUM(N6:Y6)) -> 1320 | M6: =IF(L6<0,"ATENÇÃO","OK") -> OK | N6: 240 | O6: 0 | P6: 240 | Q6: 0 | R6: 0 | S6: 0 | T6: 0 | U6: 0 | V6: 0 | W6: 0 | X6: 0 | Y6: 0
C7: 4 | D7: AGUA MINERAL SEM GÁS, EM COPO DE 200ML. Água mineral, sem gás, em copo de 200ml, obtida diretamente de fontes naturais, envasada dentro dos padrões estabelecidos pelo Departamento Nacional de Produção Mineral-DNPM e de acordo com a Portaria nº 470/1999, RDCs nºs 274 e 275 de 2005, RDC 23/2000 e RDC 27/2010, da ANVISA-MS. Apresentação: A água devera apresentar-se límpida, sem flocos em deposito ou corpos estranhos e com validade mínima de 6 (seis) meses a cada fornecimento. Apresentação: Embalada em copo, fabricado em plástico resistente, com tampa lacrada, com rotulo intacto, sem vazamentos, manchas, odores, furos, fissuras ou amassados, acondicionados em caixas resistentes com 48 unidades. Rotulo com carimbo de aprovação ou numero do processo do DNPM, contendo, no mínimo, nome da fonte e da empresa envasadora, seu CNPJ, Município, Estado, numero do lote, composição química, características físico-químicas, nome do laboratório, numero e data da analise da água, volume, data de envasamento e validade e a expressão "Não contem glúten" com impressão indelével. (Código: 10301-2 009 - Grupo-classe: 1903). | E7: 339030-07 | F7: Santa Rita | G7: Peça | H7: 20 | I7: 20 | J7: 0.27 | L7: =K7-(SUM(N7:Y7)) -> 0 | M7: =IF(L7<0,"ATENÇÃO","OK") -> OK | N7: 0 | O7: 0 | P7: 0 | Q7: 0 | R7: 0 | S7: 0 | T7: 0 | U7: 0 | V7: 0 | W7: 0 | X7: 0 | Y7: 0
A8: JJ MATTOS INDUSTRIA E COMERCIO DE CAFÉ LTDA | B8: II | C8: 5 | D8: CAFE TORRADO E MOIDO EMB. A VACUO PRENSADO EMB.500G Café torrado e moído emb. a vácuo prensado emb. 500g, em pó, homogêneo, torrado e moído, categoria do tipo SUPERIOR, constituído com predominância de grãos de café arábica. Características sensoriais: fragrância: marcante; aroma: característico, marcante; acidez: baixa a moderada; amargor: moderado; sabor: característico e equilibrado; sabor residual: bom, duradouro; defeitos: pouca interferência; adstringência: baixa; corpo: razoavelmente encorpado; qualidade da bebida: dura a melhor; qualidade global: razoavelmente bom a bom, com embalagem vácuo-puro. Com fabricação de no máximo de 30 (trinta) dias antes da data de entrega. Prazo de validade do produto de no mínimo de 12 (doze) meses. O café deverá ter, além da embalagem vácuo-puro, embalagem individual de cartolina, que deverá estar acondicionada em caixa de papelão, com 05 ou 10 kg cada, identificação da categoria do café, lote, prazo de validade e demais informações de acordo com exigências legais vigentes que tratam das embalagens e rotulagens e, que atenda ao padrão de identidade e qualidade (com nota de qualidade global da bebida, igual ou maior que 6,0 (seis) pontos e demais condições estabelecidas de acordo com a legislação vigente. (Decreto Federal n.º 27.173, de 14/09/1949, e Portaria INMETRO nº 157, de 19/08/2002), Portaria 377, de 26/04/1999, IN nº 8 de 11/06/2003 e, IN nº 16, de 24/05/2010 do MAPA, Resoluções: RDC nº 277, de 22/09/05, RDC nº 175, de 08/07/03, RDC nº 259/02, RDC nº 12, de 02/01/01, RDC 123, de 13/025/2004, RDC 259 de 20/09/2002, da ANVISA, e, Resoluções SAA-28, de 01/06/2007 e, SAA-30, de 22/06/2007). Código: 00144-9 005. Grupo - Classe 1903). | E8: 339030-07 | F8: Jurere Superior | G8: Kg | H8: 20 | I8: 20 | J8: 8.5 | K8: 650 | L8: =K8-(SUM(N8:Y8)) -> 650 | M8: =IF(L8<0,"ATENÇÃO","OK") -> OK | N8: 0 | O8: 0 | P8: 0 | Q8: 0 | R8: 0 | S8: 0 | T8: 0 | U8: 0 | V8: 0 | W8: 0 | X8: 0 | Y8: 0
A9: TARCIANE LOHN BOECHATT EPP | B9: III | C9: 6 | D9: ACUCAR REFINADO (EMB. C/ 1KG) * Açúcar (embalagem com 01 kg.), refinado de origem vegetal, constituído fundamentalmente por sacarose de cana-de-açúcar, com alto teor de pureza com relação à sacarose, aspecto sólido amorfo, Cor: branca, para utilização em alimentação humana, com validade de 01 (um) ano a cada fornecimento. (Código 00141-4 002 -Grupo-classe1903). | E9: 339030-07 | F9: Caravelas | G9: Kg | H9: 20 | I9: 20 | J9: 1.61 | K9: 850 | L9: =K9-(SUM(N9:Y9)) -> 850 | M9: =IF(L9<0,"ATENÇÃO","OK") -> OK | N9: 0 | O9: 0 | P9: 0 | Q9: 0 | R9: 0 | S9: 0 | T9: 0 | U9: 0 | V9: 0 | W9: 0 | X9: 0 | Y9: 0
A10: TARCIANE LOHN BOECHATT EPP | B10: IV | C10: 7 | D10: LEITE DE VACA INTEGRAL, EMBALAGEM LONGA VIDA C/1000ML * Leite de vaca, integral, (UHT) pasteurizado em ultra/altas temperaturas, embalagem em caixa tipo longa vida longa vida, com 1.000ml, devidamente rotuladas conforme legislação vigente e possuir registro nos Órgãos de Inspeção Sanitária; com validade mínima de 60 dias a cada fornecimento. (Código: 00137-6 011 - Grupo-classe: 1901). | E10: 339030-07 | F10: Longuiru | G10: Litro | H10: 20 | I10: 20 | J10: 1.94 | L10: =K10-(SUM(N10:Y10)) -> 0 | M10: =IF(L10<0,"ATENÇÃO","OK") -> OK | N10: 0 | O10: 0 | P10: 0 | Q10: 0 | R10: 0 | S10: 0 | T10: 0 | U10: 0 | V10: 0 | W10: 0 | X10: 0 | Y10: 0
C11: 8 | D11: LEITE DESNATADO, EMBALAGEM LONGA VIDA COM 01 LITRO * Leite de vaca, desnatado, (UHT) pasteurizado em ultra/altas temperaturas, embalagem em caixa tipo longa vida longa vida, com 1.000ml, devidamente rotuladas conforme legislação vigente e possuir registro nos Órgãos de Inspeção Sanitária; com validade mínima de 60 dias a cada fornecimento. (Código: 00137-6 012 - Grupo-classe: 1901) | E11: 339030-07 | F11: Piracanjuba | G11: Litro | H11: 20 | I11: 20 | J11: 1.82 | L11: =K11-(SUM(N11:Y11)) -> 0 | M11: =IF(L11<0,"ATENÇÃO","OK") -> OK | N11: 0 | O11: 0 | P11: 0 | Q11: 0 | R11: 0 | S11: 0 | T11: 0 | U11: 0 | V11: 0 | W11: 0 | X11: 0 | Y11: 0
C12: 9 | D12: LEITE SEMI-DESNATADO, ESTERELIZADO, TIPO LONGA VIDA * Leite de vaca, semi-desnatado, (UHT) pasteurizado em ultra/altas temperaturas, embalagem em caixa tipo longa vida longa vida, com 1.000ml, devidamente rotuladas conforme legislação vigente e possuir registro nos Órgãos de Inspeção Sanitária; com validade mínima de 60 dias a cada fornecimento. (Código: 00137-6 023 - Grupo-classe: 1901) | E12: 339030-07 | F12: Piracanjuba | G12: Litro | H12: 20 | I12: 20 | J12: 1.84 | L12: =K12-(SUM(N12:Y12)) -> 0 | M12: =IF(L12<0,"ATENÇÃO","OK") -> OK | N12: 0 | O12: 0 | P12: 0 | Q12: 0 | R12: 0 | S12: 0 | T12: 0 | U12: 0 | V12: 0 | W12: 0 | X12: 0 | Y12: 0

Sheet CEAD
A1: PROCESSO: 003/2014/SEA | D1: OBJETO: Aquisição de café, leite, açucar e água. | K1: VIGÊNCIA DA ATA: 21/02/2014 até 21/02/2015 | N1: AF/OS nº xxxx/2014 Qtde. DT | O1: AF/OS nº xxxx/2014 Qtde. DT | P1: AF/OS nº xxxx/2014 Qtde. DT | Q1: AF/OS nº xxxx/2014 Qtde. DT | R1: AF/OS nº xxxx/2014 Qtde. DT | S1: AF/OS nº xxxx/2014 Qtde. DT | T1: AF/OS nº xxxx/2014 Qtde. DT | U1: AF/OS nº xxxx/2014 Qtde. DT | V1: AF/OS nº xxxx/2014 Qtde. DT | W1: AF/OS nº xxxx/2014 Qtde. DT | X1: AF/OS nº xxxx/2014 Qtde. DT | Y1: AF/OS nº xxxx/2014 Qtde. DT
A2: CENTRO PARTICIPANTE: CEAD - Região Grande Florianópolis
A3: FORNECEDOR | B3: LOTE | C3: ITEM | D3: PRODUTO - CARACTERÍSTICAS MÍNIMAS | E3: ELEMENTO | F3: MARCA | G3: UNIDADE | H3: Entrega (Dias) | I3: Pagto. (Dias) | J3: Preço UNITÁRIO (R$) | K3: Qtde LICITADA | L3: Saldo / Automático | M3: ALERTA | N3: ...../...../...... | O3: ...../...../...... | P3: ...../...../...... | Q3: ...../...../...... | R3: ...../...../...... | S3: ...../...../...... | T3: ...../...../...... | U3: ...../...../...... | V3: ...../...../...... | W3: ...../...../...... | X3: ...../...../...... | Y3: ...../...../......
A4: ESTANCIA HIDROMINERAL SANTA RITA DE CASSIA LTDA | B4: I | C4: 1 | D4: AGUA MINERAL S/GAS, BOMBONA C/ 20 LITROS * Água mineral, potável, natural, sem gás, com validade mínima de 3 (três) meses a cada fornecimento, envasada em garrafão de 20 litros PET (politereftalato de etileno), com cessão gratuita (comodato) de garrafões em quantidade suficiente para abastecimento e reposição, com vida útil máxima de 3 anos, lacrados, dentro dos padrões estabelecidos pelo Departamento Nacional de Produção Mineral - DPNPM e de acordo com a Portaria nº 470/1999, RDCs nºs 274 e 275 de 2005, RDC 23/2000 e RDC 27/2010, da ANVISA-MS. Rotulo com carimbo de aprovação ou numero do processo do DNPM, contendo, no mínimo, nome da fonte e da empresa envasadora, seu CNPJ, Município, Estado, numero do lote, composição química, características físico-químicas, nome do laboratório, numero e data da analise da água, volume, data de envasamento, validade e a expressão "Não contem glúten" com impressão indelével, devendo obedecer a Portaria 387/2008 DNPM, especificações da ANVISA (Resolução nº 105/99 e suas atualizações), e normas da ABNT NMR 14222, 14328 e 14638. (Código: 00142-2 015 - Grupo-classe: 1903). | E4: 339030-07 | F4: Santa Rita | G4: Peça | H4: 20 | I4: 20 | J4: 4.56 | K4: 600 | L4: =K4-(SUM(N4:Y4)) -> 600 | M4: =IF(L4<0,"ATENÇÃO","OK") -> OK | O4: 0 | P4: 0 | Q4: 0 | R4: 0 | S4: 0 | T4: 0 | U4: 0 | V4: 0 | W4: 0 | X4: 0 | Y4: 0
C5: 2 | D5: AGUA MINERAL NATURAL C/ GAS (EMB. DESCARTAVEL 500ML) Água mineral, natural, potável, com gás, envasada em garrafa PET (politereftalato de etileno) descartável com 500ml, lacrados, dentro dos padrões estabelecidos pelo Departamento Nacional de Produção Mineral-DNPM e de acordo com a Portaria nº 470/1999, RDCs nºs 274 e 275 de 2005, RDC 23/2000 e RDC 27/2010, da ANVISA-MS, acondicionadas em fardo com 12 unidades, e com validade mínima de 6 (seis) meses a cada fornecimento. Rotulo com carimbo de aprovação ou numero do processo do DNPM, contendo, no mínimo, nome da fonte e da empresa envasadora, seu CNPJ, Município, Estado, numero do lote, composição química, características físico-químicas, nome do laboratório, numero e data da analise da água, volume, data de envasamento e validade e a expressão "Não contem glúten" com impressão indelével. (Código: 00142-2 002 - Grupo-classe: 1903) | E5: 339030-07 | F5: Santa Rita | G5: Peça | H5: 20 | I5: 20 | J5: 0.66 | K5: 1400 | L5: =K5-(SUM(N5:Y5)) -> 1400 | M5: =IF(L5<0,"ATENÇÃO","OK") -> OK | P5: 0 | Q5: 0 | R5: 0 | S5: 0 | T5: 0 | U5: 0 | V5: 0 | W5: 0 | X5: 0 | Y5: 0
C6: 3 | D6: AGUA MINERAL NATURAL S/ GAS (EMB. DESCARTAVEL C/ 500ML) Água mineral natural, potável, sem gás, envasada em garrafa PET (politereftalato de etileno) descartável com 500ml, lacrados, dentro dos padrões estabelecidos pelo Departamento Nacional de Produção Mineral-DNPM e de acordo com a Portaria nº 470/1999, RDCs nºs 274 e 275 de 2005, RDC 23/2000 e RDC 27/2010, da ANVISA-MS, acondicionadas em fardo com 12 unidades, e com validade mínima de mínima de 6 (seis) meses a cada fornecimento. Rotulagem: Rotulo com carimbo de aprovação ou numero do processo do DNPM, contendo, no mínimo, nome da fonte, e da empresa envasadora, seu CNPJ, Município, Estado, numero do lote, composição química, características físico - químicas, nome do laboratório, numero e data da analise da água, volume, data de envasamento e validade e a expressão "Não contem glúten" com impressão indelével. (Código: 00142-2 003 - Grupo-classe: 1903). | E6: 339030-07 | F6: Santa Rita | G6: Peça | H6: 20 | I6: 20 | J6: 0.61 | K6: 1700 | L6: =K6-(SUM(N6:Y6)) -> 1700 | M6: =IF(L6<0,"ATENÇÃO","OK") -> OK | O6: 0 | P6: 0 | Q6: 0 | R6: 0 | S6: 0 | T6: 0 | U6: 0 | V6: 0 | W6: 0 | X6: 0 | Y6: 0
C7: 4 | D7: AGUA MINERAL SEM GÁS, EM COPO DE 200ML. Água mineral, sem gás, em copo de 200ml, obtida diretamente de fontes naturais, envasada dentro dos padrões estabelecidos pelo Departamento Nacional de Produção Mineral-DNPM e de acordo com a Portaria nº 470/1999, RDCs nºs 274 e 275 de 2005, RDC 23/2000 e RDC 27/2010, da ANVISA-MS. Apresentação: A água devera apresentar-se límpida, sem flocos em deposito ou corpos estranhos e com validade mínima de 6 (seis) meses a cada fornecimento. Apresentação: Embalada em copo, fabricado em plástico resistente, com tampa lacrada, com rotulo intacto, sem vazamentos, manchas, odores, furos, fissuras ou amassados, acondicionados em caixas resistentes com 48 unidades. Rotulo com carimbo de aprovação ou numero do processo do DNPM, contendo, no mínimo, nome da fonte e da empresa envasadora, seu CNPJ, Município, Estado, numero do lote, composição química, características físico-químicas, nome do laboratório, numero e data da analise da água, volume, data de envasamento e validade e a expressão "Não contem glúten" com impressão indelével. (Código: 10301-2 009 - Grupo-classe: 1903). | E7: 339030-07 | F7: Santa Rita | G7: Peça | H7: 20 | I7: 20 | J7: 0.27 | L7: =K7-(SUM(N7:Y7)) -> 0 | M7: =IF(L7<0,"ATENÇÃO","OK") -> OK | N7: 0 | O7: 0 | P7: 0 | Q7: 0 | R7: 0 | S7: 0 | T7: 0 | U7: 0 | V7: 0 | W7: 0 | X7: 0 | Y7: 0
A8: JJ MATTOS INDUSTRIA E COMERCIO DE CAFÉ LTDA | B8: II | C8: 5 | D8: CAFE TORRADO E MOIDO EMB. A VACUO PRENSADO EMB.500G Café torrado e moído emb. a vácuo prensado emb. 500g, em pó, homogêneo, torrado e moído, categoria do tipo SUPERIOR, constituído com predominância de grãos de café arábica. Características sensoriais: fragrância: marcante; aroma: característico, marcante; acidez: baixa a moderada; amargor: moderado; sabor: característico e equilibrado; sabor residual: bom, duradouro; defeitos: pouca interferência; adstringência: baixa; corpo: razoavelmente encorpado; qualidade da bebida: dura a melhor; qualidade global: razoavelmente bom a bom, com embalagem vácuo-puro. Com fabricação de no máximo de 30 (trinta) dias antes da data de entrega. Prazo de validade do produto de no mínimo de 12 (doze) meses. O café deverá ter, além da embalagem vácuo-puro, embalagem individual de cartolina, que deverá estar acondicionada em caixa de papelão, com 05 ou 10 kg cada, identificação da categoria do café, lote, prazo de validade e demais informações de acordo com exigências legais vigentes que tratam das embalagens e rotulagens e, que atenda ao padrão de identidade e qualidade (com nota de qualidade global da bebida, igual ou maior que 6,0 (seis) pontos e demais condições estabelecidas de acordo com a legislação vigente. (Decreto Federal n.º 27.173, de 14/09/1949, e Portaria INMETRO nº 157, de 19/08/2002), Portaria 377, de 26/04/1999, IN nº 8 de 11/06/2003 e, IN nº 16, de 24/05/2010 do MAPA, Resoluções: RDC nº 277, de 22/09/05, RDC nº 175, de 08/07/03, RDC nº 259/02, RDC nº 12, de 02/01/01, RDC 123, de 13/025/2004, RDC 259 de 20/09/2002, da ANVISA, e, Resoluções SAA-28, de 01/06/2007 e, SAA-30, de 22/06/2007). Código: 00144-9 005. Grupo - Classe 1903). | E8: 339030-07 | F8: Jurere Superior | G8: Kg | H8: 20 | I8: 20 | J8: 8.5 | K8: 600 | L8: =K8-(SUM(N8:Y8)) -> 600 | M8: =IF(L8<0,"ATENÇÃO","OK") -> OK | N8: 0 | O8: 0 | P8: 0 | Q8: 0 | R8: 0 | S8: 0 | T8: 0 | U8: 0 | V8: 0 | W8: 0 | X8: 0 | Y8: 0
A9: TARCIANE LOHN BOECHATT EPP | B9: III | C9: 6 | D9: ACUCAR REFINADO (EMB. C/ 1KG) * Açúcar (embalagem com 01 kg.), refinado de origem vegetal, constituído fundamentalmente por sacarose de cana-de-açúcar, com alto teor de pureza com relação à sacarose, aspecto sólido amorfo, Cor: branca, para utilização em alimentação humana, com validade de 01 (um) ano a cada fornecimento. (Código 00141-4 002 -Grupo-classe1903). | E9: 339030-07 | F9: Caravelas | G9: Kg | H9: 20 | I9: 20 | J9: 1.61 | K9: 700 | L9: =K9-(SUM(N9:Y9)) -> 700 | M9: =IF(L9<0,"ATENÇÃO","OK") -> OK | N9: 0 | O9: 0 | P9: 0 | Q9: 0 | R9: 0 | S9: 0 | T9: 0 | U9: 0 | V9: 0 | W9: 0 | X9: 0 | Y9: 0
A10: TARCIANE LOHN BOECHATT EPP | B10: IV | C10: 7 | D10: LEITE DE VACA INTEGRAL, EMBALAGEM LONGA VIDA C/1000ML * Leite de vaca, integral, (UHT) pasteurizado em ultra/altas temperaturas, embalagem em caixa tipo longa vida longa vida, com 1.000ml, devidamente rotuladas conforme legislação vigente e possuir registro nos Órgãos de Inspeção Sanitária; com validade mínima de 60 dias a cada fornecimento. (Código: 00137-6 011 - Grupo-classe: 1901). | E10: 339030-07 | F10: Longuiru | G10: Litro | H10: 20 | I10: 20 | J10: 1.94 | K10: 120 | L10: =K10-(SUM(N10:Y10)) -> 120 | M10: =IF(L10<0,"ATENÇÃO","OK") -> OK | N10: 0 | O10: 0 | P10: 0 | Q10: 0 | R10: 0 | S10: 0 | T10: 0 | U10: 0 | V10: 0 | W10: 0 | X10: 0 | Y10: 0
C11: 8 | D11: LEITE DESNATADO, EMBALAGEM LONGA VIDA COM 01 LITRO * Leite de vaca, desnatado, (UHT) pasteurizado em ultra/altas temperaturas, embalagem em caixa tipo longa vida longa vida, com 1.000ml, devidamente rotuladas conforme legislação vigente e possuir registro nos Órgãos de Inspeção Sanitária; com validade mínima de 60 dias a cada fornecimento. (Código: 00137-6 012 - Grupo-classe: 1901) | E11: 339030-07 | F11: Piracanjuba | G11: Litro | H11: 20 | I11: 20 | J11: 1.82 | L11: =K11-(SUM(N11:Y11)) -> 0 | M11: =IF(L11<0,"ATENÇÃO","OK") -> OK | N11: 0 | O11: 0 | P11: 0 | Q11: 0 | R11: 0 | S11: 0 | T11: 0 | U11: 0 | V11: 0 | W11: 0 | X11: 0 | Y11: 0
C12: 9 | D12: LEITE SEMI-DESNATADO, ESTERELIZADO, TIPO LONGA VIDA * Leite de vaca, semi-desnatado, (UHT) pasteurizado em ultra/altas temperaturas, embalagem em caixa tipo longa vida longa vida, com 1.000ml, devidamente rotuladas conforme legislação vigente e possuir registro nos Órgãos de Inspeção Sanitária; com validade mínima de 60 dias a cada fornecimento. (Código: 00137-6 023 - Grupo-classe: 1901) | E12: 339030-07 | F12: Piracanjuba | G12: Litro | H12: 20 | I12: 20 | J12: 1.84 | L12: =K12-(SUM(N12:Y12)) -> 0 | M12: =IF(L12<0,"ATENÇÃO","OK") -> OK | N12: 0 | O12: 0 | P12: 0 | Q12: 0 | R12: 0 | S12: 0 | T12: 0 | U12: 0 | V12: 0 | W12: 0 | X12: 0 | Y12: 0

Sheet CEFID
A1: PROCESSO: 003/2014/SEA | D1: OBJETO: Aquisição de café, leite, açucar e água. | K1: VIGÊNCIA DA ATA: 21/02/2014 até 21/02/2015 | N1: AF/OS nº 428/2014 Qtde. DT | O1: AF/OS nº 1449/2014 Qtde. DT | P1: AF/OS nº xxxx/2014 Qtde. DT | Q1: AF/OS nº xxxx/2014 Qtde. DT | R1: AF/OS nº xxxx/2014 Qtde. DT | S1: AF/OS nº xxxx/2014 Qtde. DT | T1: AF/OS nº xxxx/2014 Qtde. DT | U1: AF/OS nº xxxx/2014 Qtde. DT | V1: AF/OS nº xxxx/2014 Qtde. DT | W1: AF/OS nº xxxx/2014 Qtde. DT | X1: AF/OS nº xxxx/2014 Qtde. DT | Y1: AF/OS nº xxxx/2014 Qtde. DT
A2: CENTRO PARTICIPANTE: CEFID - Região Grande Florianópolis
A3: FORNECEDOR | B3: LOTE | C3: ITEM | D3: PRODUTO - CARACTERÍSTICAS MÍNIMAS | E3: ELEMENTO | F3: MARCA | G3: UNIDADE | H3: Entrega (Dias) | I3: Pagto. (Dias) | J3: Preço UNITÁRIO (R$) | K3: Qtde LICITADA | L3: Saldo / Automático | M3: ALERTA | N3: 41774 | O3: 41919 | P3: ...../...../...... | Q3: ...../...../...... | R3: ...../...../...... | S3: ...../...../...... | T3: ...../...../...... | U3: ...../...../...... | V3: ...../...../...... | W3: ...../...../...... | X3: ...../...../...... | Y3: ...../...../......
A4: ESTANCIA HIDROMINERAL SANTA RITA DE CASSIA LTDA | B4: I | C4: 1 | D4: AGUA MINERAL S/GAS, BOMBONA C/ 20 LITROS * Água mineral, potável, natural, sem gás, com validade mínima de 3 (três) meses a cada fornecimento, envasada em garrafão de 20 litros PET (politereftalato de etileno), com cessão gratuita (comodato) de garrafões em quantidade suficiente para abastecimento e reposição, com vida útil máxima de 3 anos, lacrados, dentro dos padrões estabelecidos pelo Departamento Nacional de Produção Mineral - DPNPM e de acordo com a Portaria nº 470/1999, RDCs nºs 274 e 275 de 2005, RDC 23/2000 e RDC 27/2010, da ANVISA-MS. Rotulo com carimbo de aprovação ou numero do processo do DNPM, contendo, no mínimo, nome da fonte e da empresa envasadora, seu CNPJ, Município, Estado, numero do lote, composição química, características físico-químicas, nome do laboratório, numero e data da analise da água, volume, data de envasamento, validade e a expressão "Não contem glúten" com impressão indelével, devendo obedecer a Portaria 387/2008 DNPM, especificações da ANVISA (Resolução nº 105/99 e suas atualizações), e normas da ABNT NMR 14222, 14328 e 14638. (Código: 00142-2 015 - Grupo-classe: 1903). | E4: 339030-07 | F4: Santa Rita | G4: Peça | H4: 20 | I4: 20 | J4: 4.56 | K4: 3000 | L4: =K4-(SUM(N4:Y4)) -> 2100 | M4: =IF(L4<0,"ATENÇÃO","OK") -> OK | N4: 450 | O4: 450 | P4: 0 | Q4: 0 | R4: 0 | S4: 0 | T4: 0 | U4: 0 | V4: 0 | W4: 0 | X4: 0 | Y4: 0
C5: 2 | D5: AGUA MINERAL NATURAL C/ GAS (EMB. DESCARTAVEL 500ML) Água mineral, natural, potável, com gás, envasada em garrafa PET (politereftalato de etileno) descartável com 500ml, lacrados, dentro dos padrões estabelecidos pelo Departamento Nacional de Produção Mineral-DNPM e de acordo com a Portaria nº 470/1999, RDCs nºs 274 e 275 de 2005, RDC 23/2000 e RDC 27/2010, da ANVISA-MS, acondicionadas em fardo com 12 unidades, e com validade mínima de 6 (seis) meses a cada fornecimento. Rotulo com carimbo de aprovação ou numero do processo do DNPM, contendo, no mínimo, nome da fonte e da empresa envasadora, seu CNPJ, Município, Estado, numero do lote, composição química, características físico-químicas, nome do laboratório, numero e data da analise da água, volume, data de envasamento e validade e a expressão "Não contem glúten" com impressão indelével. (Código: 00142-2 002 - Grupo-classe: 1903) | E5: 339030-07 | F5: Santa Rita | G5: Peça | H5: 20 | I5: 20 | J5: 0.66 | K5: 1800 | L5: =K5-(SUM(N5:Y5)) -> 1680 | M5: =IF(L5<0,"ATENÇÃO","OK") -> OK | N5: 120 | P5: 0 | Q5: 0 | R5: 0 | S5: 0 | T5: 0 | U5: 0 | V5: 0 | W5: 0 | X5: 0 | Y5: 0
C6: 3 | D6: AGUA MINERAL NATURAL S/ GAS (EMB. DESCARTAVEL C/ 500ML) Água mineral natural, potável, sem gás, envasada em garrafa PET (politereftalato de etileno) descartável com 500ml, lacrados, dentro dos padrões estabelecidos pelo Departamento Nacional de Produção Mineral-DNPM e de acordo com a Portaria nº 470/1999, RDCs nºs 274 e 275 de 2005, RDC 23/2000 e RDC 27/2010, da ANVISA-MS, acondicionadas em fardo com 12 unidades, e com validade mínima de mínima de 6 (seis) meses a cada fornecimento. Rotulagem: Rotulo com carimbo de aprovação ou numero do processo do DNPM, contendo, no mínimo, nome da fonte, e da empresa envasadora, seu CNPJ, Município, Estado, numero do lote, composição química, características físico - químicas, nome do laboratório, numero e data da analise da água, volume, data de envasamento e validade e a expressão "Não contem glúten" com impressão indelével. (Código: 00142-2 003 - Grupo-classe: 1903). | E6: 339030-07 | F6: Santa Rita | G6: Peça | H6: 20 | I6: 20 | J6: 0.61 | K6: 6000 | L6: =K6-(SUM(N6:Y6)) -> 4080 | M6: =IF(L6<0,"ATENÇÃO","OK") -> OK | N6: 960 | O6: 960 | P6: 0 | Q6: 0 | R6: 0 | S6: 0 | T6: 0 | U6: 0 | V6: 0 | W6: 0 | X6: 0 | Y6: 0
C7: 4 | D7: AGUA MINERAL SEM GÁS, EM COPO DE 200ML. Água mineral, sem gás, em copo de 200ml, obtida diretamente de fontes naturais, envasada dentro dos padrões estabelecidos pelo Departamento Nacional de Produção Mineral-DNPM e de acordo com a Portaria nº 470/1999, RDCs nºs 274 e 275 de 2005, RDC 23/2000 e RDC 27/2010, da ANVISA-MS. Apresentação: A água devera apresentar-se límpida, sem flocos em deposito ou corpos estranhos e com validade mínima de 6 (seis) meses a cada fornecimento. Apresentação: Embalada em copo, fabricado em plástico resistente, com tampa lacrada, com rotulo intacto, sem vazamentos, manchas, odores, furos, fissuras ou amassados, acondicionados em caixas resistentes com 48 unidades. Rotulo com carimbo de aprovação ou numero do processo do DNPM, contendo, no mínimo, nome da fonte e da empresa envasadora, seu CNPJ, Município, Estado, numero do lote, composição química, características físico-químicas, nome do laboratório, numero e data da analise da água, volume, data de envasamento e validade e a expressão "Não contem glúten" com impressão indelével. (Código: 10301-2 009 - Grupo-classe: 1903). | E7: 339030-07 | F7: Santa Rita | G7: Peça | H7: 20 | I7: 20 | J7: 0.27 | L7: =K7-(SUM(N7:Y7)) -> 0 | M7: =IF(L7<0,"ATENÇÃO","OK") -> OK | N7: 0 | O7: 0 | P7: 0 | Q7: 0 | R7: 0 | S7: 0 | T7: 0 | U7: 0 | V7: 0 | W7: 0 | X7: 0 | Y7: 0
A8: JJ MATTOS INDUSTRIA E COMERCIO DE CAFÉ LTDA | B8: II | C8: 5 | D8: CAFE TORRADO E MOIDO EMB. A VACUO PRENSADO EMB.500G Café torrado e moído emb. a vácuo prensado emb. 500g, em pó, homogêneo, torrado e moído, categoria do tipo SUPERIOR, constituído com predominância de grãos de café arábica. Características sensoriais: fragrância: marcante; aroma: característico, marcante; acidez: baixa a moderada; amargor: moderado; sabor: característico e equilibrado; sabor residual: bom, duradouro; defeitos: pouca interferência; adstringência: baixa; corpo: razoavelmente encorpado; qualidade da bebida: dura a melhor; qualidade global: razoavelmente bom a bom, com embalagem vácuo-puro. Com fabricação de no máximo de 30 (trinta) dias antes da data de entrega. Prazo de validade do produto de no mínimo de 12 (doze) meses. O café deverá ter, além da embalagem vácuo-puro, embalagem individual de cartolina, que deverá estar acondicionada em caixa de papelão, com 05 ou 10 kg cada, identificação da categoria do café, lote, prazo de validade e demais informações de acordo com exigências legais vigentes que tratam das embalagens e rotulagens e, que atenda ao padrão de identidade e qualidade (com nota de qualidade global da bebida, igual ou maior que 6,0 (seis) pontos e demais condições estabelecidas de acordo com a legislação vigente. (Decreto Federal n.º 27.173, de 14/09/1949, e Portaria INMETRO nº 157, de 19/08/2002), Portaria 377, de 26/04/1999, IN nº 8 de 11/06/2003 e, IN nº 16, de 24/05/2010 do MAPA, Resoluções: RDC nº 277, de 22/09/05, RDC nº 175, de 08/07/03, RDC nº 259/02, RDC nº 12, de 02/01/01, RDC 123, de 13/025/2004, RDC 259 de 20/09/2002, da ANVISA, e, Resoluções SAA-28, de 01/06/2007 e, SAA-30, de 22/06/2007). Código: 00144-9 005. Grupo - Classe 1903). | E8: 339030-07 | F8: Jurere Superior | G8: Kg | H8: 20 | I8: 20 | J8: 8.5 | K8: 1200 | L8: =K8-(SUM(N8:Y8)) -> 1200 | M8: =IF(L8<0,"ATENÇÃO","OK") -> OK | N8: 0 | O8: 0 | P8: 0 | Q8: 0 | R8: 0 | S8: 0 | T8: 0 | U8: 0 | V8: 0 | W8: 0 | X8: 0 | Y8: 0
A9: TARCIANE LOHN BOECHATT EPP | B9: III | C9: 6 | D9: ACUCAR REFINADO (EMB. C/ 1KG) * Açúcar (embalagem com 01 kg.), refinado de origem vegetal, constituído fundamentalmente por sacarose de cana-de-açúcar, com alto teor de pureza com relação à sacarose, aspecto sólido amorfo, Cor: branca, para utilização em alimentação humana, com validade de 01 (um) ano a cada fornecimento. (Código 00141-4 002 -Grupo-classe1903). | E9: 339030-07 | F9: Caravelas | G9: Kg | H9: 20 | I9: 20 | J9: 1.61 | K9: 1200 | L9: =K9-(SUM(N9:Y9)) -> 1000 | M9: =IF(L9<0,"ATENÇÃO","OK") -> OK | N9: 0 | O9: 200 | P9: 0 | Q9: 0 | R9: 0 | S9: 0 | T9: 0 | U9: 0 | V9: 0 | W9: 0 | X9: 0 | Y9: 0
A10: TARCIANE LOHN BOECHATT EPP | B10: IV | C10: 7 | D10: LEITE DE VACA INTEGRAL, EMBALAGEM LONGA VIDA C/1000ML * Leite de vaca, integral, (UHT) pasteurizado em ultra/altas temperaturas, embalagem em caixa tipo longa vida longa vida, com 1.000ml, devidamente rotuladas conforme legislação vigente e possuir registro nos Órgãos de Inspeção Sanitária; com validade mínima de 60 dias a cada fornecimento. (Código: 00137-6 011 - Grupo-classe: 1901). | E10: 339030-07 | F10: Longuiru | G10: Litro | H10: 20 | I10: 20 | J10: 1.94 | L10: =K10-(SUM(N10:Y10)) -> 0 | M10: =IF(L10<0,"ATENÇÃO","OK") -> OK | N10: 0 | O10: 0 | P10: 0 | Q10: 0 | R10: 0 | S10: 0 | T10: 0 | U10: 0 | V10: 0 | W10: 0 | X10: 0 | Y10: 0
C11: 8 | D11: LEITE DESNATADO, EMBALAGEM LONGA VIDA COM 01 LITRO * Leite de vaca, desnatado, (UHT) pasteurizado em ultra/altas temperaturas, embalagem em caixa tipo longa vida longa vida, com 1.000ml, devidamente rotuladas conforme legislação vigente e possuir registro nos Órgãos de Inspeção Sanitária; com validade mínima de 60 dias a cada fornecimento. (Código: 00137-6 012 - Grupo-classe: 1901) | E11: 339030-07 | F11: Piracanjuba | G11: Litro | H11: 20 | I11: 20 | J11: 1.82 | L11: =K11-(SUM(N11:Y11)) -> 0 | M11: =IF(L11<0,"ATENÇÃO","OK") -> OK | N11: 0 | O11: 0 | P11: 0 | Q11: 0 | R11: 0 | S11: 0 | T11: 0 | U11: 0 | V11: 0 | W11: 0 | X11: 0 | Y11: 0
C12: 9 | D12: LEITE SEMI-DESNATADO, ESTERELIZADO, TIPO LONGA VIDA * Leite de vaca, semi-desnatado, (UHT) pasteurizado em ultra/altas temperaturas, embalagem em caixa tipo longa vida longa vida, com 1.000ml, devidamente rotuladas conforme legislação vigente e possuir registro nos Órgãos de Inspeção Sanitária; com validade mínima de 60 dias a cada fornecimento. (Código: 00137-6 023 - Grupo-classe: 1901) | E12: 339030-07 | F12: Piracanjuba | G12: Litro | H12: 20 | I12: 20 | J12: 1.84 | L12: =K12-(SUM(N12:Y12)) -> 0 | M12: =IF(L12<0,"ATENÇÃO","OK") -> OK | N12: 0 | O12: 0 | P12: 0 | Q12: 0 | R12: 0 | S12: 0 | T12: 0 | U12: 0 | V12: 0 | W12: 0 | X12: 0 | Y12: 0

Sheet CESFI
A1: PROCESSO: 003/2014/SEA | D1: OBJETO: Aquisição de café, leite, açucar e água. | K1: VIGÊNCIA DA ATA: 21/02/2014 até 21/02/2015 | N1: AF/OS nº 1030/2014 Qtde. DT | O1: AF/OS nº 1029/2014 Qtde. DT | P1: AF/OS nº xxxx/2014 Qtde. DT | Q1: AF/OS nº xxxx/2014 Qtde. DT | R1: AF/OS nº xxxx/2014 Qtde. DT | S1: AF/OS nº xxxx/2014 Qtde. DT | T1: AF/OS nº xxxx/2014 Qtde. DT | U1: AF/OS nº xxxx/2014 Qtde. DT | V1: AF/OS nº xxxx/2014 Qtde. DT | W1: AF/OS nº xxxx/2014 Qtde. DT | X1: AF/OS nº xxxx/2014 Qtde. DT | Y1: AF/OS nº xxxx/2014 Qtde. DT
A2: CENTRO PARTICIPANTE: CESFI - Região Itajaí
A3: FORNECEDOR | B3: LOTE | C3: ITEM | D3: PRODUTO - CARACTERÍSTICAS MÍNIMAS | E3: ELEMENTO | F3: MARCA | G3: UNIDADE | H3: Entrega (Dias) | I3: Pagto. (Dias) | J3: Preço UNITÁRIO (R$) | K3: Qtde LICITADA | L3: Saldo / Automático | M3: ALERTA | N3: 41872 | O3: 41872 | P3: ...../...../...... | Q3: ...../...../...... | R3: ...../...../...... | S3: ...../...../...... | T3: ...../...../...... | U3: ...../...../...... | V3: ...../...../...... | W3: ...../...../...... | X3: ...../...../...... | Y3: ...../...../......
A4: JJ MATTOS INDUSTRIA E COMERCIO DE CAFÉ LTDA | B4: VI | C4: 14 | D4: CAFE TORRADO E MOIDO EMB. A VACUO PRENSADO EMB.500G Café torrado e moído emb. a vácuo prensado emb. 500g, em pó, homogêneo, torrado e moído, categoria do tipo SUPERIOR, constituído com predominância de grãos de café arábica. Características sensoriais: fragrância: marcante; aroma: característico, marcante; acidez: baixa a moderada; amargor: moderado; sabor: característico e equilibrado; sabor residual: bom, duradouro; defeitos: pouca interferência; adstringência: baixa; corpo: razoavelmente encorpado; qualidade da bebida: dura a melhor; qualidade global: razoavelmente bom a bom, com embalagem vácuo-puro. Com fabricação de no máximo de 30 (trinta) dias antes da data de entrega. Prazo de validade do produto de no mínimo de 12 (doze) meses. O café deverá ter, além da embalagem vácuo-puro, embalagem individual de cartolina, que deverá estar acondicionada em caixa de papelão, com 05 ou 10 kg cada, identificação da categoria do café, lote, prazo de validade e demais informações de acordo com exigências legais vigentes que tratam das embalagens e rotulagens e, que atenda ao padrão de identidade e qualidade (com nota de qualidade global da bebida, igual ou maior que 6,0 (seis) pontos e demais condições estabelecidas de acordo com a legislação vigente. (Decreto Federal n.º 27.173, de 14/09/1949, e Portaria INMETRO nº 157, de 19/08/2002), Portaria 377, de 26/04/1999, IN nº 8 de 11/06/2003 e, IN nº 16, de 24/05/2010 do MAPA, Resoluções: RDC nº 277, de 22/09/05, RDC nº 175, de 08/07/03, RDC nº 259/02, RDC nº 12, de 02/01/01, RDC 123, de 13/025/2004, RDC 259 de 20/09/2002, da ANVISA, e, Resoluções SAA-28, de 01/06/2007 e, SAA-30, de 22/06/2007). Código: 00144-9 005. Grupo - Classe 1903). | E4: 339030-07 | F4: Jurere Superior | G4: Kg | H4: 20 | I4: 20 | J4: 8.09 | K4: 120 | L4: =K4-(SUM(N4:Y4)) -> 50 | M4: =IF(L4<0,"ATENÇÃO","OK") -> OK | N4: 70 | O4: 0 | P4: 0 | Q4: 0 | R4: 0 | S4: 0 | T4: 0 | U4: 0 | V4: 0 | W4: 0 | X4: 0 | Y4: 0
A5: COMERCIAL STORINNY LTDA EPP | B5: VII | C5: 15 | D5: ACUCAR REFINADO (EMB. C/ 1KG) * Açúcar (embalagem com 01 kg.), refinado de origem vegetal, constituído fundamentalmente por sacarose de cana-de-açúcar, com alto teor de pureza com relação à sacarose, aspecto sólido amorfo, Cor: branca, para utilização em alimentação humana, com validade de 01 (um) ano a cada fornecimento. (Código 00141-4 002 -Grupo-classe1903). | E5: 339030-07 | F5: Caravelas | G5: Kg | H5: 20 | I5: 20 | J5: 1.72 | K5: 150 | L5: =K5-(SUM(N5:Y5)) -> 100 | M5: =IF(L5<0,"ATENÇÃO","OK") -> OK | N5: 0 | O5: 50 | P5: 0 | Q5: 0 | R5: 0 | S5: 0 | T5: 0 | U5: 0 | V5: 0 | W5: 0 | X5: 0 | Y5: 0
A6: DISTRIBUIDORA NOVA ESPERANÇA LTDA-EPP | B6: VIII | C6: 16 | D6: LEITE DE VACA INTEGRAL, EMBALAGEM LONGA VIDA C/1000ML * Leite de vaca, integral, (UHT) pasteurizado em ultra/altas temperaturas, embalagem em caixa tipo longa vida longa vida, com 1.000ml, devidamente rotuladas conforme legislação vigente e possuir registro nos Órgãos de Inspeção Sanitária; com validade mínima de 60 dias a cada fornecimento. (Código: 00137-6 011 - Grupo-classe: 1901). | E6: 339030-07 | F6: Longuiru | G6: Litro | H6: 20 | I6: 20 | J6: 1.98 | L6: =K6-(SUM(N6:Y6)) -> 0 | M6: =IF(L6<0,"ATENÇÃO","OK") -> OK | N6: 0 | O6: 0 | P6: 0 | Q6: 0 | R6: 0 | S6: 0 | T6: 0 | U6: 0 | V6: 0 | W6: 0 | X6: 0 | Y6: 0

Sheet CEAVI
A1: PROCESSO: 003/2014/SEA | D1: OBJETO: Aquisição de café, leite, açucar e água. | K1: VIGÊNCIA DA ATA: 21/02/2014 até 21/02/2015 | N1: AF/OS nº 966/2014 Qtde. DT | O1: AF/OS nº xxxx/2014 Qtde. DT | P1: AF/OS nº xxxx/2014 Qtde. DT | Q1: AF/OS nº xxxx/2014 Qtde. DT | R1: AF/OS nº xxxx/2014 Qtde. DT | S1: AF/OS nº xxxx/2014 Qtde. DT | T1: AF/OS nº xxxx/2014 Qtde. DT | U1: AF/OS nº xxxx/2014 Qtde. DT | V1: AF/OS nº xxxx/2014 Qtde. DT | W1: AF/OS nº xxxx/2014 Qtde. DT | X1: AF/OS nº xxxx/2014 Qtde. DT | Y1: AF/OS nº xxxx/2014 Qtde. DT
A2: CENTRO PARTICIPANTE: CEAVI - Região Itajaí
A3: FORNECEDOR | B3: LOTE | C3: ITEM | D3: PRODUTO - CARACTERÍSTICAS MÍNIMAS | E3: ELEMENTO | F3: MARCA | G3: UNIDADE | H3: Entrega (Dias) | I3: Pagto. (Dias) | J3: Preço UNITÁRIO (R$) | K3: Qtde LICITADA | L3: Saldo / Automático | M3: ALERTA | N3: 41873 | O3: ...../...../...... | P3: ...../...../...... | Q3: ...../...../...... | R3: ...../...../...... | S3: ...../...../...... | T3: ...../...../...... | U3: ...../...../...... | V3: ...../...../...... | W3: ...../...../...... | X3: ...../...../...... | Y3: ...../...../......
A4: JJ MATTOS INDUSTRIA E COMERCIO DE CAFÉ LTDA | B4: VI | C4: 14 | D4: CAFE TORRADO E MOIDO EMB. A VACUO PRENSADO EMB.500G Café torrado e moído emb. a vácuo prensado emb. 500g, em pó, homogêneo, torrado e moído, categoria do tipo SUPERIOR, constituído com predominância de grãos de café arábica. Características sensoriais: fragrância: marcante; aroma: característico, marcante; acidez: baixa a moderada; amargor: moderado; sabor: característico e equilibrado; sabor residual: bom, duradouro; defeitos: pouca interferência; adstringência: baixa; corpo: razoavelmente encorpado; qualidade da bebida: dura a melhor; qualidade global: razoavelmente bom a bom, com embalagem vácuo-puro. Com fabricação de no máximo de 30 (trinta) dias antes da data de entrega. Prazo de validade do produto de no mínimo de 12 (doze) meses. O café deverá ter, além da embalagem vácuo-puro, embalagem individual de cartolina, que deverá estar acondicionada em caixa de papelão, com 05 ou 10 kg cada, identificação da categoria do café, lote, prazo de validade e demais informações de acordo com exigências legais vigentes que tratam das embalagens e rotulagens e, que atenda ao padrão de identidade e qualidade (com nota de qualidade global da bebida, igual ou maior que 6,0 (seis) pontos e demais condições estabelecidas de acordo com a legislação vigente. (Decreto Federal n.º 27.173, de 14/09/1949, e Portaria INMETRO nº 157, de 19/08/2002), Portaria 377, de 26/04/1999, IN nº 8 de 11/06/2003 e, IN nº 16, de 24/05/2010 do MAPA, Resoluções: RDC nº 277, de 22/09/05, RDC nº 175, de 08/07/03, RDC nº 259/02, RDC nº 12, de 02/01/01, RDC 123, de 13/025/2004, RDC 259 de 20/09/2002, da ANVISA, e, Resoluções SAA-28, de 01/06/2007 e, SAA-30, de 22/06/2007). Código: 00144-9 005. Grupo - Classe 1903). | E4: 339030-07 | F4: Jurere Superior | G4: Kg | H4: 20 | I4: 20 | J4: 8.09 | K4: 400 | L4: =K4-(SUM(N4:Y4)) -> 300 | M4: =IF(L4<0,"ATENÇÃO","OK") -> OK | N4: 100 | O4: 0 | P4: 0 | Q4: 0 | R4: 0 | S4: 0 | T4: 0 | U4: 0 | V4: 0 | W4: 0 | X4: 0 | Y4: 0
A5: COMERCIAL STORINNY LTDA EPP | B5: VII | C5: 15 | D5: ACUCAR REFINADO (EMB. C/ 1KG) * Açúcar (embalagem com 01 kg.), refinado de origem vegetal, constituído fundamentalmente por sacarose de cana-de-açúcar, com alto teor de pureza com relação à sacarose, aspecto sólido amorfo, Cor: branca, para utilização em alimentação humana, com validade de 01 (um) ano a cada fornecimento. (Código 00141-4 002 -Grupo-classe1903). | E5: 339030-07 | F5: Caravelas | G5: Kg | H5: 20 | I5: 20 | J5: 1.72 | K5: 600 | L5: =K5-(SUM(N5:Y5)) -> 600 | M5: =IF(L5<0,"ATENÇÃO","OK") -> OK | N5: 0 | O5: 0 | P5: 0 | Q5: 0 | R5: 0 | S5: 0 | T5: 0 | U5: 0 | V5: 0 | W5: 0 | X5: 0 | Y5: 0
A6: DISTRIBUIDORA NOVA ESPERANÇA LTDA-EPP | B6: VIII | C6: 16 | D6: LEITE DE VACA INTEGRAL, EMBALAGEM LONGA VIDA C/1000ML * Leite de vaca, integral, (UHT) pasteurizado em ultra/altas temperaturas, embalagem em caixa tipo longa vida longa vida, com 1.000ml, devidamente rotuladas conforme legislação vigente e possuir registro nos Órgãos de Inspeção Sanitária; com validade mínima de 60 dias a cada fornecimento. (Código: 00137-6 011 - Grupo-classe: 1901). | E6: 339030-07 | F6: Longuiru | G6: Litro | H6: 20 | I6: 20 | J6: 1.98 | L6: =K6-(SUM(N6:Y6)) -> 0 | M6: =IF(L6<0,"ATENÇÃO","OK") -> OK | N6: 0 | O6: 0 | P6: 0 | Q6: 0 | R6: 0 | S6: 0 | T6: 0 | U6: 0 | V6: 0 | W6: 0 | X6: 0 | Y6: 0

Sheet CCT
A1: PROCESSO: 003/2014/SEA | D1: OBJETO: Aquisição de café, leite, açucar e água. | K1: VIGÊNCIA DA ATA: 21/02/2014 até 21/02/2015 | N1: COMPRA nº 01 07/05/14 - Qtde. | O1: AF 1135/201403/09/14- Qtde. | P1: AF 1136/201403/09/14- Qtde. | Q1: AF/OS nº xxxx/2014 Qtde. DT | R1: AF/OS nº xxxx/2014 Qtde. DT | S1: AF/OS nº xxxx/2014 Qtde. DT | T1: AF/OS nº xxxx/2014 Qtde. DT | U1: AF/OS nº xxxx/2014 Qtde. DT | V1: AF/OS nº xxxx/2014 Qtde. DT | W1: AF/OS nº xxxx/2014 Qtde. DT | X1: AF/OS nº xxxx/2014 Qtde. DT | Y1: AF/OS nº xxxx/2014 Qtde. DT
A2: CENTRO PARTICIPANTE: CCT - Região Norte
A3: FORNECEDOR | B3: LOTE | C3: ITEM | D3: PRODUTO - CARACTERÍSTICAS MÍNIMAS | E3: ELEMENTO | F3: MARCA | G3: UNIDADE | H3: Entrega (Dias) | I3: Pagto. (Dias) | J3: Preço UNITÁRIO (R$) | K3: Qtde LICITADA | L3: Saldo / Automático | M3: ALERTA | N3: ...../...../...... | O3: ...../...../...... | P3: ...../...../...... | Q3: ...../...../...... | R3: ...../...../...... | S3: ...../...../...... | T3: ...../...../...... | U3: ...../...../...... | V3: ...../...../...... | W3: ...../...../...... | X3: ...../...../...... | Y3: ...../...../......
A4: JJ MATTOS INDUSTRIA E COMERCIO DE CAFÉ LTDA | B4: X | C4: 21 | D4: CAFE TORRADO E MOIDO EMB. A VACUO PRENSADO EMB.500G Café torrado e moído emb. a vácuo prensado emb. 500g, em pó, homogêneo, torrado e moído, categoria do tipo SUPERIOR, constituído com predominância de grãos de café arábica. Características sensoriais: fragrância: marcante; aroma: característico, marcante; acidez: baixa a moderada; amargor: moderado; sabor: característico e equilibrado; sabor residual: bom, duradouro; defeitos: pouca interferência; adstringência: baixa; corpo: razoavelmente encorpado; qualidade da bebida: dura a melhor; qualidade global: razoavelmente bom a bom, com embalagem vácuo-puro. Com fabricação de no máximo de 30 (trinta) dias antes da data de entrega. Prazo de validade do produto de no mínimo de 12 (doze) meses. O café deverá ter, além da embalagem vácuo-puro, embalagem individual de cartolina, que deverá estar acondicionada em caixa de papelão, com 05 ou 10 kg cada, identificação da categoria do café, lote, prazo de validade e demais informações de acordo com exigências legais vigentes que tratam das embalagens e rotulagens e, que atenda ao padrão de identidade e qualidade (com nota de qualidade global da bebida, igual ou maior que 6,0 (seis) pontos e demais condições estabelecidas de acordo com a legislação vigente. (Decreto Federal n.º 27.173, de 14/09/1949, e Portaria INMETRO nº 157, de 19/08/2002), Portaria 377, de 26/04/1999, IN nº 8 de 11/06/2003 e, IN nº 16, de 24/05/2010 do MAPA, Resoluções: RDC nº 277, de 22/09/05, RDC nº 175, de 08/07/03, RDC nº 259/02, RDC nº 12, de 02/01/01, RDC 123, de 13/025/2004, RDC 259 de 20/09/2002, da ANVISA, e, Resoluções SAA-28, de 01/06/2007 e, SAA-30, de 22/06/2007). Código: 00144-9 005. Grupo - Classe 1903). | E4: 339030-07 | F4: Jurere Superior | G4: Kg | H4: 20 | I4: 20 | J4: 8.2 | K4: 1020 | L4: =K4-(SUM(N4:Y4)) -> 520 | M4: =IF(L4<0,"ATENÇÃO","OK") -> OK | N4: 250 | O4: 250 | P4: 0 | Q4: 0 | R4: 0 | S4: 0 | T4: 0 | U4: 0 | V4: 0 | W4: 0 | X4: 0 | Y4: 0
A5: DISTRIBUIDORA NOVA ESPERANÇA LTDA EPP | B5: XI | C5: 22 | D5: ACUCAR REFINADO (EMB. C/ 1KG) * Açúcar (embalagem com 01 kg.), refinado de origem vegetal, constituído fundamentalmente por sacarose de cana-de-açúcar, com alto teor de pureza com relação à sacarose, aspecto sólido amorfo, Cor: branca, para utilização em alimentação humana, com validade de 01 (um) ano a cada fornecimento. (Código 00141-4 002 -Grupo-classe1903). | E5: 339030-07 | F5: Paraná | G5: Kg | H5: 20 | I5: 20 | J5: 1.72 | K5: 1500 | L5: =K5-(SUM(N5:Y5)) -> 1000 | M5: =IF(L5<0,"ATENÇÃO","OK") -> OK | N5: 250 | O5: 0 | P5: 250 | Q5: 0 | R5: 0 | S5: 0 | T5: 0 | U5: 0 | V5: 0 | W5: 0 | X5: 0 | Y5: 0
A6: DISTRIBUIDORA NOVA ESPERANÇA LTDA-EPP | B6: XII | C6: 23 | D6: LEITE DE VACA INTEGRAL, EMBALAGEM LONGA VIDA C/1000ML * Leite de vaca, integral, (UHT) pasteurizado em ultra/altas temperaturas, embalagem em caixa tipo longa vida longa vida, com 1.000ml, devidamente rotuladas conforme legislação vigente e possuir registro nos Órgãos de Inspeção Sanitária; com validade mínima de 60 dias a cada fornecimento. (Código: 00137-6 011 - Grupo-classe: 1901). | E6: 339030-07 | F6: Longuiru | G6: Litro | H6: 20 | I6: 20 | J6: 1.99 | L6: =K6-(SUM(N6:Y6)) -> 0 | M6: =IF(L6<0,"ATENÇÃO","OK") -> OK | N6: 0 | O6: 0 | P6: 0 | Q6: 0 | R6: 0 | S6: 0 | T6: 0 | U6: 0 | V6: 0 | W6: 0 | X6: 0 | Y6: 0

Sheet CEPLAN
A1: PROCESSO: 003/2014/SEA | D1: OBJETO: Aquisição de café, leite, açucar e água. | K1: VIGÊNCIA DA ATA: 21/02/2014 até 21/02/2015 | N1: AF/OS nº 967/2014 Qtde. DT | O1: AF/OS nº 968/2014 Qtde. DT | P1: AF/OS nº xxxx/2014 Qtde. DT | Q1: AF/OS nº xxxx/2014 Qtde. DT | R1: AF/OS nº xxxx/2014 Qtde. DT | S1: AF/OS nº xxxx/2014 Qtde. DT | T1: AF/OS nº xxxx/2014 Qtde. DT | U1: AF/OS nº xxxx/2014 Qtde. DT | V1: AF/OS nº xxxx/2014 Qtde. DT | W1: AF/OS nº xxxx/2014 Qtde. DT | X1: AF/OS nº xxxx/2014 Qtde. DT | Y1: AF/OS nº xxxx/2014 Qtde. DT
A2: CENTRO PARTICIPANTE: CEPLAN - Região Norte
A3: FORNECEDOR | B3: LOTE | C3: ITEM | D3: PRODUTO - CARACTERÍSTICAS MÍNIMAS | E3: ELEMENTO | F3: MARCA | G3: UNIDADE | H3: Entrega (Dias) | I3: Pagto. (Dias) | J3: Preço UNITÁRIO (R$) | K3: Qtde LICITADA | L3: Saldo / Automático | M3: ALERTA | N3: 41866 | O3: 41866 | P3: ...../...../...... | Q3: ...../...../...... | R3: ...../...../...... | S3: ...../...../...... | T3: ...../...../...... | U3: ...../...../...... | V3: ...../...../...... | W3: ...../...../...... | X3: ...../...../...... | Y3: ...../...../......
A4: JJ MATTOS INDUSTRIA E COMERCIO DE CAFÉ LTDA | B4: X | C4: 21 | D4: CAFE TORRADO E MOIDO EMB. A VACUO PRENSADO EMB.500G Café torrado e moído emb. a vácuo prensado emb. 500g, em pó, homogêneo, torrado e moído, categoria do tipo SUPERIOR, constituído com predominância de grãos de café arábica. Características sensoriais: fragrância: marcante; aroma: característico, marcante; acidez: baixa a moderada; amargor: moderado; sabor: característico e equilibrado; sabor residual: bom, duradouro; defeitos: pouca interferência; adstringência: baixa; corpo: razoavelmente encorpado; qualidade da bebida: dura a melhor; qualidade global: razoavelmente bom a bom, com embalagem vácuo-puro. Com fabricação de no máximo de 30 (trinta) dias antes da data de entrega. Prazo de validade do produto de no mínimo de 12 (doze) meses. O café deverá ter, além da embalagem vácuo-puro, embalagem individual de cartolina, que deverá estar acondicionada em caixa de papelão, com 05 ou 10 kg cada, identificação da categoria do café, lote, prazo de validade e demais informações de acordo com exigências legais vigentes que tratam das embalagens e rotulagens e, que atenda ao padrão de identidade e qualidade (com nota de qualidade global da bebida, igual ou maior que 6,0 (seis) pontos e demais condições estabelecidas de acordo com a legislação vigente. (Decreto Federal n.º 27.173, de 14/09/1949, e Portaria INMETRO nº 157, de 19/08/2002), Portaria 377, de 26/04/1999, IN nº 8 de 11/06/2003 e, IN nº 16, de 24/05/2010 do MAPA, Resoluções: RDC nº 277, de 22/09/05, RDC nº 175, de 08/07/03, RDC nº 259/02, RDC nº 12, de 02/01/01, RDC 123, de 13/025/2004, RDC 259 de 20/09/2002, da ANVISA, e, Resoluções SAA-28, de 01/06/2007 e, SAA-30, de 22/06/2007). Código: 00144-9 005. Grupo - Classe 1903). | E4: 339030-07 | F4: Jurere Superior | G4: Kg | H4: 20 | I4: 20 | J4: 8.2 | K4: 240 | L4: =K4-(SUM(N4:Y4)) -> 120 | M4: =IF(L4<0,"ATENÇÃO","OK") -> OK | N4: 120 | O4: 0 | P4: 0 | Q4: 0 | R4: 0 | S4: 0 | T4: 0 | U4: 0 | V4: 0 | W4: 0 | X4: 0 | Y4: 0
A5: DISTRIBUIDORA NOVA ESPERANÇA LTDA EPP | B5: XI | C5: 22 | D5: ACUCAR REFINADO (EMB. C/ 1KG) * Açúcar (embalagem com 01 kg.), refinado de origem vegetal, constituído fundamentalmente por sacarose de cana-de-açúcar, com alto teor de pureza com relação à sacarose, aspecto sólido amorfo, Cor: branca, para utilização em alimentação humana, com validade de 01 (um) ano a cada fornecimento. (Código 00141-4 002 -Grupo-classe1903). | E5: 339030-07 | F5: Paraná | G5: Kg | H5: 20 | I5: 20 | J5: 1.72 | K5: 350 | L5: =K5-(SUM(N5:Y5)) -> 175 | M5: =IF(L5<0,"ATENÇÃO","OK") -> OK | N5: 0 | O5: 175 | P5: 0 | Q5: 0 | R5: 0 | S5: 0 | T5: 0 | U5: 0 | V5: 0 | W5: 0 | X5: 0 | Y5: 0
A6: DISTRIBUIDORA NOVA ESPERANÇA LTDA-EPP | B6: XII | C6: 23 | D6: LEITE DE VACA INTEGRAL, EMBALAGEM LONGA VIDA C/1000ML * Leite de vaca, integral, (UHT) pasteurizado em ultra/altas temperaturas, embalagem em caixa tipo longa vida longa vida, com 1.000ml, devidamente rotuladas conforme legislação vigente e possuir registro nos Órgãos de Inspeção Sanitária; com validade mínima de 60 dias a cada fornecimento. (Código: 00137-6 011 - Grupo-classe: 1901). | E6: 339030-07 | F6: Longuiru | G6: Litro | H6: 20 | I6: 20 | J6: 1.99 | L6: =K6-(SUM(N6:Y6)) -> 0 | M6: =IF(L6<0,"ATENÇÃO","OK") -> OK | N6: 0 | O6: 0 | P6: 0 | Q6: 0 | R6: 0 | S6: 0 | T6: 0 | U6: 0 | V6: 0 | W6: 0 | X6: 0 | Y6: 0

Sheet CAV
A1: PROCESSO: 003/2014/SEA | D1: OBJETO: Aquisição de café, leite, açucar e água. | K1: VIGÊNCIA DA ATA: 21/02/2014 até 21/02/2015 | N1: AF/OS nº xxxx/2014 Qtde. DT | O1: AF/OS nº xxxx/2014 Qtde. DT | P1: AF/OS nº xxxx/2014 Qtde. DT | Q1: AF/OS nº xxxx/2014 Qtde. DT | R1: AF/OS nº xxxx/2014 Qtde. DT | S1: AF/OS nº xxxx/2014 Qtde. DT | T1: AF/OS nº xxxx/2014 Qtde. DT | U1: AF/OS nº xxxx/2014 Qtde. DT | V1: AF/OS nº xxxx/2014 Qtde. DT | W1: AF/OS nº xxxx/2014 Qtde. DT | X1: AF/OS nº xxxx/2014 Qtde. DT | Y1: AF/OS nº xxxx/2014 Qtde. DT
A2: CENTRO PARTICIPANTE: CAV - Região Planalto Serrano
A3: FORNECEDOR | B3: LOTE | C3: ITEM | D3: PRODUTO - CARACTERÍSTICAS MÍNIMAS | E3: ELEMENTO | F3: MARCA | G3: UNIDADE | H3: Entrega (Dias) | I3: Pagto. (Dias) | J3: Preço UNITÁRIO (R$) | K3: Qtde LICITADA | L3: Saldo / Automático | M3: ALERTA | N3: ...../...../...... | O3: ...../...../...... | P3: ...../...../...... | Q3: ...../...../...... | R3: ...../...../...... | S3: ...../...../...... | T3: ...../...../...... | U3: ...../...../...... | V3: ...../...../...... | W3: ...../...../...... | X3: ...../...../...... | Y3: ...../...../......
A4: ANJU INDÚSTRIA E COMÉRCIO DE CAFÉ EIRELI - EPP | B4: XIV | C4: 27 | D4: CAFE TORRADO E MOIDO EMB. A VACUO PRENSADO EMB.500G Café torrado e moído emb. a vácuo prensado emb. 500g, em pó, homogêneo, torrado e moído, categoria do tipo SUPERIOR, constituído com predominância de grãos de café arábica. Características sensoriais: fragrância: marcante; aroma: característico, marcante; acidez: baixa a moderada; amargor: moderado; sabor: característico e equilibrado; sabor residual: bom, duradouro; defeitos: pouca interferência; adstringência: baixa; corpo: razoavelmente encorpado; qualidade da bebida: dura a melhor; qualidade global: razoavelmente bom a bom, com embalagem vácuo-puro. Com fabricação de no máximo de 30 (trinta) dias antes da data de entrega. Prazo de validade do produto de no mínimo de 12 (doze) meses. O café deverá ter, além da embalagem vácuo-puro, embalagem individual de cartolina, que deverá estar acondicionada em caixa de papelão, com 05 ou 10 kg cada, identificação da categoria do café, lote, prazo de validade e demais informações de acordo com exigências legais vigentes que tratam das embalagens e rotulagens e, que atenda ao padrão de identidade e qualidade (com nota de qualidade global da bebida, igual ou maior que 6,0 (seis) pontos e demais condições estabelecidas de acordo com a legislação vigente. (Decreto Federal n.º 27.173, de 14/09/1949, e Portaria INMETRO nº 157, de 19/08/2002), Portaria 377, de 26/04/1999, IN nº 8 de 11/06/2003 e, IN nº 16, de 24/05/2010 do MAPA, Resoluções: RDC nº 277, de 22/09/05, RDC nº 175, de 08/07/03, RDC nº 259/02, RDC nº 12, de 02/01/01, RDC 123, de 13/025/2004, RDC 259 de 20/09/2002, da ANVISA, e, Resoluções SAA-28, de 01/06/2007 e, SAA-30, de 22/06/2007). Código: 00144-9 005. Grupo - Classe 1903). | E4: 339030-07 | F4: Café Ouro | G4: Kg | H4: 20 | I4: 20 | J4: 8.48 | K4: 600 | L4: =K4-(SUM(N4:Y4)) -> 600 | M4: =IF(L4<0,"ATENÇÃO","OK") -> OK | N4: 0 | O4: 0 | P4: 0 | Q4: 0 | R4: 0 | S4: 0 | T4: 0 | U4: 0 | V4: 0 | W4: 0 | X4: 0 | Y4: 0

Sheet CEO
A1: PROCESSO: 003/2014/SEA | D1: OBJETO: Aquisição de café, leite, açucar e água. | K1: VIGÊNCIA DA ATA: 21/02/2014 até 21/02/2015 | N1: AF/OS nº 1096/2014 Qtde. DT | O1: AF/OS nº xxxx/2014 Qtde. DT | P1: AF/OS nº xxxx/2014 Qtde. DT | Q1: AF/OS nº xxxx/2014 Qtde. DT | R1: AF/OS nº xxxx/2014 Qtde. DT | S1: AF/OS nº xxxx/2014 Qtde. DT | T1: AF/OS nº xxxx/2014 Qtde. DT | U1: AF/OS nº xxxx/2014 Qtde. DT | V1: AF/OS nº xxxx/2014 Qtde. DT | W1: AF/OS nº xxxx/2014 Qtde. DT | X1: AF/OS nº xxxx/2014 Qtde. DT | Y1: AF/OS nº xxxx/2014 Qtde. DT
A2: CENTRO PARTICIPANTE: CEO - Região Oeste
A3: FORNECEDOR | B3: LOTE | C3: ITEM | D3: PRODUTO - CARACTERÍSTICAS MÍNIMAS | E3: ELEMENTO | F3: MARCA | G3: UNIDADE | H3: Entrega (Dias) | I3: Pagto. (Dias) | J3: Preço UNITÁRIO (R$) | K3: Qtde LICITADA | L3: Saldo / Automático | M3: ALERTA | N3: 41885 | O3: ...../...../...... | P3: ...../...../...... | Q3: ...../...../...... | R3: ...../...../...... | S3: ...../...../...... | T3: ...../...../...... | U3: ...../...../...... | V3: ...../...../...... | W3: ...../...../...... | X3: ...../...../...... | Y3: ...../...../......
A4: ANJU INDÚSTRIA E COMÉRCIO DE CAFÉ EIRELI - EPP | B4: XVII | C4: 33 | D4: CAFE TORRADO E MOIDO EMB. A VACUO PRENSADO EMB.500G Café torrado e moído emb. a vácuo prensado emb. 500g, em pó, homogêneo, torrado e moído, categoria do tipo SUPERIOR, constituído com predominância de grãos de café arábica. Características sensoriais: fragrância: marcante; aroma: característico, marcante; acidez: baixa a moderada; amargor: moderado; sabor: característico e equilibrado; sabor residual: bom, duradouro; defeitos: pouca interferência; adstringência: baixa; corpo: razoavelmente encorpado; qualidade da bebida: dura a melhor; qualidade global: razoavelmente bom a bom, com embalagem vácuo-puro. Com fabricação de no máximo de 30 (trinta) dias antes da data de entrega. Prazo de validade do produto de no mínimo de 12 (doze) meses. O café deverá ter, além da embalagem vácuo-puro, embalagem individual de cartolina, que deverá estar acondicionada em caixa de papelão, com 05 ou 10 kg cada, identificação da categoria do café, lote, prazo de validade e demais informações de acordo com exigências legais vigentes que tratam das embalagens e rotulagens e, que atenda ao padrão de identidade e qualidade (com nota de qualidade global da bebida, igual ou maior que 6,0 (seis) pontos e demais condições estabelecidas de acordo com a legislação vigente. (Decreto Federal n.º 27.173, de 14/09/1949, e Portaria INMETRO nº 157, de 19/08/2002), Portaria 377, de 26/04/1999, IN nº 8 de 11/06/2003 e, IN nº 16, de 24/05/2010 do MAPA, Resoluções: RDC nº 277, de 22/09/05, RDC nº 175, de 08/07/03, RDC nº 259/02, RDC nº 12, de 02/01/01, RDC 123, de 13/025/2004, RDC 259 de 20/09/2002, da ANVISA, e, Resoluções SAA-28, de 01/06/2007 e, SAA-30, de 22/06/2007). Código: 00144-9 005. Grupo - Classe 1903). | E4: 339030-07 | F4: Café Ouro | G4: Kg | H4: 20 | I4: 20 | J4: 10.5 | K4: 50 | L4: =K4-(SUM(N4:Y4)) -> 0 | M4: =IF(L4<0,"ATENÇÃO","OK") -> OK | N4: 50 | O4: 0 | P4: 0 | Q4: 0 | R4: 0 | S4: 0 | T4: 0 | U4: 0 | V4: 0 | W4: 0 | X4: 0 | Y4: 0

Sheet CERES
A1: PROCESSO: 003/2014/SEA | D1: OBJETO: Aquisição de café, leite, açucar e água. | K1: VIGÊNCIA DA ATA: 21/02/2014 até 21/02/2015 | N1: AF/OS nº 742/2014 Qtde. DT | O1: AF/OS nº 743/2014 Qtde. DT | P1: AF/OS nº xxxx/2014 Qtde. DT | Q1: AF/OS nº xxxx/2014 Qtde. DT | R1: AF/OS nº xxxx/2014 Qtde. DT | S1: AF/OS nº xxxx/2014 Qtde. DT | T1: AF/OS nº xxxx/2014 Qtde. DT | U1: AF/OS nº xxxx/2014 Qtde. DT | V1: AF/OS nº xxxx/2014 Qtde. DT | W1: AF/OS nº xxxx/2014 Qtde. DT | X1: AF/OS nº xxxx/2014 Qtde. DT | Y1: AF/OS nº xxxx/2014 Qtde. DT
A2: CENTRO PARTICIPANTE: CERES - Região Sul
A3: FORNECEDOR | B3: LOTE | C3: ITEM | D3: PRODUTO - CARACTERÍSTICAS MÍNIMAS | E3: ELEMENTO | F3: MARCA | G3: UNIDADE | H3: Entrega (Dias) | I3: Pagto. (Dias) | J3: Preço UNITÁRIO (R$) | K3: Qtde LICITADA | L3: Saldo / Automático | M3: ALERTA | N3: ...../...../...... | O3: ...../...../...... | P3: ...../...../...... | Q3: ...../...../...... | R3: ...../...../...... | S3: ...../...../...... | T3: ...../...../...... | U3: ...../...../...... | V3: ...../...../...... | W3: ...../...../...... | X3: ...../...../...... | Y3: ...../...../......
A4: JJ MATTOS INDUSTRIA E COMERCIO DE CAFÉ LTDA | B4: XXI | C4: 41 | D4: CAFE TORRADO E MOIDO EMB. A VACUO PRENSADO EMB.500G Café torrado e moído emb. a vácuo prensado emb. 500g, em pó, homogêneo, torrado e moído, categoria do tipo SUPERIOR, constituído com predominância de grãos de café arábica. Características sensoriais: fragrância: marcante; aroma: característico, marcante; acidez: baixa a moderada; amargor: moderado; sabor: característico e equilibrado; sabor residual: bom, duradouro; defeitos: pouca interferência; adstringência: baixa; corpo: razoavelmente encorpado; qualidade da bebida: dura a melhor; qualidade global: razoavelmente bom a bom, com embalagem vácuo-puro. Com fabricação de no máximo de 30 (trinta) dias antes da data de entrega. Prazo de validade do produto de no mínimo de 12 (doze) meses. O café deverá ter, além da embalagem vácuo-puro, embalagem individual de cartolina, que deverá estar acondicionada em caixa de papelão, com 05 ou 10 kg cada, identificação da categoria do café, lote, prazo de validade e demais informações de acordo com exigências legais vigentes que tratam das embalagens e rotulagens e, que atenda ao padrão de identidade e qualidade (com nota de qualidade global da bebida, igual ou maior que 6,0 (seis) pontos e demais condições estabelecidas de acordo com a legislação vigente. (Decreto Federal n.º 27.173, de 14/09/1949, e Portaria INMETRO nº 157, de 19/08/2002), Portaria 377, de 26/04/1999, IN nº 8 de 11/06/2003 e, IN nº 16, de 24/05/2010 do MAPA, Resoluções: RDC nº 277, de 22/09/05, RDC nº 175, de 08/07/03, RDC nº 259/02, RDC nº 12, de 02/01/01, RDC 123, de 13/025/2004, RDC 259 de 20/09/2002, da ANVISA, e, Resoluções SAA-28, de 01/06/2007 e, SAA-30, de 22/06/2007). Código: 00144-9 005. Grupo - Classe 1903). | E4: 339030-07 | F4: Jurere Superior | G4: Kg | H4: 20 | I4: 20 | J4: 10.5 | K4: 90 | L4: =K4-(SUM(N4:Y4)) -> 0 | M4: =IF(L4<0,"ATENÇÃO","OK") -> OK | N4: 0 | O4: 90 | P4: 0 | Q4: 0 | R4: 0 | S4: 0 | T4: 0 | U4: 0 | V4: 0 | W4: 0 | X4: 0 | Y4: 0
A5: TARCIANE LOHN BOECHATT-EPP | B5: XXII | C5: 42 | D5: ACUCAR REFINADO (EMB. C/ 1KG) * Açúcar (embalagem com 01 kg.), refinado de origem vegetal, constituído fundamentalmente por sacarose de cana-de-açúcar, com alto teor de pureza com relação à sacarose, aspecto sólido amorfo, Cor: branca, para utilização em alimentação humana, com validade de 01 (um) ano a cada fornecimento. (Código 00141-4 002 -Grupo-classe1903). | E5: 339030-07 | F5: Caravelas | G5: Kg | H5: 20 | I5: 20 | J5: 1.68 | K5: 100 | L5: =K5-(SUM(N5:Y5)) -> 0 | M5: =IF(L5<0,"ATENÇÃO","OK") -> OK | N5: 100 | O5: 0 | P5: 0 | Q5: 0 | R5: 0 | S5: 0 | T5: 0 | U5: 0 | V5: 0 | W5: 0 | X5: 0 | Y5: 0
A6: TARCIANE LOHN BOECHATT-EPP | B6: XXIII | C6: 43 | D6: LEITE DE VACA INTEGRAL, EMBALAGEM LONGA VIDA C/1000ML * Leite de vaca, integral, (UHT) pasteurizado em ultra/altas temperaturas, embalagem em caixa tipo longa vida longa vida, com 1.000ml, devidamente rotuladas conforme legislação vigente e possuir registro nos Órgãos de Inspeção Sanitária; com validade mínima de 60 dias a cada fornecimento. (Código: 00137-6 011 - Grupo-classe: 1901). | E6: 339030-07 | F6: Longuiru | G6: Litro | H6: 20 | I6: 20 | J6: 1.91 | L6: =K6-(SUM(N6:Y6)) -> 0 | M6: =IF(L6<0,"ATENÇÃO","OK") -> OK | N6: 0 | O6: 0 | P6: 0 | Q6: 0 | R6: 0 | S6: 0 | T6: 0 | U6: 0 | V6: 0 | W6: 0 | X6: 0 | Y6: 0

Sheet GESTOR
A1: PROCESSO: 003/2014/SEA | E1: OBJETO: Aquisição de café, leite, açucar e água. | L1: VIGÊNCIA DA ATA: 21/02/2014 até 21/02/2015
A2: REGIÃO | B2: FORNECEDOR | C2: LOTE | D2: ITEM | E2: PRODUTO - CARACTERÍSTICAS MÍNIMAS | F2: ELEMENTO | G2: MARCA | H2: UNIDADE | I2: Entrega (Dias) | J2: Pagto. (Dias) | K2: Preço UNITÁRIO (R$) | L2: Qtde Registrada + Aditivos | M2: Quantidade Utilizada | N2: SALDO | O2: Valor Total Registrado | P2: Valor Total Utilizado
A3: Região Grande Florianópolis | B3: ESTANCIA HIDROMINERAL SANTA RITA DE CASSIA LTDA | C3: I | D3: 1 | E3: AGUA MINERAL S/GAS, BOMBONA C/ 20 LITROS * Água mineral, potável, natural, sem gás, com validade mínima de 3 (três) meses a cada fornecimento, envasada em garrafão de 20 litros PET (politereftalato de etileno), com cessão gratuita (comodato) de garrafões em quantidade suficiente para abastecimento e reposição, com vida útil máxima de 3 anos, lacrados, dentro dos padrões estabelecidos pelo Departamento Nacional de Produção Mineral - DPNPM e de acordo com a Portaria nº 470/1999, RDCs nºs 274 e 275 de 2005, RDC 23/2000 e RDC 27/2010, da ANVISA-MS. Rotulo com carimbo de aprovação ou numero do processo do DNPM, contendo, no mínimo, nome da fonte e da empresa envasadora, seu CNPJ, Município, Estado, numero do lote, composição química, características físico-químicas, nome do laboratório, numero e data da analise da água, volume, data de envasamento, validade e a expressão "Não contem glúten" com impressão indelével, devendo obedecer a Portaria 387/2008 DNPM, especificações da ANVISA (Resolução nº 105/99 e suas atualizações), e normas da ABNT NMR 14222, 14328 e 14638. (Código: 00142-2 015 - Grupo-classe: 1903). | F3: 339030-07 | G3: Santa Rita | H3: Peça | I3: 20 | J3: 20 | K3: 4.56 | L3: =REIT!K4+ESAG!K4+CEART!K4+FAED!K4+CEAD!K4+CEFID!K4 -> 7550 | M3: =(REIT!K4-REIT!L4)+(ESAG!K4-ESAG!L4)+(CEART!K4-CEART!L4)+(FAED!K4-FAED!L4)+(CEAD!K4-CEAD!L4)+(CEFID!K4-CEFID!L4) -> 2050 | N3: =L3-M3 -> 5500 | O3: =K3*L3 -> 34428 | P3: =K3*M3 -> 9348
D4: 2 | E4: AGUA MINERAL NATURAL C/ GAS (EMB. DESCARTAVEL 500ML) Água mineral, natural, potável, com gás, envasada em garrafa PET (politereftalato de etileno) descartável com 500ml, lacrados, dentro dos padrões estabelecidos pelo Departamento Nacional de Produção Mineral-DNPM e de acordo com a Portaria nº 470/1999, RDCs nºs 274 e 275 de 2005, RDC 23/2000 e RDC 27/2010, da ANVISA-MS, acondicionadas em fardo com 12 unidades, e com validade mínima de 6 (seis) meses a cada fornecimento. Rotulo com carimbo de aprovação ou numero do processo do DNPM, contendo, no mínimo, nome da fonte e da empresa envasadora, seu CNPJ, Município, Estado, numero do lote, composição química, características físico-químicas, nome do laboratório, numero e data da analise da água, volume, data de envasamento e validade e a expressão "Não contem glúten" com impressão indelével. (Código: 00142-2 002 - Grupo-classe: 1903) | F4: 339030-07 | G4: Santa Rita | H4: Peça | I4: 20 | J4: 20 | K4: 0.66 | L4: =REIT!K5+ESAG!K5+CEART!K5+FAED!K5+CEAD!K5+CEFID!K5 -> 19050 | M4: =(REIT!K5-REIT!L5)+(ESAG!K5-ESAG!L5)+(CEART!K5-CEART!L5)+(FAED!K5-FAED!L5)+(CEAD!K5-CEAD!L5)+(CEFID!K5-CEFID!L5) -> 4100 | N4: =L4-M4 -> 14950 | O4: =K4*L4 -> 12573 | P4: =K4*M4 -> 2706
D5: 3 | E5: AGUA MINERAL NATURAL S/ GAS (EMB. DESCARTAVEL C/ 500ML) Água mineral natural, potável, sem gás, envasada em garrafa PET (politereftalato de etileno) descartável com 500ml, lacrados, dentro dos padrões estabelecidos pelo Departamento Nacional de Produção Mineral-DNPM e de acordo com a Portaria nº 470/1999, RDCs nºs 274 e 275 de 2005, RDC 23/2000 e RDC 27/2010, da ANVISA-MS, acondicionadas em fardo com 12 unidades, e com validade mínima de mínima de 6 (seis) meses a cada fornecimento. Rotulagem: Rotulo com carimbo de aprovação ou numero do processo do DNPM, contendo, no mínimo, nome da fonte, e da empresa envasadora, seu CNPJ, Município, Estado, numero do lote, composição química, características físico - químicas, nome do laboratório, numero e data da analise da água, volume, data de envasamento e validade e a expressão "Não contem glúten" com impressão indelével. (Código: 00142-2 003 - Grupo-classe: 1903). | F5: 339030-07 | G5: Santa Rita | H5: Peça | I5: 20 | J5: 20 | K5: 0.61 | L5: =REIT!K6+ESAG!K6+CEART!K6+FAED!K6+CEAD!K6+CEFID!K6 -> 74300 | M5: =(REIT!K6-REIT!L6)+(ESAG!K6-ESAG!L6)+(CEART!K6-CEART!L6)+(FAED!K6-FAED!L6)+(CEAD!K6-CEAD!L6)+(CEFID!K6-CEFID!L6) -> 13700 | N5: =L5-M5 -> 60600 | O5: =K5*L5 -> 45323 | P5: =K5*M5 -> 8357
D6: 4 | E6: AGUA MINERAL SEM GÁS, EM COPO DE 200ML. Água mineral, sem gás, em copo de 200ml, obtida diretamente de fontes naturais, envasada dentro dos padrões estabelecidos pelo Departamento Nacional de Produção Mineral-DNPM e de acordo com a Portaria nº 470/1999, RDCs nºs 274 e 275 de 2005, RDC 23/2000 e RDC 27/2010, da ANVISA-MS. Apresentação: A água devera apresentar-se límpida, sem flocos em deposito ou corpos estranhos e com validade mínima de 6 (seis) meses a cada fornecimento. Apresentação: Embalada em copo, fabricado em plástico resistente, com tampa lacrada, com rotulo intacto, sem vazamentos, manchas, odores, furos, fissuras ou amassados, acondicionados em caixas resistentes com 48 unidades. Rotulo com carimbo de aprovação ou numero do processo do DNPM, contendo, no mínimo, nome da fonte e da empresa envasadora, seu CNPJ, Município, Estado, numero do lote, composição química, características físico-químicas, nome do laboratório, numero e data da analise da água, volume, data de envasamento e validade e a expressão "Não contem glúten" com impressão indelével. (Código: 10301-2 009 - Grupo-classe: 1903). | F6: 339030-07 | G6: Santa Rita | H6: Peça | I6: 20 | J6: 20 | K6: 0.27 | L6: =REIT!K7+ESAG!K7+CEART!K7+FAED!K7+CEAD!K7+CEFID!K7 -> 0 | M6: =(REIT!K7-REIT!L7)+(ESAG!K7-ESAG!L7)+(CEART!K7-CEART!L7)+(FAED!K7-FAED!L7)+(CEAD!K7-CEAD!L7)+(CEFID!K7-CEFID!L7) -> 0 | N6: =L6-M6 -> 0 | O6: =K6*L6 -> 0 | P6: =K6*M6 -> 0
B7: JJ MATTOS INDUSTRIA E COMERCIO DE CAFÉ LTDA | C7: II | D7: 5 | E7: CAFE TORRADO E MOIDO EMB. A VACUO PRENSADO EMB.500G Café torrado e moído emb. a vácuo prensado emb. 500g, em pó, homogêneo, torrado e moído, categoria do tipo SUPERIOR, constituído com predominância de grãos de café arábica. Características sensoriais: fragrância: marcante; aroma: característico, marcante; acidez: baixa a moderada; amargor: moderado; sabor: característico e equilibrado; sabor residual: bom, duradouro; defeitos: pouca interferência; adstringência: baixa; corpo: razoavelmente encorpado; qualidade da bebida: dura a melhor; qualidade global: razoavelmente bom a bom, com embalagem vácuo-puro. Com fabricação de no máximo de 30 (trinta) dias antes da data de entrega. Prazo de validade do produto de no mínimo de 12 (doze) meses. O café deverá ter, além da embalagem vácuo-puro, embalagem individual de cartolina, que deverá estar acondicionada em caixa de papelão, com 05 ou 10 kg cada, identificação da categoria do café, lote, prazo de validade e demais informações de acordo com exigências legais vigentes que tratam das embalagens e rotulagens e, que atenda ao padrão de identidade e qualidade (com nota de qualidade global da bebida, igual ou maior que 6,0 (seis) pontos e demais condições estabelecidas de acordo com a legislação vigente. (Decreto Federal n.º 27.173, de 14/09/1949, e Portaria INMETRO nº 157, de 19/08/2002), Portaria 377, de 26/04/1999, IN nº 8 de 11/06/2003 e, IN nº 16, de 24/05/2010 do MAPA, Resoluções: RDC nº 277, de 22/09/05, RDC nº 175, de 08/07/03, RDC nº 259/02, RDC nº 12, de 02/01/01, RDC 123, de 13/025/2004, RDC 259 de 20/09/2002, da ANVISA, e, Resoluções SAA-28, de 01/06/2007 e, SAA-30, de 22/06/2007). Código: 00144-9 005. Grupo - Classe 1903). | F7: 339030-07 | G7: Jurere Superior | H7: Kg | I7: 20 | J7: 20 | K7: 8.5 | L7: =REIT!K8+ESAG!K8+CEART!K8+FAED!K8+CEAD!K8+CEFID!K8 -> 4850 | M7: =(REIT!K8-REIT!L8)+(ESAG!K8-ESAG!L8)+(CEART!K8-CEART!L8)+(FAED!K8-FAED!L8)+(CEAD!K8-CEAD!L8)+(CEFID!K8-CEFID!L8) -> 0 | N7: =L7-M7 -> 4850 | O7: =K7*L7 -> 41225 | P7: =K7*M7 -> 0
B8: TARCIANE LOHN BOECHATT EPP | C8: III | D8: 6 | E8: ACUCAR REFINADO (EMB. C/ 1KG) * Açúcar (embalagem com 01 kg.), refinado de origem vegetal, constituído fundamentalmente por sacarose de cana-de-açúcar, com alto teor de pureza com relação à sacarose, aspecto sólido amorfo, Cor: branca, para utilização em alimentação humana, com validade de 01 (um) ano a cada fornecimento. (Código 00141-4 002 -Grupo-classe1903). | F8: 339030-07 | G8: Caravelas | H8: Kg | I8: 20 | J8: 20 | K8: 1.61 | L8: =REIT!K9+ESAG!K9+CEART!K9+FAED!K9+CEAD!K9+CEFID!K9 -> 5250 | M8: =(REIT!K9-REIT!L9)+(ESAG!K9-ESAG!L9)+(CEART!K9-CEART!L9)+(FAED!K9-FAED!L9)+(CEAD!K9-CEAD!L9)+(CEFID!K9-CEFID!L9) -> 800 | N8: =L8-M8 -> 4450 | O8: =K8*L8 -> 8452.5 | P8: =K8*M8 -> 1288
B9: TARCIANE LOHN BOECHATT EPP | C9: IV | D9: 7 | E9: LEITE DE VACA INTEGRAL, EMBALAGEM LONGA VIDA C/1000ML * Leite de vaca, integral, (UHT) pasteurizado em ultra/altas temperaturas, embalagem em caixa tipo longa vida longa vida, com 1.000ml, devidamente rotuladas conforme legislação vigente e possuir registro nos Órgãos de Inspeção Sanitária; com validade mínima de 60 dias a cada fornecimento. (Código: 00137-6 011 - Grupo-classe: 1901). | F9: 339030-07 | G9: Longuiru | H9: Litro | I9: 20 | J9: 20 | K9: 1.94 | L9: =REIT!K10+ESAG!K10+CEART!K10+FAED!K10+CEAD!K10+CEFID!K10 -> 1560 | M9: =(REIT!K10-REIT!L10)+(ESAG!K10-ESAG!L10)+(CEART!K10-CEART!L10)+(FAED!K10-FAED!L10)+(CEAD!K10-CEAD!L10)+(CEFID!K10-CEFID!L10) -> 360 | N9: =L9-M9 -> 1200 | O9: =K9*L9 -> 3026.4 | P9: =K9*M9 -> 698.4
D10: 8 | E10: LEITE DESNATADO, EMBALAGEM LONGA VIDA COM 01 LITRO * Leite de vaca, desnatado, (UHT) pasteurizado em ultra/altas temperaturas, embalagem em caixa tipo longa vida longa vida, com 1.000ml, devidamente rotuladas conforme legislação vigente e possuir registro nos Órgãos de Inspeção Sanitária; com validade mínima de 60 dias a cada fornecimento. (Código: 00137-6 012 - Grupo-classe: 1901) | F10: 339030-07 | G10: Piracanjuba | H10: Litro | I10: 20 | J10: 20 | K10: 1.82 | L10: =REIT!K11+ESAG!K11+CEART!K11+FAED!K11+CEAD!K11+CEFID!K11 -> 0 | M10: =(REIT!K11-REIT!L11)+(ESAG!K11-ESAG!L11)+(CEART!K11-CEART!L11)+(FAED!K11-FAED!L11)+(CEAD!K11-CEAD!L11)+(CEFID!K11-CEFID!L11) -> 0 | N10: =L10-M10 -> 0 | O10: =K10*L10 -> 0 | P10: =K10*M10 -> 0
D11: 9 | E11: LEITE SEMI-DESNATADO, ESTERELIZADO, TIPO LONGA VIDA * Leite de vaca, semi-desnatado, (UHT) pasteurizado em ultra/altas temperaturas, embalagem em caixa tipo longa vida longa vida, com 1.000ml, devidamente rotuladas conforme legislação vigente e possuir registro nos Órgãos de Inspeção Sanitária; com validade mínima de 60 dias a cada fornecimento. (Código: 00137-6 023 - Grupo-classe: 1901) | F11: 339030-07 | G11: Piracanjuba | H11: Litro | I11: 20 | J11: 20 | K11: 1.84 | L11: =REIT!K12+ESAG!K12+CEART!K12+FAED!K12+CEAD!K12+CEFID!K12 -> 0 | M11: =(REIT!K12-REIT!L12)+(ESAG!K12-ESAG!L12)+(CEART!K12-CEART!L12)+(FAED!K12-FAED!L12)+(CEAD!K12-CEAD!L12)+(CEFID!K12-CEFID!L12) -> 0 | N11: =L11-M11 -> 0 | O11: =K11*L11 -> 0 | P11: =K11*M11 -> 0
A12: Região Itajaí | B12: JJ MATTOS INDUSTRIA E COMERCIO DE CAFÉ LTDA | C12: VI | D12: 14 | E12: CAFE TORRADO E MOIDO EMB. A VACUO PRENSADO EMB.500G Café torrado e moído emb. a vácuo prensado emb. 500g, em pó, homogêneo, torrado e moído, categoria do tipo SUPERIOR, constituído com predominância de grãos de café arábica. Características sensoriais: fragrância: marcante; aroma: característico, marcante; acidez: baixa a moderada; amargor: moderado; sabor: característico e equilibrado; sabor residual: bom, duradouro; defeitos: pouca interferência; adstringência: baixa; corpo: razoavelmente encorpado; qualidade da bebida: dura a melhor; qualidade global: razoavelmente bom a bom, com embalagem vácuo-puro. Com fabricação de no máximo de 30 (trinta) dias antes da data de entrega. Prazo de validade do produto de no mínimo de 12 (doze) meses. O café deverá ter, além da embalagem vácuo-puro, embalagem individual de cartolina, que deverá estar acondicionada em caixa de papelão, com 05 ou 10 kg cada, identificação da categoria do café, lote, prazo de validade e demais informações de acordo com exigências legais vigentes que tratam das embalagens e rotulagens e, que atenda ao padrão de identidade e qualidade (com nota de qualidade global da bebida, igual ou maior que 6,0 (seis) pontos e demais condições estabelecidas de acordo com a legislação vigente. (Decreto Federal n.º 27.173, de 14/09/1949, e Portaria INMETRO nº 157, de 19/08/2002), Portaria 377, de 26/04/1999, IN nº 8 de 11/06/2003 e, IN nº 16, de 24/05/2010 do MAPA, Resoluções: RDC nº 277, de 22/09/05, RDC nº 175, de 08/07/03, RDC nº 259/02, RDC nº 12, de 02/01/01, RDC 123, de 13/025/2004, RDC 259 de 20/09/2002, da ANVISA, e, Resoluções SAA-28, de 01/06/2007 e, SAA-30, de 22/06/2007). Código: 00144-9 005. Grupo - Classe 1903). | F12: 339030-07 | G12: Jurere Superior | H12: Kg | I12: 20 | J12: 20 | K12: 8.09 | L12: =CESFI!K4+CEAVI!K4 -> 520 | M12: =(CESFI!K4-CESFI!L4)+(CEAVI!K4-CEAVI!L4) -> 170 | N12: =L12-M12 -> 350 | O12: =K12*L12 -> 4206.8 | P12: =K12*M12 -> 1375.3
B13: COMERCIAL STORINNY LTDA EPP | C13: VII | D13: 15 | E13: ACUCAR REFINADO (EMB. C/ 1KG) * Açúcar (embalagem com 01 kg.), refinado de origem vegetal, constituído fundamentalmente por sacarose de cana-de-açúcar, com alto teor de pureza com relação à sacarose, aspecto sólido amorfo, Cor: branca, para utilização em alimentação humana, com validade de 01 (um) ano a cada fornecimento. (Código 00141-4 002 -Grupo-classe1903). | F13: 339030-07 | G13: Caravelas | H13: Kg | I13: 20 | J13: 20 | K13: 1.72 | L13: =CESFI!K5+CEAVI!K5 -> 750 | M13: =(CESFI!K5-CESFI!L5)+(CEAVI!K5-CEAVI!L5) -> 50 | N13: =L13-M13 -> 700 | O13: =K13*L13 -> 1290 | P13: =K13*M13 -> 86
B14: DISTRIBUIDORA NOVA ESPERANÇA LTDA-EPP | C14: VIII | D14: 16 | E14: LEITE DE VACA INTEGRAL, EMBALAGEM LONGA VIDA C/1000ML * Leite de vaca, integral, (UHT) pasteurizado em ultra/altas temperaturas, embalagem em caixa tipo longa vida longa vida, com 1.000ml, devidamente rotuladas conforme legislação vigente e possuir registro nos Órgãos de Inspeção Sanitária; com validade mínima de 60 dias a cada fornecimento. (Código: 00137-6 011 - Grupo-classe: 1901). | F14: 339030-07 | G14: Longuiru | H14: Litro | I14: 20 | J14: 20 | K14: 1.98 | L14: =CESFI!K6+CEAVI!K6 -> 0 | M14: =(CESFI!K6-CESFI!L6)+(CEAVI!K6-CEAVI!L6) -> 0 | N14: =L14-M14 -> 0 | O14: =K14*L14 -> 0 | P14: =K14*M14 -> 0
A15: Região Norte | B15: JJ MATTOS INDUSTRIA E COMERCIO DE CAFÉ LTDA | C15: X | D15: 21 | E15: CAFE TORRADO E MOIDO EMB. A VACUO PRENSADO EMB.500G Café torrado e moído emb. a vácuo prensado emb. 500g, em pó, homogêneo, torrado e moído, categoria do tipo SUPERIOR, constituído com predominância de grãos de café arábica. Características sensoriais: fragrância: marcante; aroma: característico, marcante; acidez: baixa a moderada; amargor: moderado; sabor: característico e equilibrado; sabor residual: bom, duradouro; defeitos: pouca interferência; adstringência: baixa; corpo: razoavelmente encorpado; qualidade da bebida: dura a melhor; qualidade global: razoavelmente bom a bom, com embalagem vácuo-puro. Com fabricação de no máximo de 30 (trinta) dias antes da data de entrega. Prazo de validade do produto de no mínimo de 12 (doze) meses. O café deverá ter, além da embalagem vácuo-puro, embalagem individual de cartolina, que deverá estar acondicionada em caixa de papelão, com 05 ou 10 kg cada, identificação da categoria do café, lote, prazo de validade e demais informações de acordo com exigências legais vigentes que tratam das embalagens e rotulagens e, que atenda ao padrão de identidade e qualidade (com nota de qualidade global da bebida, igual ou maior que 6,0 (seis) pontos e demais condições estabelecidas de acordo com a legislação vigente. (Decreto Federal n.º 27.173, de 14/09/1949, e Portaria INMETRO nº 157, de 19/08/2002), Portaria 377, de 26/04/1999, IN nº 8 de 11/06/2003 e, IN nº 16, de 24/05/2010 do MAPA, Resoluções: RDC nº 277, de 22/09/05, RDC nº 175, de 08/07/03, RDC nº 259/02, RDC nº 12, de 02/01/01, RDC 123, de 13/025/2004, RDC 259 de 20/09/2002, da ANVISA, e, Resoluções SAA-28, de 01/06/2007 e, SAA-30, de 22/06/2007). Código: 00144-9 005. Grupo - Classe 1903). | F15: 339030-07 | G15: Jurere Superior | H15: Kg | I15: 20 | J15: 20 | K15: 8.2 | L15: =CCT!K4+CEPLAN!K4 -> 1260 | M15: =(CCT!K4-CCT!L4)+(CEPLAN!K4-CEPLAN!L4) -> 620 | N15: =L15-M15 -> 640 | O15: =K15*L15 -> 10332 | P15: =K15*M15 -> 5084
B16: DISTRIBUIDORA NOVA ESPERANÇA LTDA EPP | C16: XI | D16: 22 | E16: ACUCAR REFINADO (EMB. C/ 1KG) * Açúcar (embalagem com 01 kg.), refinado de origem vegetal, constituído fundamentalmente por sacarose de cana-de-açúcar, com alto teor de pureza com relação à sacarose, aspecto sólido amorfo, Cor: branca, para utilização em alimentação humana, com validade de 01 (um) ano a cada fornecimento. (Código 00141-4 002 -Grupo-classe1903). | F16: 339030-07 | G16: Paraná | H16: Kg | I16: 20 | J16: 20 | K16: 1.72 | L16: =CCT!K5+CEPLAN!K5 -> 1850 | M16: =(CCT!K5-CCT!L5)+(CEPLAN!K5-CEPLAN!L5) -> 675 | N16: =L16-M16 -> 1175 | O16: =K16*L16 -> 3182 | P16: =K16*M16 -> 1161
B17: DISTRIBUIDORA NOVA ESPERANÇA LTDA-EPP | C17: XII | D17: 23 | E17: LEITE DE VACA INTEGRAL, EMBALAGEM LONGA VIDA C/1000ML * Leite de vaca, integral, (UHT) pasteurizado em ultra/altas temperaturas, embalagem em caixa tipo longa vida longa vida, com 1.000ml, devidamente rotuladas conforme legislação vigente e possuir registro nos Órgãos de Inspeção Sanitária; com validade mínima de 60 dias a cada fornecimento. (Código: 00137-6 011 - Grupo-classe: 1901). | F17: 339030-07 | G17: Longuiru | H17: Litro | I17: 20 | J17: 20 | K17: 1.99 | L17: =CCT!K6+CEPLAN!K6 -> 0 | M17: =(CCT!K6-CCT!L6)+(CEPLAN!K6-CEPLAN!L6) -> 0 | N17: =L17-M17 -> 0 | O17: =K17*L17 -> 0 | P17: =K17*M17 -> 0
A18: Região Planalto Serrano | B18: ANJU INDÚSTRIA E COMÉRCIO DE CAFÉ EIRELI - EPP | C18: XIV | D18: 27 | E18: CAFE TORRADO E MOIDO EMB. A VACUO PRENSADO EMB.500G Café torrado e moído emb. a vácuo prensado emb. 500g, em pó, homogêneo, torrado e moído, categoria do tipo SUPERIOR, constituído com predominância de grãos de café arábica. Características sensoriais: fragrância: marcante; aroma: característico, marcante; acidez: baixa a moderada; amargor: moderado; sabor: característico e equilibrado; sabor residual: bom, duradouro; defeitos: pouca interferência; adstringência: baixa; corpo: razoavelmente encorpado; qualidade da bebida: dura a melhor; qualidade global: razoavelmente bom a bom, com embalagem vácuo-puro. Com fabricação de no máximo de 30 (trinta) dias antes da data de entrega. Prazo de validade do produto de no mínimo de 12 (doze) meses. O café deverá ter, além da embalagem vácuo-puro, embalagem individual de cartolina, que deverá estar acondicionada em caixa de papelão, com 05 ou 10 kg cada, identificação da categoria do café, lote, prazo de validade e demais informações de acordo com exigências legais vigentes que tratam das embalagens e rotulagens e, que atenda ao padrão de identidade e qualidade (com nota de qualidade global da bebida, igual ou maior que 6,0 (seis) pontos e demais condições estabelecidas de acordo com a legislação vigente. (Decreto Federal n.º 27.173, de 14/09/1949, e Portaria INMETRO nº 157, de 19/08/2002), Portaria 377, de 26/04/1999, IN nº 8 de 11/06/2003 e, IN nº 16, de 24/05/2010 do MAPA, Resoluções: RDC nº 277, de 22/09/05, RDC nº 175, de 08/07/03, RDC nº 259/02, RDC nº 12, de 02/01/01, RDC 123, de 13/025/2004, RDC 259 de 20/09/2002, da ANVISA, e, Resoluções SAA-28, de 01/06/2007 e, SAA-30, de 22/06/2007). Código: 00144-9 005. Grupo - Classe 1903). | F18: 339030-07 | G18: Café Ouro | H18: Kg | I18: 20 | J18: 20 | K18: 8.48 | L18: =CAV!K4 -> 600 | M18: =(CAV!K4-CAV!L4) -> 0 | N18: =L18-M18 -> 600 | O18: =K18*L18 -> 5088 | P18: =K18*M18 -> 0
A19: Região Oeste | B19: ANJU INDÚSTRIA E COMÉRCIO DE CAFÉ EIRELI - EPP | C19: XVII | D19: 33 | E19: CAFE TORRADO E MOIDO EMB. A VACUO PRENSADO EMB.500G Café torrado e moído emb. a vácuo prensado emb. 500g, em pó, homogêneo, torrado e moído, categoria do tipo SUPERIOR, constituído com predominância de grãos de café arábica. Características sensoriais: fragrância: marcante; aroma: característico, marcante; acidez: baixa a moderada; amargor: moderado; sabor: característico e equilibrado; sabor residual: bom, duradouro; defeitos: pouca interferência; adstringência: baixa; corpo: razoavelmente encorpado; qualidade da bebida: dura a melhor; qualidade global: razoavelmente bom a bom, com embalagem vácuo-puro. Com fabricação de no máximo de 30 (trinta) dias antes da data de entrega. Prazo de validade do produto de no mínimo de 12 (doze) meses. O café deverá ter, além da embalagem vácuo-puro, embalagem individual de cartolina, que deverá estar acondicionada em caixa de papelão, com 05 ou 10 kg cada, identificação da categoria do café, lote, prazo de validade e demais informações de acordo com exigências legais vigentes que tratam das embalagens e rotulagens e, que atenda ao padrão de identidade e qualidade (com nota de qualidade global da bebida, igual ou maior que 6,0 (seis) pontos e demais condições estabelecidas de acordo com a legislação vigente. (Decreto Federal n.º 27.173, de 14/09/1949, e Portaria INMETRO nº 157, de 19/08/2002), Portaria 377, de 26/04/1999, IN nº 8 de 11/06/2003 e, IN nº 16, de 24/05/2010 do MAPA, Resoluções: RDC nº 277, de 22/09/05, RDC nº 175, de 08/07/03, RDC nº 259/02, RDC nº 12, de 02/01/01, RDC 123, de 13/025/2004, RDC 259 de 20/09/2002, da ANVISA, e, Resoluções SAA-28, de 01/06/2007 e, SAA-30, de 22/06/2007). Código: 00144-9 005. Grupo - Classe 1903). | F19: 339030-07 | G19: Café Ouro | H19: Kg | I19: 20 | J19: 20 | K19: 10.5 | L19: =CEO!K4 -> 50 | M19: =(CEO!K4-CEO!L4) -> 50 | N19: =L19-M19 -> 0 | O19: =K19*L19 -> 525 | P19: =K19*M19 -> 525
A20: Região Sul | B20: JJ MATTOS INDUSTRIA E COMERCIO DE CAFÉ LTDA | C20: XXI | D20: 41 | E20: CAFE TORRADO E MOIDO EMB. A VACUO PRENSADO EMB.500G Café torrado e moído emb. a vácuo prensado emb. 500g, em pó, homogêneo, torrado e moído, categoria do tipo SUPERIOR, constituído com predominância de grãos de café arábica. Características sensoriais: fragrância: marcante; aroma: característico, marcante; acidez: baixa a moderada; amargor: moderado; sabor: característico e equilibrado; sabor residual: bom, duradouro; defeitos: pouca interferência; adstringência: baixa; corpo: razoavelmente encorpado; qualidade da bebida: dura a melhor; qualidade global: razoavelmente bom a bom, com embalagem vácuo-puro. Com fabricação de no máximo de 30 (trinta) dias antes da data de entrega. Prazo de validade do produto de no mínimo de 12 (doze) meses. O café deverá ter, além da embalagem vácuo-puro, embalagem individual de cartolina, que deverá estar acondicionada em caixa de papelão, com 05 ou 10 kg cada, identificação da categoria do café, lote, prazo de validade e demais informações de acordo com exigências legais vigentes que tratam das embalagens e rotulagens e, que atenda ao padrão de identidade e qualidade (com nota de qualidade global da bebida, igual ou maior que 6,0 (seis) pontos e demais condições estabelecidas de acordo com a legislação vigente. (Decreto Federal n.º 27.173, de 14/09/1949, e Portaria INMETRO nº 157, de 19/08/2002), Portaria 377, de 26/04/1999, IN nº 8 de 11/06/2003 e, IN nº 16, de 24/05/2010 do MAPA, Resoluções: RDC nº 277, de 22/09/05, RDC nº 175, de 08/07/03, RDC nº 259/02, RDC nº 12, de 02/01/01, RDC 123, de 13/025/2004, RDC 259 de 20/09/2002, da ANVISA, e, Resoluções SAA-28, de 01/06/2007 e, SAA-30, de 22/06/2007). Código: 00144-9 005. Grupo - Classe 1903). | F20: 339030-07 | G20: Jurere Superior | H20: Kg | I20: 20 | J20: 20 | K20: 10.5 | L20: =CERES!K4 -> 90 | M20: =(CERES!K4-CERES!L4) -> 90 | N20: =L20-M20 -> 0 | O20: =K20*L20 -> 945 | P20: =K20*M20 -> 945
B21: TARCIANE LOHN BOECHATT-EPP | C21: XXII | D21: 42 | E21: ACUCAR REFINADO (EMB. C/ 1KG) * Açúcar (embalagem com 01 kg.), refinado de origem vegetal, constituído fundamentalmente por sacarose de cana-de-açúcar, com alto teor de pureza com relação à sacarose, aspecto sólido amorfo, Cor: branca, para utilização em alimentação humana, com validade de 01 (um) ano a cada fornecimento. (Código 00141-4 002 -Grupo-classe1903). | F21: 339030-07 | G21: Caravelas | H21: Kg | I21: 20 | J21: 20 | K21: 1.68 | L21: =CERES!K5 -> 100 | M21: =(CERES!K5-CERES!L5) -> 100 | N21: =L21-M21 -> 0 | O21: =K21*L21 -> 168 | P21: =K21*M21 -> 168
B22: TARCIANE LOHN BOECHATT-EPP | C22: XXIII | D22: 43 | E22: LEITE DE VACA INTEGRAL, EMBALAGEM LONGA VIDA C/1000ML * Leite de vaca, integral, (UHT) pasteurizado em ultra/altas temperaturas, embalagem em caixa tipo longa vida longa vida, com 1.000ml, devidamente rotuladas conforme legislação vigente e possuir registro nos Órgãos de Inspeção Sanitária; com validade mínima de 60 dias a cada fornecimento. (Código: 00137-6 011 - Grupo-classe: 1901). | F22: 339030-07 | G22: Longuiru | H22: Litro | I22: 20 | J22: 20 | K22: 1.91 | L22: =CERES!K6 -> 0 | M22: =(CERES!K6-CERES!L6) -> 0 | N22: =L22-M22 -> 0 | O22: =K22*L22 -> 0 | P22: =K22*M22 -> 0
O23: =SUM(O3:O22) -> 170764.7 | P23: =SUM(P3:P22) -> 31741.7
L25: Pregão 003/2014/SEA - SRP
L26: Aquisição de café, leite, açucar e água.
L27: Vigência 21/02/2014 até 21/02/2015
L28: Valor Total da Ata com Aditivo | P28: =O23 -> 170764.7
L29: Valor Utilizado | P29: =P23 -> 31741.7
L30: % Aditivos | P30: 0
L31: % Utilizado | P31: =P29/P28 -> 0.18587975
L32: Resumo Atualizado em 27/11/2014

Sheet Modelo Anexo II IN 002_2014
A1: ANEXO II – Instrução Normativa n.º 002/2014
A3: DECLARAÇÃO DE DISPONIBILIDADE DE QUANTITATIVO PARA EMISSÃO DE AUTORIZAÇÃO DE FORNECIMENTO/ORDEM DE SERVIÇO – SISTEMA DE REGISTRO DE PREÇOS/UDESC
A5: Processo CPA n.º XXXX/2014
A6: Pregão n.º XXXX/2014
A7: Objeto:
A8: Vigência da Ata de Registro de Preços: XX/XX/XXXX até XX/XX/XXXXX
A10: Declaro que o Centro XXXXXXX, participante da Ata de Registro de Preços proveniente do Pregão n.º XXXX/2014, possui saldo em seu quantitativo para a emissão da Autorização de Fornecimento/Ordem de Serviço n.º XXXX/2014, no valor de R$ X.XXX,XX, a ser firmada com a empresa XXXXXXX, restando ainda em sua cota para próximas contratações com o referido fornecedor os seguintes quantitativos:
A12: Lote | B12: Item | C12: Descrição Resumida | D12: Unidade | E12: Valor Unitário (R$) | F12: Saldo Quantitativo (antes da emissão desta AF/OS) | G12: Quantitativo da AF/OS | H12: Saldo Atualizado
A19: __________________, ____/_____/____
A20: Cidade Data
A24: _____________________________________________
A25: Diretor(a) de Administração
A26: (carimbo e assinatura)
