Workbook
Name diasuteis: #REF!
Name diasuteis: #REF!
Name diasuteis: #REF!
Name diasuteis: #REF!
Name diasuteis: #REF!
Name diasuteis: #REF!
Name diasuteis: #REF!
Name diasuteis: #REF!
Name diasuteis: #REF!
Name diasuteis: #REF!
Name diasuteis: #REF!
Name diasuteis: #REF!
Name diasuteis: #REF!
Name diasuteis: #REF!
Name diasuteis: #REF!
Name Ferias: #REF!
Name Ferias: #REF!
Name Ferias: #REF!
Name Ferias: #REF!
Name Ferias: #REF!
Name Ferias: #REF!
Name Ferias: #REF!
Name Ferias: #REF!
Name Ferias: #REF!
Name Ferias: #REF!
Name Ferias: #REF!
Name Ferias: #REF!
Name Ferias: #REF!
Name Ferias: #REF!
Name RD: OFFSET(#REF!,(MATCH(SMALL(#REF!,ROW()-10),#REF!,0)-1),0)

Sheet REIT
A1: PROCESSO: 003/2014/SEA | D1: OBJETO: Aquisição de café, leite, açucar e água. | K1: VIGÊNCIA DA ATA: 21/02/2014 até 21/02/2015 | N1: AF/OS nº 423/2014 Qtde. DT | O1: AF/OS nº 755/2014 Qtde. DT | P1: AF/OS nº 1403/2014 Qtde. DT | Q1: AF/OS nº 1867/2014 Qtde. DT | R1: AF/OS nº xxxx/2014 Qtde. DT | S1: AF/OS nº xxxx/2014 Qtde. DT | T1: AF/OS nº xxxx/2014 Qtde. DT | U1: AF/OS nº xxxx/2014 Qtde. DT | V1: AF/OS nº xxxx/2014 Qtde. DT | W1: AF/OS nº xxxx/2014 Qtde. DT | X1: AF/OS nº xxxx/2014 Qtde. DT | Y1: AF/OS nº xxxx/2014 Qtde. DT
A2: CENTRO PARTICIPANTE: REITORIA - Região Grande Florianópolis
A3: FORNECEDOR | B3: LOTE | C3: ITEM | D3: PRODUTO - CARACTERÍSTICAS MÍNIMAS | E3: ELEMENTO | F3: MARCA | G3: UNIDADE | H3: Entrega (Dias) | I3: Pagto. (Dias) | J3: Preço UNITÁRIO (R$) | K3: Qtde LICITADA | L3: Saldo / Automático | M3: ALERTA | N3: 41782 | O3: 41838 | P3: 41925 | Q3: 41956 | R3: ...../...../...... | S3: ...../...../...... | T3: ...../...../...... | U3: ...../...../...... | V3: ...../...../...... | W3: ...../...../...... | X3: ...../...../...... | Y3: ...../...../......
A4: ESTANCIA HIDROMINERAL SANTA RITA DE CASSIA LTDA | B4: I | C4: 1 | D4: AGUA MINERAL S/GAS, BOMBONA C/ 20 LITROS * Água mineral, potável, natural, sem gás, com validade mínima de 3 (três) meses a cada fornecimento, envasada em garrafão de 20 litros PET (politereftalato de etileno), com cessão gratuita (comodato) de garrafões em quantidade suficiente para abastecimento e reposição, com vida útil máxima de 3 anos, lacrados, dentro dos padrões estabelecidos pelo Departamento Nacional de Produção Mineral - DPNPM e de acordo com a Portaria nº 470/1999, RDCs nºs 274 e 275 de 2005, RDC 23/2000 e RDC 27/2010, da ANVISA-MS. Rotulo com carimbo de aprovação ou numero do processo do DNPM, contendo, no mínimo, nome da fonte e da empresa envasadora, seu CNPJ, Município, Estado, numero do lote, composição química, características físico-químicas, nome do laboratório, numero e data da analise da água, volume, data de envasamento, validade e a expressão "Não contem glúten" com impressão indelével, devendo obedecer a Portaria 387/2008 DNPM, especificações da ANVISA (Resolução nº 105/99 e suas atualizações), e normas da ABNT NMR 14222, 14328 e 14638. (Código: 00142-2 015 - Grupo-classe: 1903). | E4: 339030-07 | F4: Santa Rita | G4: Peça | H4: 20 | I4: 20 | J4: 4.56 | K4: 2000 | L4: =K4-(SUM(N4:Y4)) -> 1200 | M4: =IF(L4<0,"ATENÇÃO","OK") -> OK | N4: 500 | Q4: 300 | R4: 0 | S4: 0 | T4: 0 | U4: 0 | V4: 0 | W4: 0 | X4: 0 | Y4: 0
C5: 2 | D5: AGUA MINERAL NATURAL C/ GAS (EMB. DESCARTAVEL 500ML) Água mineral, natural, potável, com gás, envasada em garrafa PET (politereftalato de etileno) descartável com 500ml, lacrados, dentro dos padrões estabelecidos pelo Departamento Nacional de Produção Mineral-DNPM e de acordo com a Portaria nº 470/1999, RDCs nºs 274 e 275 de 2005, RDC 23/2000 e RDC 27/2010, da ANVISA-MS, acondicionadas em fardo com 12 unidades, e com validade mínima de 6 (seis) meses a cada fornecimento. Rotulo com carimbo de aprovação ou numero do processo do DNPM, contendo, no mínimo, nome da fonte e da empresa envasadora, seu CNPJ, Município, Estado, numero do lote, composição química, características físico-químicas, nome do laboratório, numero e data da analise da água, volume, data de envasamento e validade e a expressão "Não contem glúten" com impressão indelével. (Código: 00142-2 002 - Grupo-classe: 1903) | E5: 339030-07 | F5: Santa Rita | G5: Peça | H5: 20 | I5: 20 | J5: 0.66 | K5: 7200 | L5: =K5-(SUM(N5:Y5)) -> 3600 | M5: =IF(L5<0,"ATENÇÃO","OK") -> OK | N5: 3600 | P5: 0 | Q5: 0 | R5: 0 | S5: 0 | T5: 0 | U5: 0 | V5: 0 | W5: 0 | X5: 0 | Y5: 0
C6: 3 | D6: AGUA MINERAL NATURAL S/ GAS (EMB. DESCARTAVEL C/ 500ML) Água mineral natural, potável, sem gás, envasada em garrafa PET (politereftalato de etileno) descartável com 500ml, lacrados, dentro dos padrões estabelecidos pelo Departamento Nacional de Produção Mineral-DNPM e de acordo com a Portaria nº 470/1999, RDCs nºs 274 e 275 de 2005, RDC 23/2000 e RDC 27/2010, da ANVISA-MS, acondicionadas em fardo com 12 unidades, e com validade mínima de mínima de 6 (seis) meses a cada fornecimento. Rotulagem: Rotulo com carimbo de aprovação ou numero do processo do DNPM, contendo, no mínimo, nome da fonte, e da empresa envasadora, seu CNPJ, Município, Estado, numero do lote, composição química, características físico - químicas, nome do laboratório, numero e data da analise da água, volume, data de envasamento e validade e a expressão "Não contem glúten" com impressão indelével. (Código: 00142-2 003 - Grupo-classe: 1903). | E6: 339030-07 | F6: Santa Rita | G6: Peça | H6: 20 | I6: 20 | J6: 0.61 | K6: 19200 | L6: =K6-(SUM(N6:Y6)) -> 8400 | M6: =IF(L6<0,"ATENÇÃO","OK") -> OK | N6: 7200 | O6: 0 | P6: 0 | Q6: 3600 | R6: 0 | S6: 0 | T6: 0 | U6: 0 | V6: 0 | W6: 0 | X6: 0 | Y6: 0
C7: 4 | D7: AGUA MINERAL SEM GÁS, EM COPO DE 200ML. Água mineral, sem gás, em copo de 200ml, obtida diretamente de fontes naturais, envasada dentro dos padrões estabelecidos pelo Departamento Nacional de Produção Mineral-DNPM e de acordo com a Portaria nº 470/1999, RDCs nºs 274 e 275 de 2005, RDC 23/2000 e RDC 27/2010, da ANVISA-MS. Apresentação: A água devera apresentar-se límpida, sem flocos em deposito ou corpos estranhos e com validade mínima de 6 (seis) meses a cada fornecimento. Apresentação: Embalada em copo, fabricado em plástico resistente, com tampa lacrada, com rotulo intacto, sem vazamentos, manchas, odores, furos, fissuras ou amassados, acondicionados em caixas resistentes com 48 unidades. Rotulo com carimbo de aprovação ou numero do processo do DNPM, contendo, no mínimo, nome da fonte e da empresa envasadora, seu CNPJ, Município, Estado, numero do lote, composição química, características físico-químicas, nome do laboratório, numero e data da analise da água, volume, data de envasamento e validade e a expressão "Não contem glúten" com impressão indelével. (Código: 10301-2 009 - Grupo-classe: 1903). | E7: 339030-07 | F7: Santa Rita | G7: Peça | H7: 20 | I7: 20 | J7: 0.27 | L7: =K7-(SUM(N7:Y7)) -> 0 | M7: =IF(L7<0,"ATENÇÃO","OK") -> OK | N7: 0 | O7: 0 | P7: 0 | Q7: 0 | R7: 0 | S7: 0 | T7: 0 | U7: 0 | V7: 0 | W7: 0 | X7: 0 | Y7: 0
A8: JJ MATTOS INDUSTRIA E COMERCIO DE CAFÉ LTDA | B8: II | C8: 5 | D8: CAFE TORRADO E MOIDO EMB. A VACUO PRENSADO EMB.500G Café torrado e moído emb. a vácuo prensado emb. 500g, em pó, homogêneo, torrado e moído, categoria do tipo SUPERIOR, constituído com predominância de grãos de café arábica. Características sensoriais: fragrância: marcante; aroma: característico, marcante; acidez: baixa a moderada; amargor: moderado; sabor: característico e equilibrado; sabor residual: bom, duradouro; defeitos: pouca interferência; adstringência: baixa; corpo: razoavelmente encorpado; qualidade da bebida: dura a melhor; qualidade global: razoavelmente bom a bom, com embalagem vácuo-puro. Com fabricação de no máximo de 30 (trinta) dias antes da data de entrega. Prazo de validade do produto de no mínimo de 12 (doze) meses. O café deverá ter, além da embalagem vácuo-puro, embalagem individual de cartolina, que deverá estar acondicionada em caixa de papelão, com 05 ou 10 kg cada, identificação da categoria do café, lote, prazo de validade e demais informações de acordo com exigências legais vigentes que tratam das embalagens e rotulagens e, que atenda ao padrão de identidade e qualidade (com nota de qualidade global da bebida, igual ou maior que 6,0 (seis) pontos e demais condições estabelecidas de acordo com a legislação vigente. (Decreto Federal n.º 27.173, de 14/09/1949, e Portaria INMETRO nº 157, de 19/08/2002), Portaria 377, de 26/04/1999, IN nº 8 de 11/06/2003 e, IN nº 16, de 24/05/2010 do MAPA, Resoluções: RDC nº 277, de 22/09/05, RDC nº 175, de 08/07/03, RDC nº 259/02, RDC nº 12, de 02/01/01, RDC 123, de 13/025/2004, RDC 259 de 20/09/2002, da ANVISA, e, Resoluções SAA-28, de 01/06/2007 e, SAA-30, de 22/06/2007). Código: 00144-9 005. Grupo - Classe 1903). | E8: 339030-07 | F8: Jurere Superior | G8: Kg | H8: 20 | I8: 20 | J8: 8.5 | K8: 1000 | L8: =K8-(SUM(N8:Y8)) -> 1000 | M8: =IF(L8<0,"ATENÇÃO","OK") -> OK | N8: 0 | O8: 0 | P8: 0 | Q8: 0 | R8: 0 | S8: 0 | T8: 0 | U8: 0 | V8: 0 | W8: 0 | X8: 0 | Y8: 0
A9: TARCIANE LOHN BOECHATT EPP | B9: III | C9: 6 | D9: ACUCAR REFINADO (EMB. C/ 1KG) * Açúcar (embalagem com 01 kg.), refinado de origem vegetal, constituído fundamentalmente por sacarose de cana-de-açúcar, com alto teor de pureza com relação à sacarose, aspecto sólido amorfo, Cor: branca, para utilização em alimentação humana, com validade de 01 (um) ano a cada fornecimento. (Código 00141-4 002 -Grupo-classe1903). | E9: 339030-07 | F9: Caravelas | G9: Kg | H9: 20 | I9: 20 | J9: 1.61 | K9: 1500 | L9: =K9-(SUM(N9:Y9)) -> 900 | M9: =IF(L9<0,"ATENÇÃO","OK") -> OK | N9: 0 | O9: 600 | P9: 0 | Q9: 0 | R9: 0 | S9: 0 | T9: 0 | U9: 0 | V9: 0 | W9: 0 | X9: 0 | Y9: 0
A10: TARCIANE LOHN BOECHATT EPP | B10: IV | C10: 7 | D10: LEITE DE VACA INTEGRAL, EMBALAGEM LONGA VIDA C/1000ML * Leite de vaca, integral, (UHT) pasteurizado em ultra/altas temperaturas, embalagem em caixa tipo longa vida longa vida, com 1.000ml, devidamente rotuladas conforme legislação vigente e possuir registro nos Órgãos de Inspeção Sanitária; com validade mínima de 60 dias a cada fornecimento. (Código: 00137-6 011 - Grupo-classe: 1901). | E10: 339030-07 | F10: Longuiru | G10: Litro | H10: 20 | I10: 20 | J10: 1.94 | K10: 1440 | L10: =K10-(SUM(N10:Y10)) -> 1080 | M10: =IF(L10<0,"ATENÇÃO","OK") -> OK | N10: 0 | O10: 0 | P10: 360 | Q10: 0 | R10: 0 | S10: 0 | T10: 0 | U10: 0 | V10: 0 | W10: 0 | X10: 0 | Y10: 0
C11: 8 | D11: LEITE DESNATADO, EMBALAGEM LONGA VIDA COM 01 LITRO * Leite de vaca, desnatado, (UHT) pasteurizado em ultra/altas temperaturas, embalagem em caixa tipo longa vida longa vida, com 1.000ml, devidamente rotuladas conforme legislação vigente e possuir registro nos Órgãos de Inspeção Sanitária; com validade mínima de 60 dias a cada fornecimento. (Código: 00137-6 012 - Grupo-classe: 1901) | E11: 339030-07 | F11: Piracanjuba | G11: Litro | H11: 20 | I11: 20 | J11: 1.82 | L11: =K11-(SUM(N11:Y11)) -> 0 | M11: =IF(L11<0,"ATENÇÃO","OK") -> OK | N11: 0 | O11: 0 | P11: 0 | Q11: 0 | R11: 0 | S11: 0 | T11: 0 | U11: 0 | V11: 0 | W11: 0 | X11: 0 | Y11: 0
C12: 9 | D12: LEITE SEMI-DESNATADO, ESTERELIZADO, TIPO LONGA VIDA * Leite de vaca, semi-desnatado, (UHT) pasteurizado em ultra/altas temperaturas, embalagem em caixa tipo longa vida longa vida, com 1.000ml, devidamente rotuladas conforme legislação vigente e possuir registro nos Órgãos de Inspeção Sanitária; com validade mínima de 60 dias a cada fornecimento. (Código: 00137-6 023 - Grupo-classe: 1901) | E12: 339030-07 | F12: Piracanjuba | G12: Litro | H12: 20 | I12: 20 | J12: 1.84 | L12: =K12-(SUM(N12:Y12)) -> 0 | M12: =IF(L12<0,"ATENÇÃO","OK") -> OK | N12: 0 | O12: 0 | P12: 0 | Q12: 0 | R12: 0 | S12: 0 | T12: 0 | U12: 0 | V12: 0 | W12: 0 | X12: 0 | Y12: 0

Sheet ESAG
A1: PROCESSO: 003/2014/SEA | D1: OBJETO: Aquisição de café, leite, açucar e água. | K1: VIGÊNCIA DA ATA: 21/02/2014 até 21/02/2015 | N1: AF/OS nº xxxx/2014 Qtde. DT | O1: AF/OS nº xxxx/2014 Qtde. DT | P1: AF/OS nº xxxx/2014 Qtde. DT | Q1: AF/OS nº xxxx/2014 Qtde. DT | R1: AF/OS nº xxxx/2014 Qtde. DT | S1: AF/OS nº xxxx/2014 Qtde. DT | T1: AF/OS nº xxxx/2014 Qtde. DT | U1: AF/OS nº xxxx/2014 Qtde. DT | V1: AF/OS nº xxxx/2014 Qtde. DT | W1: AF/OS nº xxxx/2014 Qtde. DT | X1: AF/OS nº xxxx/2014 Qtde. DT | Y1: AF/OS nº xxxx/2014 Qtde. DT
A2: CENTRO PARTICIPANTE: ESAG - Região Grande Florianópolis
A3: FORNECEDOR | B3: LOTE | C3: ITEM | D3: PRODUTO - CARACTERÍSTICAS MÍNIMAS | E3: ELEMENTO | F3: MARCA | G3: UNIDADE | H3: Entrega (Dias) | I3: Pagto. (Dias) | J3: Preço UNITÁRIO (R$) | K3: Qtde LICITADA | L3: Saldo / Automático | M3: ALERTA | N3: ...../...../...... | O3: ...../...../...... | P3: ...../...../...... | Q3: ...../...../...... | R3: ...../...../...... | S3: ...../...../...... | T3: ...../...../...... | U3: ...../...../...... | V3: ...../...../...... | W3: ...../...../...... | X3: ...../...../...... | Y3: ...../...../......
A4: ESTANCIA HIDROMINERAL SANTA RITA DE CASSIA LTDA | B4: I | C4: 1 | D4: AGUA MINERAL S/GAS, BOMBONA C/ 20 LITROS * Água mineral, potável, natural, sem gás, com validade mínima de 3 (três) meses a cada fornecimento, envasada em garrafão de 20 litros PET (politereftalato de etileno), com cessão gratuita (comodato) de garrafões em quantidade suficiente para abastecimento e reposição, com vida útil máxima de 3 anos, lacrados, dentro dos padrões estabelecidos pelo Departamento Nacional de Produção Mineral - DPNPM e de acordo com a Portaria nº 470/1999, RDCs nºs 274 e 275 de 2005, RDC 23/2000 e RDC 27/2010, da ANVISA-MS. Rotulo com carimbo de aprovação ou numero do processo do DNPM, contendo, no mínimo, nome da fonte e da empresa envasadora, seu CNPJ, Município, Estado, numero do lote, composição química, características físico-químicas, nome do laboratório, numero e data da analise da água, volume, data de envasamento, validade e a expressão "Não contem glúten" com impressão indelével, devendo obedecer a Portaria 387/2008 DNPM, especificações da ANVISA (Resolução nº 105/99 e suas atualizações), e normas da ABNT NMR 14222, 14328 e 14638. (Código: 00142-2 015 - Grupo-classe: 1903). | E4: 339030-07 | F4: Santa Rita | G4: Peça | H4: 20 | I4: 20 | J4: 4.56 | K4: 350 | L4: =K4-(SUM(N4:Y4)) -> 350 | M4: =IF(L4<0,"ATENÇÃO","OK") -> OK | N4: 0 | O4: 0 | P4: 0 | Q4: 0 | R4: 0 | S4: 0 | T4: 0 | U4: 0 | V4: 0 | W4: 0 | X4: 0 | Y4: 0
C5: 2 | D5: AGUA MINERAL NATURAL C/ GAS (EMB. DESCARTAVEL 500ML) Água mineral, natural, potável, com gás, envasada em garrafa PET (politereftalato de etileno) descartável com 500ml, lacrados, dentro dos padrões estabelecidos pelo Departamento Nacional de Produção Mineral-DNPM e de acordo com a Portaria nº 470/1999, RDCs nºs 274 e 275 de 2005, RDC 23/2000 e RDC 27/2010, da ANVISA-MS, acondicionadas em fardo com 12 unidades, e com validade mínima de 6 (seis) meses a cada fornecimento. Rotulo com carimbo de aprovação ou numero do processo do DNPM, contendo, no mínimo, nome da fonte e da empresa envasadora, seu CNPJ, Município, Estado, numero do lote, composição química, características físico-químicas, nome do laboratório, numero e data da analise da água, volume, data de envasamento e validade e a expressão "Não contem glúten" com impressão indelével. (Código: 00142-2 002 - Grupo-classe: 1903) | E5: 339030-07 | F5: Santa Rita | G5: Peça | H5: 20 | I5: 20 | J5: 0.66 | K5: 7200 | L5: =K5-(SUM(N5:Y5)) -> 7200 | M5: =IF(L5<0,"ATENÇÃO","OK") -> OK | P5: 0 | Q5: 0 | R5: 0 | S5: 0 | T5: 0 | U5: 0 | V5: 0 | W5: 0 | X5: 0 | Y5: 0
C6: 3 | D6: AGUA MINERAL NATURAL S/ GAS (EMB. DESCARTAVEL C/ 500ML) Água mineral natural, potável, sem gás, envasada em garrafa PET (politereftalato de etileno) descartável com 500ml, lacrados, dentro dos padrões estabelecidos pelo Departamento Nacional de Produção Mineral-DNPM e de acordo com a Portaria nº 470/1999, RDCs nºs 274 e 275 de 2005, RDC 23/2000 e RDC 27/2010, da ANVISA-MS, acondicionadas em fardo com 12 unidades, e com validade mínima de mínima de 6 (seis) meses a cada fornecimento. Rotulagem: Rotulo com carimbo de aprovação ou numero do processo do DNPM, contendo, no mínimo, nome da fonte, e da empresa envasadora, seu CNPJ, Município, Estado, numero do lote, composição química, características físico - químicas, nome do laboratório, numero e data da analise da água, volume, data de envasamento e validade e a expressão "Não contem glúten" com impressão indelével. (Código: 00142-2 003 - Grupo-classe: 1903). | E6: 339030-07 | F6: Santa Rita | G6: Peça | H6: 20 | I6: 20 | J6: 0.61 | K6: 21600 | L6: =K6-(SUM(N6:Y6)) -> 21600 | M6: =IF(L6<0,"ATENÇÃO","OK") -> OK | N6: 0 | O6: 0 | P6: 0 | Q6: 0 | R6: 0 | S6: 0 | T6: 0 | U6: 0 | V6: 0 | W6: 0 | X6: 0 | Y6: 0
C7: 4 | D7: AGUA MINERAL SEM GÁS, EM COPO DE 200ML. Água mineral, sem gás, em copo de 200ml, obtida diretamente de fontes naturais, envasada dentro dos padrões estabelecidos pelo Departamento Nacional de Produção Mineral-DNPM e de acordo com a Portaria nº 470/1999, RDCs nºs 274 e 275 de 2005, RDC 23/2000 e RDC 27/2010, da ANVISA-MS. Apresentação: A água devera apresentar-se límpida, sem flocos em deposito ou corpos estranhos e com validade mínima de 6 (seis) meses a cada fornecimento. Apresentação: Embalada em copo, fabricado em plástico resistente, com tampa lacrada, com rotulo intacto, sem vazamentos, manchas, odores, furos, fissuras ou amassados, acondicionados em caixas resistentes com 48 unidades. Rotulo com carimbo de aprovação ou numero do processo do DNPM, contendo, no mínimo, nome da fonte e da empresa envasadora, seu CNPJ, Município, Estado, numero do lote, composição química, características físico-químicas, nome do laboratório, numero e data da analise da água, volume, data de envasamento e validade e a expressão "Não contem glúten" com impressão indelével. (Código: 10301-2 009 - Grupo-classe: 1903). | E7: 339030-07 | F7: Santa Rita | G7: Peça | H7: 20 | I7: 20 | J7: 0.27 | L7: =K7-(SUM(N7:Y7)) -> 0 | M7: =IF(L7<0,"ATENÇÃO","OK") -> OK | N7: 0 | O7: 0 | P7: 0 | Q7: 0 | R7: 0 | S7: 0 | T7: 0 | U7: 0 | V7: 0 | W7: 0 | X7: 0 | Y7: 0
A8: JJ MATTOS INDUSTRIA E COMERCIO DE CAFÉ LTDA | B8: II | C8: 5 | D8: CAFE TORRADO E MOIDO EMB. A VACUO PRENSADO EMB.500G Café torrado e moído emb. a vácuo prensado emb. 500g, em pó, homogêneo, torrado e moído, categoria do tipo SUPERIOR, constituído com predominância de grãos de café arábica. Características sensoriais: fragrância: marcante; aroma: característico, marcante; acidez: baixa a moderada; amargor: moderado; sabor: característico e equilibrado; sabor residual: bom, duradouro; defeitos: pouca interferência; adstringência: baixa; corpo: razoavelmente encorpado; qualidade da bebida: dura a melhor; qualidade global: razoavelmente bom a bom, com embalagem vácuo-puro. Com fabricação de no máximo de 30 (trinta) dias antes da data de entrega. Prazo de validade do produto de no mínimo de 12 (doze) meses. O café deverá ter, além da embalagem vácuo-puro, embalagem individual de cartolina, que deverá estar acondicionada em caixa de papelão, com 05 ou 10 kg cada, identificação da categoria do café, lote, prazo de validade e demais informações de acordo com exigências legais vigentes que tratam das embalagens e rotulagens e, que atenda ao padrão de identidade e qualidade (com nota de qualidade global da bebida, igual ou maior que 6,0 (seis) pontos e demais condições estabelecidas de acordo com a legislação vigente. (Decreto Federal n.º 27.173, de 14/09/1949, e Portaria INMETRO nº 157, de 19/08/2002), Portaria 377, de 26/04/1999, IN nº 8 de 11/06/2003 e, IN nº 16, de 24/05/2010 do MAPA, Resoluções: RDC nº 277, de 22/09/05, RDC nº 175, de 08/07/03, RDC nº 259/02, RDC nº 12, de 02/01/01, RDC 123, de 13/025/2004, RDC 259 de 20/09/2002, da ANVISA, e, Resoluções SAA-28, de 01/06/2007 e, SAA-30, de 22/06/2007). Código: 00144-9 005. Grupo - Classe 1903). | E8: 339030-07 | F8: Jurere Superior | G8: Kg | H8: 20 | I8: 20 | J8: 8.5 | K8: 1000 | L8: =K8-(SUM(N8:Y8)) -> 1000 | M8: =IF(L8<0,"ATENÇÃO","OK") -> OK | N8: 0 | O8: 0 | P8: 0 | Q8: 0 | R8: 0 | S8: 0 | T8: 0 | U8: 0 | V8: 0 | W8: 0 | X8: 0 | Y8: 0
A9: TARCIANE LOHN BOECHATT EPP | B9: III | C9: 6 | D9: ACUCAR REFINADO (EMB. C/ 1KG) * Açúcar (embalagem com 01 kg.), refinado de origem vegetal, constituído fundamentalmente por sacarose de cana-de-açúcar, com alto teor de pureza com relação à sacarose, aspecto sólido amorfo, Cor: branca, para utilização em alimentação humana, com validade de 01 (um) ano a cada fornecimento. (Código 00141-4 002 -Grupo-classe1903). | E9: 339030-07 | F9: Caravelas | G9: Kg | H9: 20 | I9: 20 | J9: 1.61 | K9: 600 | L9: =K9-(SUM(N9:Y9)) -> 600 | M9: =IF(L9<0,"ATENÇÃO","OK") -> OK | N9: 0 | O9: 0 | P9: 0 | Q9: 0 | R9: 0 | S9: 0 | T9: 0 | U9: 0 | V9: 0 | W9: 0 | X9: 0 | Y9: 0
A10: TARCIANE LOHN BOECHATT EPP | B10: IV | C10: 7 | D10: LEITE DE VACA INTEGRAL, EMBALAGEM LONGA VIDA C/1000ML * Leite de vaca, integral, (UHT) pasteurizado em ultra/altas temperaturas, embalagem em caixa tipo longa vida longa vida, com 1.000ml, devidamente rotuladas conforme legislação vigente e possuir registro nos Órgãos de Inspeção Sanitária; com validade mínima de 60 dias a cada fornecimento. (Código: 00137-6 011 - Grupo-classe: 1901). | E10: 339030-07 | F10: Longuiru | G10: Litro | H10: 20 | I10: 20 | J10: 1.94 | L10: =K10-(SUM(N10:Y10)) -> 0 | M10: =IF(L10<0,"ATENÇÃO","OK") -> OK | N10: 0 | O10: 0 | P10: 0 | Q10: 0 | R10: 0 | S10: 0 | T10: 0 | U10: 0 | V10: 0 | W10: 0 | X10: 0 | Y10: 0
C11: 8 | D11: LEITE DESNATADO, EMBALAGEM LONGA VIDA COM 01 LITRO * Leite de vaca, desnatado, (UHT) pasteurizado em ultra/altas temperaturas, embalagem em caixa tipo longa vida longa vida, com 1.000ml, devidamente rotuladas conforme legislação vigente e possuir registro nos Órgãos de Inspeção Sanitária; com validade mínima de 60 dias a cada fornecimento. (Código: 00137-6 012 - Grupo-classe: 1901) | E11: 339030-07 | F11: Piracanjuba | G11: Litro | H11: 20 | I11: 20 | J11: 1.82 | L11: =K11-(SUM(N11:Y11)) -> 0 | M11: =IF(L11<0,"ATENÇÃO","OK") -> OK | N11: 0 | O11: 0 | P11: 0 | Q11: 0 | R11: 0 | S11: 0 | T11: 0 | U11: 0 | V11: 0 | W11: 0 | X11: 0 | Y11: 0
C12: 9 | D12: LEITE SEMI-DESNATADO, ESTERELIZADO, TIPO LONGA VIDA * Leite de vaca, semi-desnatado, (UHT) pasteurizado em ultra/altas temperaturas, embalagem em caixa tipo longa vida longa vida, com 1.000ml, devidamente rotuladas conforme legislação vigente e possuir registro nos Órgãos de Inspeção Sanitária; com validade mínima de 60 dias a cada fornecimento. (Código: 00137-6 023 - Grupo-classe: 1901) | E12: 339030-07 | F12: Piracanjuba | G12: Litro | H12: 20 | I12: 20 | J12: 1.84 | L12: =K12-(SUM(N12:Y12)) -> 0 | M12: =IF(L12<0,"ATENÇÃO","OK") -> OK | N12: 0 | O12: 0 | P12: 0 | Q12: 0 | R12: 0 | S12: 0 | T12: 0 | U12: 0 | V12: 0 | W12: 0 | X12: 0 | Y12: 0

Sheet CEART
A1: PROCESSO: 003/2014/SEA | D1: OBJETO: Aquisição de café, leite, açucar e água. | K1: VIGÊNCIA DA ATA: 21/02/2014 até 21/02/2015 | N1: AF nº 283/2014 | O1: AF nº 695/2014 | P1: AF 1313/2014 | Q1: AF 1323/2014 | R1: AF 1322/2014 | S1: AF/OS nº xxxx/2014 Qtde. DT | T1: AF/OS nº xxxx/2014 Qtde. DT | U1: AF/OS nº xxxx/2014 Qtde. DT | V1: AF/OS nº xxxx/2014 Qtde. DT | W1: AF/OS nº xxxx/2014 Qtde. DT | X1: AF/OS nº xxxx/2014 Qtde. DT | Y1: AF/OS nº xxxx/2014 Qtde. DT
A2: CENTRO PARTICIPANTE: CEART - Região Grande Florianópolis
A3: FORNECEDOR | B3: LOTE | C3: ITEM | D3: PRODUTO - CARACTERÍSTICAS MÍNIMAS | E3: ELEMENTO | F3: MARCA | G3: UNIDADE | H3: Entrega (Dias) | I3: Pagto. (Dias) | J3: Preço UNITÁRIO (R$) | K3: Qtde LICITADA | L3: Saldo / Automático | M3: ALERTA | N3: 41732 | O3: 41828 | P3: 41901 | Q3: 41904 | R3: 41904 | S3: ...../...../...... | T3: ...../...../...... | U3: ...../...../...... | V3: ...../...../...... | W3: ...../...../...... | X3: ...../...../...... | Y3: ...../...../......
A4: ESTANCIA HIDROMINERAL SANTA RITA DE CASSIA LTDA | B4: I | C4: 1 | D4: AGUA MINERAL S/GAS, BOMBONA C/ 20 LITROS * Água mineral, potável, natural, sem gás, com validade mínima de 3 (três) meses a cada fornecimento, envasada em garrafão de 20 litros PET (politereftalato de etileno), com cessão gratuita (comodato) de garrafões em quantidade suficiente para abastecimento e reposição, com vida útil máxima de 3 anos, lacrados, dentro dos padrões estabelecidos pelo Departamento Nacional de Produção Mineral - DPNPM e de acordo com a Portaria nº 470/1999, RDCs nºs 274 e 275 de 2005, RDC 23/2000 e RDC 27/2010, da ANVISA-MS. Rotulo com carimbo de aprovação ou numero do processo do DNPM, contendo, no mínimo, nome da fonte e da empresa envasadora, seu CNPJ, Município, Estado, numero do lote, composição química, características físico-químicas, nome do laboratório, numero e data da analise da água, volume, data de envasamento, validade e a expressão "Não contem glúten" com impressão indelével, devendo obedecer a Portaria 387/2008 DNPM, especificações da ANVISA (Resolução nº 105/99 e suas atualizações), e normas da ABNT NMR 14222, 14328 e 14638. (Código: 00142-2 015 - Grupo-classe: 1903). | E4: 339030-07 | F4: Santa Rita | G4: Peça | H4: 20 | I4: 20 | J4: 4.56 | K4: 800 | L4: =K4-(SUM(N4:Y4)) -> 700 | M4: =IF(L4<0,"ATENÇÃO","OK") -> OK | N4: 0 | O4: 0 | P4: 100 | S4: 0 | T4: 0 | U4: 0 | V4: 0 | W4: 0 | X4: 0 | Y4: 0
C5: 2 | D5: AGUA MINERAL NATURAL C/ GAS (EMB. DESCARTAVEL 500ML) Água mineral, natural, potável, com gás, envasada em garrafa PET (politereftalato de etileno) descartável com 500ml, lacrados, dentro dos padrões estabelecidos pelo Departamento Nacional de Produção Mineral-DNPM e de acordo com a Portaria nº 470/1999, RDCs nºs 274 e 275 de 2005, RDC 23/2000 e RDC 27/2010, da ANVISA-MS, acondicionadas em fardo com 12 unidades, e com validade mínima de 6 (seis) meses a cada fornecimento. Rotulo com carimbo de aprovação ou numero do processo do DNPM, contendo, no mínimo, nome da fonte e da empresa envasadora, seu CNPJ, Município, Estado, numero do lote, composição química, características físico-químicas, nome do laboratório, numero e data da analise da água, volume, data de envasamento e validade e a expressão "Não contem glúten" com impressão indelével. (Código: 00142-2 002 - Grupo-classe: 1903) | E5: 339030-07 | F5: Santa Rita | G5: Peça | H5: 20 | I5: 20 | J5: 0.66 | K5: 1200 | L5: =K5-(SUM(N5:Y5)) -> 1000 | M5: =IF(L5<0,"ATENÇÃO","OK") -> OK | N5: 0 | O5: 100 | Q5: 100 | S5: 0 | T5: 0 | U5: 0 | V5: 0 | W5: 0 | X5: 0 | Y5: 0
C6: 3 | D6: AGUA MINERAL NATURAL S/ GAS (EMB. DESCARTAVEL C/ 500ML) Água mineral natural, potável, sem gás, envasada em garrafa PET (politereftalato de etileno) descartável com 500ml, lacrados, dentro dos padrões estabelecidos pelo Departamento Nacional de Produção Mineral-DNPM e de acordo com a Portaria nº 470/1999, RDCs nºs 274 e 275 de 2005, RDC 23/2000 e RDC 27/2010, da ANVISA-MS, acondicionadas em fardo com 12 unidades, e com validade mínima de mínima de 6 (seis) meses a cada fornecimento. Rotulagem: Rotulo com carimbo de aprovação ou numero do processo do DNPM, contendo, no mínimo, nome da fonte, e da empresa envasadora, seu CNPJ, Município, Estado, numero do lote, composição química, características físico - químicas, nome do laboratório, numero e data da analise da água, volume, data de envasamento e validade e a expressão "Não contem glúten" com impressão indelével. (Código: 00142-2 003 - Grupo-classe: 1903). | E6: 339030-07 | F6: Santa Rita | G6: Peça | H6: 20 | I6: 20 | J6: 0.61 | K6: 24000 | L6: =K6-(SUM(N6:Y6)) -> 23500 | M6: =IF(L6<0,"ATENÇÃO","OK") -> OK | N6: 200 | O6: 0 | R6: 300 | S6: 0 | T6: 0 | U6: 0 | V6: 0 | W6: 0 | X6: 0 | Y6: 0
C7: 4 | D7: AGUA MINERAL SEM GÁS, EM COPO DE 200ML. Água mineral, sem gás, em copo de 200ml, obtida diretamente de fontes naturais, envasada dentro dos padrões estabelecidos pelo Departamento Nacional de Produção Mineral-DNPM e de acordo com a Portaria nº 470/1999, RDCs nºs 274 e 275 de 2005, RDC 23/2000 e RDC 27/2010, da ANVISA-MS. Apresentação: A água devera apresentar-se límpida, sem flocos em deposito ou corpos estranhos e com validade mínima de 6 (seis) meses a cada fornecimento. Apresentação: Embalada em copo, fabricado em plástico resistente, com tampa lacrada, com rotulo intacto, sem vazamentos, manchas, odores, furos, fissuras ou amassados, acondicionados em caixas resistentes com 48 unidades. Rotulo com carimbo de aprovação ou numero do processo do DNPM, contendo, no mínimo, nome da fonte e da empresa envasadora, seu CNPJ, Município, Estado, numero do lote, composição química, características físico-químicas, nome do laboratório, numero e data da analise da água, volume, data de envasamento e validade e a expressão "Não contem glúten" com impressão indelével. (Código: 10301-2 009 - Grupo-classe: 1903). | E7: 339030-07 | F7: Santa Rita | G7: Peça | H7: 20 | I7: 20 | J7: 0.27 | L7: =K7-(SUM(N7:Y7)) -> 0 | M7: =IF(L7<0,"ATENÇÃO","OK") -> OK | N7: 0 | O7: 0 | S7: 0 | T7: 0 | U7: 0 | V7: 0 | W7: 0 | X7: 0 | Y7: 0
A8: JJ MATTOS INDUSTRIA E COMERCIO DE CAFÉ LTDA | B8: II | C8: 5 | D8: CAFE TORRADO E MOIDO EMB. A VACUO PRENSADO EMB.500G Café torrado e moído emb. a vácuo prensado emb. 500g, em pó, homogêneo, torrado e moído, categoria do tipo SUPERIOR, constituído com predominância de grãos de café arábica. Características sensoriais: fragrância: marcante; aroma: característico, marcante; acidez: baixa a moderada; amargor: moderado; sabor: característico e equilibrado; sabor residual: bom, duradouro; defeitos: pouca interferência; adstringência: baixa; corpo: razoavelmente encorpado; qualidade da bebida: dura a melhor; qualidade global: razoavelmente bom a bom, com embalagem vácuo-puro. Com fabricação de no máximo de 30 (trinta) dias antes da data de entrega. Prazo de validade do produto de no mínimo de 12 (doze) meses. O café deverá ter, além da embalagem vácuo-puro, embalagem individual de cartolina, que deverá estar acondicionada em caixa de papelão, com 05 ou 10 kg cada, identificação da categoria do café, lote, prazo de validade e demais informações de acordo com exigências legais vigentes que tratam das embalagens e rotulagens e, que atenda ao padrão de identidade e qualidade (com nota de qualidade global da bebida, igual ou maior que 6,0 (seis) pontos e demais condições estabelecidas de acordo com a legislação vigente. (Decreto Federal n.º 27.173, de 14/09/1949, e Portaria INMETRO nº 157, de 19/08/2002), Portaria 377, de 26/04/1999, IN nº 8 de 11/06/2003 e, IN nº 16, de 24/05/2010 do MAPA, Resoluções: RDC nº 277, de 22/09/05, RDC nº 175, de 08/07/03, RDC nº 259/02, RDC nº 12, de 02/01/01, RDC 123, de 13/025/2004, RDC 259 de 20/09/2002, da ANVISA, e, Resoluções SAA-28, de 01/06/2007 e, SAA-30, de 22/06/2007). Código: 00144-9 005. Grupo - Classe 1903). | E8: 339030-07 | F8: Jurere Superior | G8: Kg | H8: 20 | I8: 20 | J8: 8.5 | K8: 400 | L8: =K8-(SUM(N8:Y8)) -> 400 | M8: =IF(L8<0,"ATENÇÃO","OK") -> OK | N8: 0 | O8: 0 | S8: 0 | T8: 0 | U8: 0 | V8: 0 | W8: 0 | X8: 0 | Y8: 0
A9: TARCIANE LOHN BOECHATT EPP | B9: III | C9: 6 | D9: ACUCAR REFINADO (EMB. C/ 1KG) * Açúcar (embalagem com 01 kg.), refinado de origem vegetal, constituído fundamentalmente por sacarose de cana-de-açúcar, com alto teor de pureza com relação à sacarose, aspecto sólido amorfo, Cor: branca, para utilização em alimentação humana, com validade de 01 (um) ano a cada fornecimento. (Código 00141-4 002 -Grupo-classe1903). | E9: 339030-07 | F9: Caravelas | G9: Kg | H9: 20 | I9: 20 | J9: 1.61 | K9: 400 | L9: =K9-(SUM(N9:Y9)) -> 400 | M9: =IF(L9<0,"ATENÇÃO","OK") -> OK | N9: 0 | O9: 0 | P9: 0 | Q9: 0 | R9: 0 | S9: 0 | T9: 0 | U9: 0 | V9: 0 | W9: 0 | X9: 0 | Y9: 0
A10: TARCIANE LOHN BOECHATT EPP | B10: IV | C10: 7 | D10: LEITE DE VACA INTEGRAL, EMBALAGEM LONGA VIDA C/1000ML * Leite de vaca, integral, (UHT) pasteurizado em ultra/altas temperaturas, embalagem em caixa tipo longa vida longa vida, com 1.000ml, devidamente rotuladas conforme legislação vigente e possuir registro nos Órgãos de Inspeção Sanitária; com validade mínima de 60 dias a cada fornecimento. (Código: 00137-6 011 - Grupo-classe: 1901). | E10: 339030-07 | F10: Longuiru | G10: Litro | H10: 20 | I10: 20 | J10: 1.94 | L10: =K10-(SUM(N10:Y10)) -> 0 | M10: =IF(L10<0,"ATENÇÃO","OK") -> OK | N10: 0 | O10: 0 | P10: 0 | Q10: 0 | R10: 0 | S10: 0 | T10: 0 | U10: 0 | V10: 0 | W10: 0 | X10: 0 | Y10: 0
C11: 8 | D11: LEITE DESNATADO, EMBALAGEM LONGA VIDA COM 01 LITRO * Leite de vaca, desnatado, (UHT) pasteurizado em ultra/altas temperaturas, embalagem em caixa tipo longa vida longa vida, com 1.000ml, devidamente rotuladas conforme legislação vigente e possuir registro nos Órgãos de Inspeção Sanitária; com validade mínima de 60 dias a cada fornecimento. (Código: 00137-6 012 - Grupo-classe: 1901) | E11: 339030-07 | F11: Piracanjuba | G11: Litro | H11: 20 | I11: 20 | J11: 1.82 | L11: =K11-(SUM(N11:Y11)) -> 0 | M11: =IF(L11<0,"ATENÇÃO","OK") -> OK | N11: 0 | O11: 0 | P11: 0 | Q11: 0 | R11: 0 | S11: 0 | T11: 0 | U11: 0 | V11: 0 | W11: 0 | X11: 0 | Y11: 0
C12: 9 | D12: LEITE SEMI-DESNATADO, ESTERELIZADO, TIPO LONGA VIDA * Leite de vaca, semi-desnatado, (UHT) pasteurizado em ultra/altas temperaturas, embalagem em caixa tipo longa vida longa vida, com 1.000ml, devidamente rotuladas conforme legislação vigente e possuir registro nos Órgãos de Inspeção Sanitária; com validade mínima de 60 dias a cada fornecimento. (Código: 00137-6 023 - Grupo-classe: 1901) | E12: 339030-07 | F12: Piracanjuba | G12: Litro | H12: 20 | I12: 20 | J12: 1.84 | L12: =K12-(SUM(N12:Y12)) -> 0 | M12: =IF(L12<0,"ATENÇÃO","OK") -> OK | N12: 0 | O12: 0 | P12: 0 | Q12: 0 | R12: 0 | S12: 0 | T12: 0 | U12: 0 | V12: 0 | W12: 0 | X12: 0 | Y12: 0

Sheet FAED
A1: PROCESSO: 003/2014/SEA | D1: OBJETO: Aquisição de café, leite, açucar e água. | K1: VIGÊNCIA DA ATA: 21/02/2014 até 21/02/2015 | N1: AF nº 554/2014 Qtde. DT | O1: AF nº 896/2014 Qtde. DT | P1: AF nº 1160/2014 Qtde. DT | Q1: AF nº 1330/2014 Qtde. DT | R1: AF/OS nº xxxx/2014 Qtde. DT | S1: AF/OS nº xxxx/2014 Qtde. DT | T1: AF/OS nº xxxx/2014 Qtde. DT | U1: AF/OS nº xxxx/2014 Qtde. DT | V1: AF/OS nº xxxx/2014 Qtde. DT | W1: AF/OS nº xxxx/2014 Qtde. DT | X1: AF/OS nº xxxx/2014 Qtde. DT | Y1: AF/OS nº xxxx/2014 Qtde. DT
A2: CENTRO PARTICIPANTE: FAED - Região Grande Florianópolis
A3: FORNECEDOR | B3: LOTE | C3: ITEM | D3: PRODUTO - CARACTERÍSTICAS MÍNIMAS | E3: ELEMENTO | F3: MARCA | G3: UNIDADE | H3: Entrega (Dias) | I3: Pagto. (Dias) | J3: Preço UNITÁRIO (R$) | K3: Qtde LICITADA | L3: Saldo / Automático | M3: ALERTA | N3: ...../...../...... | O3: ...../...../...... | P3: ...../...../...... | Q3: ...../...../...... | R3: ...../...../...... | S3: ...../...../...... | T3: ...../...../...... | U3: ...../...../...... | V3: ...../...../...... | W3: ...../...../...... | X3: ...../...../...... | Y3: ...../...../......
A4: ESTANCIA HIDROMINERAL SANTA RITA DE CASSIA LTDA | B4: I | C4: 1 | D4: AGUA MINERAL S/GAS, BOMBONA C/ 20 LITROS * Água mineral, potável, natural, sem gás, com validade mínima de 3 (três) meses a cada fornecimento, envasada em garrafão de 20 litros PET (politereftalato de etileno), com cessão gratuita (comodato) de garrafões em quantidade suficiente para abastecimento e reposição, com vida útil máxima de 3 anos, lacrados, dentro dos padrões estabelecidos pelo Departamento Nacional de Produção Mineral - DPNPM e de acordo com a Portaria nº 470/1999, RDCs nºs 274 e 275 de 2005, RDC 23/2000 e RDC 27/2010, da ANVISA-MS. Rotulo com carimbo de aprovação ou numero do processo do DNPM, contendo, no mínimo, nome da fonte e da empresa envasadora, seu CNPJ, Município, Estado, numero do lote, composição química, características físico-químicas, nome do laboratório, numero e data da analise da água, volume, data de envasamento, validade e a expressão "Não contem glúten" com impressão indelével, devendo obedecer a Portaria 387/2008 DNPM, especificações da ANVISA (Resolução nº 105/99 e suas atualizações), e normas da ABNT NMR 14222, 14328 e 14638. (Código: 00142-2 015 - Grupo-classe: 1903). | E4: 339030-07 | F4: Santa Rita | G4: Peça | H4: 20 | I4: 20 | J4: 4.56 | K4: 800 | L4: =K4-(SUM(N4:Y4)) -> 550 | M4: =IF(L4<0,"ATENÇÃO","OK") -> OK | N4: 200 | O4: 0 | P4: 0 | Q4: 50 | R4: 0 | S4: 0 | T4: 0 | U4: 0 | V4: 0 | W4: 0 | X4: 0 | Y4: 0
C5: 2 | D5: AGUA MINERAL NATURAL C/ GAS (EMB. DESCARTAVEL 500ML) Água mineral, natural, potável, com gás, envasada em garrafa PET (politereftalato de etileno) descartável com 500ml, lacrados, dentro dos padrões estabelecidos pelo Departamento Nacional de Produção Mineral-DNPM e de acordo com a Portaria nº 470/1999, RDCs nºs 274 e 275 de 2005, RDC 23/2000 e RDC 27/2010, da ANVISA-MS, acondicionadas em fardo com 12 unidades, e com validade mínima de 6 (seis) meses a cada fornecimento. Rotulo com carimbo de aprovação ou numero do processo do DNPM, contendo, no mínimo, nome da fonte e da empresa envasadora, seu CNPJ, Município, Estado, numero do lote, composição química, características físico-químicas, nome do laboratório, numero e data da analise da água, volume, data de envasamento e validade e a expressão "Não contem glúten" com impressão indelével. (Código: 00142-2 002 - Grupo-classe: 1903) | E5: 339030-07 | F5: Santa Rita | G5: Peça | H5: 20 | I5: 20 | J5: 0.66 | K5: 250 | L5: =K5-(SUM(N5:Y5)) -> 70 | M5: =IF(L5<0,"ATENÇÃO","OK") -> OK | N5: 0 | O5: 120 | P5: 0 | Q5: 60 | R5: 0 | S5: 0 | T5: 0 | U5: 0 | V5: 0 | W5: 0 | X5: 0 | Y5: 0
C6: 3 | D6: AGUA MINERAL NATURAL S/ GAS (EMB. DESCARTAVEL C/ 500ML) Água mineral natural, potável, sem gás, envasada em garrafa PET (politereftalato de etileno) descartável com 500ml, lacrados, dentro dos padrões estabelecidos pelo Departamento Nacional de Produção Mineral-DNPM e de acordo com a Portaria nº 470/1999, RDCs nºs 274 e 275 de 2005, RDC 23/2000 e RDC 27/2010, da ANVISA-MS, acondicionadas em fardo com 12 unidades, e com validade mínima de mínima de 6 (seis) meses a cada fornecimento. Rotulagem: Rotulo com carimbo de aprovação ou numero do processo do DNPM, contendo, no mínimo, nome da fonte, e da empresa envasadora, seu CNPJ, Município, Estado, numero do lote, composição química, características físico - químicas, nome do laboratório, numero e data da analise da água, volume, data de envasamento e validade e a expressão "Não contem glúten" com impressão indelével. (Código: 00142-2 003 - Grupo-classe: 1903). | E6: 339030-07 | F6: Santa Rita | G6: Peça | H6: 20 | I6: 20 | J6: 0.61 | K6: 1800 | L6: =K6-(SUM(N6:Y6)) -> 1320 | M6: =IF(L6<0,"ATENÇÃO","OK") -> OK | N6: 240 | O6: 0 | P6: 240 | Q6: 0 | R6: 0 | S6: 0 | T6: 0 | U6: 0 | V6: 0 | W6: 0 | X6: 0 | Y6: 0
C7: 4 | D7: AGUA MINERAL SEM GÁS, EM COPO DE 200ML. Água mineral, sem gás, em copo de 200ml, obtida diretamente de fontes naturais, envasada dentro dos padrões estabelecidos pelo Departamento Nacional de Produção Mineral-DNPM e de acordo com a Portaria nº 470/1999, RDCs nºs 274 e 275 de 2005, RDC 23/2000 e RDC 27/2010, da ANVISA-MS. Apresentação: A água devera apresentar-se límpida, sem flocos em deposito ou corpos estranhos e com validade mínima de 6 (seis) meses a cada fornecimento. Apresentação: Embalada em copo, fabricado em plástico resistente, com tampa lacrada, com rotulo intacto, sem vazamentos, manchas, odores, furos, fissuras ou amassados, acondicionados em caixas resistentes com 48 unidades. Rotulo com carimbo de aprovação ou numero do processo do DNPM, contendo, no mínimo, nome da fonte e da empresa envasadora, seu CNPJ, Município, Estado, numero do lote, composição química, características físico-químicas, nome do laboratório, numero e data da analise da água, volume, data de envasamento e validade e a expressão "Não contem glúten" com impressão indelével. (Código: 10301-2 009 - Grupo-classe: 1903). | E7: 339030-07 | F7: Santa Rita | G7: Peça | H7: 20 | I7: 20 | J7: 0.27 | L7: =K7-(SUM(N7:Y7)) -> 0 | M7: =IF(L7<0,"ATENÇÃO","OK") -> OK | N7: 0 | O7: 0 | P7: 0 | Q7: 0 | R7: 0 | S7: 0 | T7: 0 | U7: 0 | V7: 0 | W7: 0 | X7: 0 | Y7: 0
A8: JJ MATTOS INDUSTRIA E COMERCIO DE CAFÉ LTDA | B8: II | C8: 5 | D8: CAFE TORRADO E MOIDO EMB. A VACUO PRENSADO EMB.500G Café torrado e moído emb. a vácuo prensado emb. 500g, em pó, homogêneo, torrado e moído, categoria do tipo SUPERIOR, constituído com predominância de grãos de café arábica. Características sensoriais: fragrância: marcante; aroma: característico, marcante; acidez: baixa a moderada; amargor: moderado; sabor: característico e equilibrado; sabor residual: bom, duradouro; defeitos: pouca interferência; adstringência: baixa; corpo: razoavelmente encorpado; qualidade da bebida: dura a melhor; qualidade global: razoavelmente bom a bom, com embalagem vácuo-puro. Com fabricação de no máximo de 30 (trinta) dias antes da data de entrega. Prazo de validade do produto de no mínimo de 12 (doze) meses. O café deverá ter, além da embalagem vácuo-puro, embalagem individual de cartolina, que deverá estar acondicionada em caixa de papelão, com 05 ou 10 kg cada, identificação da categoria do café, lote, prazo de validade e demais informações de acordo com exigências legais vigentes que tratam das embalagens e rotulagens e, que atenda ao padrão de identidade e qualidade (com nota de qualidade global da bebida, igual ou maior que 6,0 (seis) pontos e demais condições estabelecidas de acordo com a legislação vigente. (Decreto Federal n.º 27.173, de 14/09/1949, e Portaria INMETRO nº 157, de 19/08/2002), Portaria 377, de 26/04/1999, IN nº 8 de 11/06/2003 e, IN nº 16, de 24/05/2010 do MAPA, Resoluções: RDC nº 277, de 22/09/05, RDC nº 175, de 08/07/03, RDC nº 259/02, RDC nº 12, de 02/01/01, RDC 123, de 13/025/2004, RDC 259 de 20/09/2002, da ANVISA, e, Resoluções SAA-28, de 01/06/2007 e, SAA-30, de 22/06/2007). Código: 00144-9 005. Grupo - Classe 1903). | E8: 339030-07 | F8: Jurere Superior | G8: Kg | H8: 20 | I8: 20 | J8: 8.5 | K8: 650 | L8: =K8-(SUM(N8:Y8)) -> 650 | M8: =IF(L8<0,"ATENÇÃO","OK") -> OK | N8: 0 | O8: 0 | P8: 0 | Q8: 0 | R8: 0 | S8: 0 | T8: 0 | U8: 0 | V8: 0 | W8: 0 | X8: 0 | Y8: 0
A9: TARCIANE LOHN BOECHATT EPP | B9: III | C9: 6 | D9: ACUCAR REFINADO (EMB. C/ 1KG) * Açúcar (embalagem com 01 kg.), refinado de origem vegetal, constituído fundamentalmente por sacarose de cana-de-açúcar, com alto teor de pureza com relação à sacarose, aspecto sólido amorfo, Cor: branca, para utilização em alimentação humana, com validade de 01 (um) ano a cada fornecimento. (Código 00141-4 002 -Grupo-classe1903). | E9: 339030-07 | F9: Caravelas | G9: Kg | H9: 20 | I9: 20 | J9: 1.61 | K9: 850 | L9: =K9-(SUM(N9:Y9)) -> 850 | M9: =IF(L9<0,"ATENÇÃO","OK") -> OK | N9: 0 | O9: 0 | P9: 0 | Q9: 0 | R9: 0 | S9: 0 | T9: 0 | U9: 0 | V9: 0 | W9: 0 | X9: 0 | Y9: 0
A10: TARCIANE LOHN BOECHATT EPP | B10: IV | C10: 7 | D10: LEITE DE VACA INTEGRAL, EMBALAGEM LONGA VIDA C/1000ML * Leite de vaca, integral, (UHT) pasteurizado em ultra/altas temperaturas, embalagem em caixa tipo longa vida longa vida, com 1.000ml, devidamente rotuladas conforme legislação vigente e possuir registro nos Órgãos de Inspeção Sanitária; com validade mínima de 60 dias a cada fornecimento. (Código: 00137-6 011 - Grupo-classe: 1901). | E10: 339030-07 | F10: Longuiru | G10: Litro | H10: 20 | I10: 20 | J10: 1.94 | L10: =K10-(SUM(N10:Y10)) -> 0 | M10: =IF(L10<0,"ATENÇÃO","OK") -> OK | N10: 0 | O10: 0 | P10: 0 | Q10: 0 | R10: 0 | S10: 0 | T10: 0 | U10: 0 | V10: 0 | W10: 0 | X10: 0 | Y10: 0
C11: 8 | D11: LEITE DESNATADO, EMBALAGEM LONGA VIDA COM 01 LITRO * Leite de vaca, desnatado, (UHT) pasteurizado em ultra/altas temperaturas, embalagem em caixa tipo longa vida longa vida, com 1.000ml, devidamente rotuladas conforme legislação vigente e possuir registro nos Órgãos de Inspeção Sanitária; com validade mínima de 60 dias a cada fornecimento. (Código: 00137-6 012 - Grupo-classe: 1901) | E11: 339030-07 | F11: Piracanjuba | G11: Litro | H11: 20 | I11: 20 | J11: 1.82 | L11: =K11-(SUM(N11:Y11)) -> 0 | M11: =IF(L11<0,"ATENÇÃO","OK") -> OK | N11: 0 | O11: 0 | P11: 0 | Q11: 0 | R11: 0 | S11: 0 | T11: 0 | U11: 0 | V11: 0 | W11: 0 | X11: 0 | Y11: 0
C12: 9 | D12: LEITE SEMI-DESNATADO, ESTERELIZADO, TIPO LONGA VIDA * Leite de vaca, semi-desnatado, (UHT) pasteurizado em ultra/altas temperaturas, embalagem em caixa tipo longa vida longa vida, com 1.000ml, devidamente rotuladas conforme legislação vigente e possuir registro nos Órgãos de Inspeção Sanitária; com validade mínima de 60 dias a cada fornecimento. (Código: 00137-6 023 - Grupo-classe: 1901) | E12: 339030-07 | F12: Piracanjuba | G12: Litro | H12: 20 | I12: 20 | J12: 1.84 | L12: =K12-(SUM(N12:Y12)) -> 0 | M12: =IF(L12<0,"ATENÇÃO","OK") -> OK | N12: 0 | O12: 0 | P12: 0 | Q12: 0 | R12: 0 | S12: 0 | T12: 0 | U12: 0 | V12: 0 | W12: 0 | X12: 0 | Y12: 0

Sheet CEAD
A1: PROCESSO: 003/2014/SEA | D1: OBJETO: Aquisição de café, leite, açucar e água. | K1: VIGÊNCIA DA ATA: 21/02/2014 até 21/02/2015 | N1: AF/OS nº xxxx/2014 Qtde. DT | O1: AF/OS nº xxxx/2014 Qtde. DT | P1: AF/OS nº xxxx/2014 Qtde. DT | Q1: AF/OS nº xxxx/2014 Qtde. DT | R1: AF/OS nº xxxx/2014 Qtde. DT | S1: AF/OS nº xxxx/2014 Qtde. DT | T1: AF/OS nº xxxx/2014 Qtde. DT | U1: AF/OS nº xxxx/2014 Qtde. DT | V1: AF/OS nº xxxx/2014 Qtde. DT | W1: AF/OS nº xxxx/2014 Qtde. DT | X1: AF/OS nº xxxx/2014 Qtde. DT | Y1: AF/OS nº xxxx/2014 Qtde. DT
A2: CENTRO PARTICIPANTE: CEAD - Região Grande Florianópolis
A3: FORNECEDOR | B3: LOTE | C3: ITEM | D3: PRODUTO - CARACTERÍSTICAS MÍNIMAS | E3: ELEMENTO | F3: MARCA | G3: UNIDADE | H3: Entrega (Dias) | I3: Pagto. (Dias) | J3: Preço UNITÁRIO (R$) | K3: Qtde LICITADA | L3: Saldo / Automático | M3: ALERTA | N3: ...../...../...... | O3: ...../...../...... | P3: ...../...../...... | Q3: ...../...../...... | R3: ...../...../...... | S3: ...../...../...... | T3: ...../...../...... | U3: ...../...../...... | V3: ...../...../...... | W3: ...../...../...... | X3: ...../...../...... | Y3: ...../...../......
A4: ESTANCIA HIDROMINERAL SANTA RITA DE CASSIA LTDA | B4: I | C4: 1 | D4: AGUA MINERAL S/GAS, BOMBONA C/ 20 LITROS * Água mineral, potável, natural, sem gás, com validade mínima de 3 (três) meses a cada fornecimento, envasada em garrafão de 20 litros PET (politereftalato de etileno), com cessão gratuita (comodato) de garrafões em quantidade suficiente para abastecimento e reposição, com vida útil máxima de 3 anos, lacrados, dentro dos padrões estabelecidos pelo Departamento Nacional de Produção Mineral - DPNPM e de acordo com a Portaria nº 470/1999, RDCs nºs 274 e 275 de 2005, RDC 23/2000 e RDC 27/2010, da ANVISA-MS. Rotulo com carimbo de aprovação ou numero do processo do DNPM, contendo, no mínimo, nome da fonte e da empresa envasadora, seu CNPJ, Município, Estado, numero do lote, composição química, características físico-químicas, nome do laboratório, numero e data da analise da água, volume, data de envasamento, validade e a expressão "Não contem glúten" com impressão indelével, devendo obedecer a Portaria 387/2008 DNPM, especificações da ANVISA (Resolução nº 105/99 e suas atualizações), e normas da ABNT NMR 14222, 14328 e 14638. (Código: 00142-2 015 - Grupo-classe: 1903). | E4: 339030-07 | F4: Santa Rita | G4: Peça | H4: 20 | I4: 20 | J4: 4.56 | K4: 600 | L4: =K4-(SUM(N4:Y4)) -> 600 | M4: =IF(L4<0,"ATENÇÃO","OK") -> OK | O4: 0 | P4: 0 | Q4: 0 | R4: 0 | S4: 0 | T4: 0 | U4: 0 | V4: 0 | W4: 0 | X4: 0 | Y4: 0
C5: 2 | D5: AGUA MINERAL NATURAL C/ GAS (EMB. DESCARTAVEL 500ML) Água mineral, natural, potável, com gás, envasada em garrafa PET (politereftalato de etileno) descartável com 500ml, lacrados, dentro dos padrões estabelecidos pelo Departamento Nacional de Produção Mineral-DNPM e de acordo com a Portaria nº 470/1999, RDCs nºs 274 e 275 de 2005, RDC 23/2000 e RDC 27/2010, da ANVISA-MS, acondicionadas em fardo com 12 unidades, e com validade mínima de 6 (seis) meses a cada fornecimento. Rotulo com carimbo de aprovação ou numero do processo do DNPM, contendo, no mínimo, nome da fonte e da empresa envasadora, seu CNPJ, Município, Estado, numero do lote, composição química, características físico-químicas, nome do laboratório, numero e data da analise da água, volume, data de envasamento e validade e a expressão "Não contem glúten" com impressão indelével. (Código: 00142-2 002 - Grupo-classe: 1903) | E5: 339030-07 | F5: Santa Rita | G5: Peça | H5: 20 | I5: 20 | J5: 0.66 | K5: 1400 | L5: =K5-(SUM(N5:Y5)) -> 1400 | M5: =IF(L5<0,"ATENÇÃO","OK") -> OK | P5: 0 | Q5: 0 | R5: 0 | S5: 0 | T5: 0 | U5: 0 | V5: 0 | W5: 0 | X5: 0 | Y5: 0
C6: 3 | D6: AGUA MINERAL NATURAL S/ GAS (EMB. DESCARTAVEL C/ 500ML) Água mineral natural, potável, sem gás, envasada em garrafa PET (politereftalato de etileno) descartável com 500ml, lacrados, dentro dos padrões estabelecidos pelo Departamento Nacional de Produção Mineral-DNPM e de acordo com a Portaria nº 470/1999, RDCs nºs 274 e 275 de 2005, RDC 23/2000 e RDC 27/2010, da ANVISA-MS, acondicionadas em fardo com 12 unidades, e com validade mínima de mínima de 6 (seis) meses a cada fornecimento. Rotulagem: Rotulo com carimbo de aprovação ou numero do processo do DNPM, contendo, no mínimo, nome da fonte, e da empresa envasadora, seu CNPJ, Município, Estado, numero do lote, composição química, características físico - químicas, nome do laboratório, numero e data da analise da água, volume, data de envasamento e validade e a expressão "Não contem glúten" com impressão indelével. (Código: 00142-2 003 - Grupo-classe: 1903). | E6: 339030-07 | F6: Santa Rita | G6: Peça | H6: 20 | I6: 20 | J6: 0.61 | K6: 1700 | L6: =K6-(SUM(N6:Y6)) -> 1700 | M6: =IF(L6<0,"ATENÇÃO","OK") -> OK | O6: 0 | P6: 0 | Q6: 0 | R6: 0 | S6: 0 | T6: 0 | U6: 0 | V6: 0 | W6: 0 | X6: 0 | Y6: 0
C7: 4 | D7: AGUA MINERAL SEM GÁS, EM COPO DE 200ML. Água mineral, sem gás, em copo de 200ml, obtida diretamente de fontes naturais, envasada dentro dos padrões estabelecidos pelo Departamento Nacional de Produção Mineral-DNPM e de acordo com a Portaria nº 470/1999, RDCs nºs 274 e 275 de 2005, RDC 23/2000 e RDC 27/2010, da ANVISA-MS. Apresentação: A água devera apresentar-se límpida, sem flocos em deposito ou corpos estranhos e com validade mínima de 6 (seis) meses a cada fornecimento. Apresentação: Embalada em copo, fabricado em plástico resistente, com tampa lacrada, com rotulo intacto, sem vazamentos, manchas, odores, furos, fissuras ou amassados, acondicionados em caixas resistentes com 48 unidades. Rotulo com carimbo de aprovação ou numero do processo do DNPM, contendo, no mínimo, nome da fonte e da empresa envasadora, seu CNPJ, Município, Estado, numero do lote, composição química, características físico-químicas, nome do laboratório, numero e data da analise da água, volume, data de envasamento e validade e a expressão "Não contem glúten" com impressão indelével. (Código: 10301-2 009 - Grupo-classe: 1903). | E7: 339030-07 | F7: Santa Rita | G7: Peça | H7: 20 | I7: 20 | J7: 0.27 | L7: =K7-(SUM(N7:Y7)) -> 0 | M7: =IF(L7<0,"ATENÇÃO","OK") -> OK | N7: 0 | O7: 0 | P7: 0 | Q7: 0 | R7: 0 | S7: 0 | T7: 0 | U7: 0 | V7: 0 | W7: 0 | X7: 0 | Y7: 0
A8: JJ MATTOS INDUSTRIA E COMERCIO DE CAFÉ LTDA | B8: II | C8: 5 | D8: CAFE TORRADO E MOIDO EMB. A VACUO PRENSADO EMB.500G Café torrado e moído emb. a vácuo prensado emb. 500g, em pó, homogêneo, torrado e moído, categoria do tipo SUPERIOR, constituído com predominância de grãos de café arábica. Características sensoriais: fragrância: marcante; aroma: característico, marcante; acidez: baixa a moderada; amargor: moderado; sabor: característico e equilibrado; sabor residual: bom, duradouro; defeitos: pouca interferência; adstringência: baixa; corpo: razoavelmente encorpado; qualidade da bebida: dura a melhor; qualidade global: razoavelmente bom a bom, com embalagem vácuo-puro. Com fabricação de no máximo de 30 (trinta) dias antes da data de entrega. Prazo de validade do produto de no mínimo de 12 (doze) meses. O café deverá ter, além da embalagem vácuo-puro, embalagem individual de cartolina, que deverá estar acondicionada em caixa de papelão, com 05 ou 10 kg cada, identificação da categoria do café, lote, prazo de validade e demais informações de acordo com exigências legais vigentes que tratam das embalagens e rotulagens e, que atenda ao padrão de identidade e qualidade (com nota de qualidade global da bebida, igual ou maior que 6,0 (seis) pontos e demais condições estabelecidas de acordo com a legislação vigente. (Decreto Federal n.º 27.173, de 14/09/1949, e Portaria INMETRO nº 157, de 19/08/2002), Portaria 377, de 26/04/1999, IN nº 8 de 11/06/2003 e, IN nº 16, de 24/05/2010 do MAPA, Resoluções: RDC nº 277, de 22/09/05, RDC nº 175, de 08/07/03, RDC nº 259/02, RDC nº 12, de 02/01/01, RDC 123, de 13/025/2004, RDC 259 de 20/09/2002, da ANVISA, e, Resoluções SAA-28, de 01/06/2007 e, SAA-30, de 22/06/2007). Código: 00144-9 005. Grupo - Classe 1903). | E8: 339030-07 | F8: Jurere Superior | G8: Kg | H8: 20 | I8: 20 | J8: 8.5 | K8: 600 | L8: =K8-(SUM(N8:Y8)) -> 600 | M8: =IF(L8<0,"ATENÇÃO","OK") -> OK | N8: 0 | O8: 0 | P8: 0 | Q8: 0 | R8: 0 | S8: 0 | T8: 0 | U8: 0 | V8: 0 | W8: 0 | X8: 0 | Y8: 0
A9: TARCIANE LOHN BOECHATT EPP | B9: III | C9: 6 | D9: ACUCAR REFINADO (EMB. C/ 1KG) * Açúcar (embalagem com 01 kg.), refinado de origem vegetal, constituído fundamentalmente por sacarose de cana-de-açúcar, com alto teor de pureza com relação à sacarose, aspecto sólido amorfo, Cor: branca, para utilização em alimentação humana, com validade de 01 (um) ano a cada fornecimento. (Código 00141-4 002 -Grupo-classe1903). | E9: 339030-07 | F9: Caravelas | G9: Kg | H9: 20 | I9: 20 | J9: 1.61 | K9: 700 | L9: =K9-(SUM(N9:Y9)) -> 700 | M9: =IF(L9<0,"ATENÇÃO","OK") -> OK | N9: 0 | O9: 0 | P9: 0 | Q9: 0 | R9: 0 | S9: 0 | T9: 0 | U9: 0 | V9: 0 | W9: 0 | X9: 0 | Y9: 0
A10: TARCIANE LOHN BOECHATT EPP | B10: IV | C10: 7 | D10: LEITE DE VACA INTEGRAL, EMBALAGEM LONGA VIDA C/1000ML * Leite de vaca, integral, (UHT) pasteurizado em ultra/altas temperaturas, embalagem em caixa tipo longa vida longa vida, com 1.000ml, devidamente rotuladas conforme legislação vigente e possuir registro nos Órgãos de Inspeção Sanitária; com validade mínima de 60 dias a cada fornecimento. (Código: 00137-6 011 - Grupo-classe: 1901). | E10: 339030-07 | F10: Longuiru | G10: Litro | H10: 20 | I10: 20 | J10: 1.94 | K10: 120 | L10: =K10-(SUM(N10:Y10)) -> 120 | M10: =IF(L10<0,"ATENÇÃO","OK") -> OK | N10: 0 | O10: 0 | P10: 0 | Q10: 0 | R10: 0 | S10: 0 | T10: 0 | U10: 0 | V10: 0 | W10: 0 | X10: 0 | Y10: 0
C11: 8 | D11: LEITE DESNATADO, EMBALAGEM LONGA VIDA COM 01 LITRO * Leite de vaca, desnatado, (UHT) pasteurizado em ultra/altas temperaturas, embalagem em caixa tipo longa vida longa vida, com 1.000ml, devidamente rotuladas conforme legislação vigente e possuir registro nos Órgãos de Inspeção Sanitária; com validade mínima de 60 dias a cada fornecimento. (Código: 00137-6 012 - Grupo-classe: 1901) | E11: 339030-07 | F11: Piracanjuba | G11: Litro | H11: 20 | I11: 20 | J11: 1.82 | L11: =K11-(SUM(N11:Y11)) -> 0 | M11: =IF(L11<0,"ATENÇÃO","OK") -> OK | N11: 0 | O11: 0 | P11: 0 | Q11: 0 | R11: 0 | S11: 0 | T11: 0 | U11: 0 | V11: 0 | W11: 0 | X11: 0 | Y11: 0
C12: 9 | D12: LEITE SEMI-DESNATADO, ESTERELIZADO, TIPO LONGA VIDA * Leite de vaca, semi-desnatado, (UHT) pasteurizado em ultra/altas temperaturas, embalagem em caixa tipo longa vida longa vida, com 1.000ml, devidamente rotuladas conforme legislação vigente e possuir registro nos Órgãos de Inspeção Sanitária; com validade mínima de 60 dias a cada fornecimento. (Código: 00137-6 023 - Grupo-classe: 1901) | E12: 339030-07 | F12: Piracanjuba | G12: Litro | H12: 20 | I12: 20 | J12: 1.84 | L12: =K12-(SUM(N12:Y12)) -> 0 | M12: =IF(L12<0,"ATENÇÃO","OK") -> OK | N12: 0 | O12: 0 | P12: 0 | Q12: 0 | R12: 0 | S12: 0 | T12: 0 | U12: 0 | V12: 0 | W12: 0 | X12: 0 | Y12: 0

Sheet CEFID
A1: PROCESSO: 003/2014/SEA | D1: OBJETO: Aquisição de café, leite, açucar e água. | K1: VIGÊNCIA DA ATA: 21/02/2014 até 21/02/2015 | N1: AF/OS nº 428/2014 Qtde. DT | O1: AF/OS nº 1449/2014 Qtde. DT | P1: AF/OS nº xxxx/2014 Qtde. DT | Q1: AF/OS nº xxxx/2014 Qtde. DT | R1: AF/OS nº xxxx/2014 Qtde. DT | S1: AF/OS nº xxxx/2014 Qtde. DT | T1: AF/OS nº xxxx/2014 Qtde. DT | U1: AF/OS nº xxxx/2014 Qtde. DT | V1: AF/OS nº xxxx/2014 Qtde. DT | W1: AF/OS nº xxxx/2014 Qtde. DT | X1: AF/OS nº xxxx/2014 Qtde. DT | Y1: AF/OS nº xxxx/2014 Qtde. DT
A2: CENTRO PARTICIPANTE: CEFID - Região Grande Florianópolis
A3: FORNECEDOR | B3: LOTE | C3: ITEM | D3: PRODUTO - CARACTERÍSTICAS MÍNIMAS | E3: ELEMENTO | F3: MARCA | G3: UNIDADE | H3: Entrega (Dias) | I3: Pagto. (Dias) | J3: Preço UNITÁRIO (R$) | K3: Qtde LICITADA | L3: Saldo / Automático | M3: ALERTA | N3: 41774 | O3: 41919 | P3: ...../...../...... | Q3: ...../...../...... | R3: ...../...../...... | S3: ...../...../...... | T3: ...../...../...... | U3: ...../...../...... | V3: ...../...../...... | W3: ...../...../...... | X3: ...../...../...... | Y3: ...../...../......
A4: ESTANCIA HIDROMINERAL SANTA RITA DE CASSIA LTDA | B4: I | C4: 1 | D4: AGUA MINERAL S/GAS, BOMBONA C/ 20 LITROS * Água mineral, potável, natural, sem gás, com validade mínima de 3 (três) meses a cada fornecimento, envasada em garrafão de 20 litros PET (politereftalato de etileno), com cessão gratuita (comodato) de garrafões em quantidade suficiente para abastecimento e reposição, com vida útil máxima de 3 anos, lacrados, dentro dos padrões estabelecidos pelo Departamento Nacional de Produção Mineral - DPNPM e de acordo com a Portaria nº 470/1999, RDCs nºs 274 e 275 de 2005, RDC 23/2000 e RDC 27/2010, da ANVISA-MS. Rotulo com carimbo de aprovação ou numero do processo do DNPM, contendo, no mínimo, nome da fonte e da empresa envasadora, seu CNPJ, Município, Estado, numero do lote, composição química, características físico-químicas, nome do laboratório, numero e data da analise da água, volume, data de envasamento, validade e a expressão "Não contem glúten" com impressão indelével, devendo obedecer a Portaria 387/2008 DNPM, especificações da ANVISA (Resolução nº 105/99 e suas atualizações), e normas da ABNT NMR 14222, 14328 e 14638. (Código: 00142-2 015 - Grupo-classe: 1903). | E4: 339030-07 | F4: Santa Rita | G4: Peça | H4: 20 | I4: 20 | J4: 4.56 | K4: 3000 | L4: =K4-(SUM(N4:Y4)) -> 2100 | M4: =IF(L4<0,"ATENÇÃO","OK") -> OK | N4: 450 | O4: 450 | P4: 0 | Q4: 0 | R4: 0 | S4: 0 | T4: 0 | U4: 0 | V4: 0 | W4: 0 | X4: 0 | Y4: 0
C5: 2 | D5: AGUA MINERAL NATURAL C/ GAS (EMB. DESCARTAVEL 500ML) Água mineral, natural, potável, com gás, envasada em garrafa PET (politereftalato de etileno) descartável com 500ml, lacrados, dentro dos padrões estabelecidos pelo Departamento Nacional de Produção Mineral-DNPM e de acordo com a Portaria nº 470/1999, RDCs nºs 274 e 275 de 2005, RDC 23/2000 e RDC 27/2010, da ANVISA-MS, acondicionadas em fardo com 12 unidades, e com validade mínima de 6 (seis) meses a cada fornecimento. Rotulo com carimbo de aprovação ou numero do processo do DNPM, contendo, no mínimo, nome da fonte e da empresa envasadora, seu CNPJ, Município, Estado, numero do lote, composição química, características físico-químicas, nome do laboratório, numero e data da analise da água, volume, data de envasamento e validade e a expressão "Não contem glúten" com impressão indelével. (Código: 00142-2 002 - Grupo-classe: 1903) | E5: 339030-07 | F5: Santa Rita | G5: Peça | H5: 20 | I5: 20 | J5: 0.66 | K5: 1800 | L5: =K5-(SUM(N5:Y5)) -> 1680 | M5: =IF(L5<0,"ATENÇÃO","OK") -> OK | N5: 120 | P5: 0 | Q5: 0 | R5: 0 | S5: 0 | T5: 0 | U5: 0 | V5: 0 | W5: 0 | X5: 0 | Y5: 0
