Workbook
Name diasuteis: #REF!
Name diasuteis: #REF!
Name diasuteis: #REF!
Name diasuteis: #REF!
Name diasuteis: #REF!
Name diasuteis: #REF!
Name diasuteis: #REF!
Name diasuteis: #REF!
Name diasuteis: #REF!
Name diasuteis: #REF!
Name diasuteis: #REF!
Name diasuteis: #REF!
Name diasuteis: #REF!
Name diasuteis: #REF!
Name diasuteis: #REF!
Name Ferias: #REF!
Name Ferias: #REF!
Name Ferias: #REF!
Name Ferias: #REF!
Name Ferias: #REF!
Name Ferias: #REF!
Name Ferias: #REF!
Name Ferias: #REF!
Name Ferias: #REF!
Name Ferias: #REF!
Name Ferias: #REF!
Name Ferias: #REF!
Name Ferias: #REF!
Name Ferias: #REF!
Name RD: OFFSET(#REF!,(MATCH(SMALL(#REF!,ROW()-10),#REF!,0)-1),0)

Sheet REIT
A1: PROCESSO: 0596/2013/UDESC | D1: OBJETO: Aquisição de projetores e lâmpadas | K1: VIGÊNCIA DA ATA: 26/09/2013 até 25/09/2014 | N1: AF/OS nº 474/2013 Qtde. DT | O1: AF/OS nº xxxx/2014 Qtde. DT | P1: AF/OS nº xxxx/2014 Qtde. DT | Q1: AF/OS nº xxxx/2014 Qtde. DT | R1: AF/OS nº xxxx/2014 Qtde. DT | S1: AF/OS nº xxxx/2014 Qtde. DT | T1: AF/OS nº xxxx/2014 Qtde. DT | U1: AF/OS nº xxxx/2014 Qtde. DT | V1: AF/OS nº xxxx/2014 Qtde. DT | W1: AF/OS nº xxxx/2014 Qtde. DT | X1: AF/OS nº xxxx/2014 Qtde. DT | Y1: AF/OS nº xxxx/2014 Qtde. DT
A2: CENTRO PARTICIPANTE: REITORIA
A3: FORNECEDOR | B3: LOTE | C3: ITEM | D3: PRODUTO - CARACTERÍSTICAS MÍNIMAS | E3: ELEMENTO | F3: MARCA | G3: UNIDADE | H3: Entrega (Dias) | I3: Pagto. (Dias) | J3: Preço UNITÁRIO (R$) | K3: Qtde LICITADA | L3: Saldo / Automático | M3: ALERTA | N3: ...../...../...... | O3: ...../...../...... | P3: ...../...../...... | Q3: ...../...../...... | R3: ...../...../...... | S3: ...../...../...... | T3: ...../...../...... | U3: ...../...../...... | V3: ...../...../...... | W3: ...../...../...... | X3: ...../...../...... | Y3: ...../...../......
A4: MICROTÉCNICA INFORMÁTICA LTDA | C4: 1 | D4: Quantidade: 328 (trezentos e vinte e oito) Peças - (PROJETOR MULTIMIDIA CARACTERÍSTICAS MÍNIMAS: 1) Canhão de projeção com tecnologia LCD ou DLP; 2) Resolução nativa de 1024x768; 3) Luminosidade de 2500 lumens; 4) Contraste de 3000:1; 5) Reprodução de 16 milhões de cores; 6) Compatibilidade com padrão NTSC e PAL-M; 7) Formato de imagem 4x3 e 16x9; 8) Coreção keystone vertical e horizontal; 9) Controle remoto sem fio; 10) Ajuste de zoom e foco; 11) Tamanho da imagem projetada de 1 a 3 metros na diagonal; 12) Distância entre o projetor e a imagem entre 1 a 5 mestros; 13) Entradas para video analógico VGA (d-sub 15p), S-Video, vídeo composto e video digital HDMI; 14) Entrada para áudio estereo e autofalante; 15) Interface USB 2.0; 16) Duração média da lâmpada de 3000 hrs em uso normal; 17) Peso máximo 4Kg; 18) Ruido menor que 50 db em funcionamento; 19) Projeção mesa/teto, fronta/traseiro; 20) Fonte de alimentação automática operando de 100 a 240 VAC de entrada, 60 Hz. CONDIÇÔES GERAIS: a) Garantia de hardware do tipo on-site de 3 anos (exceto para lampada que deverá ser de 1 ano), disponibilizada pelo fabricante e realizada pelo mesmo ou por empresa autorizada oficialmente, com tempo de solução em até cinco dias; b) Indicação no site do fabricante das especificações técnicas específicas do modelo do equipamento). Marca/modelo: EPSON X12 – código 01277-7-019, ao preço unitário de R$ 1.590,00. | F4: EPSON X12 | G4: Peça | H4: 30dias | I4: 20dias | J4: 1590 | K4: 5 | L4: =K4-(SUM(N4:Y4)) -> 0 | M4: =IF(L4<0,"ATENÇÃO","OK") -> OK | N4: 5 | O4: 0 | P4: 0 | Q4: 0 | R4: 0 | S4: 0 | T4: 0 | U4: 0 | V4: 0 | W4: 0 | X4: 0 | Y4: 0
A5: ILHA SERVICE SERVIÇOS DE INFORMÁTICA LTDA | C5: 4 | D5: Quantidade: 04 (quatro) Peças – (PROJETOR MULTIMIDIA WIRELESS Projetor Multimidia WIRELESS. Canhão de projeção com tecnologia LCD ou DLP. Resolução nativa de 1024x768 dpi. Luminosidade de 1800 lumens. Projeção de 16 milhões de cores. Contraste de 2000:1. Compatibilidade com padrão NTSC e PAL-M. Controle remoto sem fio. Ajuste de zoom/foco automático ou manual. Tamanho da imagem projetada de 1 a 3 metros na diagonal. Distância entre o projetor e a imagem entre 1,6 a 5 metros. Entradas para S-Video, vídeo composto e áudio. Duração da lâmpada de 1500Hs. Peso máximo 7Kg. Tensão de entrada operando na faixa de 100 a 240 VAC, F/N/T, 60Hz. Permitir a função de projeção da imagem via LAN Wireless com uso de cartão USB fornecido com o equipamento ou LAN RJ45 com uso de software específico fornecido com o equipamento.) Marca/modelo: BENQ MX618ST - código 01277-7-051, ao preço unitário de R$ 2.670,00 (dois mil seiscentos e setenta reais). | F5: BENQ MX618ST | G5: Peça | H5: 30dias | I5: 20dias | J5: 2670 | K5: 0 | L5: =K5-(SUM(N5:Y5)) -> 0 | M5: =IF(L5<0,"ATENÇÃO","OK") -> OK | N5: 0 | O5: 0 | P5: 0 | Q5: 0 | R5: 0 | S5: 0 | T5: 0 | U5: 0 | V5: 0 | W5: 0 | X5: 0 | Y5: 0
C6: 5 | D6: Quantidade: 10 (dez) Peças – (LAMPADA ELETRICA PARA PROJETOR MULTIMIDIA Lâmpada: BLFP180F, Modelo Compatível ao aparelho Optoma BR S551, rincipais características do DS551, Luminosidade de 2800 ANSI lumens e alta relação de contraste de 3500:1; Capacidade 3D; Amigavelmente ecológico, economiza <0.5W de energia. Design da lâmpada no topo para facilitar a substituição.) Marca/modelo: Optoma bl-fp180f - código 00190-2-229, ao preço unitário $ 650,00 (seiscentos e cinquenta reais). | F6: Optoma bl-fp180f | G6: Peça | H6: 30dias | I6: 20dias | J6: 650 | K6: 0 | L6: =K6-(SUM(N6:Y6)) -> 0 | M6: =IF(L6<0,"ATENÇÃO","OK") -> OK | N6: 0 | O6: 0 | P6: 0 | Q6: 0 | R6: 0 | S6: 0 | T6: 0 | U6: 0 | V6: 0 | W6: 0 | X6: 0 | Y6: 0
C7: 7 | D7: Quantidade: 04 (quatro) Peças – (LAMPADA ELETRICA PARA PROJETOR MULTIMIDIA Modelo: Benq MP612) Marca/modelo: Benq mp612 - código 00190-2-229, ao preço unitário de R$ 618,00 (seiscentos e dezoito reais). | F7: Benq mp612 | G7: Peça | H7: 30dias | I7: 20dias | J7: 618 | K7: 0 | L7: =K7-(SUM(N7:Y7)) -> 0 | M7: =IF(L7<0,"ATENÇÃO","OK") -> OK | N7: 0 | O7: 0 | P7: 0 | Q7: 0 | R7: 0 | S7: 0 | T7: 0 | U7: 0 | V7: 0 | W7: 0 | X7: 0 | Y7: 0
C8: 8 | D8: Quantidade: 09 (nove) Peças – (LAMPADA ELETRICA PARA PROJETOR MULTIMIDIA Modelo: Epson X12 200W UHE) Marca/modelo: Epson x12 200w UHE - código 00190-2-229, ao preço unitário de R$ 395,00 (trezentos e noventa e cinco reais). | F8: EPSON x12 200w UHE | G8: Peça | H8: 30dias | I8: 20dias | J8: 395 | K8: 0 | L8: =K8-(SUM(N8:Y8)) -> 0 | M8: =IF(L8<0,"ATENÇÃO","OK") -> OK | N8: 0 | O8: 0 | P8: 0 | Q8: 0 | R8: 0 | S8: 0 | T8: 0 | U8: 0 | V8: 0 | W8: 0 | X8: 0 | Y8: 0
C9: 9 | D9: Quantidade: 03 (três) Peças – (LAMPADA ELETRICA PARA PROJETOR MULTIMIDIA Modelo: Infocus W240 SHP 200W) Marca/modelo: Infocus w240 shp 200w - código 00190-2-229, ao preço unitário de R$ 655,00 (seiscentos e cinquenta e cinco reais). | F9: Infocus w240 shp200w | G9: Peça | H9: 30dias | I9: 20dias | J9: 655 | K9: 0 | L9: =K9-(SUM(N9:Y9)) -> 0 | M9: =IF(L9<0,"ATENÇÃO","OK") -> OK | N9: 0 | O9: 0 | P9: 0 | Q9: 0 | R9: 0 | S9: 0 | T9: 0 | U9: 0 | V9: 0 | W9: 0 | X9: 0 | Y9: 0
C10: 10 | D10: Quantidade: 04 (quatro) Peças – (LAMPADA ELETRICA PARA PROJETOR MULTIMIDIA Modelo: Optoma EX536) Marca/modelo: Infocus w240 shp 200w - código 00190-2-229, ao preço unitário de R$ 676,00 (seiscentos e setenta e seis reais). | F10: Infocus w240 shp200w | G10: Peça | H10: 30dias | I10: 20dias | J10: 676 | K10: 0 | L10: =K10-(SUM(N10:Y10)) -> 0 | M10: =IF(L10<0,"ATENÇÃO","OK") -> OK | N10: 0 | O10: 0 | P10: 0 | Q10: 0 | R10: 0 | S10: 0 | T10: 0 | U10: 0 | V10: 0 | W10: 0 | X10: 0 | Y10: 0

Sheet ESAG
A1: PROCESSO: 0596/2013/UDESC | D1: OBJETO: Aquisição de projetores e lâmpadas | K1: VIGÊNCIA DA ATA: 26/09/2013 até 25/09/2014 | N1: AF 382/2013 Qtde. DT | O1: AF/OS nº xxxx/2014 Qtde. DT | P1: AF/OS nº xxxx/2014 Qtde. DT | Q1: AF/OS nº xxxx/2014 Qtde. DT | R1: AF/OS nº xxxx/2014 Qtde. DT | S1: AF/OS nº xxxx/2014 Qtde. DT | T1: AF/OS nº xxxx/2014 Qtde. DT | U1: AF/OS nº xxxx/2014 Qtde. DT | V1: AF/OS nº xxxx/2014 Qtde. DT | W1: AF/OS nº xxxx/2014 Qtde. DT | X1: AF/OS nº xxxx/2014 Qtde. DT | Y1: AF/OS nº xxxx/2014 Qtde. DT
A2: CENTRO PARTICIPANTE: ESAG
A3: FORNECEDOR | B3: LOTE | C3: ITEM | D3: PRODUTO - CARACTERÍSTICAS MÍNIMAS | E3: ELEMENTO | F3: MARCA | G3: UNIDADE | H3: Entrega (Dias) | I3: Pagto. (Dias) | J3: Preço UNITÁRIO (R$) | K3: Qtde LICITADA | L3: Saldo / Automático | M3: ALERTA | N3: ...../...../...... | O3: ...../...../...... | P3: ...../...../...... | Q3: ...../...../...... | R3: ...../...../...... | S3: ...../...../...... | T3: ...../...../...... | U3: ...../...../...... | V3: ...../...../...... | W3: ...../...../...... | X3: ...../...../...... | Y3: ...../...../......
A4: MICROTÉCNICA INFORMÁTICA LTDA | C4: 1 | D4: Quantidade: 328 (trezentos e vinte e oito) Peças - (PROJETOR MULTIMIDIA CARACTERÍSTICAS MÍNIMAS: 1) Canhão de projeção com tecnologia LCD ou DLP; 2) Resolução nativa de 1024x768; 3) Luminosidade de 2500 lumens; 4) Contraste de 3000:1; 5) Reprodução de 16 milhões de cores; 6) Compatibilidade com padrão NTSC e PAL-M; 7) Formato de imagem 4x3 e 16x9; 8) Coreção keystone vertical e horizontal; 9) Controle remoto sem fio; 10) Ajuste de zoom e foco; 11) Tamanho da imagem projetada de 1 a 3 metros na diagonal; 12) Distância entre o projetor e a imagem entre 1 a 5 mestros; 13) Entradas para video analógico VGA (d-sub 15p), S-Video, vídeo composto e video digital HDMI; 14) Entrada para áudio estereo e autofalante; 15) Interface USB 2.0; 16) Duração média da lâmpada de 3000 hrs em uso normal; 17) Peso máximo 4Kg; 18) Ruido menor que 50 db em funcionamento; 19) Projeção mesa/teto, fronta/traseiro; 20) Fonte de alimentação automática operando de 100 a 240 VAC de entrada, 60 Hz. CONDIÇÔES GERAIS: a) Garantia de hardware do tipo on-site de 3 anos (exceto para lampada que deverá ser de 1 ano), disponibilizada pelo fabricante e realizada pelo mesmo ou por empresa autorizada oficialmente, com tempo de solução em até cinco dias; b) Indicação no site do fabricante das especificações técnicas específicas do modelo do equipamento). Marca/modelo: EPSON X12 – código 01277-7-019, ao preço unitário de R$ 1.590,00. | F4: EPSON X12 | G4: Peça | H4: 30dias | I4: 20dias | J4: 1590 | K4: 31 | L4: =K4-(SUM(N4:Y4)) -> 11 | M4: =IF(L4<0,"ATENÇÃO","OK") -> OK | N4: 20 | O4: 0 | P4: 0 | Q4: 0 | R4: 0 | S4: 0 | T4: 0 | U4: 0 | V4: 0 | W4: 0 | X4: 0 | Y4: 0
A5: ILHA SERVICE SERVIÇOS DE INFORMÁTICA LTDA | C5: 4 | D5: Quantidade: 04 (quatro) Peças – (PROJETOR MULTIMIDIA WIRELESS Projetor Multimidia WIRELESS. Canhão de projeção com tecnologia LCD ou DLP. Resolução nativa de 1024x768 dpi. Luminosidade de 1800 lumens. Projeção de 16 milhões de cores. Contraste de 2000:1. Compatibilidade com padrão NTSC e PAL-M. Controle remoto sem fio. Ajuste de zoom/foco automático ou manual. Tamanho da imagem projetada de 1 a 3 metros na diagonal. Distância entre o projetor e a imagem entre 1,6 a 5 metros. Entradas para S-Video, vídeo composto e áudio. Duração da lâmpada de 1500Hs. Peso máximo 7Kg. Tensão de entrada operando na faixa de 100 a 240 VAC, F/N/T, 60Hz. Permitir a função de projeção da imagem via LAN Wireless com uso de cartão USB fornecido com o equipamento ou LAN RJ45 com uso de software específico fornecido com o equipamento.) Marca/modelo: BENQ MX618ST - código 01277-7-051, ao preço unitário de R$ 2.670,00 (dois mil seiscentos e setenta reais). | F5: BENQ MX618ST | G5: Peça | H5: 30dias | I5: 20dias | J5: 2670 | K5: 0 | L5: =K5-(SUM(N5:Y5)) -> 0 | M5: =IF(L5<0,"ATENÇÃO","OK") -> OK | N5: 0 | O5: 0 | P5: 0 | Q5: 0 | R5: 0 | S5: 0 | T5: 0 | U5: 0 | V5: 0 | W5: 0 | X5: 0 | Y5: 0
C6: 5 | D6: Quantidade: 10 (dez) Peças – (LAMPADA ELETRICA PARA PROJETOR MULTIMIDIA Lâmpada: BLFP180F, Modelo Compatível ao aparelho Optoma BR S551, rincipais características do DS551, Luminosidade de 2800 ANSI lumens e alta relação de contraste de 3500:1; Capacidade 3D; Amigavelmente ecológico, economiza <0.5W de energia. Design da lâmpada no topo para facilitar a substituição.) Marca/modelo: Optoma bl-fp180f - código 00190-2-229, ao preço unitário $ 650,00 (seiscentos e cinquenta reais). | F6: Optoma bl-fp180f | G6: Peça | H6: 30dias | I6: 20dias | J6: 650 | K6: 0 | L6: =K6-(SUM(N6:Y6)) -> 0 | M6: =IF(L6<0,"ATENÇÃO","OK") -> OK | N6: 0 | O6: 0 | P6: 0 | Q6: 0 | R6: 0 | S6: 0 | T6: 0 | U6: 0 | V6: 0 | W6: 0 | X6: 0 | Y6: 0
C7: 7 | D7: Quantidade: 04 (quatro) Peças – (LAMPADA ELETRICA PARA PROJETOR MULTIMIDIA Modelo: Benq MP612) Marca/modelo: Benq mp612 - código 00190-2-229, ao preço unitário de R$ 618,00 (seiscentos e dezoito reais). | F7: Benq mp612 | G7: Peça | H7: 30dias | I7: 20dias | J7: 618 | K7: 0 | L7: =K7-(SUM(N7:Y7)) -> 0 | M7: =IF(L7<0,"ATENÇÃO","OK") -> OK | N7: 0 | O7: 0 | P7: 0 | Q7: 0 | R7: 0 | S7: 0 | T7: 0 | U7: 0 | V7: 0 | W7: 0 | X7: 0 | Y7: 0
C8: 8 | D8: Quantidade: 09 (nove) Peças – (LAMPADA ELETRICA PARA PROJETOR MULTIMIDIA Modelo: Epson X12 200W UHE) Marca/modelo: Epson x12 200w UHE - código 00190-2-229, ao preço unitário de R$ 395,00 (trezentos e noventa e cinco reais). | F8: EPSON x12 200w UHE | G8: Peça | H8: 30dias | I8: 20dias | J8: 395 | K8: 0 | L8: =K8-(SUM(N8:Y8)) -> 0 | M8: =IF(L8<0,"ATENÇÃO","OK") -> OK | N8: 0 | O8: 0 | P8: 0 | Q8: 0 | R8: 0 | S8: 0 | T8: 0 | U8: 0 | V8: 0 | W8: 0 | X8: 0 | Y8: 0
C9: 9 | D9: Quantidade: 03 (três) Peças – (LAMPADA ELETRICA PARA PROJETOR MULTIMIDIA Modelo: Infocus W240 SHP 200W) Marca/modelo: Infocus w240 shp 200w - código 00190-2-229, ao preço unitário de R$ 655,00 (seiscentos e cinquenta e cinco reais). | F9: Infocus w240 shp200w | G9: Peça | H9: 30dias | I9: 20dias | J9: 655 | K9: 0 | L9: =K9-(SUM(N9:Y9)) -> 0 | M9: =IF(L9<0,"ATENÇÃO","OK") -> OK | N9: 0 | O9: 0 | P9: 0 | Q9: 0 | R9: 0 | S9: 0 | T9: 0 | U9: 0 | V9: 0 | W9: 0 | X9: 0 | Y9: 0
C10: 10 | D10: Quantidade: 04 (quatro) Peças – (LAMPADA ELETRICA PARA PROJETOR MULTIMIDIA Modelo: Optoma EX536) Marca/modelo: Infocus w240 shp 200w - código 00190-2-229, ao preço unitário de R$ 676,00 (seiscentos e setenta e seis reais). | F10: Infocus w240 shp200w | G10: Peça | H10: 30dias | I10: 20dias | J10: 676 | K10: 0 | L10: =K10-(SUM(N10:Y10)) -> 0 | M10: =IF(L10<0,"ATENÇÃO","OK") -> OK | N10: 0 | O10: 0 | P10: 0 | Q10: 0 | R10: 0 | S10: 0 | T10: 0 | U10: 0 | V10: 0 | W10: 0 | X10: 0 | Y10: 0

Sheet CEART
A1: PROCESSO: 0596/2013/UDESC | D1: OBJETO: Aquisição de projetores e lâmpadas | K1: VIGÊNCIA DA ATA: 26/09/2013 até 25/09/2014 | N1: AF 399/2013 Qtde. DT | O1: AF 400/2013 Qtde. DT | P1: AF 401/2013 Qtde. DT | Q1: AF/OS nº xxxx/2014 Qtde. DT | R1: AF/OS nº xxxx/2014 Qtde. DT | S1: AF/OS nº xxxx/2014 Qtde. DT | T1: AF/OS nº xxxx/2014 Qtde. DT | U1: AF/OS nº xxxx/2014 Qtde. DT | V1: AF/OS nº xxxx/2014 Qtde. DT | W1: AF/OS nº xxxx/2014 Qtde. DT | X1: AF/OS nº xxxx/2014 Qtde. DT | Y1: AF/OS nº xxxx/2014 Qtde. DT
A2: CENTRO PARTICIPANTE: CEART
A3: FORNECEDOR | B3: LOTE | C3: ITEM | D3: PRODUTO - CARACTERÍSTICAS MÍNIMAS | E3: ELEMENTO | F3: MARCA | G3: UNIDADE | H3: Entrega (Dias) | I3: Pagto. (Dias) | J3: Preço UNITÁRIO (R$) | K3: Qtde LICITADA | L3: Saldo / Automático | M3: ALERTA | N3: ...../...../...... | O3: ...../...../...... | P3: ...../...../...... | Q3: ...../...../...... | R3: ...../...../...... | S3: ...../...../...... | T3: ...../...../...... | U3: ...../...../...... | V3: ...../...../...... | W3: ...../...../...... | X3: ...../...../...... | Y3: ...../...../......
A4: MICROTÉCNICA INFORMÁTICA LTDA | C4: 1 | D4: Quantidade: 328 (trezentos e vinte e oito) Peças - (PROJETOR MULTIMIDIA CARACTERÍSTICAS MÍNIMAS: 1) Canhão de projeção com tecnologia LCD ou DLP; 2) Resolução nativa de 1024x768; 3) Luminosidade de 2500 lumens; 4) Contraste de 3000:1; 5) Reprodução de 16 milhões de cores; 6) Compatibilidade com padrão NTSC e PAL-M; 7) Formato de imagem 4x3 e 16x9; 8) Coreção keystone vertical e horizontal; 9) Controle remoto sem fio; 10) Ajuste de zoom e foco; 11) Tamanho da imagem projetada de 1 a 3 metros na diagonal; 12) Distância entre o projetor e a imagem entre 1 a 5 mestros; 13) Entradas para video analógico VGA (d-sub 15p), S-Video, vídeo composto e video digital HDMI; 14) Entrada para áudio estereo e autofalante; 15) Interface USB 2.0; 16) Duração média da lâmpada de 3000 hrs em uso normal; 17) Peso máximo 4Kg; 18) Ruido menor que 50 db em funcionamento; 19) Projeção mesa/teto, fronta/traseiro; 20) Fonte de alimentação automática operando de 100 a 240 VAC de entrada, 60 Hz. CONDIÇÔES GERAIS: a) Garantia de hardware do tipo on-site de 3 anos (exceto para lampada que deverá ser de 1 ano), disponibilizada pelo fabricante e realizada pelo mesmo ou por empresa autorizada oficialmente, com tempo de solução em até cinco dias; b) Indicação no site do fabricante das especificações técnicas específicas do modelo do equipamento). Marca/modelo: EPSON X12 – código 01277-7-019, ao preço unitário de R$ 1.590,00. | F4: EPSON X12 | G4: Peça | H4: 30dias | I4: 20dias | J4: 1590 | K4: =31+1 -> 32 | L4: =K4-(SUM(N4:Y4)) -> 1 | M4: =IF(L4<0,"ATENÇÃO","OK") -> OK | N4: 28 | O4: 2 | P4: 1 | Q4: 0 | R4: 0 | S4: 0 | T4: 0 | U4: 0 | V4: 0 | W4: 0 | X4: 0 | Y4: 0
A5: ILHA SERVICE SERVIÇOS DE INFORMÁTICA LTDA | C5: 4 | D5: Quantidade: 04 (quatro) Peças – (PROJETOR MULTIMIDIA WIRELESS Projetor Multimidia WIRELESS. Canhão de projeção com tecnologia LCD ou DLP. Resolução nativa de 1024x768 dpi. Luminosidade de 1800 lumens. Projeção de 16 milhões de cores. Contraste de 2000:1. Compatibilidade com padrão NTSC e PAL-M. Controle remoto sem fio. Ajuste de zoom/foco automático ou manual. Tamanho da imagem projetada de 1 a 3 metros na diagonal. Distância entre o projetor e a imagem entre 1,6 a 5 metros. Entradas para S-Video, vídeo composto e áudio. Duração da lâmpada de 1500Hs. Peso máximo 7Kg. Tensão de entrada operando na faixa de 100 a 240 VAC, F/N/T, 60Hz. Permitir a função de projeção da imagem via LAN Wireless com uso de cartão USB fornecido com o equipamento ou LAN RJ45 com uso de software específico fornecido com o equipamento.) Marca/modelo: BENQ MX618ST - código 01277-7-051, ao preço unitário de R$ 2.670,00 (dois mil seiscentos e setenta reais). | F5: BENQ MX618ST | G5: Peça | H5: 30dias | I5: 20dias | J5: 2670 | K5: 0 | L5: =K5-(SUM(N5:Y5)) -> 0 | M5: =IF(L5<0,"ATENÇÃO","OK") -> OK | N5: 0 | O5: 0 | P5: 0 | Q5: 0 | R5: 0 | S5: 0 | T5: 0 | U5: 0 | V5: 0 | W5: 0 | X5: 0 | Y5: 0
C6: 5 | D6: Quantidade: 10 (dez) Peças – (LAMPADA ELETRICA PARA PROJETOR MULTIMIDIA Lâmpada: BLFP180F, Modelo Compatível ao aparelho Optoma BR S551, rincipais características do DS551, Luminosidade de 2800 ANSI lumens e alta relação de contraste de 3500:1; Capacidade 3D; Amigavelmente ecológico, economiza <0.5W de energia. Design da lâmpada no topo para facilitar a substituição.) Marca/modelo: Optoma bl-fp180f - código 00190-2-229, ao preço unitário $ 650,00 (seiscentos e cinquenta reais). | F6: Optoma bl-fp180f | G6: Peça | H6: 30dias | I6: 20dias | J6: 650 | K6: 0 | L6: =K6-(SUM(N6:Y6)) -> 0 | M6: =IF(L6<0,"ATENÇÃO","OK") -> OK | N6: 0 | O6: 0 | P6: 0 | Q6: 0 | R6: 0 | S6: 0 | T6: 0 | U6: 0 | V6: 0 | W6: 0 | X6: 0 | Y6: 0
C7: 7 | D7: Quantidade: 04 (quatro) Peças – (LAMPADA ELETRICA PARA PROJETOR MULTIMIDIA Modelo: Benq MP612) Marca/modelo: Benq mp612 - código 00190-2-229, ao preço unitário de R$ 618,00 (seiscentos e dezoito reais). | F7: Benq mp612 | G7: Peça | H7: 30dias | I7: 20dias | J7: 618 | K7: 0 | L7: =K7-(SUM(N7:Y7)) -> 0 | M7: =IF(L7<0,"ATENÇÃO","OK") -> OK | N7: 0 | O7: 0 | P7: 0 | Q7: 0 | R7: 0 | S7: 0 | T7: 0 | U7: 0 | V7: 0 | W7: 0 | X7: 0 | Y7: 0
C8: 8 | D8: Quantidade: 09 (nove) Peças – (LAMPADA ELETRICA PARA PROJETOR MULTIMIDIA Modelo: Epson X12 200W UHE) Marca/modelo: Epson x12 200w UHE - código 00190-2-229, ao preço unitário de R$ 395,00 (trezentos e noventa e cinco reais). | F8: EPSON x12 200w UHE | G8: Peça | H8: 30dias | I8: 20dias | J8: 395 | K8: 0 | L8: =K8-(SUM(N8:Y8)) -> 0 | M8: =IF(L8<0,"ATENÇÃO","OK") -> OK | N8: 0 | O8: 0 | P8: 0 | Q8: 0 | R8: 0 | S8: 0 | T8: 0 | U8: 0 | V8: 0 | W8: 0 | X8: 0 | Y8: 0
C9: 9 | D9: Quantidade: 03 (três) Peças – (LAMPADA ELETRICA PARA PROJETOR MULTIMIDIA Modelo: Infocus W240 SHP 200W) Marca/modelo: Infocus w240 shp 200w - código 00190-2-229, ao preço unitário de R$ 655,00 (seiscentos e cinquenta e cinco reais). | F9: Infocus w240 shp200w | G9: Peça | H9: 30dias | I9: 20dias | J9: 655 | K9: 0 | L9: =K9-(SUM(N9:Y9)) -> 0 | M9: =IF(L9<0,"ATENÇÃO","OK") -> OK | N9: 0 | O9: 0 | P9: 0 | Q9: 0 | R9: 0 | S9: 0 | T9: 0 | U9: 0 | V9: 0 | W9: 0 | X9: 0 | Y9: 0
C10: 10 | D10: Quantidade: 04 (quatro) Peças – (LAMPADA ELETRICA PARA PROJETOR MULTIMIDIA Modelo: Optoma EX536) Marca/modelo: Infocus w240 shp 200w - código 00190-2-229, ao preço unitário de R$ 676,00 (seiscentos e setenta e seis reais). | F10: Infocus w240 shp200w | G10: Peça | H10: 30dias | I10: 20dias | J10: 676 | K10: 0 | L10: =K10-(SUM(N10:Y10)) -> 0 | M10: =IF(L10<0,"ATENÇÃO","OK") -> OK | N10: 0 | O10: 0 | P10: 0 | Q10: 0 | R10: 0 | S10: 0 | T10: 0 | U10: 0 | V10: 0 | W10: 0 | X10: 0 | Y10: 0

Sheet FAED
A1: PROCESSO: 0596/2013/UDESC | D1: OBJETO: Aquisição de projetores e lâmpadas | K1: VIGÊNCIA DA ATA: 26/09/2013 até 25/09/2014 | N1: AF/OS nº 383/2013 Qtde. DT | O1: AF/OS nº xxxx/2014 Qtde. DT | P1: AF/OS nº xxxx/2014 Qtde. DT | Q1: AF/OS nº xxxx/2014 Qtde. DT | R1: AF/OS nº xxxx/2014 Qtde. DT | S1: AF/OS nº xxxx/2014 Qtde. DT | T1: AF/OS nº xxxx/2014 Qtde. DT | U1: AF/OS nº xxxx/2014 Qtde. DT | V1: AF/OS nº xxxx/2014 Qtde. DT | W1: AF/OS nº xxxx/2014 Qtde. DT | X1: AF/OS nº xxxx/2014 Qtde. DT | Y1: AF/OS nº xxxx/2014 Qtde. DT
A2: CENTRO PARTICIPANTE: FAED
A3: FORNECEDOR | B3: LOTE | C3: ITEM | D3: PRODUTO - CARACTERÍSTICAS MÍNIMAS | E3: ELEMENTO | F3: MARCA | G3: UNIDADE | H3: Entrega (Dias) | I3: Pagto. (Dias) | J3: Preço UNITÁRIO (R$) | K3: Qtde LICITADA | L3: Saldo / Automático | M3: ALERTA | N3: 41569 | O3: ...../...../...... | P3: ...../...../...... | Q3: ...../...../...... | R3: ...../...../...... | S3: ...../...../...... | T3: ...../...../...... | U3: ...../...../...... | V3: ...../...../...... | W3: ...../...../...... | X3: ...../...../...... | Y3: ...../...../......
A4: MICROTÉCNICA INFORMÁTICA LTDA | C4: 1 | D4: Quantidade: 328 (trezentos e vinte e oito) Peças - (PROJETOR MULTIMIDIA CARACTERÍSTICAS MÍNIMAS: 1) Canhão de projeção com tecnologia LCD ou DLP; 2) Resolução nativa de 1024x768; 3) Luminosidade de 2500 lumens; 4) Contraste de 3000:1; 5) Reprodução de 16 milhões de cores; 6) Compatibilidade com padrão NTSC e PAL-M; 7) Formato de imagem 4x3 e 16x9; 8) Coreção keystone vertical e horizontal; 9) Controle remoto sem fio; 10) Ajuste de zoom e foco; 11) Tamanho da imagem projetada de 1 a 3 metros na diagonal; 12) Distância entre o projetor e a imagem entre 1 a 5 mestros; 13) Entradas para video analógico VGA (d-sub 15p), S-Video, vídeo composto e video digital HDMI; 14) Entrada para áudio estereo e autofalante; 15) Interface USB 2.0; 16) Duração média da lâmpada de 3000 hrs em uso normal; 17) Peso máximo 4Kg; 18) Ruido menor que 50 db em funcionamento; 19) Projeção mesa/teto, fronta/traseiro; 20) Fonte de alimentação automática operando de 100 a 240 VAC de entrada, 60 Hz. CONDIÇÔES GERAIS: a) Garantia de hardware do tipo on-site de 3 anos (exceto para lampada que deverá ser de 1 ano), disponibilizada pelo fabricante e realizada pelo mesmo ou por empresa autorizada oficialmente, com tempo de solução em até cinco dias; b) Indicação no site do fabricante das especificações técnicas específicas do modelo do equipamento). Marca/modelo: EPSON X12 – código 01277-7-019, ao preço unitário de R$ 1.590,00. | F4: EPSON X12 | G4: Peça | H4: 30dias | I4: 20dias | J4: 1590 | K4: 30 | L4: =K4-(SUM(N4:Y4)) -> 14 | M4: =IF(L4<0,"ATENÇÃO","OK") -> OK | N4: 16 | O4: 0 | P4: 0 | Q4: 0 | R4: 0 | S4: 0 | T4: 0 | U4: 0 | V4: 0 | W4: 0 | X4: 0 | Y4: 0
A5: ILHA SERVICE SERVIÇOS DE INFORMÁTICA LTDA | C5: 4 | D5: Quantidade: 04 (quatro) Peças – (PROJETOR MULTIMIDIA WIRELESS Projetor Multimidia WIRELESS. Canhão de projeção com tecnologia LCD ou DLP. Resolução nativa de 1024x768 dpi. Luminosidade de 1800 lumens. Projeção de 16 milhões de cores. Contraste de 2000:1. Compatibilidade com padrão NTSC e PAL-M. Controle remoto sem fio. Ajuste de zoom/foco automático ou manual. Tamanho da imagem projetada de 1 a 3 metros na diagonal. Distância entre o projetor e a imagem entre 1,6 a 5 metros. Entradas para S-Video, vídeo composto e áudio. Duração da lâmpada de 1500Hs. Peso máximo 7Kg. Tensão de entrada operando na faixa de 100 a 240 VAC, F/N/T, 60Hz. Permitir a função de projeção da imagem via LAN Wireless com uso de cartão USB fornecido com o equipamento ou LAN RJ45 com uso de software específico fornecido com o equipamento.) Marca/modelo: BENQ MX618ST - código 01277-7-051, ao preço unitário de R$ 2.670,00 (dois mil seiscentos e setenta reais). | F5: BENQ MX618ST | G5: Peça | H5: 30dias | I5: 20dias | J5: 2670 | K5: 0 | L5: =K5-(SUM(N5:Y5)) -> 0 | M5: =IF(L5<0,"ATENÇÃO","OK") -> OK | N5: 0 | O5: 0 | P5: 0 | Q5: 0 | R5: 0 | S5: 0 | T5: 0 | U5: 0 | V5: 0 | W5: 0 | X5: 0 | Y5: 0
C6: 5 | D6: Quantidade: 10 (dez) Peças – (LAMPADA ELETRICA PARA PROJETOR MULTIMIDIA Lâmpada: BLFP180F, Modelo Compatível ao aparelho Optoma BR S551, rincipais características do DS551, Luminosidade de 2800 ANSI lumens e alta relação de contraste de 3500:1; Capacidade 3D; Amigavelmente ecológico, economiza <0.5W de energia. Design da lâmpada no topo para facilitar a substituição.) Marca/modelo: Optoma bl-fp180f - código 00190-2-229, ao preço unitário $ 650,00 (seiscentos e cinquenta reais). | F6: Optoma bl-fp180f | G6: Peça | H6: 30dias | I6: 20dias | J6: 650 | K6: 0 | L6: =K6-(SUM(N6:Y6)) -> 0 | M6: =IF(L6<0,"ATENÇÃO","OK") -> OK | N6: 0 | O6: 0 | P6: 0 | Q6: 0 | R6: 0 | S6: 0 | T6: 0 | U6: 0 | V6: 0 | W6: 0 | X6: 0 | Y6: 0
C7: 7 | D7: Quantidade: 04 (quatro) Peças – (LAMPADA ELETRICA PARA PROJETOR MULTIMIDIA Modelo: Benq MP612) Marca/modelo: Benq mp612 - código 00190-2-229, ao preço unitário de R$ 618,00 (seiscentos e dezoito reais). | F7: Benq mp612 | G7: Peça | H7: 30dias | I7: 20dias | J7: 618 | K7: 0 | L7: =K7-(SUM(N7:Y7)) -> 0 | M7: =IF(L7<0,"ATENÇÃO","OK") -> OK | N7: 0 | O7: 0 | P7: 0 | Q7: 0 | R7: 0 | S7: 0 | T7: 0 | U7: 0 | V7: 0 | W7: 0 | X7: 0 | Y7: 0
C8: 8 | D8: Quantidade: 09 (nove) Peças – (LAMPADA ELETRICA PARA PROJETOR MULTIMIDIA Modelo: Epson X12 200W UHE) Marca/modelo: Epson x12 200w UHE - código 00190-2-229, ao preço unitário de R$ 395,00 (trezentos e noventa e cinco reais). | F8: EPSON x12 200w UHE | G8: Peça | H8: 30dias | I8: 20dias | J8: 395 | K8: 0 | L8: =K8-(SUM(N8:Y8)) -> 0 | M8: =IF(L8<0,"ATENÇÃO","OK") -> OK | N8: 0 | O8: 0 | P8: 0 | Q8: 0 | R8: 0 | S8: 0 | T8: 0 | U8: 0 | V8: 0 | W8: 0 | X8: 0 | Y8: 0
C9: 9 | D9: Quantidade: 03 (três) Peças – (LAMPADA ELETRICA PARA PROJETOR MULTIMIDIA Modelo: Infocus W240 SHP 200W) Marca/modelo: Infocus w240 shp 200w - código 00190-2-229, ao preço unitário de R$ 655,00 (seiscentos e cinquenta e cinco reais). | F9: Infocus w240 shp200w | G9: Peça | H9: 30dias | I9: 20dias | J9: 655 | K9: 0 | L9: =K9-(SUM(N9:Y9)) -> 0 | M9: =IF(L9<0,"ATENÇÃO","OK") -> OK | N9: 0 | O9: 0 | P9: 0 | Q9: 0 | R9: 0 | S9: 0 | T9: 0 | U9: 0 | V9: 0 | W9: 0 | X9: 0 | Y9: 0
C10: 10 | D10: Quantidade: 04 (quatro) Peças – (LAMPADA ELETRICA PARA PROJETOR MULTIMIDIA Modelo: Optoma EX536) Marca/modelo: Infocus w240 shp 200w - código 00190-2-229, ao preço unitário de R$ 676,00 (seiscentos e setenta e seis reais). | F10: Infocus w240 shp200w | G10: Peça | H10: 30dias | I10: 20dias | J10: 676 | K10: 0 | L10: =K10-(SUM(N10:Y10)) -> 0 | M10: =IF(L10<0,"ATENÇÃO","OK") -> OK | N10: 0 | O10: 0 | P10: 0 | Q10: 0 | R10: 0 | S10: 0 | T10: 0 | U10: 0 | V10: 0 | W10: 0 | X10: 0 | Y10: 0

Sheet CEAD
A1: PROCESSO: 0596/2013/UDESC | D1: OBJETO: Aquisição de projetores e lâmpadas | K1: VIGÊNCIA DA ATA: 26/09/2013 até 25/09/2014 | N1: AF/OS nº 373/2013 Qtde. DT | O1: AF/OS nº 284/2014 Qtde. DT | P1: AF/OS nº xxxx/2014 Qtde. DT | Q1: AF/OS nº xxxx/2014 Qtde. DT | R1: AF/OS nº xxxx/2014 Qtde. DT | S1: AF/OS nº xxxx/2014 Qtde. DT | T1: AF/OS nº xxxx/2014 Qtde. DT | U1: AF/OS nº xxxx/2014 Qtde. DT | V1: AF/OS nº xxxx/2014 Qtde. DT | W1: AF/OS nº xxxx/2014 Qtde. DT | X1: AF/OS nº xxxx/2014 Qtde. DT | Y1: AF/OS nº xxxx/2014 Qtde. DT
A2: CENTRO PARTICIPANTE: CEAD
A3: FORNECEDOR | B3: LOTE | C3: ITEM | D3: PRODUTO - CARACTERÍSTICAS MÍNIMAS | E3: ELEMENTO | F3: MARCA | G3: UNIDADE | H3: Entrega (Dias) | I3: Pagto. (Dias) | J3: Preço UNITÁRIO (R$) | K3: Qtde LICITADA | L3: Saldo / Automático | M3: ALERTA | N3: 41590 | O3: 41778 | P3: ...../...../...... | Q3: ...../...../...... | R3: ...../...../...... | S3: ...../...../...... | T3: ...../...../...... | U3: ...../...../...... | V3: ...../...../...... | W3: ...../...../...... | X3: ...../...../...... | Y3: ...../...../......
A4: MICROTÉCNICA INFORMÁTICA LTDA | C4: 1 | D4: Quantidade: 328 (trezentos e vinte e oito) Peças - (PROJETOR MULTIMIDIA CARACTERÍSTICAS MÍNIMAS: 1) Canhão de projeção com tecnologia LCD ou DLP; 2) Resolução nativa de 1024x768; 3) Luminosidade de 2500 lumens; 4) Contraste de 3000:1; 5) Reprodução de 16 milhões de cores; 6) Compatibilidade com padrão NTSC e PAL-M; 7) Formato de imagem 4x3 e 16x9; 8) Coreção keystone vertical e horizontal; 9) Controle remoto sem fio; 10) Ajuste de zoom e foco; 11) Tamanho da imagem projetada de 1 a 3 metros na diagonal; 12) Distância entre o projetor e a imagem entre 1 a 5 mestros; 13) Entradas para video analógico VGA (d-sub 15p), S-Video, vídeo composto e video digital HDMI; 14) Entrada para áudio estereo e autofalante; 15) Interface USB 2.0; 16) Duração média da lâmpada de 3000 hrs em uso normal; 17) Peso máximo 4Kg; 18) Ruido menor que 50 db em funcionamento; 19) Projeção mesa/teto, fronta/traseiro; 20) Fonte de alimentação automática operando de 100 a 240 VAC de entrada, 60 Hz. CONDIÇÔES GERAIS: a) Garantia de hardware do tipo on-site de 3 anos (exceto para lampada que deverá ser de 1 ano), disponibilizada pelo fabricante e realizada pelo mesmo ou por empresa autorizada oficialmente, com tempo de solução em até cinco dias; b) Indicação no site do fabricante das especificações técnicas específicas do modelo do equipamento). Marca/modelo: EPSON X12 – código 01277-7-019, ao preço unitário de R$ 1.590,00. | F4: EPSON X12 | G4: Peça | H4: 30dias | I4: 20dias | J4: 1590 | K4: 4 | L4: =K4-(SUM(N4:Y4)) -> 0 | M4: =IF(L4<0,"ATENÇÃO","OK") -> OK | N4: 2 | O4: 2 | P4: 0 | Q4: 0 | R4: 0 | S4: 0 | T4: 0 | U4: 0 | V4: 0 | W4: 0 | X4: 0 | Y4: 0
A5: ILHA SERVICE SERVIÇOS DE INFORMÁTICA LTDA | C5: 4 | D5: Quantidade: 04 (quatro) Peças – (PROJETOR MULTIMIDIA WIRELESS Projetor Multimidia WIRELESS. Canhão de projeção com tecnologia LCD ou DLP. Resolução nativa de 1024x768 dpi. Luminosidade de 1800 lumens. Projeção de 16 milhões de cores. Contraste de 2000:1. Compatibilidade com padrão NTSC e PAL-M. Controle remoto sem fio. Ajuste de zoom/foco automático ou manual. Tamanho da imagem projetada de 1 a 3 metros na diagonal. Distância entre o projetor e a imagem entre 1,6 a 5 metros. Entradas para S-Video, vídeo composto e áudio. Duração da lâmpada de 1500Hs. Peso máximo 7Kg. Tensão de entrada operando na faixa de 100 a 240 VAC, F/N/T, 60Hz. Permitir a função de projeção da imagem via LAN Wireless com uso de cartão USB fornecido com o equipamento ou LAN RJ45 com uso de software específico fornecido com o equipamento.) Marca/modelo: BENQ MX618ST - código 01277-7-051, ao preço unitário de R$ 2.670,00 (dois mil seiscentos e setenta reais). | F5: BENQ MX618ST | G5: Peça | H5: 30dias | I5: 20dias | J5: 2670 | K5: 0 | L5: =K5-(SUM(N5:Y5)) -> 0 | M5: =IF(L5<0,"ATENÇÃO","OK") -> OK | N5: 0 | O5: 0 | P5: 0 | Q5: 0 | R5: 0 | S5: 0 | T5: 0 | U5: 0 | V5: 0 | W5: 0 | X5: 0 | Y5: 0
C6: 5 | D6: Quantidade: 10 (dez) Peças – (LAMPADA ELETRICA PARA PROJETOR MULTIMIDIA Lâmpada: BLFP180F, Modelo Compatível ao aparelho Optoma BR S551, rincipais características do DS551, Luminosidade de 2800 ANSI lumens e alta relação de contraste de 3500:1; Capacidade 3D; Amigavelmente ecológico, economiza <0.5W de energia. Design da lâmpada no topo para facilitar a substituição.) Marca/modelo: Optoma bl-fp180f - código 00190-2-229, ao preço unitário $ 650,00 (seiscentos e cinquenta reais). | F6: Optoma bl-fp180f | G6: Peça | H6: 30dias | I6: 20dias | J6: 650 | K6: 0 | L6: =K6-(SUM(N6:Y6)) -> 0 | M6: =IF(L6<0,"ATENÇÃO","OK") -> OK | N6: 0 | O6: 0 | P6: 0 | Q6: 0 | R6: 0 | S6: 0 | T6: 0 | U6: 0 | V6: 0 | W6: 0 | X6: 0 | Y6: 0
C7: 7 | D7: Quantidade: 04 (quatro) Peças – (LAMPADA ELETRICA PARA PROJETOR MULTIMIDIA Modelo: Benq MP612) Marca/modelo: Benq mp612 - código 00190-2-229, ao preço unitário de R$ 618,00 (seiscentos e dezoito reais). | F7: Benq mp612 | G7: Peça | H7: 30dias | I7: 20dias | J7: 618 | K7: 0 | L7: =K7-(SUM(N7:Y7)) -> 0 | M7: =IF(L7<0,"ATENÇÃO","OK") -> OK | N7: 0 | O7: 0 | P7: 0 | Q7: 0 | R7: 0 | S7: 0 | T7: 0 | U7: 0 | V7: 0 | W7: 0 | X7: 0 | Y7: 0
C8: 8 | D8: Quantidade: 09 (nove) Peças – (LAMPADA ELETRICA PARA PROJETOR MULTIMIDIA Modelo: Epson X12 200W UHE) Marca/modelo: Epson x12 200w UHE - código 00190-2-229, ao preço unitário de R$ 395,00 (trezentos e noventa e cinco reais). | F8: EPSON x12 200w UHE | G8: Peça | H8: 30dias | I8: 20dias | J8: 395 | K8: 0 | L8: =K8-(SUM(N8:Y8)) -> 0 | M8: =IF(L8<0,"ATENÇÃO","OK") -> OK | N8: 0 | O8: 0 | P8: 0 | Q8: 0 | R8: 0 | S8: 0 | T8: 0 | U8: 0 | V8: 0 | W8: 0 | X8: 0 | Y8: 0
C9: 9 | D9: Quantidade: 03 (três) Peças – (LAMPADA ELETRICA PARA PROJETOR MULTIMIDIA Modelo: Infocus W240 SHP 200W) Marca/modelo: Infocus w240 shp 200w - código 00190-2-229, ao preço unitário de R$ 655,00 (seiscentos e cinquenta e cinco reais). | F9: Infocus w240 shp200w | G9: Peça | H9: 30dias | I9: 20dias | J9: 655 | K9: 0 | L9: =K9-(SUM(N9:Y9)) -> 0 | M9: =IF(L9<0,"ATENÇÃO","OK") -> OK | N9: 0 | O9: 0 | P9: 0 | Q9: 0 | R9: 0 | S9: 0 | T9: 0 | U9: 0 | V9: 0 | W9: 0 | X9: 0 | Y9: 0
C10: 10 | D10: Quantidade: 04 (quatro) Peças – (LAMPADA ELETRICA PARA PROJETOR MULTIMIDIA Modelo: Optoma EX536) Marca/modelo: Infocus w240 shp 200w - código 00190-2-229, ao preço unitário de R$ 676,00 (seiscentos e setenta e seis reais). | F10: Infocus w240 shp200w | G10: Peça | H10: 30dias | I10: 20dias | J10: 676 | K10: 0 | L10: =K10-(SUM(N10:Y10)) -> 0 | M10: =IF(L10<0,"ATENÇÃO","OK") -> OK | N10: 0 | O10: 0 | P10: 0 | Q10: 0 | R10: 0 | S10: 0 | T10: 0 | U10: 0 | V10: 0 | W10: 0 | X10: 0 | Y10: 0

Sheet CEFID
A1: PROCESSO: 0596/2013/UDESC | D1: OBJETO: Aquisição de projetores e lâmpadas | K1: VIGÊNCIA DA ATA: 26/09/2013 até 25/09/2014 | N1: AF 367/2013 Qtde. DT | O1: AF 368/2014 Qtde. DT | P1: AF 300/2014 Qtde. DT | Q1: AF 301/2014 Qtde. DT | R1: AF/OS nº xxxx/2014 Qtde. DT | S1: AF/OS nº xxxx/2014 Qtde. DT | T1: AF/OS nº xxxx/2014 Qtde. DT | U1: AF/OS nº xxxx/2014 Qtde. DT | V1: AF/OS nº xxxx/2014 Qtde. DT | W1: AF/OS nº xxxx/2014 Qtde. DT | X1: AF/OS nº xxxx/2014 Qtde. DT | Y1: AF/OS nº xxxx/2014 Qtde. DT
A2: CENTRO PARTICIPANTE: CEFID
A3: FORNECEDOR | B3: LOTE | C3: ITEM | D3: PRODUTO - CARACTERÍSTICAS MÍNIMAS | E3: ELEMENTO | F3: MARCA | G3: UNIDADE | H3: Entrega (Dias) | I3: Pagto. (Dias) | J3: Preço UNITÁRIO (R$) | K3: Qtde LICITADA | L3: Saldo / Automático | M3: ALERTA | N3: ...../...../...... | O3: ...../...../...... | P3: ...../...../...... | Q3: ...../...../...... | R3: ...../...../...... | S3: ...../...../...... | T3: ...../...../...... | U3: ...../...../...... | V3: ...../...../...... | W3: ...../...../...... | X3: ...../...../...... | Y3: ...../...../......
A4: MICROTÉCNICA INFORMÁTICA LTDA | C4: 1 | D4: Quantidade: 328 (trezentos e vinte e oito) Peças - (PROJETOR MULTIMIDIA CARACTERÍSTICAS MÍNIMAS: 1) Canhão de projeção com tecnologia LCD ou DLP; 2) Resolução nativa de 1024x768; 3) Luminosidade de 2500 lumens; 4) Contraste de 3000:1; 5) Reprodução de 16 milhões de cores; 6) Compatibilidade com padrão NTSC e PAL-M; 7) Formato de imagem 4x3 e 16x9; 8) Coreção keystone vertical e horizontal; 9) Controle remoto sem fio; 10) Ajuste de zoom e foco; 11) Tamanho da imagem projetada de 1 a 3 metros na diagonal; 12) Distância entre o projetor e a imagem entre 1 a 5 mestros; 13) Entradas para video analógico VGA (d-sub 15p), S-Video, vídeo composto e video digital HDMI; 14) Entrada para áudio estereo e autofalante; 15) Interface USB 2.0; 16) Duração média da lâmpada de 3000 hrs em uso normal; 17) Peso máximo 4Kg; 18) Ruido menor que 50 db em funcionamento; 19) Projeção mesa/teto, fronta/traseiro; 20) Fonte de alimentação automática operando de 100 a 240 VAC de entrada, 60 Hz. CONDIÇÔES GERAIS: a) Garantia de hardware do tipo on-site de 3 anos (exceto para lampada que deverá ser de 1 ano), disponibilizada pelo fabricante e realizada pelo mesmo ou por empresa autorizada oficialmente, com tempo de solução em até cinco dias; b) Indicação no site do fabricante das especificações técnicas específicas do modelo do equipamento). Marca/modelo: EPSON X12 – código 01277-7-019, ao preço unitário de R$ 1.590,00. | F4: EPSON X12 | G4: Peça | H4: 30dias | I4: 20dias | J4: 1590 | K4: 3 | L4: =K4-(SUM(N4:Y4)) -> 0 | M4: =IF(L4<0,"ATENÇÃO","OK") -> OK | N4: 1 | Q4: 2 | R4: 0 | S4: 0 | T4: 0 | U4: 0 | V4: 0 | W4: 0 | X4: 0 | Y4: 0
A5: ILHA SERVICE SERVIÇOS DE INFORMÁTICA LTDA | C5: 4 | D5: Quantidade: 04 (quatro) Peças – (PROJETOR MULTIMIDIA WIRELESS Projetor Multimidia WIRELESS. Canhão de projeção com tecnologia LCD ou DLP. Resolução nativa de 1024x768 dpi. Luminosidade de 1800 lumens. Projeção de 16 milhões de cores. Contraste de 2000:1. Compatibilidade com padrão NTSC e PAL-M. Controle remoto sem fio. Ajuste de zoom/foco automático ou manual. Tamanho da imagem projetada de 1 a 3 metros na diagonal. Distância entre o projetor e a imagem entre 1,6 a 5 metros. Entradas para S-Video, vídeo composto e áudio. Duração da lâmpada de 1500Hs. Peso máximo 7Kg. Tensão de entrada operando na faixa de 100 a 240 VAC, F/N/T, 60Hz. Permitir a função de projeção da imagem via LAN Wireless com uso de cartão USB fornecido com o equipamento ou LAN RJ45 com uso de software específico fornecido com o equipamento.) Marca/modelo: BENQ MX618ST - código 01277-7-051, ao preço unitário de R$ 2.670,00 (dois mil seiscentos e setenta reais). | F5: BENQ MX618ST | G5: Peça | H5: 30dias | I5: 20dias | J5: 2670 | K5: 4 | L5: =K5-(SUM(N5:Y5)) -> 2 | M5: =IF(L5<0,"ATENÇÃO","OK") -> OK | O5: 1 | P5: 1 | R5: 0 | S5: 0 | T5: 0 | U5: 0 | V5: 0 | W5: 0 | X5: 0 | Y5: 0
C6: 5 | D6: Quantidade: 10 (dez) Peças – (LAMPADA ELETRICA PARA PROJETOR MULTIMIDIA Lâmpada: BLFP180F, Modelo Compatível ao aparelho Optoma BR S551, rincipais características do DS551, Luminosidade de 2800 ANSI lumens e alta relação de contraste de 3500:1; Capacidade 3D; Amigavelmente ecológico, economiza <0.5W de energia. Design da lâmpada no topo para facilitar a substituição.) Marca/modelo: Optoma bl-fp180f - código 00190-2-229, ao preço unitário $ 650,00 (seiscentos e cinquenta reais). | F6: Optoma bl-fp180f | G6: Peça | H6: 30dias | I6: 20dias | J6: 650 | K6: 0 | L6: =K6-(SUM(N6:Y6)) -> 0 | M6: =IF(L6<0,"ATENÇÃO","OK") -> OK | N6: 0 | O6: 0 | P6: 0 | Q6: 0 | R6: 0 | S6: 0 | T6: 0 | U6: 0 | V6: 0 | W6: 0 | X6: 0 | Y6: 0
C7: 7 | D7: Quantidade: 04 (quatro) Peças – (LAMPADA ELETRICA PARA PROJETOR MULTIMIDIA Modelo: Benq MP612) Marca/modelo: Benq mp612 - código 00190-2-229, ao preço unitário de R$ 618,00 (seiscentos e dezoito reais). | F7: Benq mp612 | G7: Peça | H7: 30dias | I7: 20dias | J7: 618 | K7: 0 | L7: =K7-(SUM(N7:Y7)) -> 0 | M7: =IF(L7<0,"ATENÇÃO","OK") -> OK | N7: 0 | O7: 0 | P7: 0 | Q7: 0 | R7: 0 | S7: 0 | T7: 0 | U7: 0 | V7: 0 | W7: 0 | X7: 0 | Y7: 0
C8: 8 | D8: Quantidade: 09 (nove) Peças – (LAMPADA ELETRICA PARA PROJETOR MULTIMIDIA Modelo: Epson X12 200W UHE) Marca/modelo: Epson x12 200w UHE - código 00190-2-229, ao preço unitário de R$ 395,00 (trezentos e noventa e cinco reais). | F8: EPSON x12 200w UHE | G8: Peça | H8: 30dias | I8: 20dias | J8: 395 | K8: 0 | L8: =K8-(SUM(N8:Y8)) -> 0 | M8: =IF(L8<0,"ATENÇÃO","OK") -> OK | N8: 0 | O8: 0 | P8: 0 | Q8: 0 | R8: 0 | S8: 0 | T8: 0 | U8: 0 | V8: 0 | W8: 0 | X8: 0 | Y8: 0
C9: 9 | D9: Quantidade: 03 (três) Peças – (LAMPADA ELETRICA PARA PROJETOR MULTIMIDIA Modelo: Infocus W240 SHP 200W) Marca/modelo: Infocus w240 shp 200w - código 00190-2-229, ao preço unitário de R$ 655,00 (seiscentos e cinquenta e cinco reais). | F9: Infocus w240 shp200w | G9: Peça | H9: 30dias | I9: 20dias | J9: 655 | K9: 0 | L9: =K9-(SUM(N9:Y9)) -> 0 | M9: =IF(L9<0,"ATENÇÃO","OK") -> OK | N9: 0 | O9: 0 | P9: 0 | Q9: 0 | R9: 0 | S9: 0 | T9: 0 | U9: 0 | V9: 0 | W9: 0 | X9: 0 | Y9: 0
C10: 10 | D10: Quantidade: 04 (quatro) Peças – (LAMPADA ELETRICA PARA PROJETOR MULTIMIDIA Modelo: Optoma EX536) Marca/modelo: Infocus w240 shp 200w - código 00190-2-229, ao preço unitário de R$ 676,00 (seiscentos e setenta e seis reais). | F10: Infocus w240 shp200w | G10: Peça | H10: 30dias | I10: 20dias | J10: 676 | K10: 0 | L10: =K10-(SUM(N10:Y10)) -> 0 | M10: =IF(L10<0,"ATENÇÃO","OK") -> OK | N10: 0 | O10: 0 | P10: 0 | Q10: 0 | R10: 0 | S10: 0 | T10: 0 | U10: 0 | V10: 0 | W10: 0 | X10: 0 | Y10: 0

Sheet CESFI
A1: PROCESSO: 0596/2013/UDESC | D1: OBJETO: Aquisição de projetores e lâmpadas | K1: VIGÊNCIA DA ATA: 26/09/2013 até 25/09/2014 | N1: AF/OS nº 1052/2014 Qtde. DT | O1: AF/OS nº xxxx/2014 Qtde. DT | P1: AF/OS nº xxxx/2014 Qtde. DT | Q1: AF/OS nº xxxx/2014 Qtde. DT | R1: AF/OS nº xxxx/2014 Qtde. DT | S1: AF/OS nº xxxx/2014 Qtde. DT | T1: AF/OS nº xxxx/2014 Qtde. DT | U1: AF/OS nº xxxx/2014 Qtde. DT | V1: AF/OS nº xxxx/2014 Qtde. DT | W1: AF/OS nº xxxx/2014 Qtde. DT | X1: AF/OS nº xxxx/2014 Qtde. DT | Y1: AF/OS nº xxxx/2014 Qtde. DT
A2: CENTRO PARTICIPANTE: CESFI
A3: FORNECEDOR | B3: LOTE | C3: ITEM | D3: PRODUTO - CARACTERÍSTICAS MÍNIMAS | E3: ELEMENTO | F3: MARCA | G3: UNIDADE | H3: Entrega (Dias) | I3: Pagto. (Dias) | J3: Preço UNITÁRIO (R$) | K3: Qtde LICITADA | L3: Saldo / Automático | M3: ALERTA | N3: 41876 | O3: ...../...../...... | P3: ...../...../...... | Q3: ...../...../...... | R3: ...../...../...... | S3: ...../...../...... | T3: ...../...../...... | U3: ...../...../...... | V3: ...../...../...... | W3: ...../...../...... | X3: ...../...../...... | Y3: ...../...../......
A4: MICROTÉCNICA INFORMÁTICA LTDA | C4: 1 | D4: Quantidade: 328 (trezentos e vinte e oito) Peças - (PROJETOR MULTIMIDIA CARACTERÍSTICAS MÍNIMAS: 1) Canhão de projeção com tecnologia LCD ou DLP; 2) Resolução nativa de 1024x768; 3) Luminosidade de 2500 lumens; 4) Contraste de 3000:1; 5) Reprodução de 16 milhões de cores; 6) Compatibilidade com padrão NTSC e PAL-M; 7) Formato de imagem 4x3 e 16x9; 8) Coreção keystone vertical e horizontal; 9) Controle remoto sem fio; 10) Ajuste de zoom e foco; 11) Tamanho da imagem projetada de 1 a 3 metros na diagonal; 12) Distância entre o projetor e a imagem entre 1 a 5 mestros; 13) Entradas para video analógico VGA (d-sub 15p), S-Video, vídeo composto e video digital HDMI; 14) Entrada para áudio estereo e autofalante; 15) Interface USB 2.0; 16) Duração média da lâmpada de 3000 hrs em uso normal; 17) Peso máximo 4Kg; 18) Ruido menor que 50 db em funcionamento; 19) Projeção mesa/teto, fronta/traseiro; 20) Fonte de alimentação automática operando de 100 a 240 VAC de entrada, 60 Hz. CONDIÇÔES GERAIS: a) Garantia de hardware do tipo on-site de 3 anos (exceto para lampada que deverá ser de 1 ano), disponibilizada pelo fabricante e realizada pelo mesmo ou por empresa autorizada oficialmente, com tempo de solução em até cinco dias; b) Indicação no site do fabricante das especificações técnicas específicas do modelo do equipamento). Marca/modelo: EPSON X12 – código 01277-7-019, ao preço unitário de R$ 1.590,00. | F4: EPSON X12 | G4: Peça | H4: 30dias | I4: 20dias | J4: 1590 | K4: 0 | L4: =K4-(SUM(N4:Y4)) -> 0 | M4: =IF(L4<0,"ATENÇÃO","OK") -> OK | N4: 0 | O4: 0 | P4: 0 | Q4: 0 | R4: 0 | S4: 0 | T4: 0 | U4: 0 | V4: 0 | W4: 0 | X4: 0 | Y4: 0
A5: ILHA SERVICE SERVIÇOS DE INFORMÁTICA LTDA | C5: 4 | D5: Quantidade: 04 (quatro) Peças – (PROJETOR MULTIMIDIA WIRELESS Projetor Multimidia WIRELESS. Canhão de projeção com tecnologia LCD ou DLP. Resolução nativa de 1024x768 dpi. Luminosidade de 1800 lumens. Projeção de 16 milhões de cores. Contraste de 2000:1. Compatibilidade com padrão NTSC e PAL-M. Controle remoto sem fio. Ajuste de zoom/foco automático ou manual. Tamanho da imagem projetada de 1 a 3 metros na diagonal. Distância entre o projetor e a imagem entre 1,6 a 5 metros. Entradas para S-Video, vídeo composto e áudio. Duração da lâmpada de 1500Hs. Peso máximo 7Kg. Tensão de entrada operando na faixa de 100 a 240 VAC, F/N/T, 60Hz. Permitir a função de projeção da imagem via LAN Wireless com uso de cartão USB fornecido com o equipamento ou LAN RJ45 com uso de software específico fornecido com o equipamento.) Marca/modelo: BENQ MX618ST - código 01277-7-051, ao preço unitário de R$ 2.670,00 (dois mil seiscentos e setenta reais). | F5: BENQ MX618ST | G5: Peça | H5: 30dias | I5: 20dias | J5: 2670 | K5: 0 | L5: =K5-(SUM(N5:Y5)) -> 0 | M5: =IF(L5<0,"ATENÇÃO","OK") -> OK | N5: 0 | O5: 0 | P5: 0 | Q5: 0 | R5: 0 | S5: 0 | T5: 0 | U5: 0 | V5: 0 | W5: 0 | X5: 0 | Y5: 0
C6: 5 | D6: Quantidade: 10 (dez) Peças – (LAMPADA ELETRICA PARA PROJETOR MULTIMIDIA Lâmpada: BLFP180F, Modelo Compatível ao aparelho Optoma BR S551, rincipais características do DS551, Luminosidade de 2800 ANSI lumens e alta relação de contraste de 3500:1; Capacidade 3D; Amigavelmente ecológico, economiza <0.5W de energia. Design da lâmpada no topo para facilitar a substituição.) Marca/modelo: Optoma bl-fp180f - código 00190-2-229, ao preço unitário $ 650,00 (seiscentos e cinquenta reais). | F6: Optoma bl-fp180f | G6: Peça | H6: 30dias | I6: 20dias | J6: 650 | K6: 10 | L6: =K6-(SUM(N6:Y6)) -> 5 | M6: =IF(L6<0,"ATENÇÃO","OK") -> OK | N6: 5 | O6: 0 | P6: 0 | Q6: 0 | R6: 0 | S6: 0 | T6: 0 | U6: 0 | V6: 0 | W6: 0 | X6: 0 | Y6: 0
C7: 7 | D7: Quantidade: 04 (quatro) Peças – (LAMPADA ELETRICA PARA PROJETOR MULTIMIDIA Modelo: Benq MP612) Marca/modelo: Benq mp612 - código 00190-2-229, ao preço unitário de R$ 618,00 (seiscentos e dezoito reais). | F7: Benq mp612 | G7: Peça | H7: 30dias | I7: 20dias | J7: 618 | K7: 0 | L7: =K7-(SUM(N7:Y7)) -> 0 | M7: =IF(L7<0,"ATENÇÃO","OK") -> OK | N7: 0 | O7: 0 | P7: 0 | Q7: 0 | R7: 0 | S7: 0 | T7: 0 | U7: 0 | V7: 0 | W7: 0 | X7: 0 | Y7: 0
C8: 8 | D8: Quantidade: 09 (nove) Peças – (LAMPADA ELETRICA PARA PROJETOR MULTIMIDIA Modelo: Epson X12 200W UHE) Marca/modelo: Epson x12 200w UHE - código 00190-2-229, ao preço unitário de R$ 395,00 (trezentos e noventa e cinco reais). | F8: EPSON x12 200w UHE | G8: Peça | H8: 30dias | I8: 20dias | J8: 395 | K8: 0 | L8: =K8-(SUM(N8:Y8)) -> 0 | M8: =IF(L8<0,"ATENÇÃO","OK") -> OK | N8: 0 | O8: 0 | P8: 0 | Q8: 0 | R8: 0 | S8: 0 | T8: 0 | U8: 0 | V8: 0 | W8: 0 | X8: 0 | Y8: 0
C9: 9 | D9: Quantidade: 03 (três) Peças – (LAMPADA ELETRICA PARA PROJETOR MULTIMIDIA Modelo: Infocus W240 SHP 200W) Marca/modelo: Infocus w240 shp 200w - código 00190-2-229, ao preço unitário de R$ 655,00 (seiscentos e cinquenta e cinco reais). | F9: Infocus w240 shp200w | G9: Peça | H9: 30dias | I9: 20dias | J9: 655 | K9: 0 | L9: =K9-(SUM(N9:Y9)) -> 0 | M9: =IF(L9<0,"ATENÇÃO","OK") -> OK | N9: 0 | O9: 0 | P9: 0 | Q9: 0 | R9: 0 | S9: 0 | T9: 0 | U9: 0 | V9: 0 | W9: 0 | X9: 0 | Y9: 0
C10: 10 | D10: Quantidade: 04 (quatro) Peças – (LAMPADA ELETRICA PARA PROJETOR MULTIMIDIA Modelo: Optoma EX536) Marca/modelo: Infocus w240 shp 200w - código 00190-2-229, ao preço unitário de R$ 676,00 (seiscentos e setenta e seis reais). | F10: Infocus w240 shp200w | G10: Peça | H10: 30dias | I10: 20dias | J10: 676 | K10: 0 | L10: =K10-(SUM(N10:Y10)) -> 0 | M10: =IF(L10<0,"ATENÇÃO","OK") -> OK | N10: 0 | O10: 0 | P10: 0 | Q10: 0 | R10: 0 | S10: 0 | T10: 0 | U10: 0 | V10: 0 | W10: 0 | X10: 0 | Y10: 0

Sheet CEAVI
A1: PROCESSO: 0596/2013/UDESC | D1: OBJETO: Aquisição de projetores e lâmpadas | K1: VIGÊNCIA DA ATA: 26/09/2013 até 25/09/2014 | N1: AF nº 374/2013 Qtde. DT | O1: AF nº 660/2014 Qtde. DT | P1: AF/OS nº xxxx/2014 Qtde. DT | Q1: AF/OS nº xxxx/2014 Qtde. DT | R1: AF/OS nº xxxx/2014 Qtde. DT | S1: AF/OS nº xxxx/2014 Qtde. DT | T1: AF/OS nº xxxx/2014 Qtde. DT | U1: AF/OS nº xxxx/2014 Qtde. DT | V1: AF/OS nº xxxx/2014 Qtde. DT
A2: CENTRO PARTICIPANTE: CEAVI
A3: FORNECEDOR | B3: LOTE | C3: ITEM | D3: PRODUTO - CARACTERÍSTICAS MÍNIMAS | E3: ELEMENTO | F3: MARCA | G3: UNIDADE | H3: Entrega (Dias) | I3: Pagto. (Dias) | J3: Preço UNITÁRIO (R$) | K3: Qtde LICITADA | L3: Saldo / Automático | M3: ALERTA | N3: 41571 | O3: 41827 | P3: ...../...../...... | Q3: ...../...../...... | R3: ...../...../...... | S3: ...../...../...... | T3: ...../...../...... | U3: ...../...../...... | V3: ...../...../......
A4: MICROTÉCNICA INFORMÁTICA LTDA | C4: 1 | D4: Quantidade: 328 (trezentos e vinte e oito) Peças - (PROJETOR MULTIMIDIA CARACTERÍSTICAS MÍNIMAS: 1) Canhão de projeção com tecnologia LCD ou DLP; 2) Resolução nativa de 1024x768; 3) Luminosidade de 2500 lumens; 4) Contraste de 3000:1; 5) Reprodução de 16 milhões de cores; 6) Compatibilidade com padrão NTSC e PAL-M; 7) Formato de imagem 4x3 e 16x9; 8) Coreção keystone vertical e horizontal; 9) Controle remoto sem fio; 10) Ajuste de zoom e foco; 11) Tamanho da imagem projetada de 1 a 3 metros na diagonal; 12) Distância entre o projetor e a imagem entre 1 a 5 mestros; 13) Entradas para video analógico VGA (d-sub 15p), S-Video, vídeo composto e video digital HDMI; 14) Entrada para áudio estereo e autofalante; 15) Interface USB 2.0; 16) Duração média da lâmpada de 3000 hrs em uso normal; 17) Peso máximo 4Kg; 18) Ruido menor que 50 db em funcionamento; 19) Projeção mesa/teto, fronta/traseiro; 20) Fonte de alimentação automática operando de 100 a 240 VAC de entrada, 60 Hz. CONDIÇÔES GERAIS: a) Garantia de hardware do tipo on-site de 3 anos (exceto para lampada que deverá ser de 1 ano), disponibilizada pelo fabricante e realizada pelo mesmo ou por empresa autorizada oficialmente, com tempo de solução em até cinco dias; b) Indicação no site do fabricante das especificações técnicas específicas do modelo do equipamento). Marca/modelo: EPSON X12 – código 01277-7-019, ao preço unitário de R$ 1.590,00. | F4: EPSON X12 | G4: Peça | H4: 30dias | I4: 20dias | J4: 1590 | K4: =50-1-5-3 -> 41 | L4: =K4-(SUM(N4:V4)) -> 5 | M4: =IF(L4<0,"ATENÇÃO","OK") -> OK | N4: 25 | O4: 11 | P4: 0 | Q4: 0 | R4: 0 | S4: 0 | T4: 0 | U4: 0 | V4: 0
A5: ILHA SERVICE SERVIÇOS DE INFORMÁTICA LTDA | C5: 4 | D5: Quantidade: 04 (quatro) Peças – (PROJETOR MULTIMIDIA WIRELESS Projetor Multimidia WIRELESS. Canhão de projeção com tecnologia LCD ou DLP. Resolução nativa de 1024x768 dpi. Luminosidade de 1800 lumens. Projeção de 16 milhões de cores. Contraste de 2000:1. Compatibilidade com padrão NTSC e PAL-M. Controle remoto sem fio. Ajuste de zoom/foco automático ou manual. Tamanho da imagem projetada de 1 a 3 metros na diagonal. Distância entre o projetor e a imagem entre 1,6 a 5 metros. Entradas para S-Video, vídeo composto e áudio. Duração da lâmpada de 1500Hs. Peso máximo 7Kg. Tensão de entrada operando na faixa de 100 a 240 VAC, F/N/T, 60Hz. Permitir a função de projeção da imagem via LAN Wireless com uso de cartão USB fornecido com o equipamento ou LAN RJ45 com uso de software específico fornecido com o equipamento.) Marca/modelo: BENQ MX618ST - código 01277-7-051, ao preço unitário de R$ 2.670,00 (dois mil seiscentos e setenta reais). | F5: BENQ MX618ST | G5: Peça | H5: 30dias | I5: 20dias | J5: 2670 | K5: 0 | L5: =K5-(SUM(N5:V5)) -> 0 | M5: =IF(L5<0,"ATENÇÃO","OK") -> OK | N5: 0 | O5: 0 | P5: 0 | Q5: 0 | R5: 0 | S5: 0 | T5: 0 | U5: 0 | V5: 0
C6: 5 | D6: Quantidade: 10 (dez) Peças – (LAMPADA ELETRICA PARA PROJETOR MULTIMIDIA Lâmpada: BLFP180F, Modelo Compatível ao aparelho Optoma BR S551, rincipais características do DS551, Luminosidade de 2800 ANSI lumens e alta relação de contraste de 3500:1; Capacidade 3D; Amigavelmente ecológico, economiza <0.5W de energia. Design da lâmpada no topo para facilitar a substituição.) Marca/modelo: Optoma bl-fp180f - código 00190-2-229, ao preço unitário $ 650,00 (seiscentos e cinquenta reais). | F6: Optoma bl-fp180f | G6: Peça | H6: 30dias | I6: 20dias | J6: 650 | K6: 0 | L6: =K6-(SUM(N6:V6)) -> 0 | M6: =IF(L6<0,"ATENÇÃO","OK") -> OK | N6: 0 | O6: 0 | P6: 0 | Q6: 0 | R6: 0 | S6: 0 | T6: 0 | U6: 0 | V6: 0
C7: 7 | D7: Quantidade: 04 (quatro) Peças – (LAMPADA ELETRICA PARA PROJETOR MULTIMIDIA Modelo: Benq MP612) Marca/modelo: Benq mp612 - código 00190-2-229, ao preço unitário de R$ 618,00 (seiscentos e dezoito reais). | F7: Benq mp612 | G7: Peça | H7: 30dias | I7: 20dias | J7: 618 | K7: 0 | L7: =K7-(SUM(N7:V7)) -> 0 | M7: =IF(L7<0,"ATENÇÃO","OK") -> OK | N7: 0 | O7: 0 | P7: 0 | Q7: 0 | R7: 0 | S7: 0 | T7: 0 | U7: 0 | V7: 0
C8: 8 | D8: Quantidade: 09 (nove) Peças – (LAMPADA ELETRICA PARA PROJETOR MULTIMIDIA Modelo: Epson X12 200W UHE) Marca/modelo: Epson x12 200w UHE - código 00190-2-229, ao preço unitário de R$ 395,00 (trezentos e noventa e cinco reais). | F8: EPSON x12 200w UHE | G8: Peça | H8: 30dias | I8: 20dias | J8: 395 | K8: 0 | L8: =K8-(SUM(N8:V8)) -> 0 | M8: =IF(L8<0,"ATENÇÃO","OK") -> OK | N8: 0 | O8: 0 | P8: 0 | Q8: 0 | R8: 0 | S8: 0 | T8: 0 | U8: 0 | V8: 0
C9: 9 | D9: Quantidade: 03 (três) Peças – (LAMPADA ELETRICA PARA PROJETOR MULTIMIDIA Modelo: Infocus W240 SHP 200W) Marca/modelo: Infocus w240 shp 200w - código 00190-2-229, ao preço unitário de R$ 655,00 (seiscentos e cinquenta e cinco reais). | F9: Infocus w240 shp200w | G9: Peça | H9: 30dias | I9: 20dias | J9: 655 | K9: 0 | L9: =K9-(SUM(N9:V9)) -> 0 | M9: =IF(L9<0,"ATENÇÃO","OK") -> OK | N9: 0 | O9: 0 | P9: 0 | Q9: 0 | R9: 0 | S9: 0 | T9: 0 | U9: 0 | V9: 0
C10: 10 | D10: Quantidade: 04 (quatro) Peças – (LAMPADA ELETRICA PARA PROJETOR MULTIMIDIA Modelo: Optoma EX536) Marca/modelo: Infocus w240 shp 200w - código 00190-2-229, ao preço unitário de R$ 676,00 (seiscentos e setenta e seis reais). | F10: Infocus w240 shp200w | G10: Peça | H10: 30dias | I10: 20dias | J10: 676 | K10: 0 | L10: =K10-(SUM(N10:V10)) -> 0 | M10: =IF(L10<0,"ATENÇÃO","OK") -> OK | N10: 0 | O10: 0 | P10: 0 | Q10: 0 | R10: 0 | S10: 0 | T10: 0 | U10: 0 | V10: 0

Sheet CCT
A1: PROCESSO: 0596/2013/UDESC | D1: OBJETO: Aquisição de projetores e lâmpadas | K1: VIGÊNCIA DA ATA: 26/09/2013 até 25/09/2014 | N1: AF/OS nº 0389/2013 Qtde. DT | O1: AF/OS nº 0086/2014 Qtde. DT | P1: AF/OS nº 0539/2014 Qtde. DT | Q1: AF/OS nº 0540/2014 Qtde. DT | R1: AF/OS nº 0541/2014 Qtde. DT | S1: AF/OS nº 0542/2014 Qtde. DT | T1: AF/OS nº xxxx/2014 Qtde. DT | U1: AF/OS nº xxxx/2014 Qtde. DT | V1: AF/OS nº xxxx/2014 Qtde. DT | W1: AF/OS nº xxxx/2014 Qtde. DT | X1: AF/OS nº xxxx/2014 Qtde. DT | Y1: AF/OS nº xxxx/2014 Qtde. DT
A2: CENTRO PARTICIPANTE: CCT
A3: FORNECEDOR | B3: LOTE | C3: ITEM | D3: PRODUTO - CARACTERÍSTICAS MÍNIMAS | E3: ELEMENTO | F3: MARCA | G3: UNIDADE | H3: Entrega (Dias) | I3: Pagto. (Dias) | J3: Preço UNITÁRIO (R$) | K3: Qtde LICITADA | L3: Saldo / Automático | M3: ALERTA | N3: 41583 | O3: 41703 | P3: 41794 | Q3: 41794 | R3: 41794 | S3: 41794 | T3: ...../...../...... | U3: ...../...../...... | V3: ...../...../...... | W3: ...../...../...... | X3: ...../...../...... | Y3: ...../...../......
A4: MICROTÉCNICA INFORMÁTICA LTDA | C4: 1 | D4: Quantidade: 328 (trezentos e vinte e oito) Peças - (PROJETOR MULTIMIDIA CARACTERÍSTICAS MÍNIMAS: 1) Canhão de projeção com tecnologia LCD ou DLP; 2) Resolução nativa de 1024x768; 3) Luminosidade de 2500 lumens; 4) Contraste de 3000:1; 5) Reprodução de 16 milhões de cores; 6) Compatibilidade com padrão NTSC e PAL-M; 7) Formato de imagem 4x3 e 16x9; 8) Coreção keystone vertical e horizontal; 9) Controle remoto sem fio; 10) Ajuste de zoom e foco; 11) Tamanho da imagem projetada de 1 a 3 metros na diagonal; 12) Distância entre o projetor e a imagem entre 1 a 5 mestros; 13) Entradas para video analógico VGA (d-sub 15p), S-Video, vídeo composto e video digital HDMI; 14) Entrada para áudio estereo e autofalante; 15) Interface USB 2.0; 16) Duração média da lâmpada de 3000 hrs em uso normal; 17) Peso máximo 4Kg; 18) Ruido menor que 50 db em funcionamento; 19) Projeção mesa/teto, fronta/traseiro; 20) Fonte de alimentação automática operando de 100 a 240 VAC de entrada, 60 Hz. CONDIÇÔES GERAIS: a) Garantia de hardware do tipo on-site de 3 anos (exceto para lampada que deverá ser de 1 ano), disponibilizada pelo fabricante e realizada pelo mesmo ou por empresa autorizada oficialmente, com tempo de solução em até cinco dias; b) Indicação no site do fabricante das especificações técnicas específicas do modelo do equipamento). Marca/modelo: EPSON X12 – código 01277-7-019, ao preço unitário de R$ 1.590,00. | F4: EPSON X12 | G4: Peça | H4: 30dias | I4: 20dias | J4: 1590 | K4: 80 | L4: =K4-(SUM(N4:Y4)) -> 0 | M4: =IF(L4<0,"ATENÇÃO","OK") -> OK | N4: 40 | O4: 30 | P4: 5 | Q4: 2 | R4: 2 | S4: 1 | T4: 0 | U4: 0 | V4: 0 | W4: 0 | X4: 0 | Y4: 0
A5: ILHA SERVICE SERVIÇOS DE INFORMÁTICA LTDA | C5: 4 | D5: Quantidade: 04 (quatro) Peças – (PROJETOR MULTIMIDIA WIRELESS Projetor Multimidia WIRELESS. Canhão de projeção com tecnologia LCD ou DLP. Resolução nativa de 1024x768 dpi. Luminosidade de 1800 lumens. Projeção de 16 milhões de cores. Contraste de 2000:1. Compatibilidade com padrão NTSC e PAL-M. Controle remoto sem fio. Ajuste de zoom/foco automático ou manual. Tamanho da imagem projetada de 1 a 3 metros na diagonal. Distância entre o projetor e a imagem entre 1,6 a 5 metros. Entradas para S-Video, vídeo composto e áudio. Duração da lâmpada de 1500Hs. Peso máximo 7Kg. Tensão de entrada operando na faixa de 100 a 240 VAC, F/N/T, 60Hz. Permitir a função de projeção da imagem via LAN Wireless com uso de cartão USB fornecido com o equipamento ou LAN RJ45 com uso de software específico fornecido com o equipamento.) Marca/modelo: BENQ MX618ST - código 01277-7-051, ao preço unitário de R$ 2.670,00 (dois mil seiscentos e setenta reais). | F5: BENQ MX618ST | G5: Peça | H5: 30dias | I5: 20dias | J5: 2670 | K5: 0 | L5: =K5-(SUM(N5:Y5)) -> 0 | M5: =IF(L5<0,"ATENÇÃO","OK") -> OK | N5: 0 | O5: 0 | P5: 0 | Q5: 0 | R5: 0 | S5: 0 | T5: 0 | U5: 0 | V5: 0 | W5: 0 | X5: 0 | Y5: 0
C6: 5 | D6: Quantidade: 10 (dez) Peças – (LAMPADA ELETRICA PARA PROJETOR MULTIMIDIA Lâmpada: BLFP180F, Modelo Compatível ao aparelho Optoma BR S551, rincipais características do DS551, Luminosidade de 2800 ANSI lumens e alta relação de contraste de 3500:1; Capacidade 3D; Amigavelmente ecológico, economiza <0.5W de energia. Design da lâmpada no topo para facilitar a substituição.) Marca/modelo: Optoma bl-fp180f - código 00190-2-229, ao preço unitário $ 650,00 (seiscentos e cinquenta reais). | F6: Optoma bl-fp180f | G6: Peça | H6: 30dias | I6: 20dias | J6: 650 | K6: 0 | L6: =K6-(SUM(N6:Y6)) -> 0 | M6: =IF(L6<0,"ATENÇÃO","OK") -> OK | N6: 0 | O6: 0 | P6: 0 | Q6: 0 | R6: 0 | S6: 0 | T6: 0 | U6: 0 | V6: 0 | W6: 0 | X6: 0 | Y6: 0
C7: 7 | D7: Quantidade: 04 (quatro) Peças – (LAMPADA ELETRICA PARA PROJETOR MULTIMIDIA Modelo: Benq MP612) Marca/modelo: Benq mp612 - código 00190-2-229, ao preço unitário de R$ 618,00 (seiscentos e dezoito reais). | F7: Benq mp612 | G7: Peça | H7: 30dias | I7: 20dias | J7: 618 | K7: 0 | L7: =K7-(SUM(N7:Y7)) -> 0 | M7: =IF(L7<0,"ATENÇÃO","OK") -> OK | N7: 0 | O7: 0 | P7: 0 | Q7: 0 | R7: 0 | S7: 0 | T7: 0 | U7: 0 | V7: 0 | W7: 0 | X7: 0 | Y7: 0
C8: 8 | D8: Quantidade: 09 (nove) Peças – (LAMPADA ELETRICA PARA PROJETOR MULTIMIDIA Modelo: Epson X12 200W UHE) Marca/modelo: Epson x12 200w UHE - código 00190-2-229, ao preço unitário de R$ 395,00 (trezentos e noventa e cinco reais). | F8: EPSON x12 200w UHE | G8: Peça | H8: 30dias | I8: 20dias | J8: 395 | K8: 0 | L8: =K8-(SUM(N8:Y8)) -> 0 | M8: =IF(L8<0,"ATENÇÃO","OK") -> OK | N8: 0 | O8: 0 | P8: 0 | Q8: 0 | R8: 0 | S8: 0 | T8: 0 | U8: 0 | V8: 0 | W8: 0 | X8: 0 | Y8: 0
C9: 9 | D9: Quantidade: 03 (três) Peças – (LAMPADA ELETRICA PARA PROJETOR MULTIMIDIA Modelo: Infocus W240 SHP 200W) Marca/modelo: Infocus w240 shp 200w - código 00190-2-229, ao preço unitário de R$ 655,00 (seiscentos e cinquenta e cinco reais). | F9: Infocus w240 shp200w | G9: Peça | H9: 30dias | I9: 20dias | J9: 655 | K9: 0 | L9: =K9-(SUM(N9:Y9)) -> 0 | M9: =IF(L9<0,"ATENÇÃO","OK") -> OK | N9: 0 | O9: 0 | P9: 0 | Q9: 0 | R9: 0 | S9: 0 | T9: 0 | U9: 0 | V9: 0 | W9: 0 | X9: 0 | Y9: 0
C10: 10 | D10: Quantidade: 04 (quatro) Peças – (LAMPADA ELETRICA PARA PROJETOR MULTIMIDIA Modelo: Optoma EX536) Marca/modelo: Infocus w240 shp 200w - código 00190-2-229, ao preço unitário de R$ 676,00 (seiscentos e setenta e seis reais). | F10: Infocus w240 shp200w | G10: Peça | H10: 30dias | I10: 20dias | J10: 676 | K10: 0 | L10: =K10-(SUM(N10:Y10)) -> 0 | M10: =IF(L10<0,"ATENÇÃO","OK") -> OK | N10: 0 | O10: 0 | P10: 0 | Q10: 0 | R10: 0 | S10: 0 | T10: 0 | U10: 0 | V10: 0 | W10: 0 | X10: 0 | Y10: 0

Sheet CEPLAN
A1: PROCESSO: 0596/2013/UDESC | D1: OBJETO: Aquisição de projetores e lâmpadas | K1: VIGÊNCIA DA ATA: 26/09/2013 até 25/09/2014 | N1: AF 375/2013 Qtde. DT | O1: AF/OS nº xxxx/2014 Qtde. DT | P1: AF/OS nº xxxx/2014 Qtde. DT | Q1: AF/OS nº xxxx/2014 Qtde. DT | R1: AF/OS nº xxxx/2014 Qtde. DT | S1: AF/OS nº xxxx/2014 Qtde. DT | T1: AF/OS nº xxxx/2014 Qtde. DT | U1: AF/OS nº xxxx/2014 Qtde. DT | V1: AF/OS nº xxxx/2014 Qtde. DT | W1: AF/OS nº xxxx/2014 Qtde. DT | X1: AF/OS nº xxxx/2014 Qtde. DT | Y1: AF/OS nº xxxx/2014 Qtde. DT
A2: CENTRO PARTICIPANTE: CEPLAN
A3: FORNECEDOR | B3: LOTE | C3: ITEM | D3: PRODUTO - CARACTERÍSTICAS MÍNIMAS | E3: ELEMENTO | F3: MARCA | G3: UNIDADE | H3: Entrega (Dias) | I3: Pagto. (Dias) | J3: Preço UNITÁRIO (R$) | K3: Qtde LICITADA | L3: Saldo / Automático | M3: ALERTA | N3: ...../...../...... | O3: ...../...../...... | P3: ...../...../...... | Q3: ...../...../...... | R3: ...../...../...... | S3: ...../...../...... | T3: ...../...../...... | U3: ...../...../...... | V3: ...../...../...... | W3: ...../...../...... | X3: ...../...../...... | Y3: ...../...../......
A4: MICROTÉCNICA INFORMÁTICA LTDA | C4: 1 | D4: Quantidade: 328 (trezentos e vinte e oito) Peças - (PROJETOR MULTIMIDIA CARACTERÍSTICAS MÍNIMAS: 1) Canhão de projeção com tecnologia LCD ou DLP; 2) Resolução nativa de 1024x768; 3) Luminosidade de 2500 lumens; 4) Contraste de 3000:1; 5) Reprodução de 16 milhões de cores; 6) Compatibilidade com padrão NTSC e PAL-M; 7) Formato de imagem 4x3 e 16x9; 8) Coreção keystone vertical e horizontal; 9) Controle remoto sem fio; 10) Ajuste de zoom e foco; 11) Tamanho da imagem projetada de 1 a 3 metros na diagonal; 12) Distância entre o projetor e a imagem entre 1 a 5 mestros; 13) Entradas para video analógico VGA (d-sub 15p), S-Video, vídeo composto e video digital HDMI; 14) Entrada para áudio estereo e autofalante; 15) Interface USB 2.0; 16) Duração média da lâmpada de 3000 hrs em uso normal; 17) Peso máximo 4Kg; 18) Ruido menor que 50 db em funcionamento; 19) Projeção mesa/teto, fronta/traseiro; 20) Fonte de alimentação automática operando de 100 a 240 VAC de entrada, 60 Hz. CONDIÇÔES GERAIS: a) Garantia de hardware do tipo on-site de 3 anos (exceto para lampada que deverá ser de 1 ano), disponibilizada pelo fabricante e realizada pelo mesmo ou por empresa autorizada oficialmente, com tempo de solução em até cinco dias; b) Indicação no site do fabricante das especificações técnicas específicas do modelo do equipamento). Marca/modelo: EPSON X12 – código 01277-7-019, ao preço unitário de R$ 1.590,00. | F4: EPSON X12 | G4: Peça | H4: 30dias | I4: 20dias | J4: 1590 | K4: 13 | L4: =K4-(SUM(N4:Y4)) -> 0 | M4: =IF(L4<0,"ATENÇÃO","OK") -> OK | N4: 13 | O4: 0 | P4: 0 | Q4: 0 | R4: 0 | S4: 0 | T4: 0 | U4: 0 | V4: 0 | W4: 0 | X4: 0 | Y4: 0
A5: ILHA SERVICE SERVIÇOS DE INFORMÁTICA LTDA | C5: 4 | D5: Quantidade: 04 (quatro) Peças – (PROJETOR MULTIMIDIA WIRELESS Projetor Multimidia WIRELESS. Canhão de projeção com tecnologia LCD ou DLP. Resolução nativa de 1024x768 dpi. Luminosidade de 1800 lumens. Projeção de 16 milhões de cores. Contraste de 2000:1. Compatibilidade com padrão NTSC e PAL-M. Controle remoto sem fio. Ajuste de zoom/foco automático ou manual. Tamanho da imagem projetada de 1 a 3 metros na diagonal. Distância entre o projetor e a imagem entre 1,6 a 5 metros. Entradas para S-Video, vídeo composto e áudio. Duração da lâmpada de 1500Hs. Peso máximo 7Kg. Tensão de entrada operando na faixa de 100 a 240 VAC, F/N/T, 60Hz. Permitir a função de projeção da imagem via LAN Wireless com uso de cartão USB fornecido com o equipamento ou LAN RJ45 com uso de software específico fornecido com o equipamento.) Marca/modelo: BENQ MX618ST - código 01277-7-051, ao preço unitário de R$ 2.670,00 (dois mil seiscentos e setenta reais). | F5: BENQ MX618ST | G5: Peça | H5: 30dias | I5: 20dias | J5: 2670 | K5: 0 | L5: =K5-(SUM(N5:Y5)) -> 0 | M5: =IF(L5<0,"ATENÇÃO","OK") -> OK | N5: 0 | O5: 0 | P5: 0 | Q5: 0 | R5: 0 | S5: 0 | T5: 0 | U5: 0 | V5: 0 | W5: 0 | X5: 0 | Y5: 0
C6: 5 | D6: Quantidade: 10 (dez) Peças – (LAMPADA ELETRICA PARA PROJETOR MULTIMIDIA Lâmpada: BLFP180F, Modelo Compatível ao aparelho Optoma BR S551, rincipais características do DS551, Luminosidade de 2800 ANSI lumens e alta relação de contraste de 3500:1; Capacidade 3D; Amigavelmente ecológico, economiza <0.5W de energia. Design da lâmpada no topo para facilitar a substituição.) Marca/modelo: Optoma bl-fp180f - código 00190-2-229, ao preço unitário $ 650,00 (seiscentos e cinquenta reais). | F6: Optoma bl-fp180f | G6: Peça | H6: 30dias | I6: 20dias | J6: 650 | K6: 0 | L6: =K6-(SUM(N6:Y6)) -> 0 | M6: =IF(L6<0,"ATENÇÃO","OK") -> OK | N6: 0 | O6: 0 | P6: 0 | Q6: 0 | R6: 0 | S6: 0 | T6: 0 | U6: 0 | V6: 0 | W6: 0 | X6: 0 | Y6: 0
C7: 7 | D7: Quantidade: 04 (quatro) Peças – (LAMPADA ELETRICA PARA PROJETOR MULTIMIDIA Modelo: Benq MP612) Marca/modelo: Benq mp612 - código 00190-2-229, ao preço unitário de R$ 618,00 (seiscentos e dezoito reais). | F7: Benq mp612 | G7: Peça | H7: 30dias | I7: 20dias | J7: 618 | K7: 0 | L7: =K7-(SUM(N7:Y7)) -> 0 | M7: =IF(L7<0,"ATENÇÃO","OK") -> OK | N7: 0 | O7: 0 | P7: 0 | Q7: 0 | R7: 0 | S7: 0 | T7: 0 | U7: 0 | V7: 0 | W7: 0 | X7: 0 | Y7: 0
C8: 8 | D8: Quantidade: 09 (nove) Peças – (LAMPADA ELETRICA PARA PROJETOR MULTIMIDIA Modelo: Epson X12 200W UHE) Marca/modelo: Epson x12 200w UHE - código 00190-2-229, ao preço unitário de R$ 395,00 (trezentos e noventa e cinco reais). | F8: EPSON x12 200w UHE | G8: Peça | H8: 30dias | I8: 20dias | J8: 395 | K8: 0 | L8: =K8-(SUM(N8:Y8)) -> 0 | M8: =IF(L8<0,"ATENÇÃO","OK") -> OK | N8: 0 | O8: 0 | P8: 0 | Q8: 0 | R8: 0 | S8: 0 | T8: 0 | U8: 0 | V8: 0 | W8: 0 | X8: 0 | Y8: 0
C9: 9 | D9: Quantidade: 03 (três) Peças – (LAMPADA ELETRICA PARA PROJETOR MULTIMIDIA Modelo: Infocus W240 SHP 200W) Marca/modelo: Infocus w240 shp 200w - código 00190-2-229, ao preço unitário de R$ 655,00 (seiscentos e cinquenta e cinco reais). | F9: Infocus w240 shp200w | G9: Peça | H9: 30dias | I9: 20dias | J9: 655 | K9: 0 | L9: =K9-(SUM(N9:Y9)) -> 0 | M9: =IF(L9<0,"ATENÇÃO","OK") -> OK | N9: 0 | O9: 0 | P9: 0 | Q9: 0 | R9: 0 | S9: 0 | T9: 0 | U9: 0 | V9: 0 | W9: 0 | X9: 0 | Y9: 0
C10: 10 | D10: Quantidade: 04 (quatro) Peças – (LAMPADA ELETRICA PARA PROJETOR MULTIMIDIA Modelo: Optoma EX536) Marca/modelo: Infocus w240 shp 200w - código 00190-2-229, ao preço unitário de R$ 676,00 (seiscentos e setenta e seis reais). | F10: Infocus w240 shp200w | G10: Peça | H10: 30dias | I10: 20dias | J10: 676 | K10: 0 | L10: =K10-(SUM(N10:Y10)) -> 0 | M10: =IF(L10<0,"ATENÇÃO","OK") -> OK | N10: 0 | O10: 0 | P10: 0 | Q10: 0 | R10: 0 | S10: 0 | T10: 0 | U10: 0 | V10: 0 | W10: 0 | X10: 0 | Y10: 0

Sheet CAV
A1: PROCESSO: 0596/2013/UDESC | D1: OBJETO: Aquisição de projetores e lâmpadas | K1: VIGÊNCIA DA ATA: 26/09/2013 até 25/09/2014 | N1: AF/OS nº 29/2014 Qtde. DT | O1: AF/OS nº xxxx/2014 Qtde. DT | P1: AF/OS nº xxxx/2014 Qtde. DT | Q1: AF/OS nº xxxx/2014 Qtde. DT | R1: AF/OS nº xxxx/2014 Qtde. DT | S1: AF/OS nº xxxx/2014 Qtde. DT | T1: AF/OS nº xxxx/2014 Qtde. DT | U1: AF/OS nº xxxx/2014 Qtde. DT | V1: AF/OS nº xxxx/2014 Qtde. DT | W1: AF/OS nº xxxx/2014 Qtde. DT | X1: AF/OS nº xxxx/2014 Qtde. DT | Y1: AF/OS nº xxxx/2014 Qtde. DT
A2: CENTRO PARTICIPANTE: CAV
A3: FORNECEDOR | B3: LOTE | C3: ITEM | D3: PRODUTO - CARACTERÍSTICAS MÍNIMAS | E3: ELEMENTO | F3: MARCA | G3: UNIDADE | H3: Entrega (Dias) | I3: Pagto. (Dias) | J3: Preço UNITÁRIO (R$) | K3: Qtde LICITADA | L3: Saldo / Automático | M3: ALERTA | N3: 41718 | O3: ...../...../...... | P3: ...../...../...... | Q3: ...../...../...... | R3: ...../...../...... | S3: ...../...../...... | T3: ...../...../...... | U3: ...../...../...... | V3: ...../...../...... | W3: ...../...../...... | X3: ...../...../...... | Y3: ...../...../......
A4: MICROTÉCNICA INFORMÁTICA LTDA | C4: 1 | D4: Quantidade: 328 (trezentos e vinte e oito) Peças - (PROJETOR MULTIMIDIA CARACTERÍSTICAS MÍNIMAS: 1) Canhão de projeção com tecnologia LCD ou DLP; 2) Resolução nativa de 1024x768; 3) Luminosidade de 2500 lumens; 4) Contraste de 3000:1; 5) Reprodução de 16 milhões de cores; 6) Compatibilidade com padrão NTSC e PAL-M; 7) Formato de imagem 4x3 e 16x9; 8) Coreção keystone vertical e horizontal; 9) Controle remoto sem fio; 10) Ajuste de zoom e foco; 11) Tamanho da imagem projetada de 1 a 3 metros na diagonal; 12) Distância entre o projetor e a imagem entre 1 a 5 mestros; 13) Entradas para video analógico VGA (d-sub 15p), S-Video, vídeo composto e video digital HDMI; 14) Entrada para áudio estereo e autofalante; 15) Interface USB 2.0; 16) Duração média da lâmpada de 3000 hrs em uso normal; 17) Peso máximo 4Kg; 18) Ruido menor que 50 db em funcionamento; 19) Projeção mesa/teto, fronta/traseiro; 20) Fonte de alimentação automática operando de 100 a 240 VAC de entrada, 60 Hz. CONDIÇÔES GERAIS: a) Garantia de hardware do tipo on-site de 3 anos (exceto para lampada que deverá ser de 1 ano), disponibilizada pelo fabricante e realizada pelo mesmo ou por empresa autorizada oficialmente, com tempo de solução em até cinco dias; b) Indicação no site do fabricante das especificações técnicas específicas do modelo do equipamento). Marca/modelo: EPSON X12 – código 01277-7-019, ao preço unitário de R$ 1.590,00. | F4: EPSON X12 | G4: Peça | H4: 30dias | I4: 20dias | J4: 1590 | K4: =32+3 -> 35 | L4: =K4-(SUM(N4:Y4)) -> 0 | M4: =IF(L4<0,"ATENÇÃO","OK") -> OK | N4: 32 | O4: 3 | P4: 0 | Q4: 0 | R4: 0 | S4: 0 | T4: 0 | U4: 0 | V4: 0 | W4: 0 | X4: 0 | Y4: 0
A5: ILHA SERVICE SERVIÇOS DE INFORMÁTICA LTDA | C5: 4 | D5: Quantidade: 04 (quatro) Peças – (PROJETOR MULTIMIDIA WIRELESS Projetor Multimidia WIRELESS. Canhão de projeção com tecnologia LCD ou DLP. Resolução nativa de 1024x768 dpi. Luminosidade de 1800 lumens. Projeção de 16 milhões de cores. Contraste de 2000:1. Compatibilidade com padrão NTSC e PAL-M. Controle remoto sem fio. Ajuste de zoom/foco automático ou manual. Tamanho da imagem projetada de 1 a 3 metros na diagonal. Distância entre o projetor e a imagem entre 1,6 a 5 metros. Entradas para S-Video, vídeo composto e áudio. Duração da lâmpada de 1500Hs. Peso máximo 7Kg. Tensão de entrada operando na faixa de 100 a 240 VAC, F/N/T, 60Hz. Permitir a função de projeção da imagem via LAN Wireless com uso de cartão USB fornecido com o equipamento ou LAN RJ45 com uso de software específico fornecido com o equipamento.) Marca/modelo: BENQ MX618ST - código 01277-7-051, ao preço unitário de R$ 2.670,00 (dois mil seiscentos e setenta reais). | F5: BENQ MX618ST | G5: Peça | H5: 30dias | I5: 20dias | J5: 2670 | K5: 0 | L5: =K5-(SUM(N5:Y5)) -> 0 | M5: =IF(L5<0,"ATENÇÃO","OK") -> OK | N5: 0 | O5: 0 | P5: 0 | Q5: 0 | R5: 0 | S5: 0 | T5: 0 | U5: 0 | V5: 0 | W5: 0 | X5: 0 | Y5: 0
C6: 5 | D6: Quantidade: 10 (dez) Peças – (LAMPADA ELETRICA PARA PROJETOR MULTIMIDIA Lâmpada: BLFP180F, Modelo Compatível ao aparelho Optoma BR S551, rincipais características do DS551, Luminosidade de 2800 ANSI lumens e alta relação de contraste de 3500:1; Capacidade 3D; Amigavelmente ecológico, economiza <0.5W de energia. Design da lâmpada no topo para facilitar a substituição.) Marca/modelo: Optoma bl-fp180f - código 00190-2-229, ao preço unitário $ 650,00 (seiscentos e cinquenta reais). | F6: Optoma bl-fp180f | G6: Peça | H6: 30dias | I6: 20dias | J6: 650 | K6: 0 | L6: =K6-(SUM(N6:Y6)) -> 0 | M6: =IF(L6<0,"ATENÇÃO","OK") -> OK | N6: 0 | O6: 0 | P6: 0 | Q6: 0 | R6: 0 | S6: 0 | T6: 0 | U6: 0 | V6: 0 | W6: 0 | X6: 0 | Y6: 0
C7: 7 | D7: Quantidade: 04 (quatro) Peças – (LAMPADA ELETRICA PARA PROJETOR MULTIMIDIA Modelo: Benq MP612) Marca/modelo: Benq mp612 - código 00190-2-229, ao preço unitário de R$ 618,00 (seiscentos e dezoito reais). | F7: Benq mp612 | G7: Peça | H7: 30dias | I7: 20dias | J7: 618 | K7: 0 | L7: =K7-(SUM(N7:Y7)) -> 0 | M7: =IF(L7<0,"ATENÇÃO","OK") -> OK | N7: 0 | O7: 0 | P7: 0 | Q7: 0 | R7: 0 | S7: 0 | T7: 0 | U7: 0 | V7: 0 | W7: 0 | X7: 0 | Y7: 0
C8: 8 | D8: Quantidade: 09 (nove) Peças – (LAMPADA ELETRICA PARA PROJETOR MULTIMIDIA Modelo: Epson X12 200W UHE) Marca/modelo: Epson x12 200w UHE - código 00190-2-229, ao preço unitário de R$ 395,00 (trezentos e noventa e cinco reais). | F8: EPSON x12 200w UHE | G8: Peça | H8: 30dias | I8: 20dias | J8: 395 | K8: 0 | L8: =K8-(SUM(N8:Y8)) -> 0 | M8: =IF(L8<0,"ATENÇÃO","OK") -> OK | N8: 0 | O8: 0 | P8: 0 | Q8: 0 | R8: 0 | S8: 0 | T8: 0 | U8: 0 | V8: 0 | W8: 0 | X8: 0 | Y8: 0
C9: 9 | D9: Quantidade: 03 (três) Peças – (LAMPADA ELETRICA PARA PROJETOR MULTIMIDIA Modelo: Infocus W240 SHP 200W) Marca/modelo: Infocus w240 shp 200w - código 00190-2-229, ao preço unitário de R$ 655,00 (seiscentos e cinquenta e cinco reais). | F9: Infocus w240 shp200w | G9: Peça | H9: 30dias | I9: 20dias | J9: 655 | K9: 0 | L9: =K9-(SUM(N9:Y9)) -> 0 | M9: =IF(L9<0,"ATENÇÃO","OK") -> OK | N9: 0 | O9: 0 | P9: 0 | Q9: 0 | R9: 0 | S9: 0 | T9: 0 | U9: 0 | V9: 0 | W9: 0 | X9: 0 | Y9: 0
C10: 10 | D10: Quantidade: 04 (quatro) Peças – (LAMPADA ELETRICA PARA PROJETOR MULTIMIDIA Modelo: Optoma EX536) Marca/modelo: Infocus w240 shp 200w - código 00190-2-229, ao preço unitário de R$ 676,00 (seiscentos e setenta e seis reais). | F10: Infocus w240 shp200w | G10: Peça | H10: 30dias | I10: 20dias | J10: 676 | K10: 0 | L10: =K10-(SUM(N10:Y10)) -> 0 | M10: =IF(L10<0,"ATENÇÃO","OK") -> OK | N10: 0 | O10: 0 | P10: 0 | Q10: 0 | R10: 0 | S10: 0 | T10: 0 | U10: 0 | V10: 0 | W10: 0 | X10: 0 | Y10: 0

Sheet CEO
A1: PROCESSO: 0596/2013/UDESC | D1: OBJETO: Aquisição de projetores e lâmpadas | K1: VIGÊNCIA DA ATA: 26/09/2013 até 25/09/2014 | N1: AF/OS nº 366/2013 Qtde. DT | O1: AF/OS nº 379/2013 Qtde. DT | P1: AF/OS nº 380/2013 Qtde. DT | Q1: AF/OS nº 381/2013 Qtde. DT | R1: AF/OS nº xxxx/2014 Qtde. DT | S1: AF/OS nº xxxx/2014 Qtde. DT | T1: AF/OS nº xxxx/2014 Qtde. DT | U1: AF/OS nº xxxx/2014 Qtde. DT | V1: AF/OS nº xxxx/2014 Qtde. DT | W1: AF/OS nº xxxx/2014 Qtde. DT | X1: AF/OS nº xxxx/2014 Qtde. DT | Y1: AF/OS nº xxxx/2014 Qtde. DT
A2: CENTRO PARTICIPANTE: CEO
A3: FORNECEDOR | B3: LOTE | C3: ITEM | D3: PRODUTO - CARACTERÍSTICAS MÍNIMAS | E3: ELEMENTO | F3: MARCA | G3: UNIDADE | H3: Entrega (Dias) | I3: Pagto. (Dias) | J3: Preço UNITÁRIO (R$) | K3: Qtde LICITADA | L3: Saldo / Automático | M3: ALERTA | N3: 41592 | O3: 41592 | P3: 41592 | Q3: 41592 | R3: ...../...../...... | S3: ...../...../...... | T3: ...../...../...... | U3: ...../...../...... | V3: ...../...../...... | W3: ...../...../...... | X3: ...../...../...... | Y3: ...../...../......
A4: MICROTÉCNICA INFORMÁTICA LTDA | C4: 1 | D4: Quantidade: 328 (trezentos e vinte e oito) Peças - (PROJETOR MULTIMIDIA CARACTERÍSTICAS MÍNIMAS: 1) Canhão de projeção com tecnologia LCD ou DLP; 2) Resolução nativa de 1024x768; 3) Luminosidade de 2500 lumens; 4) Contraste de 3000:1; 5) Reprodução de 16 milhões de cores; 6) Compatibilidade com padrão NTSC e PAL-M; 7) Formato de imagem 4x3 e 16x9; 8) Coreção keystone vertical e horizontal; 9) Controle remoto sem fio; 10) Ajuste de zoom e foco; 11) Tamanho da imagem projetada de 1 a 3 metros na diagonal; 12) Distância entre o projetor e a imagem entre 1 a 5 mestros; 13) Entradas para video analógico VGA (d-sub 15p), S-Video, vídeo composto e video digital HDMI; 14) Entrada para áudio estereo e autofalante; 15) Interface USB 2.0; 16) Duração média da lâmpada de 3000 hrs em uso normal; 17) Peso máximo 4Kg; 18) Ruido menor que 50 db em funcionamento; 19) Projeção mesa/teto, fronta/traseiro; 20) Fonte de alimentação automática operando de 100 a 240 VAC de entrada, 60 Hz. CONDIÇÔES GERAIS: a) Garantia de hardware do tipo on-site de 3 anos (exceto para lampada que deverá ser de 1 ano), disponibilizada pelo fabricante e realizada pelo mesmo ou por empresa autorizada oficialmente, com tempo de solução em até cinco dias; b) Indicação no site do fabricante das especificações técnicas específicas do modelo do equipamento). Marca/modelo: EPSON X12 – código 01277-7-019, ao preço unitário de R$ 1.590,00. | F4: EPSON X12 | G4: Peça | H4: 30dias | I4: 20dias | J4: 1590 | K4: 36 | L4: =K4-(SUM(N4:Y4)) -> 1 | M4: =IF(L4<0,"ATENÇÃO","OK") -> OK | N4: 30 | O4: 3 | P4: 1 | Q4: 1 | R4: 0 | S4: 0 | T4: 0 | U4: 0 | V4: 0 | W4: 0 | X4: 0 | Y4: 0
A5: ILHA SERVICE SERVIÇOS DE INFORMÁTICA LTDA | C5: 4 | D5: Quantidade: 04 (quatro) Peças – (PROJETOR MULTIMIDIA WIRELESS Projetor Multimidia WIRELESS. Canhão de projeção com tecnologia LCD ou DLP. Resolução nativa de 1024x768 dpi. Luminosidade de 1800 lumens. Projeção de 16 milhões de cores. Contraste de 2000:1. Compatibilidade com padrão NTSC e PAL-M. Controle remoto sem fio. Ajuste de zoom/foco automático ou manual. Tamanho da imagem projetada de 1 a 3 metros na diagonal. Distância entre o projetor e a imagem entre 1,6 a 5 metros. Entradas para S-Video, vídeo composto e áudio. Duração da lâmpada de 1500Hs. Peso máximo 7Kg. Tensão de entrada operando na faixa de 100 a 240 VAC, F/N/T, 60Hz. Permitir a função de projeção da imagem via LAN Wireless com uso de cartão USB fornecido com o equipamento ou LAN RJ45 com uso de software específico fornecido com o equipamento.) Marca/modelo: BENQ MX618ST - código 01277-7-051, ao preço unitário de R$ 2.670,00 (dois mil seiscentos e setenta reais). | F5: BENQ MX618ST | G5: Peça | H5: 30dias | I5: 20dias | J5: 2670 | K5: 0 | L5: =K5-(SUM(N5:Y5)) -> 0 | M5: =IF(L5<0,"ATENÇÃO","OK") -> OK | N5: 0 | O5: 0 | P5: 0 | Q5: 0 | R5: 0 | S5: 0 | T5: 0 | U5: 0 | V5: 0 | W5: 0 | X5: 0 | Y5: 0
C6: 5 | D6: Quantidade: 10 (dez) Peças – (LAMPADA ELETRICA PARA PROJETOR MULTIMIDIA Lâmpada: BLFP180F, Modelo Compatível ao aparelho Optoma BR S551, rincipais características do DS551, Luminosidade de 2800 ANSI lumens e alta relação de contraste de 3500:1; Capacidade 3D; Amigavelmente ecológico, economiza <0.5W de energia. Design da lâmpada no topo para facilitar a substituição.) Marca/modelo: Optoma bl-fp180f - código 00190-2-229, ao preço unitário $ 650,00 (seiscentos e cinquenta reais). | F6: Optoma bl-fp180f | G6: Peça | H6: 30dias | I6: 20dias | J6: 650 | K6: 0 | L6: =K6-(SUM(N6:Y6)) -> 0 | M6: =IF(L6<0,"ATENÇÃO","OK") -> OK | N6: 0 | O6: 0 | P6: 0 | Q6: 0 | R6: 0 | S6: 0 | T6: 0 | U6: 0 | V6: 0 | W6: 0 | X6: 0 | Y6: 0
C7: 7 | D7: Quantidade: 04 (quatro) Peças – (LAMPADA ELETRICA PARA PROJETOR MULTIMIDIA Modelo: Benq MP612) Marca/modelo: Benq mp612 - código 00190-2-229, ao preço unitário de R$ 618,00 (seiscentos e dezoito reais). | F7: Benq mp612 | G7: Peça | H7: 30dias | I7: 20dias | J7: 618 | K7: 4 | L7: =K7-(SUM(N7:Y7)) -> 4 | M7: =IF(L7<0,"ATENÇÃO","OK") -> OK | N7: 0 | O7: 0 | P7: 0 | Q7: 0 | R7: 0 | S7: 0 | T7: 0 | U7: 0 | V7: 0 | W7: 0 | X7: 0 | Y7: 0
C8: 8 | D8: Quantidade: 09 (nove) Peças – (LAMPADA ELETRICA PARA PROJETOR MULTIMIDIA Modelo: Epson X12 200W UHE) Marca/modelo: Epson x12 200w UHE - código 00190-2-229, ao preço unitário de R$ 395,00 (trezentos e noventa e cinco reais). | F8: EPSON x12 200w UHE | G8: Peça | H8: 30dias | I8: 20dias | J8: 395 | K8: 9 | L8: =K8-(SUM(N8:Y8)) -> 9 | M8: =IF(L8<0,"ATENÇÃO","OK") -> OK | N8: 0 | O8: 0 | P8: 0 | Q8: 0 | R8: 0 | S8: 0 | T8: 0 | U8: 0 | V8: 0 | W8: 0 | X8: 0 | Y8: 0
C9: 9 | D9: Quantidade: 03 (três) Peças – (LAMPADA ELETRICA PARA PROJETOR MULTIMIDIA Modelo: Infocus W240 SHP 200W) Marca/modelo: Infocus w240 shp 200w - código 00190-2-229, ao preço unitário de R$ 655,00 (seiscentos e cinquenta e cinco reais). | F9: Infocus w240 shp200w | G9: Peça | H9: 30dias | I9: 20dias | J9: 655 | K9: 3 | L9: =K9-(SUM(N9:Y9)) -> 3 | M9: =IF(L9<0,"ATENÇÃO","OK") -> OK | N9: 0 | O9: 0 | P9: 0 | Q9: 0 | R9: 0 | S9: 0 | T9: 0 | U9: 0 | V9: 0 | W9: 0 | X9: 0 | Y9: 0
C10: 10 | D10: Quantidade: 04 (quatro) Peças – (LAMPADA ELETRICA PARA PROJETOR MULTIMIDIA Modelo: Optoma EX536) Marca/modelo: Infocus w240 shp 200w - código 00190-2-229, ao preço unitário de R$ 676,00 (seiscentos e setenta e seis reais). | F10: Infocus w240 shp200w | G10: Peça | H10: 30dias | I10: 20dias | J10: 676 | K10: 4 | L10: =K10-(SUM(N10:Y10)) -> 4 | M10: =IF(L10<0,"ATENÇÃO","OK") -> OK | N10: 0 | O10: 0 | P10: 0 | Q10: 0 | R10: 0 | S10: 0 | T10: 0 | U10: 0 | V10: 0 | W10: 0 | X10: 0 | Y10: 0

Sheet CERES
A1: PROCESSO: 0596/2013/UDESC | D1: OBJETO: Aquisição de projetores e lâmpadas | K1: VIGÊNCIA DA ATA: 26/09/2013 até 25/09/2014 | N1: AF 398/2013 - CPA 16794/2013 | O1: AF 404/2013 - CPA 16794/2013 | P1: AF/OS nº xxxx/2014 Qtde. DT | Q1: AF/OS nº xxxx/2014 Qtde. DT | R1: AF/OS nº xxxx/2014 Qtde. DT | S1: AF/OS nº xxxx/2014 Qtde. DT | T1: AF/OS nº xxxx/2014 Qtde. DT | U1: AF/OS nº xxxx/2014 Qtde. DT | V1: AF/OS nº xxxx/2014 Qtde. DT | W1: AF/OS nº xxxx/2014 Qtde. DT | X1: AF/OS nº xxxx/2014 Qtde. DT | Y1: AF/OS nº xxxx/2014 Qtde. DT
A2: CENTRO PARTICIPANTE: CERES
A3: FORNECEDOR | B3: LOTE | C3: ITEM | D3: PRODUTO - CARACTERÍSTICAS MÍNIMAS | E3: ELEMENTO | F3: MARCA | G3: UNIDADE | H3: Entrega (Dias) | I3: Pagto. (Dias) | J3: Preço UNITÁRIO (R$) | K3: Qtde LICITADA | L3: Saldo / Automático | M3: ALERTA | N3: ...../...../...... | O3: ...../...../...... | P3: ...../...../...... | Q3: ...../...../...... | R3: ...../...../...... | S3: ...../...../...... | T3: ...../...../...... | U3: ...../...../...... | V3: ...../...../...... | W3: ...../...../...... | X3: ...../...../...... | Y3: ...../...../......
A4: MICROTÉCNICA INFORMÁTICA LTDA | C4: 1 | D4: Quantidade: 328 (trezentos e vinte e oito) Peças - (PROJETOR MULTIMIDIA CARACTERÍSTICAS MÍNIMAS: 1) Canhão de projeção com tecnologia LCD ou DLP; 2) Resolução nativa de 1024x768; 3) Luminosidade de 2500 lumens; 4) Contraste de 3000:1; 5) Reprodução de 16 milhões de cores; 6) Compatibilidade com padrão NTSC e PAL-M; 7) Formato de imagem 4x3 e 16x9; 8) Coreção keystone vertical e horizontal; 9) Controle remoto sem fio; 10) Ajuste de zoom e foco; 11) Tamanho da imagem projetada de 1 a 3 metros na diagonal; 12) Distância entre o projetor e a imagem entre 1 a 5 mestros; 13) Entradas para video analógico VGA (d-sub 15p), S-Video, vídeo composto e video digital HDMI; 14) Entrada para áudio estereo e autofalante; 15) Interface USB 2.0; 16) Duração média da lâmpada de 3000 hrs em uso normal; 17) Peso máximo 4Kg; 18) Ruido menor que 50 db em funcionamento; 19) Projeção mesa/teto, fronta/traseiro; 20) Fonte de alimentação automática operando de 100 a 240 VAC de entrada, 60 Hz. CONDIÇÔES GERAIS: a) Garantia de hardware do tipo on-site de 3 anos (exceto para lampada que deverá ser de 1 ano), disponibilizada pelo fabricante e realizada pelo mesmo ou por empresa autorizada oficialmente, com tempo de solução em até cinco dias; b) Indicação no site do fabricante das especificações técnicas específicas do modelo do equipamento). Marca/modelo: EPSON X12 – código 01277-7-019, ao preço unitário de R$ 1.590,00. | F4: EPSON X12 | G4: Peça | H4: 30dias | I4: 20dias | J4: 1590 | K4: =13+5 -> 18 | L4: =K4-(SUM(N4:Y4)) -> 5 | M4: =IF(L4<0,"ATENÇÃO","OK") -> OK | N4: 10 | O4: 3 | P4: 0 | Q4: 0 | R4: 0 | S4: 0 | T4: 0 | U4: 0 | V4: 0 | W4: 0 | X4: 0 | Y4: 0
A5: ILHA SERVICE SERVIÇOS DE INFORMÁTICA LTDA | C5: 4 | D5: Quantidade: 04 (quatro) Peças – (PROJETOR MULTIMIDIA WIRELESS Projetor Multimidia WIRELESS. Canhão de projeção com tecnologia LCD ou DLP. Resolução nativa de 1024x768 dpi. Luminosidade de 1800 lumens. Projeção de 16 milhões de cores. Contraste de 2000:1. Compatibilidade com padrão NTSC e PAL-M. Controle remoto sem fio. Ajuste de zoom/foco automático ou manual. Tamanho da imagem projetada de 1 a 3 metros na diagonal. Distância entre o projetor e a imagem entre 1,6 a 5 metros. Entradas para S-Video, vídeo composto e áudio. Duração da lâmpada de 1500Hs. Peso máximo 7Kg. Tensão de entrada operando na faixa de 100 a 240 VAC, F/N/T, 60Hz. Permitir a função de projeção da imagem via LAN Wireless com uso de cartão USB fornecido com o equipamento ou LAN RJ45 com uso de software específico fornecido com o equipamento.) Marca/modelo: BENQ MX618ST - código 01277-7-051, ao preço unitário de R$ 2.670,00 (dois mil seiscentos e setenta reais). | F5: BENQ MX618ST | G5: Peça | H5: 30dias | I5: 20dias | J5: 2670 | K5: 0 | L5: =K5-(SUM(N5:Y5)) -> 0 | M5: =IF(L5<0,"ATENÇÃO","OK") -> OK | O5: 0 | P5: 0 | Q5: 0 | R5: 0 | S5: 0 | T5: 0 | U5: 0 | V5: 0 | W5: 0 | X5: 0 | Y5: 0
C6: 5 | D6: Quantidade: 10 (dez) Peças – (LAMPADA ELETRICA PARA PROJETOR MULTIMIDIA Lâmpada: BLFP180F, Modelo Compatível ao aparelho Optoma BR S551, rincipais características do DS551, Luminosidade de 2800 ANSI lumens e alta relação de contraste de 3500:1; Capacidade 3D; Amigavelmente ecológico, economiza <0.5W de energia. Design da lâmpada no topo para facilitar a substituição.) Marca/modelo: Optoma bl-fp180f - código 00190-2-229, ao preço unitário $ 650,00 (seiscentos e cinquenta reais). | F6: Optoma bl-fp180f | G6: Peça | H6: 30dias | I6: 20dias | J6: 650 | K6: 0 | L6: =K6-(SUM(N6:Y6)) -> 0 | M6: =IF(L6<0,"ATENÇÃO","OK") -> OK | O6: 0 | P6: 0 | Q6: 0 | R6: 0 | S6: 0 | T6: 0 | U6: 0 | V6: 0 | W6: 0 | X6: 0 | Y6: 0
C7: 7 | D7: Quantidade: 04 (quatro) Peças – (LAMPADA ELETRICA PARA PROJETOR MULTIMIDIA Modelo: Benq MP612) Marca/modelo: Benq mp612 - código 00190-2-229, ao preço unitário de R$ 618,00 (seiscentos e dezoito reais). | F7: Benq mp612 | G7: Peça | H7: 30dias | I7: 20dias | J7: 618 | K7: 0 | L7: =K7-(SUM(N7:Y7)) -> 0 | M7: =IF(L7<0,"ATENÇÃO","OK") -> OK | O7: 0 | P7: 0 | Q7: 0 | R7: 0 | S7: 0 | T7: 0 | U7: 0 | V7: 0 | W7: 0 | X7: 0 | Y7: 0
C8: 8 | D8: Quantidade: 09 (nove) Peças – (LAMPADA ELETRICA PARA PROJETOR MULTIMIDIA Modelo: Epson X12 200W UHE) Marca/modelo: Epson x12 200w UHE - código 00190-2-229, ao preço unitário de R$ 395,00 (trezentos e noventa e cinco reais). | F8: EPSON x12 200w UHE | G8: Peça | H8: 30dias | I8: 20dias | J8: 395 | K8: 0 | L8: =K8-(SUM(N8:Y8)) -> 0 | M8: =IF(L8<0,"ATENÇÃO","OK") -> OK | O8: 0 | P8: 0 | Q8: 0 | R8: 0 | S8: 0 | T8: 0 | U8: 0 | V8: 0 | W8: 0 | X8: 0 | Y8: 0
C9: 9 | D9: Quantidade: 03 (três) Peças – (LAMPADA ELETRICA PARA PROJETOR MULTIMIDIA Modelo: Infocus W240 SHP 200W) Marca/modelo: Infocus w240 shp 200w - código 00190-2-229, ao preço unitário de R$ 655,00 (seiscentos e cinquenta e cinco reais). | F9: Infocus w240 shp200w | G9: Peça | H9: 30dias | I9: 20dias | J9: 655 | K9: 0 | L9: =K9-(SUM(N9:Y9)) -> 0 | M9: =IF(L9<0,"ATENÇÃO","OK") -> OK | O9: 0 | P9: 0 | Q9: 0 | R9: 0 | S9: 0 | T9: 0 | U9: 0 | V9: 0 | W9: 0 | X9: 0 | Y9: 0
C10: 10 | D10: Quantidade: 04 (quatro) Peças – (LAMPADA ELETRICA PARA PROJETOR MULTIMIDIA Modelo: Optoma EX536) Marca/modelo: Infocus w240 shp 200w - código 00190-2-229, ao preço unitário de R$ 676,00 (seiscentos e setenta e seis reais). | F10: Infocus w240 shp200w | G10: Peça | H10: 30dias | I10: 20dias | J10: 676 | K10: 0 | L10: =K10-(SUM(N10:Y10)) -> 0 | M10: =IF(L10<0,"ATENÇÃO","OK") -> OK | O10: 0 | P10: 0 | Q10: 0 | R10: 0 | S10: 0 | T10: 0 | U10: 0 | V10: 0 | W10: 0 | X10: 0 | Y10: 0

Sheet GESTOR
A1: PROCESSO: 0596/2013/UDESC | D1: OBJETO: Aquisição de projetores e lâmpadas | K1: VIGÊNCIA DA ATA: 26/09/2013 até 25/09/2014
A2: CENTRO PARTICIPANTE: Reitoria + 12 Centros
A3: FORNECEDOR | B3: LOTE | C3: ITEM | D3: PRODUTO - CARACTERÍSTICAS MÍNIMAS | E3: ELEMENTO | F3: MARCA | G3: UNIDADE | H3: Entrega (Dias) | I3: Pagto. (Dias) | J3: Preço UNITÁRIO (R$) | K3: Qtde Registrada + Aditivos | L3: Quantidade Utilizada | M3: SALDO | N3: Valor Total Registrado | O3: Valor Total Utilizado
A4: MICROTÉCNICA INFORMÁTICA LTDA | C4: 1 | D4: Quantidade: 328 (trezentos e vinte e oito) Peças - (PROJETOR MULTIMIDIA CARACTERÍSTICAS MÍNIMAS: 1) Canhão de projeção com tecnologia LCD ou DLP; 2) Resolução nativa de 1024x768; 3) Luminosidade de 2500 lumens; 4) Contraste de 3000:1; 5) Reprodução de 16 milhões de cores; 6) Compatibilidade com padrão NTSC e PAL-M; 7) Formato de imagem 4x3 e 16x9; 8) Coreção keystone vertical e horizontal; 9) Controle remoto sem fio; 10) Ajuste de zoom e foco; 11) Tamanho da imagem projetada de 1 a 3 metros na diagonal; 12) Distância entre o projetor e a imagem entre 1 a 5 mestros; 13) Entradas para video analógico VGA (d-sub 15p), S-Video, vídeo composto e video digital HDMI; 14) Entrada para áudio estereo e autofalante; 15) Interface USB 2.0; 16) Duração média da lâmpada de 3000 hrs em uso normal; 17) Peso máximo 4Kg; 18) Ruido menor que 50 db em funcionamento; 19) Projeção mesa/teto, fronta/traseiro; 20) Fonte de alimentação automática operando de 100 a 240 VAC de entrada, 60 Hz. CONDIÇÔES GERAIS: a) Garantia de hardware do tipo on-site de 3 anos (exceto para lampada que deverá ser de 1 ano), disponibilizada pelo fabricante e realizada pelo mesmo ou por empresa autorizada oficialmente, com tempo de solução em até cinco dias; b) Indicação no site do fabricante das especificações técnicas específicas do modelo do equipamento). Marca/modelo: EPSON X12 – código 01277-7-019, ao preço unitário de R$ 1.590,00. | F4: EPSON X12 | G4: Peça | H4: 30dias | I4: 20dias | J4: 1590 | K4: =REIT!K4+ESAG!K4+CEART!K4+FAED!K4+CEAD!K4+CEFID!K4+CESFI!K4+CEAVI!K4+CCT!K4+CEPLAN!K4+CAV!K4+CEO!K4+CERES!K4 -> 328 | L4: =(REIT!K4-REIT!L4)+(ESAG!K4-ESAG!L4)+(CEART!K4-CEART!L4)+(FAED!K4-FAED!L4)+(CEAD!K4-CEAD!L4)+(CEFID!K4-CEFID!L4)+(CESFI!K4-CESFI!L4)+(CEAVI!K4-CEAVI!L4)+(CCT!K4-CCT!L4)+(CEPLAN!K4-CEPLAN!L4)+(CAV!K4-CAV!L4)+(CEO!K4-CEO!L4)+(CERES!K4-CERES!L4) -> 291 | M4: =K4-L4 -> 37 | N4: =J4*K4 -> 521520 | O4: =J4*L4 -> 462690
A5: ILHA SERVICE SERVIÇOS DE INFORMÁTICA LTDA | C5: 4 | D5: Quantidade: 04 (quatro) Peças – (PROJETOR MULTIMIDIA WIRELESS Projetor Multimidia WIRELESS. Canhão de projeção com tecnologia LCD ou DLP. Resolução nativa de 1024x768 dpi. Luminosidade de 1800 lumens. Projeção de 16 milhões de cores. Contraste de 2000:1. Compatibilidade com padrão NTSC e PAL-M. Controle remoto sem fio. Ajuste de zoom/foco automático ou manual. Tamanho da imagem projetada de 1 a 3 metros na diagonal. Distância entre o projetor e a imagem entre 1,6 a 5 metros. Entradas para S-Video, vídeo composto e áudio. Duração da lâmpada de 1500Hs. Peso máximo 7Kg. Tensão de entrada operando na faixa de 100 a 240 VAC, F/N/T, 60Hz. Permitir a função de projeção da imagem via LAN Wireless com uso de cartão USB fornecido com o equipamento ou LAN RJ45 com uso de software específico fornecido com o equipamento.) Marca/modelo: BENQ MX618ST - código 01277-7-051, ao preço unitário de R$ 2.670,00 (dois mil seiscentos e setenta reais). | F5: BENQ MX618ST | G5: Peça | H5: 30dias | I5: 20dias | J5: 2670 | K5: =REIT!K5+ESAG!K5+CEART!K5+FAED!K5+CEAD!K5+CEFID!K5+CESFI!K5+CEAVI!K5+CCT!K5+CEPLAN!K5+CAV!K5+CEO!K5+CERES!K5 -> 4 | L5: =(REIT!K5-REIT!L5)+(ESAG!K5-ESAG!L5)+(CEART!K5-CEART!L5)+(FAED!K5-FAED!L5)+(CEAD!K5-CEAD!L5)+(CEFID!K5-CEFID!L5)+(CESFI!K5-CESFI!L5)+(CEAVI!K5-CEAVI!L5)+(CCT!K5-CCT!L5)+(CEPLAN!K5-CEPLAN!L5)+(CAV!K5-CAV!L5)+(CEO!K5-CEO!L5)+(CERES!K5-CERES!L5) -> 2 | M5: =K5-L5 -> 2 | N5: =J5*K5 -> 10680 | O5: =J5*L5 -> 5340
C6: 5 | D6: Quantidade: 10 (dez) Peças – (LAMPADA ELETRICA PARA PROJETOR MULTIMIDIA Lâmpada: BLFP180F, Modelo Compatível ao aparelho Optoma BR S551, rincipais características do DS551, Luminosidade de 2800 ANSI lumens e alta relação de contraste de 3500:1; Capacidade 3D; Amigavelmente ecológico, economiza <0.5W de energia. Design da lâmpada no topo para facilitar a substituição.) Marca/modelo: Optoma bl-fp180f - código 00190-2-229, ao preço unitário $ 650,00 (seiscentos e cinquenta reais). | F6: Optoma bl-fp180f | G6: Peça | H6: 30dias | I6: 20dias | J6: 650 | K6: =REIT!K6+ESAG!K6+CEART!K6+FAED!K6+CEAD!K6+CEFID!K6+CESFI!K6+CEAVI!K6+CCT!K6+CEPLAN!K6+CAV!K6+CEO!K6+CERES!K6 -> 10 | L6: =(REIT!K6-REIT!L6)+(ESAG!K6-ESAG!L6)+(CEART!K6-CEART!L6)+(FAED!K6-FAED!L6)+(CEAD!K6-CEAD!L6)+(CEFID!K6-CEFID!L6)+(CESFI!K6-CESFI!L6)+(CEAVI!K6-CEAVI!L6)+(CCT!K6-CCT!L6)+(CEPLAN!K6-CEPLAN!L6)+(CAV!K6-CAV!L6)+(CEO!K6-CEO!L6)+(CERES!K6-CERES!L6) -> 5 | M6: =K6-L6 -> 5 | N6: =J6*K6 -> 6500 | O6: =J6*L6 -> 3250
C7: 7 | D7: Quantidade: 04 (quatro) Peças – (LAMPADA ELETRICA PARA PROJETOR MULTIMIDIA Modelo: Benq MP612) Marca/modelo: Benq mp612 - código 00190-2-229, ao preço unitário de R$ 618,00 (seiscentos e dezoito reais). | F7: Benq mp612 | G7: Peça | H7: 30dias | I7: 20dias | J7: 618 | K7: =REIT!K7+ESAG!K7+CEART!K7+FAED!K7+CEAD!K7+CEFID!K7+CESFI!K7+CEAVI!K7+CCT!K7+CEPLAN!K7+CAV!K7+CEO!K7+CERES!K7 -> 4 | L7: =(REIT!K7-REIT!L7)+(ESAG!K7-ESAG!L7)+(CEART!K7-CEART!L7)+(FAED!K7-FAED!L7)+(CEAD!K7-CEAD!L7)+(CEFID!K7-CEFID!L7)+(CESFI!K7-CESFI!L7)+(CEAVI!K7-CEAVI!L7)+(CCT!K7-CCT!L7)+(CEPLAN!K7-CEPLAN!L7)+(CAV!K7-CAV!L7)+(CEO!K7-CEO!L7)+(CERES!K7-CERES!L7) -> 0 | M7: =K7-L7 -> 4 | N7: =J7*K7 -> 2472 | O7: =J7*L7 -> 0
C8: 8 | D8: Quantidade: 09 (nove) Peças – (LAMPADA ELETRICA PARA PROJETOR MULTIMIDIA Modelo: Epson X12 200W UHE) Marca/modelo: Epson x12 200w UHE - código 00190-2-229, ao preço unitário de R$ 395,00 (trezentos e noventa e cinco reais). | F8: EPSON x12 200w UHE | G8: Peça | H8: 30dias | I8: 20dias | J8: 395 | K8: =REIT!K8+ESAG!K8+CEART!K8+FAED!K8+CEAD!K8+CEFID!K8+CESFI!K8+CEAVI!K8+CCT!K8+CEPLAN!K8+CAV!K8+CEO!K8+CERES!K8 -> 9 | L8: =(REIT!K8-REIT!L8)+(ESAG!K8-ESAG!L8)+(CEART!K8-CEART!L8)+(FAED!K8-FAED!L8)+(CEAD!K8-CEAD!L8)+(CEFID!K8-CEFID!L8)+(CESFI!K8-CESFI!L8)+(CEAVI!K8-CEAVI!L8)+(CCT!K8-CCT!L8)+(CEPLAN!K8-CEPLAN!L8)+(CAV!K8-CAV!L8)+(CEO!K8-CEO!L8)+(CERES!K8-CERES!L8) -> 0 | M8: =K8-L8 -> 9 | N8: =J8*K8 -> 3555 | O8: =J8*L8 -> 0
C9: 9 | D9: Quantidade: 03 (três) Peças – (LAMPADA ELETRICA PARA PROJETOR MULTIMIDIA Modelo: Infocus W240 SHP 200W) Marca/modelo: Infocus w240 shp 200w - código 00190-2-229, ao preço unitário de R$ 655,00 (seiscentos e cinquenta e cinco reais). | F9: Infocus w240 shp200w | G9: Peça | H9: 30dias | I9: 20dias | J9: 655 | K9: =REIT!K9+ESAG!K9+CEART!K9+FAED!K9+CEAD!K9+CEFID!K9+CESFI!K9+CEAVI!K9+CCT!K9+CEPLAN!K9+CAV!K9+CEO!K9+CERES!K9 -> 3 | L9: =(REIT!K9-REIT!L9)+(ESAG!K9-ESAG!L9)+(CEART!K9-CEART!L9)+(FAED!K9-FAED!L9)+(CEAD!K9-CEAD!L9)+(CEFID!K9-CEFID!L9)+(CESFI!K9-CESFI!L9)+(CEAVI!K9-CEAVI!L9)+(CCT!K9-CCT!L9)+(CEPLAN!K9-CEPLAN!L9)+(CAV!K9-CAV!L9)+(CEO!K9-CEO!L9)+(CERES!K9-CERES!L9) -> 0 | M9: =K9-L9 -> 3 | N9: =J9*K9 -> 1965 | O9: =J9*L9 -> 0
C10: 10 | D10: Quantidade: 04 (quatro) Peças – (LAMPADA ELETRICA PARA PROJETOR MULTIMIDIA Modelo: Optoma EX536) Marca/modelo: Infocus w240 shp 200w - código 00190-2-229, ao preço unitário de R$ 676,00 (seiscentos e setenta e seis reais). | F10: Infocus w240 shp200w | G10: Peça | H10: 30dias | I10: 20dias | J10: 676 | K10: =REIT!K10+ESAG!K10+CEART!K10+FAED!K10+CEAD!K10+CEFID!K10+CESFI!K10+CEAVI!K10+CCT!K10+CEPLAN!K10+CAV!K10+CEO!K10+CERES!K10 -> 4 | L10: =(REIT!K10-REIT!L10)+(ESAG!K10-ESAG!L10)+(CEART!K10-CEART!L10)+(FAED!K10-FAED!L10)+(CEAD!K10-CEAD!L10)+(CEFID!K10-CEFID!L10)+(CESFI!K10-CESFI!L10)+(CEAVI!K10-CEAVI!L10)+(CCT!K10-CCT!L10)+(CEPLAN!K10-CEPLAN!L10)+(CAV!K10-CAV!L10)+(CEO!K10-CEO!L10)+(CERES!K10-CERES!L10) -> 0 | M10: =K10-L10 -> 4 | N10: =J10*K10 -> 2704 | O10: =J10*L10 -> 0
N11: =SUM(N4:N10) -> 549396 | O11: =SUM(O4:O10) -> 471280
K13: Pregão 596/2013/UDESC - SRP
K14: Aquisição de projetores e lâmpadas
K15: Vigência 26/09/2013 até 25/09/2014
K16: Valor Total da Ata com Aditivo | O16: =N11 -> 549396
K17: Valor Utilizado | O17: =O11 -> 471280
K18: % Aditivos | O18: 0
K19: % Utilizado | O19: =O17/O16 -> 0.85781476
K20: Resumo Atualizado em 27/11/2014

Sheet Modelo Anexo II IN 002_2014
A1: ANEXO II – Instrução Normativa n.º 002/2014
A3: DECLARAÇÃO DE DISPONIBILIDADE DE QUANTITATIVO PARA EMISSÃO DE AUTORIZAÇÃO DE FORNECIMENTO/ORDEM DE SERVIÇO – SISTEMA DE REGISTRO DE PREÇOS/UDESC
A5: Processo CPA n.º XXXX/2014
A6: Pregão n.º XXXX/2014
A7: Objeto:
A8: Vigência da Ata de Registro de Preços: XX/XX/XXXX até XX/XX/XXXXX
A10: Declaro que o Centro XXXXXXX, participante da Ata de Registro de Preços proveniente do Pregão n.º XXXX/2014, possui saldo em seu quantitativo para a emissão da Autorização de Fornecimento/Ordem de Serviço n.º XXXX/2014, no valor de R$ X.XXX,XX, a ser firmada com a empresa XXXXXXX, restando ainda em sua cota para próximas contratações com o referido fornecedor os seguintes quantitativos:
A12: Lote | B12: Item | C12: Descrição Resumida | D12: Unidade | E12: Valor Unitário (R$) | F12: Saldo Quantitativo (antes da emissão desta AF/OS) | G12: Quantitativo da AF/OS | H12: Saldo Atualizado
A19: __________________, ____/_____/____
A20: Cidade Data
A24: _____________________________________________
A25: Diretor(a) de Administração
A26: (carimbo e assinatura)
