Workbook
Name diasuteis: #REF!
Name diasuteis: #REF!
Name diasuteis: #REF!
Name diasuteis: #REF!
Name diasuteis: #REF!
Name diasuteis: #REF!
Name diasuteis: #REF!
Name diasuteis: #REF!
Name diasuteis: #REF!
Name diasuteis: #REF!
Name diasuteis: #REF!
Name diasuteis: #REF!
Name diasuteis: #REF!
Name diasuteis: #REF!
Name diasuteis: #REF!
Name Ferias: #REF!
Name Ferias: #REF!
Name Ferias: #REF!
Name Ferias: #REF!
Name Ferias: #REF!
Name Ferias: #REF!
Name Ferias: #REF!
Name Ferias: #REF!
Name Ferias: #REF!
Name Ferias: #REF!
Name Ferias: #REF!
Name Ferias: #REF!
Name Ferias: #REF!
Name Ferias: #REF!
Name RD: OFFSET(#REF!,(MATCH(SMALL(#REF!,ROW()-10),#REF!,0)-1),0)

Sheet REIT
A1: PROCESSO: 0596/2013/UDESC | D1: OBJETO: Aquisição de projetores e lâmpadas | K1: VIGÊNCIA DA ATA: 26/09/2013 até 25/09/2014 | N1: AF/OS nº 474/2013 Qtde. DT | O1: AF/OS nº xxxx/2014 Qtde. DT | P1: AF/OS nº xxxx/2014 Qtde. DT | Q1: AF/OS nº xxxx/2014 Qtde. DT | R1: AF/OS nº xxxx/2014 Qtde. DT | S1: AF/OS nº xxxx/2014 Qtde. DT | T1: AF/OS nº xxxx/2014 Qtde. DT | U1: AF/OS nº xxxx/2014 Qtde. DT | V1: AF/OS nº xxxx/2014 Qtde. DT | W1: AF/OS nº xxxx/2014 Qtde. DT | X1: AF/OS nº xxxx/2014 Qtde. DT | Y1: AF/OS nº xxxx/2014 Qtde. DT
A2: CENTRO PARTICIPANTE: REITORIA
A3: FORNECEDOR | B3: LOTE | C3: ITEM | D3: PRODUTO - CARACTERÍSTICAS MÍNIMAS | E3: ELEMENTO | F3: MARCA | G3: UNIDADE | H3: Entrega (Dias) | I3: Pagto. (Dias) | J3: Preço UNITÁRIO (R$) | K3: Qtde LICITADA | L3: Saldo / Automático | M3: ALERTA | N3: ...../...../...... | O3: ...../...../...... | P3: ...../...../...... | Q3: ...../...../...... | R3: ...../...../...... | S3: ...../...../...... | T3: ...../...../...... | U3: ...../...../...... | V3: ...../...../...... | W3: ...../...../...... | X3: ...../...../...... | Y3: ...../...../......
A4: MICROTÉCNICA INFORMÁTICA LTDA | C4: 1 | D4: Quantidade: 328 (trezentos e vinte e oito) Peças - (PROJETOR MULTIMIDIA CARACTERÍSTICAS MÍNIMAS: 1) Canhão de projeção com tecnologia LCD ou DLP; 2) Resolução nativa de 1024x768; 3) Luminosidade de 2500 lumens; 4) Contraste de 3000:1; 5) Reprodução de 16 milhões de cores; 6) Compatibilidade com padrão NTSC e PAL-M; 7) Formato de imagem 4x3 e 16x9; 8) Coreção keystone vertical e horizontal; 9) Controle remoto sem fio; 10) Ajuste de zoom e foco; 11) Tamanho da imagem projetada de 1 a 3 metros na diagonal; 12) Distância entre o projetor e a imagem entre 1 a 5 mestros; 13) Entradas para video analógico VGA (d-sub 15p), S-Video, vídeo composto e video digital HDMI; 14) Entrada para áudio estereo e autofalante; 15) Interface USB 2.0; 16) Duração média da lâmpada de 3000 hrs em uso normal; 17) Peso máximo 4Kg; 18) Ruido menor que 50 db em funcionamento; 19) Projeção mesa/teto, fronta/traseiro; 20) Fonte de alimentação automática operando de 100 a 240 VAC de entrada, 60 Hz. CONDIÇÔES GERAIS: a) Garantia de hardware do tipo on-site de 3 anos (exceto para lampada que deverá ser de 1 ano), disponibilizada pelo fabricante e realizada pelo mesmo ou por empresa autorizada oficialmente, com tempo de solução em até cinco dias; b) Indicação no site do fabricante das especificações técnicas específicas do modelo do equipamento). Marca/modelo: EPSON X12 – código 01277-7-019, ao preço unitário de R$ 1.590,00. | F4: EPSON X12 | G4: Peça | H4: 30dias | I4: 20dias | J4: 1590 | K4: 5 | L4: =K4-(SUM(N4:Y4)) -> 0 | M4: =IF(L4<0,"ATENÇÃO","OK") -> OK | N4: 5 | O4: 0 | P4: 0 | Q4: 0 | R4: 0 | S4: 0 | T4: 0 | U4: 0 | V4: 0 | W4: 0 | X4: 0 | Y4: 0
A5: ILHA SERVICE SERVIÇOS DE INFORMÁTICA LTDA | C5: 4 | D5: Quantidade: 04 (quatro) Peças – (PROJETOR MULTIMIDIA WIRELESS Projetor Multimidia WIRELESS. Canhão de projeção com tecnologia LCD ou DLP. Resolução nativa de 1024x768 dpi. Luminosidade de 1800 lumens. Projeção de 16 milhões de cores. Contraste de 2000:1. Compatibilidade com padrão NTSC e PAL-M. Controle remoto sem fio. Ajuste de zoom/foco automático ou manual. Tamanho da imagem projetada de 1 a 3 metros na diagonal. Distância entre o projetor e a imagem entre 1,6 a 5 metros. Entradas para S-Video, vídeo composto e áudio. Duração da lâmpada de 1500Hs. Peso máximo 7Kg. Tensão de entrada operando na faixa de 100 a 240 VAC, F/N/T, 60Hz. Permitir a função de projeção da imagem via LAN Wireless com uso de cartão USB fornecido com o equipamento ou LAN RJ45 com uso de software específico fornecido com o equipamento.) Marca/modelo: BENQ MX618ST - código 01277-7-051, ao preço unitário de R$ 2.670,00 (dois mil seiscentos e setenta reais). | F5: BENQ MX618ST | G5: Peça | H5: 30dias | I5: 20dias | J5: 2670 | K5: 0 | L5: =K5-(SUM(N5:Y5)) -> 0 | M5: =IF(L5<0,"ATENÇÃO","OK") -> OK | N5: 0 | O5: 0 | P5: 0 | Q5: 0 | R5: 0 | S5: 0 | T5: 0 | U5: 0 | V5: 0 | W5: 0 | X5: 0 | Y5: 0
C6: 5 | D6: Quantidade: 10 (dez) Peças – (LAMPADA ELETRICA PARA PROJETOR MULTIMIDIA Lâmpada: BLFP180F, Modelo Compatível ao aparelho Optoma BR S551, rincipais características do DS551, Luminosidade de 2800 ANSI lumens e alta relação de contraste de 3500:1; Capacidade 3D; Amigavelmente ecológico, economiza <0.5W de energia. Design da lâmpada no topo para facilitar a substituição.) Marca/modelo: Optoma bl-fp180f - código 00190-2-229, ao preço unitário $ 650,00 (seiscentos e cinquenta reais). | F6: Optoma bl-fp180f | G6: Peça | H6: 30dias | I6: 20dias | J6: 650 | K6: 0 | L6: =K6-(SUM(N6:Y6)) -> 0 | M6: =IF(L6<0,"ATENÇÃO","OK") -> OK | N6: 0 | O6: 0 | P6: 0 | Q6: 0 | R6: 0 | S6: 0 | T6: 0 | U6: 0 | V6: 0 | W6: 0 | X6: 0 | Y6: 0
C7: 7 | D7: Quantidade: 04 (quatro) Peças – (LAMPADA ELETRICA PARA PROJETOR MULTIMIDIA Modelo: Benq MP612) Marca/modelo: Benq mp612 - código 00190-2-229, ao preço unitário de R$ 618,00 (seiscentos e dezoito reais). | F7: Benq mp612 | G7: Peça | H7: 30dias | I7: 20dias | J7: 618 | K7: 0 | L7: =K7-(SUM(N7:Y7)) -> 0 | M7: =IF(L7<0,"ATENÇÃO","OK") -> OK | N7: 0 | O7: 0 | P7: 0 | Q7: 0 | R7: 0 | S7: 0 | T7: 0 | U7: 0 | V7: 0 | W7: 0 | X7: 0 | Y7: 0
C8: 8 | D8: Quantidade: 09 (nove) Peças – (LAMPADA ELETRICA PARA PROJETOR MULTIMIDIA Modelo: Epson X12 200W UHE) Marca/modelo: Epson x12 200w UHE - código 00190-2-229, ao preço unitário de R$ 395,00 (trezentos e noventa e cinco reais). | F8: EPSON x12 200w UHE | G8: Peça | H8: 30dias | I8: 20dias | J8: 395 | K8: 0 | L8: =K8-(SUM(N8:Y8)) -> 0 | M8: =IF(L8<0,"ATENÇÃO","OK") -> OK | N8: 0 | O8: 0 | P8: 0 | Q8: 0 | R8: 0 | S8: 0 | T8: 0 | U8: 0 | V8: 0 | W8: 0 | X8: 0 | Y8: 0
C9: 9 | D9: Quantidade: 03 (três) Peças – (LAMPADA ELETRICA PARA PROJETOR MULTIMIDIA Modelo: Infocus W240 SHP 200W) Marca/modelo: Infocus w240 shp 200w - código 00190-2-229, ao preço unitário de R$ 655,00 (seiscentos e cinquenta e cinco reais). | F9: Infocus w240 shp200w | G9: Peça | H9: 30dias | I9: 20dias | J9: 655 | K9: 0 | L9: =K9-(SUM(N9:Y9)) -> 0 | M9: =IF(L9<0,"ATENÇÃO","OK") -> OK | N9: 0 | O9: 0 | P9: 0 | Q9: 0 | R9: 0 | S9: 0 | T9: 0 | U9: 0 | V9: 0 | W9: 0 | X9: 0 | Y9: 0
C10: 10 | D10: Quantidade: 04 (quatro) Peças – (LAMPADA ELETRICA PARA PROJETOR MULTIMIDIA Modelo: Optoma EX536) Marca/modelo: Infocus w240 shp 200w - código 00190-2-229, ao preço unitário de R$ 676,00 (seiscentos e setenta e seis reais). | F10: Infocus w240 shp200w | G10: Peça | H10: 30dias | I10: 20dias | J10: 676 | K10: 0 | L10: =K10-(SUM(N10:Y10)) -> 0 | M10: =IF(L10<0,"ATENÇÃO","OK") -> OK | N10: 0 | O10: 0 | P10: 0 | Q10: 0 | R10: 0 | S10: 0 | T10: 0 | U10: 0 | V10: 0 | W10: 0 | X10: 0 | Y10: 0

Sheet ESAG
A1: PROCESSO: 0596/2013/UDESC | D1: OBJETO: Aquisição de projetores e lâmpadas | K1: VIGÊNCIA DA ATA: 26/09/2013 até 25/09/2014 | N1: AF 382/2013 Qtde. DT | O1: AF/OS nº xxxx/2014 Qtde. DT | P1: AF/OS nº xxxx/2014 Qtde. DT | Q1: AF/OS nº xxxx/2014 Qtde. DT | R1: AF/OS nº xxxx/2014 Qtde. DT | S1: AF/OS nº xxxx/2014 Qtde. DT | T1: AF/OS nº xxxx/2014 Qtde. DT | U1: AF/OS nº xxxx/2014 Qtde. DT | V1: AF/OS nº xxxx/2014 Qtde. DT | W1: AF/OS nº xxxx/2014 Qtde. DT | X1: AF/OS nº xxxx/2014 Qtde. DT | Y1: AF/OS nº xxxx/2014 Qtde. DT
A2: CENTRO PARTICIPANTE: ESAG
A3: FORNECEDOR | B3: LOTE | C3: ITEM | D3: PRODUTO - CARACTERÍSTICAS MÍNIMAS | E3: ELEMENTO | F3: MARCA | G3: UNIDADE | H3: Entrega (Dias) | I3: Pagto. (Dias) | J3: Preço UNITÁRIO (R$) | K3: Qtde LICITADA | L3: Saldo / Automático | M3: ALERTA | N3: ...../...../...... | O3: ...../...../...... | P3: ...../...../...... | Q3: ...../...../...... | R3: ...../...../...... | S3: ...../...../...... | T3: ...../...../...... | U3: ...../...../...... | V3: ...../...../...... | W3: ...../...../...... | X3: ...../...../...... | Y3: ...../...../......
A4: MICROTÉCNICA INFORMÁTICA LTDA | C4: 1 | D4: Quantidade: 328 (trezentos e vinte e oito) Peças - (PROJETOR MULTIMIDIA CARACTERÍSTICAS MÍNIMAS: 1) Canhão de projeção com tecnologia LCD ou DLP; 2) Resolução nativa de 1024x768; 3) Luminosidade de 2500 lumens; 4) Contraste de 3000:1; 5) Reprodução de 16 milhões de cores; 6) Compatibilidade com padrão NTSC e PAL-M; 7) Formato de imagem 4x3 e 16x9; 8) Coreção keystone vertical e horizontal; 9) Controle remoto sem fio; 10) Ajuste de zoom e foco; 11) Tamanho da imagem projetada de 1 a 3 metros na diagonal; 12) Distância entre o projetor e a imagem entre 1 a 5 mestros; 13) Entradas para video analógico VGA (d-sub 15p), S-Video, vídeo composto e video digital HDMI; 14) Entrada para áudio estereo e autofalante; 15) Interface USB 2.0; 16) Duração média da lâmpada de 3000 hrs em uso normal; 17) Peso máximo 4Kg; 18) Ruido menor que 50 db em funcionamento; 19) Projeção mesa/teto, fronta/traseiro; 20) Fonte de alimentação automática operando de 100 a 240 VAC de entrada, 60 Hz. CONDIÇÔES GERAIS: a) Garantia de hardware do tipo on-site de 3 anos (exceto para lampada que deverá ser de 1 ano), disponibilizada pelo fabricante e realizada pelo mesmo ou por empresa autorizada oficialmente, com tempo de solução em até cinco dias; b) Indicação no site do fabricante das especificações técnicas específicas do modelo do equipamento). Marca/modelo: EPSON X12 – código 01277-7-019, ao preço unitário de R$ 1.590,00. | F4: EPSON X12 | G4: Peça | H4: 30dias | I4: 20dias | J4: 1590 | K4: 31 | L4: =K4-(SUM(N4:Y4)) -> 11 | M4: =IF(L4<0,"ATENÇÃO","OK") -> OK | N4: 20 | O4: 0 | P4: 0 | Q4: 0 | R4: 0 | S4: 0 | T4: 0 | U4: 0 | V4: 0 | W4: 0 | X4: 0 | Y4: 0
A5: ILHA SERVICE SERVIÇOS DE INFORMÁTICA LTDA | C5: 4 | D5: Quantidade: 04 (quatro) Peças – (PROJETOR MULTIMIDIA WIRELESS Projetor Multimidia WIRELESS. Canhão de projeção com tecnologia LCD ou DLP. Resolução nativa de 1024x768 dpi. Luminosidade de 1800 lumens. Projeção de 16 milhões de cores. Contraste de 2000:1. Compatibilidade com padrão NTSC e PAL-M. Controle remoto sem fio. Ajuste de zoom/foco automático ou manual. Tamanho da imagem projetada de 1 a 3 metros na diagonal. Distância entre o projetor e a imagem entre 1,6 a 5 metros. Entradas para S-Video, vídeo composto e áudio. Duração da lâmpada de 1500Hs. Peso máximo 7Kg. Tensão de entrada operando na faixa de 100 a 240 VAC, F/N/T, 60Hz. Permitir a função de projeção da imagem via LAN Wireless com uso de cartão USB fornecido com o equipamento ou LAN RJ45 com uso de software específico fornecido com o equipamento.) Marca/modelo: BENQ MX618ST - código 01277-7-051, ao preço unitário de R$ 2.670,00 (dois mil seiscentos e setenta reais). | F5: BENQ MX618ST | G5: Peça | H5: 30dias | I5: 20dias | J5: 2670 | K5: 0 | L5: =K5-(SUM(N5:Y5)) -> 0 | M5: =IF(L5<0,"ATENÇÃO","OK") -> OK | N5: 0 | O5: 0 | P5: 0 | Q5: 0 | R5: 0 | S5: 0 | T5: 0 | U5: 0 | V5: 0 | W5: 0 | X5: 0 | Y5: 0
C6: 5 | D6: Quantidade: 10 (dez) Peças – (LAMPADA ELETRICA PARA PROJETOR MULTIMIDIA Lâmpada: BLFP180F, Modelo Compatível ao aparelho Optoma BR S551, rincipais características do DS551, Luminosidade de 2800 ANSI lumens e alta relação de contraste de 3500:1; Capacidade 3D; Amigavelmente ecológico, economiza <0.5W de energia. Design da lâmpada no topo para facilitar a substituição.) Marca/modelo: Optoma bl-fp180f - código 00190-2-229, ao preço unitário $ 650,00 (seiscentos e cinquenta reais). | F6: Optoma bl-fp180f | G6: Peça | H6: 30dias | I6: 20dias | J6: 650 | K6: 0 | L6: =K6-(SUM(N6:Y6)) -> 0 | M6: =IF(L6<0,"ATENÇÃO","OK") -> OK | N6: 0 | O6: 0 | P6: 0 | Q6: 0 | R6: 0 | S6: 0 | T6: 0 | U6: 0 | V6: 0 | W6: 0 | X6: 0 | Y6: 0
C7: 7 | D7: Quantidade: 04 (quatro) Peças – (LAMPADA ELETRICA PARA PROJETOR MULTIMIDIA Modelo: Benq MP612) Marca/modelo: Benq mp612 - código 00190-2-229, ao preço unitário de R$ 618,00 (seiscentos e dezoito reais). | F7: Benq mp612 | G7: Peça | H7: 30dias | I7: 20dias | J7: 618 | K7: 0 | L7: =K7-(SUM(N7:Y7)) -> 0 | M7: =IF(L7<0,"ATENÇÃO","OK") -> OK | N7: 0 | O7: 0 | P7: 0 | Q7: 0 | R7: 0 | S7: 0 | T7: 0 | U7: 0 | V7: 0 | W7: 0 | X7: 0 | Y7: 0
C8: 8 | D8: Quantidade: 09 (nove) Peças – (LAMPADA ELETRICA PARA PROJETOR MULTIMIDIA Modelo: Epson X12 200W UHE) Marca/modelo: Epson x12 200w UHE - código 00190-2-229, ao preço unitário de R$ 395,00 (trezentos e noventa e cinco reais). | F8: EPSON x12 200w UHE | G8: Peça | H8: 30dias | I8: 20dias | J8: 395 | K8: 0 | L8: =K8-(SUM(N8:Y8)) -> 0 | M8: =IF(L8<0,"ATENÇÃO","OK") -> OK | N8: 0 | O8: 0 | P8: 0 | Q8: 0 | R8: 0 | S8: 0 | T8: 0 | U8: 0 | V8: 0 | W8: 0 | X8: 0 | Y8: 0
C9: 9 | D9: Quantidade: 03 (três) Peças – (LAMPADA ELETRICA PARA PROJETOR MULTIMIDIA Modelo: Infocus W240 SHP 200W) Marca/modelo: Infocus w240 shp 200w - código 00190-2-229, ao preço unitário de R$ 655,00 (seiscentos e cinquenta e cinco reais). | F9: Infocus w240 shp200w | G9: Peça | H9: 30dias | I9: 20dias | J9: 655 | K9: 0 | L9: =K9-(SUM(N9:Y9)) -> 0 | M9: =IF(L9<0,"ATENÇÃO","OK") -> OK | N9: 0 | O9: 0 | P9: 0 | Q9: 0 | R9: 0 | S9: 0 | T9: 0 | U9: 0 | V9: 0 | W9: 0 | X9: 0 | Y9: 0
C10: 10 | D10: Quantidade: 04 (quatro) Peças – (LAMPADA ELETRICA PARA PROJETOR MULTIMIDIA Modelo: Optoma EX536) Marca/modelo: Infocus w240 shp 200w - código 00190-2-229, ao preço unitário de R$ 676,00 (seiscentos e setenta e seis reais). | F10: Infocus w240 shp200w | G10: Peça | H10: 30dias | I10: 20dias | J10: 676 | K10: 0 | L10: =K10-(SUM(N10:Y10)) -> 0 | M10: =IF(L10<0,"ATENÇÃO","OK") -> OK | N10: 0 | O10: 0 | P10: 0 | Q10: 0 | R10: 0 | S10: 0 | T10: 0 | U10: 0 | V10: 0 | W10: 0 | X10: 0 | Y10: 0

Sheet CEART
A1: PROCESSO: 0596/2013/UDESC | D1: OBJETO: Aquisição de projetores e lâmpadas | K1: VIGÊNCIA DA ATA: 26/09/2013 até 25/09/2014 | N1: AF 399/2013 Qtde. DT | O1: AF 400/2013 Qtde. DT | P1: AF 401/2013 Qtde. DT | Q1: AF/OS nº xxxx/2014 Qtde. DT | R1: AF/OS nº xxxx/2014 Qtde. DT | S1: AF/OS nº xxxx/2014 Qtde. DT | T1: AF/OS nº xxxx/2014 Qtde. DT | U1: AF/OS nº xxxx/2014 Qtde. DT | V1: AF/OS nº xxxx/2014 Qtde. DT | W1: AF/OS nº xxxx/2014 Qtde. DT | X1: AF/OS nº xxxx/2014 Qtde. DT | Y1: AF/OS nº xxxx/2014 Qtde. DT
A2: CENTRO PARTICIPANTE: CEART
A3: FORNECEDOR | B3: LOTE | C3: ITEM | D3: PRODUTO - CARACTERÍSTICAS MÍNIMAS | E3: ELEMENTO | F3: MARCA | G3: UNIDADE | H3: Entrega (Dias) | I3: Pagto. (Dias) | J3: Preço UNITÁRIO (R$) | K3: Qtde LICITADA | L3: Saldo / Automático | M3: ALERTA | N3: ...../...../...... | O3: ...../...../...... | P3: ...../...../...... | Q3: ...../...../...... | R3: ...../...../...... | S3: ...../...../...... | T3: ...../...../...... | U3: ...../...../...... | V3: ...../...../...... | W3: ...../...../...... | X3: ...../...../...... | Y3: ...../...../......
A4: MICROTÉCNICA INFORMÁTICA LTDA | C4: 1 | D4: Quantidade: 328 (trezentos e vinte e oito) Peças - (PROJETOR MULTIMIDIA CARACTERÍSTICAS MÍNIMAS: 1) Canhão de projeção com tecnologia LCD ou DLP; 2) Resolução nativa de 1024x768; 3) Luminosidade de 2500 lumens; 4) Contraste de 3000:1; 5) Reprodução de 16 milhões de cores; 6) Compatibilidade com padrão NTSC e PAL-M; 7) Formato de imagem 4x3 e 16x9; 8) Coreção keystone vertical e horizontal; 9) Controle remoto sem fio; 10) Ajuste de zoom e foco; 11) Tamanho da imagem projetada de 1 a 3 metros na diagonal; 12) Distância entre o projetor e a imagem entre 1 a 5 mestros; 13) Entradas para video analógico VGA (d-sub 15p), S-Video, vídeo composto e video digital HDMI; 14) Entrada para áudio estereo e autofalante; 15) Interface USB 2.0; 16) Duração média da lâmpada de 3000 hrs em uso normal; 17) Peso máximo 4Kg; 18) Ruido menor que 50 db em funcionamento; 19) Projeção mesa/teto, fronta/traseiro; 20) Fonte de alimentação automática operando de 100 a 240 VAC de entrada, 60 Hz. CONDIÇÔES GERAIS: a) Garantia de hardware do tipo on-site de 3 anos (exceto para lampada que deverá ser de 1 ano), disponibilizada pelo fabricante e realizada pelo mesmo ou por empresa autorizada oficialmente, com tempo de solução em até cinco dias; b) Indicação no site do fabricante das especificações técnicas específicas do modelo do equipamento). Marca/modelo: EPSON X12 – código 01277-7-019, ao preço unitário de R$ 1.590,00. | F4: EPSON X12 | G4: Peça | H4: 30dias | I4: 20dias | J4: 1590 | K4: =31+1 -> 32 | L4: =K4-(SUM(N4:Y4)) -> 1 | M4: =IF(L4<0,"ATENÇÃO","OK") -> OK | N4: 28 | O4: 2 | P4: 1 | Q4: 0 | R4: 0 | S4: 0 | T4: 0 | U4: 0 | V4: 0 | W4: 0 | X4: 0 | Y4: 0
A5: ILHA SERVICE SERVIÇOS DE INFORMÁTICA LTDA | C5: 4 | D5: Quantidade: 04 (quatro) Peças – (PROJETOR MULTIMIDIA WIRELESS Projetor Multimidia WIRELESS. Canhão de projeção com tecnologia LCD ou DLP. Resolução nativa de 1024x768 dpi. Luminosidade de 1800 lumens. Projeção de 16 milhões de cores. Contraste de 2000:1. Compatibilidade com padrão NTSC e PAL-M. Controle remoto sem fio. Ajuste de zoom/foco automático ou manual. Tamanho da imagem projetada de 1 a 3 metros na diagonal. Distância entre o projetor e a imagem entre 1,6 a 5 metros. Entradas para S-Video, vídeo composto e áudio. Duração da lâmpada de 1500Hs. Peso máximo 7Kg. Tensão de entrada operando na faixa de 100 a 240 VAC, F/N/T, 60Hz. Permitir a função de projeção da imagem via LAN Wireless com uso de cartão USB fornecido com o equipamento ou LAN RJ45 com uso de software específico fornecido com o equipamento.) Marca/modelo: BENQ MX618ST - código 01277-7-051, ao preço unitário de R$ 2.670,00 (dois mil seiscentos e setenta reais). | F5: BENQ MX618ST | G5: Peça | H5: 30dias | I5: 20dias | J5: 2670 | K5: 0 | L5: =K5-(SUM(N5:Y5)) -> 0 | M5: =IF(L5<0,"ATENÇÃO","OK") -> OK | N5: 0 | O5: 0 | P5: 0 | Q5: 0 | R5: 0 | S5: 0 | T5: 0 | U5: 0 | V5: 0 | W5: 0 | X5: 0 | Y5: 0
C6: 5 | D6: Quantidade: 10 (dez) Peças – (LAMPADA ELETRICA PARA PROJETOR MULTIMIDIA Lâmpada: BLFP180F, Modelo Compatível ao aparelho Optoma BR S551, rincipais características do DS551, Luminosidade de 2800 ANSI lumens e alta relação de contraste de 3500:1; Capacidade 3D; Amigavelmente ecológico, economiza <0.5W de energia. Design da lâmpada no topo para facilitar a substituição.) Marca/modelo: Optoma bl-fp180f - código 00190-2-229, ao preço unitário $ 650,00 (seiscentos e cinquenta reais). | F6: Optoma bl-fp180f | G6: Peça | H6: 30dias | I6: 20dias | J6: 650 | K6: 0 | L6: =K6-(SUM(N6:Y6)) -> 0 | M6: =IF(L6<0,"ATENÇÃO","OK") -> OK | N6: 0 | O6: 0 | P6: 0 | Q6: 0 | R6: 0 | S6: 0 | T6: 0 | U6: 0 | V6: 0 | W6: 0 | X6: 0 | Y6: 0
C7: 7 | D7: Quantidade: 04 (quatro) Peças – (LAMPADA ELETRICA PARA PROJETOR MULTIMIDIA Modelo: Benq MP612) Marca/modelo: Benq mp612 - código 00190-2-229, ao preço unitário de R$ 618,00 (seiscentos e dezoito reais). | F7: Benq mp612 | G7: Peça | H7: 30dias | I7: 20dias | J7: 618 | K7: 0 | L7: =K7-(SUM(N7:Y7)) -> 0 | M7: =IF(L7<0,"ATENÇÃO","OK") -> OK | N7: 0 | O7: 0 | P7: 0 | Q7: 0 | R7: 0 | S7: 0 | T7: 0 | U7: 0 | V7: 0 | W7: 0 | X7: 0 | Y7: 0
C8: 8 | D8: Quantidade: 09 (nove) Peças – (LAMPADA ELETRICA PARA PROJETOR MULTIMIDIA Modelo: Epson X12 200W UHE) Marca/modelo: Epson x12 200w UHE - código 00190-2-229, ao preço unitário de R$ 395,00 (trezentos e noventa e cinco reais). | F8: EPSON x12 200w UHE | G8: Peça | H8: 30dias | I8: 20dias | J8: 395 | K8: 0 | L8: =K8-(SUM(N8:Y8)) -> 0 | M8: =IF(L8<0,"ATENÇÃO","OK") -> OK | N8: 0 | O8: 0 | P8: 0 | Q8: 0 | R8: 0 | S8: 0 | T8: 0 | U8: 0 | V8: 0 | W8: 0 | X8: 0 | Y8: 0
C9: 9 | D9: Quantidade: 03 (três) Peças – (LAMPADA ELETRICA PARA PROJETOR MULTIMIDIA Modelo: Infocus W240 SHP 200W) Marca/modelo: Infocus w240 shp 200w - código 00190-2-229, ao preço unitário de R$ 655,00 (seiscentos e cinquenta e cinco reais). | F9: Infocus w240 shp200w | G9: Peça | H9: 30dias | I9: 20dias | J9: 655 | K9: 0 | L9: =K9-(SUM(N9:Y9)) -> 0 | M9: =IF(L9<0,"ATENÇÃO","OK") -> OK | N9: 0 | O9: 0 | P9: 0 | Q9: 0 | R9: 0 | S9: 0 | T9: 0 | U9: 0 | V9: 0 | W9: 0 | X9: 0 | Y9: 0
C10: 10 | D10: Quantidade: 04 (quatro) Peças – (LAMPADA ELETRICA PARA PROJETOR MULTIMIDIA Modelo: Optoma EX536) Marca/modelo: Infocus w240 shp 200w - código 00190-2-229, ao preço unitário de R$ 676,00 (seiscentos e setenta e seis reais). | F10: Infocus w240 shp200w | G10: Peça | H10: 30dias | I10: 20dias | J10: 676 | K10: 0 | L10: =K10-(SUM(N10:Y10)) -> 0 | M10: =IF(L10<0,"ATENÇÃO","OK") -> OK | N10: 0 | O10: 0 | P10: 0 | Q10: 0 | R10: 0 | S10: 0 | T10: 0 | U10: 0 | V10: 0 | W10: 0 | X10: 0 | Y10: 0

Sheet FAED
A1: PROCESSO: 0596/2013/UDESC | D1: OBJETO: Aquisição de projetores e lâmpadas | K1: VIGÊNCIA DA ATA: 26/09/2013 até 25/09/2014 | N1: AF/OS nº 383/2013 Qtde. DT | O1: AF/OS nº xxxx/2014 Qtde. DT | P1: AF/OS nº xxxx/2014 Qtde. DT | Q1: AF/OS nº xxxx/2014 Qtde. DT | R1: AF/OS nº xxxx/2014 Qtde. DT | S1: AF/OS nº xxxx/2014 Qtde. DT | T1: AF/OS nº xxxx/2014 Qtde. DT | U1: AF/OS nº xxxx/2014 Qtde. DT | V1: AF/OS nº xxxx/2014 Qtde. DT | W1: AF/OS nº xxxx/2014 Qtde. DT | X1: AF/OS nº xxxx/2014 Qtde. DT | Y1: AF/OS nº xxxx/2014 Qtde. DT
A2: CENTRO PARTICIPANTE: FAED
A3: FORNECEDOR | B3: LOTE | C3: ITEM | D3: PRODUTO - CARACTERÍSTICAS MÍNIMAS | E3: ELEMENTO | F3: MARCA | G3: UNIDADE | H3: Entrega (Dias) | I3: Pagto. (Dias) | J3: Preço UNITÁRIO (R$) | K3: Qtde LICITADA | L3: Saldo / Automático | M3: ALERTA | N3: 41569 | O3: ...../...../...... | P3: ...../...../...... | Q3: ...../...../...... | R3: ...../...../...... | S3: ...../...../...... | T3: ...../...../...... | U3: ...../...../...... | V3: ...../...../...... | W3: ...../...../...... | X3: ...../...../...... | Y3: ...../...../......
A4: MICROTÉCNICA INFORMÁTICA LTDA | C4: 1 | D4: Quantidade: 328 (trezentos e vinte e oito) Peças - (PROJETOR MULTIMIDIA CARACTERÍSTICAS MÍNIMAS: 1) Canhão de projeção com tecnologia LCD ou DLP; 2) Resolução nativa de 1024x768; 3) Luminosidade de 2500 lumens; 4) Contraste de 3000:1; 5) Reprodução de 16 milhões de cores; 6) Compatibilidade com padrão NTSC e PAL-M; 7) Formato de imagem 4x3 e 16x9; 8) Coreção keystone vertical e horizontal; 9) Controle remoto sem fio; 10) Ajuste de zoom e foco; 11) Tamanho da imagem projetada de 1 a 3 metros na diagonal; 12) Distância entre o projetor e a imagem entre 1 a 5 mestros; 13) Entradas para video analógico VGA (d-sub 15p), S-Video, vídeo composto e video digital HDMI; 14) Entrada para áudio estereo e autofalante; 15) Interface USB 2.0; 16) Duração média da lâmpada de 3000 hrs em uso normal; 17) Peso máximo 4Kg; 18) Ruido menor que 50 db em funcionamento; 19) Projeção mesa/teto, fronta/traseiro; 20) Fonte de alimentação automática operando de 100 a 240 VAC de entrada, 60 Hz. CONDIÇÔES GERAIS: a) Garantia de hardware do tipo on-site de 3 anos (exceto para lampada que deverá ser de 1 ano), disponibilizada pelo fabricante e realizada pelo mesmo ou por empresa autorizada oficialmente, com tempo de solução em até cinco dias; b) Indicação no site do fabricante das especificações técnicas específicas do modelo do equipamento). Marca/modelo: EPSON X12 – código 01277-7-019, ao preço unitário de R$ 1.590,00. | F4: EPSON X12 | G4: Peça | H4: 30dias | I4: 20dias | J4: 1590 | K4: 30 | L4: =K4-(SUM(N4:Y4)) -> 14 | M4: =IF(L4<0,"ATENÇÃO","OK") -> OK | N4: 16 | O4: 0 | P4: 0 | Q4: 0 | R4: 0 | S4: 0 | T4: 0 | U4: 0 | V4: 0 | W4: 0 | X4: 0 | Y4: 0
A5: ILHA SERVICE SERVIÇOS DE INFORMÁTICA LTDA | C5: 4 | D5: Quantidade: 04 (quatro) Peças – (PROJETOR MULTIMIDIA WIRELESS Projetor Multimidia WIRELESS. Canhão de projeção com tecnologia LCD ou DLP. Resolução nativa de 1024x768 dpi. Luminosidade de 1800 lumens. Projeção de 16 milhões de cores. Contraste de 2000:1. Compatibilidade com padrão NTSC e PAL-M. Controle remoto sem fio. Ajuste de zoom/foco automático ou manual. Tamanho da imagem projetada de 1 a 3 metros na diagonal. Distância entre o projetor e a imagem entre 1,6 a 5 metros. Entradas para S-Video, vídeo composto e áudio. Duração da lâmpada de 1500Hs. Peso máximo 7Kg. Tensão de entrada operando na faixa de 100 a 240 VAC, F/N/T, 60Hz. Permitir a função de projeção da imagem via LAN Wireless com uso de cartão USB fornecido com o equipamento ou LAN RJ45 com uso de software específico fornecido com o equipamento.) Marca/modelo: BENQ MX618ST - código 01277-7-051, ao preço unitário de R$ 2.670,00 (dois mil seiscentos e setenta reais). | F5: BENQ MX618ST | G5: Peça | H5: 30dias | I5: 20dias | J5: 2670 | K5: 0 | L5: =K5-(SUM(N5:Y5)) -> 0 | M5: =IF(L5<0,"ATENÇÃO","OK") -> OK | N5: 0 | O5: 0 | P5: 0 | Q5: 0 | R5: 0 | S5: 0 | T5: 0 | U5: 0 | V5: 0 | W5: 0 | X5: 0 | Y5: 0
C6: 5 | D6: Quantidade: 10 (dez) Peças – (LAMPADA ELETRICA PARA PROJETOR MULTIMIDIA Lâmpada: BLFP180F, Modelo Compatível ao aparelho Optoma BR S551, rincipais características do DS551, Luminosidade de 2800 ANSI lumens e alta relação de contraste de 3500:1; Capacidade 3D; Amigavelmente ecológico, economiza <0.5W de energia. Design da lâmpada no topo para facilitar a substituição.) Marca/modelo: Optoma bl-fp180f - código 00190-2-229, ao preço unitário $ 650,00 (seiscentos e cinquenta reais). | F6: Optoma bl-fp180f | G6: Peça | H6: 30dias | I6: 20dias | J6: 650 | K6: 0 | L6: =K6-(SUM(N6:Y6)) -> 0 | M6: =IF(L6<0,"ATENÇÃO","OK") -> OK | N6: 0 | O6: 0 | P6: 0 | Q6: 0 | R6: 0 | S6: 0 | T6: 0 | U6: 0 | V6: 0 | W6: 0 | X6: 0 | Y6: 0
C7: 7 | D7: Quantidade: 04 (quatro) Peças – (LAMPADA ELETRICA PARA PROJETOR MULTIMIDIA Modelo: Benq MP612) Marca/modelo: Benq mp612 - código 00190-2-229, ao preço unitário de R$ 618,00 (seiscentos e dezoito reais). | F7: Benq mp612 | G7: Peça | H7: 30dias | I7: 20dias | J7: 618 | K7: 0 | L7: =K7-(SUM(N7:Y7)) -> 0 | M7: =IF(L7<0,"ATENÇÃO","OK") -> OK | N7: 0 | O7: 0 | P7: 0 | Q7: 0 | R7: 0 | S7: 0 | T7: 0 | U7: 0 | V7: 0 | W7: 0 | X7: 0 | Y7: 0
C8: 8 | D8: Quantidade: 09 (nove) Peças – (LAMPADA ELETRICA PARA PROJETOR MULTIMIDIA Modelo: Epson X12 200W UHE) Marca/modelo: Epson x12 200w UHE - código 00190-2-229, ao preço unitário de R$ 395,00 (trezentos e noventa e cinco reais). | F8: EPSON x12 200w UHE | G8: Peça | H8: 30dias | I8: 20dias | J8: 395 | K8: 0 | L8: =K8-(SUM(N8:Y8)) -> 0 | M8: =IF(L8<0,"ATENÇÃO","OK") -> OK | N8: 0 | O8: 0 | P8: 0 | Q8: 0 | R8: 0 | S8: 0 | T8: 0 | U8: 0 | V8: 0 | W8: 0 | X8: 0 | Y8: 0
C9: 9 | D9: Quantidade: 03 (três) Peças – (LAMPADA ELETRICA PARA PROJETOR MULTIMIDIA Modelo: Infocus W240 SHP 200W) Marca/modelo: Infocus w240 shp 200w - código 00190-2-229, ao preço unitário de R$ 655,00 (seiscentos e cinquenta e cinco reais). | F9: Infocus w240 shp200w | G9: Peça | H9: 30dias | I9: 20dias | J9: 655 | K9: 0 | L9: =K9-(SUM(N9:Y9)) -> 0 | M9: =IF(L9<0,"ATENÇÃO","OK") -> OK | N9: 0 | O9: 0 | P9: 0 | Q9: 0 | R9: 0 | S9: 0 | T9: 0 | U9: 0 | V9: 0 | W9: 0 | X9: 0 | Y9: 0
C10: 10 | D10: Quantidade: 04 (quatro) Peças – (LAMPADA ELETRICA PARA PROJETOR MULTIMIDIA Modelo: Optoma EX536) Marca/modelo: Infocus w240 shp 200w - código 00190-2-229, ao preço unitário de R$ 676,00 (seiscentos e setenta e seis reais). | F10: Infocus w240 shp200w | G10: Peça | H10: 30dias | I10: 20dias | J10: 676 | K10: 0 | L10: =K10-(SUM(N10:Y10)) -> 0 | M10: =IF(L10<0,"ATENÇÃO","OK") -> OK | N10: 0 | O10: 0 | P10: 0 | Q10: 0 | R10: 0 | S10: 0 | T10: 0 | U10: 0 | V10: 0 | W10: 0 | X10: 0 | Y10: 0

Sheet CEAD
A1: PROCESSO: 0596/2013/UDESC | D1: OBJETO: Aquisição de projetores e lâmpadas | K1: VIGÊNCIA DA ATA: 26/09/2013 até 25/09/2014 | N1: AF/OS nº 373/2013 Qtde. DT | O1: AF/OS nº 284/2014 Qtde. DT | P1: AF/OS nº xxxx/2014 Qtde. DT | Q1: AF/OS nº xxxx/2014 Qtde. DT | R1: AF/OS nº xxxx/2014 Qtde. DT | S1: AF/OS nº xxxx/2014 Qtde. DT | T1: AF/OS nº xxxx/2014 Qtde. DT | U1: AF/OS nº xxxx/2014 Qtde. DT | V1: AF/OS nº xxxx/2014 Qtde. DT | W1: AF/OS nº xxxx/2014 Qtde. DT | X1: AF/OS nº xxxx/2014 Qtde. DT | Y1: AF/OS nº xxxx/2014 Qtde. DT
A2: CENTRO PARTICIPANTE: CEAD
A3: FORNECEDOR | B3: LOTE | C3: ITEM | D3: PRODUTO - CARACTERÍSTICAS MÍNIMAS | E3: ELEMENTO | F3: MARCA | G3: UNIDADE | H3: Entrega (Dias) | I3: Pagto. (Dias) | J3: Preço UNITÁRIO (R$) | K3: Qtde LICITADA | L3: Saldo / Automático | M3: ALERTA | N3: 41590 | O3: 41778 | P3: ...../...../...... | Q3: ...../...../...... | R3: ...../...../...... | S3: ...../...../...... | T3: ...../...../...... | U3: ...../...../...... | V3: ...../...../...... | W3: ...../...../...... | X3: ...../...../...... | Y3: ...../...../......
A4: MICROTÉCNICA INFORMÁTICA LTDA | C4: 1 | D4: Quantidade: 328 (trezentos e vinte e oito) Peças - (PROJETOR MULTIMIDIA CARACTERÍSTICAS MÍNIMAS: 1) Canhão de projeção com tecnologia LCD ou DLP; 2) Resolução nativa de 1024x768; 3) Luminosidade de 2500 lumens; 4) Contraste de 3000:1; 5) Reprodução de 16 milhões de cores; 6) Compatibilidade com padrão NTSC e PAL-M; 7) Formato de imagem 4x3 e 16x9; 8) Coreção keystone vertical e horizontal; 9) Controle remoto sem fio; 10) Ajuste de zoom e foco; 11) Tamanho da imagem projetada de 1 a 3 metros na diagonal; 12) Distância entre o projetor e a imagem entre 1 a 5 mestros; 13) Entradas para video analógico VGA (d-sub 15p), S-Video, vídeo composto e video digital HDMI; 14) Entrada para áudio estereo e autofalante; 15) Interface USB 2.0; 16) Duração média da lâmpada de 3000 hrs em uso normal; 17) Peso máximo 4Kg; 18) Ruido menor que 50 db em funcionamento; 19) Projeção mesa/teto, fronta/traseiro; 20) Fonte de alimentação automática operando de 100 a 240 VAC de entrada, 60 Hz. CONDIÇÔES GERAIS: a) Garantia de hardware do tipo on-site de 3 anos (exceto para lampada que deverá ser de 1 ano), disponibilizada pelo fabricante e realizada pelo mesmo ou por empresa autorizada oficialmente, com tempo de solução em até cinco dias; b) Indicação no site do fabricante das especificações técnicas específicas do modelo do equipamento). Marca/modelo: EPSON X12 – código 01277-7-019, ao preço unitário de R$ 1.590,00. | F4: EPSON X12 | G4: Peça | H4: 30dias | I4: 20dias | J4: 1590 | K4: 4 | L4: =K4-(SUM(N4:Y4)) -> 0 | M4: =IF(L4<0,"ATENÇÃO","OK") -> OK | N4: 2 | O4: 2 | P4: 0 | Q4: 0 | R4: 0 | S4: 0 | T4: 0 | U4: 0 | V4: 0 | W4: 0 | X4: 0 | Y4: 0
A5: ILHA SERVICE SERVIÇOS DE INFORMÁTICA LTDA | C5: 4 | D5: Quantidade: 04 (quatro) Peças – (PROJETOR MULTIMIDIA WIRELESS Projetor Multimidia WIRELESS. Canhão de projeção com tecnologia LCD ou DLP. Resolução nativa de 1024x768 dpi. Luminosidade de 1800 lumens. Projeção de 16 milhões de cores. Contraste de 2000:1. Compatibilidade com padrão NTSC e PAL-M. Controle remoto sem fio. Ajuste de zoom/foco automático ou manual. Tamanho da imagem projetada de 1 a 3 metros na diagonal. Distância entre o projetor e a imagem entre 1,6 a 5 metros. Entradas para S-Video, vídeo composto e áudio. Duração da lâmpada de 1500Hs. Peso máximo 7Kg. Tensão de entrada operando na faixa de 100 a 240 VAC, F/N/T, 60Hz. Permitir a função de projeção da imagem via LAN Wireless com uso de cartão USB fornecido com o equipamento ou LAN RJ45 com uso de software específico fornecido com o equipamento.) Marca/modelo: BENQ MX618ST - código 01277-7-051, ao preço unitário de R$ 2.670,00 (dois mil seiscentos e setenta reais). | F5: BENQ MX618ST | G5: Peça | H5: 30dias | I5: 20dias | J5: 2670 | K5: 0 | L5: =K5-(SUM(N5:Y5)) -> 0 | M5: =IF(L5<0,"ATENÇÃO","OK") -> OK | N5: 0 | O5: 0 | P5: 0 | Q5: 0 | R5: 0 | S5: 0 | T5: 0 | U5: 0 | V5: 0 | W5: 0 | X5: 0 | Y5: 0
C6: 5 | D6: Quantidade: 10 (dez) Peças – (LAMPADA ELETRICA PARA PROJETOR MULTIMIDIA Lâmpada: BLFP180F, Modelo Compatível ao aparelho Optoma BR S551, rincipais características do DS551, Luminosidade de 2800 ANSI lumens e alta relação de contraste de 3500:1; Capacidade 3D; Amigavelmente ecológico, economiza <0.5W de energia. Design da lâmpada no topo para facilitar a substituição.) Marca/modelo: Optoma bl-fp180f - código 00190-2-229, ao preço unitário $ 650,00 (seiscentos e cinquenta reais). | F6: Optoma bl-fp180f | G6: Peça | H6: 30dias | I6: 20dias | J6: 650 | K6: 0 | L6: =K6-(SUM(N6:Y6)) -> 0 | M6: =IF(L6<0,"ATENÇÃO","OK") -> OK | N6: 0 | O6: 0 | P6: 0 | Q6: 0 | R6: 0 | S6: 0 | T6: 0 | U6: 0 | V6: 0 | W6: 0 | X6: 0 | Y6: 0
C7: 7 | D7: Quantidade: 04 (quatro) Peças – (LAMPADA ELETRICA PARA PROJETOR MULTIMIDIA Modelo: Benq MP612) Marca/modelo: Benq mp612 - código 00190-2-229, ao preço unitário de R$ 618,00 (seiscentos e dezoito reais). | F7: Benq mp612 | G7: Peça | H7: 30dias | I7: 20dias | J7: 618 | K7: 0 | L7: =K7-(SUM(N7:Y7)) -> 0 | M7: =IF(L7<0,"ATENÇÃO","OK") -> OK | N7: 0 | O7: 0 | P7: 0 | Q7: 0 | R7: 0 | S7: 0 | T7: 0 | U7: 0 | V7: 0 | W7: 0 | X7: 0 | Y7: 0
C8: 8 | D8: Quantidade: 09 (nove) Peças – (LAMPADA ELETRICA PARA PROJETOR MULTIMIDIA Modelo: Epson X12 200W UHE) Marca/modelo: Epson x12 200w UHE - código 00190-2-229, ao preço unitário de R$ 395,00 (trezentos e noventa e cinco reais). | F8: EPSON x12 200w UHE | G8: Peça | H8: 30dias | I8: 20dias | J8: 395 | K8: 0 | L8: =K8-(SUM(N8:Y8)) -> 0 | M8: =IF(L8<0,"ATENÇÃO","OK") -> OK | N8: 0 | O8: 0 | P8: 0 | Q8: 0 | R8: 0 | S8: 0 | T8: 0 | U8: 0 | V8: 0 | W8: 0 | X8: 0 | Y8: 0
C9: 9 | D9: Quantidade: 03 (três) Peças – (LAMPADA ELETRICA PARA PROJETOR MULTIMIDIA Modelo: Infocus W240 SHP 200W) Marca/modelo: Infocus w240 shp 200w - código 00190-2-229, ao preço unitário de R$ 655,00 (seiscentos e cinquenta e cinco reais). | F9: Infocus w240 shp200w | G9: Peça | H9: 30dias | I9: 20dias | J9: 655 | K9: 0 | L9: =K9-(SUM(N9:Y9)) -> 0 | M9: =IF(L9<0,"ATENÇÃO","OK") -> OK | N9: 0 | O9: 0 | P9: 0 | Q9: 0 | R9: 0 | S9: 0 | T9: 0 | U9: 0 | V9: 0 | W9: 0 | X9: 0 | Y9: 0
C10: 10 | D10: Quantidade: 04 (quatro) Peças – (LAMPADA ELETRICA PARA PROJETOR MULTIMIDIA Modelo: Optoma EX536) Marca/modelo: Infocus w240 shp 200w - código 00190-2-229, ao preço unitário de R$ 676,00 (seiscentos e setenta e seis reais). | F10: Infocus w240 shp200w | G10: Peça | H10: 30dias | I10: 20dias | J10: 676 | K10: 0 | L10: =K10-(SUM(N10:Y10)) -> 0 | M10: =IF(L10<0,"ATENÇÃO","OK") -> OK | N10: 0 | O10: 0 | P10: 0 | Q10: 0 | R10: 0 | S10: 0 | T10: 0 | U10: 0 | V10: 0 | W10: 0 | X10: 0 | Y10: 0

Sheet CEFID
A1: PROCESSO: 0596/2013/UDESC | D1: OBJETO: Aquisição de projetores e lâmpadas | K1: VIGÊNCIA DA ATA: 26/09/2013 até 25/09/2014 | N1: AF 367/2013 Qtde. DT | O1: AF 368/2014 Qtde. DT | P1: AF 300/2014 Qtde. DT | Q1: AF 301/2014 Qtde. DT | R1: AF/OS nº xxxx/2014 Qtde. DT | S1: AF/OS nº xxxx/2014 Qtde. DT | T1: AF/OS nº xxxx/2014 Qtde. DT | U1: AF/OS nº xxxx/2014 Qtde. DT | V1: AF/OS nº xxxx/2014 Qtde. DT | W1: AF/OS nº xxxx/2014 Qtde. DT | X1: AF/OS nº xxxx/2014 Qtde. DT | Y1: AF/OS nº xxxx/2014 Qtde. DT
A2: CENTRO PARTICIPANTE: CEFID
A3: FORNECEDOR | B3: LOTE | C3: ITEM | D3: PRODUTO - CARACTERÍSTICAS MÍNIMAS | E3: ELEMENTO | F3: MARCA | G3: UNIDADE | H3: Entrega (Dias) | I3: Pagto. (Dias) | J3: Preço UNITÁRIO (R$) | K3: Qtde LICITADA | L3: Saldo / Automático | M3: ALERTA | N3: ...../...../...... | O3: ...../...../...... | P3: ...../...../...... | Q3: ...../...../...... | R3: ...../...../...... | S3: ...../...../...... | T3: ...../...../...... | U3: ...../...../...... | V3: ...../...../...... | W3: ...../...../...... | X3: ...../...../...... | Y3: ...../...../......
A4: MICROTÉCNICA INFORMÁTICA LTDA | C4: 1 | D4: Quantidade: 328 (trezentos e vinte e oito) Peças - (PROJETOR MULTIMIDIA CARACTERÍSTICAS MÍNIMAS: 1) Canhão de projeção com tecnologia LCD ou DLP; 2) Resolução nativa de 1024x768; 3) Luminosidade de 2500 lumens; 4) Contraste de 3000:1; 5) Reprodução de 16 milhões de cores; 6) Compatibilidade com padrão NTSC e PAL-M; 7) Formato de imagem 4x3 e 16x9; 8) Coreção keystone vertical e horizontal; 9) Controle remoto sem fio; 10) Ajuste de zoom e foco; 11) Tamanho da imagem projetada de 1 a 3 metros na diagonal; 12) Distância entre o projetor e a imagem entre 1 a 5 mestros; 13) Entradas para video analógico VGA (d-sub 15p), S-Video, vídeo composto e video digital HDMI; 14) Entrada para áudio estereo e autofalante; 15) Interface USB 2.0; 16) Duração média da lâmpada de 3000 hrs em uso normal; 17) Peso máximo 4Kg; 18) Ruido menor que 50 db em funcionamento; 19) Projeção mesa/teto, fronta/traseiro; 20) Fonte de alimentação automática operando de 100 a 240 VAC de entrada, 60 Hz. CONDIÇÔES GERAIS: a) Garantia de hardware do tipo on-site de 3 anos (exceto para lampada que deverá ser de 1 ano), disponibilizada pelo fabricante e realizada pelo mesmo ou por empresa autorizada oficialmente, com tempo de solução em até cinco dias; b) Indicação no site do fabricante das especificações técnicas específicas do modelo do equipamento). Marca/modelo: EPSON X12 – código 01277-7-019, ao preço unitário de R$ 1.590,00. | F4: EPSON X12 | G4: Peça | H4: 30dias | I4: 20dias | J4: 1590 | K4: 3 | L4: =K4-(SUM(N4:Y4)) -> 0 | M4: =IF(L4<0,"ATENÇÃO","OK") -> OK | N4: 1 | Q4: 2 | R4: 0 | S4: 0 | T4: 0 | U4: 0 | V4: 0 | W4: 0 | X4: 0 | Y4: 0
A5: ILHA SERVICE SERVIÇOS DE INFORMÁTICA LTDA | C5: 4 | D5: Quantidade: 04 (quatro) Peças – (PROJETOR MULTIMIDIA WIRELESS Projetor Multimidia WIRELESS. Canhão de projeção com tecnologia LCD ou DLP. Resolução nativa de 1024x768 dpi. Luminosidade de 1800 lumens. Projeção de 16 milhões de cores. Contraste de 2000:1. Compatibilidade com padrão NTSC e PAL-M. Controle remoto sem fio. Ajuste de zoom/foco automático ou manual. Tamanho da imagem projetada de 1 a 3 metros na diagonal. Distância entre o projetor e a imagem entre 1,6 a 5 metros. Entradas para S-Video, vídeo composto e áudio. Duração da lâmpada de 1500Hs. Peso máximo 7Kg. Tensão de entrada operando na faixa de 100 a 240 VAC, F/N/T, 60Hz. Permitir a função de projeção da imagem via LAN Wireless com uso de cartão USB fornecido com o equipamento ou LAN RJ45 com uso de software específico fornecido com o equipamento.) Marca/modelo: BENQ MX618ST - código 01277-7-051, ao preço unitário de R$ 2.670,00 (dois mil seiscentos e setenta reais). | F5: BENQ MX618ST | G5: Peça | H5: 30dias | I5: 20dias | J5: 2670 | K5: 4 | L5: =K5-(SUM(N5:Y5)) -> 2 | M5: =IF(L5<0,"ATENÇÃO","OK") -> OK | O5: 1 | P5: 1 | R5: 0 | S5: 0 | T5: 0 | U5: 0 | V5: 0 | W5: 0 | X5: 0 | Y5: 0
C6: 5 | D6: Quantidade: 10 (dez) Peças – (LAMPADA ELETRICA PARA PROJETOR MULTIMIDIA Lâmpada: BLFP180F, Modelo Compatível ao aparelho Optoma BR S551, rincipais características do DS551, Luminosidade de 2800 ANSI lumens e alta relação de contraste de 3500:1; Capacidade 3D; Amigavelmente ecológico, economiza <0.5W de energia. Design da lâmpada no topo para facilitar a substituição.) Marca/modelo: Optoma bl-fp180f - código 00190-2-229, ao preço unitário $ 650,00 (seiscentos e cinquenta reais). | F6: Optoma bl-fp180f | G6: Peça | H6: 30dias | I6: 20dias | J6: 650 | K6: 0 | L6: =K6-(SUM(N6:Y6)) -> 0 | M6: =IF(L6<0,"ATENÇÃO","OK") -> OK | N6: 0 | O6: 0 | P6: 0 | Q6: 0 | R6: 0 | S6: 0 | T6: 0 | U6: 0 | V6: 0 | W6: 0 | X6: 0 | Y6: 0
C7: 7 | D7: Quantidade: 04 (quatro) Peças – (LAMPADA ELETRICA PARA PROJETOR MULTIMIDIA Modelo: Benq MP612) Marca/modelo: Benq mp612 - código 00190-2-229, ao preço unitário de R$ 618,00 (seiscentos e dezoito reais). | F7: Benq mp612 | G7: Peça | H7: 30dias | I7: 20dias | J7: 618 | K7: 0 | L7: =K7-(SUM(N7:Y7)) -> 0 | M7: =IF(L7<0,"ATENÇÃO","OK") -> OK | N7: 0 | O7: 0 | P7: 0 | Q7: 0 | R7: 0 | S7: 0 | T7: 0 | U7: 0 | V7: 0 | W7: 0 | X7: 0 | Y7: 0
C8: 8 | D8: Quantidade: 09 (nove) Peças – (LAMPADA ELETRICA PARA PROJETOR MULTIMIDIA Modelo: Epson X12 200W UHE) Marca/modelo: Epson x12 200w UHE - código 00190-2-229, ao preço unitário de R$ 395,00 (trezentos e noventa e cinco reais). | F8: EPSON x12 200w UHE | G8: Peça | H8: 30dias | I8: 20dias | J8: 395 | K8: 0 | L8: =K8-(SUM(N8:Y8)) -> 0 | M8: =IF(L8<0,"ATENÇÃO","OK") -> OK | N8: 0 | O8: 0 | P8: 0 | Q8: 0 | R8: 0 | S8: 0 | T8: 0 | U8: 0 | V8: 0 | W8: 0 | X8: 0 | Y8: 0
C9: 9 | D9: Quantidade: 03 (três) Peças – (LAMPADA ELETRICA PARA PROJETOR MULTIMIDIA Modelo: Infocus W240 SHP 200W) Marca/modelo: Infocus w240 shp 200w - código 00190-2-229, ao preço unitário de R$ 655,00 (seiscentos e cinquenta e cinco reais). | F9: Infocus w240 shp200w | G9: Peça | H9: 30dias | I9: 20dias | J9: 655 | K9: 0 | L9: =K9-(SUM(N9:Y9)) -> 0 | M9: =IF(L9<0,"ATENÇÃO","OK") -> OK | N9: 0 | O9: 0 | P9: 0 | Q9: 0 | R9: 0 | S9: 0 | T9: 0 | U9: 0 | V9: 0 | W9: 0 | X9: 0 | Y9: 0
C10: 10 | D10: Quantidade: 04 (quatro) Peças – (LAMPADA ELETRICA PARA PROJETOR MULTIMIDIA Modelo: Optoma EX536) Marca/modelo: Infocus w240 shp 200w - código 00190-2-229, ao preço unitário de R$ 676,00 (seiscentos e setenta e seis reais). | F10: Infocus w240 shp200w | G10: Peça | H10: 30dias | I10: 20dias | J10: 676 | K10: 0 | L10: =K10-(SUM(N10:Y10)) -> 0 | M10: =IF(L10<0,"ATENÇÃO","OK") -> OK | N10: 0 | O10: 0 | P10: 0 | Q10: 0 | R10: 0 | S10: 0 | T10: 0 | U10: 0 | V10: 0 | W10: 0 | X10: 0 | Y10: 0

Sheet CESFI
A1: PROCESSO: 0596/2013/UDESC | D1: OBJETO: Aquisição de projetores e lâmpadas | K1: VIGÊNCIA DA ATA: 26/09/2013 até 25/09/2014 | N1: AF/OS nº 1052/2014 Qtde. DT | O1: AF/OS nº xxxx/2014 Qtde. DT | P1: AF/OS nº xxxx/2014 Qtde. DT | Q1: AF/OS nº xxxx/2014 Qtde. DT | R1: AF/OS nº xxxx/2014 Qtde. DT | S1: AF/OS nº xxxx/2014 Qtde. DT | T1: AF/OS nº xxxx/2014 Qtde. DT | U1: AF/OS nº xxxx/2014 Qtde. DT | V1: AF/OS nº xxxx/2014 Qtde. DT | W1: AF/OS nº xxxx/2014 Qtde. DT | X1: AF/OS nº xxxx/2014 Qtde. DT | Y1: AF/OS nº xxxx/2014 Qtde. DT
A2: CENTRO PARTICIPANTE: CESFI
A3: FORNECEDOR | B3: LOTE | C3: ITEM | D3: PRODUTO - CARACTERÍSTICAS MÍNIMAS | E3: ELEMENTO | F3: MARCA | G3: UNIDADE | H3: Entrega (Dias) | I3: Pagto. (Dias) | J3: Preço UNITÁRIO (R$) | K3: Qtde LICITADA | L3: Saldo / Automático | M3: ALERTA | N3: 41876 | O3: ...../...../...... | P3: ...../...../...... | Q3: ...../...../...... | R3: ...../...../...... | S3: ...../...../...... | T3: ...../...../...... | U3: ...../...../...... | V3: ...../...../...... | W3: ...../...../...... | X3: ...../...../...... | Y3: ...../...../......
A4: MICROTÉCNICA INFORMÁTICA LTDA | C4: 1 | D4: Quantidade: 328 (trezentos e vinte e oito) Peças - (PROJETOR MULTIMIDIA CARACTERÍSTICAS MÍNIMAS: 1) Canhão de projeção com tecnologia LCD ou DLP; 2) Resolução nativa de 1024x768; 3) Luminosidade de 2500 lumens; 4) Contraste de 3000:1; 5) Reprodução de 16 milhões de cores; 6) Compatibilidade com padrão NTSC e PAL-M; 7) Formato de imagem 4x3 e 16x9; 8) Coreção keystone vertical e horizontal; 9) Controle remoto sem fio; 10) Ajuste de zoom e foco; 11) Tamanho da imagem projetada de 1 a 3 metros na diagonal; 12) Distância entre o projetor e a imagem entre 1 a 5 mestros; 13) Entradas para video analógico VGA (d-sub 15p), S-Video, vídeo composto e video digital HDMI; 14) Entrada para áudio estereo e autofalante; 15) Interface USB 2.0; 16) Duração média da lâmpada de 3000 hrs em uso normal; 17) Peso máximo 4Kg; 18) Ruido menor que 50 db em funcionamento; 19) Projeção mesa/teto, fronta/traseiro; 20) Fonte de alimentação automática operando de 100 a 240 VAC de entrada, 60 Hz. CONDIÇÔES GERAIS: a) Garantia de hardware do tipo on-site de 3 anos (exceto para lampada que deverá ser de 1 ano), disponibilizada pelo fabricante e realizada pelo mesmo ou por empresa autorizada oficialmente, com tempo de solução em até cinco dias; b) Indicação no site do fabricante das especificações técnicas específicas do modelo do equipamento). Marca/modelo: EPSON X12 – código 01277-7-019, ao preço unitário de R$ 1.590,00. | F4: EPSON X12 | G4: Peça | H4: 30dias | I4: 20dias | J4: 1590 | K4: 0 | L4: =K4-(SUM(N4:Y4)) -> 0 | M4: =IF(L4<0,"ATENÇÃO","OK") -> OK | N4: 0 | O4: 0 | P4: 0 | Q4: 0 | R4: 0 | S4: 0 | T4: 0 | U4: 0 | V4: 0 | W4: 0 | X4: 0 | Y4: 0
A5: ILHA SERVICE SERVIÇOS DE INFORMÁTICA LTDA | C5: 4 | D5: Quantidade: 04 (quatro) Peças – (PROJETOR MULTIMIDIA WIRELESS Projetor Multimidia WIRELESS. Canhão de projeção com tecnologia LCD ou DLP. Resolução nativa de 1024x768 dpi. Luminosidade de 1800 lumens. Projeção de 16 milhões de cores. Contraste de 2000:1. Compatibilidade com padrão NTSC e PAL-M. Controle remoto sem fio. Ajuste de zoom/foco automático ou manual. Tamanho da imagem projetada de 1 a 3 metros na diagonal. Distância entre o projetor e a imagem entre 1,6 a 5 metros. Entradas para S-Video, vídeo composto e áudio. Duração da lâmpada de 1500Hs. Peso máximo 7Kg. Tensão de entrada operando na faixa de 100 a 240 VAC, F/N/T, 60Hz. Permitir a função de projeção da imagem via LAN Wireless com uso de cartão USB fornecido com o equipamento ou LAN RJ45 com uso de software específico fornecido com o equipamento.) Marca/modelo: BENQ MX618ST - código 01277-7-051, ao preço unitário de R$ 2.670,00 (dois mil seiscentos e setenta reais). | F5: BENQ MX618ST | G5: Peça | H5: 30dias | I5: 20dias | J5: 2670 | K5: 0 | L5: =K5-(SUM(N5:Y5)) -> 0 | M5: =IF(L5<0,"ATENÇÃO","OK") -> OK | N5: 0 | O5: 0 | P5: 0 | Q5: 0 | R5: 0 | S5: 0 | T5: 0 | U5: 0 | V5: 0 | W5: 0 | X5: 0 | Y5: 0
C6: 5 | D6: Quantidade: 10 (dez) Peças – (LAMPADA ELETRICA PARA PROJETOR MULTIMIDIA Lâmpada: BLFP180F, Modelo Compatível ao aparelho Optoma BR S551, rincipais características do DS551, Luminosidade de 2800 ANSI lumens e alta relação de contraste de 3500:1; Capacidade 3D; Amigavelmente ecológico, economiza <0.5W de energia. Design da lâmpada no topo para facilitar a substituição.) Marca/modelo: Optoma bl-fp180f - código 00190-2-229, ao preço unitário $ 650,00 (seiscentos e cinquenta reais). | F6: Optoma bl-fp180f | G6: Peça | H6: 30dias | I6: 20dias | J6: 650 | K6: 10 | L6: =K6-(SUM(N6:Y6)) -> 5 | M6: =IF(L6<0,"ATENÇÃO","OK") -> OK | N6: 5 | O6: 0 | P6: 0 | Q6: 0 | R6: 0 | S6: 0 | T6: 0 | U6: 0 | V6: 0 | W6: 0 | X6: 0 | Y6: 0
C7: 7 | D7: Quantidade: 04 (quatro) Peças – (LAMPADA ELETRICA PARA PROJETOR MULTIMIDIA Modelo: Benq MP612) Marca/modelo: Benq mp612 - código 00190-2-229, ao preço unitário de R$ 618,00 (seiscentos e dezoito reais). | F7: Benq mp612 | G7: Peça | H7: 30dias | I7: 20dias | J7: 618 | K7: 0 | L7: =K7-(SUM(N7:Y7)) -> 0 | M7: =IF(L7<0,"ATENÇÃO","OK") -> OK | N7: 0 | O7: 0 | P7: 0 | Q7: 0 | R7: 0 | S7: 0 | T7: 0 | U7: 0 | V7: 0 | W7: 0 | X7: 0 | Y7: 0
C8: 8 | D8: Quantidade: 09 (nove) Peças – (LAMPADA ELETRICA PARA PROJETOR MULTIMIDIA Modelo: Epson X12 200W UHE) Marca/modelo: Epson x12 200w UHE - código 00190-2-229, ao preço unitário de R$ 395,00 (trezentos e noventa e cinco reais). | F8: EPSON x12 200w UHE | G8: Peça | H8: 30dias | I8: 20dias | J8: 395 | K8: 0 | L8: =K8-(SUM(N8:Y8)) -> 0 | M8: =IF(L8<0,"ATENÇÃO","OK") -> OK | N8: 0 | O8: 0 | P8: 0 | Q8: 0 | R8: 0 | S8: 0 | T8: 0 | U8: 0 | V8: 0 | W8: 0 | X8: 0 | Y8: 0
C9: 9 | D9: Quantidade: 03 (três) Peças – (LAMPADA ELETRICA PARA PROJETOR MULTIMIDIA Modelo: Infocus W240 SHP 200W) Marca/modelo: Infocus w240 shp 200w - código 00190-2-229, ao preço unitário de R$ 655,00 (seiscentos e cinquenta e cinco reais). | F9: Infocus w240 shp200w | G9: Peça | H9: 30dias | I9: 20dias | J9: 655 | K9: 0 | L9: =K9-(SUM(N9:Y9)) -> 0 | M9: =IF(L9<0,"ATENÇÃO","OK") -> OK | N9: 0 | O9: 0 | P9: 0 | Q9: 0 | R9: 0 | S9: 0 | T9: 0 | U9: 0 | V9: 0 | W9: 0 | X9: 0 | Y9: 0
C10: 10 | D10: Quantidade: 04 (quatro) Peças – (LAMPADA ELETRICA PARA PROJETOR MULTIMIDIA Modelo: Optoma EX536) Marca/modelo: Infocus w240 shp 200w - código 00190-2-229, ao preço unitário de R$ 676,00 (seiscentos e setenta e seis reais). | F10: Infocus w240 shp200w | G10: Peça | H10: 30dias | I10: 20dias | J10: 676 | K10: 0 | L10: =K10-(SUM(N10:Y10)) -> 0 | M10: =IF(L10<0,"ATENÇÃO","OK") -> OK | N10: 0 | O10: 0 | P10: 0 | Q10: 0 | R10: 0 | S10: 0 | T10: 0 | U10: 0 | V10: 0 | W10: 0 | X10: 0 | Y10: 0

Sheet CEAVI
A1: PROCESSO: 0596/2013/UDESC | D1: OBJETO: Aquisição de projetores e lâmpadas | K1: VIGÊNCIA DA ATA: 26/09/2013 até 25/09/2014 | N1: AF nº 374/2013 Qtde. DT | O1: AF nº 660/2014 Qtde. DT | P1: AF/OS nº xxxx/2014 Qtde. DT | Q1: AF/OS nº xxxx/2014 Qtde. DT | R1: AF/OS nº xxxx/2014 Qtde. DT | S1: AF/OS nº xxxx/2014 Qtde. DT | T1: AF/OS nº xxxx/2014 Qtde. DT | U1: AF/OS nº xxxx/2014 Qtde. DT | V1: AF/OS nº xxxx/2014 Qtde. DT
A2: CENTRO PARTICIPANTE: CEAVI
A3: FORNECEDOR | B3: LOTE | C3: ITEM | D3: PRODUTO - CARACTERÍSTICAS MÍNIMAS | E3: ELEMENTO | F3: MARCA | G3: UNIDADE | H3: Entrega (Dias) | I3: Pagto. (Dias) | J3: Preço UNITÁRIO (R$) | K3: Qtde LICITADA | L3: Saldo / Automático | M3: ALERTA | N3: 41571 | O3: 41827 | P3: ...../...../...... | Q3: ...../...../...... | R3: ...../...../...... | S3: ...../...../...... | T3: ...../...../...... | U3: ...../...../...... | V3: ...../...../......
A4: MICROTÉCNICA INFORMÁTICA LTDA | C4: 1 | D4: Quantidade: 328 (trezentos e vinte e oito) Peças - (PROJETOR MULTIMIDIA CARACTERÍSTICAS MÍNIMAS: 1) Canhão de projeção com tecnologia LCD ou DLP; 2) Resolução nativa de 1024x768; 3) Luminosidade de 2500 lumens; 4) Contraste de 3000:1; 5) Reprodução de 16 milhões de cores; 6) Compatibilidade com padrão NTSC e PAL-M; 7) Formato de imagem 4x3 e 16x9; 8) Coreção keystone vertical e horizontal; 9) Controle remoto sem fio; 10) Ajuste de zoom e foco; 11) Tamanho da imagem projetada de 1 a 3 metros na diagonal; 12) Distância entre o projetor e a imagem entre 1 a 5 mestros; 13) Entradas para video analógico VGA (d-sub 15p), S-Video, vídeo composto e video digital HDMI; 14) Entrada para áudio estereo e autofalante; 15) Interface USB 2.0; 16) Duração média da lâmpada de 3000 hrs em uso normal; 17) Peso máximo 4Kg; 18) Ruido menor que 50 db em funcionamento; 19) Projeção mesa/teto, fronta/traseiro; 20) Fonte de alimentação automática operando de 100 a 240 VAC de entrada, 60 Hz. CONDIÇÔES GERAIS: a) Garantia de hardware do tipo on-site de 3 anos (exceto para lampada que deverá ser de 1 ano), disponibilizada pelo fabricante e realizada pelo mesmo ou por empresa autorizada oficialmente, com tempo de solução em até cinco dias; b) Indicação no site do fabricante das especificações técnicas específicas do modelo do equipamento). Marca/modelo: EPSON X12 – código 01277-7-019, ao preço unitário de R$ 1.590,00. | F4: EPSON X12 | G4: Peça | H4: 30dias | I4: 20dias | J4: 1590 | K4: =50-1-5-3 -> 41 | L4: =K4-(SUM(N4:V4)) -> 5 | M4: =IF(L4<0,"ATENÇÃO","OK") -> OK | N4: 25 | O4: 11 | P4: 0 | Q4: 0 | R4: 0 | S4: 0 | T4: 0 | U4: 0 | V4: 0
A5: ILHA SERVICE SERVIÇOS DE INFORMÁTICA LTDA | C5: 4 | D5: Quantidade: 04 (quatro) Peças – (PROJETOR MULTIMIDIA WIRELESS Projetor Multimidia WIRELESS. Canhão de projeção com tecnologia LCD ou DLP. Resolução nativa de 1024x768 dpi. Luminosidade de 1800 lumens. Projeção de 16 milhões de cores. Contraste de 2000:1. Compatibilidade com padrão NTSC e PAL-M. Controle remoto sem fio. Ajuste de zoom/foco automático ou manual. Tamanho da imagem projetada de 1 a 3 metros na diagonal. Distância entre o projetor e a imagem entre 1,6 a 5 metros. Entradas para S-Video, vídeo composto e áudio. Duração da lâmpada de 1500Hs. Peso máximo 7Kg. Tensão de entrada operando na faixa de 100 a 240 VAC, F/N/T, 60Hz. Permitir a função de projeção da imagem via LAN Wireless com uso de cartão USB fornecido com o equipamento ou LAN RJ45 com uso de software específico fornecido com o equipamento.) Marca/modelo: BENQ MX618ST - código 01277-7-051, ao preço unitário de R$ 2.670,00 (dois mil seiscentos e setenta reais). | F5: BENQ MX618ST | G5: Peça | H5: 30dias | I5: 20dias | J5: 2670 | K5: 0 | L5: =K5-(SUM(N5:V5)) -> 0 | M5: =IF(L5<0,"ATENÇÃO","OK") -> OK | N5: 0 | O5: 0 | P5: 0 | Q5: 0 | R5: 0 | S5: 0 | T5: 0 | U5: 0 | V5: 0
C6: 5 | D6: Quantidade: 10 (dez) Peças – (LAMPADA ELETRICA PARA PROJETOR MULTIMIDIA Lâmpada: BLFP180F, Modelo Compatível ao aparelho Optoma BR S551, rincipais características do DS551, Luminosidade de 2800 ANSI lumens e alta relação de contraste de 3500:1; Capacidade 3D; Amigavelmente ecológico, economiza <0.5W de energia. Design da lâmpada no topo para facilitar a substituição.) Marca/modelo: Optoma bl-fp180f - código 00190-2-229, ao preço unitário $ 650,00 (seiscentos e cinquenta reais). | F6: Optoma bl-fp180f | G6: Peça | H6: 30dias | I6: 20dias | J6: 650 | K6: 0 | L6: =K6-(SUM(N6:V6)) -> 0 | M6: =IF(L6<0,"ATENÇÃO","OK") -> OK | N6: 0 | O6: 0 | P6: 0 | Q6: 0 | R6: 0 | S6: 0 | T6: 0 | U6: 0 | V6: 0
C7: 7 | D7: Quantidade: 04 (quatro) Peças – (LAMPADA ELETRICA PARA PROJETOR MULTIMIDIA Modelo: Benq MP612) Marca/modelo: Benq mp612 - código 00190-2-229, ao preço unitário de R$ 618,00 (seiscentos e dezoito reais). | F7: Benq mp612 | G7: Peça | H7: 30dias | I7: 20dias | J7: 618 | K7: 0 | L7: =K7-(SUM(N7:V7)) -> 0 | M7: =IF(L7<0,"ATENÇÃO","OK") -> OK | N7: 0 | O7: 0 | P7: 0 | Q7: 0 | R7: 0 | S7: 0 | T7: 0 | U7: 0 | V7: 0
C8: 8 | D8: Quantidade: 09 (nove) Peças – (LAMPADA ELETRICA PARA PROJETOR MULTIMIDIA Modelo: Epson X12 200W UHE) Marca/modelo: Epson x12 200w UHE - código 00190-2-229, ao preço unitário de R$ 395,00 (trezentos e noventa e cinco reais). | F8: EPSON x12 200w UHE | G8: Peça | H8: 30dias | I8: 20dias | J8: 395 | K8: 0 | L8: =K8-(SUM(N8:V8)) -> 0 | M8: =IF(L8<0,"ATENÇÃO","OK") -> OK | N8: 0 | O8: 0 | P8: 0 | Q8: 0 | R8: 0 | S8: 0 | T8: 0 | U8: 0 | V8: 0
C9: 9 | D9: Quantidade: 03 (três) Peças – (LAMPADA ELETRICA PARA PROJETOR MULTIMIDIA Modelo: Infocus W240 SHP 200W) Marca/modelo: Infocus w240 shp 200w - código 00190-2-229, ao preço unitário de R$ 655,00 (seiscentos e cinquenta e cinco reais). | F9: Infocus w240 shp200w | G9: Peça | H9: 30dias | I9: 20dias | J9: 655 | K9: 0 | L9: =K9-(SUM(N9:V9)) -> 0 | M9: =IF(L9<0,"ATENÇÃO","OK") -> OK | N9: 0 | O9: 0 | P9: 0 | Q9: 0 | R9: 0 | S9: 0 | T9: 0 | U9: 0 | V9: 0
C10: 10 | D10: Quantidade: 04 (quatro) Peças – (LAMPADA ELETRICA PARA PROJETOR MULTIMIDIA Modelo: Optoma EX536) Marca/modelo: Infocus w240 shp 200w - código 00190-2-229, ao preço unitário de R$ 676,00 (seiscentos e setenta e seis reais). | F10: Infocus w240 shp200w | G10: Peça | H10: 30dias | I10: 20dias | J10: 676 | K10: 0 | L10: =K10-(SUM(N10:V10)) -> 0 | M10: =IF(L10<0,"ATENÇÃO","OK") -> OK | N10: 0 | O10: 0 | P10: 0 | Q10: 0 | R10: 0 | S10: 0 | T10: 0 | U10: 0 | V10: 0

Sheet CCT
A1: PROCESSO: 0596/2013/UDESC | D1: OBJETO: Aquisição de projetores e lâmpadas | K1: VIGÊNCIA DA ATA: 26/09/2013 até 25/09/2014 | N1: AF/OS nº 0389/2013 Qtde. DT | O1: AF/OS nº 0086/2014 Qtde. DT | P1: AF/OS nº 0539/2014 Qtde. DT | Q1: AF/OS nº 0540/2014 Qtde. DT | R1: AF/OS nº 0541/2014 Qtde. DT | S1: AF/OS nº 0542/2014 Qtde. DT | T1: AF/OS nº xxxx/2014 Qtde. DT | U1: AF/OS nº xxxx/2014 Qtde. DT | V1: AF/OS nº xxxx/2014 Qtde. DT | W1: AF/OS nº xxxx/2014 Qtde. DT | X1: AF/OS nº xxxx/2014 Qtde. DT | Y1: AF/OS nº xxxx/2014 Qtde. DT
A2: CENTRO PARTICIPANTE: CCT
A3: FORNECEDOR | B3: LOTE | C3: ITEM | D3: PRODUTO - CARACTERÍSTICAS MÍNIMAS | E3: ELEMENTO | F3: MARCA | G3: UNIDADE | H3: Entrega (Dias) | I3: Pagto. (Dias) | J3: Preço UNITÁRIO (R$) | K3: Qtde LICITADA | L3: Saldo / Automático | M3: ALERTA | N3: 41583 | O3: 41703 | P3: 41794 | Q3: 41794 | R3: 41794 | S3: 41794 | T3: ...../...../...... | U3: ...../...../...... | V3: ...../...../...... | W3: ...../...../...... | X3: ...../...../...... | Y3: ...../...../......
A4: MICROTÉCNICA INFORMÁTICA LTDA | C4: 1 | D4: Quantidade: 328 (trezentos e vinte e oito) Peças - (PROJETOR MULTIMIDIA CARACTERÍSTICAS MÍNIMAS: 1) Canhão de projeção com tecnologia LCD ou DLP; 2) Resolução nativa de 1024x768; 3) Luminosidade de 2500 lumens; 4) Contraste de 3000:1; 5) Reprodução de 16 milhões de cores; 6) Compatibilidade com padrão NTSC e PAL-M; 7) Formato de imagem 4x3 e 16x9; 8) Coreção keystone vertical e horizontal; 9) Controle remoto sem fio; 10) Ajuste de zoom e foco; 11) Tamanho da imagem projetada de 1 a 3 metros na diagonal; 12) Distância entre o projetor e a imagem entre 1 a 5 mestros; 13) Entradas para video analógico VGA (d-sub 15p), S-Video, vídeo composto e video digital HDMI; 14) Entrada para áudio estereo e autofalante; 15) Interface USB 2.0; 16) Duração média da lâmpada de 3000 hrs em uso normal; 17) Peso máximo 4Kg; 18) Ruido menor que 50 db em funcionamento; 19) Projeção mesa/teto, fronta/traseiro; 20) Fonte de alimentação automática operando de 100 a 240 VAC de entrada, 60 Hz. CONDIÇÔES GERAIS: a) Garantia de hardware do tipo on-site de 3 anos (exceto para lampada que deverá ser de 1 ano), disponibilizada pelo fabricante e realizada pelo mesmo ou por empresa autorizada oficialmente, com tempo de solução em até cinco dias; b) Indicação no site do fabricante das especificações técnicas específicas do modelo do equipamento). Marca/modelo: EPSON X12 – código 01277-7-019, ao preço unitário de R$ 1.590,00. | F4: EPSON X12 | G4: Peça | H4: 30dias | I4: 20dias | J4: 1590 | K4: 80 | L4: =K4-(SUM(N4:Y4)) -> 0 | M4: =IF(L4<0,"ATENÇÃO","OK") -> OK | N4: 40 | O4: 30 | P4: 5 | Q4: 2 | R4: 2 | S4: 1 | T4: 0 | U4: 0 | V4: 0 | W4: 0 | X4: 0 | Y4: 0
A5: ILHA SERVICE SERVIÇOS DE INFORMÁTICA LTDA | C5: 4 | D5: Quantidade: 04 (quatro) Peças – (PROJETOR MULTIMIDIA WIRELESS Projetor Multimidia WIRELESS. Canhão de projeção com tecnologia LCD ou DLP. Resolução nativa de 1024x768 dpi. Luminosidade de 1800 lumens. Projeção de 16 milhões de cores. Contraste de 2000:1. Compatibilidade com padrão NTSC e PAL-M. Controle remoto sem fio. Ajuste de zoom/foco automático ou manual. Tamanho da imagem projetada de 1 a 3 metros na diagonal. Distância entre o projetor e a imagem entre 1,6 a 5 metros. Entradas para S-Video, vídeo composto e áudio. Duração da lâmpada de 1500Hs. Peso máximo 7Kg. Tensão de entrada operando na faixa de 100 a 240 VAC, F/N/T, 60Hz. Permitir a função de projeção da imagem via LAN Wireless com uso de cartão USB fornecido com o equipamento ou LAN RJ45 com uso de software específico fornecido com o equipamento.) Marca/modelo: BENQ MX618ST - código 01277-7-051, ao preço unitário de R$ 2.670,00 (dois mil seiscentos e setenta reais). | F5: BENQ MX618ST | G5: Peça | H5: 30dias | I5: 20dias | J5: 2670 | K5: 0 | L5: =K5-(SUM(N5:Y5)) -> 0 | M5: =IF(L5<0,"ATENÇÃO","OK") -> OK | N5: 0 | O5: 0 | P5: 0 | Q5: 0 | R5: 0 | S5: 0 | T5: 0 | U5: 0 | V5: 0 | W5: 0 | X5: 0 | Y5: 0
C6: 5 | D6: Quantidade: 10 (dez) Peças – (LAMPADA ELETRICA PARA PROJETOR MULTIMIDIA Lâmpada: BLFP180F, Modelo Compatível ao aparelho Optoma BR S551, rincipais características do DS551, Luminosidade de 2800 ANSI lumens e alta relação de contraste de 3500:1; Capacidade 3D; Amigavelmente ecológico, economiza <0.5W de energia. Design da lâmpada no topo para facilitar a substituição.) Marca/modelo: Optoma bl-fp180f - código 00190-2-229, ao preço unitário $ 650,00 (seiscentos e cinquenta reais). | F6: Optoma bl-fp180f | G6: Peça | H6: 30dias | I6: 20dias | J6: 650 | K6: 0 | L6: =K6-(SUM(N6:Y6)) -> 0 | M6: =IF(L6<0,"ATENÇÃO","OK") -> OK | N6: 0 | O6: 0 | P6: 0 | Q6: 0 | R6: 0 | S6: 0 | T6: 0 | U6: 0 | V6: 0 | W6: 0 | X6: 0 | Y6: 0
C7: 7 | D7: Quantidade: 04 (quatro) Peças – (LAMPADA ELETRICA PARA PROJETOR MULTIMIDIA Modelo: Benq MP612) Marca/modelo: Benq mp612 - código 00190-2-229, ao preço unitário de R$ 618,00 (seiscentos e dezoito reais). | F7: Benq mp612 | G7: Peça | H7: 30dias | I7: 20dias | J7: 618 | K7: 0 | L7: =K7-(SUM(N7:Y7)) -> 0 | M7: =IF(L7<0,"ATENÇÃO","OK") -> OK | N7: 0 | O7: 0 | P7: 0 | Q7: 0 | R7: 0 | S7: 0 | T7: 0 | U7: 0 | V7: 0 | W7: 0 | X7: 0 | Y7: 0
C8: 8 | D8: Quantidade: 09 (nove) Peças – (LAMPADA ELETRICA PARA PROJETOR MULTIMIDIA Modelo: Epson X12 200W UHE) Marca/modelo: Epson x12 200w UHE - código 00190-2-229, ao preço unitário de R$ 395,00 (trezentos e noventa e cinco reais). | F8: EPSON x12 200w UHE | G8: Peça | H8: 30dias | I8: 20dias | J8: 395 | K8: 0 | L8: =K8-(SUM(N8:Y8)) -> 0 | M8: =IF(L8<0,"ATENÇÃO","OK") -> OK | N8: 0 | O8: 0 | P8: 0 | Q8: 0 | R8: 0 | S8: 0 | T8: 0 | U8: 0 | V8: 0 | W8: 0 | X8: 0 | Y8: 0
C9: 9 | D9: Quantidade: 03 (três) Peças – (LAMPADA ELETRICA PARA PROJETOR MULTIMIDIA Modelo: Infocus W240 SHP 200W) Marca/modelo: Infocus w240 shp 200w - código 00190-2-229, ao preço unitário de R$ 655,00 (seiscentos e cinquenta e cinco reais). | F9: Infocus w240 shp200w | G9: Peça | H9: 30dias | I9: 20dias | J9: 655 | K9: 0 | L9: =K9-(SUM(N9:Y9)) -> 0 | M9: =IF(L9<0,"ATENÇÃO","OK") -> OK | N9: 0 | O9: 0 | P9: 0 | Q9: 0 | R9: 0 | S9: 0 | T9: 0 | U9: 0 | V9: 0 | W9: 0 | X9: 0 | Y9: 0
