Workbook
Name diasuteis: #REF!
Name diasuteis: #REF!
Name diasuteis: #REF!
Name diasuteis: #REF!
Name diasuteis: #REF!
Name diasuteis: #REF!
Name diasuteis: #REF!
Name diasuteis: #REF!
Name diasuteis: #REF!
Name diasuteis: #REF!
Name diasuteis: #REF!
Name diasuteis: #REF!
Name diasuteis: #REF!
Name diasuteis: #REF!
Name diasuteis: #REF!
Name Ferias: #REF!
Name Ferias: #REF!
Name Ferias: #REF!
Name Ferias: #REF!
Name Ferias: #REF!
Name Ferias: #REF!
Name Ferias: #REF!
Name Ferias: #REF!
Name Ferias: #REF!
Name Ferias: #REF!
Name Ferias: #REF!
Name Ferias: #REF!
Name Ferias: #REF!
Name Ferias: #REF!
Name RD: OFFSET(#REF!,(MATCH(SMALL(#REF!,ROW()-10),#REF!,0)-1),0)

Sheet REIT
A1: PROCESSO: 041/2013/SEA | D1: OBJETO: Aquisição de equipamentos de informática | J1: VIGÊNCIA DA ATA: 06/11/2013 até 06/11/2014 | M1: AF/OS nº 263/2014 Qtde. DT | N1: AF/OS nº 276/2014 Qtde. DT | O1: AF/OS nº 273/2014 Qtde. DT | P1: AF/OS nº xxxx/2014 Qtde. DT | Q1: AF/OS nº xxxx/2014 Qtde. DT | R1: AF/OS nº xxxx/2014 Qtde. DT | S1: AF/OS nº xxxx/2014 Qtde. DT | T1: AF/OS nº xxxx/2014 Qtde. DT | U1: AF/OS nº xxxx/2014 Qtde. DT | V1: AF/OS nº xxxx/2014 Qtde. DT | W1: AF/OS nº xxxx/2014 Qtde. DT | X1: AF/OS nº xxxx/2014 Qtde. DT
A2: CENTRO PARTICIPANTE: REITORIA
A3: FORNECEDOR | B3: LOTE | C3: ITEM | D3: PRODUTO - CARACTERÍSTICAS MÍNIMAS | E3: MARCA | F3: UNIDADE | G3: Entrega (Dias) | H3: Pagto. (Dias) | I3: Preço UNITÁRIO (R$) | J3: Qtde LICITADA | K3: Saldo / Automático | L3: ALERTA | M3: 41738 | N3: 41751 | O3: 41737 | P3: ...../...../...... | Q3: ...../...../...... | R3: ...../...../...... | S3: ...../...../...... | T3: ...../...../...... | U3: ...../...../...... | V3: ...../...../...... | W3: ...../...../...... | X3: ...../...../......
A4: Phlico Eletrônicos S/A | C4: 1 | D4: Microcomputador Avançado | E4: Philco WorkDesk 7700v | F4: Peça | G4: 30 | H4: 20 | I4: 3094.25 | J4: 60 | K4: =J4-(SUM(M4:X4)) -> 50 | L4: =IF(K4<0,"ATENÇÃO","OK") -> OK | M4: 0 | N4: 10 | O4: 0 | P4: 0 | Q4: 0 | R4: 0 | S4: 0 | T4: 0 | U4: 0 | V4: 0 | W4: 0 | X4: 0
A5: Phlico Eletrônicos S/A | C5: 4 | D5: Notebook Básico | E5: Philco WorBook Q1476 | F5: Peça | G5: 30 | H5: 20 | I5: 2190 | J5: 2 | K5: =J5-(SUM(M5:X5)) -> 0 | L5: =IF(K5<0,"ATENÇÃO","OK") -> OK | M5: 0 | N5: 2 | O5: 0 | P5: 0 | Q5: 0 | R5: 0 | S5: 0 | T5: 0 | U5: 0 | V5: 0 | W5: 0 | X5: 0
A6: Zoom Tecnologia Ltda | C6: 5 | D6: Servidor Local Rack | E6: Huawei TECAL RH2288 V2 | F6: Peça | G6: 30 | H6: 20 | I6: 11590 | J6: =20 -> 20 | K6: =J6-(SUM(M6:X6)) -> 0 | L6: =IF(K6<0,"ATENÇÃO","OK") -> OK | M6: 20 | N6: 0 | O6: 0 | P6: 0 | Q6: 0 | R6: 0 | S6: 0 | T6: 0 | U6: 0 | V6: 0 | W6: 0 | X6: 0
A7: Integra Tecnologia Ltda | C7: 7 | D7: Switch Borda com POE 24P | E7: EDGE CORE ECS 3528MF | F7: Peça | G7: 30 | H7: 20 | I7: 2162 | J7: =10+16 -> 26 | K7: =J7-(SUM(M7:X7)) -> 24 | L7: =IF(K7<0,"ATENÇÃO","OK") -> OK | M7: 0 | N7: 0 | O7: 2 | P7: 0 | Q7: 0 | R7: 0 | S7: 0 | T7: 0 | U7: 0 | V7: 0 | W7: 0 | X7: 0
A8: TI Conect Com. De Equipamentos | C8: 8 | D8: Switch Borda sem POE 24P | E8: Enterasys Networks 08G20G4-24 | F8: Peça | G8: 30 | H8: 20 | I8: 2130 | J8: 2 | K8: =J8-(SUM(M8:X8)) -> 2 | L8: =IF(K8<0,"ATENÇÃO","OK") -> OK | M8: 0 | N8: 0 | O8: 0 | P8: 0 | Q8: 0 | R8: 0 | S8: 0 | T8: 0 | U8: 0 | V8: 0 | W8: 0 | X8: 0
A9: Zoom Tecnologia Ltda | C9: 9 | D9: Switch Concentrador | E9: Huawei S5700-28C-EI | F9: Peça | G9: 30 | H9: 20 | I9: 8700 | J9: =2+1-1 -> 2 | K9: =J9-(SUM(M9:X9)) -> 0 | L9: =IF(K9<0,"ATENÇÃO","OK") -> OK | M9: 2 | N9: 0 | O9: 0 | P9: 0 | Q9: 0 | R9: 0 | S9: 0 | T9: 0 | U9: 0 | V9: 0 | W9: 0 | X9: 0

Sheet ESAG
A1: PROCESSO: 041/2013/SEA | D1: OBJETO: Aquisição de equipamentos de informática | K1: VIGÊNCIA DA ATA: 06/11/2013 até 06/11/2014 | N1: 279/2014 | O1: AF/OS nº xxxx/2014 Qtde. DT | P1: AF/OS nº xxxx/2014 Qtde. DT | Q1: AF/OS nº xxxx/2014 Qtde. DT | R1: AF/OS nº xxxx/2014 Qtde. DT | S1: AF/OS nº xxxx/2014 Qtde. DT | T1: AF/OS nº xxxx/2014 Qtde. DT | U1: AF/OS nº xxxx/2014 Qtde. DT | V1: AF/OS nº xxxx/2014 Qtde. DT | W1: AF/OS nº xxxx/2014 Qtde. DT | X1: AF/OS nº xxxx/2014 Qtde. DT | Y1: AF/OS nº xxxx/2014 Qtde. DT
A2: CENTRO PARTICIPANTE: ESAG
A3: FORNECEDOR | B3: LOTE | C3: ITEM | D3: PRODUTO - CARACTERÍSTICAS MÍNIMAS | E3: ELEMENTO | F3: MARCA | G3: UNIDADE | H3: Entrega (Dias) | I3: Pagto. (Dias) | J3: Preço UNITÁRIO (R$) | K3: Qtde LICITADA | L3: Saldo / Automático | M3: ALERTA | N3: ...../...../...... | O3: ...../...../...... | P3: ...../...../...... | Q3: ...../...../...... | R3: ...../...../...... | S3: ...../...../...... | T3: ...../...../...... | U3: ...../...../...... | V3: ...../...../...... | W3: ...../...../...... | X3: ...../...../...... | Y3: ...../...../......
A4: Phlico Eletrônicos S/A | C4: 1 | D4: Microcomputador Avançado | F4: Philco WorkDesk 7700v | G4: Peça | H4: 30 | I4: 20 | J4: 3094.25 | K4: 60 | L4: =K4-(SUM(N4:Y4)) -> 0 | M4: =IF(L4<0,"ATENÇÃO","OK") -> OK | N4: 60 | O4: 0 | P4: 0 | Q4: 0 | R4: 0 | S4: 0 | T4: 0 | U4: 0 | V4: 0 | W4: 0 | X4: 0 | Y4: 0
A5: Phlico Eletrônicos S/A | C5: 4 | D5: Notebook Básico | F5: Philco WorBook Q1476 | G5: Peça | H5: 30 | I5: 20 | J5: 2190 | K5: 4 | L5: =K5-(SUM(N5:Y5)) -> 4 | M5: =IF(L5<0,"ATENÇÃO","OK") -> OK | N5: 0 | O5: 0 | P5: 0 | Q5: 0 | R5: 0 | S5: 0 | T5: 0 | U5: 0 | V5: 0 | W5: 0 | X5: 0 | Y5: 0
A6: Zoom Tecnologia Ltda | C6: 5 | D6: Servidor Local Rack | F6: Huawei TECAL RH2288 V2 | G6: Peça | H6: 30 | I6: 20 | J6: 11590 | K6: 0 | L6: =K6-(SUM(N6:Y6)) -> 0 | M6: =IF(L6<0,"ATENÇÃO","OK") -> OK | N6: 0 | O6: 0 | P6: 0 | Q6: 0 | R6: 0 | S6: 0 | T6: 0 | U6: 0 | V6: 0 | W6: 0 | X6: 0 | Y6: 0
A7: Integra Tecnologia Ltda | C7: 7 | D7: Switch Borda com POE 24P | F7: EDGE CORE ECS 3528MF | G7: Peça | H7: 30 | I7: 20 | J7: 2162 | K7: 2 | L7: =K7-(SUM(N7:Y7)) -> 2 | M7: =IF(L7<0,"ATENÇÃO","OK") -> OK | N7: 0 | O7: 0 | P7: 0 | Q7: 0 | R7: 0 | S7: 0 | T7: 0 | U7: 0 | V7: 0 | W7: 0 | X7: 0 | Y7: 0
A8: TI Conect Com. De Equipamentos | C8: 8 | D8: Switch Borda sem POE 24P | F8: Enterasys Networks 08G20G4-24 | G8: Peça | H8: 30 | I8: 20 | J8: 2130 | K8: 0 | L8: =K8-(SUM(N8:Y8)) -> 0 | M8: =IF(L8<0,"ATENÇÃO","OK") -> OK | N8: 0 | O8: 0 | P8: 0 | Q8: 0 | R8: 0 | S8: 0 | T8: 0 | U8: 0 | V8: 0 | W8: 0 | X8: 0 | Y8: 0
A9: Zoom Tecnologia Ltda | C9: 9 | D9: Switch Concentrador | F9: Huawei S5700-28C-EI | G9: Peça | H9: 30 | I9: 20 | J9: 8700 | K9: 0 | L9: =K9-(SUM(N9:Y9)) -> 0 | M9: =IF(L9<0,"ATENÇÃO","OK") -> OK | N9: 0 | O9: 0 | P9: 0 | Q9: 0 | R9: 0 | S9: 0 | T9: 0 | U9: 0 | V9: 0 | W9: 0 | X9: 0 | Y9: 0

Sheet CEART
A1: PROCESSO: 041/2013/SEA | D1: OBJETO: Aquisição de equipamentos de informática | K1: VIGÊNCIA DA ATA: 06/11/2013 até 06/11/2014 | N1: 421/2014 | O1: AF/OS nº xxxx/2014 Qtde. DT | P1: AF/OS nº xxxx/2014 Qtde. DT | Q1: AF/OS nº xxxx/2014 Qtde. DT | R1: AF/OS nº xxxx/2014 Qtde. DT | S1: AF/OS nº xxxx/2014 Qtde. DT | T1: AF/OS nº xxxx/2014 Qtde. DT | U1: AF/OS nº xxxx/2014 Qtde. DT | V1: AF/OS nº xxxx/2014 Qtde. DT | W1: AF/OS nº xxxx/2014 Qtde. DT | X1: AF/OS nº xxxx/2014 Qtde. DT | Y1: AF/OS nº xxxx/2014 Qtde. DT
A2: CENTRO PARTICIPANTE: CEART
A3: FORNECEDOR | B3: LOTE | C3: ITEM | D3: PRODUTO - CARACTERÍSTICAS MÍNIMAS | E3: ELEMENTO | F3: MARCA | G3: UNIDADE | H3: Entrega (Dias) | I3: Pagto. (Dias) | J3: Preço UNITÁRIO (R$) | K3: Qtde LICITADA | L3: Saldo / Automático | M3: ALERTA | N3: ...../...../...... | O3: ...../...../...... | P3: ...../...../...... | Q3: ...../...../...... | R3: ...../...../...... | S3: ...../...../...... | T3: ...../...../...... | U3: ...../...../...... | V3: ...../...../...... | W3: ...../...../...... | X3: ...../...../...... | Y3: ...../...../......
A4: Phlico Eletrônicos S/A | C4: 1 | D4: Microcomputador Avançado | F4: Philco WorkDesk 7700v | G4: Peça | H4: 30 | I4: 20 | J4: 3094.25 | K4: 60 | L4: =K4-(SUM(N4:Y4)) -> 0 | M4: =IF(L4<0,"ATENÇÃO","OK") -> OK | N4: 60 | O4: 0 | P4: 0 | Q4: 0 | R4: 0 | S4: 0 | T4: 0 | U4: 0 | V4: 0 | W4: 0 | X4: 0 | Y4: 0
A5: Phlico Eletrônicos S/A | C5: 4 | D5: Notebook Básico | F5: Philco WorBook Q1476 | G5: Peça | H5: 30 | I5: 20 | J5: 2190 | K5: 4 | L5: =K5-(SUM(N5:Y5)) -> 4 | M5: =IF(L5<0,"ATENÇÃO","OK") -> OK | N5: 0 | O5: 0 | P5: 0 | Q5: 0 | R5: 0 | S5: 0 | T5: 0 | U5: 0 | V5: 0 | W5: 0 | X5: 0 | Y5: 0
A6: Zoom Tecnologia Ltda | C6: 5 | D6: Servidor Local Rack | F6: Huawei TECAL RH2288 V2 | G6: Peça | H6: 30 | I6: 20 | J6: 11590 | K6: 0 | L6: =K6-(SUM(N6:Y6)) -> 0 | M6: =IF(L6<0,"ATENÇÃO","OK") -> OK | N6: 0 | O6: 0 | P6: 0 | Q6: 0 | R6: 0 | S6: 0 | T6: 0 | U6: 0 | V6: 0 | W6: 0 | X6: 0 | Y6: 0
A7: Integra Tecnologia Ltda | C7: 7 | D7: Switch Borda com POE 24P | F7: EDGE CORE ECS 3528MF | G7: Peça | H7: 30 | I7: 20 | J7: 2162 | K7: 2 | L7: =K7-(SUM(N7:Y7)) -> 2 | M7: =IF(L7<0,"ATENÇÃO","OK") -> OK | N7: 0 | O7: 0 | P7: 0 | Q7: 0 | R7: 0 | S7: 0 | T7: 0 | U7: 0 | V7: 0 | W7: 0 | X7: 0 | Y7: 0
A8: TI Conect Com. De Equipamentos | C8: 8 | D8: Switch Borda sem POE 24P | F8: Enterasys Networks 08G20G4-24 | G8: Peça | H8: 30 | I8: 20 | J8: 2130 | K8: 1 | L8: =K8-(SUM(N8:Y8)) -> 1 | M8: =IF(L8<0,"ATENÇÃO","OK") -> OK | N8: 0 | O8: 0 | P8: 0 | Q8: 0 | R8: 0 | S8: 0 | T8: 0 | U8: 0 | V8: 0 | W8: 0 | X8: 0 | Y8: 0
A9: Zoom Tecnologia Ltda | C9: 9 | D9: Switch Concentrador | F9: Huawei S5700-28C-EI | G9: Peça | H9: 30 | I9: 20 | J9: 8700 | K9: 0 | L9: =K9-(SUM(N9:Y9)) -> 0 | M9: =IF(L9<0,"ATENÇÃO","OK") -> OK | N9: 0 | O9: 0 | P9: 0 | Q9: 0 | R9: 0 | S9: 0 | T9: 0 | U9: 0 | V9: 0 | W9: 0 | X9: 0 | Y9: 0

Sheet FAED
A1: PROCESSO: 041/2013/SEA | D1: OBJETO: Aquisição de equipamentos de informática | K1: VIGÊNCIA DA ATA: 06/11/2013 até 06/11/2014 | N1: Contrato nº 340/2014 Qtde. DT | O1: AF/OS nº xxxx/2014 Qtde. DT | P1: AF/OS nº xxxx/2014 Qtde. DT | Q1: AF/OS nº xxxx/2014 Qtde. DT | R1: AF/OS nº xxxx/2014 Qtde. DT | S1: AF/OS nº xxxx/2014 Qtde. DT | T1: AF/OS nº xxxx/2014 Qtde. DT | U1: AF/OS nº xxxx/2014 Qtde. DT | V1: AF/OS nº xxxx/2014 Qtde. DT | W1: AF/OS nº xxxx/2014 Qtde. DT | X1: AF/OS nº xxxx/2014 Qtde. DT | Y1: AF/OS nº xxxx/2014 Qtde. DT
A2: CENTRO PARTICIPANTE: FAED
A3: FORNECEDOR | B3: LOTE | C3: ITEM | D3: PRODUTO - CARACTERÍSTICAS MÍNIMAS | E3: ELEMENTO | F3: MARCA | G3: UNIDADE | H3: Entrega (Dias) | I3: Pagto. (Dias) | J3: Preço UNITÁRIO (R$) | K3: Qtde LICITADA | L3: Saldo / Automático | M3: ALERTA | N3: ...../...../...... | O3: ...../...../...... | P3: ...../...../...... | Q3: ...../...../...... | R3: ...../...../...... | S3: ...../...../...... | T3: ...../...../...... | U3: ...../...../...... | V3: ...../...../...... | W3: ...../...../...... | X3: ...../...../...... | Y3: ...../...../......
A4: Phlico Eletrônicos S/A | C4: 1 | D4: Microcomputador Avançado | F4: Philco WorkDesk 7700v | G4: Peça | H4: 30 | I4: 20 | J4: 3094.25 | K4: 60 | L4: =K4-(SUM(N4:Y4)) -> 10 | M4: =IF(L4<0,"ATENÇÃO","OK") -> OK | N4: 50 | O4: 0 | P4: 0 | Q4: 0 | R4: 0 | S4: 0 | T4: 0 | U4: 0 | V4: 0 | W4: 0 | X4: 0 | Y4: 0
A5: Phlico Eletrônicos S/A | C5: 4 | D5: Notebook Básico | F5: Philco WorBook Q1476 | G5: Peça | H5: 30 | I5: 20 | J5: 2190 | K5: 4 | L5: =K5-(SUM(N5:Y5)) -> 4 | M5: =IF(L5<0,"ATENÇÃO","OK") -> OK | N5: 0 | O5: 0 | P5: 0 | Q5: 0 | R5: 0 | S5: 0 | T5: 0 | U5: 0 | V5: 0 | W5: 0 | X5: 0 | Y5: 0
A6: Zoom Tecnologia Ltda | C6: 5 | D6: Servidor Local Rack | F6: Huawei TECAL RH2288 V2 | G6: Peça | H6: 30 | I6: 20 | J6: 11590 | K6: 0 | L6: =K6-(SUM(N6:Y6)) -> 0 | M6: =IF(L6<0,"ATENÇÃO","OK") -> OK | N6: 0 | O6: 0 | P6: 0 | Q6: 0 | R6: 0 | S6: 0 | T6: 0 | U6: 0 | V6: 0 | W6: 0 | X6: 0 | Y6: 0
A7: Integra Tecnologia Ltda | C7: 7 | D7: Switch Borda com POE 24P | F7: EDGE CORE ECS 3528MF | G7: Peça | H7: 30 | I7: 20 | J7: 2162 | K7: 2 | L7: =K7-(SUM(N7:Y7)) -> 2 | M7: =IF(L7<0,"ATENÇÃO","OK") -> OK | N7: 0 | O7: 0 | P7: 0 | Q7: 0 | R7: 0 | S7: 0 | T7: 0 | U7: 0 | V7: 0 | W7: 0 | X7: 0 | Y7: 0
A8: TI Conect Com. De Equipamentos | C8: 8 | D8: Switch Borda sem POE 24P | F8: Enterasys Networks 08G20G4-24 | G8: Peça | H8: 30 | I8: 20 | J8: 2130 | K8: 1 | L8: =K8-(SUM(N8:Y8)) -> 1 | M8: =IF(L8<0,"ATENÇÃO","OK") -> OK | N8: 0 | O8: 0 | P8: 0 | Q8: 0 | R8: 0 | S8: 0 | T8: 0 | U8: 0 | V8: 0 | W8: 0 | X8: 0 | Y8: 0
A9: Zoom Tecnologia Ltda | C9: 9 | D9: Switch Concentrador | F9: Huawei S5700-28C-EI | G9: Peça | H9: 30 | I9: 20 | J9: 8700 | K9: 0 | L9: =K9-(SUM(N9:Y9)) -> 0 | M9: =IF(L9<0,"ATENÇÃO","OK") -> OK | N9: 0 | O9: 0 | P9: 0 | Q9: 0 | R9: 0 | S9: 0 | T9: 0 | U9: 0 | V9: 0 | W9: 0 | X9: 0 | Y9: 0

Sheet CEAD
A1: PROCESSO: 041/2013/SEA | D1: OBJETO: Aquisição de equipamentos de informática | K1: VIGÊNCIA DA ATA: 06/11/2013 até 06/11/2014 | N1: AF/OS nº 450/2014 Qtde. DT | O1: AF/OS nº 1656/2014 Qtde. DT | P1: AF/OS nº xxxx/2014 Qtde. DT | Q1: AF/OS nº xxxx/2014 Qtde. DT | R1: AF/OS nº xxxx/2014 Qtde. DT | S1: AF/OS nº xxxx/2014 Qtde. DT | T1: AF/OS nº xxxx/2014 Qtde. DT | U1: AF/OS nº xxxx/2014 Qtde. DT | V1: AF/OS nº xxxx/2014 Qtde. DT | W1: AF/OS nº xxxx/2014 Qtde. DT | X1: AF/OS nº xxxx/2014 Qtde. DT | Y1: AF/OS nº xxxx/2014 Qtde. DT
A2: CENTRO PARTICIPANTE: CEAD
A3: FORNECEDOR | B3: LOTE | C3: ITEM | D3: PRODUTO - CARACTERÍSTICAS MÍNIMAS | E3: ELEMENTO | F3: MARCA | G3: UNIDADE | H3: Entrega (Dias) | I3: Pagto. (Dias) | J3: Preço UNITÁRIO (R$) | K3: Qtde LICITADA | L3: Saldo / Automático | M3: ALERTA | N3: 41775 | O3: 74805 | P3: ...../...../...... | Q3: ...../...../...... | R3: ...../...../...... | S3: ...../...../...... | T3: ...../...../...... | U3: ...../...../...... | V3: ...../...../...... | W3: ...../...../...... | X3: ...../...../...... | Y3: ...../...../......
A4: Phlico Eletrônicos S/A | C4: 1 | D4: Microcomputador Avançado | F4: Philco WorkDesk 7700v | G4: Peça | H4: 30 | I4: 20 | J4: 3094.25 | K4: 60 | L4: =K4-(SUM(N4:Y4)) -> 60 | M4: =IF(L4<0,"ATENÇÃO","OK") -> OK | N4: 0 | O4: 0 | P4: 0 | Q4: 0 | R4: 0 | S4: 0 | T4: 0 | U4: 0 | V4: 0 | W4: 0 | X4: 0 | Y4: 0
A5: Phlico Eletrônicos S/A | C5: 4 | D5: Notebook Básico | F5: Philco WorBook Q1476 | G5: Peça | H5: 30 | I5: 20 | J5: 2190 | K5: 4 | L5: =K5-(SUM(N5:Y5)) -> 4 | M5: =IF(L5<0,"ATENÇÃO","OK") -> OK | N5: 0 | O5: 0 | P5: 0 | Q5: 0 | R5: 0 | S5: 0 | T5: 0 | U5: 0 | V5: 0 | W5: 0 | X5: 0 | Y5: 0
A6: Zoom Tecnologia Ltda | C6: 5 | D6: Servidor Local Rack | F6: Huawei TECAL RH2288 V2 | G6: Peça | H6: 30 | I6: 20 | J6: 11590 | K6: =0+1 -> 1 | L6: =K6-(SUM(N6:Y6)) -> -1 | M6: =IF(L6<0,"ATENÇÃO","OK") -> ATENÇÃO | N6: 1 | O6: 1 | P6: 0 | Q6: 0 | R6: 0 | S6: 0 | T6: 0 | U6: 0 | V6: 0 | W6: 0 | X6: 0 | Y6: 0
A7: Integra Tecnologia Ltda | C7: 7 | D7: Switch Borda com POE 24P | F7: EDGE CORE ECS 3528MF | G7: Peça | H7: 30 | I7: 20 | J7: 2162 | K7: 2 | L7: =K7-(SUM(N7:Y7)) -> 2 | M7: =IF(L7<0,"ATENÇÃO","OK") -> OK | N7: 0 | O7: 0 | P7: 0 | Q7: 0 | R7: 0 | S7: 0 | T7: 0 | U7: 0 | V7: 0 | W7: 0 | X7: 0 | Y7: 0
A8: TI Conect Com. De Equipamentos | C8: 8 | D8: Switch Borda sem POE 24P | F8: Enterasys Networks 08G20G4-24 | G8: Peça | H8: 30 | I8: 20 | J8: 2130 | K8: 0 | L8: =K8-(SUM(N8:Y8)) -> 0 | M8: =IF(L8<0,"ATENÇÃO","OK") -> OK | N8: 0 | O8: 0 | P8: 0 | Q8: 0 | R8: 0 | S8: 0 | T8: 0 | U8: 0 | V8: 0 | W8: 0 | X8: 0 | Y8: 0
A9: Zoom Tecnologia Ltda | C9: 9 | D9: Switch Concentrador | F9: Huawei S5700-28C-EI | G9: Peça | H9: 30 | I9: 20 | J9: 8700 | K9: 0 | L9: =K9-(SUM(N9:Y9)) -> 0 | M9: =IF(L9<0,"ATENÇÃO","OK") -> OK | N9: 0 | O9: 0 | P9: 0 | Q9: 0 | R9: 0 | S9: 0 | T9: 0 | U9: 0 | V9: 0 | W9: 0 | X9: 0 | Y9: 0

Sheet CEFID
A1: PROCESSO: 041/2013/SEA | D1: OBJETO: Aquisição de equipamentos de informática | K1: VIGÊNCIA DA ATA: 06/11/2013 até 06/11/2014 | N1: Contrato nº 359/2014 Qtde. DT | O1: AF/OS nº 629/2014 Qtde. DT | P1: AF/OS nº 630/2014 Qtde. DT | Q1: AF/OS nº xxxx/2014 Qtde. DT | R1: AF/OS nº xxxx/2014 Qtde. DT | S1: AF/OS nº xxxx/2014 Qtde. DT | T1: AF/OS nº xxxx/2014 Qtde. DT | U1: AF/OS nº xxxx/2014 Qtde. DT | V1: AF/OS nº xxxx/2014 Qtde. DT | W1: AF/OS nº xxxx/2014 Qtde. DT | X1: AF/OS nº xxxx/2014 Qtde. DT | Y1: AF/OS nº xxxx/2014 Qtde. DT
A2: CENTRO PARTICIPANTE: CEFID | O2: AF/OS nº 629/2014 Qtde. DT | P2: AF/OS nº 630/2014 Qtde. DT
A3: FORNECEDOR | B3: LOTE | C3: ITEM | D3: PRODUTO - CARACTERÍSTICAS MÍNIMAS | E3: ELEMENTO | F3: MARCA | G3: UNIDADE | H3: Entrega (Dias) | I3: Pagto. (Dias) | J3: Preço UNITÁRIO (R$) | K3: Qtde LICITADA | L3: Saldo / Automático | M3: ALERTA | N3: 41753 | O3: 41815 | P3: 25/06/204 | Q3: ...../...../...... | R3: ...../...../...... | S3: ...../...../...... | T3: ...../...../...... | U3: ...../...../...... | V3: ...../...../...... | W3: ...../...../...... | X3: ...../...../...... | Y3: ...../...../......
A4: Phlico Eletrônicos S/A | C4: 1 | D4: Microcomputador Avançado | F4: Philco WorkDesk 7700v | G4: Peça | H4: 30 | I4: 20 | J4: 3094.25 | K4: 60 | L4: =K4-(SUM(N4:Y4)) -> 0 | M4: =IF(L4<0,"ATENÇÃO","OK") -> OK | N4: 60 | O4: 0 | P4: 0 | Q4: 0 | R4: 0 | S4: 0 | T4: 0 | U4: 0 | V4: 0 | W4: 0 | X4: 0 | Y4: 0
A5: Phlico Eletrônicos S/A | C5: 4 | D5: Notebook Básico | F5: Philco WorBook Q1476 | G5: Peça | H5: 30 | I5: 20 | J5: 2190 | K5: 4 | L5: =K5-(SUM(N5:Y5)) -> 0 | M5: =IF(L5<0,"ATENÇÃO","OK") -> OK | N5: 4 | O5: 0 | P5: 0 | Q5: 0 | R5: 0 | S5: 0 | T5: 0 | U5: 0 | V5: 0 | W5: 0 | X5: 0 | Y5: 0
A6: Zoom Tecnologia Ltda | C6: 5 | D6: Servidor Local Rack | F6: Huawei TECAL RH2288 V2 | G6: Peça | H6: 30 | I6: 20 | J6: 11590 | K6: =0+1 -> 1 | L6: =K6-(SUM(N6:Y6)) -> 1 | M6: =IF(L6<0,"ATENÇÃO","OK") -> OK | N6: 0 | O6: 0 | P6: 0 | Q6: 0 | R6: 0 | S6: 0 | T6: 0 | U6: 0 | V6: 0 | W6: 0 | X6: 0 | Y6: 0
A7: Integra Tecnologia Ltda | C7: 7 | D7: Switch Borda com POE 24P | F7: EDGE CORE ECS 3528MF | G7: Peça | H7: 30 | I7: 20 | J7: 2162 | K7: 2 | L7: =K7-(SUM(N7:Y7)) -> 0 | M7: =IF(L7<0,"ATENÇÃO","OK") -> OK | N7: 0 | O7: 0 | P7: 2 | Q7: 0 | R7: 0 | S7: 0 | T7: 0 | U7: 0 | V7: 0 | W7: 0 | X7: 0 | Y7: 0
A8: TI Conect Com. De Equipamentos | C8: 8 | D8: Switch Borda sem POE 24P | F8: Enterasys Networks 08G20G4-24 | G8: Peça | H8: 30 | I8: 20 | J8: 2130 | K8: 1 | L8: =K8-(SUM(N8:Y8)) -> 0 | M8: =IF(L8<0,"ATENÇÃO","OK") -> OK | N8: 0 | O8: 1 | P8: 0 | Q8: 0 | R8: 0 | S8: 0 | T8: 0 | U8: 0 | V8: 0 | W8: 0 | X8: 0 | Y8: 0
A9: Zoom Tecnologia Ltda | C9: 9 | D9: Switch Concentrador | F9: Huawei S5700-28C-EI | G9: Peça | H9: 30 | I9: 20 | J9: 8700 | K9: 0 | L9: =K9-(SUM(N9:Y9)) -> 0 | M9: =IF(L9<0,"ATENÇÃO","OK") -> OK | N9: 0 | O9: 0 | P9: 0 | Q9: 0 | R9: 0 | S9: 0 | T9: 0 | U9: 0 | V9: 0 | W9: 0 | X9: 0 | Y9: 0

Sheet CESFI
A1: PROCESSO: 041/2013/SEA | D1: OBJETO: Aquisição de equipamentos de informática | K1: VIGÊNCIA DA ATA: 06/11/2013 até 06/11/2014 | N1: AF nº 538/2014 Qtde. DT | O1: AF nº 1457/2014 Qtde. DT | P1: AF nº 1456/2014 Qtde. DT | Q1: AF/OS nº xxxx/2014 Qtde. DT | R1: AF/OS nº xxxx/2014 Qtde. DT | S1: AF/OS nº xxxx/2014 Qtde. DT | T1: AF/OS nº xxxx/2014 Qtde. DT | U1: AF/OS nº xxxx/2014 Qtde. DT | V1: AF/OS nº xxxx/2014 Qtde. DT | W1: AF/OS nº xxxx/2014 Qtde. DT | X1: AF/OS nº xxxx/2014 Qtde. DT | Y1: AF/OS nº xxxx/2014 Qtde. DT
A2: CENTRO PARTICIPANTE: CESFI
A3: FORNECEDOR | B3: LOTE | C3: ITEM | D3: PRODUTO - CARACTERÍSTICAS MÍNIMAS | E3: ELEMENTO | F3: MARCA | G3: UNIDADE | H3: Entrega (Dias) | I3: Pagto. (Dias) | J3: Preço UNITÁRIO (R$) | K3: Qtde LICITADA | L3: Saldo / Automático | M3: ALERTA | N3: 41801 | O3: 41922 | P3: 41922 | Q3: ...../...../...... | R3: ...../...../...... | S3: ...../...../...... | T3: ...../...../...... | U3: ...../...../...... | V3: ...../...../...... | W3: ...../...../...... | X3: ...../...../...... | Y3: ...../...../......
A4: Phlico Eletrônicos S/A | C4: 1 | D4: Microcomputador Avançado | F4: Philco WorkDesk 7700v | G4: Peça | H4: 30 | I4: 20 | J4: 3094.25 | K4: 60 | L4: =K4-(SUM(N4:Y4)) -> 24 | M4: =IF(L4<0,"ATENÇÃO","OK") -> OK | N4: 36 | O4: 0 | P4: 0 | Q4: 0 | R4: 0 | S4: 0 | T4: 0 | U4: 0 | V4: 0 | W4: 0 | X4: 0 | Y4: 0
A5: Phlico Eletrônicos S/A | C5: 4 | D5: Notebook Básico | F5: Philco WorBook Q1476 | G5: Peça | H5: 30 | I5: 20 | J5: 2190 | K5: 4 | L5: =K5-(SUM(N5:Y5)) -> 1 | M5: =IF(L5<0,"ATENÇÃO","OK") -> OK | N5: 3 | O5: 0 | P5: 0 | Q5: 0 | R5: 0 | S5: 0 | T5: 0 | U5: 0 | V5: 0 | W5: 0 | X5: 0 | Y5: 0
A6: Zoom Tecnologia Ltda | C6: 5 | D6: Servidor Local Rack | F6: Huawei TECAL RH2288 V2 | G6: Peça | H6: 30 | I6: 20 | J6: 11590 | K6: 0 | L6: =K6-(SUM(N6:Y6)) -> 0 | M6: =IF(L6<0,"ATENÇÃO","OK") -> OK | N6: 0 | O6: 0 | P6: 0 | Q6: 0 | R6: 0 | S6: 0 | T6: 0 | U6: 0 | V6: 0 | W6: 0 | X6: 0 | Y6: 0
A7: Integra Tecnologia Ltda | C7: 7 | D7: Switch Borda com POE 24P | F7: EDGE CORE ECS 3528MF | G7: Peça | H7: 30 | I7: 20 | J7: 2162 | K7: 2 | L7: =K7-(SUM(N7:Y7)) -> 0 | M7: =IF(L7<0,"ATENÇÃO","OK") -> OK | N7: 0 | O7: 2 | P7: 0 | Q7: 0 | R7: 0 | S7: 0 | T7: 0 | U7: 0 | V7: 0 | W7: 0 | X7: 0 | Y7: 0
A8: TI Conect Com. De Equipamentos | C8: 8 | D8: Switch Borda sem POE 24P | F8: Enterasys Networks 08G20G4-24 | G8: Peça | H8: 30 | I8: 20 | J8: 2130 | K8: 1 | L8: =K8-(SUM(N8:Y8)) -> 0 | M8: =IF(L8<0,"ATENÇÃO","OK") -> OK | N8: 0 | O8: 0 | P8: 1 | Q8: 0 | R8: 0 | S8: 0 | T8: 0 | U8: 0 | V8: 0 | W8: 0 | X8: 0 | Y8: 0
A9: Zoom Tecnologia Ltda | C9: 9 | D9: Switch Concentrador | F9: Huawei S5700-28C-EI | G9: Peça | H9: 30 | I9: 20 | J9: 8700 | K9: 0 | L9: =K9-(SUM(N9:Y9)) -> 0 | M9: =IF(L9<0,"ATENÇÃO","OK") -> OK | N9: 0 | O9: 0 | P9: 0 | Q9: 0 | R9: 0 | S9: 0 | T9: 0 | U9: 0 | V9: 0 | W9: 0 | X9: 0 | Y9: 0

Sheet CEAVI
A1: PROCESSO: 041/2013/SEA | D1: OBJETO: Aquisição de equipamentos de informática | K1: VIGÊNCIA DA ATA: 06/11/2013 até 06/11/2014 | N1: CONTRATO/OS nº 318/2014 Qtde. DT | O1: AF/OS nº xxxx/2014 Qtde. DT | P1: AF/OS nº xxxx/2014 Qtde. DT | Q1: AF/OS nº xxxx/2014 Qtde. DT | R1: AF/OS nº xxxx/2014 Qtde. DT | S1: AF/OS nº xxxx/2014 Qtde. DT | T1: AF/OS nº xxxx/2014 Qtde. DT | U1: AF/OS nº xxxx/2014 Qtde. DT | V1: AF/OS nº xxxx/2014 Qtde. DT | W1: AF/OS nº xxxx/2014 Qtde. DT | X1: AF/OS nº xxxx/2014 Qtde. DT | Y1: AF/OS nº xxxx/2014 Qtde. DT
A2: CENTRO PARTICIPANTE: CEAVI
A3: FORNECEDOR | B3: LOTE | C3: ITEM | D3: PRODUTO - CARACTERÍSTICAS MÍNIMAS | E3: ELEMENTO | F3: MARCA | G3: UNIDADE | H3: Entrega (Dias) | I3: Pagto. (Dias) | J3: Preço UNITÁRIO (R$) | K3: Qtde LICITADA | L3: Saldo / Automático | M3: ALERTA | N3: ...../...../...... | O3: ...../...../...... | P3: ...../...../...... | Q3: ...../...../...... | R3: ...../...../...... | S3: ...../...../...... | T3: ...../...../...... | U3: ...../...../...... | V3: ...../...../...... | W3: ...../...../...... | X3: ...../...../...... | Y3: ...../...../......
A4: Phlico Eletrônicos S/A | C4: 1 | D4: Microcomputador Avançado | F4: Philco WorkDesk 7700v | G4: Peça | H4: 30 | I4: 20 | J4: 3094.25 | K4: 60 | L4: =K4-(SUM(N4:Y4)) -> 0 | M4: =IF(L4<0,"ATENÇÃO","OK") -> OK | N4: 60 | O4: 0 | P4: 0 | Q4: 0 | R4: 0 | S4: 0 | T4: 0 | U4: 0 | V4: 0 | W4: 0 | X4: 0 | Y4: 0
A5: Phlico Eletrônicos S/A | C5: 4 | D5: Notebook Básico | F5: Philco WorBook Q1476 | G5: Peça | H5: 30 | I5: 20 | J5: 2190 | K5: 4 | L5: =K5-(SUM(O5:Y5)) -> 4 | M5: =IF(L5<0,"ATENÇÃO","OK") -> OK | N5: 4 | O5: 0 | P5: 0 | Q5: 0 | R5: 0 | S5: 0 | T5: 0 | U5: 0 | V5: 0 | W5: 0 | X5: 0 | Y5: 0
A6: Zoom Tecnologia Ltda | C6: 5 | D6: Servidor Local Rack | F6: Huawei TECAL RH2288 V2 | G6: Peça | H6: 30 | I6: 20 | J6: 11590 | K6: 0 | L6: =K6-(SUM(O6:Y6)) -> 0 | M6: =IF(L6<0,"ATENÇÃO","OK") -> OK | N6: 2 | O6: 0 | P6: 0 | Q6: 0 | R6: 0 | S6: 0 | T6: 0 | U6: 0 | V6: 0 | W6: 0 | X6: 0 | Y6: 0
A7: Integra Tecnologia Ltda | C7: 7 | D7: Switch Borda com POE 24P | F7: EDGE CORE ECS 3528MF | G7: Peça | H7: 30 | I7: 20 | J7: 2162 | K7: 2 | L7: =K7-(SUM(O7:Y7)) -> 2 | M7: =IF(L7<0,"ATENÇÃO","OK") -> OK | N7: 2 | O7: 0 | P7: 0 | Q7: 0 | R7: 0 | S7: 0 | T7: 0 | U7: 0 | V7: 0 | W7: 0 | X7: 0 | Y7: 0
A8: TI Conect Com. De Equipamentos | C8: 8 | D8: Switch Borda sem POE 24P | F8: Enterasys Networks 08G20G4-24 | G8: Peça | H8: 30 | I8: 20 | J8: 2130 | K8: 1 | L8: =K8-(SUM(N8:Y8)) -> 0 | M8: =IF(L8<0,"ATENÇÃO","OK") -> OK | N8: 1 | O8: 0 | P8: 0 | Q8: 0 | R8: 0 | S8: 0 | T8: 0 | U8: 0 | V8: 0 | W8: 0 | X8: 0 | Y8: 0
A9: Zoom Tecnologia Ltda | C9: 9 | D9: Switch Concentrador | F9: Huawei S5700-28C-EI | G9: Peça | H9: 30 | I9: 20 | J9: 8700 | K9: 0 | L9: =K9-(SUM(N9:Y9)) -> 0 | M9: =IF(L9<0,"ATENÇÃO","OK") -> OK | O9: 0 | P9: 0 | Q9: 0 | R9: 0 | S9: 0 | T9: 0 | U9: 0 | V9: 0 | W9: 0 | X9: 0 | Y9: 0

Sheet CCT
A1: PROCESSO: 041/2013/SEA | D1: OBJETO: Aquisição de equipamentos de informática | K1: VIGÊNCIA DA ATA: 06/11/2013 até 06/11/2014 | N1: AF/CTT nº 0298/2014 Qtde. DT | O1: AF/OS nº 0632/2014 Qtde. DT | P1: AF/OS nº 1092/2014 Qtde. DT | Q1: AF/OS nº 1097/2014 Qtde. DT | R1: AF/OS nº 1091/2014 Qtde. DT | S1: AF/OS nº xxxx/2014 Qtde. DT | T1: AF/OS nº xxxx/2014 Qtde. DT | U1: AF/OS nº xxxx/2014 Qtde. DT | V1: AF/OS nº xxxx/2014 Qtde. DT | W1: AF/OS nº xxxx/2014 Qtde. DT | X1: AF/OS nº xxxx/2014 Qtde. DT | Y1: AF/OS nº xxxx/2014 Qtde. DT
A2: CENTRO PARTICIPANTE: CCT
A3: FORNECEDOR | B3: LOTE | C3: ITEM | D3: PRODUTO - CARACTERÍSTICAS MÍNIMAS | E3: ELEMENTO | F3: MARCA | G3: UNIDADE | H3: Entrega (Dias) | I3: Pagto. (Dias) | J3: Preço UNITÁRIO (R$) | K3: Qtde LICITADA | L3: Saldo / Automático | M3: ALERTA | N3: 41752 | O3: 41817 | P3: 41880 | Q3: 41880 | R3: 41880 | S3: ...../...../...... | T3: ...../...../...... | U3: ...../...../...... | V3: ...../...../...... | W3: ...../...../...... | X3: ...../...../...... | Y3: ...../...../......
A4: Phlico Eletrônicos S/A | C4: 1 | D4: Microcomputador Avançado | F4: Philco WorkDesk 7700v | G4: Peça | H4: 30 | I4: 20 | J4: 3094.25 | K4: 80 | L4: =K4-(SUM(N4:Y4)) -> 0 | M4: =IF(L4<0,"ATENÇÃO","OK") -> OK | N4: 80 | O4: 0 | P4: 0 | Q4: 0 | R4: 0 | S4: 0 | T4: 0 | U4: 0 | V4: 0 | W4: 0 | X4: 0 | Y4: 0
A5: Phlico Eletrônicos S/A | C5: 4 | D5: Notebook Básico | F5: Philco WorBook Q1476 | G5: Peça | H5: 30 | I5: 20 | J5: 2190 | K5: 4 | L5: =K5-(SUM(N5:Y5)) -> 0 | M5: =IF(L5<0,"ATENÇÃO","OK") -> OK | N5: 4 | O5: 0 | P5: 0 | Q5: 0 | R5: 0 | S5: 0 | T5: 0 | U5: 0 | V5: 0 | W5: 0 | X5: 0 | Y5: 0
A6: Zoom Tecnologia Ltda | C6: 5 | D6: Servidor Local Rack | F6: Huawei TECAL RH2288 V2 | G6: Peça | H6: 30 | I6: 20 | J6: 11590 | K6: =0+1 -> 1 | L6: =K6-(SUM(N6:Y6)) -> 0 | M6: =IF(L6<0,"ATENÇÃO","OK") -> OK | N6: 0 | O6: 1 | P6: 0 | Q6: 0 | R6: 0 | S6: 0 | T6: 0 | U6: 0 | V6: 0 | W6: 0 | X6: 0 | Y6: 0
A7: Integra Tecnologia Ltda | C7: 7 | D7: Switch Borda com POE 24P | F7: EDGE CORE ECS 3528MF | G7: Peça | H7: 30 | I7: 20 | J7: 2162 | K7: 2 | L7: =K7-(SUM(N7:Y7)) -> 0 | M7: =IF(L7<0,"ATENÇÃO","OK") -> OK | N7: 0 | O7: 0 | P7: 2 | Q7: 0 | R7: 0 | S7: 0 | T7: 0 | U7: 0 | V7: 0 | W7: 0 | X7: 0 | Y7: 0
A8: TI Conect Com. De Equipamentos | C8: 8 | D8: Switch Borda sem POE 24P | F8: Enterasys Networks 08G20G4-24 | G8: Peça | H8: 30 | I8: 20 | J8: 2130 | K8: 1 | L8: =K8-(SUM(N8:Y8)) -> 0 | M8: =IF(L8<0,"ATENÇÃO","OK") -> OK | N8: 0 | O8: 0 | P8: 0 | Q8: 1 | R8: 0 | S8: 0 | T8: 0 | U8: 0 | V8: 0 | W8: 0 | X8: 0 | Y8: 0
A9: Zoom Tecnologia Ltda | C9: 9 | D9: Switch Concentrador | F9: Huawei S5700-28C-EI | G9: Peça | H9: 30 | I9: 20 | J9: 8700 | K9: 1 | L9: =K9-(SUM(N9:Y9)) -> 0 | M9: =IF(L9<0,"ATENÇÃO","OK") -> OK | N9: 0 | O9: 0 | P9: 0 | Q9: 0 | R9: 1 | S9: 0 | T9: 0 | U9: 0 | V9: 0 | W9: 0 | X9: 0 | Y9: 0

Sheet CEPLAN
A1: PROCESSO: 041/2013/SEA | D1: OBJETO: Aquisição de equipamentos de informática | K1: VIGÊNCIA DA ATA: 06/11/2013 até 06/11/2014 | N1: AF/OS nº 314/2014 Qtde. DT | O1: AF/OS nº 315/2014 Qtde. DT | P1: AF/OS nº 316/2014 Qtde. DT | Q1: AF/OS nº xxxx/2014 Qtde. DT | R1: AF/OS nº xxxx/2014 Qtde. DT | S1: AF/OS nº xxxx/2014 Qtde. DT | T1: AF/OS nº xxxx/2014 Qtde. DT | U1: AF/OS nº xxxx/2014 Qtde. DT | V1: AF/OS nº xxxx/2014 Qtde. DT | W1: AF/OS nº xxxx/2014 Qtde. DT | X1: AF/OS nº xxxx/2014 Qtde. DT | Y1: AF/OS nº xxxx/2014 Qtde. DT
A2: CENTRO PARTICIPANTE: CEPLAN
A3: FORNECEDOR | B3: LOTE | C3: ITEM | D3: PRODUTO - CARACTERÍSTICAS MÍNIMAS | E3: ELEMENTO | F3: MARCA | G3: UNIDADE | H3: Entrega (Dias) | I3: Pagto. (Dias) | J3: Preço UNITÁRIO (R$) | K3: Qtde LICITADA | L3: Saldo / Automático | M3: ALERTA | N3: ...../...../...... | O3: ...../...../...... | P3: ...../...../...... | Q3: ...../...../...... | R3: ...../...../...... | S3: ...../...../...... | T3: ...../...../...... | U3: ...../...../...... | V3: ...../...../...... | W3: ...../...../...... | X3: ...../...../...... | Y3: ...../...../......
A4: Phlico Eletrônicos S/A | C4: 1 | D4: Microcomputador Avançado | F4: Philco WorkDesk 7700v | G4: Peça | H4: 30 | I4: 20 | J4: 3094.25 | K4: 60 | L4: =K4-(SUM(N4:Y4)) -> 60 | M4: =IF(L4<0,"ATENÇÃO","OK") -> OK | N4: CONTRATO CANCELADO | O4: 0 | P4: 0 | Q4: 0 | R4: 0 | S4: 0 | T4: 0 | U4: 0 | V4: 0 | W4: 0 | X4: 0 | Y4: 0
A5: Phlico Eletrônicos S/A | C5: 4 | D5: Notebook Básico | F5: Philco WorBook Q1476 | G5: Peça | H5: 30 | I5: 20 | J5: 2190 | K5: 4 | L5: =K5-(SUM(N5:Y5)) -> 0 | M5: =IF(L5<0,"ATENÇÃO","OK") -> OK | N5: 4 | O5: 0 | P5: 0 | Q5: 0 | R5: 0 | S5: 0 | T5: 0 | U5: 0 | V5: 0 | W5: 0 | X5: 0 | Y5: 0
A6: Zoom Tecnologia Ltda | C6: 5 | D6: Servidor Local Rack | F6: Huawei TECAL RH2288 V2 | G6: Peça | H6: 30 | I6: 20 | J6: 11590 | K6: 0 | L6: =K6-(SUM(N6:Y6)) -> 0 | M6: =IF(L6<0,"ATENÇÃO","OK") -> OK | N6: 0 | O6: 0 | P6: 0 | Q6: 0 | R6: 0 | S6: 0 | T6: 0 | U6: 0 | V6: 0 | W6: 0 | X6: 0 | Y6: 0
A7: Integra Tecnologia Ltda | C7: 7 | D7: Switch Borda com POE 24P | F7: EDGE CORE ECS 3528MF | G7: Peça | H7: 30 | I7: 20 | J7: 2162 | K7: 2 | L7: =K7-(SUM(N7:Y7)) -> 0 | M7: =IF(L7<0,"ATENÇÃO","OK") -> OK | N7: 0 | O7: 2 | P7: 0 | Q7: 0 | R7: 0 | S7: 0 | T7: 0 | U7: 0 | V7: 0 | W7: 0 | X7: 0 | Y7: 0
A8: TI Conect Com. De Equipamentos | C8: 8 | D8: Switch Borda sem POE 24P | F8: Enterasys Networks 08G20G4-24 | G8: Peça | H8: 30 | I8: 20 | J8: 2130 | K8: 1 | L8: =K8-(SUM(N8:Y8)) -> 0 | M8: =IF(L8<0,"ATENÇÃO","OK") -> OK | P8: 1 | Q8: 0 | R8: 0 | S8: 0 | T8: 0 | U8: 0 | V8: 0 | W8: 0 | X8: 0 | Y8: 0
A9: Zoom Tecnologia Ltda | C9: 9 | D9: Switch Concentrador | F9: Huawei S5700-28C-EI | G9: Peça | H9: 30 | I9: 20 | J9: 8700 | K9: 0 | L9: =K9-(SUM(N9:Y9)) -> 0 | M9: =IF(L9<0,"ATENÇÃO","OK") -> OK | Q9: 0 | R9: 0 | S9: 0 | T9: 0 | U9: 0 | V9: 0 | W9: 0 | X9: 0 | Y9: 0

Sheet CAV
A1: PROCESSO: 041/2013/SEA | D1: OBJETO: Aquisição de equipamentos de informática | K1: VIGÊNCIA DA ATA: 06/11/2013 até 06/11/2014 | N1: AF/OS/Contrato nº 307/2014 Qtde. DT | O1: AF/OS/Contrato 277/2014 Qtde. DT(ESTORNADO) | P1: AF/OS/contrato nº 308/2014 Qtde. DT | Q1: AF/OS/Contrato nº 634/2014 Qtde. DT | R1: AF/OS/Contrato nº 634/2014 Qtde. DT | S1: AF/OS nº xxxx/2014 Qtde. DT | T1: AF/OS nº xxxx/2014 Qtde. DT | U1: AF/OS nº xxxx/2014 Qtde. DT | V1: AF/OS nº xxxx/2014 Qtde. DT | W1: AF/OS nº xxxx/2014 Qtde. DT | X1: AF/OS nº xxxx/2014 Qtde. DT | Y1: AF/OS nº xxxx/2014 Qtde. DT
A2: CENTRO PARTICIPANTE: CAV
A3: FORNECEDOR | B3: LOTE | C3: ITEM | D3: PRODUTO - CARACTERÍSTICAS MÍNIMAS | E3: ELEMENTO | F3: MARCA | G3: UNIDADE | H3: Entrega (Dias) | I3: Pagto. (Dias) | J3: Preço UNITÁRIO (R$) | K3: Qtde LICITADA | L3: Saldo / Automático | M3: ALERTA | N3: 41758 | O3: 05/05/2014 - FOI ESTORNADO | P3: 41758 | Q3: ...../...../...... | R3: ...../...../...... | S3: ...../...../...... | T3: ...../...../...... | U3: ...../...../...... | V3: ...../...../...... | W3: ...../...../...... | X3: ...../...../...... | Y3: ...../...../......
A4: Phlico Eletrônicos S/A | C4: 1 | D4: Microcomputador Avançado | F4: Philco WorkDesk 7700v | G4: Peça | H4: 30 | I4: 20 | J4: 3094.25 | K4: 60 | L4: =K4-(SUM(N4:Y4)) -> 60 | M4: =IF(L4<0,"ATENÇÃO","OK") -> OK | N4: 0 | O4: Estorno | P4: 0 | Q4: 0 | R4: 0 | S4: 0 | T4: 0 | U4: 0 | V4: 0 | W4: 0 | X4: 0 | Y4: 0
A5: Phlico Eletrônicos S/A | C5: 4 | D5: Notebook Básico | F5: Philco WorBook Q1476 | G5: Peça | H5: 30 | I5: 20 | J5: 2190 | K5: 4 | L5: =K5-(SUM(N5:Y5)) -> 4 | M5: =IF(L5<0,"ATENÇÃO","OK") -> OK | N5: 0 | O5: 0 | P5: 0 | Q5: 0 | R5: 0 | S5: 0 | T5: 0 | U5: 0 | V5: 0 | W5: 0 | X5: 0 | Y5: 0
A6: Zoom Tecnologia Ltda | C6: 5 | D6: Servidor Local Rack | F6: Huawei TECAL RH2288 V2 | G6: Peça | H6: 30 | I6: 20 | J6: 11590 | K6: =0+1 -> 1 | L6: =K6-(SUM(N6:Y6)) -> 0 | M6: =IF(L6<0,"ATENÇÃO","OK") -> OK | N6: 0 | O6: 0 | P6: 0 | Q6: 0 | R6: 1 | S6: 0 | T6: 0 | U6: 0 | V6: 0 | W6: 0 | X6: 0 | Y6: 0
A7: Integra Tecnologia Ltda | C7: 7 | D7: Switch Borda com POE 24P | F7: EDGE CORE ECS 3528MF | G7: Peça | H7: 30 | I7: 20 | J7: 2162 | K7: 2 | L7: =K7-(SUM(N7:Y7)) -> 0 | M7: =IF(L7<0,"ATENÇÃO","OK") -> OK | N7: 0 | O7: 0 | P7: 2 | Q7: 0 | R7: 0 | S7: 0 | T7: 0 | U7: 0 | V7: 0 | W7: 0 | X7: 0 | Y7: 0
A8: TI Conect Com. De Equipamentos | C8: 8 | D8: Switch Borda sem POE 24P | F8: Enterasys Networks 08G20G4-24 | G8: Peça | H8: 30 | I8: 20 | J8: 2130 | K8: 1 | L8: =K8-(SUM(N8:Y8)) -> 1 | M8: =IF(L8<0,"ATENÇÃO","OK") -> OK | N8: 0 | O8: 0 | P8: 0 | S8: 0 | T8: 0 | U8: 0 | V8: 0 | W8: 0 | X8: 0 | Y8: 0
A9: Zoom Tecnologia Ltda | C9: 9 | D9: Switch Concentrador | F9: Huawei S5700-28C-EI | G9: Peça | H9: 30 | I9: 20 | J9: 8700 | K9: =1+1 -> 2 | L9: =K9-(SUM(N9:Y9)) -> 0 | M9: =IF(L9<0,"ATENÇÃO","OK") -> OK | N9: 1 | P9: 0 | Q9: 0 | R9: 0 | S9: 1 | T9: 0 | U9: 0 | V9: 0 | W9: 0 | X9: 0 | Y9: 0

Sheet CEO
A1: PROCESSO: 041/2013/SEA | D1: OBJETO: Aquisição de equipamentos de informática | K1: VIGÊNCIA DA ATA: 06/11/2013 até 06/11/2014 | N1: AF/OS nº 484/2014 Qtde. DT | O1: AF/OS nº xxxx/2014 Qtde. DT | P1: AF/OS nº xxxx/2014 Qtde. DT | Q1: AF/OS nº xxxx/2014 Qtde. DT | R1: AF/OS nº xxxx/2014 Qtde. DT | S1: AF/OS nº xxxx/2014 Qtde. DT | T1: AF/OS nº xxxx/2014 Qtde. DT | U1: AF/OS nº xxxx/2014 Qtde. DT | V1: AF/OS nº xxxx/2014 Qtde. DT | W1: AF/OS nº xxxx/2014 Qtde. DT | X1: AF/OS nº xxxx/2014 Qtde. DT | Y1: AF/OS nº xxxx/2014 Qtde. DT
A2: CENTRO PARTICIPANTE: CEO
A3: FORNECEDOR | B3: LOTE | C3: ITEM | D3: PRODUTO - CARACTERÍSTICAS MÍNIMAS | E3: ELEMENTO | F3: MARCA | G3: UNIDADE | H3: Entrega (Dias) | I3: Pagto. (Dias) | J3: Preço UNITÁRIO (R$) | K3: Qtde LICITADA | L3: Saldo / Automático | M3: ALERTA | N3: AF CANCELADA | O3: ...../...../...... | P3: ...../...../...... | Q3: ...../...../...... | R3: ...../...../...... | S3: ...../...../...... | T3: ...../...../...... | U3: ...../...../...... | V3: ...../...../...... | W3: ...../...../...... | X3: ...../...../...... | Y3: ...../...../......
A4: Phlico Eletrônicos S/A | C4: 1 | D4: Microcomputador Avançado | F4: Philco WorkDesk 7700v | G4: Peça | H4: 30 | I4: 20 | J4: 3094.25 | K4: 60 | L4: =K4-(SUM(N4:Y4)) -> 0 | M4: =IF(L4<0,"ATENÇÃO","OK") -> OK | N4: 60 | O4: 0 | P4: 0 | Q4: 0 | R4: 0 | S4: 0 | T4: 0 | U4: 0 | V4: 0 | W4: 0 | X4: 0 | Y4: 0
A5: Phlico Eletrônicos S/A | C5: 4 | D5: Notebook Básico | F5: Philco WorBook Q1476 | G5: Peça | H5: 30 | I5: 20 | J5: 2190 | K5: 4 | L5: =K5-(SUM(N5:Y5)) -> 0 | M5: =IF(L5<0,"ATENÇÃO","OK") -> OK | N5: 4 | O5: 0 | P5: 0 | Q5: 0 | R5: 0 | S5: 0 | T5: 0 | U5: 0 | V5: 0 | W5: 0 | X5: 0 | Y5: 0
A6: Zoom Tecnologia Ltda | C6: 5 | D6: Servidor Local Rack | F6: Huawei TECAL RH2288 V2 | G6: Peça | H6: 30 | I6: 20 | J6: 11590 | K6: 0 | L6: =K6-(SUM(N6:Y6)) -> 0 | M6: =IF(L6<0,"ATENÇÃO","OK") -> OK | N6: 0 | O6: 0 | P6: 0 | Q6: 0 | R6: 0 | S6: 0 | T6: 0 | U6: 0 | V6: 0 | W6: 0 | X6: 0 | Y6: 0
A7: Integra Tecnologia Ltda | C7: 7 | D7: Switch Borda com POE 24P | F7: EDGE CORE ECS 3528MF | G7: Peça | H7: 30 | I7: 20 | J7: 2162 | K7: 2 | L7: =K7-(SUM(N7:Y7)) -> 2 | M7: =IF(L7<0,"ATENÇÃO","OK") -> OK | N7: 0 | O7: 0 | P7: 0 | Q7: 0 | R7: 0 | S7: 0 | T7: 0 | U7: 0 | V7: 0 | W7: 0 | X7: 0 | Y7: 0
A8: TI Conect Com. De Equipamentos | C8: 8 | D8: Switch Borda sem POE 24P | F8: Enterasys Networks 08G20G4-24 | G8: Peça | H8: 30 | I8: 20 | J8: 2130 | K8: 1 | L8: =K8-(SUM(N8:Y8)) -> 1 | M8: =IF(L8<0,"ATENÇÃO","OK") -> OK | N8: 0 | O8: 0 | P8: 0 | Q8: 0 | R8: 0 | S8: 0 | T8: 0 | U8: 0 | V8: 0 | W8: 0 | X8: 0 | Y8: 0
A9: Zoom Tecnologia Ltda | C9: 9 | D9: Switch Concentrador | F9: Huawei S5700-28C-EI | G9: Peça | H9: 30 | I9: 20 | J9: 8700 | K9: 0 | L9: =K9-(SUM(N9:Y9)) -> 0 | M9: =IF(L9<0,"ATENÇÃO","OK") -> OK | N9: 0 | O9: 0 | P9: 0 | Q9: 0 | R9: 0 | S9: 0 | T9: 0 | U9: 0 | V9: 0 | W9: 0 | X9: 0 | Y9: 0

Sheet CERES
A1: PROCESSO: 041/2013/SEA | D1: OBJETO: Aquisição de equipamentos de informática | K1: VIGÊNCIA DA ATA: 06/11/2013 até 06/11/2014 | N1: AF/OS nº 416/2014 Qtde. DT | O1: AF/OS nº 418/2014 Qtde. DT | P1: AF/OS nº 419/2014 Qtde. DT | Q1: AF/OS nº xxxx/2014 Qtde. DT | R1: AF/OS nº xxxx/2014 Qtde. DT | S1: AF/OS nº xxxx/2014 Qtde. DT | T1: AF/OS nº xxxx/2014 Qtde. DT | U1: AF/OS nº xxxx/2014 Qtde. DT | V1: AF/OS nº xxxx/2014 Qtde. DT | W1: AF/OS nº xxxx/2014 Qtde. DT | X1: AF/OS nº xxxx/2014 Qtde. DT | Y1: AF/OS nº xxxx/2014 Qtde. DT
A2: CENTRO PARTICIPANTE: CEO
A3: FORNECEDOR | B3: LOTE | C3: ITEM | D3: PRODUTO - CARACTERÍSTICAS MÍNIMAS | E3: ELEMENTO | F3: MARCA | G3: UNIDADE | H3: Entrega (Dias) | I3: Pagto. (Dias) | J3: Preço UNITÁRIO (R$) | K3: Qtde LICITADA | L3: Saldo / Automático | M3: ALERTA | N3: ...../...../...... | O3: ...../...../...... | P3: ...../...../...... | Q3: ...../...../...... | R3: ...../...../...... | S3: ...../...../...... | T3: ...../...../...... | U3: ...../...../...... | V3: ...../...../...... | W3: ...../...../...... | X3: ...../...../...... | Y3: ...../...../......
A4: Phlico Eletrônicos S/A | C4: 1 | D4: Microcomputador Avançado | F4: Philco WorkDesk 7700v | G4: Peça | H4: 30 | I4: 20 | J4: 3094.25 | K4: 60 | L4: =K4-(SUM(N4:Y4)) -> 0 | M4: =IF(L4<0,"ATENÇÃO","OK") -> OK | N4: 60 | O4: 0 | P4: 0 | Q4: 0 | R4: 0 | S4: 0 | T4: 0 | U4: 0 | V4: 0 | W4: 0 | X4: 0 | Y4: 0
A5: Phlico Eletrônicos S/A | C5: 4 | D5: Notebook Básico | F5: Philco WorBook Q1476 | G5: Peça | H5: 30 | I5: 20 | J5: 2190 | K5: 4 | L5: =K5-(SUM(N5:Y5)) -> 4 | M5: =IF(L5<0,"ATENÇÃO","OK") -> OK | N5: 0 | O5: 0 | P5: 0 | Q5: 0 | R5: 0 | S5: 0 | T5: 0 | U5: 0 | V5: 0 | W5: 0 | X5: 0 | Y5: 0
A6: Zoom Tecnologia Ltda | C6: 5 | D6: Servidor Local Rack | F6: Huawei TECAL RH2288 V2 | G6: Peça | H6: 30 | I6: 20 | J6: 11590 | K6: =0+1 -> 1 | L6: =K6-(SUM(N6:Y6)) -> 1 | M6: =IF(L6<0,"ATENÇÃO","OK") -> OK | N6: 0 | O6: 0 | P6: 0 | Q6: 0 | R6: 0 | S6: 0 | T6: 0 | U6: 0 | V6: 0 | W6: 0 | X6: 0 | Y6: 0
A7: Integra Tecnologia Ltda | C7: 7 | D7: Switch Borda com POE 24P | F7: EDGE CORE ECS 3528MF | G7: Peça | H7: 30 | I7: 20 | J7: 2162 | K7: 2 | L7: =K7-(SUM(N7:Y7)) -> 0 | M7: =IF(L7<0,"ATENÇÃO","OK") -> OK | N7: 0 | O7: 2 | P7: 0 | Q7: 0 | R7: 0 | S7: 0 | T7: 0 | U7: 0 | V7: 0 | W7: 0 | X7: 0 | Y7: 0
A8: TI Conect Com. De Equipamentos | C8: 8 | D8: Switch Borda sem POE 24P | F8: Enterasys Networks 08G20G4-24 | G8: Peça | H8: 30 | I8: 20 | J8: 2130 | K8: 1 | L8: =K8-(SUM(N8:Y8)) -> 0 | M8: =IF(L8<0,"ATENÇÃO","OK") -> OK | N8: 0 | O8: 0 | P8: 1 | Q8: 0 | R8: 0 | S8: 0 | T8: 0 | U8: 0 | V8: 0 | W8: 0 | X8: 0 | Y8: 0
A9: Zoom Tecnologia Ltda | C9: 9 | D9: Switch Concentrador | F9: Huawei S5700-28C-EI | G9: Peça | H9: 30 | I9: 20 | J9: 8700 | K9: 0 | L9: =K9-(SUM(N9:Y9)) -> 0 | M9: =IF(L9<0,"ATENÇÃO","OK") -> OK | N9: 0 | O9: 0 | P9: 0 | Q9: 0 | R9: 0 | S9: 0 | T9: 0 | U9: 0 | V9: 0 | W9: 0 | X9: 0 | Y9: 0

Sheet GESTOR
A1: PROCESSO: 041/2013/SEA | D1: OBJETO: Aquisição de equipamentos de informática | K1: VIGÊNCIA DA ATA: 06/11/2013 até 06/11/2014
A2: FORNECEDOR | B2: LOTE | C2: ITEM | D2: PRODUTO - CARACTERÍSTICAS MÍNIMAS | E2: ELEMENTO | F2: MARCA | G2: UNIDADE | H2: Entrega (Dias) | I2: Pagto. (Dias) | J2: Preço UNITÁRIO (R$) | K2: Qtde Registrada + Aditivos | L2: Quantidade Utilizada | M2: SALDO | N2: Valor Total Registrado | O2: Valor Total Utilizado
A3: Phlico Eletrônicos S/A | C3: 1 | D3: Microcomputador Avançado | F3: Philco WorkDesk 7700v | G3: Peça | H3: 30 | I3: 20 | J3: 3094.25 | K3: =REIT!J4+ESAG!K4+CEART!K4+FAED!K4+CEAD!K4+CEFID!K4+CESFI!K4+CEAVI!K4+CCT!K4+CEPLAN!K4+CAV!K4+CEO!K4+CERES!K4 -> 800 | L3: =(REIT!J4-REIT!K4)+(ESAG!K4-ESAG!L4)+(CEART!K4-CEART!L4)+(FAED!K4-FAED!L4)+(CEAD!K4-CEAD!L4)+(CEFID!K4-CEFID!L4)+(CESFI!K4-CESFI!L4)+(CEAVI!K4-CEAVI!L4)+(CCT!K4-CCT!L4)+(CEPLAN!K4-CEPLAN!L4)+(CAV!K4-CAV!L4)+(CEO!K4-CEO!L4)+(CERES!K4-CERES!L4) -> 536 | M3: =K3-L3 -> 264 | N3: =J3*K3 -> 2475400 | O3: =J3*L3 -> 1658518
A4: Phlico Eletrônicos S/A | C4: 4 | D4: Notebook Básico | F4: Philco WorBook Q1476 | G4: Peça | H4: 30 | I4: 20 | J4: 2190 | K4: =REIT!J5+ESAG!K5+CEART!K5+FAED!K5+CEAD!K5+CEFID!K5+CESFI!K5+CEAVI!K5+CCT!K5+CEPLAN!K5+CAV!K5+CEO!K5+CERES!K5 -> 50 | L4: =(REIT!J5-REIT!K5)+(ESAG!K5-ESAG!L5)+(CEART!K5-CEART!L5)+(FAED!K5-FAED!L5)+(CEAD!K5-CEAD!L5)+(CEFID!K5-CEFID!L5)+(CESFI!K5-CESFI!L5)+(CEAVI!K5-CEAVI!L5)+(CCT!K5-CCT!L5)+(CEPLAN!K5-CEPLAN!L5)+(CAV!K5-CAV!L5)+(CEO!K5-CEO!L5)+(CERES!K5-CERES!L5) -> 21 | M4: =K4-L4 -> 29 | N4: =J4*K4 -> 109500 | O4: =J4*L4 -> 45990
A5: Zoom Tecnologia Ltda | C5: 5 | D5: Servidor Local Rack | F5: Huawei TECAL RH2288 V2 | G5: Peça | H5: 30 | I5: 20 | J5: 11590 | K5: =REIT!J6+ESAG!K6+CEART!K6+FAED!K6+CEAD!K6+CEFID!K6+CESFI!K6+CEAVI!K6+CCT!K6+CEPLAN!K6+CAV!K6+CEO!K6+CERES!K6 -> 25 | L5: =(REIT!J6-REIT!K6)+(ESAG!K6-ESAG!L6)+(CEART!K6-CEART!L6)+(FAED!K6-FAED!L6)+(CEAD!K6-CEAD!L6)+(CEFID!K6-CEFID!L6)+(CESFI!K6-CESFI!L6)+(CEAVI!K6-CEAVI!L6)+(CCT!K6-CCT!L6)+(CEPLAN!K6-CEPLAN!L6)+(CAV!K6-CAV!L6)+(CEO!K6-CEO!L6)+(CERES!K6-CERES!L6) -> 24 | M5: =K5-L5 -> 1 | N5: =J5*K5 -> 289750 | O5: =J5*L5 -> 278160
A6: Integra Tecnologia Ltda | C6: 7 | D6: Switch Borda com POE 24P | F6: EDGE CORE ECS 3528MF | G6: Peça | H6: 30 | I6: 20 | J6: 2162 | K6: =REIT!J7+ESAG!K7+CEART!K7+FAED!K7+CEAD!K7+CEFID!K7+CESFI!K7+CEAVI!K7+CCT!K7+CEPLAN!K7+CAV!K7+CEO!K7+CERES!K7 -> 50 | L6: =(REIT!J7-REIT!K7)+(ESAG!K7-ESAG!L7)+(CEART!K7-CEART!L7)+(FAED!K7-FAED!L7)+(CEAD!K7-CEAD!L7)+(CEFID!K7-CEFID!L7)+(CESFI!K7-CESFI!L7)+(CEAVI!K7-CEAVI!L7)+(CCT!K7-CCT!L7)+(CEPLAN!K7-CEPLAN!L7)+(CAV!K7-CAV!L7)+(CEO!K7-CEO!L7)+(CERES!K7-CERES!L7) -> 14 | M6: =K6-L6 -> 36 | N6: =J6*K6 -> 108100 | O6: =J6*L6 -> 30268
A7: TI Conect Com. De Equipamentos | C7: 8 | D7: Switch Borda sem POE 24P | F7: Enterasys Networks 08G20G4-24 | G7: Peça | H7: 30 | I7: 20 | J7: 2130 | K7: =REIT!J8+ESAG!K8+CEART!K8+FAED!K8+CEAD!K8+CEFID!K8+CESFI!K8+CEAVI!K8+CCT!K8+CEPLAN!K8+CAV!K8+CEO!K8+CERES!K8 -> 12 | L7: =(REIT!J8-REIT!K8)+(ESAG!K8-ESAG!L8)+(CEART!K8-CEART!L8)+(FAED!K8-FAED!L8)+(CEAD!K8-CEAD!L8)+(CEFID!K8-CEFID!L8)+(CESFI!K8-CESFI!L8)+(CEAVI!K8-CEAVI!L8)+(CCT!K8-CCT!L8)+(CEPLAN!K8-CEPLAN!L8)+(CAV!K8-CAV!L8)+(CEO!K8-CEO!L8)+(CERES!K8-CERES!L8) -> 6 | M7: =K7-L7 -> 6 | N7: =J7*K7 -> 25560 | O7: =J7*L7 -> 12780
A8: Zoom Tecnologia Ltda | C8: 9 | D8: Switch Concentrador | F8: Huawei S5700-28C-EI | G8: Peça | H8: 30 | I8: 20 | J8: 8700 | K8: =REIT!J9+ESAG!K9+CEART!K9+FAED!K9+CEAD!K9+CEFID!K9+CESFI!K9+CEAVI!K9+CCT!K9+CEPLAN!K9+CAV!K9+CEO!K9+CERES!K9 -> 5 | L8: =(REIT!J9-REIT!K9)+(ESAG!K9-ESAG!L9)+(CEART!K9-CEART!L9)+(FAED!K9-FAED!L9)+(CEAD!K9-CEAD!L9)+(CEFID!K9-CEFID!L9)+(CESFI!K9-CESFI!L9)+(CEAVI!K9-CEAVI!L9)+(CCT!K9-CCT!L9)+(CEPLAN!K9-CEPLAN!L9)+(CAV!K9-CAV!L9)+(CEO!K9-CEO!L9)+(CERES!K9-CERES!L9) -> 5 | M8: =K8-L8 -> 0 | N8: =J8*K8 -> 43500 | O8: =J8*L8 -> 43500
N9: =SUM(N3:N8) -> 3051810 | O9: =SUM(O3:O8) -> 2069216
K11: Pregão 041/2013/SEA - SRP
K12: Aquisição de equipamentos de informática
K13: Vigência 06/11/2013 até 06/11/2014
K14: Valor Total da Ata com Aditivo | O14: =N9 -> 3051810
K15: Valor Utilizado | O15: =O9 -> 2069216
K16: % Aditivos | O16: 0
K17: % Utilizado | O17: =O15/O14 -> 0.6780291
K18: Resumo Atualizado em 27/11/2014

Sheet Modelo Anexo II IN 002_2014
A1: ANEXO II – Instrução Normativa n.º 002/2014
A3: DECLARAÇÃO DE DISPONIBILIDADE DE QUANTITATIVO PARA EMISSÃO DE AUTORIZAÇÃO DE FORNECIMENTO/ORDEM DE SERVIÇO – SISTEMA DE REGISTRO DE PREÇOS/UDESC
A5: Processo CPA n.º XXXX/2014
A6: Pregão n.º XXXX/2014
A7: Objeto:
A8: Vigência da Ata de Registro de Preços: XX/XX/XXXX até XX/XX/XXXXX
A10: Declaro que o Centro XXXXXXX, participante da Ata de Registro de Preços proveniente do Pregão n.º XXXX/2014, possui saldo em seu quantitativo para a emissão da Autorização de Fornecimento/Ordem de Serviço n.º XXXX/2014, no valor de R$ X.XXX,XX, a ser firmada com a empresa XXXXXXX, restando ainda em sua cota para próximas contratações com o referido fornecedor os seguintes quantitativos:
A12: Lote | B12: Item | C12: Descrição Resumida | D12: Unidade | E12: Valor Unitário (R$) | F12: Saldo Quantitativo (antes da emissão desta AF/OS) | G12: Quantitativo da AF/OS | H12: Saldo Atualizado
A19: __________________, ____/_____/____
A20: Cidade Data
A24: _____________________________________________
A25: Diretor(a) de Administração
A26: (carimbo e assinatura)
