Workbook
Name diasuteis: #REF!
Name diasuteis: #REF!
Name diasuteis: #REF!
Name diasuteis: #REF!
Name diasuteis: #REF!
Name diasuteis: #REF!
Name diasuteis: #REF!
Name diasuteis: #REF!
Name diasuteis: #REF!
Name diasuteis: #REF!
Name diasuteis: #REF!
Name diasuteis: #REF!
Name diasuteis: #REF!
Name diasuteis: #REF!
Name diasuteis: #REF!
Name diasuteis: #REF!
Name diasuteis: #REF!
Name Ferias: #REF!
Name Ferias: #REF!
Name Ferias: #REF!
Name Ferias: #REF!
Name Ferias: #REF!
Name Ferias: #REF!
Name Ferias: #REF!
Name Ferias: #REF!
Name Ferias: #REF!
Name Ferias: #REF!
Name Ferias: #REF!
Name Ferias: #REF!
Name Ferias: #REF!
Name Ferias: #REF!
Name Ferias: #REF!
Name Ferias: #REF!
Name RD: OFFSET(#REF!,(MATCH(SMALL(#REF!,ROW()-10),#REF!,0)-1),0)
Name RD: OFFSET(#REF!,(MATCH(SMALL(#REF!,ROW()-10),#REF!,0)-1),0)
Name RD: OFFSET(#REF!,(MATCH(SMALL(#REF!,ROW()-10),#REF!,0)-1),0)
Name RD: OFFSET(#REF!,(MATCH(SMALL(#REF!,ROW()-10),#REF!,0)-1),0)

Sheet REIT_COAI
A1: PROCESSO: 0358/2014/UDESC | D1: OBJETO: Serviços Gráficos | K1: VIGÊNCIA DA ATA: 09/05/2014 até 09/05/2015 | N1: AF/OS nº xxxx/2014 Qtde. DT | O1: AF/OS nº xxxx/2014 Qtde. DT | P1: AF/OS nº xxxx/2014 Qtde. DT | Q1: AF/OS nº xxxx/2014 Qtde. DT | R1: AF/OS nº xxxx/2014 Qtde. DT | S1: AF/OS nº xxxx/2014 Qtde. DT | T1: AF/OS nº xxxx/2014 Qtde. DT | U1: AF/OS nº xxxx/2014 Qtde. DT | V1: AF/OS nº xxxx/2014 Qtde. DT | W1: AF/OS nº xxxx/2014 Qtde. DT | X1: AF/OS nº xxxx/2014 Qtde. DT | Y1: AF/OS nº xxxx/2014 Qtde. DT
A2: CENTRO PARTICIPANTE: REITORIA - COAI
A3: FORNECEDOR | B3: LOTE | C3: ITEM | D3: PRODUTO - CARACTERÍSTICAS MÍNIMAS | E3: ELEMENTO | F3: Dimensões | G3: Unidade | H3: Entrega (Dias) | I3: Pagto. (Dias) | J3: Preço UNITÁRIO (R$) | K3: Qtde LICITADA | L3: Saldo / Automático | M3: ALERTA | N3: ...../...../...... | O3: ...../...../...... | P3: ...../...../...... | Q3: ...../...../...... | R3: ...../...../...... | S3: ...../...../...... | T3: ...../...../...... | U3: ...../...../...... | V3: ...../...../...... | W3: ...../...../...... | X3: ...../...../...... | Y3: ...../...../......
A4: AJPLOT INFORMÁTICA LTDA - ME | B4: 1 | C4: 1 | D4: Banner em lona, impressão digital 4x0 cores, resolução mínima 720 dpi's e 280 g/m² de gramatura mínima; e suporte: 1) em madeira em duas das menores extremidades e acabamento com ponteira de PVC (grampeada) e corda trançada de no mínimo 4mm e de resistência suficiente e compatível com o banner; ou 2) com ilhóses dispostos de 20 em 20 cm, em ferro ou alumínio e de diâmetro compatível com a corda utilizada - corda trançada de no mínimo 4mm e de resistência suficiente e compatível com o banner. | E4: 339039.63 | F4: 50 X 70 cm | G4: Unidade | I4: 20 | J4: 7 | L4: =K4-(SUM(N4:Y4)) -> 0 | M4: =IF(L4<0,"ATENÇÃO","OK") -> OK | N4: 0 | O4: 0 | P4: 0 | Q4: 0 | R4: 0 | S4: 0 | T4: 0 | U4: 0 | V4: 0 | W4: 0 | X4: 0 | Y4: 0
C5: 2 | E5: 339039.63 | F5: 90 X 150 cm | G5: Unidade | I5: 20 | J5: 27 | L5: =K5-(SUM(N5:Y5)) -> 0 | M5: =IF(L5<0,"ATENÇÃO","OK") -> OK | N5: 0 | O5: 0 | P5: 0 | Q5: 0 | R5: 0 | S5: 0 | T5: 0 | U5: 0 | V5: 0 | W5: 0 | X5: 0 | Y5: 0
C6: 3 | E6: 339039.63 | F6: 90 X 120 cm | G6: Unidade | I6: 20 | J6: 48.6 | L6: =K6-(SUM(N6:Y6)) -> 0 | M6: =IF(L6<0,"ATENÇÃO","OK") -> OK | N6: 0 | O6: 0 | P6: 0 | Q6: 0 | R6: 0 | S6: 0 | T6: 0 | U6: 0 | V6: 0 | W6: 0 | X6: 0 | Y6: 0
C7: 4 | E7: 339039.63 | F7: 110 X 150 cm | G7: Unidade | I7: 20 | J7: 33 | K7: 2 | L7: =K7-(SUM(N7:Y7)) -> 2 | M7: =IF(L7<0,"ATENÇÃO","OK") -> OK | N7: 0 | O7: 0 | P7: 0 | Q7: 0 | R7: 0 | S7: 0 | T7: 0 | U7: 0 | V7: 0 | W7: 0 | X7: 0 | Y7: 0
C8: 5 | E8: 339039.63 | F8: 130 X 180 cm | G8: Unidade | I8: 20 | J8: 42.13 | L8: =K8-(SUM(N8:Y8)) -> 0 | M8: =IF(L8<0,"ATENÇÃO","OK") -> OK | N8: 0 | O8: 0 | P8: 0 | Q8: 0 | R8: 0 | S8: 0 | T8: 0 | U8: 0 | V8: 0 | W8: 0 | X8: 0 | Y8: 0
C9: 6 | E9: 339039.63 | F9: 50 X 300 cm | G9: Unidade | I9: 20 | J9: 27 | L9: =K9-(SUM(N9:Y9)) -> 0 | M9: =IF(L9<0,"ATENÇÃO","OK") -> OK | N9: 0 | O9: 0 | P9: 0 | Q9: 0 | R9: 0 | S9: 0 | T9: 0 | U9: 0 | V9: 0 | W9: 0 | X9: 0 | Y9: 0
C10: 7 | E10: 339039.63 | F10: 70 X 400 cm | G10: Unidade | I10: 20 | J10: 56 | L10: =K10-(SUM(N10:Y10)) -> 0 | M10: =IF(L10<0,"ATENÇÃO","OK") -> OK | N10: 0 | O10: 0 | P10: 0 | Q10: 0 | R10: 0 | S10: 0 | T10: 0 | U10: 0 | V10: 0 | W10: 0 | X10: 0 | Y10: 0
C11: 8 | E11: 339039.63 | F11: 140 cm X metro linear | G11: metro | I11: 20 | J11: 24.63 | L11: =K11-(SUM(N11:Y11)) -> 0 | M11: =IF(L11<0,"ATENÇÃO","OK") -> OK | N11: 0 | O11: 0 | P11: 0 | Q11: 0 | R11: 0 | S11: 0 | T11: 0 | U11: 0 | V11: 0 | W11: 0 | X11: 0 | Y11: 0
C12: 9 | E12: 339039.63 | F12: 80 X 110 cm | G12: Unidade | I12: 20 | J12: 17.58 | L12: =K12-(SUM(N12:Y12)) -> 0 | M12: =IF(L12<0,"ATENÇÃO","OK") -> OK | N12: 0 | O12: 0 | P12: 0 | Q12: 0 | R12: 0 | S12: 0 | T12: 0 | U12: 0 | V12: 0 | W12: 0 | X12: 0 | Y12: 0
C13: 10 | E13: 339039.63 | F13: 80 X 120 cm | G13: Unidade | I13: 20 | J13: 19.2 | L13: =K13-(SUM(N13:Y13)) -> 0 | M13: =IF(L13<0,"ATENÇÃO","OK") -> OK | N13: 0 | O13: 0 | P13: 0 | Q13: 0 | R13: 0 | S13: 0 | T13: 0 | U13: 0 | V13: 0 | W13: 0 | X13: 0 | Y13: 0
C14: 11 | E14: 339039.63 | F14: 90 X 110 cm | G14: Unidade | I14: 20 | J14: 19.8 | L14: =K14-(SUM(N14:Y14)) -> 0 | M14: =IF(L14<0,"ATENÇÃO","OK") -> OK | N14: 0 | O14: 0 | P14: 0 | Q14: 0 | R14: 0 | S14: 0 | T14: 0 | U14: 0 | V14: 0 | W14: 0 | X14: 0 | Y14: 0
C15: 12 | D15: Frontlight em lona, impressão digital 4x0 cores, resolução mínima 1200 dpi's e 440 g/m² de gramatura mínima; fixado com ilhóses dispostos de 20 em 20 cm, em ferro ou alumínio e de diâmetro compatível com a corda utilizada - corda trançada de no mínimo 4mm e de resistência suficiente e compatível com o frontlight. | E15: 339039.63 | F15: 320 cm X metro linear | G15: metro | I15: 20 | J15: 64 | L15: =K15-(SUM(N15:Y15)) -> 0 | M15: =IF(L15<0,"ATENÇÃO","OK") -> OK | N15: 0 | O15: 0 | P15: 0 | Q15: 0 | R15: 0 | S15: 0 | T15: 0 | U15: 0 | V15: 0 | W15: 0 | X15: 0 | Y15: 0
C16: 13 | E16: 339039.63 | F16: 650 X 150 cm | G16: Unidade | I16: 20 | J16: 195 | L16: =K16-(SUM(N16:Y16)) -> 0 | M16: =IF(L16<0,"ATENÇÃO","OK") -> OK | N16: 0 | O16: 0 | P16: 0 | Q16: 0 | R16: 0 | S16: 0 | T16: 0 | U16: 0 | V16: 0 | W16: 0 | X16: 0 | Y16: 0
C17: 14 | E17: 339039.63 | F17: 250 X 120 cm | G17: Unidade | I17: 20 | J17: 60 | L17: =K17-(SUM(N17:Y17)) -> 0 | M17: =IF(L17<0,"ATENÇÃO","OK") -> OK | N17: 0 | O17: 0 | P17: 0 | Q17: 0 | R17: 0 | S17: 0 | T17: 0 | U17: 0 | V17: 0 | W17: 0 | X17: 0 | Y17: 0
A18: PRINTSTUDIO LTDA - ME | B18: 2 | C18: 15 | D18: Banner em papel fotográfico com laminação brilhante, resolução mínima de 600 dpi's e 280g/m² de gramatura mínima, suporte em plástico em duas das menores extremidades e corda de no mínimo 1mm e de resistência suficiente e compatível com o banner. | E18: 339039.63 | F18: 90 cm X metro linear | G18: metro | I18: 20 | J18: 75 | L18: =K18-(SUM(N18:Y18)) -> 0 | M18: =IF(L18<0,"ATENÇÃO","OK") -> OK | N18: 0 | O18: 0 | P18: 0 | Q18: 0 | R18: 0 | S18: 0 | T18: 0 | U18: 0 | V18: 0 | W18: 0 | X18: 0 | Y18: 0
A19: PRINTSTUDIO LTDA - ME | B19: 3 | C19: 16 | D19: Banner em tecido. Impressão digital em tecido. Policromia: 4 x 0 cores. Resolução mínima de 1200 dpi´s. Acabamento em madeira (cabo redondo) nas duas extremidades menores, sendo encaixado internamente na costura do tecido para fechamento escondendo o varão, com ponteiras em PVC e corda trançada de no mínimo 4 mm e com resistência suficiente para sustentar o banner de tecido. | E19: 339039.63 | F19: 90 cm x metro linear | G19: metro | I19: 20 | J19: 59.75 | L19: =K19-(SUM(N19:Y19)) -> 0 | M19: =IF(L19<0,"ATENÇÃO","OK") -> OK | N19: 0 | O19: 0 | P19: 0 | Q19: 0 | R19: 0 | S19: 0 | T19: 0 | U19: 0 | V19: 0 | W19: 0 | X19: 0 | Y19: 0
A20: JUNKES & BORBA LTDA - EPP | B20: 4 | C20: 17 | D20: Frontlight em lona, impressão digital 4x0 cores, resolução mínima 1200 dpi's e 440 g/m² de gramatura mínima; fixado com ilhóses dispostos de 20 em 20 cm, em ferro ou alumínio e de diâmetro compatível com a corda utilizada - corda trançada de no mínimo 4mm e de resistência suficiente e compatível com o frontlight. INSTALADO E RETIRADA. | E20: 339039.63 | F20: 255 X 275 cm | G20: Unidade | I20: 20 | J20: 538.33 | L20: =K20-(SUM(N20:Y20)) -> 0 | M20: =IF(L20<0,"ATENÇÃO","OK") -> OK | N20: 0 | O20: 0 | P20: 0 | Q20: 0 | R20: 0 | S20: 0 | T20: 0 | U20: 0 | V20: 0 | W20: 0 | X20: 0 | Y20: 0
C21: 18 | E21: 339039.63 | F21: 295 X 875 cm | G21: Unidade | I21: 20 | J21: 1670.8 | L21: =K21-(SUM(N21:Y21)) -> 0 | M21: =IF(L21<0,"ATENÇÃO","OK") -> OK | N21: 0 | O21: 0 | P21: 0 | Q21: 0 | R21: 0 | S21: 0 | T21: 0 | U21: 0 | V21: 0 | W21: 0 | X21: 0 | Y21: 0
C22: 19 | E22: 339039.63 | F22: 310 X 914 cm | G22: Unidade | I22: 20 | J22: 1824.53 | L22: =K22-(SUM(N22:Y22)) -> 0 | M22: =IF(L22<0,"ATENÇÃO","OK") -> OK | N22: 0 | O22: 0 | P22: 0 | Q22: 0 | R22: 0 | S22: 0 | T22: 0 | U22: 0 | V22: 0 | W22: 0 | X22: 0 | Y22: 0
A23: MIXPLAC COMUNICAÇÃO VISUAL LTDA – ME | B23: 5 | C23: 20 | D23: Adesivo perfurado para vidro traseiro de automóveis, impressão digital 4x0 cores, resolução mínima 720 dpi's; com no mínimo 40% de transmissão luminosa (nos termos da RES 254/2007 CONTRAN). | E23: 339039.63 | F23: 35 X 90 cm | G23: Unidade | I23: 20 | J23: 15.16 | L23: =K23-(SUM(N23:Y23)) -> 0 | M23: =IF(L23<0,"ATENÇÃO","OK") -> OK | N23: 0 | O23: 0 | P23: 0 | Q23: 0 | R23: 0 | S23: 0 | T23: 0 | U23: 0 | V23: 0 | W23: 0 | X23: 0 | Y23: 0
A24: AJPLOT INFORMÁTICA LTDA - ME | B24: 6 | C24: 21 | D24: Adesivo em vinil, impressão digital 4x0 cores, resolução mínima 300 dpi's e 26 a 30 g/m² de gramatura mínima de cola; acabamento meio corte especial com faca. | E24: 339039.63 | F24: 7 X 9 cm | G24: Unidade | I24: 20 | J24: 1.2 | L24: =K24-(SUM(N24:Y24)) -> 0 | M24: =IF(L24<0,"ATENÇÃO","OK") -> OK | N24: 0 | O24: 0 | P24: 0 | Q24: 0 | R24: 0 | S24: 0 | T24: 0 | U24: 0 | V24: 0 | W24: 0 | X24: 0 | Y24: 0
C25: 22 | D25: Adesivo em vinil transparente para vidro, impressão digital 4x0 cores, resolução mínima 300 dpi's e 26 a 30 g/m² de gramatura mínima de cola; acabamento corte reto. | E25: 339039.63 | F25: 5 X 20 cm | G25: Unidade | I25: 20 | J25: 1.5 | L25: =K25-(SUM(N25:Y25)) -> 0 | M25: =IF(L25<0,"ATENÇÃO","OK") -> OK | N25: 0 | O25: 0 | P25: 0 | Q25: 0 | R25: 0 | S25: 0 | T25: 0 | U25: 0 | V25: 0 | W25: 0 | X25: 0 | Y25: 0
C26: 23 | E26: 339039.63 | F26: 10 X 25 cm | G26: Unidade | I26: 20 | J26: 3.75 | L26: =K26-(SUM(N26:Y26)) -> 0 | M26: =IF(L26<0,"ATENÇÃO","OK") -> OK | N26: 0 | O26: 0 | P26: 0 | Q26: 0 | R26: 0 | S26: 0 | T26: 0 | U26: 0 | V26: 0 | W26: 0 | X26: 0 | Y26: 0
C27: 24 | D27: Adesivo em vinil resistente a água e cloro, próprio para áreas com piscinas, impressão digital 4x0 cores, resolução mínima 300 dpi's e 26 a 30 g/m2 de gramatura mínima de cola; acabamento corte reto. | E27: 339039.63 | F27: 5 X 20 cm | G27: Unidade | I27: 20 | J27: 1.5 | L27: =K27-(SUM(N27:Y27)) -> 0 | M27: =IF(L27<0,"ATENÇÃO","OK") -> OK | N27: 0 | O27: 0 | P27: 0 | Q27: 0 | R27: 0 | S27: 0 | T27: 0 | U27: 0 | V27: 0 | W27: 0 | X27: 0 | Y27: 0
C28: 25 | E28: 339039.63 | F28: 10 X 25 cm | G28: Unidade | I28: 20 | J28: 3.75 | L28: =K28-(SUM(N28:Y28)) -> 0 | M28: =IF(L28<0,"ATENÇÃO","OK") -> OK | N28: 0 | O28: 0 | P28: 0 | Q28: 0 | R28: 0 | S28: 0 | T28: 0 | U28: 0 | V28: 0 | W28: 0 | X28: 0 | Y28: 0
C29: 26 | D29: Adesivo recortado em vinil colorido (cores diversas a escolher), para adesivagem. | E29: 339039.63 | F29: 90 cm x metro linear | G29: metro | I29: 20 | J29: 57.86 | L29: =K29-(SUM(N29:Y29)) -> 0 | M29: =IF(L29<0,"ATENÇÃO","OK") -> OK | N29: 0 | O29: 0 | P29: 0 | Q29: 0 | R29: 0 | S29: 0 | T29: 0 | U29: 0 | V29: 0 | W29: 0 | X29: 0 | Y29: 0
C30: 27 | D30: Adesivo em vinil, impressão digital 4x0 cores, resolução mínima 300 dpi's e 26 a 30 g/m² de gramatura mínima de cola; acabamento meio corte especial com faca. | E30: 339039.63 | F30: 75 cm X metro linear | G30: metro | I30: 20 | J30: 150 | L30: =K30-(SUM(N30:Y30)) -> 0 | M30: =IF(L30<0,"ATENÇÃO","OK") -> OK | N30: 0 | O30: 0 | P30: 0 | Q30: 0 | R30: 0 | S30: 0 | T30: 0 | U30: 0 | V30: 0 | W30: 0 | X30: 0 | Y30: 0
C31: 28 | D31: Adesivo em vinil resistente a água e cloro, próprio para áreas com piscinas, impressão digital 4x0 cores, resolução mínima 300 dpi's e 26 a 30 g/m2 de gramatura mínima de cola; acabamento corte reto. | E31: 339039.63 | F31: 15 cm X metro linear | G31: metro | I31: 20 | J31: 54 | L31: =K31-(SUM(N31:Y31)) -> 0 | M31: =IF(L31<0,"ATENÇÃO","OK") -> OK | N31: 0 | O31: 0 | P31: 0 | Q31: 0 | R31: 0 | S31: 0 | T31: 0 | U31: 0 | V31: 0 | W31: 0 | X31: 0 | Y31: 0
A32: PRINTSTUDIO LTDA - ME | B32: 7 | C32: 29 | D32: Adesivo com impressão digital em caixa metálica de plataforma elevatória ("elevador"); impressão digital em material vinil autoadesivo; acabamento em laminação fosca; instalado; inclui adequação de layout; sugere-se visita técnica para conhecimento. | E32: 339039.63 | F32: m² | G32: metro² | I32: 20 | J32: 333.33 | L32: =K32-(SUM(N32:Y32)) -> 0 | M32: =IF(L32<0,"ATENÇÃO","OK") -> OK | N32: 0 | O32: 0 | P32: 0 | Q32: 0 | R32: 0 | S32: 0 | T32: 0 | U32: 0 | V32: 0 | W32: 0 | X32: 0 | Y32: 0
A33: PRINTSTUDIO LTDA - ME | B33: 8 | C33: 30 | D33: Crachá em cartão PVC laminado branco, impressão digital 4x1 cores, resolução mínima 300 dpi's e espessura de 0,70 a 0,80mm cantos arredondados, com perfuração entre 15 a 20mm compatível com grampo de metal tipo jacaré do cordão. | E33: 339039.63 | F33: 5,4 X 8,60 cm | G33: Unidade | I33: 20 | J33: 3.26 | K33: 150 | L33: =K33-(SUM(N33:Y33)) -> 150 | M33: =IF(L33<0,"ATENÇÃO","OK") -> OK | N33: 0 | O33: 0 | P33: 0 | Q33: 0 | R33: 0 | S33: 0 | T33: 0 | U33: 0 | V33: 0 | W33: 0 | X33: 0 | Y33: 0
C34: 31 | D34: Cordão para crachá personalizado em impressão digital, com grampo de metal tipo jacaré, em 100% poliéster. | E34: 339039.63 | F34: 1,3 a 1,6 X 80 a 90 cm | G34: Unidade | I34: 20 | J34: 5 | K34: 150 | L34: =K34-(SUM(N34:Y34)) -> 150 | M34: =IF(L34<0,"ATENÇÃO","OK") -> OK | N34: 0 | O34: 0 | P34: 0 | Q34: 0 | R34: 0 | S34: 0 | T34: 0 | U34: 0 | V34: 0 | W34: 0 | X34: 0 | Y34: 0
A35: AJPLOT INFORMÁTICA LTDA - ME | B35: 9 | C35: 32 | D35: Placa em PVC branco, impressão digital 4x0 cores, resolução mínima 300 dpi's e espessura de 2mm, com fixação dupla face de espuma acrílica para ambiente externo de no mínimo 20mm de largura e de no mínimo 10 cm de tamanho para cada 150g de placa. | E35: 339039.63 | F35: 200 X 120 cm | G35: Unidade | I35: 20 | J35: 401.52 | L35: =K35-(SUM(N35:Y35)) -> 0 | M35: =IF(L35<0,"ATENÇÃO","OK") -> OK | N35: 0 | O35: 0 | P35: 0 | Q35: 0 | R35: 0 | S35: 0 | T35: 0 | U35: 0 | V35: 0 | W35: 0 | X35: 0 | Y35: 0
C36: 33 | D36: Placa em PVC branco, impressão digital 4x0 cores, resolução mínima 300 dpi's e espessura de 2mm, com fixação dupla face de espuma acrílica para ambiente interno de no mínimo 20mm de largura e de no mínimo 10 cm de tamanho para cada 150g de placa. | E36: 339039.63 | F36: 25 x 10 cm | G36: Unidade | I36: 20 | J36: 4 | L36: =K36-(SUM(N36:Y36)) -> 0 | M36: =IF(L36<0,"ATENÇÃO","OK") -> OK | N36: 0 | O36: 0 | P36: 0 | Q36: 0 | R36: 0 | S36: 0 | T36: 0 | U36: 0 | V36: 0 | W36: 0 | X36: 0 | Y36: 0
C37: 34 | D37: Placa em PVC branco em formato "V" para ser apoiado sobre balção, impressão digital 4x0 cores, resolução mínima 300 dpi's e espessura de 2mm. | E37: 339039.63 | F37: 25 x 15 cm(plano) | G37: Unidade | I37: 20 | J37: 39.99 | L37: =K37-(SUM(N37:Y37)) -> 0 | M37: =IF(L37<0,"ATENÇÃO","OK") -> OK | N37: 0 | O37: 0 | P37: 0 | Q37: 0 | R37: 0 | S37: 0 | T37: 0 | U37: 0 | V37: 0 | W37: 0 | X37: 0 | Y37: 0
A38: PRINTSTUDIO LTDA - ME | B38: 10 | C38: 35 | D38: Plotagem, impressão 4x0 cores, em papel sulfite de 75 g/m2 de gramatura mínima. | E38: 339039.63 | F38: Formato A0 ("A" Zero - 84,1 X 118,9cm) | G38: Unidade | I38: 20 | J38: 4.4 | L38: =K38-(SUM(N38:Y38)) -> 0 | M38: =IF(L38<0,"ATENÇÃO","OK") -> OK | N38: 0 | O38: 0 | P38: 0 | Q38: 0 | R38: 0 | S38: 0 | T38: 0 | U38: 0 | V38: 0 | W38: 0 | X38: 0 | Y38: 0
C39: 36 | D39: Plotagem, impressão monocromática, em papel sulfite de 75 g/m2 de gramatura mínima. | E39: 339039.63 | F39: Formato A0 ("A" Zero - 84,1 X 118,9cm) | G39: Unidade | I39: 20 | J39: 5.96 | L39: =K39-(SUM(N39:Y39)) -> 0 | M39: =IF(L39<0,"ATENÇÃO","OK") -> OK | N39: 0 | O39: 0 | P39: 0 | Q39: 0 | R39: 0 | S39: 0 | T39: 0 | U39: 0 | V39: 0 | W39: 0 | X39: 0 | Y39: 0

Sheet REIT_SECOM
A1: PROCESSO: 0358/2014/UDESC | D1: OBJETO: Serviços Gráficos | K1: VIGÊNCIA DA ATA: 09/05/2014 até 09/05/2015 | N1: AF/OS nº xxxx/2014 Qtde. DT | O1: AF/OS nº xxxx/2014 Qtde. DT | P1: AF/OS nº xxxx/2014 Qtde. DT | Q1: AF/OS nº xxxx/2014 Qtde. DT | R1: AF/OS nº xxxx/2014 Qtde. DT | S1: AF/OS nº xxxx/2014 Qtde. DT | T1: AF/OS nº xxxx/2014 Qtde. DT | U1: AF/OS nº xxxx/2014 Qtde. DT | V1: AF/OS nº xxxx/2014 Qtde. DT | W1: AF/OS nº xxxx/2014 Qtde. DT | X1: AF/OS nº xxxx/2014 Qtde. DT | Y1: AF/OS nº xxxx/2014 Qtde. DT
A2: CENTRO PARTICIPANTE: REITORIA - SECOM
A3: FORNECEDOR | B3: LOTE | C3: ITEM | D3: PRODUTO - CARACTERÍSTICAS MÍNIMAS | E3: ELEMENTO | F3: Dimensões | G3: Unidade | H3: Entrega (Dias) | I3: Pagto. (Dias) | J3: Preço UNITÁRIO (R$) | K3: Qtde LICITADA | L3: Saldo / Automático | M3: ALERTA | N3: ...../...../...... | O3: ...../...../...... | P3: ...../...../...... | Q3: ...../...../...... | R3: ...../...../...... | S3: ...../...../...... | T3: ...../...../...... | U3: ...../...../...... | V3: ...../...../...... | W3: ...../...../...... | X3: ...../...../...... | Y3: ...../...../......
A4: AJPLOT INFORMÁTICA LTDA - ME | B4: 1 | C4: 1 | D4: Banner em lona, impressão digital 4x0 cores, resolução mínima 720 dpi's e 280 g/m² de gramatura mínima; e suporte: 1) em madeira em duas das menores extremidades e acabamento com ponteira de PVC (grampeada) e corda trançada de no mínimo 4mm e de resistência suficiente e compatível com o banner; ou 2) com ilhóses dispostos de 20 em 20 cm, em ferro ou alumínio e de diâmetro compatível com a corda utilizada - corda trançada de no mínimo 4mm e de resistência suficiente e compatível com o banner. | E4: 339039.63 | F4: 50 X 70 cm | G4: Unidade | I4: 20 | J4: 7 | L4: =K4-(SUM(N4:Y4)) -> 0 | M4: =IF(L4<0,"ATENÇÃO","OK") -> OK | N4: 0 | O4: 0 | P4: 0 | Q4: 0 | R4: 0 | S4: 0 | T4: 0 | U4: 0 | V4: 0 | W4: 0 | X4: 0 | Y4: 0
C5: 2 | E5: 339039.63 | F5: 90 X 150 cm | G5: Unidade | I5: 20 | J5: 27 | L5: =K5-(SUM(N5:Y5)) -> 0 | M5: =IF(L5<0,"ATENÇÃO","OK") -> OK | N5: 0 | O5: 0 | P5: 0 | Q5: 0 | R5: 0 | S5: 0 | T5: 0 | U5: 0 | V5: 0 | W5: 0 | X5: 0 | Y5: 0
C6: 3 | E6: 339039.63 | F6: 90 X 120 cm | G6: Unidade | I6: 20 | J6: 48.6 | K6: 20 | L6: =K6-(SUM(N6:Y6)) -> 20 | M6: =IF(L6<0,"ATENÇÃO","OK") -> OK | N6: 0 | O6: 0 | P6: 0 | Q6: 0 | R6: 0 | S6: 0 | T6: 0 | U6: 0 | V6: 0 | W6: 0 | X6: 0 | Y6: 0
C7: 4 | E7: 339039.63 | F7: 110 X 150 cm | G7: Unidade | I7: 20 | J7: 33 | L7: =K7-(SUM(N7:Y7)) -> 0 | M7: =IF(L7<0,"ATENÇÃO","OK") -> OK | N7: 0 | O7: 0 | P7: 0 | Q7: 0 | R7: 0 | S7: 0 | T7: 0 | U7: 0 | V7: 0 | W7: 0 | X7: 0 | Y7: 0
C8: 5 | E8: 339039.63 | F8: 130 X 180 cm | G8: Unidade | I8: 20 | J8: 42.13 | L8: =K8-(SUM(N8:Y8)) -> 0 | M8: =IF(L8<0,"ATENÇÃO","OK") -> OK | N8: 0 | O8: 0 | P8: 0 | Q8: 0 | R8: 0 | S8: 0 | T8: 0 | U8: 0 | V8: 0 | W8: 0 | X8: 0 | Y8: 0
C9: 6 | E9: 339039.63 | F9: 50 X 300 cm | G9: Unidade | I9: 20 | J9: 27 | L9: =K9-(SUM(N9:Y9)) -> 0 | M9: =IF(L9<0,"ATENÇÃO","OK") -> OK | N9: 0 | O9: 0 | P9: 0 | Q9: 0 | R9: 0 | S9: 0 | T9: 0 | U9: 0 | V9: 0 | W9: 0 | X9: 0 | Y9: 0
C10: 7 | E10: 339039.63 | F10: 70 X 400 cm | G10: Unidade | I10: 20 | J10: 56 | K10: 20 | L10: =K10-(SUM(N10:Y10)) -> 20 | M10: =IF(L10<0,"ATENÇÃO","OK") -> OK | N10: 0 | O10: 0 | P10: 0 | Q10: 0 | R10: 0 | S10: 0 | T10: 0 | U10: 0 | V10: 0 | W10: 0 | X10: 0 | Y10: 0
C11: 8 | E11: 339039.63 | F11: 140 cm X metro linear | G11: metro | I11: 20 | J11: 24.63 | L11: =K11-(SUM(N11:Y11)) -> 0 | M11: =IF(L11<0,"ATENÇÃO","OK") -> OK | N11: 0 | O11: 0 | P11: 0 | Q11: 0 | R11: 0 | S11: 0 | T11: 0 | U11: 0 | V11: 0 | W11: 0 | X11: 0 | Y11: 0
C12: 9 | E12: 339039.63 | F12: 80 X 110 cm | G12: Unidade | I12: 20 | J12: 17.58 | L12: =K12-(SUM(N12:Y12)) -> 0 | M12: =IF(L12<0,"ATENÇÃO","OK") -> OK | N12: 0 | O12: 0 | P12: 0 | Q12: 0 | R12: 0 | S12: 0 | T12: 0 | U12: 0 | V12: 0 | W12: 0 | X12: 0 | Y12: 0
C13: 10 | E13: 339039.63 | F13: 80 X 120 cm | G13: Unidade | I13: 20 | J13: 19.2 | L13: =K13-(SUM(N13:Y13)) -> 0 | M13: =IF(L13<0,"ATENÇÃO","OK") -> OK | N13: 0 | O13: 0 | P13: 0 | Q13: 0 | R13: 0 | S13: 0 | T13: 0 | U13: 0 | V13: 0 | W13: 0 | X13: 0 | Y13: 0
C14: 11 | E14: 339039.63 | F14: 90 X 110 cm | G14: Unidade | I14: 20 | J14: 19.8 | L14: =K14-(SUM(N14:Y14)) -> 0 | M14: =IF(L14<0,"ATENÇÃO","OK") -> OK | N14: 0 | O14: 0 | P14: 0 | Q14: 0 | R14: 0 | S14: 0 | T14: 0 | U14: 0 | V14: 0 | W14: 0 | X14: 0 | Y14: 0
C15: 12 | D15: Frontlight em lona, impressão digital 4x0 cores, resolução mínima 1200 dpi's e 440 g/m² de gramatura mínima; fixado com ilhóses dispostos de 20 em 20 cm, em ferro ou alumínio e de diâmetro compatível com a corda utilizada - corda trançada de no mínimo 4mm e de resistência suficiente e compatível com o frontlight. | E15: 339039.63 | F15: 320 cm X metro linear | G15: metro | I15: 20 | J15: 64 | L15: =K15-(SUM(N15:Y15)) -> 0 | M15: =IF(L15<0,"ATENÇÃO","OK") -> OK | N15: 0 | O15: 0 | P15: 0 | Q15: 0 | R15: 0 | S15: 0 | T15: 0 | U15: 0 | V15: 0 | W15: 0 | X15: 0 | Y15: 0
C16: 13 | E16: 339039.63 | F16: 650 X 150 cm | G16: Unidade | I16: 20 | J16: 195 | L16: =K16-(SUM(N16:Y16)) -> 0 | M16: =IF(L16<0,"ATENÇÃO","OK") -> OK | N16: 0 | O16: 0 | P16: 0 | Q16: 0 | R16: 0 | S16: 0 | T16: 0 | U16: 0 | V16: 0 | W16: 0 | X16: 0 | Y16: 0
C17: 14 | E17: 339039.63 | F17: 250 X 120 cm | G17: Unidade | I17: 20 | J17: 60 | L17: =K17-(SUM(N17:Y17)) -> 0 | M17: =IF(L17<0,"ATENÇÃO","OK") -> OK | N17: 0 | O17: 0 | P17: 0 | Q17: 0 | R17: 0 | S17: 0 | T17: 0 | U17: 0 | V17: 0 | W17: 0 | X17: 0 | Y17: 0
A18: PRINTSTUDIO LTDA - ME | B18: 2 | C18: 15 | D18: Banner em papel fotográfico com laminação brilhante, resolução mínima de 600 dpi's e 280g/m² de gramatura mínima, suporte em plástico em duas das menores extremidades e corda de no mínimo 1mm e de resistência suficiente e compatível com o banner. | E18: 339039.63 | F18: 90 cm X metro linear | G18: metro | I18: 20 | J18: 75 | L18: =K18-(SUM(N18:Y18)) -> 0 | M18: =IF(L18<0,"ATENÇÃO","OK") -> OK | N18: 0 | O18: 0 | P18: 0 | Q18: 0 | R18: 0 | S18: 0 | T18: 0 | U18: 0 | V18: 0 | W18: 0 | X18: 0 | Y18: 0
A19: PRINTSTUDIO LTDA - ME | B19: 3 | C19: 16 | D19: Banner em tecido. Impressão digital em tecido. Policromia: 4 x 0 cores. Resolução mínima de 1200 dpi´s. Acabamento em madeira (cabo redondo) nas duas extremidades menores, sendo encaixado internamente na costura do tecido para fechamento escondendo o varão, com ponteiras em PVC e corda trançada de no mínimo 4 mm e com resistência suficiente para sustentar o banner de tecido. | E19: 339039.63 | F19: 90 cm x metro linear | G19: metro | I19: 20 | J19: 59.75 | L19: =K19-(SUM(N19:Y19)) -> 0 | M19: =IF(L19<0,"ATENÇÃO","OK") -> OK | N19: 0 | O19: 0 | P19: 0 | Q19: 0 | R19: 0 | S19: 0 | T19: 0 | U19: 0 | V19: 0 | W19: 0 | X19: 0 | Y19: 0
A20: JUNKES & BORBA LTDA - EPP | B20: 4 | C20: 17 | D20: Frontlight em lona, impressão digital 4x0 cores, resolução mínima 1200 dpi's e 440 g/m² de gramatura mínima; fixado com ilhóses dispostos de 20 em 20 cm, em ferro ou alumínio e de diâmetro compatível com a corda utilizada - corda trançada de no mínimo 4mm e de resistência suficiente e compatível com o frontlight. INSTALADO E RETIRADA. | E20: 339039.63 | F20: 255 X 275 cm | G20: Unidade | I20: 20 | J20: 538.33 | K20: 8 | L20: =K20-(SUM(N20:Y20)) -> 8 | M20: =IF(L20<0,"ATENÇÃO","OK") -> OK | N20: 0 | O20: 0 | P20: 0 | Q20: 0 | R20: 0 | S20: 0 | T20: 0 | U20: 0 | V20: 0 | W20: 0 | X20: 0 | Y20: 0
C21: 18 | E21: 339039.63 | F21: 295 X 875 cm | G21: Unidade | I21: 20 | J21: 1670.8 | K21: 16 | L21: =K21-(SUM(N21:Y21)) -> 16 | M21: =IF(L21<0,"ATENÇÃO","OK") -> OK | N21: 0 | O21: 0 | P21: 0 | Q21: 0 | R21: 0 | S21: 0 | T21: 0 | U21: 0 | V21: 0 | W21: 0 | X21: 0 | Y21: 0
C22: 19 | E22: 339039.63 | F22: 310 X 914 cm | G22: Unidade | I22: 20 | J22: 1824.53 | K22: 54 | L22: =K22-(SUM(N22:Y22)) -> 54 | M22: =IF(L22<0,"ATENÇÃO","OK") -> OK | N22: 0 | O22: 0 | P22: 0 | Q22: 0 | R22: 0 | S22: 0 | T22: 0 | U22: 0 | V22: 0 | W22: 0 | X22: 0 | Y22: 0
A23: MIXPLAC COMUNICAÇÃO VISUAL LTDA – ME | B23: 5 | C23: 20 | D23: Adesivo perfurado para vidro traseiro de automóveis, impressão digital 4x0 cores, resolução mínima 720 dpi's; com no mínimo 40% de transmissão luminosa (nos termos da RES 254/2007 CONTRAN). | E23: 339039.63 | F23: 35 X 90 cm | G23: Unidade | I23: 20 | J23: 15.16 | K23: 600 | L23: =K23-(SUM(N23:Y23)) -> 600 | M23: =IF(L23<0,"ATENÇÃO","OK") -> OK | N23: 0 | O23: 0 | P23: 0 | Q23: 0 | R23: 0 | S23: 0 | T23: 0 | U23: 0 | V23: 0 | W23: 0 | X23: 0 | Y23: 0
A24: AJPLOT INFORMÁTICA LTDA - ME | B24: 6 | C24: 21 | D24: Adesivo em vinil, impressão digital 4x0 cores, resolução mínima 300 dpi's e 26 a 30 g/m² de gramatura mínima de cola; acabamento meio corte especial com faca. | E24: 339039.63 | F24: 7 X 9 cm | G24: Unidade | I24: 20 | J24: 1.2 | L24: =K24-(SUM(N24:Y24)) -> 0 | M24: =IF(L24<0,"ATENÇÃO","OK") -> OK | N24: 0 | O24: 0 | P24: 0 | Q24: 0 | R24: 0 | S24: 0 | T24: 0 | U24: 0 | V24: 0 | W24: 0 | X24: 0 | Y24: 0
C25: 22 | D25: Adesivo em vinil transparente para vidro, impressão digital 4x0 cores, resolução mínima 300 dpi's e 26 a 30 g/m² de gramatura mínima de cola; acabamento corte reto. | E25: 339039.63 | F25: 5 X 20 cm | G25: Unidade | I25: 20 | J25: 1.5 | L25: =K25-(SUM(N25:Y25)) -> 0 | M25: =IF(L25<0,"ATENÇÃO","OK") -> OK | N25: 0 | O25: 0 | P25: 0 | Q25: 0 | R25: 0 | S25: 0 | T25: 0 | U25: 0 | V25: 0 | W25: 0 | X25: 0 | Y25: 0
C26: 23 | E26: 339039.63 | F26: 10 X 25 cm | G26: Unidade | I26: 20 | J26: 3.75 | K26: 2000 | L26: =K26-(SUM(N26:Y26)) -> 2000 | M26: =IF(L26<0,"ATENÇÃO","OK") -> OK | N26: 0 | O26: 0 | P26: 0 | Q26: 0 | R26: 0 | S26: 0 | T26: 0 | U26: 0 | V26: 0 | W26: 0 | X26: 0 | Y26: 0
C27: 24 | D27: Adesivo em vinil resistente a água e cloro, próprio para áreas com piscinas, impressão digital 4x0 cores, resolução mínima 300 dpi's e 26 a 30 g/m2 de gramatura mínima de cola; acabamento corte reto. | E27: 339039.63 | F27: 5 X 20 cm | G27: Unidade | I27: 20 | J27: 1.5 | L27: =K27-(SUM(N27:Y27)) -> 0 | M27: =IF(L27<0,"ATENÇÃO","OK") -> OK | N27: 0 | O27: 0 | P27: 0 | Q27: 0 | R27: 0 | S27: 0 | T27: 0 | U27: 0 | V27: 0 | W27: 0 | X27: 0 | Y27: 0
C28: 25 | E28: 339039.63 | F28: 10 X 25 cm | G28: Unidade | I28: 20 | J28: 3.75 | L28: =K28-(SUM(N28:Y28)) -> 0 | M28: =IF(L28<0,"ATENÇÃO","OK") -> OK | N28: 0 | O28: 0 | P28: 0 | Q28: 0 | R28: 0 | S28: 0 | T28: 0 | U28: 0 | V28: 0 | W28: 0 | X28: 0 | Y28: 0
C29: 26 | D29: Adesivo recortado em vinil colorido (cores diversas a escolher), para adesivagem. | E29: 339039.63 | F29: 90 cm x metro linear | G29: metro | I29: 20 | J29: 57.86 | L29: =K29-(SUM(N29:Y29)) -> 0 | M29: =IF(L29<0,"ATENÇÃO","OK") -> OK | N29: 0 | O29: 0 | P29: 0 | Q29: 0 | R29: 0 | S29: 0 | T29: 0 | U29: 0 | V29: 0 | W29: 0 | X29: 0 | Y29: 0
C30: 27 | D30: Adesivo em vinil, impressão digital 4x0 cores, resolução mínima 300 dpi's e 26 a 30 g/m² de gramatura mínima de cola; acabamento meio corte especial com faca. | E30: 339039.63 | F30: 75 cm X metro linear | G30: metro | I30: 20 | J30: 150 | L30: =K30-(SUM(N30:Y30)) -> 0 | M30: =IF(L30<0,"ATENÇÃO","OK") -> OK | N30: 0 | O30: 0 | P30: 0 | Q30: 0 | R30: 0 | S30: 0 | T30: 0 | U30: 0 | V30: 0 | W30: 0 | X30: 0 | Y30: 0
C31: 28 | D31: Adesivo em vinil resistente a água e cloro, próprio para áreas com piscinas, impressão digital 4x0 cores, resolução mínima 300 dpi's e 26 a 30 g/m2 de gramatura mínima de cola; acabamento corte reto. | E31: 339039.63 | F31: 15 cm X metro linear | G31: metro | I31: 20 | J31: 54 | L31: =K31-(SUM(N31:Y31)) -> 0 | M31: =IF(L31<0,"ATENÇÃO","OK") -> OK | N31: 0 | O31: 0 | P31: 0 | Q31: 0 | R31: 0 | S31: 0 | T31: 0 | U31: 0 | V31: 0 | W31: 0 | X31: 0 | Y31: 0
A32: PRINTSTUDIO LTDA - ME | B32: 7 | C32: 29 | D32: Adesivo com impressão digital em caixa metálica de plataforma elevatória ("elevador"); impressão digital em material vinil autoadesivo; acabamento em laminação fosca; instalado; inclui adequação de layout; sugere-se visita técnica para conhecimento. | E32: 339039.63 | F32: m² | G32: metro² | I32: 20 | J32: 333.33 | L32: =K32-(SUM(N32:Y32)) -> 0 | M32: =IF(L32<0,"ATENÇÃO","OK") -> OK | N32: 0 | O32: 0 | P32: 0 | Q32: 0 | R32: 0 | S32: 0 | T32: 0 | U32: 0 | V32: 0 | W32: 0 | X32: 0 | Y32: 0
A33: PRINTSTUDIO LTDA - ME | B33: 8 | C33: 30 | D33: Crachá em cartão PVC laminado branco, impressão digital 4x1 cores, resolução mínima 300 dpi's e espessura de 0,70 a 0,80mm cantos arredondados, com perfuração entre 15 a 20mm compatível com grampo de metal tipo jacaré do cordão. | E33: 339039.63 | F33: 5,4 X 8,60 cm | G33: Unidade | I33: 20 | J33: 3.26 | L33: =K33-(SUM(N33:Y33)) -> 0 | M33: =IF(L33<0,"ATENÇÃO","OK") -> OK | N33: 0 | O33: 0 | P33: 0 | Q33: 0 | R33: 0 | S33: 0 | T33: 0 | U33: 0 | V33: 0 | W33: 0 | X33: 0 | Y33: 0
C34: 31 | D34: Cordão para crachá personalizado em impressão digital, com grampo de metal tipo jacaré, em 100% poliéster. | E34: 339039.63 | F34: 1,3 a 1,6 X 80 a 90 cm | G34: Unidade | I34: 20 | J34: 5 | L34: =K34-(SUM(N34:Y34)) -> 0 | M34: =IF(L34<0,"ATENÇÃO","OK") -> OK | N34: 0 | O34: 0 | P34: 0 | Q34: 0 | R34: 0 | S34: 0 | T34: 0 | U34: 0 | V34: 0 | W34: 0 | X34: 0 | Y34: 0
A35: AJPLOT INFORMÁTICA LTDA - ME | B35: 9 | C35: 32 | D35: Placa em PVC branco, impressão digital 4x0 cores, resolução mínima 300 dpi's e espessura de 2mm, com fixação dupla face de espuma acrílica para ambiente externo de no mínimo 20mm de largura e de no mínimo 10 cm de tamanho para cada 150g de placa. | E35: 339039.63 | F35: 200 X 120 cm | G35: Unidade | I35: 20 | J35: 401.52 | L35: =K35-(SUM(N35:Y35)) -> 0 | M35: =IF(L35<0,"ATENÇÃO","OK") -> OK | N35: 0 | O35: 0 | P35: 0 | Q35: 0 | R35: 0 | S35: 0 | T35: 0 | U35: 0 | V35: 0 | W35: 0 | X35: 0 | Y35: 0
C36: 33 | D36: Placa em PVC branco, impressão digital 4x0 cores, resolução mínima 300 dpi's e espessura de 2mm, com fixação dupla face de espuma acrílica para ambiente interno de no mínimo 20mm de largura e de no mínimo 10 cm de tamanho para cada 150g de placa. | E36: 339039.63 | F36: 25 x 10 cm | G36: Unidade | I36: 20 | J36: 4 | L36: =K36-(SUM(N36:Y36)) -> 0 | M36: =IF(L36<0,"ATENÇÃO","OK") -> OK | N36: 0 | O36: 0 | P36: 0 | Q36: 0 | R36: 0 | S36: 0 | T36: 0 | U36: 0 | V36: 0 | W36: 0 | X36: 0 | Y36: 0
C37: 34 | D37: Placa em PVC branco em formato "V" para ser apoiado sobre balção, impressão digital 4x0 cores, resolução mínima 300 dpi's e espessura de 2mm. | E37: 339039.63 | F37: 25 x 15 cm(plano) | G37: Unidade | I37: 20 | J37: 39.99 | L37: =K37-(SUM(N37:Y37)) -> 0 | M37: =IF(L37<0,"ATENÇÃO","OK") -> OK | N37: 0 | O37: 0 | P37: 0 | Q37: 0 | R37: 0 | S37: 0 | T37: 0 | U37: 0 | V37: 0 | W37: 0 | X37: 0 | Y37: 0
A38: PRINTSTUDIO LTDA - ME | B38: 10 | C38: 35 | D38: Plotagem, impressão 4x0 cores, em papel sulfite de 75 g/m2 de gramatura mínima. | E38: 339039.63 | F38: Formato A0 ("A" Zero - 84,1 X 118,9cm) | G38: Unidade | I38: 20 | J38: 4.4 | L38: =K38-(SUM(N38:Y38)) -> 0 | M38: =IF(L38<0,"ATENÇÃO","OK") -> OK | N38: 0 | O38: 0 | P38: 0 | Q38: 0 | R38: 0 | S38: 0 | T38: 0 | U38: 0 | V38: 0 | W38: 0 | X38: 0 | Y38: 0
C39: 36 | D39: Plotagem, impressão monocromática, em papel sulfite de 75 g/m2 de gramatura mínima. | E39: 339039.63 | F39: Formato A0 ("A" Zero - 84,1 X 118,9cm) | G39: Unidade | I39: 20 | J39: 5.96 | L39: =K39-(SUM(N39:Y39)) -> 0 | M39: =IF(L39<0,"ATENÇÃO","OK") -> OK | N39: 0 | O39: 0 | P39: 0 | Q39: 0 | R39: 0 | S39: 0 | T39: 0 | U39: 0 | V39: 0 | W39: 0 | X39: 0 | Y39: 0

Sheet REIT_PROEX_SEVEN
A1: PROCESSO: 0358/2014/UDESC | D1: OBJETO: Serviços Gráficos | K1: VIGÊNCIA DA ATA: 09/05/2014 até 09/05/2015 | N1: AF/OS nº 604/2014 Qtde. DT | O1: AF/OS nº xxxx/2014 Qtde. DT | P1: AF/OS nº xxxx/2014 Qtde. DT | Q1: AF/OS nº xxxx/2014 Qtde. DT | R1: AF/OS nº xxxx/2014 Qtde. DT | S1: AF/OS nº xxxx/2014 Qtde. DT | T1: AF/OS nº xxxx/2014 Qtde. DT | U1: AF/OS nº xxxx/2014 Qtde. DT | V1: AF/OS nº xxxx/2014 Qtde. DT | W1: AF/OS nº xxxx/2014 Qtde. DT | X1: AF/OS nº xxxx/2014 Qtde. DT | Y1: AF/OS nº xxxx/2014 Qtde. DT
A2: CENTRO PARTICIPANTE: REITORIA - PROEX - SEVEN
A3: FORNECEDOR | B3: LOTE | C3: ITEM | D3: PRODUTO - CARACTERÍSTICAS MÍNIMAS | E3: ELEMENTO | F3: Dimensões | G3: Unidade | H3: Entrega (Dias) | I3: Pagto. (Dias) | J3: Preço UNITÁRIO (R$) | K3: Qtde LICITADA | L3: Saldo / Automático | M3: ALERTA | N3: 41820 | O3: ...../...../...... | P3: ...../...../...... | Q3: ...../...../...... | R3: ...../...../...... | S3: ...../...../...... | T3: ...../...../...... | U3: ...../...../...... | V3: ...../...../...... | W3: ...../...../...... | X3: ...../...../...... | Y3: ...../...../......
A4: AJPLOT INFORMÁTICA LTDA - ME | B4: 1 | C4: 1 | D4: Banner em lona, impressão digital 4x0 cores, resolução mínima 720 dpi's e 280 g/m² de gramatura mínima; e suporte: 1) em madeira em duas das menores extremidades e acabamento com ponteira de PVC (grampeada) e corda trançada de no mínimo 4mm e de resistência suficiente e compatível com o banner; ou 2) com ilhóses dispostos de 20 em 20 cm, em ferro ou alumínio e de diâmetro compatível com a corda utilizada - corda trançada de no mínimo 4mm e de resistência suficiente e compatível com o banner. | E4: 339039.63 | F4: 50 X 70 cm | G4: Unidade | I4: 20 | J4: 7 | K4: 30 | L4: =K4-(SUM(N4:Y4)) -> 30 | M4: =IF(L4<0,"ATENÇÃO","OK") -> OK | N4: 0 | O4: 0 | P4: 0 | Q4: 0 | R4: 0 | S4: 0 | T4: 0 | U4: 0 | V4: 0 | W4: 0 | X4: 0 | Y4: 0
C5: 2 | E5: 339039.63 | F5: 90 X 150 cm | G5: Unidade | I5: 20 | J5: 27 | L5: =K5-(SUM(N5:Y5)) -> 0 | M5: =IF(L5<0,"ATENÇÃO","OK") -> OK | N5: 0 | O5: 0 | P5: 0 | Q5: 0 | R5: 0 | S5: 0 | T5: 0 | U5: 0 | V5: 0 | W5: 0 | X5: 0 | Y5: 0
C6: 3 | E6: 339039.63 | F6: 90 X 120 cm | G6: Unidade | I6: 20 | J6: 48.6 | K6: 500 | L6: =K6-(SUM(N6:Y6)) -> 485 | M6: =IF(L6<0,"ATENÇÃO","OK") -> OK | N6: 15 | O6: 0 | P6: 0 | Q6: 0 | R6: 0 | S6: 0 | T6: 0 | U6: 0 | V6: 0 | W6: 0 | X6: 0 | Y6: 0
C7: 4 | E7: 339039.63 | F7: 110 X 150 cm | G7: Unidade | I7: 20 | J7: 33 | L7: =K7-(SUM(N7:Y7)) -> 0 | M7: =IF(L7<0,"ATENÇÃO","OK") -> OK | N7: 0 | O7: 0 | P7: 0 | Q7: 0 | R7: 0 | S7: 0 | T7: 0 | U7: 0 | V7: 0 | W7: 0 | X7: 0 | Y7: 0
C8: 5 | E8: 339039.63 | F8: 130 X 180 cm | G8: Unidade | I8: 20 | J8: 42.13 | L8: =K8-(SUM(N8:Y8)) -> 0 | M8: =IF(L8<0,"ATENÇÃO","OK") -> OK | N8: 0 | O8: 0 | P8: 0 | Q8: 0 | R8: 0 | S8: 0 | T8: 0 | U8: 0 | V8: 0 | W8: 0 | X8: 0 | Y8: 0
C9: 6 | E9: 339039.63 | F9: 50 X 300 cm | G9: Unidade | I9: 20 | J9: 27 | L9: =K9-(SUM(N9:Y9)) -> 0 | M9: =IF(L9<0,"ATENÇÃO","OK") -> OK | N9: 0 | O9: 0 | P9: 0 | Q9: 0 | R9: 0 | S9: 0 | T9: 0 | U9: 0 | V9: 0 | W9: 0 | X9: 0 | Y9: 0
C10: 7 | E10: 339039.63 | F10: 70 X 400 cm | G10: Unidade | I10: 20 | J10: 56 | L10: =K10-(SUM(N10:Y10)) -> 0 | M10: =IF(L10<0,"ATENÇÃO","OK") -> OK | N10: 0 | O10: 0 | P10: 0 | Q10: 0 | R10: 0 | S10: 0 | T10: 0 | U10: 0 | V10: 0 | W10: 0 | X10: 0 | Y10: 0
C11: 8 | E11: 339039.63 | F11: 140 cm X metro linear | G11: metro | I11: 20 | J11: 24.63 | K11: 20 | L11: =K11-(SUM(N11:Y11)) -> 20 | M11: =IF(L11<0,"ATENÇÃO","OK") -> OK | N11: 0 | O11: 0 | P11: 0 | Q11: 0 | R11: 0 | S11: 0 | T11: 0 | U11: 0 | V11: 0 | W11: 0 | X11: 0 | Y11: 0
C12: 9 | E12: 339039.63 | F12: 80 X 110 cm | G12: Unidade | I12: 20 | J12: 17.58 | L12: =K12-(SUM(N12:Y12)) -> 0 | M12: =IF(L12<0,"ATENÇÃO","OK") -> OK | N12: 0 | O12: 0 | P12: 0 | Q12: 0 | R12: 0 | S12: 0 | T12: 0 | U12: 0 | V12: 0 | W12: 0 | X12: 0 | Y12: 0
C13: 10 | E13: 339039.63 | F13: 80 X 120 cm | G13: Unidade | I13: 20 | J13: 19.2 | L13: =K13-(SUM(N13:Y13)) -> 0 | M13: =IF(L13<0,"ATENÇÃO","OK") -> OK | N13: 0 | O13: 0 | P13: 0 | Q13: 0 | R13: 0 | S13: 0 | T13: 0 | U13: 0 | V13: 0 | W13: 0 | X13: 0 | Y13: 0
C14: 11 | E14: 339039.63 | F14: 90 X 110 cm | G14: Unidade | I14: 20 | J14: 19.8 | L14: =K14-(SUM(N14:Y14)) -> 0 | M14: =IF(L14<0,"ATENÇÃO","OK") -> OK | N14: 0 | O14: 0 | P14: 0 | Q14: 0 | R14: 0 | S14: 0 | T14: 0 | U14: 0 | V14: 0 | W14: 0 | X14: 0 | Y14: 0
C15: 12 | D15: Frontlight em lona, impressão digital 4x0 cores, resolução mínima 1200 dpi's e 440 g/m² de gramatura mínima; fixado com ilhóses dispostos de 20 em 20 cm, em ferro ou alumínio e de diâmetro compatível com a corda utilizada - corda trançada de no mínimo 4mm e de resistência suficiente e compatível com o frontlight. | E15: 339039.63 | F15: 320 cm X metro linear | G15: metro | I15: 20 | J15: 64 | K15: 20 | L15: =K15-(SUM(N15:Y15)) -> 20 | M15: =IF(L15<0,"ATENÇÃO","OK") -> OK | N15: 0 | O15: 0 | P15: 0 | Q15: 0 | R15: 0 | S15: 0 | T15: 0 | U15: 0 | V15: 0 | W15: 0 | X15: 0 | Y15: 0
C16: 13 | E16: 339039.63 | F16: 650 X 150 cm | G16: Unidade | I16: 20 | J16: 195 | L16: =K16-(SUM(N16:Y16)) -> 0 | M16: =IF(L16<0,"ATENÇÃO","OK") -> OK | N16: 0 | O16: 0 | P16: 0 | Q16: 0 | R16: 0 | S16: 0 | T16: 0 | U16: 0 | V16: 0 | W16: 0 | X16: 0 | Y16: 0
C17: 14 | E17: 339039.63 | F17: 250 X 120 cm | G17: Unidade | I17: 20 | J17: 60 | L17: =K17-(SUM(N17:Y17)) -> 0 | M17: =IF(L17<0,"ATENÇÃO","OK") -> OK | N17: 0 | O17: 0 | P17: 0 | Q17: 0 | R17: 0 | S17: 0 | T17: 0 | U17: 0 | V17: 0 | W17: 0 | X17: 0 | Y17: 0
A18: PRINTSTUDIO LTDA - ME | B18: 2 | C18: 15 | D18: Banner em papel fotográfico com laminação brilhante, resolução mínima de 600 dpi's e 280g/m² de gramatura mínima, suporte em plástico em duas das menores extremidades e corda de no mínimo 1mm e de resistência suficiente e compatível com o banner. | E18: 339039.63 | F18: 90 cm X metro linear | G18: metro | I18: 20 | J18: 75 | L18: =K18-(SUM(N18:Y18)) -> 0 | M18: =IF(L18<0,"ATENÇÃO","OK") -> OK | N18: 0 | O18: 0 | P18: 0 | Q18: 0 | R18: 0 | S18: 0 | T18: 0 | U18: 0 | V18: 0 | W18: 0 | X18: 0 | Y18: 0
A19: PRINTSTUDIO LTDA - ME | B19: 3 | C19: 16 | D19: Banner em tecido. Impressão digital em tecido. Policromia: 4 x 0 cores. Resolução mínima de 1200 dpi´s. Acabamento em madeira (cabo redondo) nas duas extremidades menores, sendo encaixado internamente na costura do tecido para fechamento escondendo o varão, com ponteiras em PVC e corda trançada de no mínimo 4 mm e com resistência suficiente para sustentar o banner de tecido. | E19: 339039.63 | F19: 90 cm x metro linear | G19: metro | I19: 20 | J19: 59.75 | L19: =K19-(SUM(N19:Y19)) -> 0 | M19: =IF(L19<0,"ATENÇÃO","OK") -> OK | N19: 0 | O19: 0 | P19: 0 | Q19: 0 | R19: 0 | S19: 0 | T19: 0 | U19: 0 | V19: 0 | W19: 0 | X19: 0 | Y19: 0
A20: JUNKES & BORBA LTDA - EPP | B20: 4 | C20: 17 | D20: Frontlight em lona, impressão digital 4x0 cores, resolução mínima 1200 dpi's e 440 g/m² de gramatura mínima; fixado com ilhóses dispostos de 20 em 20 cm, em ferro ou alumínio e de diâmetro compatível com a corda utilizada - corda trançada de no mínimo 4mm e de resistência suficiente e compatível com o frontlight. INSTALADO E RETIRADA. | E20: 339039.63 | F20: 255 X 275 cm | G20: Unidade | I20: 20 | J20: 538.33 | L20: =K20-(SUM(N20:Y20)) -> 0 | M20: =IF(L20<0,"ATENÇÃO","OK") -> OK | N20: 0 | O20: 0 | P20: 0 | Q20: 0 | R20: 0 | S20: 0 | T20: 0 | U20: 0 | V20: 0 | W20: 0 | X20: 0 | Y20: 0
C21: 18 | E21: 339039.63 | F21: 295 X 875 cm | G21: Unidade | I21: 20 | J21: 1670.8 | L21: =K21-(SUM(N21:Y21)) -> 0 | M21: =IF(L21<0,"ATENÇÃO","OK") -> OK | N21: 0 | O21: 0 | P21: 0 | Q21: 0 | R21: 0 | S21: 0 | T21: 0 | U21: 0 | V21: 0 | W21: 0 | X21: 0 | Y21: 0
C22: 19 | E22: 339039.63 | F22: 310 X 914 cm | G22: Unidade | I22: 20 | J22: 1824.53 | L22: =K22-(SUM(N22:Y22)) -> 0 | M22: =IF(L22<0,"ATENÇÃO","OK") -> OK | N22: 0 | O22: 0 | P22: 0 | Q22: 0 | R22: 0 | S22: 0 | T22: 0 | U22: 0 | V22: 0 | W22: 0 | X22: 0 | Y22: 0
A23: MIXPLAC COMUNICAÇÃO VISUAL LTDA – ME | B23: 5 | C23: 20 | D23: Adesivo perfurado para vidro traseiro de automóveis, impressão digital 4x0 cores, resolução mínima 720 dpi's; com no mínimo 40% de transmissão luminosa (nos termos da RES 254/2007 CONTRAN). | E23: 339039.63 | F23: 35 X 90 cm | G23: Unidade | I23: 20 | J23: 15.16 | L23: =K23-(SUM(N23:Y23)) -> 0 | M23: =IF(L23<0,"ATENÇÃO","OK") -> OK | N23: 0 | O23: 0 | P23: 0 | Q23: 0 | R23: 0 | S23: 0 | T23: 0 | U23: 0 | V23: 0 | W23: 0 | X23: 0 | Y23: 0
A24: AJPLOT INFORMÁTICA LTDA - ME | B24: 6 | C24: 21 | D24: Adesivo em vinil, impressão digital 4x0 cores, resolução mínima 300 dpi's e 26 a 30 g/m² de gramatura mínima de cola; acabamento meio corte especial com faca. | E24: 339039.63 | F24: 7 X 9 cm | G24: Unidade | I24: 20 | J24: 1.2 | K24: 2500 | L24: =K24-(SUM(N24:Y24)) -> 2500 | M24: =IF(L24<0,"ATENÇÃO","OK") -> OK | N24: 0 | O24: 0 | P24: 0 | Q24: 0 | R24: 0 | S24: 0 | T24: 0 | U24: 0 | V24: 0 | W24: 0 | X24: 0 | Y24: 0
C25: 22 | D25: Adesivo em vinil transparente para vidro, impressão digital 4x0 cores, resolução mínima 300 dpi's e 26 a 30 g/m² de gramatura mínima de cola; acabamento corte reto. | E25: 339039.63 | F25: 5 X 20 cm | G25: Unidade | I25: 20 | J25: 1.5 | K25: 500 | L25: =K25-(SUM(N25:Y25)) -> 500 | M25: =IF(L25<0,"ATENÇÃO","OK") -> OK | N25: 0 | O25: 0 | P25: 0 | Q25: 0 | R25: 0 | S25: 0 | T25: 0 | U25: 0 | V25: 0 | W25: 0 | X25: 0 | Y25: 0
C26: 23 | E26: 339039.63 | F26: 10 X 25 cm | G26: Unidade | I26: 20 | J26: 3.75 | L26: =K26-(SUM(N26:Y26)) -> 0 | M26: =IF(L26<0,"ATENÇÃO","OK") -> OK | N26: 0 | O26: 0 | P26: 0 | Q26: 0 | R26: 0 | S26: 0 | T26: 0 | U26: 0 | V26: 0 | W26: 0 | X26: 0 | Y26: 0
C27: 24 | D27: Adesivo em vinil resistente a água e cloro, próprio para áreas com piscinas, impressão digital 4x0 cores, resolução mínima 300 dpi's e 26 a 30 g/m2 de gramatura mínima de cola; acabamento corte reto. | E27: 339039.63 | F27: 5 X 20 cm | G27: Unidade | I27: 20 | J27: 1.5 | L27: =K27-(SUM(N27:Y27)) -> 0 | M27: =IF(L27<0,"ATENÇÃO","OK") -> OK | N27: 0 | O27: 0 | P27: 0 | Q27: 0 | R27: 0 | S27: 0 | T27: 0 | U27: 0 | V27: 0 | W27: 0 | X27: 0 | Y27: 0
C28: 25 | E28: 339039.63 | F28: 10 X 25 cm | G28: Unidade | I28: 20 | J28: 3.75 | L28: =K28-(SUM(N28:Y28)) -> 0 | M28: =IF(L28<0,"ATENÇÃO","OK") -> OK | N28: 0 | O28: 0 | P28: 0 | Q28: 0 | R28: 0 | S28: 0 | T28: 0 | U28: 0 | V28: 0 | W28: 0 | X28: 0 | Y28: 0
C29: 26 | D29: Adesivo recortado em vinil colorido (cores diversas a escolher), para adesivagem. | E29: 339039.63 | F29: 90 cm x metro linear | G29: metro | I29: 20 | J29: 57.86 | L29: =K29-(SUM(N29:Y29)) -> 0 | M29: =IF(L29<0,"ATENÇÃO","OK") -> OK | N29: 0 | O29: 0 | P29: 0 | Q29: 0 | R29: 0 | S29: 0 | T29: 0 | U29: 0 | V29: 0 | W29: 0 | X29: 0 | Y29: 0
C30: 27 | D30: Adesivo em vinil, impressão digital 4x0 cores, resolução mínima 300 dpi's e 26 a 30 g/m² de gramatura mínima de cola; acabamento meio corte especial com faca. | E30: 339039.63 | F30: 75 cm X metro linear | G30: metro | I30: 20 | J30: 150 | L30: =K30-(SUM(N30:Y30)) -> 0 | M30: =IF(L30<0,"ATENÇÃO","OK") -> OK | N30: 0 | O30: 0 | P30: 0 | Q30: 0 | R30: 0 | S30: 0 | T30: 0 | U30: 0 | V30: 0 | W30: 0 | X30: 0 | Y30: 0
C31: 28 | D31: Adesivo em vinil resistente a água e cloro, próprio para áreas com piscinas, impressão digital 4x0 cores, resolução mínima 300 dpi's e 26 a 30 g/m2 de gramatura mínima de cola; acabamento corte reto. | E31: 339039.63 | F31: 15 cm X metro linear | G31: metro | I31: 20 | J31: 54 | L31: =K31-(SUM(N31:Y31)) -> 0 | M31: =IF(L31<0,"ATENÇÃO","OK") -> OK | N31: 0 | O31: 0 | P31: 0 | Q31: 0 | R31: 0 | S31: 0 | T31: 0 | U31: 0 | V31: 0 | W31: 0 | X31: 0 | Y31: 0
A32: PRINTSTUDIO LTDA - ME | B32: 7 | C32: 29 | D32: Adesivo com impressão digital em caixa metálica de plataforma elevatória ("elevador"); impressão digital em material vinil autoadesivo; acabamento em laminação fosca; instalado; inclui adequação de layout; sugere-se visita técnica para conhecimento. | E32: 339039.63 | F32: m² | G32: metro² | I32: 20 | J32: 333.33 | L32: =K32-(SUM(N32:Y32)) -> 0 | M32: =IF(L32<0,"ATENÇÃO","OK") -> OK | N32: 0 | O32: 0 | P32: 0 | Q32: 0 | R32: 0 | S32: 0 | T32: 0 | U32: 0 | V32: 0 | W32: 0 | X32: 0 | Y32: 0
A33: PRINTSTUDIO LTDA - ME | B33: 8 | C33: 30 | D33: Crachá em cartão PVC laminado branco, impressão digital 4x1 cores, resolução mínima 300 dpi's e espessura de 0,70 a 0,80mm cantos arredondados, com perfuração entre 15 a 20mm compatível com grampo de metal tipo jacaré do cordão. | E33: 339039.63 | F33: 5,4 X 8,60 cm | G33: Unidade | I33: 20 | J33: 3.26 | L33: =K33-(SUM(N33:Y33)) -> 0 | M33: =IF(L33<0,"ATENÇÃO","OK") -> OK | N33: 0 | O33: 0 | P33: 0 | Q33: 0 | R33: 0 | S33: 0 | T33: 0 | U33: 0 | V33: 0 | W33: 0 | X33: 0 | Y33: 0
C34: 31 | D34: Cordão para crachá personalizado em impressão digital, com grampo de metal tipo jacaré, em 100% poliéster. | E34: 339039.63 | F34: 1,3 a 1,6 X 80 a 90 cm | G34: Unidade | I34: 20 | J34: 5 | L34: =K34-(SUM(N34:Y34)) -> 0 | M34: =IF(L34<0,"ATENÇÃO","OK") -> OK | N34: 0 | O34: 0 | P34: 0 | Q34: 0 | R34: 0 | S34: 0 | T34: 0 | U34: 0 | V34: 0 | W34: 0 | X34: 0 | Y34: 0
A35: AJPLOT INFORMÁTICA LTDA - ME | B35: 9 | C35: 32 | D35: Placa em PVC branco, impressão digital 4x0 cores, resolução mínima 300 dpi's e espessura de 2mm, com fixação dupla face de espuma acrílica para ambiente externo de no mínimo 20mm de largura e de no mínimo 10 cm de tamanho para cada 150g de placa. | E35: 339039.63 | F35: 200 X 120 cm | G35: Unidade | I35: 20 | J35: 401.52 | K35: 15 | L35: =K35-(SUM(N35:Y35)) -> 15 | M35: =IF(L35<0,"ATENÇÃO","OK") -> OK | N35: 0 | O35: 0 | P35: 0 | Q35: 0 | R35: 0 | S35: 0 | T35: 0 | U35: 0 | V35: 0 | W35: 0 | X35: 0 | Y35: 0
C36: 33 | D36: Placa em PVC branco, impressão digital 4x0 cores, resolução mínima 300 dpi's e espessura de 2mm, com fixação dupla face de espuma acrílica para ambiente interno de no mínimo 20mm de largura e de no mínimo 10 cm de tamanho para cada 150g de placa. | E36: 339039.63 | F36: 25 x 10 cm | G36: Unidade | I36: 20 | J36: 4 | L36: =K36-(SUM(N36:Y36)) -> 0 | M36: =IF(L36<0,"ATENÇÃO","OK") -> OK | N36: 0 | O36: 0 | P36: 0 | Q36: 0 | R36: 0 | S36: 0 | T36: 0 | U36: 0 | V36: 0 | W36: 0 | X36: 0 | Y36: 0
C37: 34 | D37: Placa em PVC branco em formato "V" para ser apoiado sobre balção, impressão digital 4x0 cores, resolução mínima 300 dpi's e espessura de 2mm. | E37: 339039.63 | F37: 25 x 15 cm(plano) | G37: Unidade | I37: 20 | J37: 39.99 | L37: =K37-(SUM(N37:Y37)) -> 0 | M37: =IF(L37<0,"ATENÇÃO","OK") -> OK | N37: 0 | O37: 0 | P37: 0 | Q37: 0 | R37: 0 | S37: 0 | T37: 0 | U37: 0 | V37: 0 | W37: 0 | X37: 0 | Y37: 0
A38: PRINTSTUDIO LTDA - ME | B38: 10 | C38: 35 | D38: Plotagem, impressão 4x0 cores, em papel sulfite de 75 g/m2 de gramatura mínima. | E38: 339039.63 | F38: Formato A0 ("A" Zero - 84,1 X 118,9cm) | G38: Unidade | I38: 20 | J38: 4.4 | L38: =K38-(SUM(N38:Y38)) -> 0 | M38: =IF(L38<0,"ATENÇÃO","OK") -> OK | N38: 0 | O38: 0 | P38: 0 | Q38: 0 | R38: 0 | S38: 0 | T38: 0 | U38: 0 | V38: 0 | W38: 0 | X38: 0 | Y38: 0
C39: 36 | D39: Plotagem, impressão monocromática, em papel sulfite de 75 g/m2 de gramatura mínima. | E39: 339039.63 | F39: Formato A0 ("A" Zero - 84,1 X 118,9cm) | G39: Unidade | I39: 20 | J39: 5.96 | L39: =K39-(SUM(N39:Y39)) -> 0 | M39: =IF(L39<0,"ATENÇÃO","OK") -> OK | N39: 0 | O39: 0 | P39: 0 | Q39: 0 | R39: 0 | S39: 0 | T39: 0 | U39: 0 | V39: 0 | W39: 0 | X39: 0 | Y39: 0

Sheet REIT_CRH
A1: PROCESSO: 0358/2014/UDESC | D1: OBJETO: Serviços Gráficos | K1: VIGÊNCIA DA ATA: 09/05/2014 até 09/05/2015 | N1: AF/OS nº xxxx/2014 Qtde. DT | O1: AF/OS nº xxxx/2014 Qtde. DT | P1: AF/OS nº xxxx/2014 Qtde. DT | Q1: AF/OS nº xxxx/2014 Qtde. DT | R1: AF/OS nº xxxx/2014 Qtde. DT | S1: AF/OS nº xxxx/2014 Qtde. DT | T1: AF/OS nº xxxx/2014 Qtde. DT | U1: AF/OS nº xxxx/2014 Qtde. DT | V1: AF/OS nº xxxx/2014 Qtde. DT | W1: AF/OS nº xxxx/2014 Qtde. DT | X1: AF/OS nº xxxx/2014 Qtde. DT | Y1: AF/OS nº xxxx/2014 Qtde. DT
A2: CENTRO PARTICIPANTE: REITORIA - CRH
A3: FORNECEDOR | B3: LOTE | C3: ITEM | D3: PRODUTO - CARACTERÍSTICAS MÍNIMAS | E3: ELEMENTO | F3: Dimensões | G3: Unidade | H3: Entrega (Dias) | I3: Pagto. (Dias) | J3: Preço UNITÁRIO (R$) | K3: Qtde LICITADA | L3: Saldo / Automático | M3: ALERTA | N3: ...../...../...... | O3: ...../...../...... | P3: ...../...../...... | Q3: ...../...../...... | R3: ...../...../...... | S3: ...../...../...... | T3: ...../...../...... | U3: ...../...../...... | V3: ...../...../...... | W3: ...../...../...... | X3: ...../...../...... | Y3: ...../...../......
A4: AJPLOT INFORMÁTICA LTDA - ME | B4: 1 | C4: 1 | D4: Banner em lona, impressão digital 4x0 cores, resolução mínima 720 dpi's e 280 g/m² de gramatura mínima; e suporte: 1) em madeira em duas das menores extremidades e acabamento com ponteira de PVC (grampeada) e corda trançada de no mínimo 4mm e de resistência suficiente e compatível com o banner; ou 2) com ilhóses dispostos de 20 em 20 cm, em ferro ou alumínio e de diâmetro compatível com a corda utilizada - corda trançada de no mínimo 4mm e de resistência suficiente e compatível com o banner. | E4: 339039.63 | F4: 50 X 70 cm | G4: Unidade | I4: 20 | J4: 7 | L4: =K4-(SUM(N4:Y4)) -> 0 | M4: =IF(L4<0,"ATENÇÃO","OK") -> OK | N4: 0 | O4: 0 | P4: 0 | Q4: 0 | R4: 0 | S4: 0 | T4: 0 | U4: 0 | V4: 0 | W4: 0 | X4: 0 | Y4: 0
C5: 2 | E5: 339039.63 | F5: 90 X 150 cm | G5: Unidade | I5: 20 | J5: 27 | L5: =K5-(SUM(N5:Y5)) -> 0 | M5: =IF(L5<0,"ATENÇÃO","OK") -> OK | N5: 0 | O5: 0 | P5: 0 | Q5: 0 | R5: 0 | S5: 0 | T5: 0 | U5: 0 | V5: 0 | W5: 0 | X5: 0 | Y5: 0
C6: 3 | E6: 339039.63 | F6: 90 X 120 cm | G6: Unidade | I6: 20 | J6: 48.6 | L6: =K6-(SUM(N6:Y6)) -> 0 | M6: =IF(L6<0,"ATENÇÃO","OK") -> OK | N6: 0 | O6: 0 | P6: 0 | Q6: 0 | R6: 0 | S6: 0 | T6: 0 | U6: 0 | V6: 0 | W6: 0 | X6: 0 | Y6: 0
C7: 4 | E7: 339039.63 | F7: 110 X 150 cm | G7: Unidade | I7: 20 | J7: 33 | L7: =K7-(SUM(N7:Y7)) -> 0 | M7: =IF(L7<0,"ATENÇÃO","OK") -> OK | N7: 0 | O7: 0 | P7: 0 | Q7: 0 | R7: 0 | S7: 0 | T7: 0 | U7: 0 | V7: 0 | W7: 0 | X7: 0 | Y7: 0
C8: 5 | E8: 339039.63 | F8: 130 X 180 cm | G8: Unidade | I8: 20 | J8: 42.13 | L8: =K8-(SUM(N8:Y8)) -> 0 | M8: =IF(L8<0,"ATENÇÃO","OK") -> OK | N8: 0 | O8: 0 | P8: 0 | Q8: 0 | R8: 0 | S8: 0 | T8: 0 | U8: 0 | V8: 0 | W8: 0 | X8: 0 | Y8: 0
C9: 6 | E9: 339039.63 | F9: 50 X 300 cm | G9: Unidade | I9: 20 | J9: 27 | L9: =K9-(SUM(N9:Y9)) -> 0 | M9: =IF(L9<0,"ATENÇÃO","OK") -> OK | N9: 0 | O9: 0 | P9: 0 | Q9: 0 | R9: 0 | S9: 0 | T9: 0 | U9: 0 | V9: 0 | W9: 0 | X9: 0 | Y9: 0
C10: 7 | E10: 339039.63 | F10: 70 X 400 cm | G10: Unidade | I10: 20 | J10: 56 | L10: =K10-(SUM(N10:Y10)) -> 0 | M10: =IF(L10<0,"ATENÇÃO","OK") -> OK | N10: 0 | O10: 0 | P10: 0 | Q10: 0 | R10: 0 | S10: 0 | T10: 0 | U10: 0 | V10: 0 | W10: 0 | X10: 0 | Y10: 0
C11: 8 | E11: 339039.63 | F11: 140 cm X metro linear | G11: metro | I11: 20 | J11: 24.63 | L11: =K11-(SUM(N11:Y11)) -> 0 | M11: =IF(L11<0,"ATENÇÃO","OK") -> OK | N11: 0 | O11: 0 | P11: 0 | Q11: 0 | R11: 0 | S11: 0 | T11: 0 | U11: 0 | V11: 0 | W11: 0 | X11: 0 | Y11: 0
C12: 9 | E12: 339039.63 | F12: 80 X 110 cm | G12: Unidade | I12: 20 | J12: 17.58 | L12: =K12-(SUM(N12:Y12)) -> 0 | M12: =IF(L12<0,"ATENÇÃO","OK") -> OK | N12: 0 | O12: 0 | P12: 0 | Q12: 0 | R12: 0 | S12: 0 | T12: 0 | U12: 0 | V12: 0 | W12: 0 | X12: 0 | Y12: 0
C13: 10 | E13: 339039.63 | F13: 80 X 120 cm | G13: Unidade | I13: 20 | J13: 19.2 | L13: =K13-(SUM(N13:Y13)) -> 0 | M13: =IF(L13<0,"ATENÇÃO","OK") -> OK | N13: 0 | O13: 0 | P13: 0 | Q13: 0 | R13: 0 | S13: 0 | T13: 0 | U13: 0 | V13: 0 | W13: 0 | X13: 0 | Y13: 0
C14: 11 | E14: 339039.63 | F14: 90 X 110 cm | G14: Unidade | I14: 20 | J14: 19.8 | L14: =K14-(SUM(N14:Y14)) -> 0 | M14: =IF(L14<0,"ATENÇÃO","OK") -> OK | N14: 0 | O14: 0 | P14: 0 | Q14: 0 | R14: 0 | S14: 0 | T14: 0 | U14: 0 | V14: 0 | W14: 0 | X14: 0 | Y14: 0
C15: 12 | D15: Frontlight em lona, impressão digital 4x0 cores, resolução mínima 1200 dpi's e 440 g/m² de gramatura mínima; fixado com ilhóses dispostos de 20 em 20 cm, em ferro ou alumínio e de diâmetro compatível com a corda utilizada - corda trançada de no mínimo 4mm e de resistência suficiente e compatível com o frontlight. | E15: 339039.63 | F15: 320 cm X metro linear | G15: metro | I15: 20 | J15: 64 | L15: =K15-(SUM(N15:Y15)) -> 0 | M15: =IF(L15<0,"ATENÇÃO","OK") -> OK | N15: 0 | O15: 0 | P15: 0 | Q15: 0 | R15: 0 | S15: 0 | T15: 0 | U15: 0 | V15: 0 | W15: 0 | X15: 0 | Y15: 0
C16: 13 | E16: 339039.63 | F16: 650 X 150 cm | G16: Unidade | I16: 20 | J16: 195 | L16: =K16-(SUM(N16:Y16)) -> 0 | M16: =IF(L16<0,"ATENÇÃO","OK") -> OK | N16: 0 | O16: 0 | P16: 0 | Q16: 0 | R16: 0 | S16: 0 | T16: 0 | U16: 0 | V16: 0 | W16: 0 | X16: 0 | Y16: 0
C17: 14 | E17: 339039.63 | F17: 250 X 120 cm | G17: Unidade | I17: 20 | J17: 60 | L17: =K17-(SUM(N17:Y17)) -> 0 | M17: =IF(L17<0,"ATENÇÃO","OK") -> OK | N17: 0 | O17: 0 | P17: 0 | Q17: 0 | R17: 0 | S17: 0 | T17: 0 | U17: 0 | V17: 0 | W17: 0 | X17: 0 | Y17: 0
A18: PRINTSTUDIO LTDA - ME | B18: 2 | C18: 15 | D18: Banner em papel fotográfico com laminação brilhante, resolução mínima de 600 dpi's e 280g/m² de gramatura mínima, suporte em plástico em duas das menores extremidades e corda de no mínimo 1mm e de resistência suficiente e compatível com o banner. | E18: 339039.63 | F18: 90 cm X metro linear | G18: metro | I18: 20 | J18: 75 | L18: =K18-(SUM(N18:Y18)) -> 0 | M18: =IF(L18<0,"ATENÇÃO","OK") -> OK | N18: 0 | O18: 0 | P18: 0 | Q18: 0 | R18: 0 | S18: 0 | T18: 0 | U18: 0 | V18: 0 | W18: 0 | X18: 0 | Y18: 0
A19: PRINTSTUDIO LTDA - ME | B19: 3 | C19: 16 | D19: Banner em tecido. Impressão digital em tecido. Policromia: 4 x 0 cores. Resolução mínima de 1200 dpi´s. Acabamento em madeira (cabo redondo) nas duas extremidades menores, sendo encaixado internamente na costura do tecido para fechamento escondendo o varão, com ponteiras em PVC e corda trançada de no mínimo 4 mm e com resistência suficiente para sustentar o banner de tecido. | E19: 339039.63 | F19: 90 cm x metro linear | G19: metro | I19: 20 | J19: 59.75 | L19: =K19-(SUM(N19:Y19)) -> 0 | M19: =IF(L19<0,"ATENÇÃO","OK") -> OK | N19: 0 | O19: 0 | P19: 0 | Q19: 0 | R19: 0 | S19: 0 | T19: 0 | U19: 0 | V19: 0 | W19: 0 | X19: 0 | Y19: 0
A20: JUNKES & BORBA LTDA - EPP | B20: 4 | C20: 17 | D20: Frontlight em lona, impressão digital 4x0 cores, resolução mínima 1200 dpi's e 440 g/m² de gramatura mínima; fixado com ilhóses dispostos de 20 em 20 cm, em ferro ou alumínio e de diâmetro compatível com a corda utilizada - corda trançada de no mínimo 4mm e de resistência suficiente e compatível com o frontlight. INSTALADO E RETIRADA. | E20: 339039.63 | F20: 255 X 275 cm | G20: Unidade | I20: 20 | J20: 538.33 | L20: =K20-(SUM(N20:Y20)) -> 0 | M20: =IF(L20<0,"ATENÇÃO","OK") -> OK | N20: 0 | O20: 0 | P20: 0 | Q20: 0 | R20: 0 | S20: 0 | T20: 0 | U20: 0 | V20: 0 | W20: 0 | X20: 0 | Y20: 0
C21: 18 | E21: 339039.63 | F21: 295 X 875 cm | G21: Unidade | I21: 20 | J21: 1670.8 | L21: =K21-(SUM(N21:Y21)) -> 0 | M21: =IF(L21<0,"ATENÇÃO","OK") -> OK | N21: 0 | O21: 0 | P21: 0 | Q21: 0 | R21: 0 | S21: 0 | T21: 0 | U21: 0 | V21: 0 | W21: 0 | X21: 0 | Y21: 0
C22: 19 | E22: 339039.63 | F22: 310 X 914 cm | G22: Unidade | I22: 20 | J22: 1824.53 | L22: =K22-(SUM(N22:Y22)) -> 0 | M22: =IF(L22<0,"ATENÇÃO","OK") -> OK | N22: 0 | O22: 0 | P22: 0 | Q22: 0 | R22: 0 | S22: 0 | T22: 0 | U22: 0 | V22: 0 | W22: 0 | X22: 0 | Y22: 0
A23: MIXPLAC COMUNICAÇÃO VISUAL LTDA – ME | B23: 5 | C23: 20 | D23: Adesivo perfurado para vidro traseiro de automóveis, impressão digital 4x0 cores, resolução mínima 720 dpi's; com no mínimo 40% de transmissão luminosa (nos termos da RES 254/2007 CONTRAN). | E23: 339039.63 | F23: 35 X 90 cm | G23: Unidade | I23: 20 | J23: 15.16 | L23: =K23-(SUM(N23:Y23)) -> 0 | M23: =IF(L23<0,"ATENÇÃO","OK") -> OK | N23: 0 | O23: 0 | P23: 0 | Q23: 0 | R23: 0 | S23: 0 | T23: 0 | U23: 0 | V23: 0 | W23: 0 | X23: 0 | Y23: 0
A24: AJPLOT INFORMÁTICA LTDA - ME | B24: 6 | C24: 21 | D24: Adesivo em vinil, impressão digital 4x0 cores, resolução mínima 300 dpi's e 26 a 30 g/m² de gramatura mínima de cola; acabamento meio corte especial com faca. | E24: 339039.63 | F24: 7 X 9 cm | G24: Unidade | I24: 20 | J24: 1.2 | L24: =K24-(SUM(N24:Y24)) -> 0 | M24: =IF(L24<0,"ATENÇÃO","OK") -> OK | N24: 0 | O24: 0 | P24: 0 | Q24: 0 | R24: 0 | S24: 0 | T24: 0 | U24: 0 | V24: 0 | W24: 0 | X24: 0 | Y24: 0
C25: 22 | D25: Adesivo em vinil transparente para vidro, impressão digital 4x0 cores, resolução mínima 300 dpi's e 26 a 30 g/m² de gramatura mínima de cola; acabamento corte reto. | E25: 339039.63 | F25: 5 X 20 cm | G25: Unidade | I25: 20 | J25: 1.5 | L25: =K25-(SUM(N25:Y25)) -> 0 | M25: =IF(L25<0,"ATENÇÃO","OK") -> OK | N25: 0 | O25: 0 | P25: 0 | Q25: 0 | R25: 0 | S25: 0 | T25: 0 | U25: 0 | V25: 0 | W25: 0 | X25: 0 | Y25: 0
C26: 23 | E26: 339039.63 | F26: 10 X 25 cm | G26: Unidade | I26: 20 | J26: 3.75 | L26: =K26-(SUM(N26:Y26)) -> 0 | M26: =IF(L26<0,"ATENÇÃO","OK") -> OK | N26: 0 | O26: 0 | P26: 0 | Q26: 0 | R26: 0 | S26: 0 | T26: 0 | U26: 0 | V26: 0 | W26: 0 | X26: 0 | Y26: 0
C27: 24 | D27: Adesivo em vinil resistente a água e cloro, próprio para áreas com piscinas, impressão digital 4x0 cores, resolução mínima 300 dpi's e 26 a 30 g/m2 de gramatura mínima de cola; acabamento corte reto. | E27: 339039.63 | F27: 5 X 20 cm | G27: Unidade | I27: 20 | J27: 1.5 | L27: =K27-(SUM(N27:Y27)) -> 0 | M27: =IF(L27<0,"ATENÇÃO","OK") -> OK | N27: 0 | O27: 0 | P27: 0 | Q27: 0 | R27: 0 | S27: 0 | T27: 0 | U27: 0 | V27: 0 | W27: 0 | X27: 0 | Y27: 0
C28: 25 | E28: 339039.63 | F28: 10 X 25 cm | G28: Unidade | I28: 20 | J28: 3.75 | L28: =K28-(SUM(N28:Y28)) -> 0 | M28: =IF(L28<0,"ATENÇÃO","OK") -> OK | N28: 0 | O28: 0 | P28: 0 | Q28: 0 | R28: 0 | S28: 0 | T28: 0 | U28: 0 | V28: 0 | W28: 0 | X28: 0 | Y28: 0
C29: 26 | D29: Adesivo recortado em vinil colorido (cores diversas a escolher), para adesivagem. | E29: 339039.63 | F29: 90 cm x metro linear | G29: metro | I29: 20 | J29: 57.86 | L29: =K29-(SUM(N29:Y29)) -> 0 | M29: =IF(L29<0,"ATENÇÃO","OK") -> OK | N29: 0 | O29: 0 | P29: 0 | Q29: 0 | R29: 0 | S29: 0 | T29: 0 | U29: 0 | V29: 0 | W29: 0 | X29: 0 | Y29: 0
C30: 27 | D30: Adesivo em vinil, impressão digital 4x0 cores, resolução mínima 300 dpi's e 26 a 30 g/m² de gramatura mínima de cola; acabamento meio corte especial com faca. | E30: 339039.63 | F30: 75 cm X metro linear | G30: metro | I30: 20 | J30: 150 | L30: =K30-(SUM(N30:Y30)) -> 0 | M30: =IF(L30<0,"ATENÇÃO","OK") -> OK | N30: 0 | O30: 0 | P30: 0 | Q30: 0 | R30: 0 | S30: 0 | T30: 0 | U30: 0 | V30: 0 | W30: 0 | X30: 0 | Y30: 0
C31: 28 | D31: Adesivo em vinil resistente a água e cloro, próprio para áreas com piscinas, impressão digital 4x0 cores, resolução mínima 300 dpi's e 26 a 30 g/m2 de gramatura mínima de cola; acabamento corte reto. | E31: 339039.63 | F31: 15 cm X metro linear | G31: metro | I31: 20 | J31: 54 | L31: =K31-(SUM(N31:Y31)) -> 0 | M31: =IF(L31<0,"ATENÇÃO","OK") -> OK | N31: 0 | O31: 0 | P31: 0 | Q31: 0 | R31: 0 | S31: 0 | T31: 0 | U31: 0 | V31: 0 | W31: 0 | X31: 0 | Y31: 0
A32: PRINTSTUDIO LTDA - ME | B32: 7 | C32: 29 | D32: Adesivo com impressão digital em caixa metálica de plataforma elevatória ("elevador"); impressão digital em material vinil autoadesivo; acabamento em laminação fosca; instalado; inclui adequação de layout; sugere-se visita técnica para conhecimento. | E32: 339039.63 | F32: m² | G32: metro² | I32: 20 | J32: 333.33 | L32: =K32-(SUM(N32:Y32)) -> 0 | M32: =IF(L32<0,"ATENÇÃO","OK") -> OK | N32: 0 | O32: 0 | P32: 0 | Q32: 0 | R32: 0 | S32: 0 | T32: 0 | U32: 0 | V32: 0 | W32: 0 | X32: 0 | Y32: 0
A33: PRINTSTUDIO LTDA - ME | B33: 8 | C33: 30 | D33: Crachá em cartão PVC laminado branco, impressão digital 4x1 cores, resolução mínima 300 dpi's e espessura de 0,70 a 0,80mm cantos arredondados, com perfuração entre 15 a 20mm compatível com grampo de metal tipo jacaré do cordão. | E33: 339039.63 | F33: 5,4 X 8,60 cm | G33: Unidade | I33: 20 | J33: 3.26 | K33: 200 | L33: =K33-(SUM(N33:Y33)) -> 200 | M33: =IF(L33<0,"ATENÇÃO","OK") -> OK | N33: 0 | O33: 0 | P33: 0 | Q33: 0 | R33: 0 | S33: 0 | T33: 0 | U33: 0 | V33: 0 | W33: 0 | X33: 0 | Y33: 0
