Workbook
Name diasuteis: #REF!
Name diasuteis: #REF!
Name diasuteis: #REF!
Name diasuteis: #REF!
Name diasuteis: #REF!
Name diasuteis: #REF!
Name diasuteis: #REF!
Name diasuteis: #REF!
Name diasuteis: #REF!
Name diasuteis: #REF!
Name diasuteis: #REF!
Name diasuteis: #REF!
Name diasuteis: #REF!
Name diasuteis: #REF!
Name diasuteis: #REF!
Name diasuteis: #REF!
Name diasuteis: #REF!
Name diasuteis: #REF!
Name Ferias: #REF!
Name Ferias: #REF!
Name Ferias: #REF!
Name Ferias: #REF!
Name Ferias: #REF!
Name Ferias: #REF!
Name Ferias: #REF!
Name Ferias: #REF!
Name Ferias: #REF!
Name Ferias: #REF!
Name Ferias: #REF!
Name Ferias: #REF!
Name Ferias: #REF!
Name Ferias: #REF!
Name Ferias: #REF!
Name Ferias: #REF!
Name Ferias: #REF!
Name RD: OFFSET(#REF!,(MATCH(SMALL(#REF!,ROW()-10),#REF!,0)-1),0)
Name RD: OFFSET(#REF!,(MATCH(SMALL(#REF!,ROW()-10),#REF!,0)-1),0)
Name RD: OFFSET(#REF!,(MATCH(SMALL(#REF!,ROW()-10),#REF!,0)-1),0)
Name RD: OFFSET(#REF!,(MATCH(SMALL(#REF!,ROW()-10),#REF!,0)-1),0)
Name RD: OFFSET(#REF!,(MATCH(SMALL(#REF!,ROW()-10),#REF!,0)-1),0)

Sheet REIT
A1: PROCESSO: 0239/2014/UDESC | D1: OBJETO: Serviços de Hospedagem | K1: VIGÊNCIA DA ATA: Lotes 1, 2 e 3 08/04/20134 até 07/04/2015 - Lote 4 21/03/2014 até 20/03/2015 | N1: AF/OS nº 380/2014 Qtde. DT | O1: AF/OS nº 537/2014 Qtde. DT | P1: AF/OS nº 368/2014 Qtde. DT | Q1: AF/OS nº xxxx/2014 Qtde. DT | R1: AF/OS nº xxxx/2014 Qtde. DT | S1: AF/OS nº xxxx/2014 Qtde. DT | T1: AF/OS nº xxxx/2014 Qtde. DT | U1: AF/OS nº xxxx/2014 Qtde. DT | V1: AF/OS nº xxxx/2014 Qtde. DT | W1: AF/OS nº xxxx/2014 Qtde. DT | X1: AF/OS nº xxxx/2014 Qtde. DT | Y1: AF/OS nº xxxx/2014 Qtde. DT
A2: CENTRO PARTICIPANTE: REITORIA
A3: FORNECEDOR | B3: LOTE | C3: ITEM | D3: PRODUTO - CARACTERÍSTICAS MÍNIMAS | E3: ELEMENTO | F3: MARCA | G3: UNIDADE | H3: Entrega (Dias) | I3: Pagto. (Dias) | J3: Preço UNITÁRIO (R$) | K3: Qtde LICITADA | L3: Saldo / Automático | M3: ALERTA | N3: 41707 | O3: 41801 | P3: 41707 | Q3: ...../...../...... | R3: ...../...../...... | S3: ...../...../...... | T3: ...../...../...... | U3: ...../...../...... | V3: ...../...../...... | W3: ...../...../...... | X3: ...../...../...... | Y3: ...../...../......
A4: Maria do Mar Hotel e Ind. Alim. Ltda | B4: 1 | C4: 1 | D4: Pernoite com café da manhã, Apartamento Simples. PADRÃO MÉDIO - conforme memorial descritivo. | E4: 339039.80 | G4: Diária | J4: 142 | K4: =34+180 -> 214 | L4: =K4-(SUM(N4:Y4)) -> 180 | M4: =IF(L4<0,"ATENÇÃO","OK") -> OK | N4: 0 | O4: 14 | P4: 20 | Q4: 0 | R4: 0 | S4: 0 | T4: 0 | U4: 0 | V4: 0 | W4: 0 | X4: 0 | Y4: 0
C5: 2 | D5: Pernoite com café da manhã, Apartamento Duplo. PADRÃO MÉDIO - conforme memorial descritivo. | E5: 339039.80 | G5: Diária | J5: 158.87 | K5: =34+20 -> 54 | L5: =K5-(SUM(N5:Y5)) -> 20 | M5: =IF(L5<0,"ATENÇÃO","OK") -> OK | N5: 0 | O5: 14 | P5: 20 | Q5: 0 | R5: 0 | S5: 0 | T5: 0 | U5: 0 | V5: 0 | W5: 0 | X5: 0 | Y5: 0
C6: 3 | D6: Almoço(buffet livre) - Conforme Memorial Descritivo. | E6: 339039.80 | G6: Refeição | J6: 30 | K6: =34+87 -> 121 | L6: =K6-(SUM(N6:Y6)) -> 87 | M6: =IF(L6<0,"ATENÇÃO","OK") -> OK | N6: 0 | O6: 14 | P6: 20 | Q6: 0 | R6: 0 | S6: 0 | T6: 0 | U6: 0 | V6: 0 | W6: 0 | X6: 0 | Y6: 0
C7: 4 | D7: Jantar(buffet livre) - Conforme Memorial Descritivo. | E7: 339039.80 | G7: Refeição | J7: 30 | K7: =34+120 -> 154 | L7: =K7-(SUM(N7:Y7)) -> 120 | M7: =IF(L7<0,"ATENÇÃO","OK") -> OK | N7: 0 | O7: 14 | P7: 20 | Q7: 0 | R7: 0 | S7: 0 | T7: 0 | U7: 0 | V7: 0 | W7: 0 | X7: 0 | Y7: 0
A8: Castelmar Empreendimentos Hoteleiros Ltda | B8: 2 | C8: 5 | D8: Pernoite (Apartamento Individual) com café da manhã - ALTO PADRÃO. Suíte com 02 Ambientes: Quarto e Home Office - Conforme Memorial Descritivo. | E8: 339039.80 | G8: Diária | J8: 180 | K8: 130 | L8: =K8-(SUM(N8:Y8)) -> 110 | M8: =IF(L8<0,"ATENÇÃO","OK") -> OK | N8: 20 | O8: 0 | P8: 0 | Q8: 0 | R8: 0 | S8: 0 | T8: 0 | U8: 0 | V8: 0 | W8: 0 | X8: 0 | Y8: 0
C9: 6 | D9: Almoço(buffet livre ou a la carte) - Conforme Memorial Descritivo. | E9: 339039.80 | G9: Refeição | J9: 38 | K9: 130 | L9: =K9-(SUM(N9:Y9)) -> 110 | M9: =IF(L9<0,"ATENÇÃO","OK") -> OK | N9: 20 | O9: 0 | P9: 0 | Q9: 0 | R9: 0 | S9: 0 | T9: 0 | U9: 0 | V9: 0 | W9: 0 | X9: 0 | Y9: 0
C10: 7 | D10: Jantar(buffet livre ou a La carte) - Conforme Memorial Descritivo. | E10: 339039.80 | G10: Refeição | J10: 38 | K10: 130 | L10: =K10-(SUM(N10:Y10)) -> 110 | M10: =IF(L10<0,"ATENÇÃO","OK") -> OK | N10: 20 | O10: 0 | P10: 0 | Q10: 0 | R10: 0 | S10: 0 | T10: 0 | U10: 0 | V10: 0 | W10: 0 | X10: 0 | Y10: 0
A11: Ryan Hotel Ltda | B11: 3 | C11: 8 | D11: Pernoite com café da manhã, Apartamento Simples. PADRÃO MÉDIO - conforme memorial descritivo. | E11: 339039.80 | G11: Diária | J11: 124 | L11: =K11-(SUM(N11:Y11)) -> 0 | M11: =IF(L11<0,"ATENÇÃO","OK") -> OK | N11: 0 | O11: 0 | P11: 0 | Q11: 0 | R11: 0 | S11: 0 | T11: 0 | U11: 0 | V11: 0 | W11: 0 | X11: 0 | Y11: 0
C12: 9 | D12: Pernoite com café da manhã, Apartamento Duplo. PADRÃO MÉDIO - conforme memorial descritivo. | E12: 339039.80 | G12: Diária | J12: 146 | L12: =K12-(SUM(N12:Y12)) -> 0 | M12: =IF(L12<0,"ATENÇÃO","OK") -> OK | N12: 0 | O12: 0 | P12: 0 | Q12: 0 | R12: 0 | S12: 0 | T12: 0 | U12: 0 | V12: 0 | W12: 0 | X12: 0 | Y12: 0
C13: 10 | D13: Almoço(buffet livre) - Conforme Memorial Descritivo. | E13: 339039.80 | G13: Refeição | J13: 27 | L13: =K13-(SUM(N13:Y13)) -> 0 | M13: =IF(L13<0,"ATENÇÃO","OK") -> OK | N13: 0 | O13: 0 | P13: 0 | Q13: 0 | R13: 0 | S13: 0 | T13: 0 | U13: 0 | V13: 0 | W13: 0 | X13: 0 | Y13: 0
C14: 11 | D14: Jantar(buffet livre) - Conforme Memorial Descritivo. | E14: 339039.80 | G14: Refeição | J14: 27 | L14: =K14-(SUM(N14:Y14)) -> 0 | M14: =IF(L14<0,"ATENÇÃO","OK") -> OK | N14: 0 | O14: 0 | P14: 0 | Q14: 0 | R14: 0 | S14: 0 | T14: 0 | U14: 0 | V14: 0 | W14: 0 | X14: 0 | Y14: 0
A15: Complexo Turístico Flipper Ltda | B15: 4 | C15: 12 | D15: Pernoite com café da manhã, Apartamento Simples. PADRÃO MÉDIO - conforme memorial descritivo. | E15: 339039.80 | G15: Diária | J15: 111 | L15: =K15-(SUM(N15:Y15)) -> 0 | M15: =IF(L15<0,"ATENÇÃO","OK") -> OK | N15: 0 | O15: 0 | P15: 0 | Q15: 0 | R15: 0 | S15: 0 | T15: 0 | U15: 0 | V15: 0 | W15: 0 | X15: 0 | Y15: 0
C16: 13 | D16: Pernoite com café da manhã, Apartamento Duplo. PADRÃO MÉDIO - conforme memorial descritivo. | E16: 339039.80 | G16: Diária | J16: 180 | L16: =K16-(SUM(N16:Y16)) -> 0 | M16: =IF(L16<0,"ATENÇÃO","OK") -> OK | N16: 0 | O16: 0 | P16: 0 | Q16: 0 | R16: 0 | S16: 0 | T16: 0 | U16: 0 | V16: 0 | W16: 0 | X16: 0 | Y16: 0
C17: 14 | D17: Almoço(buffet livre) - Conforme Memorial Descritivo. | E17: 339039.80 | G17: Refeição | J17: 29 | L17: =K17-(SUM(N17:Y17)) -> 0 | M17: =IF(L17<0,"ATENÇÃO","OK") -> OK | N17: 0 | O17: 0 | P17: 0 | Q17: 0 | R17: 0 | S17: 0 | T17: 0 | U17: 0 | V17: 0 | W17: 0 | X17: 0 | Y17: 0
C18: 15 | D18: Jantar(buffet livre) - Conforme Memorial Descritivo. | E18: 339039.80 | G18: Refeição | J18: 29 | L18: =K18-(SUM(N18:Y18)) -> 0 | M18: =IF(L18<0,"ATENÇÃO","OK") -> OK | N18: 0 | O18: 0 | P18: 0 | Q18: 0 | R18: 0 | S18: 0 | T18: 0 | U18: 0 | V18: 0 | W18: 0 | X18: 0 | Y18: 0

Sheet ESAG
A1: PROCESSO: 0239/2014/UDESC | D1: OBJETO: Serviços de Hospedagem | K1: VIGÊNCIA DA ATA: Lotes 1, 2 e 3 08/04/20134 até 07/04/2015 - Lote 4 21/03/2014 até 20/03/2015 | N1: AF/OS nº xxxx/2014 Qtde. DT | O1: AF/OS nº xxxx/2014 Qtde. DT | P1: AF/OS nº xxxx/2014 Qtde. DT | Q1: AF/OS nº xxxx/2014 Qtde. DT | R1: AF/OS nº xxxx/2014 Qtde. DT | S1: AF/OS nº xxxx/2014 Qtde. DT | T1: AF/OS nº xxxx/2014 Qtde. DT | U1: AF/OS nº xxxx/2014 Qtde. DT | V1: AF/OS nº xxxx/2014 Qtde. DT | W1: AF/OS nº xxxx/2014 Qtde. DT | X1: AF/OS nº xxxx/2014 Qtde. DT | Y1: AF/OS nº xxxx/2014 Qtde. DT
A2: CENTRO PARTICIPANTE: ESAG
A3: FORNECEDOR | B3: LOTE | C3: ITEM | D3: PRODUTO - CARACTERÍSTICAS MÍNIMAS | E3: ELEMENTO | F3: MARCA | G3: UNIDADE | H3: Entrega (Dias) | I3: Pagto. (Dias) | J3: Preço UNITÁRIO (R$) | K3: Qtde LICITADA | L3: Saldo / Automático | M3: ALERTA | N3: ...../...../...... | O3: ...../...../...... | P3: ...../...../...... | Q3: ...../...../...... | R3: ...../...../...... | S3: ...../...../...... | T3: ...../...../...... | U3: ...../...../...... | V3: ...../...../...... | W3: ...../...../...... | X3: ...../...../...... | Y3: ...../...../......
A4: Maria do Mar Hotel e Ind. Alim. Ltda | B4: 1 | C4: 1 | D4: Pernoite com café da manhã, Apartamento Simples. PADRÃO MÉDIO - conforme memorial descritivo. | E4: 339039.80 | G4: Diária | J4: 142 | K4: 50 | L4: =K4-(SUM(N4:Y4)) -> 50 | M4: =IF(L4<0,"ATENÇÃO","OK") -> OK | N4: 0 | O4: 0 | P4: 0 | Q4: 0 | R4: 0 | S4: 0 | T4: 0 | U4: 0 | V4: 0 | W4: 0 | X4: 0 | Y4: 0
C5: 2 | D5: Pernoite com café da manhã, Apartamento Duplo. PADRÃO MÉDIO - conforme memorial descritivo. | E5: 339039.80 | G5: Diária | J5: 158.87 | K5: 10 | L5: =K5-(SUM(N5:Y5)) -> 10 | M5: =IF(L5<0,"ATENÇÃO","OK") -> OK | N5: 0 | O5: 0 | P5: 0 | Q5: 0 | R5: 0 | S5: 0 | T5: 0 | U5: 0 | V5: 0 | W5: 0 | X5: 0 | Y5: 0
C6: 3 | D6: Almoço(buffet livre) - Conforme Memorial Descritivo. | E6: 339039.80 | G6: Refeição | J6: 30 | K6: 50 | L6: =K6-(SUM(N6:Y6)) -> 50 | M6: =IF(L6<0,"ATENÇÃO","OK") -> OK | N6: 0 | O6: 0 | P6: 0 | Q6: 0 | R6: 0 | S6: 0 | T6: 0 | U6: 0 | V6: 0 | W6: 0 | X6: 0 | Y6: 0
C7: 4 | D7: Jantar(buffet livre) - Conforme Memorial Descritivo. | E7: 339039.80 | G7: Refeição | J7: 30 | K7: 50 | L7: =K7-(SUM(N7:Y7)) -> 50 | M7: =IF(L7<0,"ATENÇÃO","OK") -> OK | N7: 0 | O7: 0 | P7: 0 | Q7: 0 | R7: 0 | S7: 0 | T7: 0 | U7: 0 | V7: 0 | W7: 0 | X7: 0 | Y7: 0
A8: Castelmar Empreendimentos Hoteleiros Ltda | B8: 2 | C8: 5 | D8: Pernoite (Apartamento Individual) com café da manhã - ALTO PADRÃO. Suíte com 02 Ambientes: Quarto e Home Office - Conforme Memorial Descritivo. | E8: 339039.80 | G8: Diária | J8: 180 | L8: =K8-(SUM(N8:Y8)) -> 0 | M8: =IF(L8<0,"ATENÇÃO","OK") -> OK | N8: 0 | O8: 0 | P8: 0 | Q8: 0 | R8: 0 | S8: 0 | T8: 0 | U8: 0 | V8: 0 | W8: 0 | X8: 0 | Y8: 0
C9: 6 | D9: Almoço(buffet livre ou a la carte) - Conforme Memorial Descritivo. | E9: 339039.80 | G9: Refeição | J9: 38 | L9: =K9-(SUM(N9:Y9)) -> 0 | M9: =IF(L9<0,"ATENÇÃO","OK") -> OK | N9: 0 | O9: 0 | P9: 0 | Q9: 0 | R9: 0 | S9: 0 | T9: 0 | U9: 0 | V9: 0 | W9: 0 | X9: 0 | Y9: 0
C10: 7 | D10: Jantar(buffet livre ou a La carte) - Conforme Memorial Descritivo. | E10: 339039.80 | G10: Refeição | J10: 38 | L10: =K10-(SUM(N10:Y10)) -> 0 | M10: =IF(L10<0,"ATENÇÃO","OK") -> OK | N10: 0 | O10: 0 | P10: 0 | Q10: 0 | R10: 0 | S10: 0 | T10: 0 | U10: 0 | V10: 0 | W10: 0 | X10: 0 | Y10: 0
A11: Ryan Hotel Ltda | B11: 3 | C11: 8 | D11: Pernoite com café da manhã, Apartamento Simples. PADRÃO MÉDIO - conforme memorial descritivo. | E11: 339039.80 | G11: Diária | J11: 124 | L11: =K11-(SUM(N11:Y11)) -> 0 | M11: =IF(L11<0,"ATENÇÃO","OK") -> OK | N11: 0 | O11: 0 | P11: 0 | Q11: 0 | R11: 0 | S11: 0 | T11: 0 | U11: 0 | V11: 0 | W11: 0 | X11: 0 | Y11: 0
C12: 9 | D12: Pernoite com café da manhã, Apartamento Duplo. PADRÃO MÉDIO - conforme memorial descritivo. | E12: 339039.80 | G12: Diária | J12: 146 | L12: =K12-(SUM(N12:Y12)) -> 0 | M12: =IF(L12<0,"ATENÇÃO","OK") -> OK | N12: 0 | O12: 0 | P12: 0 | Q12: 0 | R12: 0 | S12: 0 | T12: 0 | U12: 0 | V12: 0 | W12: 0 | X12: 0 | Y12: 0
C13: 10 | D13: Almoço(buffet livre) - Conforme Memorial Descritivo. | E13: 339039.80 | G13: Refeição | J13: 27 | L13: =K13-(SUM(N13:Y13)) -> 0 | M13: =IF(L13<0,"ATENÇÃO","OK") -> OK | N13: 0 | O13: 0 | P13: 0 | Q13: 0 | R13: 0 | S13: 0 | T13: 0 | U13: 0 | V13: 0 | W13: 0 | X13: 0 | Y13: 0
C14: 11 | D14: Jantar(buffet livre) - Conforme Memorial Descritivo. | E14: 339039.80 | G14: Refeição | J14: 27 | L14: =K14-(SUM(N14:Y14)) -> 0 | M14: =IF(L14<0,"ATENÇÃO","OK") -> OK | N14: 0 | O14: 0 | P14: 0 | Q14: 0 | R14: 0 | S14: 0 | T14: 0 | U14: 0 | V14: 0 | W14: 0 | X14: 0 | Y14: 0
A15: Complexo Turístico Flipper Ltda | B15: 4 | C15: 12 | D15: Pernoite com café da manhã, Apartamento Simples. PADRÃO MÉDIO - conforme memorial descritivo. | E15: 339039.80 | G15: Diária | J15: 111 | L15: =K15-(SUM(N15:Y15)) -> 0 | M15: =IF(L15<0,"ATENÇÃO","OK") -> OK | N15: 0 | O15: 0 | P15: 0 | Q15: 0 | R15: 0 | S15: 0 | T15: 0 | U15: 0 | V15: 0 | W15: 0 | X15: 0 | Y15: 0
C16: 13 | D16: Pernoite com café da manhã, Apartamento Duplo. PADRÃO MÉDIO - conforme memorial descritivo. | E16: 339039.80 | G16: Diária | J16: 180 | L16: =K16-(SUM(N16:Y16)) -> 0 | M16: =IF(L16<0,"ATENÇÃO","OK") -> OK | N16: 0 | O16: 0 | P16: 0 | Q16: 0 | R16: 0 | S16: 0 | T16: 0 | U16: 0 | V16: 0 | W16: 0 | X16: 0 | Y16: 0
C17: 14 | D17: Almoço(buffet livre) - Conforme Memorial Descritivo. | E17: 339039.80 | G17: Refeição | J17: 29 | L17: =K17-(SUM(N17:Y17)) -> 0 | M17: =IF(L17<0,"ATENÇÃO","OK") -> OK | N17: 0 | O17: 0 | P17: 0 | Q17: 0 | R17: 0 | S17: 0 | T17: 0 | U17: 0 | V17: 0 | W17: 0 | X17: 0 | Y17: 0
C18: 15 | D18: Jantar(buffet livre) - Conforme Memorial Descritivo. | E18: 339039.80 | G18: Refeição | J18: 29 | L18: =K18-(SUM(N18:Y18)) -> 0 | M18: =IF(L18<0,"ATENÇÃO","OK") -> OK | N18: 0 | O18: 0 | P18: 0 | Q18: 0 | R18: 0 | S18: 0 | T18: 0 | U18: 0 | V18: 0 | W18: 0 | X18: 0 | Y18: 0

Sheet CEART
A1: PROCESSO: 0239/2014/UDESC | D1: OBJETO: Serviços de Hospedagem | K1: VIGÊNCIA DA ATA: Lotes 1, 2 e 3 08/04/20134 até 07/04/2015 - Lote 4 21/03/2014 até 20/03/2015 | N1: OS nº 372/2014 Qtde. DT | O1: OS nº 478/2014 Qtde. DT | P1: AF/OS nº xxxx/2014 Qtde. DT | Q1: AF/OS nº xxxx/2014 Qtde. DT | R1: AF/OS nº xxxx/2014 Qtde. DT | S1: AF/OS nº xxxx/2014 Qtde. DT | T1: AF/OS nº xxxx/2014 Qtde. DT | U1: AF/OS nº xxxx/2014 Qtde. DT | V1: AF/OS nº xxxx/2014 Qtde. DT | W1: AF/OS nº xxxx/2014 Qtde. DT | X1: AF/OS nº xxxx/2014 Qtde. DT | Y1: AF/OS nº xxxx/2014 Qtde. DT
A2: CENTRO PARTICIPANTE: CEART
A3: FORNECEDOR | B3: LOTE | C3: ITEM | D3: PRODUTO - CARACTERÍSTICAS MÍNIMAS | E3: ELEMENTO | F3: MARCA | G3: UNIDADE | H3: Entrega (Dias) | I3: Pagto. (Dias) | J3: Preço UNITÁRIO (R$) | K3: Qtde LICITADA | L3: Saldo / Automático | M3: ALERTA | N3: 41758 | O3: 41788 | P3: ...../...../...... | Q3: ...../...../...... | R3: ...../...../...... | S3: ...../...../...... | T3: ...../...../...... | U3: ...../...../...... | V3: ...../...../...... | W3: ...../...../...... | X3: ...../...../...... | Y3: ...../...../......
A4: Maria do Mar Hotel e Ind. Alim. Ltda | B4: 1 | C4: 1 | D4: Pernoite com café da manhã, Apartamento Simples. PADRÃO MÉDIO - conforme memorial descritivo. | E4: 339039.80 | G4: Diária | J4: 142 | K4: 250 | L4: =K4-(SUM(N4:Y4)) -> 125 | M4: =IF(L4<0,"ATENÇÃO","OK") -> OK | N4: 100 | O4: 25 | P4: 0 | Q4: 0 | R4: 0 | S4: 0 | T4: 0 | U4: 0 | V4: 0 | W4: 0 | X4: 0 | Y4: 0
C5: 2 | D5: Pernoite com café da manhã, Apartamento Duplo. PADRÃO MÉDIO - conforme memorial descritivo. | E5: 339039.80 | G5: Diária | J5: 158.87 | K5: 60 | L5: =K5-(SUM(N5:Y5)) -> 40 | M5: =IF(L5<0,"ATENÇÃO","OK") -> OK | N5: 15 | O5: 5 | P5: 0 | Q5: 0 | R5: 0 | S5: 0 | T5: 0 | U5: 0 | V5: 0 | W5: 0 | X5: 0 | Y5: 0
C6: 3 | D6: Almoço(buffet livre) - Conforme Memorial Descritivo. | E6: 339039.80 | G6: Refeição | J6: 30 | K6: 220 | L6: =K6-(SUM(N6:Y6)) -> 120 | M6: =IF(L6<0,"ATENÇÃO","OK") -> OK | N6: 80 | O6: 20 | P6: 0 | Q6: 0 | R6: 0 | S6: 0 | T6: 0 | U6: 0 | V6: 0 | W6: 0 | X6: 0 | Y6: 0
C7: 4 | D7: Jantar(buffet livre) - Conforme Memorial Descritivo. | E7: 339039.80 | G7: Refeição | J7: 30 | K7: 220 | L7: =K7-(SUM(N7:Y7)) -> 120 | M7: =IF(L7<0,"ATENÇÃO","OK") -> OK | N7: 80 | O7: 20 | P7: 0 | Q7: 0 | R7: 0 | S7: 0 | T7: 0 | U7: 0 | V7: 0 | W7: 0 | X7: 0 | Y7: 0
A8: Castelmar Empreendimentos Hoteleiros Ltda | B8: 2 | C8: 5 | D8: Pernoite (Apartamento Individual) com café da manhã - ALTO PADRÃO. Suíte com 02 Ambientes: Quarto e Home Office - Conforme Memorial Descritivo. | E8: 339039.80 | G8: Diária | J8: 180 | L8: =K8-(SUM(N8:Y8)) -> 0 | M8: =IF(L8<0,"ATENÇÃO","OK") -> OK | N8: 0 | O8: 0 | P8: 0 | Q8: 0 | R8: 0 | S8: 0 | T8: 0 | U8: 0 | V8: 0 | W8: 0 | X8: 0 | Y8: 0
C9: 6 | D9: Almoço(buffet livre ou a la carte) - Conforme Memorial Descritivo. | E9: 339039.80 | G9: Refeição | J9: 38 | L9: =K9-(SUM(N9:Y9)) -> 0 | M9: =IF(L9<0,"ATENÇÃO","OK") -> OK | N9: 0 | O9: 0 | P9: 0 | Q9: 0 | R9: 0 | S9: 0 | T9: 0 | U9: 0 | V9: 0 | W9: 0 | X9: 0 | Y9: 0
C10: 7 | D10: Jantar(buffet livre ou a La carte) - Conforme Memorial Descritivo. | E10: 339039.80 | G10: Refeição | J10: 38 | L10: =K10-(SUM(N10:Y10)) -> 0 | M10: =IF(L10<0,"ATENÇÃO","OK") -> OK | N10: 0 | O10: 0 | P10: 0 | Q10: 0 | R10: 0 | S10: 0 | T10: 0 | U10: 0 | V10: 0 | W10: 0 | X10: 0 | Y10: 0
A11: Ryan Hotel Ltda | B11: 3 | C11: 8 | D11: Pernoite com café da manhã, Apartamento Simples. PADRÃO MÉDIO - conforme memorial descritivo. | E11: 339039.80 | G11: Diária | J11: 124 | L11: =K11-(SUM(N11:Y11)) -> 0 | M11: =IF(L11<0,"ATENÇÃO","OK") -> OK | N11: 0 | O11: 0 | P11: 0 | Q11: 0 | R11: 0 | S11: 0 | T11: 0 | U11: 0 | V11: 0 | W11: 0 | X11: 0 | Y11: 0
C12: 9 | D12: Pernoite com café da manhã, Apartamento Duplo. PADRÃO MÉDIO - conforme memorial descritivo. | E12: 339039.80 | G12: Diária | J12: 146 | L12: =K12-(SUM(N12:Y12)) -> 0 | M12: =IF(L12<0,"ATENÇÃO","OK") -> OK | N12: 0 | O12: 0 | P12: 0 | Q12: 0 | R12: 0 | S12: 0 | T12: 0 | U12: 0 | V12: 0 | W12: 0 | X12: 0 | Y12: 0
C13: 10 | D13: Almoço(buffet livre) - Conforme Memorial Descritivo. | E13: 339039.80 | G13: Refeição | J13: 27 | L13: =K13-(SUM(N13:Y13)) -> 0 | M13: =IF(L13<0,"ATENÇÃO","OK") -> OK | N13: 0 | O13: 0 | P13: 0 | Q13: 0 | R13: 0 | S13: 0 | T13: 0 | U13: 0 | V13: 0 | W13: 0 | X13: 0 | Y13: 0
C14: 11 | D14: Jantar(buffet livre) - Conforme Memorial Descritivo. | E14: 339039.80 | G14: Refeição | J14: 27 | L14: =K14-(SUM(N14:Y14)) -> 0 | M14: =IF(L14<0,"ATENÇÃO","OK") -> OK | N14: 0 | O14: 0 | P14: 0 | Q14: 0 | R14: 0 | S14: 0 | T14: 0 | U14: 0 | V14: 0 | W14: 0 | X14: 0 | Y14: 0
A15: Complexo Turístico Flipper Ltda | B15: 4 | C15: 12 | D15: Pernoite com café da manhã, Apartamento Simples. PADRÃO MÉDIO - conforme memorial descritivo. | E15: 339039.80 | G15: Diária | J15: 111 | L15: =K15-(SUM(N15:Y15)) -> 0 | M15: =IF(L15<0,"ATENÇÃO","OK") -> OK | N15: 0 | O15: 0 | P15: 0 | Q15: 0 | R15: 0 | S15: 0 | T15: 0 | U15: 0 | V15: 0 | W15: 0 | X15: 0 | Y15: 0
C16: 13 | D16: Pernoite com café da manhã, Apartamento Duplo. PADRÃO MÉDIO - conforme memorial descritivo. | E16: 339039.80 | G16: Diária | J16: 180 | L16: =K16-(SUM(N16:Y16)) -> 0 | M16: =IF(L16<0,"ATENÇÃO","OK") -> OK | N16: 0 | O16: 0 | P16: 0 | Q16: 0 | R16: 0 | S16: 0 | T16: 0 | U16: 0 | V16: 0 | W16: 0 | X16: 0 | Y16: 0
C17: 14 | D17: Almoço(buffet livre) - Conforme Memorial Descritivo. | E17: 339039.80 | G17: Refeição | J17: 29 | L17: =K17-(SUM(N17:Y17)) -> 0 | M17: =IF(L17<0,"ATENÇÃO","OK") -> OK | N17: 0 | O17: 0 | P17: 0 | Q17: 0 | R17: 0 | S17: 0 | T17: 0 | U17: 0 | V17: 0 | W17: 0 | X17: 0 | Y17: 0
C18: 15 | D18: Jantar(buffet livre) - Conforme Memorial Descritivo. | E18: 339039.80 | G18: Refeição | J18: 29 | L18: =K18-(SUM(N18:Y18)) -> 0 | M18: =IF(L18<0,"ATENÇÃO","OK") -> OK | N18: 0 | O18: 0 | P18: 0 | Q18: 0 | R18: 0 | S18: 0 | T18: 0 | U18: 0 | V18: 0 | W18: 0 | X18: 0 | Y18: 0

Sheet FAED
A1: PROCESSO: 0239/2014/UDESC | D1: OBJETO: Serviços de Hospedagem | K1: VIGÊNCIA DA ATA: Lotes 1, 2 e 3 08/04/20134 até 07/04/2015 - Lote 4 21/03/2014 até 20/03/2015 | N1: OS nº 369/2014 Qtde. DT | O1: OS nº 373/2014 Qtde. DT | P1: OS nº 386/2014 Qtde. DT | Q1: AF/OS nº xxxx/2014 Qtde. DT | R1: AF/OS nº xxxx/2014 Qtde. DT | S1: AF/OS nº xxxx/2014 Qtde. DT | T1: AF/OS nº xxxx/2014 Qtde. DT | U1: AF/OS nº xxxx/2014 Qtde. DT | V1: AF/OS nº xxxx/2014 Qtde. DT | W1: AF/OS nº xxxx/2014 Qtde. DT | X1: AF/OS nº xxxx/2014 Qtde. DT | Y1: AF/OS nº xxxx/2014 Qtde. DT
A2: CENTRO PARTICIPANTE: FAED | O2: OS nº 373/2014 Qtde. DT | P2: OS nº 386/2014 Qtde. DT
A3: FORNECEDOR | B3: LOTE | C3: ITEM | D3: PRODUTO - CARACTERÍSTICAS MÍNIMAS | E3: ELEMENTO | F3: MARCA | G3: UNIDADE | H3: Entrega (Dias) | I3: Pagto. (Dias) | J3: Preço UNITÁRIO (R$) | K3: Qtde LICITADA | L3: Saldo / Automático | M3: ALERTA | N3: 41759 | O3: 41771 | P3: 41771 | Q3: ...../...../...... | R3: ...../...../...... | S3: ...../...../...... | T3: ...../...../...... | U3: ...../...../...... | V3: ...../...../...... | W3: ...../...../...... | X3: ...../...../...... | Y3: ...../...../......
A4: Maria do Mar Hotel e Ind. Alim. Ltda | B4: 1 | C4: 1 | D4: Pernoite com café da manhã, Apartamento Simples. PADRÃO MÉDIO - conforme memorial descritivo. | E4: 339039.80 | G4: Diária | J4: 142 | K4: =340-180 -> 160 | L4: =K4-(SUM(N4:Y4)) -> 81 | M4: =IF(L4<0,"ATENÇÃO","OK") -> OK | N4: 40 | O4: 15 | P4: 24 | Q4: 0 | R4: 0 | S4: 0 | T4: 0 | U4: 0 | V4: 0 | W4: 0 | X4: 0 | Y4: 0
C5: 2 | D5: Pernoite com café da manhã, Apartamento Duplo. PADRÃO MÉDIO - conforme memorial descritivo. | E5: 339039.80 | G5: Diária | J5: 158.87 | K5: =30-20 -> 10 | L5: =K5-(SUM(N5:Y5)) -> 0 | M5: =IF(L5<0,"ATENÇÃO","OK") -> OK | N5: 10 | O5: 0 | P5: 0 | Q5: 0 | R5: 0 | S5: 0 | T5: 0 | U5: 0 | V5: 0 | W5: 0 | X5: 0 | Y5: 0
C6: 3 | D6: Almoço(buffet livre) - Conforme Memorial Descritivo. | E6: 339039.80 | G6: Refeição | J6: 30 | K6: =170-87 -> 83 | L6: =K6-(SUM(N6:Y6)) -> 50 | M6: =IF(L6<0,"ATENÇÃO","OK") -> OK | N6: 16 | O6: 7 | P6: 10 | Q6: 0 | R6: 0 | S6: 0 | T6: 0 | U6: 0 | V6: 0 | W6: 0 | X6: 0 | Y6: 0
C7: 4 | D7: Jantar(buffet livre) - Conforme Memorial Descritivo. | E7: 339039.80 | G7: Refeição | J7: 30 | K7: =190-120 -> 70 | L7: =K7-(SUM(N7:Y7)) -> 30 | M7: =IF(L7<0,"ATENÇÃO","OK") -> OK | N7: 20 | O7: 8 | P7: 12 | Q7: 0 | R7: 0 | S7: 0 | T7: 0 | U7: 0 | V7: 0 | W7: 0 | X7: 0 | Y7: 0
A8: Castelmar Empreendimentos Hoteleiros Ltda | B8: 2 | C8: 5 | D8: Pernoite (Apartamento Individual) com café da manhã - ALTO PADRÃO. Suíte com 02 Ambientes: Quarto e Home Office - Conforme Memorial Descritivo. | E8: 339039.80 | G8: Diária | J8: 180 | L8: =K8-(SUM(N8:Y8)) -> 0 | M8: =IF(L8<0,"ATENÇÃO","OK") -> OK | N8: 0 | O8: 0 | P8: 0 | Q8: 0 | R8: 0 | S8: 0 | T8: 0 | U8: 0 | V8: 0 | W8: 0 | X8: 0 | Y8: 0
C9: 6 | D9: Almoço(buffet livre ou a la carte) - Conforme Memorial Descritivo. | E9: 339039.80 | G9: Refeição | J9: 38 | L9: =K9-(SUM(N9:Y9)) -> 0 | M9: =IF(L9<0,"ATENÇÃO","OK") -> OK | N9: 0 | O9: 0 | P9: 0 | Q9: 0 | R9: 0 | S9: 0 | T9: 0 | U9: 0 | V9: 0 | W9: 0 | X9: 0 | Y9: 0
C10: 7 | D10: Jantar(buffet livre ou a La carte) - Conforme Memorial Descritivo. | E10: 339039.80 | G10: Refeição | J10: 38 | L10: =K10-(SUM(N10:Y10)) -> 0 | M10: =IF(L10<0,"ATENÇÃO","OK") -> OK | N10: 0 | O10: 0 | P10: 0 | Q10: 0 | R10: 0 | S10: 0 | T10: 0 | U10: 0 | V10: 0 | W10: 0 | X10: 0 | Y10: 0
A11: Ryan Hotel Ltda | B11: 3 | C11: 8 | D11: Pernoite com café da manhã, Apartamento Simples. PADRÃO MÉDIO - conforme memorial descritivo. | E11: 339039.80 | G11: Diária | J11: 124 | L11: =K11-(SUM(N11:Y11)) -> 0 | M11: =IF(L11<0,"ATENÇÃO","OK") -> OK | N11: 0 | O11: 0 | P11: 0 | Q11: 0 | R11: 0 | S11: 0 | T11: 0 | U11: 0 | V11: 0 | W11: 0 | X11: 0 | Y11: 0
C12: 9 | D12: Pernoite com café da manhã, Apartamento Duplo. PADRÃO MÉDIO - conforme memorial descritivo. | E12: 339039.80 | G12: Diária | J12: 146 | L12: =K12-(SUM(N12:Y12)) -> 0 | M12: =IF(L12<0,"ATENÇÃO","OK") -> OK | N12: 0 | O12: 0 | P12: 0 | Q12: 0 | R12: 0 | S12: 0 | T12: 0 | U12: 0 | V12: 0 | W12: 0 | X12: 0 | Y12: 0
C13: 10 | D13: Almoço(buffet livre) - Conforme Memorial Descritivo. | E13: 339039.80 | G13: Refeição | J13: 27 | L13: =K13-(SUM(N13:Y13)) -> 0 | M13: =IF(L13<0,"ATENÇÃO","OK") -> OK | N13: 0 | O13: 0 | P13: 0 | Q13: 0 | R13: 0 | S13: 0 | T13: 0 | U13: 0 | V13: 0 | W13: 0 | X13: 0 | Y13: 0
C14: 11 | D14: Jantar(buffet livre) - Conforme Memorial Descritivo. | E14: 339039.80 | G14: Refeição | J14: 27 | L14: =K14-(SUM(N14:Y14)) -> 0 | M14: =IF(L14<0,"ATENÇÃO","OK") -> OK | N14: 0 | O14: 0 | P14: 0 | Q14: 0 | R14: 0 | S14: 0 | T14: 0 | U14: 0 | V14: 0 | W14: 0 | X14: 0 | Y14: 0
A15: Complexo Turístico Flipper Ltda | B15: 4 | C15: 12 | D15: Pernoite com café da manhã, Apartamento Simples. PADRÃO MÉDIO - conforme memorial descritivo. | E15: 339039.80 | G15: Diária | J15: 111 | L15: =K15-(SUM(N15:Y15)) -> 0 | M15: =IF(L15<0,"ATENÇÃO","OK") -> OK | N15: 0 | O15: 0 | P15: 0 | Q15: 0 | R15: 0 | S15: 0 | T15: 0 | U15: 0 | V15: 0 | W15: 0 | X15: 0 | Y15: 0
C16: 13 | D16: Pernoite com café da manhã, Apartamento Duplo. PADRÃO MÉDIO - conforme memorial descritivo. | E16: 339039.80 | G16: Diária | J16: 180 | L16: =K16-(SUM(N16:Y16)) -> 0 | M16: =IF(L16<0,"ATENÇÃO","OK") -> OK | N16: 0 | O16: 0 | P16: 0 | Q16: 0 | R16: 0 | S16: 0 | T16: 0 | U16: 0 | V16: 0 | W16: 0 | X16: 0 | Y16: 0
C17: 14 | D17: Almoço(buffet livre) - Conforme Memorial Descritivo. | E17: 339039.80 | G17: Refeição | J17: 29 | L17: =K17-(SUM(N17:Y17)) -> 0 | M17: =IF(L17<0,"ATENÇÃO","OK") -> OK | N17: 0 | O17: 0 | P17: 0 | Q17: 0 | R17: 0 | S17: 0 | T17: 0 | U17: 0 | V17: 0 | W17: 0 | X17: 0 | Y17: 0
C18: 15 | D18: Jantar(buffet livre) - Conforme Memorial Descritivo. | E18: 339039.80 | G18: Refeição | J18: 29 | L18: =K18-(SUM(N18:Y18)) -> 0 | M18: =IF(L18<0,"ATENÇÃO","OK") -> OK | N18: 0 | O18: 0 | P18: 0 | Q18: 0 | R18: 0 | S18: 0 | T18: 0 | U18: 0 | V18: 0 | W18: 0 | X18: 0 | Y18: 0

Sheet CEAD
A1: PROCESSO: 0239/2014/UDESC | D1: OBJETO: Serviços de Hospedagem | K1: VIGÊNCIA DA ATA: Lotes 1, 2 e 3 08/04/20134 até 07/04/2015 - Lote 4 21/03/2014 até 20/03/2015 | N1: AF/OS nº 436/2014 Qtde. DT | O1: AF/OS nº 435/2014 Qtde. DT | P1: AF/OS nº xxxx/2014 Qtde. DT | Q1: AF/OS nº xxxx/2014 Qtde. DT | R1: AF/OS nº xxxx/2014 Qtde. DT | S1: AF/OS nº xxxx/2014 Qtde. DT | T1: AF/OS nº xxxx/2014 Qtde. DT | U1: AF/OS nº xxxx/2014 Qtde. DT | V1: AF/OS nº xxxx/2014 Qtde. DT | W1: AF/OS nº xxxx/2014 Qtde. DT | X1: AF/OS nº xxxx/2014 Qtde. DT | Y1: AF/OS nº xxxx/2014 Qtde. DT
A2: CENTRO PARTICIPANTE: CEAD
A3: FORNECEDOR | B3: LOTE | C3: ITEM | D3: PRODUTO - CARACTERÍSTICAS MÍNIMAS | E3: ELEMENTO | F3: MARCA | G3: UNIDADE | H3: Entrega (Dias) | I3: Pagto. (Dias) | J3: Preço UNITÁRIO (R$) | K3: Qtde LICITADA | L3: Saldo / Automático | M3: ALERTA | N3: 41788 | O3: 41806 | P3: ...../...../...... | Q3: ...../...../...... | R3: ...../...../...... | S3: ...../...../...... | T3: ...../...../...... | U3: ...../...../...... | V3: ...../...../...... | W3: ...../...../...... | X3: ...../...../...... | Y3: ...../...../......
A4: Maria do Mar Hotel e Ind. Alim. Ltda | B4: 1 | C4: 1 | D4: Pernoite com café da manhã, Apartamento Simples. PADRÃO MÉDIO - conforme memorial descritivo. | E4: 339039.80 | G4: Diária | J4: 142 | K4: 10 | L4: =K4-(SUM(N4:Y4)) -> 0 | M4: =IF(L4<0,"ATENÇÃO","OK") -> OK | N4: 10 | O4: 0 | P4: 0 | Q4: 0 | R4: 0 | S4: 0 | T4: 0 | U4: 0 | V4: 0 | W4: 0 | X4: 0 | Y4: 0
C5: 2 | D5: Pernoite com café da manhã, Apartamento Duplo. PADRÃO MÉDIO - conforme memorial descritivo. | E5: 339039.80 | G5: Diária | J5: 158.87 | K5: 10 | L5: =K5-(SUM(N5:Y5)) -> 0 | M5: =IF(L5<0,"ATENÇÃO","OK") -> OK | N5: 10 | O5: 0 | P5: 0 | Q5: 0 | R5: 0 | S5: 0 | T5: 0 | U5: 0 | V5: 0 | W5: 0 | X5: 0 | Y5: 0
C6: 3 | D6: Almoço(buffet livre) - Conforme Memorial Descritivo. | E6: 339039.80 | G6: Refeição | J6: 30 | K6: 10 | L6: =K6-(SUM(N6:Y6)) -> 0 | M6: =IF(L6<0,"ATENÇÃO","OK") -> OK | N6: 10 | O6: 0 | P6: 0 | Q6: 0 | R6: 0 | S6: 0 | T6: 0 | U6: 0 | V6: 0 | W6: 0 | X6: 0 | Y6: 0
C7: 4 | D7: Jantar(buffet livre) - Conforme Memorial Descritivo. | E7: 339039.80 | G7: Refeição | J7: 30 | K7: 10 | L7: =K7-(SUM(N7:Y7)) -> 0 | M7: =IF(L7<0,"ATENÇÃO","OK") -> OK | N7: 10 | O7: 0 | P7: 0 | Q7: 0 | R7: 0 | S7: 0 | T7: 0 | U7: 0 | V7: 0 | W7: 0 | X7: 0 | Y7: 0
A8: Castelmar Empreendimentos Hoteleiros Ltda | B8: 2 | C8: 5 | D8: Pernoite (Apartamento Individual) com café da manhã - ALTO PADRÃO. Suíte com 02 Ambientes: Quarto e Home Office - Conforme Memorial Descritivo. | E8: 339039.80 | G8: Diária | J8: 180 | K8: 4 | L8: =K8-(SUM(N8:Y8)) -> 0 | M8: =IF(L8<0,"ATENÇÃO","OK") -> OK | N8: 0 | O8: 4 | P8: 0 | Q8: 0 | R8: 0 | S8: 0 | T8: 0 | U8: 0 | V8: 0 | W8: 0 | X8: 0 | Y8: 0
C9: 6 | D9: Almoço(buffet livre ou a la carte) - Conforme Memorial Descritivo. | E9: 339039.80 | G9: Refeição | J9: 38 | K9: 4 | L9: =K9-(SUM(N9:Y9)) -> 0 | M9: =IF(L9<0,"ATENÇÃO","OK") -> OK | N9: 0 | O9: 4 | P9: 0 | Q9: 0 | R9: 0 | S9: 0 | T9: 0 | U9: 0 | V9: 0 | W9: 0 | X9: 0 | Y9: 0
C10: 7 | D10: Jantar(buffet livre ou a La carte) - Conforme Memorial Descritivo. | E10: 339039.80 | G10: Refeição | J10: 38 | K10: 4 | L10: =K10-(SUM(N10:Y10)) -> 0 | M10: =IF(L10<0,"ATENÇÃO","OK") -> OK | N10: 0 | O10: 4 | P10: 0 | Q10: 0 | R10: 0 | S10: 0 | T10: 0 | U10: 0 | V10: 0 | W10: 0 | X10: 0 | Y10: 0
A11: Ryan Hotel Ltda | B11: 3 | C11: 8 | D11: Pernoite com café da manhã, Apartamento Simples. PADRÃO MÉDIO - conforme memorial descritivo. | E11: 339039.80 | G11: Diária | J11: 124 | L11: =K11-(SUM(N11:Y11)) -> 0 | M11: =IF(L11<0,"ATENÇÃO","OK") -> OK | N11: 0 | O11: 0 | P11: 0 | Q11: 0 | R11: 0 | S11: 0 | T11: 0 | U11: 0 | V11: 0 | W11: 0 | X11: 0 | Y11: 0
C12: 9 | D12: Pernoite com café da manhã, Apartamento Duplo. PADRÃO MÉDIO - conforme memorial descritivo. | E12: 339039.80 | G12: Diária | J12: 146 | L12: =K12-(SUM(N12:Y12)) -> 0 | M12: =IF(L12<0,"ATENÇÃO","OK") -> OK | N12: 0 | O12: 0 | P12: 0 | Q12: 0 | R12: 0 | S12: 0 | T12: 0 | U12: 0 | V12: 0 | W12: 0 | X12: 0 | Y12: 0
C13: 10 | D13: Almoço(buffet livre) - Conforme Memorial Descritivo. | E13: 339039.80 | G13: Refeição | J13: 27 | L13: =K13-(SUM(N13:Y13)) -> 0 | M13: =IF(L13<0,"ATENÇÃO","OK") -> OK | N13: 0 | O13: 0 | P13: 0 | Q13: 0 | R13: 0 | S13: 0 | T13: 0 | U13: 0 | V13: 0 | W13: 0 | X13: 0 | Y13: 0
C14: 11 | D14: Jantar(buffet livre) - Conforme Memorial Descritivo. | E14: 339039.80 | G14: Refeição | J14: 27 | L14: =K14-(SUM(N14:Y14)) -> 0 | M14: =IF(L14<0,"ATENÇÃO","OK") -> OK | N14: 0 | O14: 0 | P14: 0 | Q14: 0 | R14: 0 | S14: 0 | T14: 0 | U14: 0 | V14: 0 | W14: 0 | X14: 0 | Y14: 0
A15: Complexo Turístico Flipper Ltda | B15: 4 | C15: 12 | D15: Pernoite com café da manhã, Apartamento Simples. PADRÃO MÉDIO - conforme memorial descritivo. | E15: 339039.80 | G15: Diária | J15: 111 | L15: =K15-(SUM(N15:Y15)) -> 0 | M15: =IF(L15<0,"ATENÇÃO","OK") -> OK | N15: 0 | O15: 0 | P15: 0 | Q15: 0 | R15: 0 | S15: 0 | T15: 0 | U15: 0 | V15: 0 | W15: 0 | X15: 0 | Y15: 0
C16: 13 | D16: Pernoite com café da manhã, Apartamento Duplo. PADRÃO MÉDIO - conforme memorial descritivo. | E16: 339039.80 | G16: Diária | J16: 180 | L16: =K16-(SUM(N16:Y16)) -> 0 | M16: =IF(L16<0,"ATENÇÃO","OK") -> OK | N16: 0 | O16: 0 | P16: 0 | Q16: 0 | R16: 0 | S16: 0 | T16: 0 | U16: 0 | V16: 0 | W16: 0 | X16: 0 | Y16: 0
C17: 14 | D17: Almoço(buffet livre) - Conforme Memorial Descritivo. | E17: 339039.80 | G17: Refeição | J17: 29 | L17: =K17-(SUM(N17:Y17)) -> 0 | M17: =IF(L17<0,"ATENÇÃO","OK") -> OK | N17: 0 | O17: 0 | P17: 0 | Q17: 0 | R17: 0 | S17: 0 | T17: 0 | U17: 0 | V17: 0 | W17: 0 | X17: 0 | Y17: 0
C18: 15 | D18: Jantar(buffet livre) - Conforme Memorial Descritivo. | E18: 339039.80 | G18: Refeição | J18: 29 | L18: =K18-(SUM(N18:Y18)) -> 0 | M18: =IF(L18<0,"ATENÇÃO","OK") -> OK | N18: 0 | O18: 0 | P18: 0 | Q18: 0 | R18: 0 | S18: 0 | T18: 0 | U18: 0 | V18: 0 | W18: 0 | X18: 0 | Y18: 0

Sheet CEFID
A1: PROCESSO: 0239/2014/UDESC | D1: OBJETO: Serviços de Hospedagem | K1: VIGÊNCIA DA ATA: Lotes 1, 2 e 3 08/04/20134 até 07/04/2015 - Lote 4 21/03/2014 até 20/03/2015 | N1: AF/OS nº 376/2014 Qtde. DT | O1: AF/OS nº xxxx/2014 Qtde. DT | P1: AF/OS nº xxxx/2014 Qtde. DT | Q1: AF/OS nº xxxx/2014 Qtde. DT | R1: AF/OS nº xxxx/2014 Qtde. DT | S1: AF/OS nº xxxx/2014 Qtde. DT | T1: AF/OS nº xxxx/2014 Qtde. DT | U1: AF/OS nº xxxx/2014 Qtde. DT | V1: AF/OS nº xxxx/2014 Qtde. DT | W1: AF/OS nº xxxx/2014 Qtde. DT | X1: AF/OS nº xxxx/2014 Qtde. DT | Y1: AF/OS nº xxxx/2014 Qtde. DT
A2: CENTRO PARTICIPANTE: CEFID
A3: FORNECEDOR | B3: LOTE | C3: ITEM | D3: PRODUTO - CARACTERÍSTICAS MÍNIMAS | E3: ELEMENTO | F3: MARCA | G3: UNIDADE | H3: Entrega (Dias) | I3: Pagto. (Dias) | J3: Preço UNITÁRIO (R$) | K3: Qtde LICITADA | L3: Saldo / Automático | M3: ALERTA | N3: 41758 | O3: ...../...../...... | P3: ...../...../...... | Q3: ...../...../...... | R3: ...../...../...... | S3: ...../...../...... | T3: ...../...../...... | U3: ...../...../...... | V3: ...../...../...... | W3: ...../...../...... | X3: ...../...../...... | Y3: ...../...../......
A4: Maria do Mar Hotel e Ind. Alim. Ltda | B4: 1 | C4: 1 | D4: Pernoite com café da manhã, Apartamento Simples. PADRÃO MÉDIO - conforme memorial descritivo. | E4: 339039.80 | G4: Diária | J4: 142 | K4: 70 | L4: =K4-(SUM(N4:Y4)) -> 50 | M4: =IF(L4<0,"ATENÇÃO","OK") -> OK | N4: 20 | O4: 0 | P4: 0 | Q4: 0 | R4: 0 | S4: 0 | T4: 0 | U4: 0 | V4: 0 | W4: 0 | X4: 0 | Y4: 0
C5: 2 | D5: Pernoite com café da manhã, Apartamento Duplo. PADRÃO MÉDIO - conforme memorial descritivo. | E5: 339039.80 | G5: Diária | J5: 158.87 | L5: =K5-(SUM(N5:Y5)) -> 0 | M5: =IF(L5<0,"ATENÇÃO","OK") -> OK | N5: 0 | O5: 0 | P5: 0 | Q5: 0 | R5: 0 | S5: 0 | T5: 0 | U5: 0 | V5: 0 | W5: 0 | X5: 0 | Y5: 0
C6: 3 | D6: Almoço(buffet livre) - Conforme Memorial Descritivo. | E6: 339039.80 | G6: Refeição | J6: 30 | K6: 60 | L6: =K6-(SUM(N6:Y6)) -> 40 | M6: =IF(L6<0,"ATENÇÃO","OK") -> OK | N6: 20 | O6: 0 | P6: 0 | Q6: 0 | R6: 0 | S6: 0 | T6: 0 | U6: 0 | V6: 0 | W6: 0 | X6: 0 | Y6: 0
C7: 4 | D7: Jantar(buffet livre) - Conforme Memorial Descritivo. | E7: 339039.80 | G7: Refeição | J7: 30 | L7: =K7-(SUM(N7:Y7)) -> 0 | M7: =IF(L7<0,"ATENÇÃO","OK") -> OK | N7: 0 | O7: 0 | P7: 0 | Q7: 0 | R7: 0 | S7: 0 | T7: 0 | U7: 0 | V7: 0 | W7: 0 | X7: 0 | Y7: 0
A8: Castelmar Empreendimentos Hoteleiros Ltda | B8: 2 | C8: 5 | D8: Pernoite (Apartamento Individual) com café da manhã - ALTO PADRÃO. Suíte com 02 Ambientes: Quarto e Home Office - Conforme Memorial Descritivo. | E8: 339039.80 | G8: Diária | J8: 180 | L8: =K8-(SUM(N8:Y8)) -> 0 | M8: =IF(L8<0,"ATENÇÃO","OK") -> OK | N8: 0 | O8: 0 | P8: 0 | Q8: 0 | R8: 0 | S8: 0 | T8: 0 | U8: 0 | V8: 0 | W8: 0 | X8: 0 | Y8: 0
C9: 6 | D9: Almoço(buffet livre ou a la carte) - Conforme Memorial Descritivo. | E9: 339039.80 | G9: Refeição | J9: 38 | K9: 30 | L9: =K9-(SUM(N9:Y9)) -> 30 | M9: =IF(L9<0,"ATENÇÃO","OK") -> OK | N9: 0 | O9: 0 | P9: 0 | Q9: 0 | R9: 0 | S9: 0 | T9: 0 | U9: 0 | V9: 0 | W9: 0 | X9: 0 | Y9: 0
C10: 7 | D10: Jantar(buffet livre ou a La carte) - Conforme Memorial Descritivo. | E10: 339039.80 | G10: Refeição | J10: 38 | L10: =K10-(SUM(N10:Y10)) -> 0 | M10: =IF(L10<0,"ATENÇÃO","OK") -> OK | N10: 0 | O10: 0 | P10: 0 | Q10: 0 | R10: 0 | S10: 0 | T10: 0 | U10: 0 | V10: 0 | W10: 0 | X10: 0 | Y10: 0
A11: Ryan Hotel Ltda | B11: 3 | C11: 8 | D11: Pernoite com café da manhã, Apartamento Simples. PADRÃO MÉDIO - conforme memorial descritivo. | E11: 339039.80 | G11: Diária | J11: 124 | L11: =K11-(SUM(N11:Y11)) -> 0 | M11: =IF(L11<0,"ATENÇÃO","OK") -> OK | N11: 0 | O11: 0 | P11: 0 | Q11: 0 | R11: 0 | S11: 0 | T11: 0 | U11: 0 | V11: 0 | W11: 0 | X11: 0 | Y11: 0
C12: 9 | D12: Pernoite com café da manhã, Apartamento Duplo. PADRÃO MÉDIO - conforme memorial descritivo. | E12: 339039.80 | G12: Diária | J12: 146 | L12: =K12-(SUM(N12:Y12)) -> 0 | M12: =IF(L12<0,"ATENÇÃO","OK") -> OK | N12: 0 | O12: 0 | P12: 0 | Q12: 0 | R12: 0 | S12: 0 | T12: 0 | U12: 0 | V12: 0 | W12: 0 | X12: 0 | Y12: 0
C13: 10 | D13: Almoço(buffet livre) - Conforme Memorial Descritivo. | E13: 339039.80 | G13: Refeição | J13: 27 | L13: =K13-(SUM(N13:Y13)) -> 0 | M13: =IF(L13<0,"ATENÇÃO","OK") -> OK | N13: 0 | O13: 0 | P13: 0 | Q13: 0 | R13: 0 | S13: 0 | T13: 0 | U13: 0 | V13: 0 | W13: 0 | X13: 0 | Y13: 0
C14: 11 | D14: Jantar(buffet livre) - Conforme Memorial Descritivo. | E14: 339039.80 | G14: Refeição | J14: 27 | L14: =K14-(SUM(N14:Y14)) -> 0 | M14: =IF(L14<0,"ATENÇÃO","OK") -> OK | N14: 0 | O14: 0 | P14: 0 | Q14: 0 | R14: 0 | S14: 0 | T14: 0 | U14: 0 | V14: 0 | W14: 0 | X14: 0 | Y14: 0
A15: Complexo Turístico Flipper Ltda | B15: 4 | C15: 12 | D15: Pernoite com café da manhã, Apartamento Simples. PADRÃO MÉDIO - conforme memorial descritivo. | E15: 339039.80 | G15: Diária | J15: 111 | L15: =K15-(SUM(N15:Y15)) -> 0 | M15: =IF(L15<0,"ATENÇÃO","OK") -> OK | N15: 0 | O15: 0 | P15: 0 | Q15: 0 | R15: 0 | S15: 0 | T15: 0 | U15: 0 | V15: 0 | W15: 0 | X15: 0 | Y15: 0
C16: 13 | D16: Pernoite com café da manhã, Apartamento Duplo. PADRÃO MÉDIO - conforme memorial descritivo. | E16: 339039.80 | G16: Diária | J16: 180 | L16: =K16-(SUM(N16:Y16)) -> 0 | M16: =IF(L16<0,"ATENÇÃO","OK") -> OK | N16: 0 | O16: 0 | P16: 0 | Q16: 0 | R16: 0 | S16: 0 | T16: 0 | U16: 0 | V16: 0 | W16: 0 | X16: 0 | Y16: 0
C17: 14 | D17: Almoço(buffet livre) - Conforme Memorial Descritivo. | E17: 339039.80 | G17: Refeição | J17: 29 | L17: =K17-(SUM(N17:Y17)) -> 0 | M17: =IF(L17<0,"ATENÇÃO","OK") -> OK | N17: 0 | O17: 0 | P17: 0 | Q17: 0 | R17: 0 | S17: 0 | T17: 0 | U17: 0 | V17: 0 | W17: 0 | X17: 0 | Y17: 0
C18: 15 | D18: Jantar(buffet livre) - Conforme Memorial Descritivo. | E18: 339039.80 | G18: Refeição | J18: 29 | L18: =K18-(SUM(N18:Y18)) -> 0 | M18: =IF(L18<0,"ATENÇÃO","OK") -> OK | N18: 0 | O18: 0 | P18: 0 | Q18: 0 | R18: 0 | S18: 0 | T18: 0 | U18: 0 | V18: 0 | W18: 0 | X18: 0 | Y18: 0

Sheet CESFI
A1: PROCESSO: 0239/2014/UDESC | D1: OBJETO: Serviços de Hospedagem | K1: VIGÊNCIA DA ATA: Lotes 1, 2 e 3 08/04/20134 até 07/04/2015 - Lote 4 21/03/2014 até 20/03/2015 | N1: AF/OS nº xxxx/2014 Qtde. DT | O1: AF/OS nº xxxx/2014 Qtde. DT | P1: AF/OS nº xxxx/2014 Qtde. DT | Q1: AF/OS nº xxxx/2014 Qtde. DT | R1: AF/OS nº xxxx/2014 Qtde. DT | S1: AF/OS nº xxxx/2014 Qtde. DT | T1: AF/OS nº xxxx/2014 Qtde. DT | U1: AF/OS nº xxxx/2014 Qtde. DT | V1: AF/OS nº xxxx/2014 Qtde. DT | W1: AF/OS nº xxxx/2014 Qtde. DT | X1: AF/OS nº xxxx/2014 Qtde. DT | Y1: AF/OS nº xxxx/2014 Qtde. DT
A2: CENTRO PARTICIPANTE: CESFI
A3: FORNECEDOR | B3: LOTE | C3: ITEM | D3: PRODUTO - CARACTERÍSTICAS MÍNIMAS | E3: ELEMENTO | F3: MARCA | G3: UNIDADE | H3: Entrega (Dias) | I3: Pagto. (Dias) | J3: Preço UNITÁRIO (R$) | K3: Qtde LICITADA | L3: Saldo / Automático | M3: ALERTA | N3: ...../...../...... | O3: ...../...../...... | P3: ...../...../...... | Q3: ...../...../...... | R3: ...../...../...... | S3: ...../...../...... | T3: ...../...../...... | U3: ...../...../...... | V3: ...../...../...... | W3: ...../...../...... | X3: ...../...../...... | Y3: ...../...../......
A4: Maria do Mar Hotel e Ind. Alim. Ltda | B4: 1 | C4: 1 | D4: Pernoite com café da manhã, Apartamento Simples. PADRÃO MÉDIO - conforme memorial descritivo. | E4: 339039.80 | G4: Diária | J4: 142 | L4: =K4-(SUM(N4:Y4)) -> 0 | M4: =IF(L4<0,"ATENÇÃO","OK") -> OK | N4: 0 | O4: 0 | P4: 0 | Q4: 0 | R4: 0 | S4: 0 | T4: 0 | U4: 0 | V4: 0 | W4: 0 | X4: 0 | Y4: 0
C5: 2 | D5: Pernoite com café da manhã, Apartamento Duplo. PADRÃO MÉDIO - conforme memorial descritivo. | E5: 339039.80 | G5: Diária | J5: 158.87 | L5: =K5-(SUM(N5:Y5)) -> 0 | M5: =IF(L5<0,"ATENÇÃO","OK") -> OK | N5: 0 | O5: 0 | P5: 0 | Q5: 0 | R5: 0 | S5: 0 | T5: 0 | U5: 0 | V5: 0 | W5: 0 | X5: 0 | Y5: 0
C6: 3 | D6: Almoço(buffet livre) - Conforme Memorial Descritivo. | E6: 339039.80 | G6: Refeição | J6: 30 | L6: =K6-(SUM(N6:Y6)) -> 0 | M6: =IF(L6<0,"ATENÇÃO","OK") -> OK | N6: 0 | O6: 0 | P6: 0 | Q6: 0 | R6: 0 | S6: 0 | T6: 0 | U6: 0 | V6: 0 | W6: 0 | X6: 0 | Y6: 0
C7: 4 | D7: Jantar(buffet livre) - Conforme Memorial Descritivo. | E7: 339039.80 | G7: Refeição | J7: 30 | L7: =K7-(SUM(N7:Y7)) -> 0 | M7: =IF(L7<0,"ATENÇÃO","OK") -> OK | N7: 0 | O7: 0 | P7: 0 | Q7: 0 | R7: 0 | S7: 0 | T7: 0 | U7: 0 | V7: 0 | W7: 0 | X7: 0 | Y7: 0
A8: Castelmar Empreendimentos Hoteleiros Ltda | B8: 2 | C8: 5 | D8: Pernoite (Apartamento Individual) com café da manhã - ALTO PADRÃO. Suíte com 02 Ambientes: Quarto e Home Office - Conforme Memorial Descritivo. | E8: 339039.80 | G8: Diária | J8: 180 | L8: =K8-(SUM(N8:Y8)) -> 0 | M8: =IF(L8<0,"ATENÇÃO","OK") -> OK | N8: 0 | O8: 0 | P8: 0 | Q8: 0 | R8: 0 | S8: 0 | T8: 0 | U8: 0 | V8: 0 | W8: 0 | X8: 0 | Y8: 0
C9: 6 | D9: Almoço(buffet livre ou a la carte) - Conforme Memorial Descritivo. | E9: 339039.80 | G9: Refeição | J9: 38 | L9: =K9-(SUM(N9:Y9)) -> 0 | M9: =IF(L9<0,"ATENÇÃO","OK") -> OK | N9: 0 | O9: 0 | P9: 0 | Q9: 0 | R9: 0 | S9: 0 | T9: 0 | U9: 0 | V9: 0 | W9: 0 | X9: 0 | Y9: 0
C10: 7 | D10: Jantar(buffet livre ou a La carte) - Conforme Memorial Descritivo. | E10: 339039.80 | G10: Refeição | J10: 38 | L10: =K10-(SUM(N10:Y10)) -> 0 | M10: =IF(L10<0,"ATENÇÃO","OK") -> OK | N10: 0 | O10: 0 | P10: 0 | Q10: 0 | R10: 0 | S10: 0 | T10: 0 | U10: 0 | V10: 0 | W10: 0 | X10: 0 | Y10: 0
A11: Ryan Hotel Ltda | B11: 3 | C11: 8 | D11: Pernoite com café da manhã, Apartamento Simples. PADRÃO MÉDIO - conforme memorial descritivo. | E11: 339039.80 | G11: Diária | J11: 124 | K11: 50 | L11: =K11-(SUM(N11:Y11)) -> 50 | M11: =IF(L11<0,"ATENÇÃO","OK") -> OK | N11: 0 | O11: 0 | P11: 0 | Q11: 0 | R11: 0 | S11: 0 | T11: 0 | U11: 0 | V11: 0 | W11: 0 | X11: 0 | Y11: 0
C12: 9 | D12: Pernoite com café da manhã, Apartamento Duplo. PADRÃO MÉDIO - conforme memorial descritivo. | E12: 339039.80 | G12: Diária | J12: 146 | K12: 50 | L12: =K12-(SUM(N12:Y12)) -> 50 | M12: =IF(L12<0,"ATENÇÃO","OK") -> OK | N12: 0 | O12: 0 | P12: 0 | Q12: 0 | R12: 0 | S12: 0 | T12: 0 | U12: 0 | V12: 0 | W12: 0 | X12: 0 | Y12: 0
C13: 10 | D13: Almoço(buffet livre) - Conforme Memorial Descritivo. | E13: 339039.80 | G13: Refeição | J13: 27 | K13: 35 | L13: =K13-(SUM(N13:Y13)) -> 35 | M13: =IF(L13<0,"ATENÇÃO","OK") -> OK | N13: 0 | O13: 0 | P13: 0 | Q13: 0 | R13: 0 | S13: 0 | T13: 0 | U13: 0 | V13: 0 | W13: 0 | X13: 0 | Y13: 0
C14: 11 | D14: Jantar(buffet livre) - Conforme Memorial Descritivo. | E14: 339039.80 | G14: Refeição | J14: 27 | K14: 35 | L14: =K14-(SUM(N14:Y14)) -> 35 | M14: =IF(L14<0,"ATENÇÃO","OK") -> OK | N14: 0 | O14: 0 | P14: 0 | Q14: 0 | R14: 0 | S14: 0 | T14: 0 | U14: 0 | V14: 0 | W14: 0 | X14: 0 | Y14: 0
A15: Complexo Turístico Flipper Ltda | B15: 4 | C15: 12 | D15: Pernoite com café da manhã, Apartamento Simples. PADRÃO MÉDIO - conforme memorial descritivo. | E15: 339039.80 | G15: Diária | J15: 111 | L15: =K15-(SUM(N15:Y15)) -> 0 | M15: =IF(L15<0,"ATENÇÃO","OK") -> OK | N15: 0 | O15: 0 | P15: 0 | Q15: 0 | R15: 0 | S15: 0 | T15: 0 | U15: 0 | V15: 0 | W15: 0 | X15: 0 | Y15: 0
C16: 13 | D16: Pernoite com café da manhã, Apartamento Duplo. PADRÃO MÉDIO - conforme memorial descritivo. | E16: 339039.80 | G16: Diária | J16: 180 | L16: =K16-(SUM(N16:Y16)) -> 0 | M16: =IF(L16<0,"ATENÇÃO","OK") -> OK | N16: 0 | O16: 0 | P16: 0 | Q16: 0 | R16: 0 | S16: 0 | T16: 0 | U16: 0 | V16: 0 | W16: 0 | X16: 0 | Y16: 0
C17: 14 | D17: Almoço(buffet livre) - Conforme Memorial Descritivo. | E17: 339039.80 | G17: Refeição | J17: 29 | L17: =K17-(SUM(N17:Y17)) -> 0 | M17: =IF(L17<0,"ATENÇÃO","OK") -> OK | N17: 0 | O17: 0 | P17: 0 | Q17: 0 | R17: 0 | S17: 0 | T17: 0 | U17: 0 | V17: 0 | W17: 0 | X17: 0 | Y17: 0
C18: 15 | D18: Jantar(buffet livre) - Conforme Memorial Descritivo. | E18: 339039.80 | G18: Refeição | J18: 29 | L18: =K18-(SUM(N18:Y18)) -> 0 | M18: =IF(L18<0,"ATENÇÃO","OK") -> OK | N18: 0 | O18: 0 | P18: 0 | Q18: 0 | R18: 0 | S18: 0 | T18: 0 | U18: 0 | V18: 0 | W18: 0 | X18: 0 | Y18: 0

Sheet CERES
A1: PROCESSO: 0239/2014/UDESC | D1: OBJETO: Serviços de Hospedagem | K1: VIGÊNCIA DA ATA: Lotes 1, 2 e 3 08/04/20134 até 07/04/2015 - Lote 4 21/03/2014 até 20/03/2015 | N1: AF/OS nº xxxx/2014 Qtde. DT | O1: AF/OS nº xxxx/2014 Qtde. DT | P1: AF/OS nº xxxx/2014 Qtde. DT | Q1: AF/OS nº xxxx/2014 Qtde. DT | R1: AF/OS nº xxxx/2014 Qtde. DT | S1: AF/OS nº xxxx/2014 Qtde. DT | T1: AF/OS nº xxxx/2014 Qtde. DT | U1: AF/OS nº xxxx/2014 Qtde. DT | V1: AF/OS nº xxxx/2014 Qtde. DT | W1: AF/OS nº xxxx/2014 Qtde. DT | X1: AF/OS nº xxxx/2014 Qtde. DT | Y1: AF/OS nº xxxx/2014 Qtde. DT
A2: CENTRO PARTICIPANTE: CERES
A3: FORNECEDOR | B3: LOTE | C3: ITEM | D3: PRODUTO - CARACTERÍSTICAS MÍNIMAS | E3: ELEMENTO | F3: MARCA | G3: UNIDADE | H3: Entrega (Dias) | I3: Pagto. (Dias) | J3: Preço UNITÁRIO (R$) | K3: Qtde LICITADA | L3: Saldo / Automático | M3: ALERTA | N3: ...../...../...... | O3: ...../...../...... | P3: ...../...../...... | Q3: ...../...../...... | R3: ...../...../...... | S3: ...../...../...... | T3: ...../...../...... | U3: ...../...../...... | V3: ...../...../...... | W3: ...../...../...... | X3: ...../...../...... | Y3: ...../...../......
A4: Maria do Mar Hotel e Ind. Alim. Ltda | B4: 1 | C4: 1 | D4: Pernoite com café da manhã, Apartamento Simples. PADRÃO MÉDIO - conforme memorial descritivo. | E4: 339039.80 | G4: Diária | J4: 142 | L4: =K4-(SUM(N4:Y4)) -> 0 | M4: =IF(L4<0,"ATENÇÃO","OK") -> OK | N4: 0 | O4: 0 | P4: 0 | Q4: 0 | R4: 0 | S4: 0 | T4: 0 | U4: 0 | V4: 0 | W4: 0 | X4: 0 | Y4: 0
C5: 2 | D5: Pernoite com café da manhã, Apartamento Duplo. PADRÃO MÉDIO - conforme memorial descritivo. | E5: 339039.80 | G5: Diária | J5: 158.87 | L5: =K5-(SUM(N5:Y5)) -> 0 | M5: =IF(L5<0,"ATENÇÃO","OK") -> OK | N5: 0 | O5: 0 | P5: 0 | Q5: 0 | R5: 0 | S5: 0 | T5: 0 | U5: 0 | V5: 0 | W5: 0 | X5: 0 | Y5: 0
C6: 3 | D6: Almoço(buffet livre) - Conforme Memorial Descritivo. | E6: 339039.80 | G6: Refeição | J6: 30 | L6: =K6-(SUM(N6:Y6)) -> 0 | M6: =IF(L6<0,"ATENÇÃO","OK") -> OK | N6: 0 | O6: 0 | P6: 0 | Q6: 0 | R6: 0 | S6: 0 | T6: 0 | U6: 0 | V6: 0 | W6: 0 | X6: 0 | Y6: 0
C7: 4 | D7: Jantar(buffet livre) - Conforme Memorial Descritivo. | E7: 339039.80 | G7: Refeição | J7: 30 | L7: =K7-(SUM(N7:Y7)) -> 0 | M7: =IF(L7<0,"ATENÇÃO","OK") -> OK | N7: 0 | O7: 0 | P7: 0 | Q7: 0 | R7: 0 | S7: 0 | T7: 0 | U7: 0 | V7: 0 | W7: 0 | X7: 0 | Y7: 0
A8: Castelmar Empreendimentos Hoteleiros Ltda | B8: 2 | C8: 5 | D8: Pernoite (Apartamento Individual) com café da manhã - ALTO PADRÃO. Suíte com 02 Ambientes: Quarto e Home Office - Conforme Memorial Descritivo. | E8: 339039.80 | G8: Diária | J8: 180 | L8: =K8-(SUM(N8:Y8)) -> 0 | M8: =IF(L8<0,"ATENÇÃO","OK") -> OK | N8: 0 | O8: 0 | P8: 0 | Q8: 0 | R8: 0 | S8: 0 | T8: 0 | U8: 0 | V8: 0 | W8: 0 | X8: 0 | Y8: 0
C9: 6 | D9: Almoço(buffet livre ou a la carte) - Conforme Memorial Descritivo. | E9: 339039.80 | G9: Refeição | J9: 38 | L9: =K9-(SUM(N9:Y9)) -> 0 | M9: =IF(L9<0,"ATENÇÃO","OK") -> OK | N9: 0 | O9: 0 | P9: 0 | Q9: 0 | R9: 0 | S9: 0 | T9: 0 | U9: 0 | V9: 0 | W9: 0 | X9: 0 | Y9: 0
C10: 7 | D10: Jantar(buffet livre ou a La carte) - Conforme Memorial Descritivo. | E10: 339039.80 | G10: Refeição | J10: 38 | L10: =K10-(SUM(N10:Y10)) -> 0 | M10: =IF(L10<0,"ATENÇÃO","OK") -> OK | N10: 0 | O10: 0 | P10: 0 | Q10: 0 | R10: 0 | S10: 0 | T10: 0 | U10: 0 | V10: 0 | W10: 0 | X10: 0 | Y10: 0
A11: Ryan Hotel Ltda | B11: 3 | C11: 8 | D11: Pernoite com café da manhã, Apartamento Simples. PADRÃO MÉDIO - conforme memorial descritivo. | E11: 339039.80 | G11: Diária | J11: 124 | L11: =K11-(SUM(N11:Y11)) -> 0 | M11: =IF(L11<0,"ATENÇÃO","OK") -> OK | N11: 0 | O11: 0 | P11: 0 | Q11: 0 | R11: 0 | S11: 0 | T11: 0 | U11: 0 | V11: 0 | W11: 0 | X11: 0 | Y11: 0
C12: 9 | D12: Pernoite com café da manhã, Apartamento Duplo. PADRÃO MÉDIO - conforme memorial descritivo. | E12: 339039.80 | G12: Diária | J12: 146 | L12: =K12-(SUM(N12:Y12)) -> 0 | M12: =IF(L12<0,"ATENÇÃO","OK") -> OK | N12: 0 | O12: 0 | P12: 0 | Q12: 0 | R12: 0 | S12: 0 | T12: 0 | U12: 0 | V12: 0 | W12: 0 | X12: 0 | Y12: 0
C13: 10 | D13: Almoço(buffet livre) - Conforme Memorial Descritivo. | E13: 339039.80 | G13: Refeição | J13: 27 | L13: =K13-(SUM(N13:Y13)) -> 0 | M13: =IF(L13<0,"ATENÇÃO","OK") -> OK | N13: 0 | O13: 0 | P13: 0 | Q13: 0 | R13: 0 | S13: 0 | T13: 0 | U13: 0 | V13: 0 | W13: 0 | X13: 0 | Y13: 0
C14: 11 | D14: Jantar(buffet livre) - Conforme Memorial Descritivo. | E14: 339039.80 | G14: Refeição | J14: 27 | L14: =K14-(SUM(N14:Y14)) -> 0 | M14: =IF(L14<0,"ATENÇÃO","OK") -> OK | N14: 0 | O14: 0 | P14: 0 | Q14: 0 | R14: 0 | S14: 0 | T14: 0 | U14: 0 | V14: 0 | W14: 0 | X14: 0 | Y14: 0
A15: Complexo Turístico Flipper Ltda | B15: 4 | C15: 12 | D15: Pernoite com café da manhã, Apartamento Simples. PADRÃO MÉDIO - conforme memorial descritivo. | E15: 339039.80 | G15: Diária | J15: 111 | K15: 30 | L15: =K15-(SUM(N15:Y15)) -> 30 | M15: =IF(L15<0,"ATENÇÃO","OK") -> OK | N15: 0 | O15: 0 | P15: 0 | Q15: 0 | R15: 0 | S15: 0 | T15: 0 | U15: 0 | V15: 0 | W15: 0 | X15: 0 | Y15: 0
C16: 13 | D16: Pernoite com café da manhã, Apartamento Duplo. PADRÃO MÉDIO - conforme memorial descritivo. | E16: 339039.80 | G16: Diária | J16: 180 | K16: 15 | L16: =K16-(SUM(N16:Y16)) -> 15 | M16: =IF(L16<0,"ATENÇÃO","OK") -> OK | N16: 0 | O16: 0 | P16: 0 | Q16: 0 | R16: 0 | S16: 0 | T16: 0 | U16: 0 | V16: 0 | W16: 0 | X16: 0 | Y16: 0
C17: 14 | D17: Almoço(buffet livre) - Conforme Memorial Descritivo. | E17: 339039.80 | G17: Refeição | J17: 29 | K17: 30 | L17: =K17-(SUM(N17:Y17)) -> 30 | M17: =IF(L17<0,"ATENÇÃO","OK") -> OK | N17: 0 | O17: 0 | P17: 0 | Q17: 0 | R17: 0 | S17: 0 | T17: 0 | U17: 0 | V17: 0 | W17: 0 | X17: 0 | Y17: 0
C18: 15 | D18: Jantar(buffet livre) - Conforme Memorial Descritivo. | E18: 339039.80 | G18: Refeição | J18: 29 | K18: 30 | L18: =K18-(SUM(N18:Y18)) -> 30 | M18: =IF(L18<0,"ATENÇÃO","OK") -> OK | N18: 0 | O18: 0 | P18: 0 | Q18: 0 | R18: 0 | S18: 0 | T18: 0 | U18: 0 | V18: 0 | W18: 0 | X18: 0 | Y18: 0

Sheet PROJETO 01 CEAD
A1: PROCESSO: 0239/2014/UDESC | D1: OBJETO: Serviços de Hospedagem | K1: VIGÊNCIA DA ATA: Lotes 1, 2 e 3 08/04/20134 até 07/04/2015 - Lote 4 21/03/2014 até 20/03/2015 | N1: AF/OS nº xxxx/2014 Qtde. DT | O1: AF/OS nº xxxx/2014 Qtde. DT | P1: AF/OS nº xxxx/2014 Qtde. DT | Q1: AF/OS nº xxxx/2014 Qtde. DT | R1: AF/OS nº xxxx/2014 Qtde. DT | S1: AF/OS nº xxxx/2014 Qtde. DT | T1: AF/OS nº xxxx/2014 Qtde. DT | U1: AF/OS nº xxxx/2014 Qtde. DT | V1: AF/OS nº xxxx/2014 Qtde. DT | W1: AF/OS nº xxxx/2014 Qtde. DT | X1: AF/OS nº xxxx/2014 Qtde. DT | Y1: AF/OS nº xxxx/2014 Qtde. DT
A2: CENTRO PARTICIPANTE: PROJETO 01 CEAD
A3: FORNECEDOR | B3: LOTE | C3: ITEM | D3: PRODUTO - CARACTERÍSTICAS MÍNIMAS | E3: ELEMENTO | F3: MARCA | G3: UNIDADE | H3: Entrega (Dias) | I3: Pagto. (Dias) | J3: Preço UNITÁRIO (R$) | K3: Qtde LICITADA | L3: Saldo / Automático | M3: ALERTA | N3: ...../...../...... | O3: ...../...../...... | P3: ...../...../...... | Q3: ...../...../...... | R3: ...../...../...... | S3: ...../...../...... | T3: ...../...../...... | U3: ...../...../...... | V3: ...../...../...... | W3: ...../...../...... | X3: ...../...../...... | Y3: ...../...../......
A4: Maria do Mar Hotel e Ind. Alim. Ltda | B4: 1 | C4: 1 | D4: Pernoite com café da manhã, Apartamento Simples. PADRÃO MÉDIO - conforme memorial descritivo. | E4: 339039.80 | G4: Diária | J4: 142 | K4: 30 | L4: =K4-(SUM(N4:Y4)) -> 30 | M4: =IF(L4<0,"ATENÇÃO","OK") -> OK | N4: 0 | O4: 0 | P4: 0 | Q4: 0 | R4: 0 | S4: 0 | T4: 0 | U4: 0 | V4: 0 | W4: 0 | X4: 0 | Y4: 0
C5: 2 | D5: Pernoite com café da manhã, Apartamento Duplo. PADRÃO MÉDIO - conforme memorial descritivo. | E5: 339039.80 | G5: Diária | J5: 158.87 | L5: =K5-(SUM(N5:Y5)) -> 0 | M5: =IF(L5<0,"ATENÇÃO","OK") -> OK | N5: 0 | O5: 0 | P5: 0 | Q5: 0 | R5: 0 | S5: 0 | T5: 0 | U5: 0 | V5: 0 | W5: 0 | X5: 0 | Y5: 0
C6: 3 | D6: Almoço(buffet livre) - Conforme Memorial Descritivo. | E6: 339039.80 | G6: Refeição | J6: 30 | K6: 30 | L6: =K6-(SUM(N6:Y6)) -> 30 | M6: =IF(L6<0,"ATENÇÃO","OK") -> OK | N6: 0 | O6: 0 | P6: 0 | Q6: 0 | R6: 0 | S6: 0 | T6: 0 | U6: 0 | V6: 0 | W6: 0 | X6: 0 | Y6: 0
C7: 4 | D7: Jantar(buffet livre) - Conforme Memorial Descritivo. | E7: 339039.80 | G7: Refeição | J7: 30 | K7: 30 | L7: =K7-(SUM(N7:Y7)) -> 30 | M7: =IF(L7<0,"ATENÇÃO","OK") -> OK | N7: 0 | O7: 0 | P7: 0 | Q7: 0 | R7: 0 | S7: 0 | T7: 0 | U7: 0 | V7: 0 | W7: 0 | X7: 0 | Y7: 0
A8: Castelmar Empreendimentos Hoteleiros Ltda | B8: 2 | C8: 5 | D8: Pernoite (Apartamento Individual) com café da manhã - ALTO PADRÃO. Suíte com 02 Ambientes: Quarto e Home Office - Conforme Memorial Descritivo. | E8: 339039.80 | G8: Diária | J8: 180 | L8: =K8-(SUM(N8:Y8)) -> 0 | M8: =IF(L8<0,"ATENÇÃO","OK") -> OK | N8: 0 | O8: 0 | P8: 0 | Q8: 0 | R8: 0 | S8: 0 | T8: 0 | U8: 0 | V8: 0 | W8: 0 | X8: 0 | Y8: 0
C9: 6 | D9: Almoço(buffet livre ou a la carte) - Conforme Memorial Descritivo. | E9: 339039.80 | G9: Refeição | J9: 38 | L9: =K9-(SUM(N9:Y9)) -> 0 | M9: =IF(L9<0,"ATENÇÃO","OK") -> OK | N9: 0 | O9: 0 | P9: 0 | Q9: 0 | R9: 0 | S9: 0 | T9: 0 | U9: 0 | V9: 0 | W9: 0 | X9: 0 | Y9: 0
C10: 7 | D10: Jantar(buffet livre ou a La carte) - Conforme Memorial Descritivo. | E10: 339039.80 | G10: Refeição | J10: 38 | L10: =K10-(SUM(N10:Y10)) -> 0 | M10: =IF(L10<0,"ATENÇÃO","OK") -> OK | N10: 0 | O10: 0 | P10: 0 | Q10: 0 | R10: 0 | S10: 0 | T10: 0 | U10: 0 | V10: 0 | W10: 0 | X10: 0 | Y10: 0
A11: Ryan Hotel Ltda | B11: 3 | C11: 8 | D11: Pernoite com café da manhã, Apartamento Simples. PADRÃO MÉDIO - conforme memorial descritivo. | E11: 339039.80 | G11: Diária | J11: 124 | L11: =K11-(SUM(N11:Y11)) -> 0 | M11: =IF(L11<0,"ATENÇÃO","OK") -> OK | N11: 0 | O11: 0 | P11: 0 | Q11: 0 | R11: 0 | S11: 0 | T11: 0 | U11: 0 | V11: 0 | W11: 0 | X11: 0 | Y11: 0
C12: 9 | D12: Pernoite com café da manhã, Apartamento Duplo. PADRÃO MÉDIO - conforme memorial descritivo. | E12: 339039.80 | G12: Diária | J12: 146 | L12: =K12-(SUM(N12:Y12)) -> 0 | M12: =IF(L12<0,"ATENÇÃO","OK") -> OK | N12: 0 | O12: 0 | P12: 0 | Q12: 0 | R12: 0 | S12: 0 | T12: 0 | U12: 0 | V12: 0 | W12: 0 | X12: 0 | Y12: 0
C13: 10 | D13: Almoço(buffet livre) - Conforme Memorial Descritivo. | E13: 339039.80 | G13: Refeição | J13: 27 | L13: =K13-(SUM(N13:Y13)) -> 0 | M13: =IF(L13<0,"ATENÇÃO","OK") -> OK | N13: 0 | O13: 0 | P13: 0 | Q13: 0 | R13: 0 | S13: 0 | T13: 0 | U13: 0 | V13: 0 | W13: 0 | X13: 0 | Y13: 0
C14: 11 | D14: Jantar(buffet livre) - Conforme Memorial Descritivo. | E14: 339039.80 | G14: Refeição | J14: 27 | L14: =K14-(SUM(N14:Y14)) -> 0 | M14: =IF(L14<0,"ATENÇÃO","OK") -> OK | N14: 0 | O14: 0 | P14: 0 | Q14: 0 | R14: 0 | S14: 0 | T14: 0 | U14: 0 | V14: 0 | W14: 0 | X14: 0 | Y14: 0
A15: Complexo Turístico Flipper Ltda | B15: 4 | C15: 12 | D15: Pernoite com café da manhã, Apartamento Simples. PADRÃO MÉDIO - conforme memorial descritivo. | E15: 339039.80 | G15: Diária | J15: 111 | L15: =K15-(SUM(N15:Y15)) -> 0 | M15: =IF(L15<0,"ATENÇÃO","OK") -> OK | N15: 0 | O15: 0 | P15: 0 | Q15: 0 | R15: 0 | S15: 0 | T15: 0 | U15: 0 | V15: 0 | W15: 0 | X15: 0 | Y15: 0
C16: 13 | D16: Pernoite com café da manhã, Apartamento Duplo. PADRÃO MÉDIO - conforme memorial descritivo. | E16: 339039.80 | G16: Diária | J16: 180 | L16: =K16-(SUM(N16:Y16)) -> 0 | M16: =IF(L16<0,"ATENÇÃO","OK") -> OK | N16: 0 | O16: 0 | P16: 0 | Q16: 0 | R16: 0 | S16: 0 | T16: 0 | U16: 0 | V16: 0 | W16: 0 | X16: 0 | Y16: 0
C17: 14 | D17: Almoço(buffet livre) - Conforme Memorial Descritivo. | E17: 339039.80 | G17: Refeição | J17: 29 | L17: =K17-(SUM(N17:Y17)) -> 0 | M17: =IF(L17<0,"ATENÇÃO","OK") -> OK | N17: 0 | O17: 0 | P17: 0 | Q17: 0 | R17: 0 | S17: 0 | T17: 0 | U17: 0 | V17: 0 | W17: 0 | X17: 0 | Y17: 0
C18: 15 | D18: Jantar(buffet livre) - Conforme Memorial Descritivo. | E18: 339039.80 | G18: Refeição | J18: 29 | L18: =K18-(SUM(N18:Y18)) -> 0 | M18: =IF(L18<0,"ATENÇÃO","OK") -> OK | N18: 0 | O18: 0 | P18: 0 | Q18: 0 | R18: 0 | S18: 0 | T18: 0 | U18: 0 | V18: 0 | W18: 0 | X18: 0 | Y18: 0

Sheet PROJETO 03 CEAD
A1: PROCESSO: 0239/2014/UDESC | D1: OBJETO: Serviços de Hospedagem | K1: VIGÊNCIA DA ATA: Lotes 1, 2 e 3 08/04/20134 até 07/04/2015 - Lote 4 21/03/2014 até 20/03/2015 | N1: AF/OS nº xxxx/2014 Qtde. DT | O1: AF/OS nº xxxx/2014 Qtde. DT | P1: AF/OS nº xxxx/2014 Qtde. DT | Q1: AF/OS nº xxxx/2014 Qtde. DT | R1: AF/OS nº xxxx/2014 Qtde. DT | S1: AF/OS nº xxxx/2014 Qtde. DT | T1: AF/OS nº xxxx/2014 Qtde. DT | U1: AF/OS nº xxxx/2014 Qtde. DT | V1: AF/OS nº xxxx/2014 Qtde. DT | W1: AF/OS nº xxxx/2014 Qtde. DT | X1: AF/OS nº xxxx/2014 Qtde. DT | Y1: AF/OS nº xxxx/2014 Qtde. DT
A2: CENTRO PARTICIPANTE: PROJETO 03 CEAD
A3: FORNECEDOR | B3: LOTE | C3: ITEM | D3: PRODUTO - CARACTERÍSTICAS MÍNIMAS | E3: ELEMENTO | F3: MARCA | G3: UNIDADE | H3: Entrega (Dias) | I3: Pagto. (Dias) | J3: Preço UNITÁRIO (R$) | K3: Qtde LICITADA | L3: Saldo / Automático | M3: ALERTA | N3: ...../...../...... | O3: ...../...../...... | P3: ...../...../...... | Q3: ...../...../...... | R3: ...../...../...... | S3: ...../...../...... | T3: ...../...../...... | U3: ...../...../...... | V3: ...../...../...... | W3: ...../...../...... | X3: ...../...../...... | Y3: ...../...../......
A4: Maria do Mar Hotel e Ind. Alim. Ltda | B4: 1 | C4: 1 | D4: Pernoite com café da manhã, Apartamento Simples. PADRÃO MÉDIO - conforme memorial descritivo. | E4: 339039.80 | G4: Diária | J4: 142 | K4: 3 | L4: =K4-(SUM(N4:Y4)) -> 3 | M4: =IF(L4<0,"ATENÇÃO","OK") -> OK | N4: 0 | O4: 0 | P4: 0 | Q4: 0 | R4: 0 | S4: 0 | T4: 0 | U4: 0 | V4: 0 | W4: 0 | X4: 0 | Y4: 0
C5: 2 | D5: Pernoite com café da manhã, Apartamento Duplo. PADRÃO MÉDIO - conforme memorial descritivo. | E5: 339039.80 | G5: Diária | J5: 158.87 | L5: =K5-(SUM(N5:Y5)) -> 0 | M5: =IF(L5<0,"ATENÇÃO","OK") -> OK | N5: 0 | O5: 0 | P5: 0 | Q5: 0 | R5: 0 | S5: 0 | T5: 0 | U5: 0 | V5: 0 | W5: 0 | X5: 0 | Y5: 0
C6: 3 | D6: Almoço(buffet livre) - Conforme Memorial Descritivo. | E6: 339039.80 | G6: Refeição | J6: 30 | K6: 3 | L6: =K6-(SUM(N6:Y6)) -> 3 | M6: =IF(L6<0,"ATENÇÃO","OK") -> OK | N6: 0 | O6: 0 | P6: 0 | Q6: 0 | R6: 0 | S6: 0 | T6: 0 | U6: 0 | V6: 0 | W6: 0 | X6: 0 | Y6: 0
C7: 4 | D7: Jantar(buffet livre) - Conforme Memorial Descritivo. | E7: 339039.80 | G7: Refeição | J7: 30 | K7: 3 | L7: =K7-(SUM(N7:Y7)) -> 3 | M7: =IF(L7<0,"ATENÇÃO","OK") -> OK | N7: 0 | O7: 0 | P7: 0 | Q7: 0 | R7: 0 | S7: 0 | T7: 0 | U7: 0 | V7: 0 | W7: 0 | X7: 0 | Y7: 0
A8: Castelmar Empreendimentos Hoteleiros Ltda | B8: 2 | C8: 5 | D8: Pernoite (Apartamento Individual) com café da manhã - ALTO PADRÃO. Suíte com 02 Ambientes: Quarto e Home Office - Conforme Memorial Descritivo. | E8: 339039.80 | G8: Diária | J8: 180 | L8: =K8-(SUM(N8:Y8)) -> 0 | M8: =IF(L8<0,"ATENÇÃO","OK") -> OK | N8: 0 | O8: 0 | P8: 0 | Q8: 0 | R8: 0 | S8: 0 | T8: 0 | U8: 0 | V8: 0 | W8: 0 | X8: 0 | Y8: 0
C9: 6 | D9: Almoço(buffet livre ou a la carte) - Conforme Memorial Descritivo. | E9: 339039.80 | G9: Refeição | J9: 38 | L9: =K9-(SUM(N9:Y9)) -> 0 | M9: =IF(L9<0,"ATENÇÃO","OK") -> OK | N9: 0 | O9: 0 | P9: 0 | Q9: 0 | R9: 0 | S9: 0 | T9: 0 | U9: 0 | V9: 0 | W9: 0 | X9: 0 | Y9: 0
C10: 7 | D10: Jantar(buffet livre ou a La carte) - Conforme Memorial Descritivo. | E10: 339039.80 | G10: Refeição | J10: 38 | L10: =K10-(SUM(N10:Y10)) -> 0 | M10: =IF(L10<0,"ATENÇÃO","OK") -> OK | N10: 0 | O10: 0 | P10: 0 | Q10: 0 | R10: 0 | S10: 0 | T10: 0 | U10: 0 | V10: 0 | W10: 0 | X10: 0 | Y10: 0
A11: Ryan Hotel Ltda | B11: 3 | C11: 8 | D11: Pernoite com café da manhã, Apartamento Simples. PADRÃO MÉDIO - conforme memorial descritivo. | E11: 339039.80 | G11: Diária | J11: 124 | L11: =K11-(SUM(N11:Y11)) -> 0 | M11: =IF(L11<0,"ATENÇÃO","OK") -> OK | N11: 0 | O11: 0 | P11: 0 | Q11: 0 | R11: 0 | S11: 0 | T11: 0 | U11: 0 | V11: 0 | W11: 0 | X11: 0 | Y11: 0
C12: 9 | D12: Pernoite com café da manhã, Apartamento Duplo. PADRÃO MÉDIO - conforme memorial descritivo. | E12: 339039.80 | G12: Diária | J12: 146 | L12: =K12-(SUM(N12:Y12)) -> 0 | M12: =IF(L12<0,"ATENÇÃO","OK") -> OK | N12: 0 | O12: 0 | P12: 0 | Q12: 0 | R12: 0 | S12: 0 | T12: 0 | U12: 0 | V12: 0 | W12: 0 | X12: 0 | Y12: 0
C13: 10 | D13: Almoço(buffet livre) - Conforme Memorial Descritivo. | E13: 339039.80 | G13: Refeição | J13: 27 | L13: =K13-(SUM(N13:Y13)) -> 0 | M13: =IF(L13<0,"ATENÇÃO","OK") -> OK | N13: 0 | O13: 0 | P13: 0 | Q13: 0 | R13: 0 | S13: 0 | T13: 0 | U13: 0 | V13: 0 | W13: 0 | X13: 0 | Y13: 0
C14: 11 | D14: Jantar(buffet livre) - Conforme Memorial Descritivo. | E14: 339039.80 | G14: Refeição | J14: 27 | L14: =K14-(SUM(N14:Y14)) -> 0 | M14: =IF(L14<0,"ATENÇÃO","OK") -> OK | N14: 0 | O14: 0 | P14: 0 | Q14: 0 | R14: 0 | S14: 0 | T14: 0 | U14: 0 | V14: 0 | W14: 0 | X14: 0 | Y14: 0
A15: Complexo Turístico Flipper Ltda | B15: 4 | C15: 12 | D15: Pernoite com café da manhã, Apartamento Simples. PADRÃO MÉDIO - conforme memorial descritivo. | E15: 339039.80 | G15: Diária | J15: 111 | L15: =K15-(SUM(N15:Y15)) -> 0 | M15: =IF(L15<0,"ATENÇÃO","OK") -> OK | N15: 0 | O15: 0 | P15: 0 | Q15: 0 | R15: 0 | S15: 0 | T15: 0 | U15: 0 | V15: 0 | W15: 0 | X15: 0 | Y15: 0
C16: 13 | D16: Pernoite com café da manhã, Apartamento Duplo. PADRÃO MÉDIO - conforme memorial descritivo. | E16: 339039.80 | G16: Diária | J16: 180 | L16: =K16-(SUM(N16:Y16)) -> 0 | M16: =IF(L16<0,"ATENÇÃO","OK") -> OK | N16: 0 | O16: 0 | P16: 0 | Q16: 0 | R16: 0 | S16: 0 | T16: 0 | U16: 0 | V16: 0 | W16: 0 | X16: 0 | Y16: 0
C17: 14 | D17: Almoço(buffet livre) - Conforme Memorial Descritivo. | E17: 339039.80 | G17: Refeição | J17: 29 | L17: =K17-(SUM(N17:Y17)) -> 0 | M17: =IF(L17<0,"ATENÇÃO","OK") -> OK | N17: 0 | O17: 0 | P17: 0 | Q17: 0 | R17: 0 | S17: 0 | T17: 0 | U17: 0 | V17: 0 | W17: 0 | X17: 0 | Y17: 0
C18: 15 | D18: Jantar(buffet livre) - Conforme Memorial Descritivo. | E18: 339039.80 | G18: Refeição | J18: 29 | L18: =K18-(SUM(N18:Y18)) -> 0 | M18: =IF(L18<0,"ATENÇÃO","OK") -> OK | N18: 0 | O18: 0 | P18: 0 | Q18: 0 | R18: 0 | S18: 0 | T18: 0 | U18: 0 | V18: 0 | W18: 0 | X18: 0 | Y18: 0

Sheet PROJETO 04 CEAD
A1: PROCESSO: 0239/2014/UDESC | D1: OBJETO: Serviços de Hospedagem | K1: VIGÊNCIA DA ATA: Lotes 1, 2 e 3 08/04/20134 até 07/04/2015 - Lote 4 21/03/2014 até 20/03/2015 | N1: AF/OS nº 640/2014 Qtde. DT | O1: AF/OS nº xxxx/2014 Qtde. DT | P1: AF/OS nº xxxx/2014 Qtde. DT | Q1: AF/OS nº xxxx/2014 Qtde. DT | R1: AF/OS nº xxxx/2014 Qtde. DT | S1: AF/OS nº xxxx/2014 Qtde. DT | T1: AF/OS nº xxxx/2014 Qtde. DT | U1: AF/OS nº xxxx/2014 Qtde. DT | V1: AF/OS nº xxxx/2014 Qtde. DT | W1: AF/OS nº xxxx/2014 Qtde. DT | X1: AF/OS nº xxxx/2014 Qtde. DT | Y1: AF/OS nº xxxx/2014 Qtde. DT
A2: CENTRO PARTICIPANTE: PROJETO 04 CEAD
A3: FORNECEDOR | B3: LOTE | C3: ITEM | D3: PRODUTO - CARACTERÍSTICAS MÍNIMAS | E3: ELEMENTO | F3: MARCA | G3: UNIDADE | H3: Entrega (Dias) | I3: Pagto. (Dias) | J3: Preço UNITÁRIO (R$) | K3: Qtde LICITADA | L3: Saldo / Automático | M3: ALERTA | N3: 41828 | O3: ...../...../...... | P3: ...../...../...... | Q3: ...../...../...... | R3: ...../...../...... | S3: ...../...../...... | T3: ...../...../...... | U3: ...../...../...... | V3: ...../...../...... | W3: ...../...../...... | X3: ...../...../...... | Y3: ...../...../......
A4: Maria do Mar Hotel e Ind. Alim. Ltda | B4: 1 | C4: 1 | D4: Pernoite com café da manhã, Apartamento Simples. PADRÃO MÉDIO - conforme memorial descritivo. | E4: 339039.80 | G4: Diária | J4: 142 | K4: 3 | L4: =K4-(SUM(N4:Y4)) -> 0 | M4: =IF(L4<0,"ATENÇÃO","OK") -> OK | N4: 3 | O4: 0 | P4: 0 | Q4: 0 | R4: 0 | S4: 0 | T4: 0 | U4: 0 | V4: 0 | W4: 0 | X4: 0 | Y4: 0
C5: 2 | D5: Pernoite com café da manhã, Apartamento Duplo. PADRÃO MÉDIO - conforme memorial descritivo. | E5: 339039.80 | G5: Diária | J5: 158.87 | L5: =K5-(SUM(N5:Y5)) -> 0 | M5: =IF(L5<0,"ATENÇÃO","OK") -> OK | N5: 0 | O5: 0 | P5: 0 | Q5: 0 | R5: 0 | S5: 0 | T5: 0 | U5: 0 | V5: 0 | W5: 0 | X5: 0 | Y5: 0
C6: 3 | D6: Almoço(buffet livre) - Conforme Memorial Descritivo. | E6: 339039.80 | G6: Refeição | J6: 30 | K6: 3 | L6: =K6-(SUM(N6:Y6)) -> 0 | M6: =IF(L6<0,"ATENÇÃO","OK") -> OK | N6: 3 | O6: 0 | P6: 0 | Q6: 0 | R6: 0 | S6: 0 | T6: 0 | U6: 0 | V6: 0 | W6: 0 | X6: 0 | Y6: 0
C7: 4 | D7: Jantar(buffet livre) - Conforme Memorial Descritivo. | E7: 339039.80 | G7: Refeição | J7: 30 | K7: 3 | L7: =K7-(SUM(N7:Y7)) -> 0 | M7: =IF(L7<0,"ATENÇÃO","OK") -> OK | N7: 3 | O7: 0 | P7: 0 | Q7: 0 | R7: 0 | S7: 0 | T7: 0 | U7: 0 | V7: 0 | W7: 0 | X7: 0 | Y7: 0
A8: Castelmar Empreendimentos Hoteleiros Ltda | B8: 2 | C8: 5 | D8: Pernoite (Apartamento Individual) com café da manhã - ALTO PADRÃO. Suíte com 02 Ambientes: Quarto e Home Office - Conforme Memorial Descritivo. | E8: 339039.80 | G8: Diária | J8: 180 | L8: =K8-(SUM(N8:Y8)) -> 0 | M8: =IF(L8<0,"ATENÇÃO","OK") -> OK | N8: 0 | O8: 0 | P8: 0 | Q8: 0 | R8: 0 | S8: 0 | T8: 0 | U8: 0 | V8: 0 | W8: 0 | X8: 0 | Y8: 0
C9: 6 | D9: Almoço(buffet livre ou a la carte) - Conforme Memorial Descritivo. | E9: 339039.80 | G9: Refeição | J9: 38 | L9: =K9-(SUM(N9:Y9)) -> 0 | M9: =IF(L9<0,"ATENÇÃO","OK") -> OK | N9: 0 | O9: 0 | P9: 0 | Q9: 0 | R9: 0 | S9: 0 | T9: 0 | U9: 0 | V9: 0 | W9: 0 | X9: 0 | Y9: 0
C10: 7 | D10: Jantar(buffet livre ou a La carte) - Conforme Memorial Descritivo. | E10: 339039.80 | G10: Refeição | J10: 38 | L10: =K10-(SUM(N10:Y10)) -> 0 | M10: =IF(L10<0,"ATENÇÃO","OK") -> OK | N10: 0 | O10: 0 | P10: 0 | Q10: 0 | R10: 0 | S10: 0 | T10: 0 | U10: 0 | V10: 0 | W10: 0 | X10: 0 | Y10: 0
A11: Ryan Hotel Ltda | B11: 3 | C11: 8 | D11: Pernoite com café da manhã, Apartamento Simples. PADRÃO MÉDIO - conforme memorial descritivo. | E11: 339039.80 | G11: Diária | J11: 124 | L11: =K11-(SUM(N11:Y11)) -> 0 | M11: =IF(L11<0,"ATENÇÃO","OK") -> OK | N11: 0 | O11: 0 | P11: 0 | Q11: 0 | R11: 0 | S11: 0 | T11: 0 | U11: 0 | V11: 0 | W11: 0 | X11: 0 | Y11: 0
C12: 9 | D12: Pernoite com café da manhã, Apartamento Duplo. PADRÃO MÉDIO - conforme memorial descritivo. | E12: 339039.80 | G12: Diária | J12: 146 | L12: =K12-(SUM(N12:Y12)) -> 0 | M12: =IF(L12<0,"ATENÇÃO","OK") -> OK | N12: 0 | O12: 0 | P12: 0 | Q12: 0 | R12: 0 | S12: 0 | T12: 0 | U12: 0 | V12: 0 | W12: 0 | X12: 0 | Y12: 0
C13: 10 | D13: Almoço(buffet livre) - Conforme Memorial Descritivo. | E13: 339039.80 | G13: Refeição | J13: 27 | L13: =K13-(SUM(N13:Y13)) -> 0 | M13: =IF(L13<0,"ATENÇÃO","OK") -> OK | N13: 0 | O13: 0 | P13: 0 | Q13: 0 | R13: 0 | S13: 0 | T13: 0 | U13: 0 | V13: 0 | W13: 0 | X13: 0 | Y13: 0
C14: 11 | D14: Jantar(buffet livre) - Conforme Memorial Descritivo. | E14: 339039.80 | G14: Refeição | J14: 27 | L14: =K14-(SUM(N14:Y14)) -> 0 | M14: =IF(L14<0,"ATENÇÃO","OK") -> OK | N14: 0 | O14: 0 | P14: 0 | Q14: 0 | R14: 0 | S14: 0 | T14: 0 | U14: 0 | V14: 0 | W14: 0 | X14: 0 | Y14: 0
A15: Complexo Turístico Flipper Ltda | B15: 4 | C15: 12 | D15: Pernoite com café da manhã, Apartamento Simples. PADRÃO MÉDIO - conforme memorial descritivo. | E15: 339039.80 | G15: Diária | J15: 111 | L15: =K15-(SUM(N15:Y15)) -> 0 | M15: =IF(L15<0,"ATENÇÃO","OK") -> OK | N15: 0 | O15: 0 | P15: 0 | Q15: 0 | R15: 0 | S15: 0 | T15: 0 | U15: 0 | V15: 0 | W15: 0 | X15: 0 | Y15: 0
C16: 13 | D16: Pernoite com café da manhã, Apartamento Duplo. PADRÃO MÉDIO - conforme memorial descritivo. | E16: 339039.80 | G16: Diária | J16: 180 | L16: =K16-(SUM(N16:Y16)) -> 0 | M16: =IF(L16<0,"ATENÇÃO","OK") -> OK | N16: 0 | O16: 0 | P16: 0 | Q16: 0 | R16: 0 | S16: 0 | T16: 0 | U16: 0 | V16: 0 | W16: 0 | X16: 0 | Y16: 0
C17: 14 | D17: Almoço(buffet livre) - Conforme Memorial Descritivo. | E17: 339039.80 | G17: Refeição | J17: 29 | L17: =K17-(SUM(N17:Y17)) -> 0 | M17: =IF(L17<0,"ATENÇÃO","OK") -> OK | N17: 0 | O17: 0 | P17: 0 | Q17: 0 | R17: 0 | S17: 0 | T17: 0 | U17: 0 | V17: 0 | W17: 0 | X17: 0 | Y17: 0
C18: 15 | D18: Jantar(buffet livre) - Conforme Memorial Descritivo. | E18: 339039.80 | G18: Refeição | J18: 29 | L18: =K18-(SUM(N18:Y18)) -> 0 | M18: =IF(L18<0,"ATENÇÃO","OK") -> OK | N18: 0 | O18: 0 | P18: 0 | Q18: 0 | R18: 0 | S18: 0 | T18: 0 | U18: 0 | V18: 0 | W18: 0 | X18: 0 | Y18: 0

Sheet PROJETO 05 CEAD
A1: PROCESSO: 0239/2014/UDESC | D1: OBJETO: Serviços de Hospedagem | K1: VIGÊNCIA DA ATA: Lotes 1, 2 e 3 08/04/20134 até 07/04/2015 - Lote 4 21/03/2014 até 20/03/2015 | N1: AF/OS nº xxxx/2014 Qtde. DT | O1: AF/OS nº xxxx/2014 Qtde. DT | P1: AF/OS nº xxxx/2014 Qtde. DT | Q1: AF/OS nº xxxx/2014 Qtde. DT | R1: AF/OS nº xxxx/2014 Qtde. DT | S1: AF/OS nº xxxx/2014 Qtde. DT | T1: AF/OS nº xxxx/2014 Qtde. DT | U1: AF/OS nº xxxx/2014 Qtde. DT | V1: AF/OS nº xxxx/2014 Qtde. DT | W1: AF/OS nº xxxx/2014 Qtde. DT | X1: AF/OS nº xxxx/2014 Qtde. DT | Y1: AF/OS nº xxxx/2014 Qtde. DT
A2: CENTRO PARTICIPANTE: PROJETO 05 CEAD
A3: FORNECEDOR | B3: LOTE | C3: ITEM | D3: PRODUTO - CARACTERÍSTICAS MÍNIMAS | E3: ELEMENTO | F3: MARCA | G3: UNIDADE | H3: Entrega (Dias) | I3: Pagto. (Dias) | J3: Preço UNITÁRIO (R$) | K3: Qtde LICITADA | L3: Saldo / Automático | M3: ALERTA | N3: ...../...../...... | O3: ...../...../...... | P3: ...../...../...... | Q3: ...../...../...... | R3: ...../...../...... | S3: ...../...../...... | T3: ...../...../...... | U3: ...../...../...... | V3: ...../...../...... | W3: ...../...../...... | X3: ...../...../...... | Y3: ...../...../......
A4: Maria do Mar Hotel e Ind. Alim. Ltda | B4: 1 | C4: 1 | D4: Pernoite com café da manhã, Apartamento Simples. PADRÃO MÉDIO - conforme memorial descritivo. | E4: 339039.80 | G4: Diária | J4: 142 | K4: 3 | L4: =K4-(SUM(N4:Y4)) -> 3 | M4: =IF(L4<0,"ATENÇÃO","OK") -> OK | N4: 0 | O4: 0 | P4: 0 | Q4: 0 | R4: 0 | S4: 0 | T4: 0 | U4: 0 | V4: 0 | W4: 0 | X4: 0 | Y4: 0
C5: 2 | D5: Pernoite com café da manhã, Apartamento Duplo. PADRÃO MÉDIO - conforme memorial descritivo. | E5: 339039.80 | G5: Diária | J5: 158.87 | L5: =K5-(SUM(N5:Y5)) -> 0 | M5: =IF(L5<0,"ATENÇÃO","OK") -> OK | N5: 0 | O5: 0 | P5: 0 | Q5: 0 | R5: 0 | S5: 0 | T5: 0 | U5: 0 | V5: 0 | W5: 0 | X5: 0 | Y5: 0
C6: 3 | D6: Almoço(buffet livre) - Conforme Memorial Descritivo. | E6: 339039.80 | G6: Refeição | J6: 30 | K6: 3 | L6: =K6-(SUM(N6:Y6)) -> 3 | M6: =IF(L6<0,"ATENÇÃO","OK") -> OK | N6: 0 | O6: 0 | P6: 0 | Q6: 0 | R6: 0 | S6: 0 | T6: 0 | U6: 0 | V6: 0 | W6: 0 | X6: 0 | Y6: 0
C7: 4 | D7: Jantar(buffet livre) - Conforme Memorial Descritivo. | E7: 339039.80 | G7: Refeição | J7: 30 | K7: 3 | L7: =K7-(SUM(N7:Y7)) -> 3 | M7: =IF(L7<0,"ATENÇÃO","OK") -> OK | N7: 0 | O7: 0 | P7: 0 | Q7: 0 | R7: 0 | S7: 0 | T7: 0 | U7: 0 | V7: 0 | W7: 0 | X7: 0 | Y7: 0
A8: Castelmar Empreendimentos Hoteleiros Ltda | B8: 2 | C8: 5 | D8: Pernoite (Apartamento Individual) com café da manhã - ALTO PADRÃO. Suíte com 02 Ambientes: Quarto e Home Office - Conforme Memorial Descritivo. | E8: 339039.80 | G8: Diária | J8: 180 | L8: =K8-(SUM(N8:Y8)) -> 0 | M8: =IF(L8<0,"ATENÇÃO","OK") -> OK | N8: 0 | O8: 0 | P8: 0 | Q8: 0 | R8: 0 | S8: 0 | T8: 0 | U8: 0 | V8: 0 | W8: 0 | X8: 0 | Y8: 0
C9: 6 | D9: Almoço(buffet livre ou a la carte) - Conforme Memorial Descritivo. | E9: 339039.80 | G9: Refeição | J9: 38 | L9: =K9-(SUM(N9:Y9)) -> 0 | M9: =IF(L9<0,"ATENÇÃO","OK") -> OK | N9: 0 | O9: 0 | P9: 0 | Q9: 0 | R9: 0 | S9: 0 | T9: 0 | U9: 0 | V9: 0 | W9: 0 | X9: 0 | Y9: 0
C10: 7 | D10: Jantar(buffet livre ou a La carte) - Conforme Memorial Descritivo. | E10: 339039.80 | G10: Refeição | J10: 38 | L10: =K10-(SUM(N10:Y10)) -> 0 | M10: =IF(L10<0,"ATENÇÃO","OK") -> OK | N10: 0 | O10: 0 | P10: 0 | Q10: 0 | R10: 0 | S10: 0 | T10: 0 | U10: 0 | V10: 0 | W10: 0 | X10: 0 | Y10: 0
A11: Ryan Hotel Ltda | B11: 3 | C11: 8 | D11: Pernoite com café da manhã, Apartamento Simples. PADRÃO MÉDIO - conforme memorial descritivo. | E11: 339039.80 | G11: Diária | J11: 124 | L11: =K11-(SUM(N11:Y11)) -> 0 | M11: =IF(L11<0,"ATENÇÃO","OK") -> OK | N11: 0 | O11: 0 | P11: 0 | Q11: 0 | R11: 0 | S11: 0 | T11: 0 | U11: 0 | V11: 0 | W11: 0 | X11: 0 | Y11: 0
C12: 9 | D12: Pernoite com café da manhã, Apartamento Duplo. PADRÃO MÉDIO - conforme memorial descritivo. | E12: 339039.80 | G12: Diária | J12: 146 | L12: =K12-(SUM(N12:Y12)) -> 0 | M12: =IF(L12<0,"ATENÇÃO","OK") -> OK | N12: 0 | O12: 0 | P12: 0 | Q12: 0 | R12: 0 | S12: 0 | T12: 0 | U12: 0 | V12: 0 | W12: 0 | X12: 0 | Y12: 0
C13: 10 | D13: Almoço(buffet livre) - Conforme Memorial Descritivo. | E13: 339039.80 | G13: Refeição | J13: 27 | L13: =K13-(SUM(N13:Y13)) -> 0 | M13: =IF(L13<0,"ATENÇÃO","OK") -> OK | N13: 0 | O13: 0 | P13: 0 | Q13: 0 | R13: 0 | S13: 0 | T13: 0 | U13: 0 | V13: 0 | W13: 0 | X13: 0 | Y13: 0
C14: 11 | D14: Jantar(buffet livre) - Conforme Memorial Descritivo. | E14: 339039.80 | G14: Refeição | J14: 27 | L14: =K14-(SUM(N14:Y14)) -> 0 | M14: =IF(L14<0,"ATENÇÃO","OK") -> OK | N14: 0 | O14: 0 | P14: 0 | Q14: 0 | R14: 0 | S14: 0 | T14: 0 | U14: 0 | V14: 0 | W14: 0 | X14: 0 | Y14: 0
A15: Complexo Turístico Flipper Ltda | B15: 4 | C15: 12 | D15: Pernoite com café da manhã, Apartamento Simples. PADRÃO MÉDIO - conforme memorial descritivo. | E15: 339039.80 | G15: Diária | J15: 111 | L15: =K15-(SUM(N15:Y15)) -> 0 | M15: =IF(L15<0,"ATENÇÃO","OK") -> OK | N15: 0 | O15: 0 | P15: 0 | Q15: 0 | R15: 0 | S15: 0 | T15: 0 | U15: 0 | V15: 0 | W15: 0 | X15: 0 | Y15: 0
C16: 13 | D16: Pernoite com café da manhã, Apartamento Duplo. PADRÃO MÉDIO - conforme memorial descritivo. | E16: 339039.80 | G16: Diária | J16: 180 | L16: =K16-(SUM(N16:Y16)) -> 0 | M16: =IF(L16<0,"ATENÇÃO","OK") -> OK | N16: 0 | O16: 0 | P16: 0 | Q16: 0 | R16: 0 | S16: 0 | T16: 0 | U16: 0 | V16: 0 | W16: 0 | X16: 0 | Y16: 0
C17: 14 | D17: Almoço(buffet livre) - Conforme Memorial Descritivo. | E17: 339039.80 | G17: Refeição | J17: 29 | L17: =K17-(SUM(N17:Y17)) -> 0 | M17: =IF(L17<0,"ATENÇÃO","OK") -> OK | N17: 0 | O17: 0 | P17: 0 | Q17: 0 | R17: 0 | S17: 0 | T17: 0 | U17: 0 | V17: 0 | W17: 0 | X17: 0 | Y17: 0
C18: 15 | D18: Jantar(buffet livre) - Conforme Memorial Descritivo. | E18: 339039.80 | G18: Refeição | J18: 29 | L18: =K18-(SUM(N18:Y18)) -> 0 | M18: =IF(L18<0,"ATENÇÃO","OK") -> OK | N18: 0 | O18: 0 | P18: 0 | Q18: 0 | R18: 0 | S18: 0 | T18: 0 | U18: 0 | V18: 0 | W18: 0 | X18: 0 | Y18: 0

Sheet PROJETO 06 CEAD
A1: PROCESSO: 0239/2014/UDESC | D1: OBJETO: Serviços de Hospedagem | K1: VIGÊNCIA DA ATA: Lotes 1, 2 e 3 08/04/20134 até 07/04/2015 - Lote 4 21/03/2014 até 20/03/2015 | N1: AF/OS nº 639/2014 Qtde. DT | O1: AF/OS nº xxxx/2014 Qtde. DT | P1: AF/OS nº xxxx/2014 Qtde. DT | Q1: AF/OS nº xxxx/2014 Qtde. DT | R1: AF/OS nº xxxx/2014 Qtde. DT | S1: AF/OS nº xxxx/2014 Qtde. DT | T1: AF/OS nº xxxx/2014 Qtde. DT | U1: AF/OS nº xxxx/2014 Qtde. DT | V1: AF/OS nº xxxx/2014 Qtde. DT | W1: AF/OS nº xxxx/2014 Qtde. DT | X1: AF/OS nº xxxx/2014 Qtde. DT | Y1: AF/OS nº xxxx/2014 Qtde. DT
A2: CENTRO PARTICIPANTE: PROJETO 06 CEAD
A3: FORNECEDOR | B3: LOTE | C3: ITEM | D3: PRODUTO - CARACTERÍSTICAS MÍNIMAS | E3: ELEMENTO | F3: MARCA | G3: UNIDADE | H3: Entrega (Dias) | I3: Pagto. (Dias) | J3: Preço UNITÁRIO (R$) | K3: Qtde LICITADA | L3: Saldo / Automático | M3: ALERTA | N3: 41828 | O3: ...../...../...... | P3: ...../...../...... | Q3: ...../...../...... | R3: ...../...../...... | S3: ...../...../...... | T3: ...../...../...... | U3: ...../...../...... | V3: ...../...../...... | W3: ...../...../...... | X3: ...../...../...... | Y3: ...../...../......
A4: Maria do Mar Hotel e Ind. Alim. Ltda | B4: 1 | C4: 1 | D4: Pernoite com café da manhã, Apartamento Simples. PADRÃO MÉDIO - conforme memorial descritivo. | E4: 339039.80 | G4: Diária | J4: 142 | K4: 15 | L4: =K4-(SUM(N4:Y4)) -> 0 | M4: =IF(L4<0,"ATENÇÃO","OK") -> OK | N4: 15 | O4: 0 | P4: 0 | Q4: 0 | R4: 0 | S4: 0 | T4: 0 | U4: 0 | V4: 0 | W4: 0 | X4: 0 | Y4: 0
C5: 2 | D5: Pernoite com café da manhã, Apartamento Duplo. PADRÃO MÉDIO - conforme memorial descritivo. | E5: 339039.80 | G5: Diária | J5: 158.87 | L5: =K5-(SUM(N5:Y5)) -> 0 | M5: =IF(L5<0,"ATENÇÃO","OK") -> OK | N5: 0 | O5: 0 | P5: 0 | Q5: 0 | R5: 0 | S5: 0 | T5: 0 | U5: 0 | V5: 0 | W5: 0 | X5: 0 | Y5: 0
C6: 3 | D6: Almoço(buffet livre) - Conforme Memorial Descritivo. | E6: 339039.80 | G6: Refeição | J6: 30 | K6: 15 | L6: =K6-(SUM(N6:Y6)) -> 0 | M6: =IF(L6<0,"ATENÇÃO","OK") -> OK | N6: 15 | O6: 0 | P6: 0 | Q6: 0 | R6: 0 | S6: 0 | T6: 0 | U6: 0 | V6: 0 | W6: 0 | X6: 0 | Y6: 0
C7: 4 | D7: Jantar(buffet livre) - Conforme Memorial Descritivo. | E7: 339039.80 | G7: Refeição | J7: 30 | K7: 15 | L7: =K7-(SUM(N7:Y7)) -> 0 | M7: =IF(L7<0,"ATENÇÃO","OK") -> OK | N7: 15 | O7: 0 | P7: 0 | Q7: 0 | R7: 0 | S7: 0 | T7: 0 | U7: 0 | V7: 0 | W7: 0 | X7: 0 | Y7: 0
A8: Castelmar Empreendimentos Hoteleiros Ltda | B8: 2 | C8: 5 | D8: Pernoite (Apartamento Individual) com café da manhã - ALTO PADRÃO. Suíte com 02 Ambientes: Quarto e Home Office - Conforme Memorial Descritivo. | E8: 339039.80 | G8: Diária | J8: 180 | L8: =K8-(SUM(N8:Y8)) -> 0 | M8: =IF(L8<0,"ATENÇÃO","OK") -> OK | N8: 0 | O8: 0 | P8: 0 | Q8: 0 | R8: 0 | S8: 0 | T8: 0 | U8: 0 | V8: 0 | W8: 0 | X8: 0 | Y8: 0
C9: 6 | D9: Almoço(buffet livre ou a la carte) - Conforme Memorial Descritivo. | E9: 339039.80 | G9: Refeição | J9: 38 | L9: =K9-(SUM(N9:Y9)) -> 0 | M9: =IF(L9<0,"ATENÇÃO","OK") -> OK | N9: 0 | O9: 0 | P9: 0 | Q9: 0 | R9: 0 | S9: 0 | T9: 0 | U9: 0 | V9: 0 | W9: 0 | X9: 0 | Y9: 0
C10: 7 | D10: Jantar(buffet livre ou a La carte) - Conforme Memorial Descritivo. | E10: 339039.80 | G10: Refeição | J10: 38 | L10: =K10-(SUM(N10:Y10)) -> 0 | M10: =IF(L10<0,"ATENÇÃO","OK") -> OK | N10: 0 | O10: 0 | P10: 0 | Q10: 0 | R10: 0 | S10: 0 | T10: 0 | U10: 0 | V10: 0 | W10: 0 | X10: 0 | Y10: 0
A11: Ryan Hotel Ltda | B11: 3 | C11: 8 | D11: Pernoite com café da manhã, Apartamento Simples. PADRÃO MÉDIO - conforme memorial descritivo. | E11: 339039.80 | G11: Diária | J11: 124 | L11: =K11-(SUM(N11:Y11)) -> 0 | M11: =IF(L11<0,"ATENÇÃO","OK") -> OK | N11: 0 | O11: 0 | P11: 0 | Q11: 0 | R11: 0 | S11: 0 | T11: 0 | U11: 0 | V11: 0 | W11: 0 | X11: 0 | Y11: 0
C12: 9 | D12: Pernoite com café da manhã, Apartamento Duplo. PADRÃO MÉDIO - conforme memorial descritivo. | E12: 339039.80 | G12: Diária | J12: 146 | L12: =K12-(SUM(N12:Y12)) -> 0 | M12: =IF(L12<0,"ATENÇÃO","OK") -> OK | N12: 0 | O12: 0 | P12: 0 | Q12: 0 | R12: 0 | S12: 0 | T12: 0 | U12: 0 | V12: 0 | W12: 0 | X12: 0 | Y12: 0
C13: 10 | D13: Almoço(buffet livre) - Conforme Memorial Descritivo. | E13: 339039.80 | G13: Refeição | J13: 27 | L13: =K13-(SUM(N13:Y13)) -> 0 | M13: =IF(L13<0,"ATENÇÃO","OK") -> OK | N13: 0 | O13: 0 | P13: 0 | Q13: 0 | R13: 0 | S13: 0 | T13: 0 | U13: 0 | V13: 0 | W13: 0 | X13: 0 | Y13: 0
C14: 11 | D14: Jantar(buffet livre) - Conforme Memorial Descritivo. | E14: 339039.80 | G14: Refeição | J14: 27 | L14: =K14-(SUM(N14:Y14)) -> 0 | M14: =IF(L14<0,"ATENÇÃO","OK") -> OK | N14: 0 | O14: 0 | P14: 0 | Q14: 0 | R14: 0 | S14: 0 | T14: 0 | U14: 0 | V14: 0 | W14: 0 | X14: 0 | Y14: 0
A15: Complexo Turístico Flipper Ltda | B15: 4 | C15: 12 | D15: Pernoite com café da manhã, Apartamento Simples. PADRÃO MÉDIO - conforme memorial descritivo. | E15: 339039.80 | G15: Diária | J15: 111 | L15: =K15-(SUM(N15:Y15)) -> 0 | M15: =IF(L15<0,"ATENÇÃO","OK") -> OK | N15: 0 | O15: 0 | P15: 0 | Q15: 0 | R15: 0 | S15: 0 | T15: 0 | U15: 0 | V15: 0 | W15: 0 | X15: 0 | Y15: 0
C16: 13 | D16: Pernoite com café da manhã, Apartamento Duplo. PADRÃO MÉDIO - conforme memorial descritivo. | E16: 339039.80 | G16: Diária | J16: 180 | L16: =K16-(SUM(N16:Y16)) -> 0 | M16: =IF(L16<0,"ATENÇÃO","OK") -> OK | N16: 0 | O16: 0 | P16: 0 | Q16: 0 | R16: 0 | S16: 0 | T16: 0 | U16: 0 | V16: 0 | W16: 0 | X16: 0 | Y16: 0
C17: 14 | D17: Almoço(buffet livre) - Conforme Memorial Descritivo. | E17: 339039.80 | G17: Refeição | J17: 29 | L17: =K17-(SUM(N17:Y17)) -> 0 | M17: =IF(L17<0,"ATENÇÃO","OK") -> OK | N17: 0 | O17: 0 | P17: 0 | Q17: 0 | R17: 0 | S17: 0 | T17: 0 | U17: 0 | V17: 0 | W17: 0 | X17: 0 | Y17: 0
C18: 15 | D18: Jantar(buffet livre) - Conforme Memorial Descritivo. | E18: 339039.80 | G18: Refeição | J18: 29 | L18: =K18-(SUM(N18:Y18)) -> 0 | M18: =IF(L18<0,"ATENÇÃO","OK") -> OK | N18: 0 | O18: 0 | P18: 0 | Q18: 0 | R18: 0 | S18: 0 | T18: 0 | U18: 0 | V18: 0 | W18: 0 | X18: 0 | Y18: 0

Sheet PROJETO 07 CERES
A1: PROCESSO: 0239/2014/UDESC | D1: OBJETO: Serviços de Hospedagem | K1: VIGÊNCIA DA ATA: Lotes 1, 2 e 3 08/04/20134 até 07/04/2015 - Lote 4 21/03/2014 até 20/03/2015 | N1: AF/OS nº xxxx/2014 Qtde. DT | O1: AF/OS nº xxxx/2014 Qtde. DT | P1: AF/OS nº xxxx/2014 Qtde. DT | Q1: AF/OS nº xxxx/2014 Qtde. DT | R1: AF/OS nº xxxx/2014 Qtde. DT | S1: AF/OS nº xxxx/2014 Qtde. DT | T1: AF/OS nº xxxx/2014 Qtde. DT | U1: AF/OS nº xxxx/2014 Qtde. DT | V1: AF/OS nº xxxx/2014 Qtde. DT | W1: AF/OS nº xxxx/2014 Qtde. DT | X1: AF/OS nº xxxx/2014 Qtde. DT | Y1: AF/OS nº xxxx/2014 Qtde. DT
A2: CENTRO PARTICIPANTE: PROJETO 07 CERES
A3: FORNECEDOR | B3: LOTE | C3: ITEM | D3: PRODUTO - CARACTERÍSTICAS MÍNIMAS | E3: ELEMENTO | F3: MARCA | G3: UNIDADE | H3: Entrega (Dias) | I3: Pagto. (Dias) | J3: Preço UNITÁRIO (R$) | K3: Qtde LICITADA | L3: Saldo / Automático | M3: ALERTA | N3: ...../...../...... | O3: ...../...../...... | P3: ...../...../...... | Q3: ...../...../...... | R3: ...../...../...... | S3: ...../...../...... | T3: ...../...../...... | U3: ...../...../...... | V3: ...../...../...... | W3: ...../...../...... | X3: ...../...../...... | Y3: ...../...../......
A4: Maria do Mar Hotel e Ind. Alim. Ltda | B4: 1 | C4: 1 | D4: Pernoite com café da manhã, Apartamento Simples. PADRÃO MÉDIO - conforme memorial descritivo. | E4: 339039.80 | G4: Diária | J4: 142 | L4: =K4-(SUM(N4:Y4)) -> 0 | M4: =IF(L4<0,"ATENÇÃO","OK") -> OK | N4: 0 | O4: 0 | P4: 0 | Q4: 0 | R4: 0 | S4: 0 | T4: 0 | U4: 0 | V4: 0 | W4: 0 | X4: 0 | Y4: 0
C5: 2 | D5: Pernoite com café da manhã, Apartamento Duplo. PADRÃO MÉDIO - conforme memorial descritivo. | E5: 339039.80 | G5: Diária | J5: 158.87 | L5: =K5-(SUM(N5:Y5)) -> 0 | M5: =IF(L5<0,"ATENÇÃO","OK") -> OK | N5: 0 | O5: 0 | P5: 0 | Q5: 0 | R5: 0 | S5: 0 | T5: 0 | U5: 0 | V5: 0 | W5: 0 | X5: 0 | Y5: 0
C6: 3 | D6: Almoço(buffet livre) - Conforme Memorial Descritivo. | E6: 339039.80 | G6: Refeição | J6: 30 | L6: =K6-(SUM(N6:Y6)) -> 0 | M6: =IF(L6<0,"ATENÇÃO","OK") -> OK | N6: 0 | O6: 0 | P6: 0 | Q6: 0 | R6: 0 | S6: 0 | T6: 0 | U6: 0 | V6: 0 | W6: 0 | X6: 0 | Y6: 0
C7: 4 | D7: Jantar(buffet livre) - Conforme Memorial Descritivo. | E7: 339039.80 | G7: Refeição | J7: 30 | L7: =K7-(SUM(N7:Y7)) -> 0 | M7: =IF(L7<0,"ATENÇÃO","OK") -> OK | N7: 0 | O7: 0 | P7: 0 | Q7: 0 | R7: 0 | S7: 0 | T7: 0 | U7: 0 | V7: 0 | W7: 0 | X7: 0 | Y7: 0
A8: Castelmar Empreendimentos Hoteleiros Ltda | B8: 2 | C8: 5 | D8: Pernoite (Apartamento Individual) com café da manhã - ALTO PADRÃO. Suíte com 02 Ambientes: Quarto e Home Office - Conforme Memorial Descritivo. | E8: 339039.80 | G8: Diária | J8: 180 | L8: =K8-(SUM(N8:Y8)) -> 0 | M8: =IF(L8<0,"ATENÇÃO","OK") -> OK | N8: 0 | O8: 0 | P8: 0 | Q8: 0 | R8: 0 | S8: 0 | T8: 0 | U8: 0 | V8: 0 | W8: 0 | X8: 0 | Y8: 0
C9: 6 | D9: Almoço(buffet livre ou a la carte) - Conforme Memorial Descritivo. | E9: 339039.80 | G9: Refeição | J9: 38 | L9: =K9-(SUM(N9:Y9)) -> 0 | M9: =IF(L9<0,"ATENÇÃO","OK") -> OK | N9: 0 | O9: 0 | P9: 0 | Q9: 0 | R9: 0 | S9: 0 | T9: 0 | U9: 0 | V9: 0 | W9: 0 | X9: 0 | Y9: 0
C10: 7 | D10: Jantar(buffet livre ou a La carte) - Conforme Memorial Descritivo. | E10: 339039.80 | G10: Refeição | J10: 38 | L10: =K10-(SUM(N10:Y10)) -> 0 | M10: =IF(L10<0,"ATENÇÃO","OK") -> OK | N10: 0 | O10: 0 | P10: 0 | Q10: 0 | R10: 0 | S10: 0 | T10: 0 | U10: 0 | V10: 0 | W10: 0 | X10: 0 | Y10: 0
A11: Ryan Hotel Ltda | B11: 3 | C11: 8 | D11: Pernoite com café da manhã, Apartamento Simples. PADRÃO MÉDIO - conforme memorial descritivo. | E11: 339039.80 | G11: Diária | J11: 124 | L11: =K11-(SUM(N11:Y11)) -> 0 | M11: =IF(L11<0,"ATENÇÃO","OK") -> OK | N11: 0 | O11: 0 | P11: 0 | Q11: 0 | R11: 0 | S11: 0 | T11: 0 | U11: 0 | V11: 0 | W11: 0 | X11: 0 | Y11: 0
C12: 9 | D12: Pernoite com café da manhã, Apartamento Duplo. PADRÃO MÉDIO - conforme memorial descritivo. | E12: 339039.80 | G12: Diária | J12: 146 | L12: =K12-(SUM(N12:Y12)) -> 0 | M12: =IF(L12<0,"ATENÇÃO","OK") -> OK | N12: 0 | O12: 0 | P12: 0 | Q12: 0 | R12: 0 | S12: 0 | T12: 0 | U12: 0 | V12: 0 | W12: 0 | X12: 0 | Y12: 0
C13: 10 | D13: Almoço(buffet livre) - Conforme Memorial Descritivo. | E13: 339039.80 | G13: Refeição | J13: 27 | L13: =K13-(SUM(N13:Y13)) -> 0 | M13: =IF(L13<0,"ATENÇÃO","OK") -> OK | N13: 0 | O13: 0 | P13: 0 | Q13: 0 | R13: 0 | S13: 0 | T13: 0 | U13: 0 | V13: 0 | W13: 0 | X13: 0 | Y13: 0
C14: 11 | D14: Jantar(buffet livre) - Conforme Memorial Descritivo. | E14: 339039.80 | G14: Refeição | J14: 27 | L14: =K14-(SUM(N14:Y14)) -> 0 | M14: =IF(L14<0,"ATENÇÃO","OK") -> OK | N14: 0 | O14: 0 | P14: 0 | Q14: 0 | R14: 0 | S14: 0 | T14: 0 | U14: 0 | V14: 0 | W14: 0 | X14: 0 | Y14: 0
A15: Complexo Turístico Flipper Ltda | B15: 4 | C15: 12 | D15: Pernoite com café da manhã, Apartamento Simples. PADRÃO MÉDIO - conforme memorial descritivo. | E15: 339039.80 | G15: Diária | J15: 111 | K15: 35 | L15: =K15-(SUM(N15:Y15)) -> 35 | M15: =IF(L15<0,"ATENÇÃO","OK") -> OK | N15: 0 | O15: 0 | P15: 0 | Q15: 0 | R15: 0 | S15: 0 | T15: 0 | U15: 0 | V15: 0 | W15: 0 | X15: 0 | Y15: 0
C16: 13 | D16: Pernoite com café da manhã, Apartamento Duplo. PADRÃO MÉDIO - conforme memorial descritivo. | E16: 339039.80 | G16: Diária | J16: 180 | L16: =K16-(SUM(N16:Y16)) -> 0 | M16: =IF(L16<0,"ATENÇÃO","OK") -> OK | N16: 0 | O16: 0 | P16: 0 | Q16: 0 | R16: 0 | S16: 0 | T16: 0 | U16: 0 | V16: 0 | W16: 0 | X16: 0 | Y16: 0
C17: 14 | D17: Almoço(buffet livre) - Conforme Memorial Descritivo. | E17: 339039.80 | G17: Refeição | J17: 29 | K17: 35 | L17: =K17-(SUM(N17:Y17)) -> 35 | M17: =IF(L17<0,"ATENÇÃO","OK") -> OK | N17: 0 | O17: 0 | P17: 0 | Q17: 0 | R17: 0 | S17: 0 | T17: 0 | U17: 0 | V17: 0 | W17: 0 | X17: 0 | Y17: 0
C18: 15 | D18: Jantar(buffet livre) - Conforme Memorial Descritivo. | E18: 339039.80 | G18: Refeição | J18: 29 | K18: 35 | L18: =K18-(SUM(N18:Y18)) -> 35 | M18: =IF(L18<0,"ATENÇÃO","OK") -> OK | N18: 0 | O18: 0 | P18: 0 | Q18: 0 | R18: 0 | S18: 0 | T18: 0 | U18: 0 | V18: 0 | W18: 0 | X18: 0 | Y18: 0

Sheet PROJETO 08 CERES
A1: PROCESSO: 0239/2014/UDESC | D1: OBJETO: Serviços de Hospedagem | K1: VIGÊNCIA DA ATA: Lotes 1, 2 e 3 08/04/20134 até 07/04/2015 - Lote 4 21/03/2014 até 20/03/2015 | N1: AF/OS nº xxxx/2014 Qtde. DT | O1: AF/OS nº xxxx/2014 Qtde. DT | P1: AF/OS nº xxxx/2014 Qtde. DT | Q1: AF/OS nº xxxx/2014 Qtde. DT | R1: AF/OS nº xxxx/2014 Qtde. DT | S1: AF/OS nº xxxx/2014 Qtde. DT | T1: AF/OS nº xxxx/2014 Qtde. DT | U1: AF/OS nº xxxx/2014 Qtde. DT | V1: AF/OS nº xxxx/2014 Qtde. DT | W1: AF/OS nº xxxx/2014 Qtde. DT | X1: AF/OS nº xxxx/2014 Qtde. DT | Y1: AF/OS nº xxxx/2014 Qtde. DT
A2: CENTRO PARTICIPANTE: PROJETO 08 CERES
A3: FORNECEDOR | B3: LOTE | C3: ITEM | D3: PRODUTO - CARACTERÍSTICAS MÍNIMAS | E3: ELEMENTO | F3: MARCA | G3: UNIDADE | H3: Entrega (Dias) | I3: Pagto. (Dias) | J3: Preço UNITÁRIO (R$) | K3: Qtde LICITADA | L3: Saldo / Automático | M3: ALERTA | N3: ...../...../...... | O3: ...../...../...... | P3: ...../...../...... | Q3: ...../...../...... | R3: ...../...../...... | S3: ...../...../...... | T3: ...../...../...... | U3: ...../...../...... | V3: ...../...../...... | W3: ...../...../...... | X3: ...../...../...... | Y3: ...../...../......
A4: Maria do Mar Hotel e Ind. Alim. Ltda | B4: 1 | C4: 1 | D4: Pernoite com café da manhã, Apartamento Simples. PADRÃO MÉDIO - conforme memorial descritivo. | E4: 339039.80 | G4: Diária | J4: 142 | L4: =K4-(SUM(N4:Y4)) -> 0 | M4: =IF(L4<0,"ATENÇÃO","OK") -> OK | N4: 0 | O4: 0 | P4: 0 | Q4: 0 | R4: 0 | S4: 0 | T4: 0 | U4: 0 | V4: 0 | W4: 0 | X4: 0 | Y4: 0
C5: 2 | D5: Pernoite com café da manhã, Apartamento Duplo. PADRÃO MÉDIO - conforme memorial descritivo. | E5: 339039.80 | G5: Diária | J5: 158.87 | L5: =K5-(SUM(N5:Y5)) -> 0 | M5: =IF(L5<0,"ATENÇÃO","OK") -> OK | N5: 0 | O5: 0 | P5: 0 | Q5: 0 | R5: 0 | S5: 0 | T5: 0 | U5: 0 | V5: 0 | W5: 0 | X5: 0 | Y5: 0
C6: 3 | D6: Almoço(buffet livre) - Conforme Memorial Descritivo. | E6: 339039.80 | G6: Refeição | J6: 30 | L6: =K6-(SUM(N6:Y6)) -> 0 | M6: =IF(L6<0,"ATENÇÃO","OK") -> OK | N6: 0 | O6: 0 | P6: 0 | Q6: 0 | R6: 0 | S6: 0 | T6: 0 | U6: 0 | V6: 0 | W6: 0 | X6: 0 | Y6: 0
C7: 4 | D7: Jantar(buffet livre) - Conforme Memorial Descritivo. | E7: 339039.80 | G7: Refeição | J7: 30 | L7: =K7-(SUM(N7:Y7)) -> 0 | M7: =IF(L7<0,"ATENÇÃO","OK") -> OK | N7: 0 | O7: 0 | P7: 0 | Q7: 0 | R7: 0 | S7: 0 | T7: 0 | U7: 0 | V7: 0 | W7: 0 | X7: 0 | Y7: 0
A8: Castelmar Empreendimentos Hoteleiros Ltda | B8: 2 | C8: 5 | D8: Pernoite (Apartamento Individual) com café da manhã - ALTO PADRÃO. Suíte com 02 Ambientes: Quarto e Home Office - Conforme Memorial Descritivo. | E8: 339039.80 | G8: Diária | J8: 180 | L8: =K8-(SUM(N8:Y8)) -> 0 | M8: =IF(L8<0,"ATENÇÃO","OK") -> OK | N8: 0 | O8: 0 | P8: 0 | Q8: 0 | R8: 0 | S8: 0 | T8: 0 | U8: 0 | V8: 0 | W8: 0 | X8: 0 | Y8: 0
C9: 6 | D9: Almoço(buffet livre ou a la carte) - Conforme Memorial Descritivo. | E9: 339039.80 | G9: Refeição | J9: 38 | L9: =K9-(SUM(N9:Y9)) -> 0 | M9: =IF(L9<0,"ATENÇÃO","OK") -> OK | N9: 0 | O9: 0 | P9: 0 | Q9: 0 | R9: 0 | S9: 0 | T9: 0 | U9: 0 | V9: 0 | W9: 0 | X9: 0 | Y9: 0
C10: 7 | D10: Jantar(buffet livre ou a La carte) - Conforme Memorial Descritivo. | E10: 339039.80 | G10: Refeição | J10: 38 | L10: =K10-(SUM(N10:Y10)) -> 0 | M10: =IF(L10<0,"ATENÇÃO","OK") -> OK | N10: 0 | O10: 0 | P10: 0 | Q10: 0 | R10: 0 | S10: 0 | T10: 0 | U10: 0 | V10: 0 | W10: 0 | X10: 0 | Y10: 0
A11: Ryan Hotel Ltda | B11: 3 | C11: 8 | D11: Pernoite com café da manhã, Apartamento Simples. PADRÃO MÉDIO - conforme memorial descritivo. | E11: 339039.80 | G11: Diária | J11: 124 | L11: =K11-(SUM(N11:Y11)) -> 0 | M11: =IF(L11<0,"ATENÇÃO","OK") -> OK | N11: 0 | O11: 0 | P11: 0 | Q11: 0 | R11: 0 | S11: 0 | T11: 0 | U11: 0 | V11: 0 | W11: 0 | X11: 0 | Y11: 0
C12: 9 | D12: Pernoite com café da manhã, Apartamento Duplo. PADRÃO MÉDIO - conforme memorial descritivo. | E12: 339039.80 | G12: Diária | J12: 146 | L12: =K12-(SUM(N12:Y12)) -> 0 | M12: =IF(L12<0,"ATENÇÃO","OK") -> OK | N12: 0 | O12: 0 | P12: 0 | Q12: 0 | R12: 0 | S12: 0 | T12: 0 | U12: 0 | V12: 0 | W12: 0 | X12: 0 | Y12: 0
C13: 10 | D13: Almoço(buffet livre) - Conforme Memorial Descritivo. | E13: 339039.80 | G13: Refeição | J13: 27 | L13: =K13-(SUM(N13:Y13)) -> 0 | M13: =IF(L13<0,"ATENÇÃO","OK") -> OK | N13: 0 | O13: 0 | P13: 0 | Q13: 0 | R13: 0 | S13: 0 | T13: 0 | U13: 0 | V13: 0 | W13: 0 | X13: 0 | Y13: 0
C14: 11 | D14: Jantar(buffet livre) - Conforme Memorial Descritivo. | E14: 339039.80 | G14: Refeição | J14: 27 | L14: =K14-(SUM(N14:Y14)) -> 0 | M14: =IF(L14<0,"ATENÇÃO","OK") -> OK | N14: 0 | O14: 0 | P14: 0 | Q14: 0 | R14: 0 | S14: 0 | T14: 0 | U14: 0 | V14: 0 | W14: 0 | X14: 0 | Y14: 0
A15: Complexo Turístico Flipper Ltda | B15: 4 | C15: 12 | D15: Pernoite com café da manhã, Apartamento Simples. PADRÃO MÉDIO - conforme memorial descritivo. | E15: 339039.80 | G15: Diária | J15: 111 | K15: 20 | L15: =K15-(SUM(N15:Y15)) -> 20 | M15: =IF(L15<0,"ATENÇÃO","OK") -> OK | N15: 0 | O15: 0 | P15: 0 | Q15: 0 | R15: 0 | S15: 0 | T15: 0 | U15: 0 | V15: 0 | W15: 0 | X15: 0 | Y15: 0
C16: 13 | D16: Pernoite com café da manhã, Apartamento Duplo. PADRÃO MÉDIO - conforme memorial descritivo. | E16: 339039.80 | G16: Diária | J16: 180 | L16: =K16-(SUM(N16:Y16)) -> 0 | M16: =IF(L16<0,"ATENÇÃO","OK") -> OK | N16: 0 | O16: 0 | P16: 0 | Q16: 0 | R16: 0 | S16: 0 | T16: 0 | U16: 0 | V16: 0 | W16: 0 | X16: 0 | Y16: 0
C17: 14 | D17: Almoço(buffet livre) - Conforme Memorial Descritivo. | E17: 339039.80 | G17: Refeição | J17: 29 | K17: 20 | L17: =K17-(SUM(N17:Y17)) -> 20 | M17: =IF(L17<0,"ATENÇÃO","OK") -> OK | N17: 0 | O17: 0 | P17: 0 | Q17: 0 | R17: 0 | S17: 0 | T17: 0 | U17: 0 | V17: 0 | W17: 0 | X17: 0 | Y17: 0
C18: 15 | D18: Jantar(buffet livre) - Conforme Memorial Descritivo. | E18: 339039.80 | G18: Refeição | J18: 29 | K18: 20 | L18: =K18-(SUM(N18:Y18)) -> 20 | M18: =IF(L18<0,"ATENÇÃO","OK") -> OK | N18: 0 | O18: 0 | P18: 0 | Q18: 0 | R18: 0 | S18: 0 | T18: 0 | U18: 0 | V18: 0 | W18: 0 | X18: 0 | Y18: 0

Sheet GESTOR
A1: PROCESSO: 0239/2014/UDESC | D1: OBJETO: Serviços de Hospedagem | K1: VIGÊNCIA DA ATA: Lotes 1, 2 e 3 08/04/20134 até 07/04/2015 - Lote 4 21/03/2014 até 20/03/2015
A2: CENTRO PARTICIPANTE: GESTOR
A3: FORNECEDOR | B3: LOTE | C3: ITEM | D3: PRODUTO - CARACTERÍSTICAS MÍNIMAS | E3: ELEMENTO | F3: MARCA | G3: UNIDADE | H3: Entrega (Dias) | I3: Pagto. (Dias) | J3: Preço UNITÁRIO (R$) | K3: Qtde LICITADA | L3: Quantidade Utilizada | M3: SALDO
A4: Maria do Mar Hotel e Ind. Alim. Ltda | B4: 1 | C4: 1 | D4: Pernoite com café da manhã, Apartamento Simples. PADRÃO MÉDIO - conforme memorial descritivo. | E4: 339039.80 | G4: Diária | J4: 142 | K4: =REIT!K4+ESAG!K4+CEART!K4+FAED!K4+CEAD!K4+CEFID!K4+CESFI!K4+CERES!K4+'PROJETO 01 CEAD'!K4+'PROJETO 02 CEAD'!K4+'PROJETO 03 CEAD'!K4+'PROJETO 04 CEAD'!K4+'PROJETO 05 CEAD'!K4+'PROJETO 06 CEAD'!K4+'PROJETO 07 CERES'!K4+'PROJETO 08 CERES'!K4 -> 811 | L4: =(REIT!K4-REIT!L4)+(ESAG!K4-ESAG!L4)+(CEART!K4-CEART!L4)+(FAED!K4-FAED!L4)+(CEAD!K4-CEAD!L4)+(CEFID!K4-CEFID!L4)+(CESFI!K4-CESFI!L4)+(CERES!K4-CERES!L4)+('PROJETO 01 CEAD'!K4-'PROJETO 01 CEAD'!L4)+('PROJETO 02 CEAD'!K4-'PROJETO 02 CEAD'!L4)+('PROJETO 03 CEAD'!K4-'PROJETO 03 CEAD'!L4)+('PROJETO 04 CEAD'!K4-'PROJETO 04 CEAD'!L4)+('PROJETO 05 CEAD'!K4-'PROJETO 05 CEAD'!L4)+('PROJETO 06 CEAD'!K4-'PROJETO 06 CEAD'!L4)+('PROJETO 07 CERES'!K4-'PROJETO 07 CERES'!L4)+('PROJETO 08 CERES'!K4-'PROJETO 08 CERES'!L4) -> 286 | M4: =K4-L4 -> 525
C5: 2 | D5: Pernoite com café da manhã, Apartamento Duplo. PADRÃO MÉDIO - conforme memorial descritivo. | E5: 339039.80 | G5: Diária | J5: 158.87 | K5: =REIT!K5+ESAG!K5+CEART!K5+FAED!K5+CEAD!K5+CEFID!K5+CESFI!K5+CERES!K5+'PROJETO 01 CEAD'!K5+'PROJETO 02 CEAD'!K5+'PROJETO 03 CEAD'!K5+'PROJETO 04 CEAD'!K5+'PROJETO 05 CEAD'!K5+'PROJETO 06 CEAD'!K5+'PROJETO 07 CERES'!K5+'PROJETO 08 CERES'!K5 -> 144 | L5: =(REIT!K5-REIT!L5)+(ESAG!K5-ESAG!L5)+(CEART!K5-CEART!L5)+(FAED!K5-FAED!L5)+(CEAD!K5-CEAD!L5)+(CEFID!K5-CEFID!L5)+(CESFI!K5-CESFI!L5)+(CERES!K5-CERES!L5)+('PROJETO 01 CEAD'!K5-'PROJETO 01 CEAD'!L5)+('PROJETO 02 CEAD'!K5-'PROJETO 02 CEAD'!L5)+('PROJETO 03 CEAD'!K5-'PROJETO 03 CEAD'!L5)+('PROJETO 04 CEAD'!K5-'PROJETO 04 CEAD'!L5)+('PROJETO 05 CEAD'!K5-'PROJETO 05 CEAD'!L5)+('PROJETO 06 CEAD'!K5-'PROJETO 06 CEAD'!L5)+('PROJETO 07 CERES'!K5-'PROJETO 07 CERES'!L5)+('PROJETO 08 CERES'!K5-'PROJETO 08 CERES'!L5) -> 74 | M5: =K5-L5 -> 70
C6: 3 | D6: Almoço(buffet livre) - Conforme Memorial Descritivo. | E6: 339039.80 | G6: Refeição | J6: 30 | K6: =REIT!K6+ESAG!K6+CEART!K6+FAED!K6+CEAD!K6+CEFID!K6+CESFI!K6+CERES!K6+'PROJETO 01 CEAD'!K6+'PROJETO 02 CEAD'!K6+'PROJETO 03 CEAD'!K6+'PROJETO 04 CEAD'!K6+'PROJETO 05 CEAD'!K6+'PROJETO 06 CEAD'!K6+'PROJETO 07 CERES'!K6+'PROJETO 08 CERES'!K6 -> 601 | L6: =(REIT!K6-REIT!L6)+(ESAG!K6-ESAG!L6)+(CEART!K6-CEART!L6)+(FAED!K6-FAED!L6)+(CEAD!K6-CEAD!L6)+(CEFID!K6-CEFID!L6)+(CESFI!K6-CESFI!L6)+(CERES!K6-CERES!L6)+('PROJETO 01 CEAD'!K6-'PROJETO 01 CEAD'!L6)+('PROJETO 02 CEAD'!K6-'PROJETO 02 CEAD'!L6)+('PROJETO 03 CEAD'!K6-'PROJETO 03 CEAD'!L6)+('PROJETO 04 CEAD'!K6-'PROJETO 04 CEAD'!L6)+('PROJETO 05 CEAD'!K6-'PROJETO 05 CEAD'!L6)+('PROJETO 06 CEAD'!K6-'PROJETO 06 CEAD'!L6)+('PROJETO 07 CERES'!K6-'PROJETO 07 CERES'!L6)+('PROJETO 08 CERES'!K6-'PROJETO 08 CERES'!L6) -> 215 | M6: =K6-L6 -> 386
C7: 4 | D7: Jantar(buffet livre) - Conforme Memorial Descritivo. | E7: 339039.80 | G7: Refeição | J7: 30 | K7: =REIT!K7+ESAG!K7+CEART!K7+FAED!K7+CEAD!K7+CEFID!K7+CESFI!K7+CERES!K7+'PROJETO 01 CEAD'!K7+'PROJETO 02 CEAD'!K7+'PROJETO 03 CEAD'!K7+'PROJETO 04 CEAD'!K7+'PROJETO 05 CEAD'!K7+'PROJETO 06 CEAD'!K7+'PROJETO 07 CERES'!K7+'PROJETO 08 CERES'!K7 -> 561 | L7: =(REIT!K7-REIT!L7)+(ESAG!K7-ESAG!L7)+(CEART!K7-CEART!L7)+(FAED!K7-FAED!L7)+(CEAD!K7-CEAD!L7)+(CEFID!K7-CEFID!L7)+(CESFI!K7-CESFI!L7)+(CERES!K7-CERES!L7)+('PROJETO 01 CEAD'!K7-'PROJETO 01 CEAD'!L7)+('PROJETO 02 CEAD'!K7-'PROJETO 02 CEAD'!L7)+('PROJETO 03 CEAD'!K7-'PROJETO 03 CEAD'!L7)+('PROJETO 04 CEAD'!K7-'PROJETO 04 CEAD'!L7)+('PROJETO 05 CEAD'!K7-'PROJETO 05 CEAD'!L7)+('PROJETO 06 CEAD'!K7-'PROJETO 06 CEAD'!L7)+('PROJETO 07 CERES'!K7-'PROJETO 07 CERES'!L7)+('PROJETO 08 CERES'!K7-'PROJETO 08 CERES'!L7) -> 202 | M7: =K7-L7 -> 359
A8: Castelmar Empreendimentos Hoteleiros Ltda | B8: 2 | C8: 5 | D8: Pernoite (Apartamento Individual) com café da manhã - ALTO PADRÃO. Suíte com 02 Ambientes: Quarto e Home Office - Conforme Memorial Descritivo. | E8: 339039.80 | G8: Diária | J8: 180 | K8: =REIT!K8+ESAG!K8+CEART!K8+FAED!K8+CEAD!K8+CEFID!K8+CESFI!K8+CERES!K8+'PROJETO 01 CEAD'!K8+'PROJETO 02 CEAD'!K8+'PROJETO 03 CEAD'!K8+'PROJETO 04 CEAD'!K8+'PROJETO 05 CEAD'!K8+'PROJETO 06 CEAD'!K8+'PROJETO 07 CERES'!K8+'PROJETO 08 CERES'!K8 -> 134 | L8: =(REIT!K8-REIT!L8)+(ESAG!K8-ESAG!L8)+(CEART!K8-CEART!L8)+(FAED!K8-FAED!L8)+(CEAD!K8-CEAD!L8)+(CEFID!K8-CEFID!L8)+(CESFI!K8-CESFI!L8)+(CERES!K8-CERES!L8)+('PROJETO 01 CEAD'!K8-'PROJETO 01 CEAD'!L8)+('PROJETO 02 CEAD'!K8-'PROJETO 02 CEAD'!L8)+('PROJETO 03 CEAD'!K8-'PROJETO 03 CEAD'!L8)+('PROJETO 04 CEAD'!K8-'PROJETO 04 CEAD'!L8)+('PROJETO 05 CEAD'!K8-'PROJETO 05 CEAD'!L8)+('PROJETO 06 CEAD'!K8-'PROJETO 06 CEAD'!L8)+('PROJETO 07 CERES'!K8-'PROJETO 07 CERES'!L8)+('PROJETO 08 CERES'!K8-'PROJETO 08 CERES'!L8) -> 24 | M8: =K8-L8 -> 110
C9: 6 | D9: Almoço(buffet livre ou a la carte) - Conforme Memorial Descritivo. | E9: 339039.80 | G9: Refeição | J9: 38 | K9: =REIT!K9+ESAG!K9+CEART!K9+FAED!K9+CEAD!K9+CEFID!K9+CESFI!K9+CERES!K9+'PROJETO 01 CEAD'!K9+'PROJETO 02 CEAD'!K9+'PROJETO 03 CEAD'!K9+'PROJETO 04 CEAD'!K9+'PROJETO 05 CEAD'!K9+'PROJETO 06 CEAD'!K9+'PROJETO 07 CERES'!K9+'PROJETO 08 CERES'!K9 -> 164 | L9: =(REIT!K9-REIT!L9)+(ESAG!K9-ESAG!L9)+(CEART!K9-CEART!L9)+(FAED!K9-FAED!L9)+(CEAD!K9-CEAD!L9)+(CEFID!K9-CEFID!L9)+(CESFI!K9-CESFI!L9)+(CERES!K9-CERES!L9)+('PROJETO 01 CEAD'!K9-'PROJETO 01 CEAD'!L9)+('PROJETO 02 CEAD'!K9-'PROJETO 02 CEAD'!L9)+('PROJETO 03 CEAD'!K9-'PROJETO 03 CEAD'!L9)+('PROJETO 04 CEAD'!K9-'PROJETO 04 CEAD'!L9)+('PROJETO 05 CEAD'!K9-'PROJETO 05 CEAD'!L9)+('PROJETO 06 CEAD'!K9-'PROJETO 06 CEAD'!L9)+('PROJETO 07 CERES'!K9-'PROJETO 07 CERES'!L9)+('PROJETO 08 CERES'!K9-'PROJETO 08 CERES'!L9) -> 24 | M9: =K9-L9 -> 140
C10: 7 | D10: Jantar(buffet livre ou a La carte) - Conforme Memorial Descritivo. | E10: 339039.80 | G10: Refeição | J10: 38 | K10: =REIT!K10+ESAG!K10+CEART!K10+FAED!K10+CEAD!K10+CEFID!K10+CESFI!K10+CERES!K10+'PROJETO 01 CEAD'!K10+'PROJETO 02 CEAD'!K10+'PROJETO 03 CEAD'!K10+'PROJETO 04 CEAD'!K10+'PROJETO 05 CEAD'!K10+'PROJETO 06 CEAD'!K10+'PROJETO 07 CERES'!K10+'PROJETO 08 CERES'!K10 -> 134 | L10: =(REIT!K10-REIT!L10)+(ESAG!K10-ESAG!L10)+(CEART!K10-CEART!L10)+(FAED!K10-FAED!L10)+(CEAD!K10-CEAD!L10)+(CEFID!K10-CEFID!L10)+(CESFI!K10-CESFI!L10)+(CERES!K10-CERES!L10)+('PROJETO 01 CEAD'!K10-'PROJETO 01 CEAD'!L10)+('PROJETO 02 CEAD'!K10-'PROJETO 02 CEAD'!L10)+('PROJETO 03 CEAD'!K10-'PROJETO 03 CEAD'!L10)+('PROJETO 04 CEAD'!K10-'PROJETO 04 CEAD'!L10)+('PROJETO 05 CEAD'!K10-'PROJETO 05 CEAD'!L10)+('PROJETO 06 CEAD'!K10-'PROJETO 06 CEAD'!L10)+('PROJETO 07 CERES'!K10-'PROJETO 07 CERES'!L10)+('PROJETO 08 CERES'!K10-'PROJETO 08 CERES'!L10) -> 24 | M10: =K10-L10 -> 110
A11: Ryan Hotel Ltda | B11: 3 | C11: 8 | D11: Pernoite com café da manhã, Apartamento Simples. PADRÃO MÉDIO - conforme memorial descritivo. | E11: 339039.80 | G11: Diária | J11: 124 | K11: =REIT!K11+ESAG!K11+CEART!K11+FAED!K11+CEAD!K11+CEFID!K11+CESFI!K11+CERES!K11+'PROJETO 01 CEAD'!K11+'PROJETO 02 CEAD'!K11+'PROJETO 03 CEAD'!K11+'PROJETO 04 CEAD'!K11+'PROJETO 05 CEAD'!K11+'PROJETO 06 CEAD'!K11+'PROJETO 07 CERES'!K11+'PROJETO 08 CERES'!K11 -> 50 | L11: =(REIT!K11-REIT!L11)+(ESAG!K11-ESAG!L11)+(CEART!K11-CEART!L11)+(FAED!K11-FAED!L11)+(CEAD!K11-CEAD!L11)+(CEFID!K11-CEFID!L11)+(CESFI!K11-CESFI!L11)+(CERES!K11-CERES!L11)+('PROJETO 01 CEAD'!K11-'PROJETO 01 CEAD'!L11)+('PROJETO 02 CEAD'!K11-'PROJETO 02 CEAD'!L11)+('PROJETO 03 CEAD'!K11-'PROJETO 03 CEAD'!L11)+('PROJETO 04 CEAD'!K11-'PROJETO 04 CEAD'!L11)+('PROJETO 05 CEAD'!K11-'PROJETO 05 CEAD'!L11)+('PROJETO 06 CEAD'!K11-'PROJETO 06 CEAD'!L11)+('PROJETO 07 CERES'!K11-'PROJETO 07 CERES'!L11)+('PROJETO 08 CERES'!K11-'PROJETO 08 CERES'!L11) -> 0 | M11: =K11-L11 -> 50
C12: 9 | D12: Pernoite com café da manhã, Apartamento Duplo. PADRÃO MÉDIO - conforme memorial descritivo. | E12: 339039.80 | G12: Diária | J12: 146 | K12: =REIT!K12+ESAG!K12+CEART!K12+FAED!K12+CEAD!K12+CEFID!K12+CESFI!K12+CERES!K12+'PROJETO 01 CEAD'!K12+'PROJETO 02 CEAD'!K12+'PROJETO 03 CEAD'!K12+'PROJETO 04 CEAD'!K12+'PROJETO 05 CEAD'!K12+'PROJETO 06 CEAD'!K12+'PROJETO 07 CERES'!K12+'PROJETO 08 CERES'!K12 -> 50 | L12: =(REIT!K12-REIT!L12)+(ESAG!K12-ESAG!L12)+(CEART!K12-CEART!L12)+(FAED!K12-FAED!L12)+(CEAD!K12-CEAD!L12)+(CEFID!K12-CEFID!L12)+(CESFI!K12-CESFI!L12)+(CERES!K12-CERES!L12)+('PROJETO 01 CEAD'!K12-'PROJETO 01 CEAD'!L12)+('PROJETO 02 CEAD'!K12-'PROJETO 02 CEAD'!L12)+('PROJETO 03 CEAD'!K12-'PROJETO 03 CEAD'!L12)+('PROJETO 04 CEAD'!K12-'PROJETO 04 CEAD'!L12)+('PROJETO 05 CEAD'!K12-'PROJETO 05 CEAD'!L12)+('PROJETO 06 CEAD'!K12-'PROJETO 06 CEAD'!L12)+('PROJETO 07 CERES'!K12-'PROJETO 07 CERES'!L12)+('PROJETO 08 CERES'!K12-'PROJETO 08 CERES'!L12) -> 0 | M12: =K12-L12 -> 50
C13: 10 | D13: Almoço(buffet livre) - Conforme Memorial Descritivo. | E13: 339039.80 | G13: Refeição | J13: 27 | K13: =REIT!K13+ESAG!K13+CEART!K13+FAED!K13+CEAD!K13+CEFID!K13+CESFI!K13+CERES!K13+'PROJETO 01 CEAD'!K13+'PROJETO 02 CEAD'!K13+'PROJETO 03 CEAD'!K13+'PROJETO 04 CEAD'!K13+'PROJETO 05 CEAD'!K13+'PROJETO 06 CEAD'!K13+'PROJETO 07 CERES'!K13+'PROJETO 08 CERES'!K13 -> 35 | L13: =(REIT!K13-REIT!L13)+(ESAG!K13-ESAG!L13)+(CEART!K13-CEART!L13)+(FAED!K13-FAED!L13)+(CEAD!K13-CEAD!L13)+(CEFID!K13-CEFID!L13)+(CESFI!K13-CESFI!L13)+(CERES!K13-CERES!L13)+('PROJETO 01 CEAD'!K13-'PROJETO 01 CEAD'!L13)+('PROJETO 02 CEAD'!K13-'PROJETO 02 CEAD'!L13)+('PROJETO 03 CEAD'!K13-'PROJETO 03 CEAD'!L13)+('PROJETO 04 CEAD'!K13-'PROJETO 04 CEAD'!L13)+('PROJETO 05 CEAD'!K13-'PROJETO 05 CEAD'!L13)+('PROJETO 06 CEAD'!K13-'PROJETO 06 CEAD'!L13)+('PROJETO 07 CERES'!K13-'PROJETO 07 CERES'!L13)+('PROJETO 08 CERES'!K13-'PROJETO 08 CERES'!L13) -> 0 | M13: =K13-L13 -> 35
C14: 11 | D14: Jantar(buffet livre) - Conforme Memorial Descritivo. | E14: 339039.80 | G14: Refeição | J14: 27 | K14: =REIT!K14+ESAG!K14+CEART!K14+FAED!K14+CEAD!K14+CEFID!K14+CESFI!K14+CERES!K14+'PROJETO 01 CEAD'!K14+'PROJETO 02 CEAD'!K14+'PROJETO 03 CEAD'!K14+'PROJETO 04 CEAD'!K14+'PROJETO 05 CEAD'!K14+'PROJETO 06 CEAD'!K14+'PROJETO 07 CERES'!K14+'PROJETO 08 CERES'!K14 -> 35 | L14: =(REIT!K14-REIT!L14)+(ESAG!K14-ESAG!L14)+(CEART!K14-CEART!L14)+(FAED!K14-FAED!L14)+(CEAD!K14-CEAD!L14)+(CEFID!K14-CEFID!L14)+(CESFI!K14-CESFI!L14)+(CERES!K14-CERES!L14)+('PROJETO 01 CEAD'!K14-'PROJETO 01 CEAD'!L14)+('PROJETO 02 CEAD'!K14-'PROJETO 02 CEAD'!L14)+('PROJETO 03 CEAD'!K14-'PROJETO 03 CEAD'!L14)+('PROJETO 04 CEAD'!K14-'PROJETO 04 CEAD'!L14)+('PROJETO 05 CEAD'!K14-'PROJETO 05 CEAD'!L14)+('PROJETO 06 CEAD'!K14-'PROJETO 06 CEAD'!L14)+('PROJETO 07 CERES'!K14-'PROJETO 07 CERES'!L14)+('PROJETO 08 CERES'!K14-'PROJETO 08 CERES'!L14) -> 0 | M14: =K14-L14 -> 35
A15: Complexo Turístico Flipper Ltda | B15: 4 | C15: 12 | D15: Pernoite com café da manhã, Apartamento Simples. PADRÃO MÉDIO - conforme memorial descritivo. | E15: 339039.80 | G15: Diária | J15: 111 | K15: =REIT!K15+ESAG!K15+CEART!K15+FAED!K15+CEAD!K15+CEFID!K15+CESFI!K15+CERES!K15+'PROJETO 01 CEAD'!K15+'PROJETO 02 CEAD'!K15+'PROJETO 03 CEAD'!K15+'PROJETO 04 CEAD'!K15+'PROJETO 05 CEAD'!K15+'PROJETO 06 CEAD'!K15+'PROJETO 07 CERES'!K15+'PROJETO 08 CERES'!K15 -> 85 | L15: =(REIT!K15-REIT!L15)+(ESAG!K15-ESAG!L15)+(CEART!K15-CEART!L15)+(FAED!K15-FAED!L15)+(CEAD!K15-CEAD!L15)+(CEFID!K15-CEFID!L15)+(CESFI!K15-CESFI!L15)+(CERES!K15-CERES!L15)+('PROJETO 01 CEAD'!K15-'PROJETO 01 CEAD'!L15)+('PROJETO 02 CEAD'!K15-'PROJETO 02 CEAD'!L15)+('PROJETO 03 CEAD'!K15-'PROJETO 03 CEAD'!L15)+('PROJETO 04 CEAD'!K15-'PROJETO 04 CEAD'!L15)+('PROJETO 05 CEAD'!K15-'PROJETO 05 CEAD'!L15)+('PROJETO 06 CEAD'!K15-'PROJETO 06 CEAD'!L15)+('PROJETO 07 CERES'!K15-'PROJETO 07 CERES'!L15)+('PROJETO 08 CERES'!K15-'PROJETO 08 CERES'!L15) -> 0 | M15: =K15-L15 -> 85
C16: 13 | D16: Pernoite com café da manhã, Apartamento Duplo. PADRÃO MÉDIO - conforme memorial descritivo. | E16: 339039.80 | G16: Diária | J16: 180 | K16: =REIT!K16+ESAG!K16+CEART!K16+FAED!K16+CEAD!K16+CEFID!K16+CESFI!K16+CERES!K16+'PROJETO 01 CEAD'!K16+'PROJETO 02 CEAD'!K16+'PROJETO 03 CEAD'!K16+'PROJETO 04 CEAD'!K16+'PROJETO 05 CEAD'!K16+'PROJETO 06 CEAD'!K16+'PROJETO 07 CERES'!K16+'PROJETO 08 CERES'!K16 -> 15 | L16: =(REIT!K16-REIT!L16)+(ESAG!K16-ESAG!L16)+(CEART!K16-CEART!L16)+(FAED!K16-FAED!L16)+(CEAD!K16-CEAD!L16)+(CEFID!K16-CEFID!L16)+(CESFI!K16-CESFI!L16)+(CERES!K16-CERES!L16)+('PROJETO 01 CEAD'!K16-'PROJETO 01 CEAD'!L16)+('PROJETO 02 CEAD'!K16-'PROJETO 02 CEAD'!L16)+('PROJETO 03 CEAD'!K16-'PROJETO 03 CEAD'!L16)+('PROJETO 04 CEAD'!K16-'PROJETO 04 CEAD'!L16)+('PROJETO 05 CEAD'!K16-'PROJETO 05 CEAD'!L16)+('PROJETO 06 CEAD'!K16-'PROJETO 06 CEAD'!L16)+('PROJETO 07 CERES'!K16-'PROJETO 07 CERES'!L16)+('PROJETO 08 CERES'!K16-'PROJETO 08 CERES'!L16) -> 0 | M16: =K16-L16 -> 15
C17: 14 | D17: Almoço(buffet livre) - Conforme Memorial Descritivo. | E17: 339039.80 | G17: Refeição | J17: 29 | K17: =REIT!K17+ESAG!K17+CEART!K17+FAED!K17+CEAD!K17+CEFID!K17+CESFI!K17+CERES!K17+'PROJETO 01 CEAD'!K17+'PROJETO 02 CEAD'!K17+'PROJETO 03 CEAD'!K17+'PROJETO 04 CEAD'!K17+'PROJETO 05 CEAD'!K17+'PROJETO 06 CEAD'!K17+'PROJETO 07 CERES'!K17+'PROJETO 08 CERES'!K17 -> 85 | L17: =(REIT!K17-REIT!L17)+(ESAG!K17-ESAG!L17)+(CEART!K17-CEART!L17)+(FAED!K17-FAED!L17)+(CEAD!K17-CEAD!L17)+(CEFID!K17-CEFID!L17)+(CESFI!K17-CESFI!L17)+(CERES!K17-CERES!L17)+('PROJETO 01 CEAD'!K17-'PROJETO 01 CEAD'!L17)+('PROJETO 02 CEAD'!K17-'PROJETO 02 CEAD'!L17)+('PROJETO 03 CEAD'!K17-'PROJETO 03 CEAD'!L17)+('PROJETO 04 CEAD'!K17-'PROJETO 04 CEAD'!L17)+('PROJETO 05 CEAD'!K17-'PROJETO 05 CEAD'!L17)+('PROJETO 06 CEAD'!K17-'PROJETO 06 CEAD'!L17)+('PROJETO 07 CERES'!K17-'PROJETO 07 CERES'!L17)+('PROJETO 08 CERES'!K17-'PROJETO 08 CERES'!L17) -> 0 | M17: =K17-L17 -> 85
C18: 15 | D18: Jantar(buffet livre) - Conforme Memorial Descritivo. | E18: 339039.80 | G18: Refeição | J18: 29 | K18: =REIT!K18+ESAG!K18+CEART!K18+FAED!K18+CEAD!K18+CEFID!K18+CESFI!K18+CERES!K18+'PROJETO 01 CEAD'!K18+'PROJETO 02 CEAD'!K18+'PROJETO 03 CEAD'!K18+'PROJETO 04 CEAD'!K18+'PROJETO 05 CEAD'!K18+'PROJETO 06 CEAD'!K18+'PROJETO 07 CERES'!K18+'PROJETO 08 CERES'!K18 -> 85 | L18: =(REIT!K18-REIT!L18)+(ESAG!K18-ESAG!L18)+(CEART!K18-CEART!L18)+(FAED!K18-FAED!L18)+(CEAD!K18-CEAD!L18)+(CEFID!K18-CEFID!L18)+(CESFI!K18-CESFI!L18)+(CERES!K18-CERES!L18)+('PROJETO 01 CEAD'!K18-'PROJETO 01 CEAD'!L18)+('PROJETO 02 CEAD'!K18-'PROJETO 02 CEAD'!L18)+('PROJETO 03 CEAD'!K18-'PROJETO 03 CEAD'!L18)+('PROJETO 04 CEAD'!K18-'PROJETO 04 CEAD'!L18)+('PROJETO 05 CEAD'!K18-'PROJETO 05 CEAD'!L18)+('PROJETO 06 CEAD'!K18-'PROJETO 06 CEAD'!L18)+('PROJETO 07 CERES'!K18-'PROJETO 07 CERES'!L18)+('PROJETO 08 CERES'!K18-'PROJETO 08 CERES'!L18) -> 0 | M18: =K18-L18 -> 85

Sheet Modelo Anexo II IN 002_2014
A1: ANEXO II – Instrução Normativa n.º 002/2014
A3: DECLARAÇÃO DE DISPONIBILIDADE DE QUANTITATIVO PARA EMISSÃO DE AUTORIZAÇÃO DE FORNECIMENTO/ORDEM DE SERVIÇO – SISTEMA DE REGISTRO DE PREÇOS/UDESC
A5: Processo CPA n.º XXXX/2014
A6: Pregão n.º XXXX/2014
A7: Objeto:
A8: Vigência da Ata de Registro de Preços: XX/XX/XXXX até XX/XX/XXXXX
A10: Declaro que o Centro XXXXXXX, participante da Ata de Registro de Preços proveniente do Pregão n.º XXXX/2014, possui saldo em seu quantitativo para a emissão da Autorização de Fornecimento/Ordem de Serviço n.º XXXX/2014, no valor de R$ X.XXX,XX, a ser firmada com a empresa XXXXXXX, restando ainda em sua cota para próximas contratações com o referido fornecedor os seguintes quantitativos:
A12: Lote | B12: Item | C12: Descrição Resumida | D12: Unidade | E12: Valor Unitário (R$) | F12: Saldo Quantitativo (antes da emissão desta AF/OS) | G12: Quantitativo da AF/OS | H12: Saldo Atualizado
A19: __________________, ____/_____/____
A20: Cidade Data
A24: _____________________________________________
A25: Diretor(a) de Administração
A26: (carimbo e assinatura)

Sheet PROJETO 02 CEAD
A1: PROCESSO: 0239/2014/UDESC | D1: OBJETO: Serviços de Hospedagem | K1: VIGÊNCIA DA ATA: Lotes 1, 2 e 3 08/04/20134 até 07/04/2015 - Lote 4 21/03/2014 até 20/03/2015 | N1: AF/OS nº xxxx/2014 Qtde. DT | O1: AF/OS nº xxxx/2014 Qtde. DT | P1: AF/OS nº xxxx/2014 Qtde. DT | Q1: AF/OS nº xxxx/2014 Qtde. DT | R1: AF/OS nº xxxx/2014 Qtde. DT | S1: AF/OS nº xxxx/2014 Qtde. DT | T1: AF/OS nº xxxx/2014 Qtde. DT | U1: AF/OS nº xxxx/2014 Qtde. DT | V1: AF/OS nº xxxx/2014 Qtde. DT | W1: AF/OS nº xxxx/2014 Qtde. DT | X1: AF/OS nº xxxx/2014 Qtde. DT | Y1: AF/OS nº xxxx/2014 Qtde. DT
A2: CENTRO PARTICIPANTE: PROJETO 02 CEAD
A3: FORNECEDOR | B3: LOTE | C3: ITEM | D3: PRODUTO - CARACTERÍSTICAS MÍNIMAS | E3: ELEMENTO | F3: MARCA | G3: UNIDADE | H3: Entrega (Dias) | I3: Pagto. (Dias) | J3: Preço UNITÁRIO (R$) | K3: Qtde LICITADA | L3: Saldo / Automático | M3: ALERTA | N3: ...../...../...... | O3: ...../...../...... | P3: ...../...../...... | Q3: ...../...../...... | R3: ...../...../...... | S3: ...../...../...... | T3: ...../...../...... | U3: ...../...../...... | V3: ...../...../...... | W3: ...../...../...... | X3: ...../...../...... | Y3: ...../...../......
A4: Maria do Mar Hotel e Ind. Alim. Ltda | B4: 1 | C4: 1 | D4: Pernoite com café da manhã, Apartamento Simples. PADRÃO MÉDIO - conforme memorial descritivo. | E4: 339039.80 | G4: Diária | J4: 142 | K4: 3 | L4: =K4-(SUM(N4:Y4)) -> 3 | M4: =IF(L4<0,"ATENÇÃO","OK") -> OK | N4: 0 | O4: 0 | P4: 0 | Q4: 0 | R4: 0 | S4: 0 | T4: 0 | U4: 0 | V4: 0 | W4: 0 | X4: 0 | Y4: 0
C5: 2 | D5: Pernoite com café da manhã, Apartamento Duplo. PADRÃO MÉDIO - conforme memorial descritivo. | E5: 339039.80 | G5: Diária | J5: 158.87 | L5: =K5-(SUM(N5:Y5)) -> 0 | M5: =IF(L5<0,"ATENÇÃO","OK") -> OK | N5: 0 | O5: 0 | P5: 0 | Q5: 0 | R5: 0 | S5: 0 | T5: 0 | U5: 0 | V5: 0 | W5: 0 | X5: 0 | Y5: 0
C6: 3 | D6: Almoço(buffet livre) - Conforme Memorial Descritivo. | E6: 339039.80 | G6: Refeição | J6: 30 | K6: 3 | L6: =K6-(SUM(N6:Y6)) -> 3 | M6: =IF(L6<0,"ATENÇÃO","OK") -> OK | N6: 0 | O6: 0 | P6: 0 | Q6: 0 | R6: 0 | S6: 0 | T6: 0 | U6: 0 | V6: 0 | W6: 0 | X6: 0 | Y6: 0
C7: 4 | D7: Jantar(buffet livre) - Conforme Memorial Descritivo. | E7: 339039.80 | G7: Refeição | J7: 30 | K7: 3 | L7: =K7-(SUM(N7:Y7)) -> 3 | M7: =IF(L7<0,"ATENÇÃO","OK") -> OK | N7: 0 | O7: 0 | P7: 0 | Q7: 0 | R7: 0 | S7: 0 | T7: 0 | U7: 0 | V7: 0 | W7: 0 | X7: 0 | Y7: 0
A8: Castelmar Empreendimentos Hoteleiros Ltda | B8: 2 | C8: 5 | D8: Pernoite (Apartamento Individual) com café da manhã - ALTO PADRÃO. Suíte com 02 Ambientes: Quarto e Home Office - Conforme Memorial Descritivo. | E8: 339039.80 | G8: Diária | J8: 180 | L8: =K8-(SUM(N8:Y8)) -> 0 | M8: =IF(L8<0,"ATENÇÃO","OK") -> OK | N8: 0 | O8: 0 | P8: 0 | Q8: 0 | R8: 0 | S8: 0 | T8: 0 | U8: 0 | V8: 0 | W8: 0 | X8: 0 | Y8: 0
C9: 6 | D9: Almoço(buffet livre ou a la carte) - Conforme Memorial Descritivo. | E9: 339039.80 | G9: Refeição | J9: 38 | L9: =K9-(SUM(N9:Y9)) -> 0 | M9: =IF(L9<0,"ATENÇÃO","OK") -> OK | N9: 0 | O9: 0 | P9: 0 | Q9: 0 | R9: 0 | S9: 0 | T9: 0 | U9: 0 | V9: 0 | W9: 0 | X9: 0 | Y9: 0
C10: 7 | D10: Jantar(buffet livre ou a La carte) - Conforme Memorial Descritivo. | E10: 339039.80 | G10: Refeição | J10: 38 | L10: =K10-(SUM(N10:Y10)) -> 0 | M10: =IF(L10<0,"ATENÇÃO","OK") -> OK | N10: 0 | O10: 0 | P10: 0 | Q10: 0 | R10: 0 | S10: 0 | T10: 0 | U10: 0 | V10: 0 | W10: 0 | X10: 0 | Y10: 0
A11: Ryan Hotel Ltda | B11: 3 | C11: 8 | D11: Pernoite com café da manhã, Apartamento Simples. PADRÃO MÉDIO - conforme memorial descritivo. | E11: 339039.80 | G11: Diária | J11: 124 | L11: =K11-(SUM(N11:Y11)) -> 0 | M11: =IF(L11<0,"ATENÇÃO","OK") -> OK | N11: 0 | O11: 0 | P11: 0 | Q11: 0 | R11: 0 | S11: 0 | T11: 0 | U11: 0 | V11: 0 | W11: 0 | X11: 0 | Y11: 0
C12: 9 | D12: Pernoite com café da manhã, Apartamento Duplo. PADRÃO MÉDIO - conforme memorial descritivo. | E12: 339039.80 | G12: Diária | J12: 146 | L12: =K12-(SUM(N12:Y12)) -> 0 | M12: =IF(L12<0,"ATENÇÃO","OK") -> OK | N12: 0 | O12: 0 | P12: 0 | Q12: 0 | R12: 0 | S12: 0 | T12: 0 | U12: 0 | V12: 0 | W12: 0 | X12: 0 | Y12: 0
C13: 10 | D13: Almoço(buffet livre) - Conforme Memorial Descritivo. | E13: 339039.80 | G13: Refeição | J13: 27 | L13: =K13-(SUM(N13:Y13)) -> 0 | M13: =IF(L13<0,"ATENÇÃO","OK") -> OK | N13: 0 | O13: 0 | P13: 0 | Q13: 0 | R13: 0 | S13: 0 | T13: 0 | U13: 0 | V13: 0 | W13: 0 | X13: 0 | Y13: 0
C14: 11 | D14: Jantar(buffet livre) - Conforme Memorial Descritivo. | E14: 339039.80 | G14: Refeição | J14: 27 | L14: =K14-(SUM(N14:Y14)) -> 0 | M14: =IF(L14<0,"ATENÇÃO","OK") -> OK | N14: 0 | O14: 0 | P14: 0 | Q14: 0 | R14: 0 | S14: 0 | T14: 0 | U14: 0 | V14: 0 | W14: 0 | X14: 0 | Y14: 0
A15: Complexo Turístico Flipper Ltda | B15: 4 | C15: 12 | D15: Pernoite com café da manhã, Apartamento Simples. PADRÃO MÉDIO - conforme memorial descritivo. | E15: 339039.80 | G15: Diária | J15: 111 | L15: =K15-(SUM(N15:Y15)) -> 0 | M15: =IF(L15<0,"ATENÇÃO","OK") -> OK | N15: 0 | O15: 0 | P15: 0 | Q15: 0 | R15: 0 | S15: 0 | T15: 0 | U15: 0 | V15: 0 | W15: 0 | X15: 0 | Y15: 0
C16: 13 | D16: Pernoite com café da manhã, Apartamento Duplo. PADRÃO MÉDIO - conforme memorial descritivo. | E16: 339039.80 | G16: Diária | J16: 180 | L16: =K16-(SUM(N16:Y16)) -> 0 | M16: =IF(L16<0,"ATENÇÃO","OK") -> OK | N16: 0 | O16: 0 | P16: 0 | Q16: 0 | R16: 0 | S16: 0 | T16: 0 | U16: 0 | V16: 0 | W16: 0 | X16: 0 | Y16: 0
C17: 14 | D17: Almoço(buffet livre) - Conforme Memorial Descritivo. | E17: 339039.80 | G17: Refeição | J17: 29 | L17: =K17-(SUM(N17:Y17)) -> 0 | M17: =IF(L17<0,"ATENÇÃO","OK") -> OK | N17: 0 | O17: 0 | P17: 0 | Q17: 0 | R17: 0 | S17: 0 | T17: 0 | U17: 0 | V17: 0 | W17: 0 | X17: 0 | Y17: 0
C18: 15 | D18: Jantar(buffet livre) - Conforme Memorial Descritivo. | E18: 339039.80 | G18: Refeição | J18: 29 | L18: =K18-(SUM(N18:Y18)) -> 0 | M18: =IF(L18<0,"ATENÇÃO","OK") -> OK | N18: 0 | O18: 0 | P18: 0 | Q18: 0 | R18: 0 | S18: 0 | T18: 0 | U18: 0 | V18: 0 | W18: 0 | X18: 0 | Y18: 0
