Workbook
Name diasuteis: #REF!
Name diasuteis: #REF!
Name diasuteis: #REF!
Name diasuteis: #REF!
Name diasuteis: #REF!
Name diasuteis: #REF!
Name diasuteis: #REF!
Name diasuteis: #REF!
Name diasuteis: #REF!
Name diasuteis: #REF!
Name diasuteis: #REF!
Name diasuteis: #REF!
Name diasuteis: #REF!
Name diasuteis: #REF!
Name diasuteis: #REF!
Name diasuteis: #REF!
Name diasuteis: #REF!
Name diasuteis: #REF!
Name Ferias: #REF!
Name Ferias: #REF!
Name Ferias: #REF!
Name Ferias: #REF!
Name Ferias: #REF!
Name Ferias: #REF!
Name Ferias: #REF!
Name Ferias: #REF!
Name Ferias: #REF!
Name Ferias: #REF!
Name Ferias: #REF!
Name Ferias: #REF!
Name Ferias: #REF!
Name Ferias: #REF!
Name Ferias: #REF!
Name Ferias: #REF!
Name Ferias: #REF!
Name RD: OFFSET(#REF!,(MATCH(SMALL(#REF!,ROW()-10),#REF!,0)-1),0)
Name RD: OFFSET(#REF!,(MATCH(SMALL(#REF!,ROW()-10),#REF!,0)-1),0)
Name RD: OFFSET(#REF!,(MATCH(SMALL(#REF!,ROW()-10),#REF!,0)-1),0)
Name RD: OFFSET(#REF!,(MATCH(SMALL(#REF!,ROW()-10),#REF!,0)-1),0)
Name RD: OFFSET(#REF!,(MATCH(SMALL(#REF!,ROW()-10),#REF!,0)-1),0)

Sheet REIT
A1: PROCESSO: 0239/2014/UDESC | D1: OBJETO: Serviços de Hospedagem | K1: VIGÊNCIA DA ATA: Lotes 1, 2 e 3 08/04/20134 até 07/04/2015 - Lote 4 21/03/2014 até 20/03/2015 | N1: AF/OS nº 380/2014 Qtde. DT | O1: AF/OS nº 537/2014 Qtde. DT | P1: AF/OS nº 368/2014 Qtde. DT | Q1: AF/OS nº xxxx/2014 Qtde. DT | R1: AF/OS nº xxxx/2014 Qtde. DT | S1: AF/OS nº xxxx/2014 Qtde. DT | T1: AF/OS nº xxxx/2014 Qtde. DT | U1: AF/OS nº xxxx/2014 Qtde. DT | V1: AF/OS nº xxxx/2014 Qtde. DT | W1: AF/OS nº xxxx/2014 Qtde. DT | X1: AF/OS nº xxxx/2014 Qtde. DT | Y1: AF/OS nº xxxx/2014 Qtde. DT
A2: CENTRO PARTICIPANTE: REITORIA
A3: FORNECEDOR | B3: LOTE | C3: ITEM | D3: PRODUTO - CARACTERÍSTICAS MÍNIMAS | E3: ELEMENTO | F3: MARCA | G3: UNIDADE | H3: Entrega (Dias) | I3: Pagto. (Dias) | J3: Preço UNITÁRIO (R$) | K3: Qtde LICITADA | L3: Saldo / Automático | M3: ALERTA | N3: 41707 | O3: 41801 | P3: 41707 | Q3: ...../...../...... | R3: ...../...../...... | S3: ...../...../...... | T3: ...../...../...... | U3: ...../...../...... | V3: ...../...../...... | W3: ...../...../...... | X3: ...../...../...... | Y3: ...../...../......
A4: Maria do Mar Hotel e Ind. Alim. Ltda | B4: 1 | C4: 1 | D4: Pernoite com café da manhã, Apartamento Simples. PADRÃO MÉDIO - conforme memorial descritivo. | E4: 339039.80 | G4: Diária | J4: 142 | K4: =34+180 -> 214 | L4: =K4-(SUM(N4:Y4)) -> 180 | M4: =IF(L4<0,"ATENÇÃO","OK") -> OK | N4: 0 | O4: 14 | P4: 20 | Q4: 0 | R4: 0 | S4: 0 | T4: 0 | U4: 0 | V4: 0 | W4: 0 | X4: 0 | Y4: 0
C5: 2 | D5: Pernoite com café da manhã, Apartamento Duplo. PADRÃO MÉDIO - conforme memorial descritivo. | E5: 339039.80 | G5: Diária | J5: 158.87 | K5: =34+20 -> 54 | L5: =K5-(SUM(N5:Y5)) -> 20 | M5: =IF(L5<0,"ATENÇÃO","OK") -> OK | N5: 0 | O5: 14 | P5: 20 | Q5: 0 | R5: 0 | S5: 0 | T5: 0 | U5: 0 | V5: 0 | W5: 0 | X5: 0 | Y5: 0
C6: 3 | D6: Almoço(buffet livre) - Conforme Memorial Descritivo. | E6: 339039.80 | G6: Refeição | J6: 30 | K6: =34+87 -> 121 | L6: =K6-(SUM(N6:Y6)) -> 87 | M6: =IF(L6<0,"ATENÇÃO","OK") -> OK | N6: 0 | O6: 14 | P6: 20 | Q6: 0 | R6: 0 | S6: 0 | T6: 0 | U6: 0 | V6: 0 | W6: 0 | X6: 0 | Y6: 0
C7: 4 | D7: Jantar(buffet livre) - Conforme Memorial Descritivo. | E7: 339039.80 | G7: Refeição | J7: 30 | K7: =34+120 -> 154 | L7: =K7-(SUM(N7:Y7)) -> 120 | M7: =IF(L7<0,"ATENÇÃO","OK") -> OK | N7: 0 | O7: 14 | P7: 20 | Q7: 0 | R7: 0 | S7: 0 | T7: 0 | U7: 0 | V7: 0 | W7: 0 | X7: 0 | Y7: 0
A8: Castelmar Empreendimentos Hoteleiros Ltda | B8: 2 | C8: 5 | D8: Pernoite (Apartamento Individual) com café da manhã - ALTO PADRÃO. Suíte com 02 Ambientes: Quarto e Home Office - Conforme Memorial Descritivo. | E8: 339039.80 | G8: Diária | J8: 180 | K8: 130 | L8: =K8-(SUM(N8:Y8)) -> 110 | M8: =IF(L8<0,"ATENÇÃO","OK") -> OK | N8: 20 | O8: 0 | P8: 0 | Q8: 0 | R8: 0 | S8: 0 | T8: 0 | U8: 0 | V8: 0 | W8: 0 | X8: 0 | Y8: 0
C9: 6 | D9: Almoço(buffet livre ou a la carte) - Conforme Memorial Descritivo. | E9: 339039.80 | G9: Refeição | J9: 38 | K9: 130 | L9: =K9-(SUM(N9:Y9)) -> 110 | M9: =IF(L9<0,"ATENÇÃO","OK") -> OK | N9: 20 | O9: 0 | P9: 0 | Q9: 0 | R9: 0 | S9: 0 | T9: 0 | U9: 0 | V9: 0 | W9: 0 | X9: 0 | Y9: 0
C10: 7 | D10: Jantar(buffet livre ou a La carte) - Conforme Memorial Descritivo. | E10: 339039.80 | G10: Refeição | J10: 38 | K10: 130 | L10: =K10-(SUM(N10:Y10)) -> 110 | M10: =IF(L10<0,"ATENÇÃO","OK") -> OK | N10: 20 | O10: 0 | P10: 0 | Q10: 0 | R10: 0 | S10: 0 | T10: 0 | U10: 0 | V10: 0 | W10: 0 | X10: 0 | Y10: 0
A11: Ryan Hotel Ltda | B11: 3 | C11: 8 | D11: Pernoite com café da manhã, Apartamento Simples. PADRÃO MÉDIO - conforme memorial descritivo. | E11: 339039.80 | G11: Diária | J11: 124 | L11: =K11-(SUM(N11:Y11)) -> 0 | M11: =IF(L11<0,"ATENÇÃO","OK") -> OK | N11: 0 | O11: 0 | P11: 0 | Q11: 0 | R11: 0 | S11: 0 | T11: 0 | U11: 0 | V11: 0 | W11: 0 | X11: 0 | Y11: 0
C12: 9 | D12: Pernoite com café da manhã, Apartamento Duplo. PADRÃO MÉDIO - conforme memorial descritivo. | E12: 339039.80 | G12: Diária | J12: 146 | L12: =K12-(SUM(N12:Y12)) -> 0 | M12: =IF(L12<0,"ATENÇÃO","OK") -> OK | N12: 0 | O12: 0 | P12: 0 | Q12: 0 | R12: 0 | S12: 0 | T12: 0 | U12: 0 | V12: 0 | W12: 0 | X12: 0 | Y12: 0
C13: 10 | D13: Almoço(buffet livre) - Conforme Memorial Descritivo. | E13: 339039.80 | G13: Refeição | J13: 27 | L13: =K13-(SUM(N13:Y13)) -> 0 | M13: =IF(L13<0,"ATENÇÃO","OK") -> OK | N13: 0 | O13: 0 | P13: 0 | Q13: 0 | R13: 0 | S13: 0 | T13: 0 | U13: 0 | V13: 0 | W13: 0 | X13: 0 | Y13: 0
C14: 11 | D14: Jantar(buffet livre) - Conforme Memorial Descritivo. | E14: 339039.80 | G14: Refeição | J14: 27 | L14: =K14-(SUM(N14:Y14)) -> 0 | M14: =IF(L14<0,"ATENÇÃO","OK") -> OK | N14: 0 | O14: 0 | P14: 0 | Q14: 0 | R14: 0 | S14: 0 | T14: 0 | U14: 0 | V14: 0 | W14: 0 | X14: 0 | Y14: 0
A15: Complexo Turístico Flipper Ltda | B15: 4 | C15: 12 | D15: Pernoite com café da manhã, Apartamento Simples. PADRÃO MÉDIO - conforme memorial descritivo. | E15: 339039.80 | G15: Diária | J15: 111 | L15: =K15-(SUM(N15:Y15)) -> 0 | M15: =IF(L15<0,"ATENÇÃO","OK") -> OK | N15: 0 | O15: 0 | P15: 0 | Q15: 0 | R15: 0 | S15: 0 | T15: 0 | U15: 0 | V15: 0 | W15: 0 | X15: 0 | Y15: 0
C16: 13 | D16: Pernoite com café da manhã, Apartamento Duplo. PADRÃO MÉDIO - conforme memorial descritivo. | E16: 339039.80 | G16: Diária | J16: 180 | L16: =K16-(SUM(N16:Y16)) -> 0 | M16: =IF(L16<0,"ATENÇÃO","OK") -> OK | N16: 0 | O16: 0 | P16: 0 | Q16: 0 | R16: 0 | S16: 0 | T16: 0 | U16: 0 | V16: 0 | W16: 0 | X16: 0 | Y16: 0
C17: 14 | D17: Almoço(buffet livre) - Conforme Memorial Descritivo. | E17: 339039.80 | G17: Refeição | J17: 29 | L17: =K17-(SUM(N17:Y17)) -> 0 | M17: =IF(L17<0,"ATENÇÃO","OK") -> OK | N17: 0 | O17: 0 | P17: 0 | Q17: 0 | R17: 0 | S17: 0 | T17: 0 | U17: 0 | V17: 0 | W17: 0 | X17: 0 | Y17: 0
C18: 15 | D18: Jantar(buffet livre) - Conforme Memorial Descritivo. | E18: 339039.80 | G18: Refeição | J18: 29 | L18: =K18-(SUM(N18:Y18)) -> 0 | M18: =IF(L18<0,"ATENÇÃO","OK") -> OK | N18: 0 | O18: 0 | P18: 0 | Q18: 0 | R18: 0 | S18: 0 | T18: 0 | U18: 0 | V18: 0 | W18: 0 | X18: 0 | Y18: 0

Sheet ESAG
A1: PROCESSO: 0239/2014/UDESC | D1: OBJETO: Serviços de Hospedagem | K1: VIGÊNCIA DA ATA: Lotes 1, 2 e 3 08/04/20134 até 07/04/2015 - Lote 4 21/03/2014 até 20/03/2015 | N1: AF/OS nº xxxx/2014 Qtde. DT | O1: AF/OS nº xxxx/2014 Qtde. DT | P1: AF/OS nº xxxx/2014 Qtde. DT | Q1: AF/OS nº xxxx/2014 Qtde. DT | R1: AF/OS nº xxxx/2014 Qtde. DT | S1: AF/OS nº xxxx/2014 Qtde. DT | T1: AF/OS nº xxxx/2014 Qtde. DT | U1: AF/OS nº xxxx/2014 Qtde. DT | V1: AF/OS nº xxxx/2014 Qtde. DT | W1: AF/OS nº xxxx/2014 Qtde. DT | X1: AF/OS nº xxxx/2014 Qtde. DT | Y1: AF/OS nº xxxx/2014 Qtde. DT
A2: CENTRO PARTICIPANTE: ESAG
A3: FORNECEDOR | B3: LOTE | C3: ITEM | D3: PRODUTO - CARACTERÍSTICAS MÍNIMAS | E3: ELEMENTO | F3: MARCA | G3: UNIDADE | H3: Entrega (Dias) | I3: Pagto. (Dias) | J3: Preço UNITÁRIO (R$) | K3: Qtde LICITADA | L3: Saldo / Automático | M3: ALERTA | N3: ...../...../...... | O3: ...../...../...... | P3: ...../...../...... | Q3: ...../...../...... | R3: ...../...../...... | S3: ...../...../...... | T3: ...../...../...... | U3: ...../...../...... | V3: ...../...../...... | W3: ...../...../...... | X3: ...../...../...... | Y3: ...../...../......
A4: Maria do Mar Hotel e Ind. Alim. Ltda | B4: 1 | C4: 1 | D4: Pernoite com café da manhã, Apartamento Simples. PADRÃO MÉDIO - conforme memorial descritivo. | E4: 339039.80 | G4: Diária | J4: 142 | K4: 50 | L4: =K4-(SUM(N4:Y4)) -> 50 | M4: =IF(L4<0,"ATENÇÃO","OK") -> OK | N4: 0 | O4: 0 | P4: 0 | Q4: 0 | R4: 0 | S4: 0 | T4: 0 | U4: 0 | V4: 0 | W4: 0 | X4: 0 | Y4: 0
C5: 2 | D5: Pernoite com café da manhã, Apartamento Duplo. PADRÃO MÉDIO - conforme memorial descritivo. | E5: 339039.80 | G5: Diária | J5: 158.87 | K5: 10 | L5: =K5-(SUM(N5:Y5)) -> 10 | M5: =IF(L5<0,"ATENÇÃO","OK") -> OK | N5: 0 | O5: 0 | P5: 0 | Q5: 0 | R5: 0 | S5: 0 | T5: 0 | U5: 0 | V5: 0 | W5: 0 | X5: 0 | Y5: 0
C6: 3 | D6: Almoço(buffet livre) - Conforme Memorial Descritivo. | E6: 339039.80 | G6: Refeição | J6: 30 | K6: 50 | L6: =K6-(SUM(N6:Y6)) -> 50 | M6: =IF(L6<0,"ATENÇÃO","OK") -> OK | N6: 0 | O6: 0 | P6: 0 | Q6: 0 | R6: 0 | S6: 0 | T6: 0 | U6: 0 | V6: 0 | W6: 0 | X6: 0 | Y6: 0
C7: 4 | D7: Jantar(buffet livre) - Conforme Memorial Descritivo. | E7: 339039.80 | G7: Refeição | J7: 30 | K7: 50 | L7: =K7-(SUM(N7:Y7)) -> 50 | M7: =IF(L7<0,"ATENÇÃO","OK") -> OK | N7: 0 | O7: 0 | P7: 0 | Q7: 0 | R7: 0 | S7: 0 | T7: 0 | U7: 0 | V7: 0 | W7: 0 | X7: 0 | Y7: 0
A8: Castelmar Empreendimentos Hoteleiros Ltda | B8: 2 | C8: 5 | D8: Pernoite (Apartamento Individual) com café da manhã - ALTO PADRÃO. Suíte com 02 Ambientes: Quarto e Home Office - Conforme Memorial Descritivo. | E8: 339039.80 | G8: Diária | J8: 180 | L8: =K8-(SUM(N8:Y8)) -> 0 | M8: =IF(L8<0,"ATENÇÃO","OK") -> OK | N8: 0 | O8: 0 | P8: 0 | Q8: 0 | R8: 0 | S8: 0 | T8: 0 | U8: 0 | V8: 0 | W8: 0 | X8: 0 | Y8: 0
C9: 6 | D9: Almoço(buffet livre ou a la carte) - Conforme Memorial Descritivo. | E9: 339039.80 | G9: Refeição | J9: 38 | L9: =K9-(SUM(N9:Y9)) -> 0 | M9: =IF(L9<0,"ATENÇÃO","OK") -> OK | N9: 0 | O9: 0 | P9: 0 | Q9: 0 | R9: 0 | S9: 0 | T9: 0 | U9: 0 | V9: 0 | W9: 0 | X9: 0 | Y9: 0
C10: 7 | D10: Jantar(buffet livre ou a La carte) - Conforme Memorial Descritivo. | E10: 339039.80 | G10: Refeição | J10: 38 | L10: =K10-(SUM(N10:Y10)) -> 0 | M10: =IF(L10<0,"ATENÇÃO","OK") -> OK | N10: 0 | O10: 0 | P10: 0 | Q10: 0 | R10: 0 | S10: 0 | T10: 0 | U10: 0 | V10: 0 | W10: 0 | X10: 0 | Y10: 0
A11: Ryan Hotel Ltda | B11: 3 | C11: 8 | D11: Pernoite com café da manhã, Apartamento Simples. PADRÃO MÉDIO - conforme memorial descritivo. | E11: 339039.80 | G11: Diária | J11: 124 | L11: =K11-(SUM(N11:Y11)) -> 0 | M11: =IF(L11<0,"ATENÇÃO","OK") -> OK | N11: 0 | O11: 0 | P11: 0 | Q11: 0 | R11: 0 | S11: 0 | T11: 0 | U11: 0 | V11: 0 | W11: 0 | X11: 0 | Y11: 0
C12: 9 | D12: Pernoite com café da manhã, Apartamento Duplo. PADRÃO MÉDIO - conforme memorial descritivo. | E12: 339039.80 | G12: Diária | J12: 146 | L12: =K12-(SUM(N12:Y12)) -> 0 | M12: =IF(L12<0,"ATENÇÃO","OK") -> OK | N12: 0 | O12: 0 | P12: 0 | Q12: 0 | R12: 0 | S12: 0 | T12: 0 | U12: 0 | V12: 0 | W12: 0 | X12: 0 | Y12: 0
C13: 10 | D13: Almoço(buffet livre) - Conforme Memorial Descritivo. | E13: 339039.80 | G13: Refeição | J13: 27 | L13: =K13-(SUM(N13:Y13)) -> 0 | M13: =IF(L13<0,"ATENÇÃO","OK") -> OK | N13: 0 | O13: 0 | P13: 0 | Q13: 0 | R13: 0 | S13: 0 | T13: 0 | U13: 0 | V13: 0 | W13: 0 | X13: 0 | Y13: 0
C14: 11 | D14: Jantar(buffet livre) - Conforme Memorial Descritivo. | E14: 339039.80 | G14: Refeição | J14: 27 | L14: =K14-(SUM(N14:Y14)) -> 0 | M14: =IF(L14<0,"ATENÇÃO","OK") -> OK | N14: 0 | O14: 0 | P14: 0 | Q14: 0 | R14: 0 | S14: 0 | T14: 0 | U14: 0 | V14: 0 | W14: 0 | X14: 0 | Y14: 0
A15: Complexo Turístico Flipper Ltda | B15: 4 | C15: 12 | D15: Pernoite com café da manhã, Apartamento Simples. PADRÃO MÉDIO - conforme memorial descritivo. | E15: 339039.80 | G15: Diária | J15: 111 | L15: =K15-(SUM(N15:Y15)) -> 0 | M15: =IF(L15<0,"ATENÇÃO","OK") -> OK | N15: 0 | O15: 0 | P15: 0 | Q15: 0 | R15: 0 | S15: 0 | T15: 0 | U15: 0 | V15: 0 | W15: 0 | X15: 0 | Y15: 0
C16: 13 | D16: Pernoite com café da manhã, Apartamento Duplo. PADRÃO MÉDIO - conforme memorial descritivo. | E16: 339039.80 | G16: Diária | J16: 180 | L16: =K16-(SUM(N16:Y16)) -> 0 | M16: =IF(L16<0,"ATENÇÃO","OK") -> OK | N16: 0 | O16: 0 | P16: 0 | Q16: 0 | R16: 0 | S16: 0 | T16: 0 | U16: 0 | V16: 0 | W16: 0 | X16: 0 | Y16: 0
C17: 14 | D17: Almoço(buffet livre) - Conforme Memorial Descritivo. | E17: 339039.80 | G17: Refeição | J17: 29 | L17: =K17-(SUM(N17:Y17)) -> 0 | M17: =IF(L17<0,"ATENÇÃO","OK") -> OK | N17: 0 | O17: 0 | P17: 0 | Q17: 0 | R17: 0 | S17: 0 | T17: 0 | U17: 0 | V17: 0 | W17: 0 | X17: 0 | Y17: 0
C18: 15 | D18: Jantar(buffet livre) - Conforme Memorial Descritivo. | E18: 339039.80 | G18: Refeição | J18: 29 | L18: =K18-(SUM(N18:Y18)) -> 0 | M18: =IF(L18<0,"ATENÇÃO","OK") -> OK | N18: 0 | O18: 0 | P18: 0 | Q18: 0 | R18: 0 | S18: 0 | T18: 0 | U18: 0 | V18: 0 | W18: 0 | X18: 0 | Y18: 0

Sheet CEART
A1: PROCESSO: 0239/2014/UDESC | D1: OBJETO: Serviços de Hospedagem | K1: VIGÊNCIA DA ATA: Lotes 1, 2 e 3 08/04/20134 até 07/04/2015 - Lote 4 21/03/2014 até 20/03/2015 | N1: OS nº 372/2014 Qtde. DT | O1: OS nº 478/2014 Qtde. DT | P1: AF/OS nº xxxx/2014 Qtde. DT | Q1: AF/OS nº xxxx/2014 Qtde. DT | R1: AF/OS nº xxxx/2014 Qtde. DT | S1: AF/OS nº xxxx/2014 Qtde. DT | T1: AF/OS nº xxxx/2014 Qtde. DT | U1: AF/OS nº xxxx/2014 Qtde. DT | V1: AF/OS nº xxxx/2014 Qtde. DT | W1: AF/OS nº xxxx/2014 Qtde. DT | X1: AF/OS nº xxxx/2014 Qtde. DT | Y1: AF/OS nº xxxx/2014 Qtde. DT
A2: CENTRO PARTICIPANTE: CEART
A3: FORNECEDOR | B3: LOTE | C3: ITEM | D3: PRODUTO - CARACTERÍSTICAS MÍNIMAS | E3: ELEMENTO | F3: MARCA | G3: UNIDADE | H3: Entrega (Dias) | I3: Pagto. (Dias) | J3: Preço UNITÁRIO (R$) | K3: Qtde LICITADA | L3: Saldo / Automático | M3: ALERTA | N3: 41758 | O3: 41788 | P3: ...../...../...... | Q3: ...../...../...... | R3: ...../...../...... | S3: ...../...../...... | T3: ...../...../...... | U3: ...../...../...... | V3: ...../...../...... | W3: ...../...../...... | X3: ...../...../...... | Y3: ...../...../......
A4: Maria do Mar Hotel e Ind. Alim. Ltda | B4: 1 | C4: 1 | D4: Pernoite com café da manhã, Apartamento Simples. PADRÃO MÉDIO - conforme memorial descritivo. | E4: 339039.80 | G4: Diária | J4: 142 | K4: 250 | L4: =K4-(SUM(N4:Y4)) -> 125 | M4: =IF(L4<0,"ATENÇÃO","OK") -> OK | N4: 100 | O4: 25 | P4: 0 | Q4: 0 | R4: 0 | S4: 0 | T4: 0 | U4: 0 | V4: 0 | W4: 0 | X4: 0 | Y4: 0
C5: 2 | D5: Pernoite com café da manhã, Apartamento Duplo. PADRÃO MÉDIO - conforme memorial descritivo. | E5: 339039.80 | G5: Diária | J5: 158.87 | K5: 60 | L5: =K5-(SUM(N5:Y5)) -> 40 | M5: =IF(L5<0,"ATENÇÃO","OK") -> OK | N5: 15 | O5: 5 | P5: 0 | Q5: 0 | R5: 0 | S5: 0 | T5: 0 | U5: 0 | V5: 0 | W5: 0 | X5: 0 | Y5: 0
C6: 3 | D6: Almoço(buffet livre) - Conforme Memorial Descritivo. | E6: 339039.80 | G6: Refeição | J6: 30 | K6: 220 | L6: =K6-(SUM(N6:Y6)) -> 120 | M6: =IF(L6<0,"ATENÇÃO","OK") -> OK | N6: 80 | O6: 20 | P6: 0 | Q6: 0 | R6: 0 | S6: 0 | T6: 0 | U6: 0 | V6: 0 | W6: 0 | X6: 0 | Y6: 0
C7: 4 | D7: Jantar(buffet livre) - Conforme Memorial Descritivo. | E7: 339039.80 | G7: Refeição | J7: 30 | K7: 220 | L7: =K7-(SUM(N7:Y7)) -> 120 | M7: =IF(L7<0,"ATENÇÃO","OK") -> OK | N7: 80 | O7: 20 | P7: 0 | Q7: 0 | R7: 0 | S7: 0 | T7: 0 | U7: 0 | V7: 0 | W7: 0 | X7: 0 | Y7: 0
A8: Castelmar Empreendimentos Hoteleiros Ltda | B8: 2 | C8: 5 | D8: Pernoite (Apartamento Individual) com café da manhã - ALTO PADRÃO. Suíte com 02 Ambientes: Quarto e Home Office - Conforme Memorial Descritivo. | E8: 339039.80 | G8: Diária | J8: 180 | L8: =K8-(SUM(N8:Y8)) -> 0 | M8: =IF(L8<0,"ATENÇÃO","OK") -> OK | N8: 0 | O8: 0 | P8: 0 | Q8: 0 | R8: 0 | S8: 0 | T8: 0 | U8: 0 | V8: 0 | W8: 0 | X8: 0 | Y8: 0
C9: 6 | D9: Almoço(buffet livre ou a la carte) - Conforme Memorial Descritivo. | E9: 339039.80 | G9: Refeição | J9: 38 | L9: =K9-(SUM(N9:Y9)) -> 0 | M9: =IF(L9<0,"ATENÇÃO","OK") -> OK | N9: 0 | O9: 0 | P9: 0 | Q9: 0 | R9: 0 | S9: 0 | T9: 0 | U9: 0 | V9: 0 | W9: 0 | X9: 0 | Y9: 0
C10: 7 | D10: Jantar(buffet livre ou a La carte) - Conforme Memorial Descritivo. | E10: 339039.80 | G10: Refeição | J10: 38 | L10: =K10-(SUM(N10:Y10)) -> 0 | M10: =IF(L10<0,"ATENÇÃO","OK") -> OK | N10: 0 | O10: 0 | P10: 0 | Q10: 0 | R10: 0 | S10: 0 | T10: 0 | U10: 0 | V10: 0 | W10: 0 | X10: 0 | Y10: 0
A11: Ryan Hotel Ltda | B11: 3 | C11: 8 | D11: Pernoite com café da manhã, Apartamento Simples. PADRÃO MÉDIO - conforme memorial descritivo. | E11: 339039.80 | G11: Diária | J11: 124 | L11: =K11-(SUM(N11:Y11)) -> 0 | M11: =IF(L11<0,"ATENÇÃO","OK") -> OK | N11: 0 | O11: 0 | P11: 0 | Q11: 0 | R11: 0 | S11: 0 | T11: 0 | U11: 0 | V11: 0 | W11: 0 | X11: 0 | Y11: 0
C12: 9 | D12: Pernoite com café da manhã, Apartamento Duplo. PADRÃO MÉDIO - conforme memorial descritivo. | E12: 339039.80 | G12: Diária | J12: 146 | L12: =K12-(SUM(N12:Y12)) -> 0 | M12: =IF(L12<0,"ATENÇÃO","OK") -> OK | N12: 0 | O12: 0 | P12: 0 | Q12: 0 | R12: 0 | S12: 0 | T12: 0 | U12: 0 | V12: 0 | W12: 0 | X12: 0 | Y12: 0
C13: 10 | D13: Almoço(buffet livre) - Conforme Memorial Descritivo. | E13: 339039.80 | G13: Refeição | J13: 27 | L13: =K13-(SUM(N13:Y13)) -> 0 | M13: =IF(L13<0,"ATENÇÃO","OK") -> OK | N13: 0 | O13: 0 | P13: 0 | Q13: 0 | R13: 0 | S13: 0 | T13: 0 | U13: 0 | V13: 0 | W13: 0 | X13: 0 | Y13: 0
C14: 11 | D14: Jantar(buffet livre) - Conforme Memorial Descritivo. | E14: 339039.80 | G14: Refeição | J14: 27 | L14: =K14-(SUM(N14:Y14)) -> 0 | M14: =IF(L14<0,"ATENÇÃO","OK") -> OK | N14: 0 | O14: 0 | P14: 0 | Q14: 0 | R14: 0 | S14: 0 | T14: 0 | U14: 0 | V14: 0 | W14: 0 | X14: 0 | Y14: 0
A15: Complexo Turístico Flipper Ltda | B15: 4 | C15: 12 | D15: Pernoite com café da manhã, Apartamento Simples. PADRÃO MÉDIO - conforme memorial descritivo. | E15: 339039.80 | G15: Diária | J15: 111 | L15: =K15-(SUM(N15:Y15)) -> 0 | M15: =IF(L15<0,"ATENÇÃO","OK") -> OK | N15: 0 | O15: 0 | P15: 0 | Q15: 0 | R15: 0 | S15: 0 | T15: 0 | U15: 0 | V15: 0 | W15: 0 | X15: 0 | Y15: 0
C16: 13 | D16: Pernoite com café da manhã, Apartamento Duplo. PADRÃO MÉDIO - conforme memorial descritivo. | E16: 339039.80 | G16: Diária | J16: 180 | L16: =K16-(SUM(N16:Y16)) -> 0 | M16: =IF(L16<0,"ATENÇÃO","OK") -> OK | N16: 0 | O16: 0 | P16: 0 | Q16: 0 | R16: 0 | S16: 0 | T16: 0 | U16: 0 | V16: 0 | W16: 0 | X16: 0 | Y16: 0
C17: 14 | D17: Almoço(buffet livre) - Conforme Memorial Descritivo. | E17: 339039.80 | G17: Refeição | J17: 29 | L17: =K17-(SUM(N17:Y17)) -> 0 | M17: =IF(L17<0,"ATENÇÃO","OK") -> OK | N17: 0 | O17: 0 | P17: 0 | Q17: 0 | R17: 0 | S17: 0 | T17: 0 | U17: 0 | V17: 0 | W17: 0 | X17: 0 | Y17: 0
C18: 15 | D18: Jantar(buffet livre) - Conforme Memorial Descritivo. | E18: 339039.80 | G18: Refeição | J18: 29 | L18: =K18-(SUM(N18:Y18)) -> 0 | M18: =IF(L18<0,"ATENÇÃO","OK") -> OK | N18: 0 | O18: 0 | P18: 0 | Q18: 0 | R18: 0 | S18: 0 | T18: 0 | U18: 0 | V18: 0 | W18: 0 | X18: 0 | Y18: 0

Sheet FAED
A1: PROCESSO: 0239/2014/UDESC | D1: OBJETO: Serviços de Hospedagem | K1: VIGÊNCIA DA ATA: Lotes 1, 2 e 3 08/04/20134 até 07/04/2015 - Lote 4 21/03/2014 até 20/03/2015 | N1: OS nº 369/2014 Qtde. DT | O1: OS nº 373/2014 Qtde. DT | P1: OS nº 386/2014 Qtde. DT | Q1: AF/OS nº xxxx/2014 Qtde. DT | R1: AF/OS nº xxxx/2014 Qtde. DT | S1: AF/OS nº xxxx/2014 Qtde. DT | T1: AF/OS nº xxxx/2014 Qtde. DT | U1: AF/OS nº xxxx/2014 Qtde. DT | V1: AF/OS nº xxxx/2014 Qtde. DT | W1: AF/OS nº xxxx/2014 Qtde. DT | X1: AF/OS nº xxxx/2014 Qtde. DT | Y1: AF/OS nº xxxx/2014 Qtde. DT
A2: CENTRO PARTICIPANTE: FAED | O2: OS nº 373/2014 Qtde. DT | P2: OS nº 386/2014 Qtde. DT
A3: FORNECEDOR | B3: LOTE | C3: ITEM | D3: PRODUTO - CARACTERÍSTICAS MÍNIMAS | E3: ELEMENTO | F3: MARCA | G3: UNIDADE | H3: Entrega (Dias) | I3: Pagto. (Dias) | J3: Preço UNITÁRIO (R$) | K3: Qtde LICITADA | L3: Saldo / Automático | M3: ALERTA | N3: 41759 | O3: 41771 | P3: 41771 | Q3: ...../...../...... | R3: ...../...../...... | S3: ...../...../...... | T3: ...../...../...... | U3: ...../...../...... | V3: ...../...../...... | W3: ...../...../...... | X3: ...../...../...... | Y3: ...../...../......
A4: Maria do Mar Hotel e Ind. Alim. Ltda | B4: 1 | C4: 1 | D4: Pernoite com café da manhã, Apartamento Simples. PADRÃO MÉDIO - conforme memorial descritivo. | E4: 339039.80 | G4: Diária | J4: 142 | K4: =340-180 -> 160 | L4: =K4-(SUM(N4:Y4)) -> 81 | M4: =IF(L4<0,"ATENÇÃO","OK") -> OK | N4: 40 | O4: 15 | P4: 24 | Q4: 0 | R4: 0 | S4: 0 | T4: 0 | U4: 0 | V4: 0 | W4: 0 | X4: 0 | Y4: 0
C5: 2 | D5: Pernoite com café da manhã, Apartamento Duplo. PADRÃO MÉDIO - conforme memorial descritivo. | E5: 339039.80 | G5: Diária | J5: 158.87 | K5: =30-20 -> 10 | L5: =K5-(SUM(N5:Y5)) -> 0 | M5: =IF(L5<0,"ATENÇÃO","OK") -> OK | N5: 10 | O5: 0 | P5: 0 | Q5: 0 | R5: 0 | S5: 0 | T5: 0 | U5: 0 | V5: 0 | W5: 0 | X5: 0 | Y5: 0
C6: 3 | D6: Almoço(buffet livre) - Conforme Memorial Descritivo. | E6: 339039.80 | G6: Refeição | J6: 30 | K6: =170-87 -> 83 | L6: =K6-(SUM(N6:Y6)) -> 50 | M6: =IF(L6<0,"ATENÇÃO","OK") -> OK | N6: 16 | O6: 7 | P6: 10 | Q6: 0 | R6: 0 | S6: 0 | T6: 0 | U6: 0 | V6: 0 | W6: 0 | X6: 0 | Y6: 0
C7: 4 | D7: Jantar(buffet livre) - Conforme Memorial Descritivo. | E7: 339039.80 | G7: Refeição | J7: 30 | K7: =190-120 -> 70 | L7: =K7-(SUM(N7:Y7)) -> 30 | M7: =IF(L7<0,"ATENÇÃO","OK") -> OK | N7: 20 | O7: 8 | P7: 12 | Q7: 0 | R7: 0 | S7: 0 | T7: 0 | U7: 0 | V7: 0 | W7: 0 | X7: 0 | Y7: 0
A8: Castelmar Empreendimentos Hoteleiros Ltda | B8: 2 | C8: 5 | D8: Pernoite (Apartamento Individual) com café da manhã - ALTO PADRÃO. Suíte com 02 Ambientes: Quarto e Home Office - Conforme Memorial Descritivo. | E8: 339039.80 | G8: Diária | J8: 180 | L8: =K8-(SUM(N8:Y8)) -> 0 | M8: =IF(L8<0,"ATENÇÃO","OK") -> OK | N8: 0 | O8: 0 | P8: 0 | Q8: 0 | R8: 0 | S8: 0 | T8: 0 | U8: 0 | V8: 0 | W8: 0 | X8: 0 | Y8: 0
C9: 6 | D9: Almoço(buffet livre ou a la carte) - Conforme Memorial Descritivo. | E9: 339039.80 | G9: Refeição | J9: 38 | L9: =K9-(SUM(N9:Y9)) -> 0 | M9: =IF(L9<0,"ATENÇÃO","OK") -> OK | N9: 0 | O9: 0 | P9: 0 | Q9: 0 | R9: 0 | S9: 0 | T9: 0 | U9: 0 | V9: 0 | W9: 0 | X9: 0 | Y9: 0
C10: 7 | D10: Jantar(buffet livre ou a La carte) - Conforme Memorial Descritivo. | E10: 339039.80 | G10: Refeição | J10: 38 | L10: =K10-(SUM(N10:Y10)) -> 0 | M10: =IF(L10<0,"ATENÇÃO","OK") -> OK | N10: 0 | O10: 0 | P10: 0 | Q10: 0 | R10: 0 | S10: 0 | T10: 0 | U10: 0 | V10: 0 | W10: 0 | X10: 0 | Y10: 0
A11: Ryan Hotel Ltda | B11: 3 | C11: 8 | D11: Pernoite com café da manhã, Apartamento Simples. PADRÃO MÉDIO - conforme memorial descritivo. | E11: 339039.80 | G11: Diária | J11: 124 | L11: =K11-(SUM(N11:Y11)) -> 0 | M11: =IF(L11<0,"ATENÇÃO","OK") -> OK | N11: 0 | O11: 0 | P11: 0 | Q11: 0 | R11: 0 | S11: 0 | T11: 0 | U11: 0 | V11: 0 | W11: 0 | X11: 0 | Y11: 0
C12: 9 | D12: Pernoite com café da manhã, Apartamento Duplo. PADRÃO MÉDIO - conforme memorial descritivo. | E12: 339039.80 | G12: Diária | J12: 146 | L12: =K12-(SUM(N12:Y12)) -> 0 | M12: =IF(L12<0,"ATENÇÃO","OK") -> OK | N12: 0 | O12: 0 | P12: 0 | Q12: 0 | R12: 0 | S12: 0 | T12: 0 | U12: 0 | V12: 0 | W12: 0 | X12: 0 | Y12: 0
C13: 10 | D13: Almoço(buffet livre) - Conforme Memorial Descritivo. | E13: 339039.80 | G13: Refeição | J13: 27 | L13: =K13-(SUM(N13:Y13)) -> 0 | M13: =IF(L13<0,"ATENÇÃO","OK") -> OK | N13: 0 | O13: 0 | P13: 0 | Q13: 0 | R13: 0 | S13: 0 | T13: 0 | U13: 0 | V13: 0 | W13: 0 | X13: 0 | Y13: 0
C14: 11 | D14: Jantar(buffet livre) - Conforme Memorial Descritivo. | E14: 339039.80 | G14: Refeição | J14: 27 | L14: =K14-(SUM(N14:Y14)) -> 0 | M14: =IF(L14<0,"ATENÇÃO","OK") -> OK | N14: 0 | O14: 0 | P14: 0 | Q14: 0 | R14: 0 | S14: 0 | T14: 0 | U14: 0 | V14: 0 | W14: 0 | X14: 0 | Y14: 0
A15: Complexo Turístico Flipper Ltda | B15: 4 | C15: 12 | D15: Pernoite com café da manhã, Apartamento Simples. PADRÃO MÉDIO - conforme memorial descritivo. | E15: 339039.80 | G15: Diária | J15: 111 | L15: =K15-(SUM(N15:Y15)) -> 0 | M15: =IF(L15<0,"ATENÇÃO","OK") -> OK | N15: 0 | O15: 0 | P15: 0 | Q15: 0 | R15: 0 | S15: 0 | T15: 0 | U15: 0 | V15: 0 | W15: 0 | X15: 0 | Y15: 0
C16: 13 | D16: Pernoite com café da manhã, Apartamento Duplo. PADRÃO MÉDIO - conforme memorial descritivo. | E16: 339039.80 | G16: Diária | J16: 180 | L16: =K16-(SUM(N16:Y16)) -> 0 | M16: =IF(L16<0,"ATENÇÃO","OK") -> OK | N16: 0 | O16: 0 | P16: 0 | Q16: 0 | R16: 0 | S16: 0 | T16: 0 | U16: 0 | V16: 0 | W16: 0 | X16: 0 | Y16: 0
C17: 14 | D17: Almoço(buffet livre) - Conforme Memorial Descritivo. | E17: 339039.80 | G17: Refeição | J17: 29 | L17: =K17-(SUM(N17:Y17)) -> 0 | M17: =IF(L17<0,"ATENÇÃO","OK") -> OK | N17: 0 | O17: 0 | P17: 0 | Q17: 0 | R17: 0 | S17: 0 | T17: 0 | U17: 0 | V17: 0 | W17: 0 | X17: 0 | Y17: 0
C18: 15 | D18: Jantar(buffet livre) - Conforme Memorial Descritivo. | E18: 339039.80 | G18: Refeição | J18: 29 | L18: =K18-(SUM(N18:Y18)) -> 0 | M18: =IF(L18<0,"ATENÇÃO","OK") -> OK | N18: 0 | O18: 0 | P18: 0 | Q18: 0 | R18: 0 | S18: 0 | T18: 0 | U18: 0 | V18: 0 | W18: 0 | X18: 0 | Y18: 0

Sheet CEAD
A1: PROCESSO: 0239/2014/UDESC | D1: OBJETO: Serviços de Hospedagem | K1: VIGÊNCIA DA ATA: Lotes 1, 2 e 3 08/04/20134 até 07/04/2015 - Lote 4 21/03/2014 até 20/03/2015 | N1: AF/OS nº 436/2014 Qtde. DT | O1: AF/OS nº 435/2014 Qtde. DT | P1: AF/OS nº xxxx/2014 Qtde. DT | Q1: AF/OS nº xxxx/2014 Qtde. DT | R1: AF/OS nº xxxx/2014 Qtde. DT | S1: AF/OS nº xxxx/2014 Qtde. DT | T1: AF/OS nº xxxx/2014 Qtde. DT | U1: AF/OS nº xxxx/2014 Qtde. DT | V1: AF/OS nº xxxx/2014 Qtde. DT | W1: AF/OS nº xxxx/2014 Qtde. DT | X1: AF/OS nº xxxx/2014 Qtde. DT | Y1: AF/OS nº xxxx/2014 Qtde. DT
A2: CENTRO PARTICIPANTE: CEAD
A3: FORNECEDOR | B3: LOTE | C3: ITEM | D3: PRODUTO - CARACTERÍSTICAS MÍNIMAS | E3: ELEMENTO | F3: MARCA | G3: UNIDADE | H3: Entrega (Dias) | I3: Pagto. (Dias) | J3: Preço UNITÁRIO (R$) | K3: Qtde LICITADA | L3: Saldo / Automático | M3: ALERTA | N3: 41788 | O3: 41806 | P3: ...../...../...... | Q3: ...../...../...... | R3: ...../...../...... | S3: ...../...../...... | T3: ...../...../...... | U3: ...../...../...... | V3: ...../...../...... | W3: ...../...../...... | X3: ...../...../...... | Y3: ...../...../......
A4: Maria do Mar Hotel e Ind. Alim. Ltda | B4: 1 | C4: 1 | D4: Pernoite com café da manhã, Apartamento Simples. PADRÃO MÉDIO - conforme memorial descritivo. | E4: 339039.80 | G4: Diária | J4: 142 | K4: 10 | L4: =K4-(SUM(N4:Y4)) -> 0 | M4: =IF(L4<0,"ATENÇÃO","OK") -> OK | N4: 10 | O4: 0 | P4: 0 | Q4: 0 | R4: 0 | S4: 0 | T4: 0 | U4: 0 | V4: 0 | W4: 0 | X4: 0 | Y4: 0
C5: 2 | D5: Pernoite com café da manhã, Apartamento Duplo. PADRÃO MÉDIO - conforme memorial descritivo. | E5: 339039.80 | G5: Diária | J5: 158.87 | K5: 10 | L5: =K5-(SUM(N5:Y5)) -> 0 | M5: =IF(L5<0,"ATENÇÃO","OK") -> OK | N5: 10 | O5: 0 | P5: 0 | Q5: 0 | R5: 0 | S5: 0 | T5: 0 | U5: 0 | V5: 0 | W5: 0 | X5: 0 | Y5: 0
C6: 3 | D6: Almoço(buffet livre) - Conforme Memorial Descritivo. | E6: 339039.80 | G6: Refeição | J6: 30 | K6: 10 | L6: =K6-(SUM(N6:Y6)) -> 0 | M6: =IF(L6<0,"ATENÇÃO","OK") -> OK | N6: 10 | O6: 0 | P6: 0 | Q6: 0 | R6: 0 | S6: 0 | T6: 0 | U6: 0 | V6: 0 | W6: 0 | X6: 0 | Y6: 0
C7: 4 | D7: Jantar(buffet livre) - Conforme Memorial Descritivo. | E7: 339039.80 | G7: Refeição | J7: 30 | K7: 10 | L7: =K7-(SUM(N7:Y7)) -> 0 | M7: =IF(L7<0,"ATENÇÃO","OK") -> OK | N7: 10 | O7: 0 | P7: 0 | Q7: 0 | R7: 0 | S7: 0 | T7: 0 | U7: 0 | V7: 0 | W7: 0 | X7: 0 | Y7: 0
A8: Castelmar Empreendimentos Hoteleiros Ltda | B8: 2 | C8: 5 | D8: Pernoite (Apartamento Individual) com café da manhã - ALTO PADRÃO. Suíte com 02 Ambientes: Quarto e Home Office - Conforme Memorial Descritivo. | E8: 339039.80 | G8: Diária | J8: 180 | K8: 4 | L8: =K8-(SUM(N8:Y8)) -> 0 | M8: =IF(L8<0,"ATENÇÃO","OK") -> OK | N8: 0 | O8: 4 | P8: 0 | Q8: 0 | R8: 0 | S8: 0 | T8: 0 | U8: 0 | V8: 0 | W8: 0 | X8: 0 | Y8: 0
C9: 6 | D9: Almoço(buffet livre ou a la carte) - Conforme Memorial Descritivo. | E9: 339039.80 | G9: Refeição | J9: 38 | K9: 4 | L9: =K9-(SUM(N9:Y9)) -> 0 | M9: =IF(L9<0,"ATENÇÃO","OK") -> OK | N9: 0 | O9: 4 | P9: 0 | Q9: 0 | R9: 0 | S9: 0 | T9: 0 | U9: 0 | V9: 0 | W9: 0 | X9: 0 | Y9: 0
C10: 7 | D10: Jantar(buffet livre ou a La carte) - Conforme Memorial Descritivo. | E10: 339039.80 | G10: Refeição | J10: 38 | K10: 4 | L10: =K10-(SUM(N10:Y10)) -> 0 | M10: =IF(L10<0,"ATENÇÃO","OK") -> OK | N10: 0 | O10: 4 | P10: 0 | Q10: 0 | R10: 0 | S10: 0 | T10: 0 | U10: 0 | V10: 0 | W10: 0 | X10: 0 | Y10: 0
A11: Ryan Hotel Ltda | B11: 3 | C11: 8 | D11: Pernoite com café da manhã, Apartamento Simples. PADRÃO MÉDIO - conforme memorial descritivo. | E11: 339039.80 | G11: Diária | J11: 124 | L11: =K11-(SUM(N11:Y11)) -> 0 | M11: =IF(L11<0,"ATENÇÃO","OK") -> OK | N11: 0 | O11: 0 | P11: 0 | Q11: 0 | R11: 0 | S11: 0 | T11: 0 | U11: 0 | V11: 0 | W11: 0 | X11: 0 | Y11: 0
C12: 9 | D12: Pernoite com café da manhã, Apartamento Duplo. PADRÃO MÉDIO - conforme memorial descritivo. | E12: 339039.80 | G12: Diária | J12: 146 | L12: =K12-(SUM(N12:Y12)) -> 0 | M12: =IF(L12<0,"ATENÇÃO","OK") -> OK | N12: 0 | O12: 0 | P12: 0 | Q12: 0 | R12: 0 | S12: 0 | T12: 0 | U12: 0 | V12: 0 | W12: 0 | X12: 0 | Y12: 0
C13: 10 | D13: Almoço(buffet livre) - Conforme Memorial Descritivo. | E13: 339039.80 | G13: Refeição | J13: 27 | L13: =K13-(SUM(N13:Y13)) -> 0 | M13: =IF(L13<0,"ATENÇÃO","OK") -> OK | N13: 0 | O13: 0 | P13: 0 | Q13: 0 | R13: 0 | S13: 0 | T13: 0 | U13: 0 | V13: 0 | W13: 0 | X13: 0 | Y13: 0
C14: 11 | D14: Jantar(buffet livre) - Conforme Memorial Descritivo. | E14: 339039.80 | G14: Refeição | J14: 27 | L14: =K14-(SUM(N14:Y14)) -> 0 | M14: =IF(L14<0,"ATENÇÃO","OK") -> OK | N14: 0 | O14: 0 | P14: 0 | Q14: 0 | R14: 0 | S14: 0 | T14: 0 | U14: 0 | V14: 0 | W14: 0 | X14: 0 | Y14: 0
A15: Complexo Turístico Flipper Ltda | B15: 4 | C15: 12 | D15: Pernoite com café da manhã, Apartamento Simples. PADRÃO MÉDIO - conforme memorial descritivo. | E15: 339039.80 | G15: Diária | J15: 111 | L15: =K15-(SUM(N15:Y15)) -> 0 | M15: =IF(L15<0,"ATENÇÃO","OK") -> OK | N15: 0 | O15: 0 | P15: 0 | Q15: 0 | R15: 0 | S15: 0 | T15: 0 | U15: 0 | V15: 0 | W15: 0 | X15: 0 | Y15: 0
C16: 13 | D16: Pernoite com café da manhã, Apartamento Duplo. PADRÃO MÉDIO - conforme memorial descritivo. | E16: 339039.80 | G16: Diária | J16: 180 | L16: =K16-(SUM(N16:Y16)) -> 0 | M16: =IF(L16<0,"ATENÇÃO","OK") -> OK | N16: 0 | O16: 0 | P16: 0 | Q16: 0 | R16: 0 | S16: 0 | T16: 0 | U16: 0 | V16: 0 | W16: 0 | X16: 0 | Y16: 0
C17: 14 | D17: Almoço(buffet livre) - Conforme Memorial Descritivo. | E17: 339039.80 | G17: Refeição | J17: 29 | L17: =K17-(SUM(N17:Y17)) -> 0 | M17: =IF(L17<0,"ATENÇÃO","OK") -> OK | N17: 0 | O17: 0 | P17: 0 | Q17: 0 | R17: 0 | S17: 0 | T17: 0 | U17: 0 | V17: 0 | W17: 0 | X17: 0 | Y17: 0
C18: 15 | D18: Jantar(buffet livre) - Conforme Memorial Descritivo. | E18: 339039.80 | G18: Refeição | J18: 29 | L18: =K18-(SUM(N18:Y18)) -> 0 | M18: =IF(L18<0,"ATENÇÃO","OK") -> OK | N18: 0 | O18: 0 | P18: 0 | Q18: 0 | R18: 0 | S18: 0 | T18: 0 | U18: 0 | V18: 0 | W18: 0 | X18: 0 | Y18: 0

Sheet CEFID
A1: PROCESSO: 0239/2014/UDESC | D1: OBJETO: Serviços de Hospedagem | K1: VIGÊNCIA DA ATA: Lotes 1, 2 e 3 08/04/20134 até 07/04/2015 - Lote 4 21/03/2014 até 20/03/2015 | N1: AF/OS nº 376/2014 Qtde. DT | O1: AF/OS nº xxxx/2014 Qtde. DT | P1: AF/OS nº xxxx/2014 Qtde. DT | Q1: AF/OS nº xxxx/2014 Qtde. DT | R1: AF/OS nº xxxx/2014 Qtde. DT | S1: AF/OS nº xxxx/2014 Qtde. DT | T1: AF/OS nº xxxx/2014 Qtde. DT | U1: AF/OS nº xxxx/2014 Qtde. DT | V1: AF/OS nº xxxx/2014 Qtde. DT | W1: AF/OS nº xxxx/2014 Qtde. DT | X1: AF/OS nº xxxx/2014 Qtde. DT | Y1: AF/OS nº xxxx/2014 Qtde. DT
A2: CENTRO PARTICIPANTE: CEFID
A3: FORNECEDOR | B3: LOTE | C3: ITEM | D3: PRODUTO - CARACTERÍSTICAS MÍNIMAS | E3: ELEMENTO | F3: MARCA | G3: UNIDADE | H3: Entrega (Dias) | I3: Pagto. (Dias) | J3: Preço UNITÁRIO (R$) | K3: Qtde LICITADA | L3: Saldo / Automático | M3: ALERTA | N3: 41758 | O3: ...../...../...... | P3: ...../...../...... | Q3: ...../...../...... | R3: ...../...../...... | S3: ...../...../...... | T3: ...../...../...... | U3: ...../...../...... | V3: ...../...../...... | W3: ...../...../...... | X3: ...../...../...... | Y3: ...../...../......
A4: Maria do Mar Hotel e Ind. Alim. Ltda | B4: 1 | C4: 1 | D4: Pernoite com café da manhã, Apartamento Simples. PADRÃO MÉDIO - conforme memorial descritivo. | E4: 339039.80 | G4: Diária | J4: 142 | K4: 70 | L4: =K4-(SUM(N4:Y4)) -> 50 | M4: =IF(L4<0,"ATENÇÃO","OK") -> OK | N4: 20 | O4: 0 | P4: 0 | Q4: 0 | R4: 0 | S4: 0 | T4: 0 | U4: 0 | V4: 0 | W4: 0 | X4: 0 | Y4: 0
C5: 2 | D5: Pernoite com café da manhã, Apartamento Duplo. PADRÃO MÉDIO - conforme memorial descritivo. | E5: 339039.80 | G5: Diária | J5: 158.87 | L5: =K5-(SUM(N5:Y5)) -> 0 | M5: =IF(L5<0,"ATENÇÃO","OK") -> OK | N5: 0 | O5: 0 | P5: 0 | Q5: 0 | R5: 0 | S5: 0 | T5: 0 | U5: 0 | V5: 0 | W5: 0 | X5: 0 | Y5: 0
C6: 3 | D6: Almoço(buffet livre) - Conforme Memorial Descritivo. | E6: 339039.80 | G6: Refeição | J6: 30 | K6: 60 | L6: =K6-(SUM(N6:Y6)) -> 40 | M6: =IF(L6<0,"ATENÇÃO","OK") -> OK | N6: 20 | O6: 0 | P6: 0 | Q6: 0 | R6: 0 | S6: 0 | T6: 0 | U6: 0 | V6: 0 | W6: 0 | X6: 0 | Y6: 0
C7: 4 | D7: Jantar(buffet livre) - Conforme Memorial Descritivo. | E7: 339039.80 | G7: Refeição | J7: 30 | L7: =K7-(SUM(N7:Y7)) -> 0 | M7: =IF(L7<0,"ATENÇÃO","OK") -> OK | N7: 0 | O7: 0 | P7: 0 | Q7: 0 | R7: 0 | S7: 0 | T7: 0 | U7: 0 | V7: 0 | W7: 0 | X7: 0 | Y7: 0
A8: Castelmar Empreendimentos Hoteleiros Ltda | B8: 2 | C8: 5 | D8: Pernoite (Apartamento Individual) com café da manhã - ALTO PADRÃO. Suíte com 02 Ambientes: Quarto e Home Office - Conforme Memorial Descritivo. | E8: 339039.80 | G8: Diária | J8: 180 | L8: =K8-(SUM(N8:Y8)) -> 0 | M8: =IF(L8<0,"ATENÇÃO","OK") -> OK | N8: 0 | O8: 0 | P8: 0 | Q8: 0 | R8: 0 | S8: 0 | T8: 0 | U8: 0 | V8: 0 | W8: 0 | X8: 0 | Y8: 0
C9: 6 | D9: Almoço(buffet livre ou a la carte) - Conforme Memorial Descritivo. | E9: 339039.80 | G9: Refeição | J9: 38 | K9: 30 | L9: =K9-(SUM(N9:Y9)) -> 30 | M9: =IF(L9<0,"ATENÇÃO","OK") -> OK | N9: 0 | O9: 0 | P9: 0 | Q9: 0 | R9: 0 | S9: 0 | T9: 0 | U9: 0 | V9: 0 | W9: 0 | X9: 0 | Y9: 0
C10: 7 | D10: Jantar(buffet livre ou a La carte) - Conforme Memorial Descritivo. | E10: 339039.80 | G10: Refeição | J10: 38 | L10: =K10-(SUM(N10:Y10)) -> 0 | M10: =IF(L10<0,"ATENÇÃO","OK") -> OK | N10: 0 | O10: 0 | P10: 0 | Q10: 0 | R10: 0 | S10: 0 | T10: 0 | U10: 0 | V10: 0 | W10: 0 | X10: 0 | Y10: 0
A11: Ryan Hotel Ltda | B11: 3 | C11: 8 | D11: Pernoite com café da manhã, Apartamento Simples. PADRÃO MÉDIO - conforme memorial descritivo. | E11: 339039.80 | G11: Diária | J11: 124 | L11: =K11-(SUM(N11:Y11)) -> 0 | M11: =IF(L11<0,"ATENÇÃO","OK") -> OK | N11: 0 | O11: 0 | P11: 0 | Q11: 0 | R11: 0 | S11: 0 | T11: 0 | U11: 0 | V11: 0 | W11: 0 | X11: 0 | Y11: 0
C12: 9 | D12: Pernoite com café da manhã, Apartamento Duplo. PADRÃO MÉDIO - conforme memorial descritivo. | E12: 339039.80 | G12: Diária | J12: 146 | L12: =K12-(SUM(N12:Y12)) -> 0 | M12: =IF(L12<0,"ATENÇÃO","OK") -> OK | N12: 0 | O12: 0 | P12: 0 | Q12: 0 | R12: 0 | S12: 0 | T12: 0 | U12: 0 | V12: 0 | W12: 0 | X12: 0 | Y12: 0
C13: 10 | D13: Almoço(buffet livre) - Conforme Memorial Descritivo. | E13: 339039.80 | G13: Refeição | J13: 27 | L13: =K13-(SUM(N13:Y13)) -> 0 | M13: =IF(L13<0,"ATENÇÃO","OK") -> OK | N13: 0 | O13: 0 | P13: 0 | Q13: 0 | R13: 0 | S13: 0 | T13: 0 | U13: 0 | V13: 0 | W13: 0 | X13: 0 | Y13: 0
C14: 11 | D14: Jantar(buffet livre) - Conforme Memorial Descritivo. | E14: 339039.80 | G14: Refeição | J14: 27 | L14: =K14-(SUM(N14:Y14)) -> 0 | M14: =IF(L14<0,"ATENÇÃO","OK") -> OK | N14: 0 | O14: 0 | P14: 0 | Q14: 0 | R14: 0 | S14: 0 | T14: 0 | U14: 0 | V14: 0 | W14: 0 | X14: 0 | Y14: 0
A15: Complexo Turístico Flipper Ltda | B15: 4 | C15: 12 | D15: Pernoite com café da manhã, Apartamento Simples. PADRÃO MÉDIO - conforme memorial descritivo. | E15: 339039.80 | G15: Diária | J15: 111 | L15: =K15-(SUM(N15:Y15)) -> 0 | M15: =IF(L15<0,"ATENÇÃO","OK") -> OK | N15: 0 | O15: 0 | P15: 0 | Q15: 0 | R15: 0 | S15: 0 | T15: 0 | U15: 0 | V15: 0 | W15: 0 | X15: 0 | Y15: 0
C16: 13 | D16: Pernoite com café da manhã, Apartamento Duplo. PADRÃO MÉDIO - conforme memorial descritivo. | E16: 339039.80 | G16: Diária | J16: 180 | L16: =K16-(SUM(N16:Y16)) -> 0 | M16: =IF(L16<0,"ATENÇÃO","OK") -> OK | N16: 0 | O16: 0 | P16: 0 | Q16: 0 | R16: 0 | S16: 0 | T16: 0 | U16: 0 | V16: 0 | W16: 0 | X16: 0 | Y16: 0
C17: 14 | D17: Almoço(buffet livre) - Conforme Memorial Descritivo. | E17: 339039.80 | G17: Refeição | J17: 29 | L17: =K17-(SUM(N17:Y17)) -> 0 | M17: =IF(L17<0,"ATENÇÃO","OK") -> OK | N17: 0 | O17: 0 | P17: 0 | Q17: 0 | R17: 0 | S17: 0 | T17: 0 | U17: 0 | V17: 0 | W17: 0 | X17: 0 | Y17: 0
C18: 15 | D18: Jantar(buffet livre) - Conforme Memorial Descritivo. | E18: 339039.80 | G18: Refeição | J18: 29 | L18: =K18-(SUM(N18:Y18)) -> 0 | M18: =IF(L18<0,"ATENÇÃO","OK") -> OK | N18: 0 | O18: 0 | P18: 0 | Q18: 0 | R18: 0 | S18: 0 | T18: 0 | U18: 0 | V18: 0 | W18: 0 | X18: 0 | Y18: 0

Sheet CESFI
A1: PROCESSO: 0239/2014/UDESC | D1: OBJETO: Serviços de Hospedagem | K1: VIGÊNCIA DA ATA: Lotes 1, 2 e 3 08/04/20134 até 07/04/2015 - Lote 4 21/03/2014 até 20/03/2015 | N1: AF/OS nº xxxx/2014 Qtde. DT | O1: AF/OS nº xxxx/2014 Qtde. DT | P1: AF/OS nº xxxx/2014 Qtde. DT | Q1: AF/OS nº xxxx/2014 Qtde. DT | R1: AF/OS nº xxxx/2014 Qtde. DT | S1: AF/OS nº xxxx/2014 Qtde. DT | T1: AF/OS nº xxxx/2014 Qtde. DT | U1: AF/OS nº xxxx/2014 Qtde. DT | V1: AF/OS nº xxxx/2014 Qtde. DT | W1: AF/OS nº xxxx/2014 Qtde. DT | X1: AF/OS nº xxxx/2014 Qtde. DT | Y1: AF/OS nº xxxx/2014 Qtde. DT
A2: CENTRO PARTICIPANTE: CESFI
A3: FORNECEDOR | B3: LOTE | C3: ITEM | D3: PRODUTO - CARACTERÍSTICAS MÍNIMAS | E3: ELEMENTO | F3: MARCA | G3: UNIDADE | H3: Entrega (Dias) | I3: Pagto. (Dias) | J3: Preço UNITÁRIO (R$) | K3: Qtde LICITADA | L3: Saldo / Automático | M3: ALERTA | N3: ...../...../...... | O3: ...../...../...... | P3: ...../...../...... | Q3: ...../...../...... | R3: ...../...../...... | S3: ...../...../...... | T3: ...../...../...... | U3: ...../...../...... | V3: ...../...../...... | W3: ...../...../...... | X3: ...../...../...... | Y3: ...../...../......
A4: Maria do Mar Hotel e Ind. Alim. Ltda | B4: 1 | C4: 1 | D4: Pernoite com café da manhã, Apartamento Simples. PADRÃO MÉDIO - conforme memorial descritivo. | E4: 339039.80 | G4: Diária | J4: 142 | L4: =K4-(SUM(N4:Y4)) -> 0 | M4: =IF(L4<0,"ATENÇÃO","OK") -> OK | N4: 0 | O4: 0 | P4: 0 | Q4: 0 | R4: 0 | S4: 0 | T4: 0 | U4: 0 | V4: 0 | W4: 0 | X4: 0 | Y4: 0
C5: 2 | D5: Pernoite com café da manhã, Apartamento Duplo. PADRÃO MÉDIO - conforme memorial descritivo. | E5: 339039.80 | G5: Diária | J5: 158.87 | L5: =K5-(SUM(N5:Y5)) -> 0 | M5: =IF(L5<0,"ATENÇÃO","OK") -> OK | N5: 0 | O5: 0 | P5: 0 | Q5: 0 | R5: 0 | S5: 0 | T5: 0 | U5: 0 | V5: 0 | W5: 0 | X5: 0 | Y5: 0
C6: 3 | D6: Almoço(buffet livre) - Conforme Memorial Descritivo. | E6: 339039.80 | G6: Refeição | J6: 30 | L6: =K6-(SUM(N6:Y6)) -> 0 | M6: =IF(L6<0,"ATENÇÃO","OK") -> OK | N6: 0 | O6: 0 | P6: 0 | Q6: 0 | R6: 0 | S6: 0 | T6: 0 | U6: 0 | V6: 0 | W6: 0 | X6: 0 | Y6: 0
C7: 4 | D7: Jantar(buffet livre) - Conforme Memorial Descritivo. | E7: 339039.80 | G7: Refeição | J7: 30 | L7: =K7-(SUM(N7:Y7)) -> 0 | M7: =IF(L7<0,"ATENÇÃO","OK") -> OK | N7: 0 | O7: 0 | P7: 0 | Q7: 0 | R7: 0 | S7: 0 | T7: 0 | U7: 0 | V7: 0 | W7: 0 | X7: 0 | Y7: 0
A8: Castelmar Empreendimentos Hoteleiros Ltda | B8: 2 | C8: 5 | D8: Pernoite (Apartamento Individual) com café da manhã - ALTO PADRÃO. Suíte com 02 Ambientes: Quarto e Home Office - Conforme Memorial Descritivo. | E8: 339039.80 | G8: Diária | J8: 180 | L8: =K8-(SUM(N8:Y8)) -> 0 | M8: =IF(L8<0,"ATENÇÃO","OK") -> OK | N8: 0 | O8: 0 | P8: 0 | Q8: 0 | R8: 0 | S8: 0 | T8: 0 | U8: 0 | V8: 0 | W8: 0 | X8: 0 | Y8: 0
C9: 6 | D9: Almoço(buffet livre ou a la carte) - Conforme Memorial Descritivo. | E9: 339039.80 | G9: Refeição | J9: 38 | L9: =K9-(SUM(N9:Y9)) -> 0 | M9: =IF(L9<0,"ATENÇÃO","OK") -> OK | N9: 0 | O9: 0 | P9: 0 | Q9: 0 | R9: 0 | S9: 0 | T9: 0 | U9: 0 | V9: 0 | W9: 0 | X9: 0 | Y9: 0
C10: 7 | D10: Jantar(buffet livre ou a La carte) - Conforme Memorial Descritivo. | E10: 339039.80 | G10: Refeição | J10: 38 | L10: =K10-(SUM(N10:Y10)) -> 0 | M10: =IF(L10<0,"ATENÇÃO","OK") -> OK | N10: 0 | O10: 0 | P10: 0 | Q10: 0 | R10: 0 | S10: 0 | T10: 0 | U10: 0 | V10: 0 | W10: 0 | X10: 0 | Y10: 0
A11: Ryan Hotel Ltda | B11: 3 | C11: 8 | D11: Pernoite com café da manhã, Apartamento Simples. PADRÃO MÉDIO - conforme memorial descritivo. | E11: 339039.80 | G11: Diária | J11: 124 | K11: 50 | L11: =K11-(SUM(N11:Y11)) -> 50 | M11: =IF(L11<0,"ATENÇÃO","OK") -> OK | N11: 0 | O11: 0 | P11: 0 | Q11: 0 | R11: 0 | S11: 0 | T11: 0 | U11: 0 | V11: 0 | W11: 0 | X11: 0 | Y11: 0
C12: 9 | D12: Pernoite com café da manhã, Apartamento Duplo. PADRÃO MÉDIO - conforme memorial descritivo. | E12: 339039.80 | G12: Diária | J12: 146 | K12: 50 | L12: =K12-(SUM(N12:Y12)) -> 50 | M12: =IF(L12<0,"ATENÇÃO","OK") -> OK | N12: 0 | O12: 0 | P12: 0 | Q12: 0 | R12: 0 | S12: 0 | T12: 0 | U12: 0 | V12: 0 | W12: 0 | X12: 0 | Y12: 0
C13: 10 | D13: Almoço(buffet livre) - Conforme Memorial Descritivo. | E13: 339039.80 | G13: Refeição | J13: 27 | K13: 35 | L13: =K13-(SUM(N13:Y13)) -> 35 | M13: =IF(L13<0,"ATENÇÃO","OK") -> OK | N13: 0 | O13: 0 | P13: 0 | Q13: 0 | R13: 0 | S13: 0 | T13: 0 | U13: 0 | V13: 0 | W13: 0 | X13: 0 | Y13: 0
C14: 11 | D14: Jantar(buffet livre) - Conforme Memorial Descritivo. | E14: 339039.80 | G14: Refeição | J14: 27 | K14: 35 | L14: =K14-(SUM(N14:Y14)) -> 35 | M14: =IF(L14<0,"ATENÇÃO","OK") -> OK | N14: 0 | O14: 0 | P14: 0 | Q14: 0 | R14: 0 | S14: 0 | T14: 0 | U14: 0 | V14: 0 | W14: 0 | X14: 0 | Y14: 0
A15: Complexo Turístico Flipper Ltda | B15: 4 | C15: 12 | D15: Pernoite com café da manhã, Apartamento Simples. PADRÃO MÉDIO - conforme memorial descritivo. | E15: 339039.80 | G15: Diária | J15: 111 | L15: =K15-(SUM(N15:Y15)) -> 0 | M15: =IF(L15<0,"ATENÇÃO","OK") -> OK | N15: 0 | O15: 0 | P15: 0 | Q15: 0 | R15: 0 | S15: 0 | T15: 0 | U15: 0 | V15: 0 | W15: 0 | X15: 0 | Y15: 0
C16: 13 | D16: Pernoite com café da manhã, Apartamento Duplo. PADRÃO MÉDIO - conforme memorial descritivo. | E16: 339039.80 | G16: Diária | J16: 180 | L16: =K16-(SUM(N16:Y16)) -> 0 | M16: =IF(L16<0,"ATENÇÃO","OK") -> OK | N16: 0 | O16: 0 | P16: 0 | Q16: 0 | R16: 0 | S16: 0 | T16: 0 | U16: 0 | V16: 0 | W16: 0 | X16: 0 | Y16: 0
C17: 14 | D17: Almoço(buffet livre) - Conforme Memorial Descritivo. | E17: 339039.80 | G17: Refeição | J17: 29 | L17: =K17-(SUM(N17:Y17)) -> 0 | M17: =IF(L17<0,"ATENÇÃO","OK") -> OK | N17: 0 | O17: 0 | P17: 0 | Q17: 0 | R17: 0 | S17: 0 | T17: 0 | U17: 0 | V17: 0 | W17: 0 | X17: 0 | Y17: 0
C18: 15 | D18: Jantar(buffet livre) - Conforme Memorial Descritivo. | E18: 339039.80 | G18: Refeição | J18: 29 | L18: =K18-(SUM(N18:Y18)) -> 0 | M18: =IF(L18<0,"ATENÇÃO","OK") -> OK | N18: 0 | O18: 0 | P18: 0 | Q18: 0 | R18: 0 | S18: 0 | T18: 0 | U18: 0 | V18: 0 | W18: 0 | X18: 0 | Y18: 0

Sheet CERES
A1: PROCESSO: 0239/2014/UDESC | D1: OBJETO: Serviços de Hospedagem | K1: VIGÊNCIA DA ATA: Lotes 1, 2 e 3 08/04/20134 até 07/04/2015 - Lote 4 21/03/2014 até 20/03/2015 | N1: AF/OS nº xxxx/2014 Qtde. DT | O1: AF/OS nº xxxx/2014 Qtde. DT | P1: AF/OS nº xxxx/2014 Qtde. DT | Q1: AF/OS nº xxxx/2014 Qtde. DT | R1: AF/OS nº xxxx/2014 Qtde. DT | S1: AF/OS nº xxxx/2014 Qtde. DT | T1: AF/OS nº xxxx/2014 Qtde. DT | U1: AF/OS nº xxxx/2014 Qtde. DT | V1: AF/OS nº xxxx/2014 Qtde. DT | W1: AF/OS nº xxxx/2014 Qtde. DT | X1: AF/OS nº xxxx/2014 Qtde. DT | Y1: AF/OS nº xxxx/2014 Qtde. DT
A2: CENTRO PARTICIPANTE: CERES
A3: FORNECEDOR | B3: LOTE | C3: ITEM | D3: PRODUTO - CARACTERÍSTICAS MÍNIMAS | E3: ELEMENTO | F3: MARCA | G3: UNIDADE | H3: Entrega (Dias) | I3: Pagto. (Dias) | J3: Preço UNITÁRIO (R$) | K3: Qtde LICITADA | L3: Saldo / Automático | M3: ALERTA | N3: ...../...../...... | O3: ...../...../...... | P3: ...../...../...... | Q3: ...../...../...... | R3: ...../...../...... | S3: ...../...../...... | T3: ...../...../...... | U3: ...../...../...... | V3: ...../...../...... | W3: ...../...../...... | X3: ...../...../...... | Y3: ...../...../......
A4: Maria do Mar Hotel e Ind. Alim. Ltda | B4: 1 | C4: 1 | D4: Pernoite com café da manhã, Apartamento Simples. PADRÃO MÉDIO - conforme memorial descritivo. | E4: 339039.80 | G4: Diária | J4: 142 | L4: =K4-(SUM(N4:Y4)) -> 0 | M4: =IF(L4<0,"ATENÇÃO","OK") -> OK | N4: 0 | O4: 0 | P4: 0 | Q4: 0 | R4: 0 | S4: 0 | T4: 0 | U4: 0 | V4: 0 | W4: 0 | X4: 0 | Y4: 0
C5: 2 | D5: Pernoite com café da manhã, Apartamento Duplo. PADRÃO MÉDIO - conforme memorial descritivo. | E5: 339039.80 | G5: Diária | J5: 158.87 | L5: =K5-(SUM(N5:Y5)) -> 0 | M5: =IF(L5<0,"ATENÇÃO","OK") -> OK | N5: 0 | O5: 0 | P5: 0 | Q5: 0 | R5: 0 | S5: 0 | T5: 0 | U5: 0 | V5: 0 | W5: 0 | X5: 0 | Y5: 0
C6: 3 | D6: Almoço(buffet livre) - Conforme Memorial Descritivo. | E6: 339039.80 | G6: Refeição | J6: 30 | L6: =K6-(SUM(N6:Y6)) -> 0 | M6: =IF(L6<0,"ATENÇÃO","OK") -> OK | N6: 0 | O6: 0 | P6: 0 | Q6: 0 | R6: 0 | S6: 0 | T6: 0 | U6: 0 | V6: 0 | W6: 0 | X6: 0 | Y6: 0
C7: 4 | D7: Jantar(buffet livre) - Conforme Memorial Descritivo. | E7: 339039.80 | G7: Refeição | J7: 30 | L7: =K7-(SUM(N7:Y7)) -> 0 | M7: =IF(L7<0,"ATENÇÃO","OK") -> OK | N7: 0 | O7: 0 | P7: 0 | Q7: 0 | R7: 0 | S7: 0 | T7: 0 | U7: 0 | V7: 0 | W7: 0 | X7: 0 | Y7: 0
A8: Castelmar Empreendimentos Hoteleiros Ltda | B8: 2 | C8: 5 | D8: Pernoite (Apartamento Individual) com café da manhã - ALTO PADRÃO. Suíte com 02 Ambientes: Quarto e Home Office - Conforme Memorial Descritivo. | E8: 339039.80 | G8: Diária | J8: 180 | L8: =K8-(SUM(N8:Y8)) -> 0 | M8: =IF(L8<0,"ATENÇÃO","OK") -> OK | N8: 0 | O8: 0 | P8: 0 | Q8: 0 | R8: 0 | S8: 0 | T8: 0 | U8: 0 | V8: 0 | W8: 0 | X8: 0 | Y8: 0
C9: 6 | D9: Almoço(buffet livre ou a la carte) - Conforme Memorial Descritivo. | E9: 339039.80 | G9: Refeição | J9: 38 | L9: =K9-(SUM(N9:Y9)) -> 0 | M9: =IF(L9<0,"ATENÇÃO","OK") -> OK | N9: 0 | O9: 0 | P9: 0 | Q9: 0 | R9: 0 | S9: 0 | T9: 0 | U9: 0 | V9: 0 | W9: 0 | X9: 0 | Y9: 0
C10: 7 | D10: Jantar(buffet livre ou a La carte) - Conforme Memorial Descritivo. | E10: 339039.80 | G10: Refeição | J10: 38 | L10: =K10-(SUM(N10:Y10)) -> 0 | M10: =IF(L10<0,"ATENÇÃO","OK") -> OK | N10: 0 | O10: 0 | P10: 0 | Q10: 0 | R10: 0 | S10: 0 | T10: 0 | U10: 0 | V10: 0 | W10: 0 | X10: 0 | Y10: 0
A11: Ryan Hotel Ltda | B11: 3 | C11: 8 | D11: Pernoite com café da manhã, Apartamento Simples. PADRÃO MÉDIO - conforme memorial descritivo. | E11: 339039.80 | G11: Diária | J11: 124 | L11: =K11-(SUM(N11:Y11)) -> 0 | M11: =IF(L11<0,"ATENÇÃO","OK") -> OK | N11: 0 | O11: 0 | P11: 0 | Q11: 0 | R11: 0 | S11: 0 | T11: 0 | U11: 0 | V11: 0 | W11: 0 | X11: 0 | Y11: 0
C12: 9 | D12: Pernoite com café da manhã, Apartamento Duplo. PADRÃO MÉDIO - conforme memorial descritivo. | E12: 339039.80 | G12: Diária | J12: 146 | L12: =K12-(SUM(N12:Y12)) -> 0 | M12: =IF(L12<0,"ATENÇÃO","OK") -> OK | N12: 0 | O12: 0 | P12: 0 | Q12: 0 | R12: 0 | S12: 0 | T12: 0 | U12: 0 | V12: 0 | W12: 0 | X12: 0 | Y12: 0
C13: 10 | D13: Almoço(buffet livre) - Conforme Memorial Descritivo. | E13: 339039.80 | G13: Refeição | J13: 27 | L13: =K13-(SUM(N13:Y13)) -> 0 | M13: =IF(L13<0,"ATENÇÃO","OK") -> OK | N13: 0 | O13: 0 | P13: 0 | Q13: 0 | R13: 0 | S13: 0 | T13: 0 | U13: 0 | V13: 0 | W13: 0 | X13: 0 | Y13: 0
C14: 11 | D14: Jantar(buffet livre) - Conforme Memorial Descritivo. | E14: 339039.80 | G14: Refeição | J14: 27 | L14: =K14-(SUM(N14:Y14)) -> 0 | M14: =IF(L14<0,"ATENÇÃO","OK") -> OK | N14: 0 | O14: 0 | P14: 0 | Q14: 0 | R14: 0 | S14: 0 | T14: 0 | U14: 0 | V14: 0 | W14: 0 | X14: 0 | Y14: 0
A15: Complexo Turístico Flipper Ltda | B15: 4 | C15: 12 | D15: Pernoite com café da manhã, Apartamento Simples. PADRÃO MÉDIO - conforme memorial descritivo. | E15: 339039.80 | G15: Diária | J15: 111 | K15: 30 | L15: =K15-(SUM(N15:Y15)) -> 30 | M15: =IF(L15<0,"ATENÇÃO","OK") -> OK | N15: 0 | O15: 0 | P15: 0 | Q15: 0 | R15: 0 | S15: 0 | T15: 0 | U15: 0 | V15: 0 | W15: 0 | X15: 0 | Y15: 0
C16: 13 | D16: Pernoite com café da manhã, Apartamento Duplo. PADRÃO MÉDIO - conforme memorial descritivo. | E16: 339039.80 | G16: Diária | J16: 180 | K16: 15 | L16: =K16-(SUM(N16:Y16)) -> 15 | M16: =IF(L16<0,"ATENÇÃO","OK") -> OK | N16: 0 | O16: 0 | P16: 0 | Q16: 0 | R16: 0 | S16: 0 | T16: 0 | U16: 0 | V16: 0 | W16: 0 | X16: 0 | Y16: 0
C17: 14 | D17: Almoço(buffet livre) - Conforme Memorial Descritivo. | E17: 339039.80 | G17: Refeição | J17: 29 | K17: 30 | L17: =K17-(SUM(N17:Y17)) -> 30 | M17: =IF(L17<0,"ATENÇÃO","OK") -> OK | N17: 0 | O17: 0 | P17: 0 | Q17: 0 | R17: 0 | S17: 0 | T17: 0 | U17: 0 | V17: 0 | W17: 0 | X17: 0 | Y17: 0
C18: 15 | D18: Jantar(buffet livre) - Conforme Memorial Descritivo. | E18: 339039.80 | G18: Refeição | J18: 29 | K18: 30 | L18: =K18-(SUM(N18:Y18)) -> 30 | M18: =IF(L18<0,"ATENÇÃO","OK") -> OK | N18: 0 | O18: 0 | P18: 0 | Q18: 0 | R18: 0 | S18: 0 | T18: 0 | U18: 0 | V18: 0 | W18: 0 | X18: 0 | Y18: 0

Sheet PROJETO 01 CEAD
A1: PROCESSO: 0239/2014/UDESC | D1: OBJETO: Serviços de Hospedagem | K1: VIGÊNCIA DA ATA: Lotes 1, 2 e 3 08/04/20134 até 07/04/2015 - Lote 4 21/03/2014 até 20/03/2015 | N1: AF/OS nº xxxx/2014 Qtde. DT | O1: AF/OS nº xxxx/2014 Qtde. DT | P1: AF/OS nº xxxx/2014 Qtde. DT | Q1: AF/OS nº xxxx/2014 Qtde. DT | R1: AF/OS nº xxxx/2014 Qtde. DT | S1: AF/OS nº xxxx/2014 Qtde. DT | T1: AF/OS nº xxxx/2014 Qtde. DT | U1: AF/OS nº xxxx/2014 Qtde. DT | V1: AF/OS nº xxxx/2014 Qtde. DT | W1: AF/OS nº xxxx/2014 Qtde. DT | X1: AF/OS nº xxxx/2014 Qtde. DT | Y1: AF/OS nº xxxx/2014 Qtde. DT
A2: CENTRO PARTICIPANTE: PROJETO 01 CEAD
A3: FORNECEDOR | B3: LOTE | C3: ITEM | D3: PRODUTO - CARACTERÍSTICAS MÍNIMAS | E3: ELEMENTO | F3: MARCA | G3: UNIDADE | H3: Entrega (Dias) | I3: Pagto. (Dias) | J3: Preço UNITÁRIO (R$) | K3: Qtde LICITADA | L3: Saldo / Automático | M3: ALERTA | N3: ...../...../...... | O3: ...../...../...... | P3: ...../...../...... | Q3: ...../...../...... | R3: ...../...../...... | S3: ...../...../...... | T3: ...../...../...... | U3: ...../...../...... | V3: ...../...../...... | W3: ...../...../...... | X3: ...../...../...... | Y3: ...../...../......
A4: Maria do Mar Hotel e Ind. Alim. Ltda | B4: 1 | C4: 1 | D4: Pernoite com café da manhã, Apartamento Simples. PADRÃO MÉDIO - conforme memorial descritivo. | E4: 339039.80 | G4: Diária | J4: 142 | K4: 30 | L4: =K4-(SUM(N4:Y4)) -> 30 | M4: =IF(L4<0,"ATENÇÃO","OK") -> OK | N4: 0 | O4: 0 | P4: 0 | Q4: 0 | R4: 0 | S4: 0 | T4: 0 | U4: 0 | V4: 0 | W4: 0 | X4: 0 | Y4: 0
C5: 2 | D5: Pernoite com café da manhã, Apartamento Duplo. PADRÃO MÉDIO - conforme memorial descritivo. | E5: 339039.80 | G5: Diária | J5: 158.87 | L5: =K5-(SUM(N5:Y5)) -> 0 | M5: =IF(L5<0,"ATENÇÃO","OK") -> OK | N5: 0 | O5: 0 | P5: 0 | Q5: 0 | R5: 0 | S5: 0 | T5: 0 | U5: 0 | V5: 0 | W5: 0 | X5: 0 | Y5: 0
C6: 3 | D6: Almoço(buffet livre) - Conforme Memorial Descritivo. | E6: 339039.80 | G6: Refeição | J6: 30 | K6: 30 | L6: =K6-(SUM(N6:Y6)) -> 30 | M6: =IF(L6<0,"ATENÇÃO","OK") -> OK | N6: 0 | O6: 0 | P6: 0 | Q6: 0 | R6: 0 | S6: 0 | T6: 0 | U6: 0 | V6: 0 | W6: 0 | X6: 0 | Y6: 0
C7: 4 | D7: Jantar(buffet livre) - Conforme Memorial Descritivo. | E7: 339039.80 | G7: Refeição | J7: 30 | K7: 30 | L7: =K7-(SUM(N7:Y7)) -> 30 | M7: =IF(L7<0,"ATENÇÃO","OK") -> OK | N7: 0 | O7: 0 | P7: 0 | Q7: 0 | R7: 0 | S7: 0 | T7: 0 | U7: 0 | V7: 0 | W7: 0 | X7: 0 | Y7: 0
A8: Castelmar Empreendimentos Hoteleiros Ltda | B8: 2 | C8: 5 | D8: Pernoite (Apartamento Individual) com café da manhã - ALTO PADRÃO. Suíte com 02 Ambientes: Quarto e Home Office - Conforme Memorial Descritivo. | E8: 339039.80 | G8: Diária | J8: 180 | L8: =K8-(SUM(N8:Y8)) -> 0 | M8: =IF(L8<0,"ATENÇÃO","OK") -> OK | N8: 0 | O8: 0 | P8: 0 | Q8: 0 | R8: 0 | S8: 0 | T8: 0 | U8: 0 | V8: 0 | W8: 0 | X8: 0 | Y8: 0
C9: 6 | D9: Almoço(buffet livre ou a la carte) - Conforme Memorial Descritivo. | E9: 339039.80 | G9: Refeição | J9: 38 | L9: =K9-(SUM(N9:Y9)) -> 0 | M9: =IF(L9<0,"ATENÇÃO","OK") -> OK | N9: 0 | O9: 0 | P9: 0 | Q9: 0 | R9: 0 | S9: 0 | T9: 0 | U9: 0 | V9: 0 | W9: 0 | X9: 0 | Y9: 0
C10: 7 | D10: Jantar(buffet livre ou a La carte) - Conforme Memorial Descritivo. | E10: 339039.80 | G10: Refeição | J10: 38 | L10: =K10-(SUM(N10:Y10)) -> 0 | M10: =IF(L10<0,"ATENÇÃO","OK") -> OK | N10: 0 | O10: 0 | P10: 0 | Q10: 0 | R10: 0 | S10: 0 | T10: 0 | U10: 0 | V10: 0 | W10: 0 | X10: 0 | Y10: 0
A11: Ryan Hotel Ltda | B11: 3 | C11: 8 | D11: Pernoite com café da manhã, Apartamento Simples. PADRÃO MÉDIO - conforme memorial descritivo. | E11: 339039.80 | G11: Diária | J11: 124 | L11: =K11-(SUM(N11:Y11)) -> 0 | M11: =IF(L11<0,"ATENÇÃO","OK") -> OK | N11: 0 | O11: 0 | P11: 0 | Q11: 0 | R11: 0 | S11: 0 | T11: 0 | U11: 0 | V11: 0 | W11: 0 | X11: 0 | Y11: 0
C12: 9 | D12: Pernoite com café da manhã, Apartamento Duplo. PADRÃO MÉDIO - conforme memorial descritivo. | E12: 339039.80 | G12: Diária | J12: 146 | L12: =K12-(SUM(N12:Y12)) -> 0 | M12: =IF(L12<0,"ATENÇÃO","OK") -> OK | N12: 0 | O12: 0 | P12: 0 | Q12: 0 | R12: 0 | S12: 0 | T12: 0 | U12: 0 | V12: 0 | W12: 0 | X12: 0 | Y12: 0
C13: 10 | D13: Almoço(buffet livre) - Conforme Memorial Descritivo. | E13: 339039.80 | G13: Refeição | J13: 27 | L13: =K13-(SUM(N13:Y13)) -> 0 | M13: =IF(L13<0,"ATENÇÃO","OK") -> OK | N13: 0 | O13: 0 | P13: 0 | Q13: 0 | R13: 0 | S13: 0 | T13: 0 | U13: 0 | V13: 0 | W13: 0 | X13: 0 | Y13: 0
C14: 11 | D14: Jantar(buffet livre) - Conforme Memorial Descritivo. | E14: 339039.80 | G14: Refeição | J14: 27 | L14: =K14-(SUM(N14:Y14)) -> 0 | M14: =IF(L14<0,"ATENÇÃO","OK") -> OK | N14: 0 | O14: 0 | P14: 0 | Q14: 0 | R14: 0 | S14: 0 | T14: 0 | U14: 0 | V14: 0 | W14: 0 | X14: 0 | Y14: 0
A15: Complexo Turístico Flipper Ltda | B15: 4 | C15: 12 | D15: Pernoite com café da manhã, Apartamento Simples. PADRÃO MÉDIO - conforme memorial descritivo. | E15: 339039.80 | G15: Diária | J15: 111 | L15: =K15-(SUM(N15:Y15)) -> 0 | M15: =IF(L15<0,"ATENÇÃO","OK") -> OK | N15: 0 | O15: 0 | P15: 0 | Q15: 0 | R15: 0 | S15: 0 | T15: 0 | U15: 0 | V15: 0 | W15: 0 | X15: 0 | Y15: 0
C16: 13 | D16: Pernoite com café da manhã, Apartamento Duplo. PADRÃO MÉDIO - conforme memorial descritivo. | E16: 339039.80 | G16: Diária | J16: 180 | L16: =K16-(SUM(N16:Y16)) -> 0 | M16: =IF(L16<0,"ATENÇÃO","OK") -> OK | N16: 0 | O16: 0 | P16: 0 | Q16: 0 | R16: 0 | S16: 0 | T16: 0 | U16: 0 | V16: 0 | W16: 0 | X16: 0 | Y16: 0
C17: 14 | D17: Almoço(buffet livre) - Conforme Memorial Descritivo. | E17: 339039.80 | G17: Refeição | J17: 29 | L17: =K17-(SUM(N17:Y17)) -> 0 | M17: =IF(L17<0,"ATENÇÃO","OK") -> OK | N17: 0 | O17: 0 | P17: 0 | Q17: 0 | R17: 0 | S17: 0 | T17: 0 | U17: 0 | V17: 0 | W17: 0 | X17: 0 | Y17: 0
C18: 15 | D18: Jantar(buffet livre) - Conforme Memorial Descritivo. | E18: 339039.80 | G18: Refeição | J18: 29 | L18: =K18-(SUM(N18:Y18)) -> 0 | M18: =IF(L18<0,"ATENÇÃO","OK") -> OK | N18: 0 | O18: 0 | P18: 0 | Q18: 0 | R18: 0 | S18: 0 | T18: 0 | U18: 0 | V18: 0 | W18: 0 | X18: 0 | Y18: 0

Sheet PROJETO 03 CEAD
A1: PROCESSO: 0239/2014/UDESC | D1: OBJETO: Serviços de Hospedagem | K1: VIGÊNCIA DA ATA: Lotes 1, 2 e 3 08/04/20134 até 07/04/2015 - Lote 4 21/03/2014 até 20/03/2015 | N1: AF/OS nº xxxx/2014 Qtde. DT | O1: AF/OS nº xxxx/2014 Qtde. DT | P1: AF/OS nº xxxx/2014 Qtde. DT | Q1: AF/OS nº xxxx/2014 Qtde. DT | R1: AF/OS nº xxxx/2014 Qtde. DT | S1: AF/OS nº xxxx/2014 Qtde. DT | T1: AF/OS nº xxxx/2014 Qtde. DT | U1: AF/OS nº xxxx/2014 Qtde. DT | V1: AF/OS nº xxxx/2014 Qtde. DT | W1: AF/OS nº xxxx/2014 Qtde. DT | X1: AF/OS nº xxxx/2014 Qtde. DT | Y1: AF/OS nº xxxx/2014 Qtde. DT
A2: CENTRO PARTICIPANTE: PROJETO 03 CEAD
A3: FORNECEDOR | B3: LOTE | C3: ITEM | D3: PRODUTO - CARACTERÍSTICAS MÍNIMAS | E3: ELEMENTO | F3: MARCA | G3: UNIDADE | H3: Entrega (Dias) | I3: Pagto. (Dias) | J3: Preço UNITÁRIO (R$) | K3: Qtde LICITADA | L3: Saldo / Automático | M3: ALERTA | N3: ...../...../...... | O3: ...../...../...... | P3: ...../...../...... | Q3: ...../...../...... | R3: ...../...../...... | S3: ...../...../...... | T3: ...../...../...... | U3: ...../...../...... | V3: ...../...../...... | W3: ...../...../...... | X3: ...../...../...... | Y3: ...../...../......
A4: Maria do Mar Hotel e Ind. Alim. Ltda | B4: 1 | C4: 1 | D4: Pernoite com café da manhã, Apartamento Simples. PADRÃO MÉDIO - conforme memorial descritivo. | E4: 339039.80 | G4: Diária | J4: 142 | K4: 3 | L4: =K4-(SUM(N4:Y4)) -> 3 | M4: =IF(L4<0,"ATENÇÃO","OK") -> OK | N4: 0 | O4: 0 | P4: 0 | Q4: 0 | R4: 0 | S4: 0 | T4: 0 | U4: 0 | V4: 0 | W4: 0 | X4: 0 | Y4: 0
C5: 2 | D5: Pernoite com café da manhã, Apartamento Duplo. PADRÃO MÉDIO - conforme memorial descritivo. | E5: 339039.80 | G5: Diária | J5: 158.87 | L5: =K5-(SUM(N5:Y5)) -> 0 | M5: =IF(L5<0,"ATENÇÃO","OK") -> OK | N5: 0 | O5: 0 | P5: 0 | Q5: 0 | R5: 0 | S5: 0 | T5: 0 | U5: 0 | V5: 0 | W5: 0 | X5: 0 | Y5: 0
C6: 3 | D6: Almoço(buffet livre) - Conforme Memorial Descritivo. | E6: 339039.80 | G6: Refeição | J6: 30 | K6: 3 | L6: =K6-(SUM(N6:Y6)) -> 3 | M6: =IF(L6<0,"ATENÇÃO","OK") -> OK | N6: 0 | O6: 0 | P6: 0 | Q6: 0 | R6: 0 | S6: 0 | T6: 0 | U6: 0 | V6: 0 | W6: 0 | X6: 0 | Y6: 0
C7: 4 | D7: Jantar(buffet livre) - Conforme Memorial Descritivo. | E7: 339039.80 | G7: Refeição | J7: 30 | K7: 3 | L7: =K7-(SUM(N7:Y7)) -> 3 | M7: =IF(L7<0,"ATENÇÃO","OK") -> OK | N7: 0 | O7: 0 | P7: 0 | Q7: 0 | R7: 0 | S7: 0 | T7: 0 | U7: 0 | V7: 0 | W7: 0 | X7: 0 | Y7: 0
A8: Castelmar Empreendimentos Hoteleiros Ltda | B8: 2 | C8: 5 | D8: Pernoite (Apartamento Individual) com café da manhã - ALTO PADRÃO. Suíte com 02 Ambientes: Quarto e Home Office - Conforme Memorial Descritivo. | E8: 339039.80 | G8: Diária | J8: 180 | L8: =K8-(SUM(N8:Y8)) -> 0 | M8: =IF(L8<0,"ATENÇÃO","OK") -> OK | N8: 0 | O8: 0 | P8: 0 | Q8: 0 | R8: 0 | S8: 0 | T8: 0 | U8: 0 | V8: 0 | W8: 0 | X8: 0 | Y8: 0
C9: 6 | D9: Almoço(buffet livre ou a la carte) - Conforme Memorial Descritivo. | E9: 339039.80 | G9: Refeição | J9: 38 | L9: =K9-(SUM(N9:Y9)) -> 0 | M9: =IF(L9<0,"ATENÇÃO","OK") -> OK | N9: 0 | O9: 0 | P9: 0 | Q9: 0 | R9: 0 | S9: 0 | T9: 0 | U9: 0 | V9: 0 | W9: 0 | X9: 0 | Y9: 0
C10: 7 | D10: Jantar(buffet livre ou a La carte) - Conforme Memorial Descritivo. | E10: 339039.80 | G10: Refeição | J10: 38 | L10: =K10-(SUM(N10:Y10)) -> 0 | M10: =IF(L10<0,"ATENÇÃO","OK") -> OK | N10: 0 | O10: 0 | P10: 0 | Q10: 0 | R10: 0 | S10: 0 | T10: 0 | U10: 0 | V10: 0 | W10: 0 | X10: 0 | Y10: 0
A11: Ryan Hotel Ltda | B11: 3 | C11: 8 | D11: Pernoite com café da manhã, Apartamento Simples. PADRÃO MÉDIO - conforme memorial descritivo. | E11: 339039.80 | G11: Diária | J11: 124 | L11: =K11-(SUM(N11:Y11)) -> 0 | M11: =IF(L11<0,"ATENÇÃO","OK") -> OK | N11: 0 | O11: 0 | P11: 0 | Q11: 0 | R11: 0 | S11: 0 | T11: 0 | U11: 0 | V11: 0 | W11: 0 | X11: 0 | Y11: 0
C12: 9 | D12: Pernoite com café da manhã, Apartamento Duplo. PADRÃO MÉDIO - conforme memorial descritivo. | E12: 339039.80 | G12: Diária | J12: 146 | L12: =K12-(SUM(N12:Y12)) -> 0 | M12: =IF(L12<0,"ATENÇÃO","OK") -> OK | N12: 0 | O12: 0 | P12: 0 | Q12: 0 | R12: 0 | S12: 0 | T12: 0 | U12: 0 | V12: 0 | W12: 0 | X12: 0 | Y12: 0
C13: 10 | D13: Almoço(buffet livre) - Conforme Memorial Descritivo. | E13: 339039.80 | G13: Refeição | J13: 27 | L13: =K13-(SUM(N13:Y13)) -> 0 | M13: =IF(L13<0,"ATENÇÃO","OK") -> OK | N13: 0 | O13: 0 | P13: 0 | Q13: 0 | R13: 0 | S13: 0 | T13: 0 | U13: 0 | V13: 0 | W13: 0 | X13: 0 | Y13: 0
C14: 11 | D14: Jantar(buffet livre) - Conforme Memorial Descritivo. | E14: 339039.80 | G14: Refeição | J14: 27 | L14: =K14-(SUM(N14:Y14)) -> 0 | M14: =IF(L14<0,"ATENÇÃO","OK") -> OK | N14: 0 | O14: 0 | P14: 0 | Q14: 0 | R14: 0 | S14: 0 | T14: 0 | U14: 0 | V14: 0 | W14: 0 | X14: 0 | Y14: 0
A15: Complexo Turístico Flipper Ltda | B15: 4 | C15: 12 | D15: Pernoite com café da manhã, Apartamento Simples. PADRÃO MÉDIO - conforme memorial descritivo. | E15: 339039.80 | G15: Diária | J15: 111 | L15: =K15-(SUM(N15:Y15)) -> 0 | M15: =IF(L15<0,"ATENÇÃO","OK") -> OK | N15: 0 | O15: 0 | P15: 0 | Q15: 0 | R15: 0 | S15: 0 | T15: 0 | U15: 0 | V15: 0 | W15: 0 | X15: 0 | Y15: 0
