Workbook
Name diasuteis: #REF!
Name diasuteis: #REF!
Name diasuteis: #REF!
Name diasuteis: #REF!
Name diasuteis: #REF!
Name diasuteis: #REF!
Name diasuteis: #REF!
Name diasuteis: #REF!
Name diasuteis: #REF!
Name diasuteis: #REF!
Name Ferias: #REF!
Name Ferias: #REF!
Name Ferias: #REF!
Name Ferias: #REF!
Name Ferias: #REF!
Name Ferias: #REF!
Name Ferias: #REF!
Name Ferias: #REF!
Name Ferias: #REF!
Name RD: OFFSET(#REF!,(MATCH(SMALL(#REF!,ROW()-10),#REF!,0)-1),0)

Sheet REIT
A1: PROCESSO: 0252/2014/UDESC | D1: OBJETO: FORNECIMENTO DE REFEIÇÃO PARA JOGOS, COFFEE BREAK E COQUETEL | K1: VIGÊNCIA DA ATA: 28/04/2014 até 28/04/2015 | N1: AF/OS nº 371/2014 Qtde. DT | O1: AF/OS nº 392/2014 Qtde. DT | P1: AF/OS nº 454/2014 Qtde. DT | Q1: AF/OS nº 493/2014 Qtde. DT | R1: AF/OS nº xxxx/2014 Qtde. DT | S1: AF/OS nº xxxx/2014 Qtde. DT | T1: AF/OS nº xxxx/2014 Qtde. DT | U1: AF/OS nº xxxx/2014 Qtde. DT | V1: AF/OS nº xxxx/2014 Qtde. DT | W1: AF/OS nº xxxx/2014 Qtde. DT | X1: AF/OS nº xxxx/2014 Qtde. DT | Y1: AF/OS nº xxxx/2014 Qtde. DT
A2: CENTRO PARTICIPANTE: REITORIA
A3: FORNECEDOR | B3: LOTE | C3: ITEM | D3: PRODUTO - CARACTERÍSTICAS MÍNIMAS | E3: ELEMENTO | F3: MARCA | G3: UNIDADE | H3: Entrega (Dias) | I3: Pagto. (Dias) | J3: Preço UNITÁRIO (R$) | K3: Qtde LICITADA | L3: Saldo / Automático | M3: ALERTA | N3: 41759 | O3: 41774 | P3: 41805 | Q3: 41793 | R3: ...../...../...... | S3: ...../...../...... | T3: ...../...../...... | U3: ...../...../...... | V3: ...../...../...... | W3: ...../...../...... | X3: ...../...../...... | Y3: ...../...../......
A4: Villa Gourmet Eventos LTDA-EPP | B4: 1 | C4: 1 | D4: COFFEE BREAK TIPO 1 - CONFORME TERMO DE REFERÊNCIA - Fpolis | G4: Pessoa | I4: 20 | J4: 7.1 | K4: 0 | L4: =K4-(SUM(N4:Y4)) -> 0 | M4: =IF(L4<0,"ATENÇÃO","OK") -> OK | N4: 0 | O4: 0 | P4: 0 | Q4: 0 | R4: 0 | S4: 0 | T4: 0 | U4: 0 | V4: 0 | W4: 0 | X4: 0 | Y4: 0
C5: 2 | D5: COFFEE BREAK TIPO 2 - CONFORME TERMO DE REFERÊNCIA - Fpolis | G5: Pessoa | I5: 20 | J5: 8 | K5: =2000+300+300 -> 2600 | L5: =K5-(SUM(N5:Y5)) -> 2145 | M5: =IF(L5<0,"ATENÇÃO","OK") -> OK | N5: 0 | O5: 100 | P5: 250 | Q5: 105 | R5: 0 | S5: 0 | T5: 0 | U5: 0 | V5: 0 | W5: 0 | X5: 0 | Y5: 0
C6: 3 | D6: COFFEE BREAK TIPO 3 - CONFORME TERMO DE REFERÊNCIA - Fpolis | G6: Pessoa | I6: 20 | J6: 11.2 | K6: 500 | L6: =K6-(SUM(N6:Y6)) -> 300 | M6: =IF(L6<0,"ATENÇÃO","OK") -> OK | N6: 0 | O6: 0 | P6: 100 | Q6: 100 | R6: 0 | S6: 0 | T6: 0 | U6: 0 | V6: 0 | W6: 0 | X6: 0 | Y6: 0
C7: 4 | D7: COQUETEL - CONFORME TERMO DE REFERÊNCIA - Fpolis | G7: Pessoa | I7: 20 | J7: 25.98 | K7: 200 | L7: =K7-(SUM(N7:Y7)) -> 75 | M7: =IF(L7<0,"ATENÇÃO","OK") -> OK | N7: 0 | O7: 0 | P7: 125 | Q7: 0 | R7: 0 | S7: 0 | T7: 0 | U7: 0 | V7: 0 | W7: 0 | X7: 0 | Y7: 0
B8: 2 | C8: 5 | D8: COFFEE BREAK TIPO 2 - CONFORME TERMO DE REFERÊNCIA - Baln Camboriú | G8: Pessoa | I8: 20 | J8: 12 | K8: 0 | L8: =K8-(SUM(N8:Y8)) -> 0 | M8: =IF(L8<0,"ATENÇÃO","OK") -> OK | N8: 0 | O8: 0 | P8: 0 | Q8: 0 | R8: 0 | S8: 0 | T8: 0 | U8: 0 | V8: 0 | W8: 0 | X8: 0 | Y8: 0
B9: 3 | C9: 6 | D9: COFFEE BREAK TIPO 3 - CONFORME TERMO DE REFERÊNCIA - Laguna | G9: Pessoa | I9: 20 | J9: 11.76 | K9: 0 | L9: =K9-(SUM(N9:Y9)) -> 0 | M9: =IF(L9<0,"ATENÇÃO","OK") -> OK | N9: 0 | O9: 0 | P9: 0 | Q9: 0 | R9: 0 | S9: 0 | T9: 0 | U9: 0 | V9: 0 | W9: 0 | X9: 0 | Y9: 0
C10: 7 | D10: COQUETEL - CONFORME TERMO DE REFERÊNCIA - Laguna | G10: Pessoa | I10: 20 | J10: 26.82 | K10: 0 | L10: =K10-(SUM(N10:Y10)) -> 0 | M10: =IF(L10<0,"ATENÇÃO","OK") -> OK | N10: 0 | O10: 0 | P10: 0 | Q10: 0 | R10: 0 | S10: 0 | T10: 0 | U10: 0 | V10: 0 | W10: 0 | X10: 0 | Y10: 0
B11: 4 | C11: 8 | D11: CAFÉ DA MANHÃ - CONFORME TERMO DE REFERÊNCIA - Chapecó. | G11: Refeição | I11: 20 | J11: 7.23 | K11: 900 | L11: =K11-(SUM(N11:Y11)) -> 900 | M11: =IF(L11<0,"ATENÇÃO","OK") -> OK | N11: 0 | O11: 0 | P11: 0 | Q11: 0 | R11: 0 | S11: 0 | T11: 0 | U11: 0 | V11: 0 | W11: 0 | X11: 0 | Y11: 0
C12: 9 | D12: ALMOÇO - CONFORME TERMO DE REFERÊNCIA - Chapecó | G12: Refeição | I12: 20 | J12: 15.9 | K12: 900 | L12: =K12-(SUM(N12:Y12)) -> 900 | M12: =IF(L12<0,"ATENÇÃO","OK") -> OK | N12: 0 | O12: 0 | P12: 0 | Q12: 0 | R12: 0 | S12: 0 | T12: 0 | U12: 0 | V12: 0 | W12: 0 | X12: 0 | Y12: 0
C13: 10 | D13: JANTAR - CONFORME TERMO DE REFERÊNCIA - Chapecó | G13: Refeição | I13: 20 | J13: 15.9 | K13: 900 | L13: =K13-(SUM(N13:Y13)) -> 900 | M13: =IF(L13<0,"ATENÇÃO","OK") -> OK | N13: 0 | O13: 0 | P13: 0 | Q13: 0 | R13: 0 | S13: 0 | T13: 0 | U13: 0 | V13: 0 | W13: 0 | X13: 0 | Y13: 0
B14: 5 | C14: 11 | D14: CAFÉ DA MANHÃ - CONFORME TERMO DE REFERÊNCIA - Lages | G14: Refeição | I14: 20 | J14: 4.94 | K14: 4800 | L14: =K14-(SUM(N14:Y14)) -> 0 | M14: =IF(L14<0,"ATENÇÃO","OK") -> OK | N14: 4800 | O14: 0 | P14: 0 | Q14: 0 | R14: 0 | S14: 0 | T14: 0 | U14: 0 | V14: 0 | W14: 0 | X14: 0 | Y14: 0
C15: 12 | D15: ALMOÇO - CONFORME TERMO DE REFERÊNCIA - Lages | G15: Refeição | I15: 20 | J15: 13.1 | K15: 4800 | L15: =K15-(SUM(N15:Y15)) -> 0 | M15: =IF(L15<0,"ATENÇÃO","OK") -> OK | N15: 4800 | O15: 0 | P15: 0 | Q15: 0 | R15: 0 | S15: 0 | T15: 0 | U15: 0 | V15: 0 | W15: 0 | X15: 0 | Y15: 0
C16: 13 | D16: JANTAR - CONFORME TERMO DE REFERÊNCIA - Lages | G16: Refeição | I16: 20 | J16: 13.1 | K16: 4800 | L16: =K16-(SUM(N16:Y16)) -> 0 | M16: =IF(L16<0,"ATENÇÃO","OK") -> OK | N16: 4800 | O16: 0 | P16: 0 | Q16: 0 | R16: 0 | S16: 0 | T16: 0 | U16: 0 | V16: 0 | W16: 0 | X16: 0 | Y16: 0
B17: 6 | C17: 14 | D17: CAFÉ DA MANHÃ - CONFORME TERMO DE REFERÊNCIA - cidade catarinense a definir | G17: Refeição | I17: 20 | J17: 7.92 | K17: 940 | L17: =K17-(SUM(N17:Y17)) -> 940 | M17: =IF(L17<0,"ATENÇÃO","OK") -> OK | N17: 0 | O17: 0 | P17: 0 | Q17: 0 | R17: 0 | S17: 0 | T17: 0 | U17: 0 | V17: 0 | W17: 0 | X17: 0 | Y17: 0
C18: 15 | D18: ALMOÇO - CONFORME TERMO DE REFERÊNCIA - cidade catarinense a definir | G18: Refeição | I18: 20 | J18: 17.1 | K18: 940 | L18: =K18-(SUM(N18:Y18)) -> 940 | M18: =IF(L18<0,"ATENÇÃO","OK") -> OK | N18: 0 | O18: 0 | P18: 0 | Q18: 0 | R18: 0 | S18: 0 | T18: 0 | U18: 0 | V18: 0 | W18: 0 | X18: 0 | Y18: 0
C19: 16 | D19: JANTAR - CONFORME TERMO DE REFERÊNCIA - cidade catarinense a definir | G19: Refeição | I19: 20 | J19: 17.1 | K19: 940 | L19: =K19-(SUM(N19:Y19)) -> 940 | M19: =IF(L19<0,"ATENÇÃO","OK") -> OK | N19: 0 | O19: 0 | P19: 0 | Q19: 0 | R19: 0 | S19: 0 | T19: 0 | U19: 0 | V19: 0 | W19: 0 | X19: 0 | Y19: 0

Sheet ESAG
A1: PROCESSO: 0252/2014/UDESC | D1: OBJETO: FORNECIMENTO DE REFEIÇÃO PARA JOGOS, COFFEE BREAK E COQUETEL | K1: VIGÊNCIA DA ATA: 28/04/2014 até 28/04/2015 | N1: AF/OS nº xxxx/2014 Qtde. DT | O1: AF/OS nº xxxx/2014 Qtde. DT | P1: AF/OS nº xxxx/2014 Qtde. DT | Q1: AF/OS nº xxxx/2014 Qtde. DT | R1: AF/OS nº xxxx/2014 Qtde. DT | S1: AF/OS nº xxxx/2014 Qtde. DT | T1: AF/OS nº xxxx/2014 Qtde. DT | U1: AF/OS nº xxxx/2014 Qtde. DT | V1: AF/OS nº xxxx/2014 Qtde. DT | W1: AF/OS nº xxxx/2014 Qtde. DT | X1: AF/OS nº xxxx/2014 Qtde. DT | Y1: AF/OS nº xxxx/2014 Qtde. DT
A2: CENTRO PARTICIPANTE: ESAG
A3: FORNECEDOR | B3: LOTE | C3: ITEM | D3: PRODUTO - CARACTERÍSTICAS MÍNIMAS | E3: ELEMENTO | F3: MARCA | G3: UNIDADE | H3: Entrega (Dias) | I3: Pagto. (Dias) | J3: Preço UNITÁRIO (R$) | K3: Qtde LICITADA | L3: Saldo / Automático | M3: ALERTA | N3: ...../...../...... | O3: ...../...../...... | P3: ...../...../...... | Q3: ...../...../...... | R3: ...../...../...... | S3: ...../...../...... | T3: ...../...../...... | U3: ...../...../...... | V3: ...../...../...... | W3: ...../...../...... | X3: ...../...../...... | Y3: ...../...../......
A4: Villa Gourmet Eventos LTDA-EPP | B4: 1 | C4: 1 | D4: COFFEE BREAK TIPO 1 - CONFORME TERMO DE REFERÊNCIA - Fpolis | G4: Pessoa | I4: 20 | J4: 7.1 | K4: 0 | L4: =K4-(SUM(N4:Y4)) -> 0 | M4: =IF(L4<0,"ATENÇÃO","OK") -> OK | N4: 0 | O4: 0 | P4: 0 | Q4: 0 | R4: 0 | S4: 0 | T4: 0 | U4: 0 | V4: 0 | W4: 0 | X4: 0 | Y4: 0
C5: 2 | D5: COFFEE BREAK TIPO 2 - CONFORME TERMO DE REFERÊNCIA - Fpolis | G5: Pessoa | I5: 20 | J5: 8 | K5: 2500 | L5: =K5-(SUM(N5:Y5)) -> 2500 | M5: =IF(L5<0,"ATENÇÃO","OK") -> OK | N5: 0 | O5: 0 | P5: 0 | Q5: 0 | R5: 0 | S5: 0 | T5: 0 | U5: 0 | V5: 0 | W5: 0 | X5: 0 | Y5: 0
C6: 3 | D6: COFFEE BREAK TIPO 3 - CONFORME TERMO DE REFERÊNCIA - Fpolis | G6: Pessoa | I6: 20 | J6: 11.2 | K6: 400 | L6: =K6-(SUM(N6:Y6)) -> 400 | M6: =IF(L6<0,"ATENÇÃO","OK") -> OK | N6: 0 | O6: 0 | P6: 0 | Q6: 0 | R6: 0 | S6: 0 | T6: 0 | U6: 0 | V6: 0 | W6: 0 | X6: 0 | Y6: 0
C7: 4 | D7: COQUETEL - CONFORME TERMO DE REFERÊNCIA - Fpolis | G7: Pessoa | I7: 20 | J7: 25.98 | K7: 0 | L7: =K7-(SUM(N7:Y7)) -> 0 | M7: =IF(L7<0,"ATENÇÃO","OK") -> OK | N7: 0 | O7: 0 | P7: 0 | Q7: 0 | R7: 0 | S7: 0 | T7: 0 | U7: 0 | V7: 0 | W7: 0 | X7: 0 | Y7: 0
B8: 2 | C8: 5 | D8: COFFEE BREAK TIPO 2 - CONFORME TERMO DE REFERÊNCIA - Baln Camboriú | G8: Pessoa | I8: 20 | J8: 12 | K8: 0 | L8: =K8-(SUM(N8:Y8)) -> 0 | M8: =IF(L8<0,"ATENÇÃO","OK") -> OK | N8: 0 | O8: 0 | P8: 0 | Q8: 0 | R8: 0 | S8: 0 | T8: 0 | U8: 0 | V8: 0 | W8: 0 | X8: 0 | Y8: 0
B9: 3 | C9: 6 | D9: COFFEE BREAK TIPO 3 - CONFORME TERMO DE REFERÊNCIA - Laguna | G9: Pessoa | I9: 20 | J9: 11.76 | K9: 0 | L9: =K9-(SUM(N9:Y9)) -> 0 | M9: =IF(L9<0,"ATENÇÃO","OK") -> OK | N9: 0 | O9: 0 | P9: 0 | Q9: 0 | R9: 0 | S9: 0 | T9: 0 | U9: 0 | V9: 0 | W9: 0 | X9: 0 | Y9: 0
C10: 7 | D10: COQUETEL - CONFORME TERMO DE REFERÊNCIA - Laguna | G10: Pessoa | I10: 20 | J10: 26.82 | K10: 0 | L10: =K10-(SUM(N10:Y10)) -> 0 | M10: =IF(L10<0,"ATENÇÃO","OK") -> OK | N10: 0 | O10: 0 | P10: 0 | Q10: 0 | R10: 0 | S10: 0 | T10: 0 | U10: 0 | V10: 0 | W10: 0 | X10: 0 | Y10: 0
B11: 4 | C11: 8 | D11: CAFÉ DA MANHÃ - CONFORME TERMO DE REFERÊNCIA - Chapecó. | G11: Refeição | I11: 20 | J11: 7.23 | K11: 0 | L11: =K11-(SUM(N11:Y11)) -> 0 | M11: =IF(L11<0,"ATENÇÃO","OK") -> OK | N11: 0 | O11: 0 | P11: 0 | Q11: 0 | R11: 0 | S11: 0 | T11: 0 | U11: 0 | V11: 0 | W11: 0 | X11: 0 | Y11: 0
C12: 9 | D12: ALMOÇO - CONFORME TERMO DE REFERÊNCIA - Chapecó | G12: Refeição | I12: 20 | J12: 15.9 | K12: 0 | L12: =K12-(SUM(N12:Y12)) -> 0 | M12: =IF(L12<0,"ATENÇÃO","OK") -> OK | N12: 0 | O12: 0 | P12: 0 | Q12: 0 | R12: 0 | S12: 0 | T12: 0 | U12: 0 | V12: 0 | W12: 0 | X12: 0 | Y12: 0
C13: 10 | D13: JANTAR - CONFORME TERMO DE REFERÊNCIA - Chapecó | G13: Refeição | I13: 20 | J13: 15.9 | K13: 0 | L13: =K13-(SUM(N13:Y13)) -> 0 | M13: =IF(L13<0,"ATENÇÃO","OK") -> OK | N13: 0 | O13: 0 | P13: 0 | Q13: 0 | R13: 0 | S13: 0 | T13: 0 | U13: 0 | V13: 0 | W13: 0 | X13: 0 | Y13: 0
B14: 5 | C14: 11 | D14: CAFÉ DA MANHÃ - CONFORME TERMO DE REFERÊNCIA - Lages | G14: Refeição | I14: 20 | J14: 4.94 | K14: 0 | L14: =K14-(SUM(N14:Y14)) -> 0 | M14: =IF(L14<0,"ATENÇÃO","OK") -> OK | N14: 0 | O14: 0 | P14: 0 | Q14: 0 | R14: 0 | S14: 0 | T14: 0 | U14: 0 | V14: 0 | W14: 0 | X14: 0 | Y14: 0
C15: 12 | D15: ALMOÇO - CONFORME TERMO DE REFERÊNCIA - Lages | G15: Refeição | I15: 20 | J15: 13.1 | K15: 0 | L15: =K15-(SUM(N15:Y15)) -> 0 | M15: =IF(L15<0,"ATENÇÃO","OK") -> OK | N15: 0 | O15: 0 | P15: 0 | Q15: 0 | R15: 0 | S15: 0 | T15: 0 | U15: 0 | V15: 0 | W15: 0 | X15: 0 | Y15: 0
C16: 13 | D16: JANTAR - CONFORME TERMO DE REFERÊNCIA - Lages | G16: Refeição | I16: 20 | J16: 13.1 | K16: 0 | L16: =K16-(SUM(N16:Y16)) -> 0 | M16: =IF(L16<0,"ATENÇÃO","OK") -> OK | N16: 0 | O16: 0 | P16: 0 | Q16: 0 | R16: 0 | S16: 0 | T16: 0 | U16: 0 | V16: 0 | W16: 0 | X16: 0 | Y16: 0
B17: 6 | C17: 14 | D17: CAFÉ DA MANHÃ - CONFORME TERMO DE REFERÊNCIA - cidade catarinense a definir | G17: Refeição | I17: 20 | J17: 7.92 | K17: 0 | L17: =K17-(SUM(N17:Y17)) -> 0 | M17: =IF(L17<0,"ATENÇÃO","OK") -> OK | N17: 0 | O17: 0 | P17: 0 | Q17: 0 | R17: 0 | S17: 0 | T17: 0 | U17: 0 | V17: 0 | W17: 0 | X17: 0 | Y17: 0
C18: 15 | D18: ALMOÇO - CONFORME TERMO DE REFERÊNCIA - cidade catarinense a definir | G18: Refeição | I18: 20 | J18: 17.1 | K18: 0 | L18: =K18-(SUM(N18:Y18)) -> 0 | M18: =IF(L18<0,"ATENÇÃO","OK") -> OK | N18: 0 | O18: 0 | P18: 0 | Q18: 0 | R18: 0 | S18: 0 | T18: 0 | U18: 0 | V18: 0 | W18: 0 | X18: 0 | Y18: 0
C19: 16 | D19: JANTAR - CONFORME TERMO DE REFERÊNCIA - cidade catarinense a definir | G19: Refeição | I19: 20 | J19: 17.1 | K19: 0 | L19: =K19-(SUM(N19:Y19)) -> 0 | M19: =IF(L19<0,"ATENÇÃO","OK") -> OK | N19: 0 | O19: 0 | P19: 0 | Q19: 0 | R19: 0 | S19: 0 | T19: 0 | U19: 0 | V19: 0 | W19: 0 | X19: 0 | Y19: 0

Sheet CEART
A1: PROCESSO: 0252/2014/UDESC | D1: OBJETO: FORNECIMENTO DE REFEIÇÃO PARA JOGOS, COFFEE BREAK E COQUETEL | K1: VIGÊNCIA DA ATA: 28/04/2014 até 28/04/2015 | N1: AF nº 431/2014 Qtde. DT | O1: AF nº 532/2014 Qtde. DT | P1: AF/OS nº xxxx/2014 Qtde. DT | Q1: AF/OS nº xxxx/2014 Qtde. DT | R1: AF/OS nº xxxx/2014 Qtde. DT | S1: AF/OS nº xxxx/2014 Qtde. DT | T1: AF/OS nº xxxx/2014 Qtde. DT | U1: AF/OS nº xxxx/2014 Qtde. DT | V1: AF/OS nº xxxx/2014 Qtde. DT | W1: AF/OS nº xxxx/2014 Qtde. DT | X1: AF/OS nº xxxx/2014 Qtde. DT | Y1: AF/OS nº xxxx/2014 Qtde. DT
A2: CENTRO PARTICIPANTE: CEART
A3: FORNECEDOR | B3: LOTE | C3: ITEM | D3: PRODUTO - CARACTERÍSTICAS MÍNIMAS | E3: ELEMENTO | F3: MARCA | G3: UNIDADE | H3: Entrega (Dias) | I3: Pagto. (Dias) | J3: Preço UNITÁRIO (R$) | K3: Qtde LICITADA | L3: Saldo / Automático | M3: ALERTA | N3: 41778 | O3: 41792 | P3: ...../...../...... | Q3: ...../...../...... | R3: ...../...../...... | S3: ...../...../...... | T3: ...../...../...... | U3: ...../...../...... | V3: ...../...../...... | W3: ...../...../...... | X3: ...../...../...... | Y3: ...../...../......
A4: Villa Gourmet Eventos LTDA-EPP | B4: 1 | C4: 1 | D4: COFFEE BREAK TIPO 1 - CONFORME TERMO DE REFERÊNCIA - Fpolis | G4: Pessoa | I4: 20 | J4: 7.1 | K4: 260 | L4: =K4-(SUM(N4:Y4)) -> 260 | M4: =IF(L4<0,"ATENÇÃO","OK") -> OK | N4: 0 | O4: 0 | P4: 0 | Q4: 0 | R4: 0 | S4: 0 | T4: 0 | U4: 0 | V4: 0 | W4: 0 | X4: 0 | Y4: 0
C5: 2 | D5: COFFEE BREAK TIPO 2 - CONFORME TERMO DE REFERÊNCIA - Fpolis | G5: Pessoa | I5: 20 | J5: 8 | K5: =1080-300 -> 780 | L5: =K5-(SUM(N5:Y5)) -> 650 | M5: =IF(L5<0,"ATENÇÃO","OK") -> OK | N5: 80 | O5: 50 | P5: 0 | Q5: 0 | R5: 0 | S5: 0 | T5: 0 | U5: 0 | V5: 0 | W5: 0 | X5: 0 | Y5: 0
C6: 3 | D6: COFFEE BREAK TIPO 3 - CONFORME TERMO DE REFERÊNCIA - Fpolis | G6: Pessoa | I6: 20 | J6: 11.2 | K6: 160 | L6: =K6-(SUM(N6:Y6)) -> 160 | M6: =IF(L6<0,"ATENÇÃO","OK") -> OK | N6: 0 | O6: 0 | P6: 0 | Q6: 0 | R6: 0 | S6: 0 | T6: 0 | U6: 0 | V6: 0 | W6: 0 | X6: 0 | Y6: 0
C7: 4 | D7: COQUETEL - CONFORME TERMO DE REFERÊNCIA - Fpolis | G7: Pessoa | I7: 20 | J7: 25.98 | K7: 100 | L7: =K7-(SUM(N7:Y7)) -> 100 | M7: =IF(L7<0,"ATENÇÃO","OK") -> OK | N7: 0 | O7: 0 | P7: 0 | Q7: 0 | R7: 0 | S7: 0 | T7: 0 | U7: 0 | V7: 0 | W7: 0 | X7: 0 | Y7: 0
B8: 2 | C8: 5 | D8: COFFEE BREAK TIPO 2 - CONFORME TERMO DE REFERÊNCIA - Baln Camboriú | G8: Pessoa | I8: 20 | J8: 12 | K8: 0 | L8: =K8-(SUM(N8:Y8)) -> 0 | M8: =IF(L8<0,"ATENÇÃO","OK") -> OK | N8: 0 | O8: 0 | P8: 0 | Q8: 0 | R8: 0 | S8: 0 | T8: 0 | U8: 0 | V8: 0 | W8: 0 | X8: 0 | Y8: 0
B9: 3 | C9: 6 | D9: COFFEE BREAK TIPO 3 - CONFORME TERMO DE REFERÊNCIA - Laguna | G9: Pessoa | I9: 20 | J9: 11.76 | K9: 0 | L9: =K9-(SUM(N9:Y9)) -> 0 | M9: =IF(L9<0,"ATENÇÃO","OK") -> OK | N9: 0 | O9: 0 | P9: 0 | Q9: 0 | R9: 0 | S9: 0 | T9: 0 | U9: 0 | V9: 0 | W9: 0 | X9: 0 | Y9: 0
C10: 7 | D10: COQUETEL - CONFORME TERMO DE REFERÊNCIA - Laguna | G10: Pessoa | I10: 20 | J10: 26.82 | K10: 0 | L10: =K10-(SUM(N10:Y10)) -> 0 | M10: =IF(L10<0,"ATENÇÃO","OK") -> OK | N10: 0 | O10: 0 | P10: 0 | Q10: 0 | R10: 0 | S10: 0 | T10: 0 | U10: 0 | V10: 0 | W10: 0 | X10: 0 | Y10: 0
B11: 4 | C11: 8 | D11: CAFÉ DA MANHÃ - CONFORME TERMO DE REFERÊNCIA - Chapecó. | G11: Refeição | I11: 20 | J11: 7.23 | K11: 0 | L11: =K11-(SUM(N11:Y11)) -> 0 | M11: =IF(L11<0,"ATENÇÃO","OK") -> OK | N11: 0 | O11: 0 | P11: 0 | Q11: 0 | R11: 0 | S11: 0 | T11: 0 | U11: 0 | V11: 0 | W11: 0 | X11: 0 | Y11: 0
C12: 9 | D12: ALMOÇO - CONFORME TERMO DE REFERÊNCIA - Chapecó | G12: Refeição | I12: 20 | J12: 15.9 | K12: 0 | L12: =K12-(SUM(N12:Y12)) -> 0 | M12: =IF(L12<0,"ATENÇÃO","OK") -> OK | N12: 0 | O12: 0 | P12: 0 | Q12: 0 | R12: 0 | S12: 0 | T12: 0 | U12: 0 | V12: 0 | W12: 0 | X12: 0 | Y12: 0
C13: 10 | D13: JANTAR - CONFORME TERMO DE REFERÊNCIA - Chapecó | G13: Refeição | I13: 20 | J13: 15.9 | K13: 0 | L13: =K13-(SUM(N13:Y13)) -> 0 | M13: =IF(L13<0,"ATENÇÃO","OK") -> OK | N13: 0 | O13: 0 | P13: 0 | Q13: 0 | R13: 0 | S13: 0 | T13: 0 | U13: 0 | V13: 0 | W13: 0 | X13: 0 | Y13: 0
B14: 5 | C14: 11 | D14: CAFÉ DA MANHÃ - CONFORME TERMO DE REFERÊNCIA - Lages | G14: Refeição | I14: 20 | J14: 4.94 | K14: 0 | L14: =K14-(SUM(N14:Y14)) -> 0 | M14: =IF(L14<0,"ATENÇÃO","OK") -> OK | N14: 0 | O14: 0 | P14: 0 | Q14: 0 | R14: 0 | S14: 0 | T14: 0 | U14: 0 | V14: 0 | W14: 0 | X14: 0 | Y14: 0
C15: 12 | D15: ALMOÇO - CONFORME TERMO DE REFERÊNCIA - Lages | G15: Refeição | I15: 20 | J15: 13.1 | K15: 0 | L15: =K15-(SUM(N15:Y15)) -> 0 | M15: =IF(L15<0,"ATENÇÃO","OK") -> OK | N15: 0 | O15: 0 | P15: 0 | Q15: 0 | R15: 0 | S15: 0 | T15: 0 | U15: 0 | V15: 0 | W15: 0 | X15: 0 | Y15: 0
C16: 13 | D16: JANTAR - CONFORME TERMO DE REFERÊNCIA - Lages | G16: Refeição | I16: 20 | J16: 13.1 | K16: 0 | L16: =K16-(SUM(N16:Y16)) -> 0 | M16: =IF(L16<0,"ATENÇÃO","OK") -> OK | N16: 0 | O16: 0 | P16: 0 | Q16: 0 | R16: 0 | S16: 0 | T16: 0 | U16: 0 | V16: 0 | W16: 0 | X16: 0 | Y16: 0
B17: 6 | C17: 14 | D17: CAFÉ DA MANHÃ - CONFORME TERMO DE REFERÊNCIA - cidade catarinense a definir | G17: Refeição | I17: 20 | J17: 7.92 | K17: 0 | L17: =K17-(SUM(N17:Y17)) -> 0 | M17: =IF(L17<0,"ATENÇÃO","OK") -> OK | N17: 0 | O17: 0 | P17: 0 | Q17: 0 | R17: 0 | S17: 0 | T17: 0 | U17: 0 | V17: 0 | W17: 0 | X17: 0 | Y17: 0
C18: 15 | D18: ALMOÇO - CONFORME TERMO DE REFERÊNCIA - cidade catarinense a definir | G18: Refeição | I18: 20 | J18: 17.1 | K18: 0 | L18: =K18-(SUM(N18:Y18)) -> 0 | M18: =IF(L18<0,"ATENÇÃO","OK") -> OK | N18: 0 | O18: 0 | P18: 0 | Q18: 0 | R18: 0 | S18: 0 | T18: 0 | U18: 0 | V18: 0 | W18: 0 | X18: 0 | Y18: 0
C19: 16 | D19: JANTAR - CONFORME TERMO DE REFERÊNCIA - cidade catarinense a definir | G19: Refeição | I19: 20 | J19: 17.1 | K19: 0 | L19: =K19-(SUM(N19:Y19)) -> 0 | M19: =IF(L19<0,"ATENÇÃO","OK") -> OK | N19: 0 | O19: 0 | P19: 0 | Q19: 0 | R19: 0 | S19: 0 | T19: 0 | U19: 0 | V19: 0 | W19: 0 | X19: 0 | Y19: 0

Sheet FAED
A1: PROCESSO: 0252/2014/UDESC | D1: OBJETO: FORNECIMENTO DE REFEIÇÃO PARA JOGOS, COFFEE BREAK E COQUETEL | K1: VIGÊNCIA DA ATA: 28/04/2014 até 28/04/2015 | N1: AF nº 406/2014 Qtde. DT | O1: AF nº 620/2014 Qtde. DT | P1: AF nº 627/2014 Qtde. DT | Q1: AF nº 654/2014 Qtde. DT | R1: AF/OS nº xxxx/2014 Qtde. DT | S1: AF/OS nº xxxx/2014 Qtde. DT | T1: AF/OS nº xxxx/2014 Qtde. DT | U1: AF/OS nº xxxx/2014 Qtde. DT | V1: AF/OS nº xxxx/2014 Qtde. DT | W1: AF/OS nº xxxx/2014 Qtde. DT | X1: AF/OS nº xxxx/2014 Qtde. DT | Y1: AF/OS nº xxxx/2014 Qtde. DT
A2: CENTRO PARTICIPANTE: FAED | O2: AF nº 620/2014 Qtde. DT | P2: AF nº 627/2014 Qtde. DT | Q2: AF nº 654/2014 Qtde. DT
A3: FORNECEDOR | B3: LOTE | C3: ITEM | D3: PRODUTO - CARACTERÍSTICAS MÍNIMAS | E3: ELEMENTO | F3: MARCA | G3: UNIDADE | H3: Entrega (Dias) | I3: Pagto. (Dias) | J3: Preço UNITÁRIO (R$) | K3: Qtde LICITADA | L3: Saldo / Automático | M3: ALERTA | N3: 41774 | O3: 41808 | P3: 41813 | Q3: ...../...../...... | R3: ...../...../...... | S3: ...../...../...... | T3: ...../...../...... | U3: ...../...../...... | V3: ...../...../...... | W3: ...../...../...... | X3: ...../...../...... | Y3: ...../...../......
A4: Villa Gourmet Eventos LTDA-EPP | B4: 1 | C4: 1 | D4: COFFEE BREAK TIPO 1 - CONFORME TERMO DE REFERÊNCIA - Fpolis | G4: Pessoa | I4: 20 | J4: 7.1 | K4: 0 | L4: =K4-(SUM(N4:Y4)) -> 0 | M4: =IF(L4<0,"ATENÇÃO","OK") -> OK | N4: 0 | O4: 0 | P4: 0 | Q4: 0 | R4: 0 | S4: 0 | T4: 0 | U4: 0 | V4: 0 | W4: 0 | X4: 0 | Y4: 0
C5: 2 | D5: COFFEE BREAK TIPO 2 - CONFORME TERMO DE REFERÊNCIA - Fpolis | G5: Pessoa | I5: 20 | J5: 8 | K5: =2040-300 -> 1740 | L5: =K5-(SUM(N5:Y5)) -> 1220 | M5: =IF(L5<0,"ATENÇÃO","OK") -> OK | N5: 200 | O5: 200 | P5: 120 | Q5: 0 | R5: 0 | S5: 0 | T5: 0 | U5: 0 | V5: 0 | W5: 0 | X5: 0 | Y5: 0
C6: 3 | D6: COFFEE BREAK TIPO 3 - CONFORME TERMO DE REFERÊNCIA - Fpolis | G6: Pessoa | I6: 20 | J6: 11.2 | K6: 480 | L6: =K6-(SUM(N6:Y6)) -> 400 | M6: =IF(L6<0,"ATENÇÃO","OK") -> OK | N6: 0 | O6: 0 | P6: 0 | Q6: 80 | R6: 0 | S6: 0 | T6: 0 | U6: 0 | V6: 0 | W6: 0 | X6: 0 | Y6: 0
C7: 4 | D7: COQUETEL - CONFORME TERMO DE REFERÊNCIA - Fpolis | G7: Pessoa | I7: 20 | J7: 25.98 | K7: 400 | L7: =K7-(SUM(N7:Y7)) -> 400 | M7: =IF(L7<0,"ATENÇÃO","OK") -> OK | N7: 0 | O7: 0 | P7: 0 | Q7: 0 | R7: 0 | S7: 0 | T7: 0 | U7: 0 | V7: 0 | W7: 0 | X7: 0 | Y7: 0
B8: 2 | C8: 5 | D8: COFFEE BREAK TIPO 2 - CONFORME TERMO DE REFERÊNCIA - Baln Camboriú | G8: Pessoa | I8: 20 | J8: 12 | K8: 0 | L8: =K8-(SUM(N8:Y8)) -> 0 | M8: =IF(L8<0,"ATENÇÃO","OK") -> OK | N8: 0 | O8: 0 | P8: 0 | Q8: 0 | R8: 0 | S8: 0 | T8: 0 | U8: 0 | V8: 0 | W8: 0 | X8: 0 | Y8: 0
B9: 3 | C9: 6 | D9: COFFEE BREAK TIPO 3 - CONFORME TERMO DE REFERÊNCIA - Laguna | G9: Pessoa | I9: 20 | J9: 11.76 | K9: 0 | L9: =K9-(SUM(N9:Y9)) -> 0 | M9: =IF(L9<0,"ATENÇÃO","OK") -> OK | N9: 0 | O9: 0 | P9: 0 | Q9: 0 | R9: 0 | S9: 0 | T9: 0 | U9: 0 | V9: 0 | W9: 0 | X9: 0 | Y9: 0
C10: 7 | D10: COQUETEL - CONFORME TERMO DE REFERÊNCIA - Laguna | G10: Pessoa | I10: 20 | J10: 26.82 | K10: 0 | L10: =K10-(SUM(N10:Y10)) -> 0 | M10: =IF(L10<0,"ATENÇÃO","OK") -> OK | N10: 0 | O10: 0 | P10: 0 | Q10: 0 | R10: 0 | S10: 0 | T10: 0 | U10: 0 | V10: 0 | W10: 0 | X10: 0 | Y10: 0
B11: 4 | C11: 8 | D11: CAFÉ DA MANHÃ - CONFORME TERMO DE REFERÊNCIA - Chapecó. | G11: Refeição | I11: 20 | J11: 7.23 | K11: 0 | L11: =K11-(SUM(N11:Y11)) -> 0 | M11: =IF(L11<0,"ATENÇÃO","OK") -> OK | N11: 0 | O11: 0 | P11: 0 | Q11: 0 | R11: 0 | S11: 0 | T11: 0 | U11: 0 | V11: 0 | W11: 0 | X11: 0 | Y11: 0
C12: 9 | D12: ALMOÇO - CONFORME TERMO DE REFERÊNCIA - Chapecó | G12: Refeição | I12: 20 | J12: 15.9 | K12: 0 | L12: =K12-(SUM(N12:Y12)) -> 0 | M12: =IF(L12<0,"ATENÇÃO","OK") -> OK | N12: 0 | O12: 0 | P12: 0 | Q12: 0 | R12: 0 | S12: 0 | T12: 0 | U12: 0 | V12: 0 | W12: 0 | X12: 0 | Y12: 0
C13: 10 | D13: JANTAR - CONFORME TERMO DE REFERÊNCIA - Chapecó | G13: Refeição | I13: 20 | J13: 15.9 | K13: 0 | L13: =K13-(SUM(N13:Y13)) -> 0 | M13: =IF(L13<0,"ATENÇÃO","OK") -> OK | N13: 0 | O13: 0 | P13: 0 | Q13: 0 | R13: 0 | S13: 0 | T13: 0 | U13: 0 | V13: 0 | W13: 0 | X13: 0 | Y13: 0
B14: 5 | C14: 11 | D14: CAFÉ DA MANHÃ - CONFORME TERMO DE REFERÊNCIA - Lages | G14: Refeição | I14: 20 | J14: 4.94 | K14: 0 | L14: =K14-(SUM(N14:Y14)) -> 0 | M14: =IF(L14<0,"ATENÇÃO","OK") -> OK | N14: 0 | O14: 0 | P14: 0 | Q14: 0 | R14: 0 | S14: 0 | T14: 0 | U14: 0 | V14: 0 | W14: 0 | X14: 0 | Y14: 0
C15: 12 | D15: ALMOÇO - CONFORME TERMO DE REFERÊNCIA - Lages | G15: Refeição | I15: 20 | J15: 13.1 | K15: 0 | L15: =K15-(SUM(N15:Y15)) -> 0 | M15: =IF(L15<0,"ATENÇÃO","OK") -> OK | N15: 0 | O15: 0 | P15: 0 | Q15: 0 | R15: 0 | S15: 0 | T15: 0 | U15: 0 | V15: 0 | W15: 0 | X15: 0 | Y15: 0
C16: 13 | D16: JANTAR - CONFORME TERMO DE REFERÊNCIA - Lages | G16: Refeição | I16: 20 | J16: 13.1 | K16: 0 | L16: =K16-(SUM(N16:Y16)) -> 0 | M16: =IF(L16<0,"ATENÇÃO","OK") -> OK | N16: 0 | O16: 0 | P16: 0 | Q16: 0 | R16: 0 | S16: 0 | T16: 0 | U16: 0 | V16: 0 | W16: 0 | X16: 0 | Y16: 0
B17: 6 | C17: 14 | D17: CAFÉ DA MANHÃ - CONFORME TERMO DE REFERÊNCIA - cidade catarinense a definir | G17: Refeição | I17: 20 | J17: 7.92 | K17: 0 | L17: =K17-(SUM(N17:Y17)) -> 0 | M17: =IF(L17<0,"ATENÇÃO","OK") -> OK | N17: 0 | O17: 0 | P17: 0 | Q17: 0 | R17: 0 | S17: 0 | T17: 0 | U17: 0 | V17: 0 | W17: 0 | X17: 0 | Y17: 0
C18: 15 | D18: ALMOÇO - CONFORME TERMO DE REFERÊNCIA - cidade catarinense a definir | G18: Refeição | I18: 20 | J18: 17.1 | K18: 0 | L18: =K18-(SUM(N18:Y18)) -> 0 | M18: =IF(L18<0,"ATENÇÃO","OK") -> OK | N18: 0 | O18: 0 | P18: 0 | Q18: 0 | R18: 0 | S18: 0 | T18: 0 | U18: 0 | V18: 0 | W18: 0 | X18: 0 | Y18: 0
C19: 16 | D19: JANTAR - CONFORME TERMO DE REFERÊNCIA - cidade catarinense a definir | G19: Refeição | I19: 20 | J19: 17.1 | K19: 0 | L19: =K19-(SUM(N19:Y19)) -> 0 | M19: =IF(L19<0,"ATENÇÃO","OK") -> OK | N19: 0 | O19: 0 | P19: 0 | Q19: 0 | R19: 0 | S19: 0 | T19: 0 | U19: 0 | V19: 0 | W19: 0 | X19: 0 | Y19: 0

Sheet CEAD
A1: PROCESSO: 0252/2014/UDESC | D1: OBJETO: FORNECIMENTO DE REFEIÇÃO PARA JOGOS, COFFEE BREAK E COQUETEL | K1: VIGÊNCIA DA ATA: 28/04/2014 até 28/04/2015 | N1: AF/OS nº 486/2014 Qtde. DT | O1: AF/OS nº xxxx/2014 Qtde. DT | P1: AF/OS nº xxxx/2014 Qtde. DT | Q1: AF/OS nº xxxx/2014 Qtde. DT | R1: AF/OS nº xxxx/2014 Qtde. DT | S1: AF/OS nº xxxx/2014 Qtde. DT | T1: AF/OS nº xxxx/2014 Qtde. DT | U1: AF/OS nº xxxx/2014 Qtde. DT | V1: AF/OS nº xxxx/2014 Qtde. DT | W1: AF/OS nº xxxx/2014 Qtde. DT | X1: AF/OS nº xxxx/2014 Qtde. DT | Y1: AF/OS nº xxxx/2014 Qtde. DT
A2: CENTRO PARTICIPANTE: CEAD
A3: FORNECEDOR | B3: LOTE | C3: ITEM | D3: PRODUTO - CARACTERÍSTICAS MÍNIMAS | E3: ELEMENTO | F3: MARCA | G3: UNIDADE | H3: Entrega (Dias) | I3: Pagto. (Dias) | J3: Preço UNITÁRIO (R$) | K3: Qtde LICITADA | L3: Saldo / Automático | M3: ALERTA | N3: 41792 | O3: ...../...../...... | P3: ...../...../...... | Q3: ...../...../...... | R3: ...../...../...... | S3: ...../...../...... | T3: ...../...../...... | U3: ...../...../...... | V3: ...../...../...... | W3: ...../...../...... | X3: ...../...../...... | Y3: ...../...../......
A4: Villa Gourmet Eventos LTDA-EPP | B4: 1 | C4: 1 | D4: COFFEE BREAK TIPO 1 - CONFORME TERMO DE REFERÊNCIA - Fpolis | G4: Pessoa | I4: 20 | J4: 7.1 | K4: 320 | L4: =K4-(SUM(N4:Y4)) -> 0 | M4: =IF(L4<0,"ATENÇÃO","OK") -> OK | N4: 320 | O4: 0 | P4: 0 | Q4: 0 | R4: 0 | S4: 0 | T4: 0 | U4: 0 | V4: 0 | W4: 0 | X4: 0 | Y4: 0
C5: 2 | D5: COFFEE BREAK TIPO 2 - CONFORME TERMO DE REFERÊNCIA - Fpolis | G5: Pessoa | I5: 20 | J5: 8 | K5: 960 | L5: =K5-(SUM(N5:Y5)) -> 0 | M5: =IF(L5<0,"ATENÇÃO","OK") -> OK | N5: 960 | O5: 0 | P5: 0 | Q5: 0 | R5: 0 | S5: 0 | T5: 0 | U5: 0 | V5: 0 | W5: 0 | X5: 0 | Y5: 0
C6: 3 | D6: COFFEE BREAK TIPO 3 - CONFORME TERMO DE REFERÊNCIA - Fpolis | G6: Pessoa | I6: 20 | J6: 11.2 | K6: 340 | L6: =K6-(SUM(N6:Y6)) -> 0 | M6: =IF(L6<0,"ATENÇÃO","OK") -> OK | N6: 340 | O6: 0 | P6: 0 | Q6: 0 | R6: 0 | S6: 0 | T6: 0 | U6: 0 | V6: 0 | W6: 0 | X6: 0 | Y6: 0
C7: 4 | D7: COQUETEL - CONFORME TERMO DE REFERÊNCIA - Fpolis | G7: Pessoa | I7: 20 | J7: 25.98 | K7: 0 | L7: =K7-(SUM(N7:Y7)) -> 0 | M7: =IF(L7<0,"ATENÇÃO","OK") -> OK | N7: 0 | O7: 0 | P7: 0 | Q7: 0 | R7: 0 | S7: 0 | T7: 0 | U7: 0 | V7: 0 | W7: 0 | X7: 0 | Y7: 0
B8: 2 | C8: 5 | D8: COFFEE BREAK TIPO 2 - CONFORME TERMO DE REFERÊNCIA - Baln Camboriú | G8: Pessoa | I8: 20 | J8: 12 | K8: 0 | L8: =K8-(SUM(N8:Y8)) -> 0 | M8: =IF(L8<0,"ATENÇÃO","OK") -> OK | N8: 0 | O8: 0 | P8: 0 | Q8: 0 | R8: 0 | S8: 0 | T8: 0 | U8: 0 | V8: 0 | W8: 0 | X8: 0 | Y8: 0
B9: 3 | C9: 6 | D9: COFFEE BREAK TIPO 3 - CONFORME TERMO DE REFERÊNCIA - Laguna | G9: Pessoa | I9: 20 | J9: 11.76 | K9: 0 | L9: =K9-(SUM(N9:Y9)) -> 0 | M9: =IF(L9<0,"ATENÇÃO","OK") -> OK | N9: 0 | O9: 0 | P9: 0 | Q9: 0 | R9: 0 | S9: 0 | T9: 0 | U9: 0 | V9: 0 | W9: 0 | X9: 0 | Y9: 0
C10: 7 | D10: COQUETEL - CONFORME TERMO DE REFERÊNCIA - Laguna | G10: Pessoa | I10: 20 | J10: 26.82 | K10: 0 | L10: =K10-(SUM(N10:Y10)) -> 0 | M10: =IF(L10<0,"ATENÇÃO","OK") -> OK | N10: 0 | O10: 0 | P10: 0 | Q10: 0 | R10: 0 | S10: 0 | T10: 0 | U10: 0 | V10: 0 | W10: 0 | X10: 0 | Y10: 0
B11: 4 | C11: 8 | D11: CAFÉ DA MANHÃ - CONFORME TERMO DE REFERÊNCIA - Chapecó. | G11: Refeição | I11: 20 | J11: 7.23 | K11: 0 | L11: =K11-(SUM(N11:Y11)) -> 0 | M11: =IF(L11<0,"ATENÇÃO","OK") -> OK | N11: 0 | O11: 0 | P11: 0 | Q11: 0 | R11: 0 | S11: 0 | T11: 0 | U11: 0 | V11: 0 | W11: 0 | X11: 0 | Y11: 0
C12: 9 | D12: ALMOÇO - CONFORME TERMO DE REFERÊNCIA - Chapecó | G12: Refeição | I12: 20 | J12: 15.9 | K12: 0 | L12: =K12-(SUM(N12:Y12)) -> 0 | M12: =IF(L12<0,"ATENÇÃO","OK") -> OK | N12: 0 | O12: 0 | P12: 0 | Q12: 0 | R12: 0 | S12: 0 | T12: 0 | U12: 0 | V12: 0 | W12: 0 | X12: 0 | Y12: 0
C13: 10 | D13: JANTAR - CONFORME TERMO DE REFERÊNCIA - Chapecó | G13: Refeição | I13: 20 | J13: 15.9 | K13: 0 | L13: =K13-(SUM(N13:Y13)) -> 0 | M13: =IF(L13<0,"ATENÇÃO","OK") -> OK | N13: 0 | O13: 0 | P13: 0 | Q13: 0 | R13: 0 | S13: 0 | T13: 0 | U13: 0 | V13: 0 | W13: 0 | X13: 0 | Y13: 0
B14: 5 | C14: 11 | D14: CAFÉ DA MANHÃ - CONFORME TERMO DE REFERÊNCIA - Lages | G14: Refeição | I14: 20 | J14: 4.94 | K14: 0 | L14: =K14-(SUM(N14:Y14)) -> 0 | M14: =IF(L14<0,"ATENÇÃO","OK") -> OK | N14: 0 | O14: 0 | P14: 0 | Q14: 0 | R14: 0 | S14: 0 | T14: 0 | U14: 0 | V14: 0 | W14: 0 | X14: 0 | Y14: 0
C15: 12 | D15: ALMOÇO - CONFORME TERMO DE REFERÊNCIA - Lages | G15: Refeição | I15: 20 | J15: 13.1 | K15: 0 | L15: =K15-(SUM(N15:Y15)) -> 0 | M15: =IF(L15<0,"ATENÇÃO","OK") -> OK | N15: 0 | O15: 0 | P15: 0 | Q15: 0 | R15: 0 | S15: 0 | T15: 0 | U15: 0 | V15: 0 | W15: 0 | X15: 0 | Y15: 0
C16: 13 | D16: JANTAR - CONFORME TERMO DE REFERÊNCIA - Lages | G16: Refeição | I16: 20 | J16: 13.1 | K16: 0 | L16: =K16-(SUM(N16:Y16)) -> 0 | M16: =IF(L16<0,"ATENÇÃO","OK") -> OK | N16: 0 | O16: 0 | P16: 0 | Q16: 0 | R16: 0 | S16: 0 | T16: 0 | U16: 0 | V16: 0 | W16: 0 | X16: 0 | Y16: 0
B17: 6 | C17: 14 | D17: CAFÉ DA MANHÃ - CONFORME TERMO DE REFERÊNCIA - cidade catarinense a definir | G17: Refeição | I17: 20 | J17: 7.92 | K17: 0 | L17: =K17-(SUM(N17:Y17)) -> 0 | M17: =IF(L17<0,"ATENÇÃO","OK") -> OK | N17: 0 | O17: 0 | P17: 0 | Q17: 0 | R17: 0 | S17: 0 | T17: 0 | U17: 0 | V17: 0 | W17: 0 | X17: 0 | Y17: 0
C18: 15 | D18: ALMOÇO - CONFORME TERMO DE REFERÊNCIA - cidade catarinense a definir | G18: Refeição | I18: 20 | J18: 17.1 | K18: 0 | L18: =K18-(SUM(N18:Y18)) -> 0 | M18: =IF(L18<0,"ATENÇÃO","OK") -> OK | N18: 0 | O18: 0 | P18: 0 | Q18: 0 | R18: 0 | S18: 0 | T18: 0 | U18: 0 | V18: 0 | W18: 0 | X18: 0 | Y18: 0
C19: 16 | D19: JANTAR - CONFORME TERMO DE REFERÊNCIA - cidade catarinense a definir | G19: Refeição | I19: 20 | J19: 17.1 | K19: 0 | L19: =K19-(SUM(N19:Y19)) -> 0 | M19: =IF(L19<0,"ATENÇÃO","OK") -> OK | N19: 0 | O19: 0 | P19: 0 | Q19: 0 | R19: 0 | S19: 0 | T19: 0 | U19: 0 | V19: 0 | W19: 0 | X19: 0 | Y19: 0

Sheet CEFID
A1: PROCESSO: 0252/2014/UDESC | D1: OBJETO: FORNECIMENTO DE REFEIÇÃO PARA JOGOS, COFFEE BREAK E COQUETEL | K1: VIGÊNCIA DA ATA: 28/04/2014 até 28/04/2015 | N1: AF/OS nº 679/2014 Qtde. DT | O1: AF/OS nº xxxx/2014 Qtde. DT | P1: AF/OS nº xxxx/2014 Qtde. DT | Q1: AF/OS nº xxxx/2014 Qtde. DT | R1: AF/OS nº xxxx/2014 Qtde. DT | S1: AF/OS nº xxxx/2014 Qtde. DT | T1: AF/OS nº xxxx/2014 Qtde. DT | U1: AF/OS nº xxxx/2014 Qtde. DT | V1: AF/OS nº xxxx/2014 Qtde. DT | W1: AF/OS nº xxxx/2014 Qtde. DT | X1: AF/OS nº xxxx/2014 Qtde. DT | Y1: AF/OS nº xxxx/2014 Qtde. DT
A2: CENTRO PARTICIPANTE: CEFID
A3: FORNECEDOR | B3: LOTE | C3: ITEM | D3: PRODUTO - CARACTERÍSTICAS MÍNIMAS | E3: ELEMENTO | F3: MARCA | G3: UNIDADE | H3: Entrega (Dias) | I3: Pagto. (Dias) | J3: Preço UNITÁRIO (R$) | K3: Qtde LICITADA | L3: Saldo / Automático | M3: ALERTA | N3: 41822 | O3: ...../...../...... | P3: ...../...../...... | Q3: ...../...../...... | R3: ...../...../...... | S3: ...../...../...... | T3: ...../...../...... | U3: ...../...../...... | V3: ...../...../...... | W3: ...../...../...... | X3: ...../...../...... | Y3: ...../...../......
A4: Villa Gourmet Eventos LTDA-EPP | B4: 1 | C4: 1 | D4: COFFEE BREAK TIPO 1 - CONFORME TERMO DE REFERÊNCIA - Fpolis | G4: Pessoa | I4: 20 | J4: 7.1 | K4: 0 | L4: =K4-(SUM(N4:Y4)) -> 0 | M4: =IF(L4<0,"ATENÇÃO","OK") -> OK | N4: 0 | O4: 0 | P4: 0 | Q4: 0 | R4: 0 | S4: 0 | T4: 0 | U4: 0 | V4: 0 | W4: 0 | X4: 0 | Y4: 0
C5: 2 | D5: COFFEE BREAK TIPO 2 - CONFORME TERMO DE REFERÊNCIA - Fpolis | G5: Pessoa | I5: 20 | J5: 8 | K5: 2000 | L5: =K5-(SUM(N5:Y5)) -> 1950 | M5: =IF(L5<0,"ATENÇÃO","OK") -> OK | N5: 50 | O5: 0 | P5: 0 | Q5: 0 | R5: 0 | S5: 0 | T5: 0 | U5: 0 | V5: 0 | W5: 0 | X5: 0 | Y5: 0
C6: 3 | D6: COFFEE BREAK TIPO 3 - CONFORME TERMO DE REFERÊNCIA - Fpolis | G6: Pessoa | I6: 20 | J6: 11.2 | K6: 0 | L6: =K6-(SUM(N6:Y6)) -> 0 | M6: =IF(L6<0,"ATENÇÃO","OK") -> OK | N6: 0 | O6: 0 | P6: 0 | Q6: 0 | R6: 0 | S6: 0 | T6: 0 | U6: 0 | V6: 0 | W6: 0 | X6: 0 | Y6: 0
C7: 4 | D7: COQUETEL - CONFORME TERMO DE REFERÊNCIA - Fpolis | G7: Pessoa | I7: 20 | J7: 25.98 | K7: 0 | L7: =K7-(SUM(N7:Y7)) -> 0 | M7: =IF(L7<0,"ATENÇÃO","OK") -> OK | N7: 0 | O7: 0 | P7: 0 | Q7: 0 | R7: 0 | S7: 0 | T7: 0 | U7: 0 | V7: 0 | W7: 0 | X7: 0 | Y7: 0
B8: 2 | C8: 5 | D8: COFFEE BREAK TIPO 2 - CONFORME TERMO DE REFERÊNCIA - Baln Camboriú | G8: Pessoa | I8: 20 | J8: 12 | K8: 0 | L8: =K8-(SUM(N8:Y8)) -> 0 | M8: =IF(L8<0,"ATENÇÃO","OK") -> OK | N8: 0 | O8: 0 | P8: 0 | Q8: 0 | R8: 0 | S8: 0 | T8: 0 | U8: 0 | V8: 0 | W8: 0 | X8: 0 | Y8: 0
B9: 3 | C9: 6 | D9: COFFEE BREAK TIPO 3 - CONFORME TERMO DE REFERÊNCIA - Laguna | G9: Pessoa | I9: 20 | J9: 11.76 | K9: 0 | L9: =K9-(SUM(N9:Y9)) -> 0 | M9: =IF(L9<0,"ATENÇÃO","OK") -> OK | N9: 0 | O9: 0 | P9: 0 | Q9: 0 | R9: 0 | S9: 0 | T9: 0 | U9: 0 | V9: 0 | W9: 0 | X9: 0 | Y9: 0
C10: 7 | D10: COQUETEL - CONFORME TERMO DE REFERÊNCIA - Laguna | G10: Pessoa | I10: 20 | J10: 26.82 | K10: 0 | L10: =K10-(SUM(N10:Y10)) -> 0 | M10: =IF(L10<0,"ATENÇÃO","OK") -> OK | N10: 0 | O10: 0 | P10: 0 | Q10: 0 | R10: 0 | S10: 0 | T10: 0 | U10: 0 | V10: 0 | W10: 0 | X10: 0 | Y10: 0
B11: 4 | C11: 8 | D11: CAFÉ DA MANHÃ - CONFORME TERMO DE REFERÊNCIA - Chapecó. | G11: Refeição | I11: 20 | J11: 7.23 | K11: 0 | L11: =K11-(SUM(N11:Y11)) -> 0 | M11: =IF(L11<0,"ATENÇÃO","OK") -> OK | N11: 0 | O11: 0 | P11: 0 | Q11: 0 | R11: 0 | S11: 0 | T11: 0 | U11: 0 | V11: 0 | W11: 0 | X11: 0 | Y11: 0
C12: 9 | D12: ALMOÇO - CONFORME TERMO DE REFERÊNCIA - Chapecó | G12: Refeição | I12: 20 | J12: 15.9 | K12: 0 | L12: =K12-(SUM(N12:Y12)) -> 0 | M12: =IF(L12<0,"ATENÇÃO","OK") -> OK | N12: 0 | O12: 0 | P12: 0 | Q12: 0 | R12: 0 | S12: 0 | T12: 0 | U12: 0 | V12: 0 | W12: 0 | X12: 0 | Y12: 0
C13: 10 | D13: JANTAR - CONFORME TERMO DE REFERÊNCIA - Chapecó | G13: Refeição | I13: 20 | J13: 15.9 | K13: 0 | L13: =K13-(SUM(N13:Y13)) -> 0 | M13: =IF(L13<0,"ATENÇÃO","OK") -> OK | N13: 0 | O13: 0 | P13: 0 | Q13: 0 | R13: 0 | S13: 0 | T13: 0 | U13: 0 | V13: 0 | W13: 0 | X13: 0 | Y13: 0
B14: 5 | C14: 11 | D14: CAFÉ DA MANHÃ - CONFORME TERMO DE REFERÊNCIA - Lages | G14: Refeição | I14: 20 | J14: 4.94 | K14: 0 | L14: =K14-(SUM(N14:Y14)) -> 0 | M14: =IF(L14<0,"ATENÇÃO","OK") -> OK | N14: 0 | O14: 0 | P14: 0 | Q14: 0 | R14: 0 | S14: 0 | T14: 0 | U14: 0 | V14: 0 | W14: 0 | X14: 0 | Y14: 0
C15: 12 | D15: ALMOÇO - CONFORME TERMO DE REFERÊNCIA - Lages | G15: Refeição | I15: 20 | J15: 13.1 | K15: 0 | L15: =K15-(SUM(N15:Y15)) -> 0 | M15: =IF(L15<0,"ATENÇÃO","OK") -> OK | N15: 0 | O15: 0 | P15: 0 | Q15: 0 | R15: 0 | S15: 0 | T15: 0 | U15: 0 | V15: 0 | W15: 0 | X15: 0 | Y15: 0
C16: 13 | D16: JANTAR - CONFORME TERMO DE REFERÊNCIA - Lages | G16: Refeição | I16: 20 | J16: 13.1 | K16: 0 | L16: =K16-(SUM(N16:Y16)) -> 0 | M16: =IF(L16<0,"ATENÇÃO","OK") -> OK | N16: 0 | O16: 0 | P16: 0 | Q16: 0 | R16: 0 | S16: 0 | T16: 0 | U16: 0 | V16: 0 | W16: 0 | X16: 0 | Y16: 0
B17: 6 | C17: 14 | D17: CAFÉ DA MANHÃ - CONFORME TERMO DE REFERÊNCIA - cidade catarinense a definir | G17: Refeição | I17: 20 | J17: 7.92 | K17: 0 | L17: =K17-(SUM(N17:Y17)) -> 0 | M17: =IF(L17<0,"ATENÇÃO","OK") -> OK | N17: 0 | O17: 0 | P17: 0 | Q17: 0 | R17: 0 | S17: 0 | T17: 0 | U17: 0 | V17: 0 | W17: 0 | X17: 0 | Y17: 0
C18: 15 | D18: ALMOÇO - CONFORME TERMO DE REFERÊNCIA - cidade catarinense a definir | G18: Refeição | I18: 20 | J18: 17.1 | K18: 0 | L18: =K18-(SUM(N18:Y18)) -> 0 | M18: =IF(L18<0,"ATENÇÃO","OK") -> OK | N18: 0 | O18: 0 | P18: 0 | Q18: 0 | R18: 0 | S18: 0 | T18: 0 | U18: 0 | V18: 0 | W18: 0 | X18: 0 | Y18: 0
C19: 16 | D19: JANTAR - CONFORME TERMO DE REFERÊNCIA - cidade catarinense a definir | G19: Refeição | I19: 20 | J19: 17.1 | K19: 0 | L19: =K19-(SUM(N19:Y19)) -> 0 | M19: =IF(L19<0,"ATENÇÃO","OK") -> OK | N19: 0 | O19: 0 | P19: 0 | Q19: 0 | R19: 0 | S19: 0 | T19: 0 | U19: 0 | V19: 0 | W19: 0 | X19: 0 | Y19: 0

Sheet CESFI
A1: PROCESSO: 0252/2014/UDESC | D1: OBJETO: FORNECIMENTO DE REFEIÇÃO PARA JOGOS, COFFEE BREAK E COQUETEL | K1: VIGÊNCIA DA ATA: 28/04/2014 até 28/04/2015 | N1: AF/OS nº xxxx/2014 Qtde. DT | O1: AF/OS nº xxxx/2014 Qtde. DT | P1: AF/OS nº xxxx/2014 Qtde. DT | Q1: AF/OS nº xxxx/2014 Qtde. DT | R1: AF/OS nº xxxx/2014 Qtde. DT | S1: AF/OS nº xxxx/2014 Qtde. DT | T1: AF/OS nº xxxx/2014 Qtde. DT | U1: AF/OS nº xxxx/2014 Qtde. DT | V1: AF/OS nº xxxx/2014 Qtde. DT | W1: AF/OS nº xxxx/2014 Qtde. DT | X1: AF/OS nº xxxx/2014 Qtde. DT | Y1: AF/OS nº xxxx/2014 Qtde. DT
A2: CENTRO PARTICIPANTE: CESFI
A3: FORNECEDOR | B3: LOTE | C3: ITEM | D3: PRODUTO - CARACTERÍSTICAS MÍNIMAS | E3: ELEMENTO | F3: MARCA | G3: UNIDADE | H3: Entrega (Dias) | I3: Pagto. (Dias) | J3: Preço UNITÁRIO (R$) | K3: Qtde LICITADA | L3: Saldo / Automático | M3: ALERTA | N3: ...../...../...... | O3: ...../...../...... | P3: ...../...../...... | Q3: ...../...../...... | R3: ...../...../...... | S3: ...../...../...... | T3: ...../...../...... | U3: ...../...../...... | V3: ...../...../...... | W3: ...../...../...... | X3: ...../...../...... | Y3: ...../...../......
A4: Villa Gourmet Eventos LTDA-EPP | B4: 1 | C4: 1 | D4: COFFEE BREAK TIPO 1 - CONFORME TERMO DE REFERÊNCIA - Fpolis | G4: Pessoa | I4: 20 | J4: 7.1 | K4: 0 | L4: =K4-(SUM(N4:Y4)) -> 0 | M4: =IF(L4<0,"ATENÇÃO","OK") -> OK | N4: 0 | O4: 0 | P4: 0 | Q4: 0 | R4: 0 | S4: 0 | T4: 0 | U4: 0 | V4: 0 | W4: 0 | X4: 0 | Y4: 0
C5: 2 | D5: COFFEE BREAK TIPO 2 - CONFORME TERMO DE REFERÊNCIA - Fpolis | G5: Pessoa | I5: 20 | J5: 8 | K5: 0 | L5: =K5-(SUM(N5:Y5)) -> 0 | M5: =IF(L5<0,"ATENÇÃO","OK") -> OK | N5: 0 | O5: 0 | P5: 0 | Q5: 0 | R5: 0 | S5: 0 | T5: 0 | U5: 0 | V5: 0 | W5: 0 | X5: 0 | Y5: 0
C6: 3 | D6: COFFEE BREAK TIPO 3 - CONFORME TERMO DE REFERÊNCIA - Fpolis | G6: Pessoa | I6: 20 | J6: 11.2 | K6: 0 | L6: =K6-(SUM(N6:Y6)) -> 0 | M6: =IF(L6<0,"ATENÇÃO","OK") -> OK | N6: 0 | O6: 0 | P6: 0 | Q6: 0 | R6: 0 | S6: 0 | T6: 0 | U6: 0 | V6: 0 | W6: 0 | X6: 0 | Y6: 0
C7: 4 | D7: COQUETEL - CONFORME TERMO DE REFERÊNCIA - Fpolis | G7: Pessoa | I7: 20 | J7: 25.98 | K7: 0 | L7: =K7-(SUM(N7:Y7)) -> 0 | M7: =IF(L7<0,"ATENÇÃO","OK") -> OK | N7: 0 | O7: 0 | P7: 0 | Q7: 0 | R7: 0 | S7: 0 | T7: 0 | U7: 0 | V7: 0 | W7: 0 | X7: 0 | Y7: 0
B8: 2 | C8: 5 | D8: COFFEE BREAK TIPO 2 - CONFORME TERMO DE REFERÊNCIA - Baln Camboriú | G8: Pessoa | I8: 20 | J8: 12 | K8: 180 | L8: =K8-(SUM(N8:Y8)) -> 180 | M8: =IF(L8<0,"ATENÇÃO","OK") -> OK | N8: 0 | O8: 0 | P8: 0 | Q8: 0 | R8: 0 | S8: 0 | T8: 0 | U8: 0 | V8: 0 | W8: 0 | X8: 0 | Y8: 0
B9: 3 | C9: 6 | D9: COFFEE BREAK TIPO 3 - CONFORME TERMO DE REFERÊNCIA - Laguna | G9: Pessoa | I9: 20 | J9: 11.76 | K9: 0 | L9: =K9-(SUM(N9:Y9)) -> 0 | M9: =IF(L9<0,"ATENÇÃO","OK") -> OK | N9: 0 | O9: 0 | P9: 0 | Q9: 0 | R9: 0 | S9: 0 | T9: 0 | U9: 0 | V9: 0 | W9: 0 | X9: 0 | Y9: 0
C10: 7 | D10: COQUETEL - CONFORME TERMO DE REFERÊNCIA - Laguna | G10: Pessoa | I10: 20 | J10: 26.82 | K10: 0 | L10: =K10-(SUM(N10:Y10)) -> 0 | M10: =IF(L10<0,"ATENÇÃO","OK") -> OK | N10: 0 | O10: 0 | P10: 0 | Q10: 0 | R10: 0 | S10: 0 | T10: 0 | U10: 0 | V10: 0 | W10: 0 | X10: 0 | Y10: 0
B11: 4 | C11: 8 | D11: CAFÉ DA MANHÃ - CONFORME TERMO DE REFERÊNCIA - Chapecó. | G11: Refeição | I11: 20 | J11: 7.23 | K11: 0 | L11: =K11-(SUM(N11:Y11)) -> 0 | M11: =IF(L11<0,"ATENÇÃO","OK") -> OK | N11: 0 | O11: 0 | P11: 0 | Q11: 0 | R11: 0 | S11: 0 | T11: 0 | U11: 0 | V11: 0 | W11: 0 | X11: 0 | Y11: 0
C12: 9 | D12: ALMOÇO - CONFORME TERMO DE REFERÊNCIA - Chapecó | G12: Refeição | I12: 20 | J12: 15.9 | K12: 0 | L12: =K12-(SUM(N12:Y12)) -> 0 | M12: =IF(L12<0,"ATENÇÃO","OK") -> OK | N12: 0 | O12: 0 | P12: 0 | Q12: 0 | R12: 0 | S12: 0 | T12: 0 | U12: 0 | V12: 0 | W12: 0 | X12: 0 | Y12: 0
C13: 10 | D13: JANTAR - CONFORME TERMO DE REFERÊNCIA - Chapecó | G13: Refeição | I13: 20 | J13: 15.9 | K13: 0 | L13: =K13-(SUM(N13:Y13)) -> 0 | M13: =IF(L13<0,"ATENÇÃO","OK") -> OK | N13: 0 | O13: 0 | P13: 0 | Q13: 0 | R13: 0 | S13: 0 | T13: 0 | U13: 0 | V13: 0 | W13: 0 | X13: 0 | Y13: 0
B14: 5 | C14: 11 | D14: CAFÉ DA MANHÃ - CONFORME TERMO DE REFERÊNCIA - Lages | G14: Refeição | I14: 20 | J14: 4.94 | K14: 0 | L14: =K14-(SUM(N14:Y14)) -> 0 | M14: =IF(L14<0,"ATENÇÃO","OK") -> OK | N14: 0 | O14: 0 | P14: 0 | Q14: 0 | R14: 0 | S14: 0 | T14: 0 | U14: 0 | V14: 0 | W14: 0 | X14: 0 | Y14: 0
C15: 12 | D15: ALMOÇO - CONFORME TERMO DE REFERÊNCIA - Lages | G15: Refeição | I15: 20 | J15: 13.1 | K15: 0 | L15: =K15-(SUM(N15:Y15)) -> 0 | M15: =IF(L15<0,"ATENÇÃO","OK") -> OK | N15: 0 | O15: 0 | P15: 0 | Q15: 0 | R15: 0 | S15: 0 | T15: 0 | U15: 0 | V15: 0 | W15: 0 | X15: 0 | Y15: 0
C16: 13 | D16: JANTAR - CONFORME TERMO DE REFERÊNCIA - Lages | G16: Refeição | I16: 20 | J16: 13.1 | K16: 0 | L16: =K16-(SUM(N16:Y16)) -> 0 | M16: =IF(L16<0,"ATENÇÃO","OK") -> OK | N16: 0 | O16: 0 | P16: 0 | Q16: 0 | R16: 0 | S16: 0 | T16: 0 | U16: 0 | V16: 0 | W16: 0 | X16: 0 | Y16: 0
B17: 6 | C17: 14 | D17: CAFÉ DA MANHÃ - CONFORME TERMO DE REFERÊNCIA - cidade catarinense a definir | G17: Refeição | I17: 20 | J17: 7.92 | K17: 0 | L17: =K17-(SUM(N17:Y17)) -> 0 | M17: =IF(L17<0,"ATENÇÃO","OK") -> OK | N17: 0 | O17: 0 | P17: 0 | Q17: 0 | R17: 0 | S17: 0 | T17: 0 | U17: 0 | V17: 0 | W17: 0 | X17: 0 | Y17: 0
C18: 15 | D18: ALMOÇO - CONFORME TERMO DE REFERÊNCIA - cidade catarinense a definir | G18: Refeição | I18: 20 | J18: 17.1 | K18: 0 | L18: =K18-(SUM(N18:Y18)) -> 0 | M18: =IF(L18<0,"ATENÇÃO","OK") -> OK | N18: 0 | O18: 0 | P18: 0 | Q18: 0 | R18: 0 | S18: 0 | T18: 0 | U18: 0 | V18: 0 | W18: 0 | X18: 0 | Y18: 0
C19: 16 | D19: JANTAR - CONFORME TERMO DE REFERÊNCIA - cidade catarinense a definir | G19: Refeição | I19: 20 | J19: 17.1 | K19: 0 | L19: =K19-(SUM(N19:Y19)) -> 0 | M19: =IF(L19<0,"ATENÇÃO","OK") -> OK | N19: 0 | O19: 0 | P19: 0 | Q19: 0 | R19: 0 | S19: 0 | T19: 0 | U19: 0 | V19: 0 | W19: 0 | X19: 0 | Y19: 0

Sheet CERES
A1: PROCESSO: 0252/2014/UDESC | D1: OBJETO: FORNECIMENTO DE REFEIÇÃO PARA JOGOS, COFFEE BREAK E COQUETEL | K1: VIGÊNCIA DA ATA: 28/04/2014 até 28/04/2015 | N1: AF/OS nº 635/2014 Qtde. DT | O1: AF/OS nº xxxx/2014 Qtde. DT | P1: AF/OS nº xxxx/2014 Qtde. DT | Q1: AF/OS nº xxxx/2014 Qtde. DT | R1: AF/OS nº xxxx/2014 Qtde. DT | S1: AF/OS nº xxxx/2014 Qtde. DT | T1: AF/OS nº xxxx/2014 Qtde. DT | U1: AF/OS nº xxxx/2014 Qtde. DT | V1: AF/OS nº xxxx/2014 Qtde. DT | W1: AF/OS nº xxxx/2014 Qtde. DT | X1: AF/OS nº xxxx/2014 Qtde. DT | Y1: AF/OS nº xxxx/2014 Qtde. DT
A2: CENTRO PARTICIPANTE: CERES
A3: FORNECEDOR | B3: LOTE | C3: ITEM | D3: PRODUTO - CARACTERÍSTICAS MÍNIMAS | E3: ELEMENTO | F3: MARCA | G3: UNIDADE | H3: Entrega (Dias) | I3: Pagto. (Dias) | J3: Preço UNITÁRIO (R$) | K3: Qtde LICITADA | L3: Saldo / Automático | M3: ALERTA | N3: ...../...../...... | O3: ...../...../...... | P3: ...../...../...... | Q3: ...../...../...... | R3: ...../...../...... | S3: ...../...../...... | T3: ...../...../...... | U3: ...../...../...... | V3: ...../...../...... | W3: ...../...../...... | X3: ...../...../...... | Y3: ...../...../......
A4: Villa Gourmet Eventos LTDA-EPP | B4: 1 | C4: 1 | D4: COFFEE BREAK TIPO 1 - CONFORME TERMO DE REFERÊNCIA - Fpolis | G4: Pessoa | I4: 20 | J4: 7.1 | K4: 0 | L4: =K4-(SUM(N4:Y4)) -> 0 | M4: =IF(L4<0,"ATENÇÃO","OK") -> OK | N4: 0 | O4: 0 | P4: 0 | Q4: 0 | R4: 0 | S4: 0 | T4: 0 | U4: 0 | V4: 0 | W4: 0 | X4: 0 | Y4: 0
C5: 2 | D5: COFFEE BREAK TIPO 2 - CONFORME TERMO DE REFERÊNCIA - Fpolis | G5: Pessoa | I5: 20 | J5: 8 | K5: 0 | L5: =K5-(SUM(N5:Y5)) -> 0 | M5: =IF(L5<0,"ATENÇÃO","OK") -> OK | N5: 0 | O5: 0 | P5: 0 | Q5: 0 | R5: 0 | S5: 0 | T5: 0 | U5: 0 | V5: 0 | W5: 0 | X5: 0 | Y5: 0
C6: 3 | D6: COFFEE BREAK TIPO 3 - CONFORME TERMO DE REFERÊNCIA - Fpolis | G6: Pessoa | I6: 20 | J6: 11.2 | K6: 0 | L6: =K6-(SUM(N6:Y6)) -> 0 | M6: =IF(L6<0,"ATENÇÃO","OK") -> OK | N6: 0 | O6: 0 | P6: 0 | Q6: 0 | R6: 0 | S6: 0 | T6: 0 | U6: 0 | V6: 0 | W6: 0 | X6: 0 | Y6: 0
C7: 4 | D7: COQUETEL - CONFORME TERMO DE REFERÊNCIA - Fpolis | G7: Pessoa | I7: 20 | J7: 25.98 | K7: 0 | L7: =K7-(SUM(N7:Y7)) -> 0 | M7: =IF(L7<0,"ATENÇÃO","OK") -> OK | N7: 0 | O7: 0 | P7: 0 | Q7: 0 | R7: 0 | S7: 0 | T7: 0 | U7: 0 | V7: 0 | W7: 0 | X7: 0 | Y7: 0
B8: 2 | C8: 5 | D8: COFFEE BREAK TIPO 2 - CONFORME TERMO DE REFERÊNCIA - Baln Camboriú | G8: Pessoa | I8: 20 | J8: 12 | K8: 0 | L8: =K8-(SUM(N8:Y8)) -> 0 | M8: =IF(L8<0,"ATENÇÃO","OK") -> OK | N8: 0 | O8: 0 | P8: 0 | Q8: 0 | R8: 0 | S8: 0 | T8: 0 | U8: 0 | V8: 0 | W8: 0 | X8: 0 | Y8: 0
B9: 3 | C9: 6 | D9: COFFEE BREAK TIPO 3 - CONFORME TERMO DE REFERÊNCIA - Laguna | G9: Pessoa | I9: 20 | J9: 11.76 | K9: 2600 | L9: =K9-(SUM(N9:Y9)) -> 2450 | M9: =IF(L9<0,"ATENÇÃO","OK") -> OK | N9: 150 | O9: 0 | P9: 0 | Q9: 0 | R9: 0 | S9: 0 | T9: 0 | U9: 0 | V9: 0 | W9: 0 | X9: 0 | Y9: 0
C10: 7 | D10: COQUETEL - CONFORME TERMO DE REFERÊNCIA - Laguna | G10: Pessoa | I10: 20 | J10: 26.82 | K10: 150 | L10: =K10-(SUM(N10:Y10)) -> 150 | M10: =IF(L10<0,"ATENÇÃO","OK") -> OK | N10: 0 | O10: 0 | P10: 0 | Q10: 0 | R10: 0 | S10: 0 | T10: 0 | U10: 0 | V10: 0 | W10: 0 | X10: 0 | Y10: 0
B11: 4 | C11: 8 | D11: CAFÉ DA MANHÃ - CONFORME TERMO DE REFERÊNCIA - Chapecó. | G11: Refeição | I11: 20 | J11: 7.23 | K11: 0 | L11: =K11-(SUM(N11:Y11)) -> 0 | M11: =IF(L11<0,"ATENÇÃO","OK") -> OK | N11: 0 | O11: 0 | P11: 0 | Q11: 0 | R11: 0 | S11: 0 | T11: 0 | U11: 0 | V11: 0 | W11: 0 | X11: 0 | Y11: 0
C12: 9 | D12: ALMOÇO - CONFORME TERMO DE REFERÊNCIA - Chapecó | G12: Refeição | I12: 20 | J12: 15.9 | K12: 0 | L12: =K12-(SUM(N12:Y12)) -> 0 | M12: =IF(L12<0,"ATENÇÃO","OK") -> OK | N12: 0 | O12: 0 | P12: 0 | Q12: 0 | R12: 0 | S12: 0 | T12: 0 | U12: 0 | V12: 0 | W12: 0 | X12: 0 | Y12: 0
C13: 10 | D13: JANTAR - CONFORME TERMO DE REFERÊNCIA - Chapecó | G13: Refeição | I13: 20 | J13: 15.9 | K13: 0 | L13: =K13-(SUM(N13:Y13)) -> 0 | M13: =IF(L13<0,"ATENÇÃO","OK") -> OK | N13: 0 | O13: 0 | P13: 0 | Q13: 0 | R13: 0 | S13: 0 | T13: 0 | U13: 0 | V13: 0 | W13: 0 | X13: 0 | Y13: 0
B14: 5 | C14: 11 | D14: CAFÉ DA MANHÃ - CONFORME TERMO DE REFERÊNCIA - Lages | G14: Refeição | I14: 20 | J14: 4.94 | K14: 0 | L14: =K14-(SUM(N14:Y14)) -> 0 | M14: =IF(L14<0,"ATENÇÃO","OK") -> OK | N14: 0 | O14: 0 | P14: 0 | Q14: 0 | R14: 0 | S14: 0 | T14: 0 | U14: 0 | V14: 0 | W14: 0 | X14: 0 | Y14: 0
C15: 12 | D15: ALMOÇO - CONFORME TERMO DE REFERÊNCIA - Lages | G15: Refeição | I15: 20 | J15: 13.1 | K15: 0 | L15: =K15-(SUM(N15:Y15)) -> 0 | M15: =IF(L15<0,"ATENÇÃO","OK") -> OK | N15: 0 | O15: 0 | P15: 0 | Q15: 0 | R15: 0 | S15: 0 | T15: 0 | U15: 0 | V15: 0 | W15: 0 | X15: 0 | Y15: 0
C16: 13 | D16: JANTAR - CONFORME TERMO DE REFERÊNCIA - Lages | G16: Refeição | I16: 20 | J16: 13.1 | K16: 0 | L16: =K16-(SUM(N16:Y16)) -> 0 | M16: =IF(L16<0,"ATENÇÃO","OK") -> OK | N16: 0 | O16: 0 | P16: 0 | Q16: 0 | R16: 0 | S16: 0 | T16: 0 | U16: 0 | V16: 0 | W16: 0 | X16: 0 | Y16: 0
B17: 6 | C17: 14 | D17: CAFÉ DA MANHÃ - CONFORME TERMO DE REFERÊNCIA - cidade catarinense a definir | G17: Refeição | I17: 20 | J17: 7.92 | K17: 0 | L17: =K17-(SUM(N17:Y17)) -> 0 | M17: =IF(L17<0,"ATENÇÃO","OK") -> OK | N17: 0 | O17: 0 | P17: 0 | Q17: 0 | R17: 0 | S17: 0 | T17: 0 | U17: 0 | V17: 0 | W17: 0 | X17: 0 | Y17: 0
C18: 15 | D18: ALMOÇO - CONFORME TERMO DE REFERÊNCIA - cidade catarinense a definir | G18: Refeição | I18: 20 | J18: 17.1 | K18: 0 | L18: =K18-(SUM(N18:Y18)) -> 0 | M18: =IF(L18<0,"ATENÇÃO","OK") -> OK | N18: 0 | O18: 0 | P18: 0 | Q18: 0 | R18: 0 | S18: 0 | T18: 0 | U18: 0 | V18: 0 | W18: 0 | X18: 0 | Y18: 0
C19: 16 | D19: JANTAR - CONFORME TERMO DE REFERÊNCIA - cidade catarinense a definir | G19: Refeição | I19: 20 | J19: 17.1 | K19: 0 | L19: =K19-(SUM(N19:Y19)) -> 0 | M19: =IF(L19<0,"ATENÇÃO","OK") -> OK | N19: 0 | O19: 0 | P19: 0 | Q19: 0 | R19: 0 | S19: 0 | T19: 0 | U19: 0 | V19: 0 | W19: 0 | X19: 0 | Y19: 0

Sheet GESTOR
A1: PROCESSO: 0252/2014/UDESC | D1: OBJETO: FORNECIMENTO DE REFEIÇÃO PARA JOGOS, COFFEE BREAK E COQUETEL | K1: VIGÊNCIA DA ATA: 28/04/2014 até 28/04/2015
A2: CENTRO PARTICIPANTE: REITORIA + 7 CENTROS
A3: FORNECEDOR | B3: LOTE | C3: ITEM | D3: PRODUTO - CARACTERÍSTICAS MÍNIMAS | E3: ELEMENTO | F3: MARCA | G3: UNIDADE | H3: Entrega (Dias) | I3: Pagto. (Dias) | J3: Preço UNITÁRIO (R$) | K3: Qtde LICITADA | L3: Quantidade Utilizada | M3: SALDO
A4: Villa Gourmet Eventos LTDA-EPP | B4: 1 | C4: 1 | D4: COFFEE BREAK TIPO 1 - CONFORME TERMO DE REFERÊNCIA - Fpolis | G4: Pessoa | I4: 20 | J4: 7.1 | K4: =REIT!K4+ESAG!K4+CEART!K4+FAED!K4+CEAD!K4+CEFID!K4+CESFI!K4+CERES!K4 -> 580 | L4: =(REIT!K4-REIT!L4)+(ESAG!K4-ESAG!L4)+(CEART!K4-CEART!L4)+(FAED!K4-FAED!L4)+(CEAD!K4-CEAD!L4)+(CEFID!K4-CEFID!L4)+(CESFI!K4-CESFI!L4)+(CERES!K4-CERES!L4) -> 320 | M4: =K4-L4 -> 260
C5: 2 | D5: COFFEE BREAK TIPO 2 - CONFORME TERMO DE REFERÊNCIA - Fpolis | G5: Pessoa | I5: 20 | J5: 8 | K5: =REIT!K5+ESAG!K5+CEART!K5+FAED!K5+CEAD!K5+CEFID!K5+CESFI!K5+CERES!K5 -> 10580 | L5: =(REIT!K5-REIT!L5)+(ESAG!K5-ESAG!L5)+(CEART!K5-CEART!L5)+(FAED!K5-FAED!L5)+(CEAD!K5-CEAD!L5)+(CEFID!K5-CEFID!L5)+(CESFI!K5-CESFI!L5)+(CERES!K5-CERES!L5) -> 2115 | M5: =K5-L5 -> 8465
C6: 3 | D6: COFFEE BREAK TIPO 3 - CONFORME TERMO DE REFERÊNCIA - Fpolis | G6: Pessoa | I6: 20 | J6: 11.2 | K6: =REIT!K6+ESAG!K6+CEART!K6+FAED!K6+CEAD!K6+CEFID!K6+CESFI!K6+CERES!K6 -> 1880 | L6: =(REIT!K6-REIT!L6)+(ESAG!K6-ESAG!L6)+(CEART!K6-CEART!L6)+(FAED!K6-FAED!L6)+(CEAD!K6-CEAD!L6)+(CEFID!K6-CEFID!L6)+(CESFI!K6-CESFI!L6)+(CERES!K6-CERES!L6) -> 620 | M6: =K6-L6 -> 1260
C7: 4 | D7: COQUETEL - CONFORME TERMO DE REFERÊNCIA - Fpolis | G7: Pessoa | I7: 20 | J7: 25.98 | K7: =REIT!K7+ESAG!K7+CEART!K7+FAED!K7+CEAD!K7+CEFID!K7+CESFI!K7+CERES!K7 -> 700 | L7: =(REIT!K7-REIT!L7)+(ESAG!K7-ESAG!L7)+(CEART!K7-CEART!L7)+(FAED!K7-FAED!L7)+(CEAD!K7-CEAD!L7)+(CEFID!K7-CEFID!L7)+(CESFI!K7-CESFI!L7)+(CERES!K7-CERES!L7) -> 125 | M7: =K7-L7 -> 575
B8: 2 | C8: 5 | D8: COFFEE BREAK TIPO 2 - CONFORME TERMO DE REFERÊNCIA - Baln Camboriú | G8: Pessoa | I8: 20 | J8: 12 | K8: =REIT!K8+ESAG!K8+CEART!K8+FAED!K8+CEAD!K8+CEFID!K8+CESFI!K8+CERES!K8 -> 180 | L8: =(REIT!K8-REIT!L8)+(ESAG!K8-ESAG!L8)+(CEART!K8-CEART!L8)+(FAED!K8-FAED!L8)+(CEAD!K8-CEAD!L8)+(CEFID!K8-CEFID!L8)+(CESFI!K8-CESFI!L8)+(CERES!K8-CERES!L8) -> 0 | M8: =K8-L8 -> 180
B9: 3 | C9: 6 | D9: COFFEE BREAK TIPO 3 - CONFORME TERMO DE REFERÊNCIA - Laguna | G9: Pessoa | I9: 20 | J9: 11.76 | K9: =REIT!K9+ESAG!K9+CEART!K9+FAED!K9+CEAD!K9+CEFID!K9+CESFI!K9+CERES!K9 -> 2600 | L9: =(REIT!K9-REIT!L9)+(ESAG!K9-ESAG!L9)+(CEART!K9-CEART!L9)+(FAED!K9-FAED!L9)+(CEAD!K9-CEAD!L9)+(CEFID!K9-CEFID!L9)+(CESFI!K9-CESFI!L9)+(CERES!K9-CERES!L9) -> 150 | M9: =K9-L9 -> 2450
C10: 7 | D10: COQUETEL - CONFORME TERMO DE REFERÊNCIA - Laguna | G10: Pessoa | I10: 20 | J10: 26.82 | K10: =REIT!K10+ESAG!K10+CEART!K10+FAED!K10+CEAD!K10+CEFID!K10+CESFI!K10+CERES!K10 -> 150 | L10: =(REIT!K10-REIT!L10)+(ESAG!K10-ESAG!L10)+(CEART!K10-CEART!L10)+(FAED!K10-FAED!L10)+(CEAD!K10-CEAD!L10)+(CEFID!K10-CEFID!L10)+(CESFI!K10-CESFI!L10)+(CERES!K10-CERES!L10) -> 0 | M10: =K10-L10 -> 150
B11: 4 | C11: 8 | D11: CAFÉ DA MANHÃ - CONFORME TERMO DE REFERÊNCIA - Chapecó. | G11: Refeição | I11: 20 | J11: 7.23 | K11: =REIT!K11+ESAG!K11+CEART!K11+FAED!K11+CEAD!K11+CEFID!K11+CESFI!K11+CERES!K11 -> 900 | L11: =(REIT!K11-REIT!L11)+(ESAG!K11-ESAG!L11)+(CEART!K11-CEART!L11)+(FAED!K11-FAED!L11)+(CEAD!K11-CEAD!L11)+(CEFID!K11-CEFID!L11)+(CESFI!K11-CESFI!L11)+(CERES!K11-CERES!L11) -> 0 | M11: =K11-L11 -> 900
C12: 9 | D12: ALMOÇO - CONFORME TERMO DE REFERÊNCIA - Chapecó | G12: Refeição | I12: 20 | J12: 15.9 | K12: =REIT!K12+ESAG!K12+CEART!K12+FAED!K12+CEAD!K12+CEFID!K12+CESFI!K12+CERES!K12 -> 900 | L12: =(REIT!K12-REIT!L12)+(ESAG!K12-ESAG!L12)+(CEART!K12-CEART!L12)+(FAED!K12-FAED!L12)+(CEAD!K12-CEAD!L12)+(CEFID!K12-CEFID!L12)+(CESFI!K12-CESFI!L12)+(CERES!K12-CERES!L12) -> 0 | M12: =K12-L12 -> 900
C13: 10 | D13: JANTAR - CONFORME TERMO DE REFERÊNCIA - Chapecó | G13: Refeição | I13: 20 | J13: 15.9 | K13: =REIT!K13+ESAG!K13+CEART!K13+FAED!K13+CEAD!K13+CEFID!K13+CESFI!K13+CERES!K13 -> 900 | L13: =(REIT!K13-REIT!L13)+(ESAG!K13-ESAG!L13)+(CEART!K13-CEART!L13)+(FAED!K13-FAED!L13)+(CEAD!K13-CEAD!L13)+(CEFID!K13-CEFID!L13)+(CESFI!K13-CESFI!L13)+(CERES!K13-CERES!L13) -> 0 | M13: =K13-L13 -> 900
B14: 5 | C14: 11 | D14: CAFÉ DA MANHÃ - CONFORME TERMO DE REFERÊNCIA - Lages | G14: Refeição | I14: 20 | J14: 4.94 | K14: =REIT!K14+ESAG!K14+CEART!K14+FAED!K14+CEAD!K14+CEFID!K14+CESFI!K14+CERES!K14 -> 4800 | L14: =(REIT!K14-REIT!L14)+(ESAG!K14-ESAG!L14)+(CEART!K14-CEART!L14)+(FAED!K14-FAED!L14)+(CEAD!K14-CEAD!L14)+(CEFID!K14-CEFID!L14)+(CESFI!K14-CESFI!L14)+(CERES!K14-CERES!L14) -> 4800 | M14: =K14-L14 -> 0
C15: 12 | D15: ALMOÇO - CONFORME TERMO DE REFERÊNCIA - Lages | G15: Refeição | I15: 20 | J15: 13.1 | K15: =REIT!K15+ESAG!K15+CEART!K15+FAED!K15+CEAD!K15+CEFID!K15+CESFI!K15+CERES!K15 -> 4800 | L15: =(REIT!K15-REIT!L15)+(ESAG!K15-ESAG!L15)+(CEART!K15-CEART!L15)+(FAED!K15-FAED!L15)+(CEAD!K15-CEAD!L15)+(CEFID!K15-CEFID!L15)+(CESFI!K15-CESFI!L15)+(CERES!K15-CERES!L15) -> 4800 | M15: =K15-L15 -> 0
C16: 13 | D16: JANTAR - CONFORME TERMO DE REFERÊNCIA - Lages | G16: Refeição | I16: 20 | J16: 13.1 | K16: =REIT!K16+ESAG!K16+CEART!K16+FAED!K16+CEAD!K16+CEFID!K16+CESFI!K16+CERES!K16 -> 4800 | L16: =(REIT!K16-REIT!L16)+(ESAG!K16-ESAG!L16)+(CEART!K16-CEART!L16)+(FAED!K16-FAED!L16)+(CEAD!K16-CEAD!L16)+(CEFID!K16-CEFID!L16)+(CESFI!K16-CESFI!L16)+(CERES!K16-CERES!L16) -> 4800 | M16: =K16-L16 -> 0
B17: 6 | C17: 14 | D17: CAFÉ DA MANHÃ - CONFORME TERMO DE REFERÊNCIA - cidade catarinense a definir | G17: Refeição | I17: 20 | J17: 7.92 | K17: =REIT!K17+ESAG!K17+CEART!K17+FAED!K17+CEAD!K17+CEFID!K17+CESFI!K17+CERES!K17 -> 940 | L17: =(REIT!K17-REIT!L17)+(ESAG!K17-ESAG!L17)+(CEART!K17-CEART!L17)+(FAED!K17-FAED!L17)+(CEAD!K17-CEAD!L17)+(CEFID!K17-CEFID!L17)+(CESFI!K17-CESFI!L17)+(CERES!K17-CERES!L17) -> 0 | M17: =K17-L17 -> 940
C18: 15 | D18: ALMOÇO - CONFORME TERMO DE REFERÊNCIA - cidade catarinense a definir | G18: Refeição | I18: 20 | J18: 17.1 | K18: =REIT!K18+ESAG!K18+CEART!K18+FAED!K18+CEAD!K18+CEFID!K18+CESFI!K18+CERES!K18 -> 940 | L18: =(REIT!K18-REIT!L18)+(ESAG!K18-ESAG!L18)+(CEART!K18-CEART!L18)+(FAED!K18-FAED!L18)+(CEAD!K18-CEAD!L18)+(CEFID!K18-CEFID!L18)+(CESFI!K18-CESFI!L18)+(CERES!K18-CERES!L18) -> 0 | M18: =K18-L18 -> 940
C19: 16 | D19: JANTAR - CONFORME TERMO DE REFERÊNCIA - cidade catarinense a definir | G19: Refeição | I19: 20 | J19: 17.1 | K19: =REIT!K19+ESAG!K19+CEART!K19+FAED!K19+CEAD!K19+CEFID!K19+CESFI!K19+CERES!K19 -> 940 | L19: =(REIT!K19-REIT!L19)+(ESAG!K19-ESAG!L19)+(CEART!K19-CEART!L19)+(FAED!K19-FAED!L19)+(CEAD!K19-CEAD!L19)+(CEFID!K19-CEFID!L19)+(CESFI!K19-CESFI!L19)+(CERES!K19-CERES!L19) -> 0 | M19: =K19-L19 -> 940

Sheet Modelo Anexo II IN 002_2014
A1: ANEXO II – Instrução Normativa n.º 002/2014
A3: DECLARAÇÃO DE DISPONIBILIDADE DE QUANTITATIVO PARA EMISSÃO DE AUTORIZAÇÃO DE FORNECIMENTO/ORDEM DE SERVIÇO – SISTEMA DE REGISTRO DE PREÇOS/UDESC
A5: Processo CPA n.º XXXX/2014
A6: Pregão n.º XXXX/2014
A7: Objeto:
A8: Vigência da Ata de Registro de Preços: XX/XX/XXXX até XX/XX/XXXXX
A10: Declaro que o Centro XXXXXXX, participante da Ata de Registro de Preços proveniente do Pregão n.º XXXX/2014, possui saldo em seu quantitativo para a emissão da Autorização de Fornecimento/Ordem de Serviço n.º XXXX/2014, no valor de R$ X.XXX,XX, a ser firmada com a empresa XXXXXXX, restando ainda em sua cota para próximas contratações com o referido fornecedor os seguintes quantitativos:
A12: Lote | B12: Item | C12: Descrição Resumida | D12: Unidade | E12: Valor Unitário (R$) | F12: Saldo Quantitativo (antes da emissão desta AF/OS) | G12: Quantitativo da AF/OS | H12: Saldo Atualizado
A19: __________________, ____/_____/____
A20: Cidade Data
A24: _____________________________________________
A25: Diretor(a) de Administração
A26: (carimbo e assinatura)
