Workbook
Name diasuteis: #REF!
Name diasuteis: #REF!
Name diasuteis: #REF!
Name diasuteis: #REF!
Name diasuteis: #REF!
Name diasuteis: #REF!
Name diasuteis: #REF!
Name diasuteis: #REF!
Name diasuteis: #REF!
Name diasuteis: #REF!
Name diasuteis: #REF!
Name diasuteis: #REF!
Name Ferias: #REF!
Name Ferias: #REF!
Name Ferias: #REF!
Name Ferias: #REF!
Name Ferias: #REF!
Name Ferias: #REF!
Name Ferias: #REF!
Name Ferias: #REF!
Name Ferias: #REF!
Name Ferias: #REF!
Name Ferias: #REF!
Name RD: OFFSET(#REF!,(MATCH(SMALL(#REF!,ROW()-10),#REF!,0)-1),0)
Name RD: OFFSET(#REF!,(MATCH(SMALL(#REF!,ROW()-10),#REF!,0)-1),0)
Name RD: OFFSET(#REF!,(MATCH(SMALL(#REF!,ROW()-10),#REF!,0)-1),0)
Name RD: OFFSET(#REF!,(MATCH(SMALL(#REF!,ROW()-10),#REF!,0)-1),0)
Name RD: OFFSET(#REF!,(MATCH(SMALL(#REF!,ROW()-10),#REF!,0)-1),0)
Name RD: OFFSET(#REF!,(MATCH(SMALL(#REF!,ROW()-10),#REF!,0)-1),0)
Name RD: OFFSET(#REF!,(MATCH(SMALL(#REF!,ROW()-10),#REF!,0)-1),0)
Name RD: OFFSET(#REF!,(MATCH(SMALL(#REF!,ROW()-10),#REF!,0)-1),0)
Name RD: OFFSET(#REF!,(MATCH(SMALL(#REF!,ROW()-10),#REF!,0)-1),0)
Name RD: OFFSET(#REF!,(MATCH(SMALL(#REF!,ROW()-10),#REF!,0)-1),0)
Name RD: OFFSET(#REF!,(MATCH(SMALL(#REF!,ROW()-10),#REF!,0)-1),0)

Sheet CCT
A1: PROCESSO: 0480/2014/UDESC | D1: OBJETO: Aquisição de material esportivo | J1: VIGÊNCIA DA ATA: 11/06/2014 até 11/06/2015 | N1: AF/OS nº xxxx/2014 Qtde. DT | O1: AF/OS nº xxxx/2014 Qtde. DT | P1: AF/OS nº xxxx/2014 Qtde. DT | Q1: AF/OS nº xxxx/2014 Qtde. DT | R1: AF/OS nº xxxx/2014 Qtde. DT | S1: AF/OS nº xxxx/2014 Qtde. DT | T1: AF/OS nº xxxx/2014 Qtde. DT | U1: AF/OS nº xxxx/2014 Qtde. DT | V1: AF/OS nº xxxx/2014 Qtde. DT | W1: AF/OS nº xxxx/2014 Qtde. DT | X1: AF/OS nº xxxx/2014 Qtde. DT | Y1: AF/OS nº xxxx/2014 Qtde. DT
A2: CENTRO PARTICIPANTE:
A3: FORNECEDOR | B3: LOTE | C3: ITEM | D3: PRODUTO - CARACTERÍSTICAS MÍNIMAS | E3: DETALHAMENTO | F3: MARCA/MODELO | G3: UNIDADE | H3: Entrega (Dias) | I3: Pagto. (Dias) | J3: Preço UNITÁRIO (R$) | K3: Qtde LICITADA | L3: Saldo / Automático | M3: ALERTA | N3: ...../...../...... | O3: ...../...../...... | P3: ...../...../...... | Q3: ...../...../...... | R3: ...../...../...... | S3: ...../...../...... | T3: ...../...../...... | U3: ...../...../...... | V3: ...../...../...... | W3: ...../...../...... | X3: ...../...../...... | Y3: ...../...../......
A4: ZERMIANI COMERCIO DE ARTIGOS ESPORTIVOS LTDA ME | B4: 1 | C4: 1 | D4: ANILHAS, KETTLEBELL, Kettlebell 4kg: anilha em ferro, utilizada para exercícios resistidos específicos. | E4: 52.10 | F4: WS | G4: PECA | H4: 20 | I4: 20 | J4: 47.9 | L4: =K4-(SUM(N4:Y4)) -> 0 | M4: =IF(L4<0,"ATENÇÃO","OK") -> OK | N4: 0 | O4: 0 | P4: 0 | Q4: 0 | R4: 0 | S4: 0 | T4: 0 | U4: 0 | V4: 0 | W4: 0 | X4: 0 | Y4: 0
C5: 2 | D5: ANILHAS, KETTLEBELL, Kettlebell 6kg: anilha em ferro, utilizada para exercícios resistidos específicos. | E5: 52.10 | F5: WS | G5: PECA | H5: 20 | I5: 20 | J5: 72.9 | L5: =K5-(SUM(N5:Y5)) -> 0 | M5: =IF(L5<0,"ATENÇÃO","OK") -> OK | N5: 0 | O5: 0 | P5: 0 | Q5: 0 | R5: 0 | S5: 0 | T5: 0 | U5: 0 | V5: 0 | W5: 0 | X5: 0 | Y5: 0
C6: 3 | D6: ANILHAS, KETTLEBELL, Kettlebell 8kg: anilha em ferro, utilizada para exercícios resistidos específicos. | E6: 52.10 | F6: WS | G6: PECA | H6: 20 | I6: 20 | J6: 96.9 | L6: =K6-(SUM(N6:Y6)) -> 0 | M6: =IF(L6<0,"ATENÇÃO","OK") -> OK | N6: 0 | O6: 0 | P6: 0 | Q6: 0 | R6: 0 | S6: 0 | T6: 0 | U6: 0 | V6: 0 | W6: 0 | X6: 0 | Y6: 0
C7: 4 | D7: BARRA PARA APOIO, EM W PARA ANILHAS EM ACO CROMADO, Barra "w": barra maciça cromada, com pegadores emborrachados, para a realização de exercícios de musculação diversos. Dimensões: 1200mm X 30mm | E7: 52.10 | F7: WS | G7: PECA | H7: 20 | I7: 20 | J7: 170 | L7: =K7-(SUM(N7:Y7)) -> 0 | M7: =IF(L7<0,"ATENÇÃO","OK") -> OK | N7: 0 | O7: 0 | P7: 0 | Q7: 0 | R7: 0 | S7: 0 | T7: 0 | U7: 0 | V7: 0 | W7: 0 | X7: 0 | Y7: 0
C8: 5 | D8: BARRA PARA APOIO, EM W PARA ANILHAS EM ACO CROMADO, TAMANHO: 1,20 m com Rosca. Barra maciça cromada e recartilhada. Cromada em sistema de banho com tecnologia e proteção ao meio ambiente. Indicada para execução de flexões, bíceps e tríceps. Composição: em aço 1020 polido. Dimensões aproximadas (C): 120 cm. Garantia do fabricante: 12 meses contra defeito de fabricação. | E8: 52.10 | F8: WS | G8: PECA | H8: 20 | I8: 20 | J8: 149 | K8: 2 | L8: =K8-(SUM(N8:Y8)) -> 2 | M8: =IF(L8<0,"ATENÇÃO","OK") -> OK | N8: 0 | O8: 0 | P8: 0 | Q8: 0 | R8: 0 | S8: 0 | T8: 0 | U8: 0 | V8: 0 | W8: 0 | X8: 0 | Y8: 0
C9: 6 | D9: BARRA PARA APOIO, MEDINDO 1,20, Barra "H": barra maciça cromada, com pegadores emborrachados, para a realização de exercícios de musculação diversos. dimensões: 1200mm X 30mm. | E9: 52.10 | F9: WS | G9: PECA | H9: 20 | I9: 20 | J9: 196 | L9: =K9-(SUM(N9:Y9)) -> 0 | M9: =IF(L9<0,"ATENÇÃO","OK") -> OK | N9: 0 | O9: 0 | P9: 0 | Q9: 0 | R9: 0 | S9: 0 | T9: 0 | U9: 0 | V9: 0 | W9: 0 | X9: 0 | Y9: 0
C10: 7 | D10: HALTERES, COM PESO DE 0,5 KG, Halter fabricado em ferro fundido e revestido por uma camada de vinil PVC colorida. Peso 0,5kg. | E10: 52.10 | F10: WS | G10: PECA | H10: 20 | I10: 20 | J10: 7.8 | L10: =K10-(SUM(N10:Y10)) -> 0 | M10: =IF(L10<0,"ATENÇÃO","OK") -> OK | N10: 0 | O10: 0 | P10: 0 | Q10: 0 | R10: 0 | S10: 0 | T10: 0 | U10: 0 | V10: 0 | W10: 0 | X10: 0 | Y10: 0
C11: 8 | D11: HALTERES, COM PESO DE 1,0 KG, Halter fabricado em ferro fundido e revestido por uma camada de vinil PVC colorida. Peso 1,0kg. | E11: 52.10 | F11: WS | G11: PECA | H11: 20 | I11: 20 | J11: 14.5 | L11: =K11-(SUM(N11:Y11)) -> 0 | M11: =IF(L11<0,"ATENÇÃO","OK") -> OK | N11: 0 | O11: 0 | P11: 0 | Q11: 0 | R11: 0 | S11: 0 | T11: 0 | U11: 0 | V11: 0 | W11: 0 | X11: 0 | Y11: 0
C12: 9 | D12: HALTERES, COM PESO DE 10 KG, Halter fabricado em ferro fundido e revestido por uma camada de vinil PVC colorida. Peso 10,0kg. | E12: 52.10 | F12: WS | G12: PECA | H12: 20 | I12: 20 | J12: 109 | K12: 10 | L12: =K12-(SUM(N12:Y12)) -> 10 | M12: =IF(L12<0,"ATENÇÃO","OK") -> OK | N12: 0 | O12: 0 | P12: 0 | Q12: 0 | R12: 0 | S12: 0 | T12: 0 | U12: 0 | V12: 0 | W12: 0 | X12: 0 | Y12: 0
C13: 10 | D13: HALTERES, COM PESO DE 2,0 KG, Halter fabricado em ferro fundido e revestido por uma camada de vinil PVC colorida. Peso 2,0kg. | E13: 52.10 | F13: WS | G13: PECA | H13: 20 | I13: 20 | J13: 25 | L13: =K13-(SUM(N13:Y13)) -> 0 | M13: =IF(L13<0,"ATENÇÃO","OK") -> OK | N13: 0 | O13: 0 | P13: 0 | Q13: 0 | R13: 0 | S13: 0 | T13: 0 | U13: 0 | V13: 0 | W13: 0 | X13: 0 | Y13: 0
C14: 11 | D14: HALTERES, COM PESO DE 3,0 KG, Halter fabricado em ferro fundido e revestido por uma camada de vinil PVC colorida. Peso 3,0kg. | E14: 52.10 | F14: WS | G14: PECA | H14: 20 | I14: 20 | J14: 31 | K14: 10 | L14: =K14-(SUM(N14:Y14)) -> 10 | M14: =IF(L14<0,"ATENÇÃO","OK") -> OK | N14: 0 | O14: 0 | P14: 0 | Q14: 0 | R14: 0 | S14: 0 | T14: 0 | U14: 0 | V14: 0 | W14: 0 | X14: 0 | Y14: 0
C15: 12 | D15: HALTERES, COM PESO DE 4KG, Halter fabricado em ferro fundido e revestido por uma camada de vinil PVC colorida. Peso 4,0kg. | E15: 52.10 | F15: WS | G15: PECA | H15: 20 | I15: 20 | J15: 42 | K15: 10 | L15: =K15-(SUM(N15:Y15)) -> 10 | M15: =IF(L15<0,"ATENÇÃO","OK") -> OK | N15: 0 | O15: 0 | P15: 0 | Q15: 0 | R15: 0 | S15: 0 | T15: 0 | U15: 0 | V15: 0 | W15: 0 | X15: 0 | Y15: 0
C16: 13 | D16: HALTERES, COM PESO DE 5KG, Halter fabricado em ferro fundido e revestido por uma camada de vinil PVC colorida. Peso 5,0kg. | E16: 52.10 | F16: WS | G16: PECA | H16: 20 | I16: 20 | J16: 53 | K16: 10 | L16: =K16-(SUM(N16:Y16)) -> 10 | M16: =IF(L16<0,"ATENÇÃO","OK") -> OK | N16: 0 | O16: 0 | P16: 0 | Q16: 0 | R16: 0 | S16: 0 | T16: 0 | U16: 0 | V16: 0 | W16: 0 | X16: 0 | Y16: 0
C17: 14 | D17: HALTERES, COM PESO DE 6 KG, Halter fabricado em ferro fundido e revestido por uma camada de vinil PVC colorida. Peso 6,0kg. | E17: 52.10 | F17: WS | G17: PECA | H17: 20 | I17: 20 | J17: 43 | K17: 10 | L17: =K17-(SUM(N17:Y17)) -> 10 | M17: =IF(L17<0,"ATENÇÃO","OK") -> OK | N17: 0 | O17: 0 | P17: 0 | Q17: 0 | R17: 0 | S17: 0 | T17: 0 | U17: 0 | V17: 0 | W17: 0 | X17: 0 | Y17: 0
C18: 15 | D18: HALTERES, COM PESO DE 8KG, Halter fabricado em ferro fundido e revestido por uma camada de vinil PVC colorida. Peso 8,0kg. | E18: 52.10 | F18: WS | G18: PECA | H18: 20 | I18: 20 | J18: 78 | K18: 10 | L18: =K18-(SUM(N18:Y18)) -> 10 | M18: =IF(L18<0,"ATENÇÃO","OK") -> OK | N18: 0 | O18: 0 | P18: 0 | Q18: 0 | R18: 0 | S18: 0 | T18: 0 | U18: 0 | V18: 0 | W18: 0 | X18: 0 | Y18: 0
C19: 16 | D19: ROLO ABDOMINAL, TEXTURIZADO, A roda consiste em plástico moldado. A espessura maior da roda e seu revestimento de borracha proporcionam maior estabilidade e segurança na execução dos exercícios. Aparelho rolamentado. Suporta até 170Kg. Material polipropileno que não marca o piso. Manopla de borracha de fácil higienização. | E19: 52.10 | F19: Up Life | G19: PECA | H19: 20 | I19: 20 | J19: 44.9 | K19: 2 | L19: =K19-(SUM(N19:Y19)) -> 2 | M19: =IF(L19<0,"ATENÇÃO","OK") -> OK | N19: 0 | O19: 0 | P19: 0 | Q19: 0 | R19: 0 | S19: 0 | T19: 0 | U19: 0 | V19: 0 | W19: 0 | X19: 0 | Y19: 0
C20: 17 | D20: SUPORTE PARA BOLAS INFLAVEIS, KIT COM 3 UNIDADES DE SUPORTES PARA BOLA INFLAVEL, Suporte para bolas infláveis. Kit com 3 unidades de suportes para bola inflável, composto em plástico e com regulagem de velcro que permite adpatar o suporte para os diferentes tamanhos de bola. | E20: 52.10 | F20: Up Life | G20: KIT | H20: 20 | I20: 20 | J20: 99 | L20: =K20-(SUM(N20:Y20)) -> 0 | M20: =IF(L20<0,"ATENÇÃO","OK") -> OK | N20: 0 | O20: 0 | P20: 0 | Q20: 0 | R20: 0 | S20: 0 | T20: 0 | U20: 0 | V20: 0 | W20: 0 | X20: 0 | Y20: 0
C21: 18 | D21: SUPORTE PARA HALTERES, COM CAPACIDADE PARA 10 PARES, Suporte vertical (tipo torre) para 10 pares de halteres (de 1 a 10 kg). Feito com tubo de ferro pintado com tinta epóxi. Dimensões aproximadas: 1.35 (altura) x 0,47 (largura) x 0,45 (profundidade) metros. | E21: 52.10 | F21: Up Life | G21: PECA | H21: 20 | I21: 20 | J21: 251.9 | L21: =K21-(SUM(N21:Y21)) -> 0 | M21: =IF(L21<0,"ATENÇÃO","OK") -> OK | N21: 0 | O21: 0 | P21: 0 | Q21: 0 | R21: 0 | S21: 0 | T21: 0 | U21: 0 | V21: 0 | W21: 0 | X21: 0 | Y21: 0
A22: ADBX COMERCIO E SERVIÇOS LTDA ME | B22: 2 | C22: 1 | D22: BARRA PARA EXERCICIOS, BARRA TRANSVERSAL ELASTICA PARA SALTOS COM PESOS, Barra Transversal Elástica para Saltos com pesos. Para treinamentos de saltos (altura e com vara). Extremidades com pesos. Comprimento: 4,5 metros | E22: 52.10 | F22: Pista Campo | G22: PECA | H22: 20 | I22: 20 | J22: 69.5 | L22: =K22-(SUM(N22:Y22)) -> 0 | M22: =IF(L22<0,"ATENÇÃO","OK") -> OK | N22: 0 | O22: 0 | P22: 0 | Q22: 0 | R22: 0 | S22: 0 | T22: 0 | U22: 0 | V22: 0 | W22: 0 | X22: 0 | Y22: 0
C23: 2 | D23: BARREIRA DE ALTURA, EM PVC, LARGURA: 60CM E ALTURA: 40CM, Barreirinha de PVC para treinamento. Largura: 60 cm. Altura: 40 cm. Feita de material plástico de alta resistência. | E23: 52.10 | F23: Vinex | G23: PECA | H23: 20 | I23: 20 | J23: 80.5 | L23: =K23-(SUM(N23:Y23)) -> 0 | M23: =IF(L23<0,"ATENÇÃO","OK") -> OK | N23: 0 | O23: 0 | P23: 0 | Q23: 0 | R23: 0 | S23: 0 | T23: 0 | U23: 0 | V23: 0 | W23: 0 | X23: 0 | Y23: 0
C24: 3 | D24: BLOCO DE PARTIDA (PARA DESPORTO), DE ACO UNIVERSAL IAAF, Estrutura única feita de aço galvanizado, extremamente resistente e apoio para os pés revestido em borracha sintética. Ajuste de cinco alturas e quinze distâncias diferentes para os pés. Utilização em qualquer tipo de pista. Possui alça para transporte. Certificado pela IAAF. Marca de referência: Polanik. | E24: 52.10 | F24: Vinex | G24: PECA | H24: 20 | I24: 20 | J24: 1120.1 | L24: =K24-(SUM(N24:Y24)) -> 0 | M24: =IF(L24<0,"ATENÇÃO","OK") -> OK | N24: 0 | O24: 0 | P24: 0 | Q24: 0 | R24: 0 | S24: 0 | T24: 0 | U24: 0 | V24: 0 | W24: 0 | X24: 0 | Y24: 0
C25: 4 | D25: DARDO, DE DURALUMINIO DE 800G, Dardo de duralumínio/aço 800g. Estrutura de duralumínio (composto especial de alumínio, cobre e magnésio) de alta resistência e cabeça de aço galvanizado. Pintura a pó (resistente à corrosão, impacto, ação química etc) com efeito transparente. Certificado pela IAAF. | E25: 52.10 | F25: Polinik | G25: PECA | H25: 20 | I25: 20 | J25: 1141.35 | L25: =K25-(SUM(N25:Y25)) -> 0 | M25: =IF(L25<0,"ATENÇÃO","OK") -> OK | N25: 0 | O25: 0 | P25: 0 | Q25: 0 | R25: 0 | S25: 0 | T25: 0 | U25: 0 | V25: 0 | W25: 0 | X25: 0 | Y25: 0
C26: 5 | D26: DARDO, DE DURALUMINIO/A«O DE 600G, Dardo de duralumínio/aço 600g. Estrutura de duralumínio (composto especial de alumínio, cobre e magnésio) de alta resistência e cabeça de aço galvanizado. Pintura a pó (resistente à corrosão, impacto, ação química etc) com efeito transparente. Certificado pela IAAF. | E26: 52.10 | F26: Polinik | G26: PECA | H26: 20 | I26: 20 | J26: 850 | L26: =K26-(SUM(N26:Y26)) -> 0 | M26: =IF(L26<0,"ATENÇÃO","OK") -> OK | N26: 0 | O26: 0 | P26: 0 | Q26: 0 | R26: 0 | S26: 0 | T26: 0 | U26: 0 | V26: 0 | W26: 0 | X26: 0 | Y26: 0
C27: 6 | D27: DARDO, DE PLASTICO DE 300G, Dardo de plástico com ponteira de borracha, 300g. Corpo em plástico PVC de alta resistência, integrado com empunhadura em espiral para maior aderência às mãos. Comprimento 70cm e peso de 300 gramas. Ponteira substituível de borracha. Cores variadas. | E27: 52.10 | F27: Gill | G27: PECA | H27: 20 | I27: 20 | J27: 159.9 | L27: =K27-(SUM(N27:Y27)) -> 0 | M27: =IF(L27<0,"ATENÇÃO","OK") -> OK | N27: 0 | O27: 0 | P27: 0 | Q27: 0 | R27: 0 | S27: 0 | T27: 0 | U27: 0 | V27: 0 | W27: 0 | X27: 0 | Y27: 0
C28: 7 | D28: DARDO, DE PLASTICO DE 400G, Dardo de plástico com ponteira de borracha, 400g. Corpo em plástico PVC de alta resistência, integrado com empunhadura em espiral para maior aderência às mãos. Comprimento 70cm e peso de 400 gramas. Ponteira substituível de borracha. Cores variadas. | E28: 52.10 | F28: Gill | G28: PECA | H28: 20 | I28: 20 | J28: 179.9 | L28: =K28-(SUM(N28:Y28)) -> 0 | M28: =IF(L28<0,"ATENÇÃO","OK") -> OK | N28: 0 | O28: 0 | P28: 0 | Q28: 0 | R28: 0 | S28: 0 | T28: 0 | U28: 0 | V28: 0 | W28: 0 | X28: 0 | Y28: 0
C29: 8 | D29: MARTELO DE ARREMESSO, EM PVC DE 1KG, Martelo de PVC 1Kg. Ideal para iniciação. Feito de PVC macio. | E29: 52.10 | F29: Vinex | G29: PECA | H29: 20 | I29: 20 | J29: 99.9 | L29: =K29-(SUM(N29:Y29)) -> 0 | M29: =IF(L29<0,"ATENÇÃO","OK") -> OK | N29: 0 | O29: 0 | P29: 0 | Q29: 0 | R29: 0 | S29: 0 | T29: 0 | U29: 0 | V29: 0 | W29: 0 | X29: 0 | Y29: 0
C30: 9 | D30: MARTELO DE ARREMESSO, EM PVC DE 500G, Martelo de PVC 500g. Feito de PVC macio, 500g. | E30: 52.10 | F30: Vinex | G30: PECA | H30: 20 | I30: 20 | J30: 79.9 | L30: =K30-(SUM(N30:Y30)) -> 0 | M30: =IF(L30<0,"ATENÇÃO","OK") -> OK | N30: 0 | O30: 0 | P30: 0 | Q30: 0 | R30: 0 | S30: 0 | T30: 0 | U30: 0 | V30: 0 | W30: 0 | X30: 0 | Y30: 0
C31: 10 | D31: MARTELO DE ARREMESSO, PESANDO 3KG, Martelo de Atletismo de aço, 3 kg, 85 mm, para lançamento. Pode ser usado em competições e treinamento. Cabeça com diâmetro de 85 mm com acabamento rígido de aço galvanizado com pintura a pó e núcleo de chumbo, peso e diâmetro precisos, formato esférico, equilíbrio perfeito e superfície totalmente lisa. Cabo de aço galvanizado com 3,2 mm de espessura e 992 mm de comprimento. Empunhadura curvada de 110 mm de comprimento e largura com suporte e anel de aço e apoio de mão de alumínio. Peso total (incluindo cabo e empunhadura): 3,005 a 3,025 kg. Produto oficial, certificado pela IAAF. | E31: 52.10 | F31: Vinex | G31: PECA | H31: 20 | I31: 20 | J31: 249.45 | L31: =K31-(SUM(N31:Y31)) -> 0 | M31: =IF(L31<0,"ATENÇÃO","OK") -> OK | N31: 0 | O31: 0 | P31: 0 | Q31: 0 | R31: 0 | S31: 0 | T31: 0 | U31: 0 | V31: 0 | W31: 0 | X31: 0 | Y31: 0
C32: 11 | D32: PESO PARA ARREMESSO, PESANDO 4KG, Peso de Atletismo Indoor, 4,00 KG para arremesso. Revestimento de PVC macio de alta resistência com recheio de microesferas de aço. Diâmetro de 135 mm. Peso: 4,00 kg. Produto oficial para competições indoor, conforme regras da IAAF. | E32: 52.10 | F32: Vinex | G32: PECA | H32: 20 | I32: 20 | J32: 179.9 | L32: =K32-(SUM(N32:Y32)) -> 0 | M32: =IF(L32<0,"ATENÇÃO","OK") -> OK | N32: 0 | O32: 0 | P32: 0 | Q32: 0 | R32: 0 | S32: 0 | T32: 0 | U32: 0 | V32: 0 | W32: 0 | X32: 0 | Y32: 0
C33: 12 | D33: PESO PARA ARREMESSO, PESANDO 5KG, Peso de Atletismo Indoor, 5,00 kg para arremesso. Revestimento de PVC macio de alta resistência com recheio de microesferas de aço. Diâmetro de 135 mm. Peso: 5,00 kg. Produto oficial para competições indoor, conforme regras da IAAF. | E33: 52.10 | F33: Vinex | G33: PECA | H33: 20 | I33: 20 | J33: 254.9 | L33: =K33-(SUM(N33:Y33)) -> 0 | M33: =IF(L33<0,"ATENÇÃO","OK") -> OK | N33: 0 | O33: 0 | P33: 0 | Q33: 0 | R33: 0 | S33: 0 | T33: 0 | U33: 0 | V33: 0 | W33: 0 | X33: 0 | Y33: 0
C34: 13 | D34: TRENO, PARA TREINAMENTO ESPORTIVO, Trenó para treinamento de força. Para uso na grama ou areia. Estrutura de aço tubular, pintura a pó. Inclui cinto ajustável com velcro e fita reforçada de nylon. Tamanho: 70 cm de comprimento x 30 cm de largura, peso de 2 kg. | E34: 52.10 | F34: Vinex | G34: PECA | H34: 20 | I34: 20 | J34: 184.95 | L34: =K34-(SUM(N34:Y34)) -> 0 | M34: =IF(L34<0,"ATENÇÃO","OK") -> OK | N34: 0 | O34: 0 | P34: 0 | Q34: 0 | R34: 0 | S34: 0 | T34: 0 | U34: 0 | V34: 0 | W34: 0 | X34: 0 | Y34: 0
A35: FRATELLI COMERCIO DE MAQUINAS E EQUIPAMENTOS LTDA ME | B35: 3 | C35: 1 | D35: CARRO MANUAL PARA TRANSPORTE, DE BLOCOS DE PARTIDA, Carrinho para transporte de blocos de partida. Feito de aço e rodas Heavy Duty com dispositivo de bloqueio. Pintura a pó, resistente à corrosão, impacto, ação química, etc. Transporta até 10 blocos de partida. | E35: 52.10 | F35: Vinex | G35: PECA | H35: 20 | I35: 20 | J35: 679.9 | L35: =K35-(SUM(N35:Y35)) -> 0 | M35: =IF(L35<0,"ATENÇÃO","OK") -> OK | N35: 0 | O35: 0 | P35: 0 | Q35: 0 | R35: 0 | S35: 0 | T35: 0 | U35: 0 | V35: 0 | W35: 0 | X35: 0 | Y35: 0
C36: 2 | D36: CARRO MANUAL PARA TRANSPORTE, DE DISCOS, PESOS E DARDOS, Carrinho para transporte de discos, pesos e dardos. Feito de aço tubular de alta resistência, rodas giratórias reforçadas. Pintura a pó, resistente à corrosão, impacto, ação química. Transporta 12 dardos, 12 pesos e 30 discos. | E36: 52.10 | F36: Vinex | G36: PECA | H36: 20 | I36: 20 | J36: 748 | L36: =K36-(SUM(N36:Y36)) -> 0 | M36: =IF(L36<0,"ATENÇÃO","OK") -> OK | N36: 0 | O36: 0 | P36: 0 | Q36: 0 | R36: 0 | S36: 0 | T36: 0 | U36: 0 | V36: 0 | W36: 0 | X36: 0 | Y36: 0
A37: FRATELLI COMERCIO DE MAQUINAS E EQUIPAMENTOS LTDA ME | B37: 4 | C37: 1 | D37: CONTROLADOR DE 24 SEGUNDOS, PARA BASQUETEBOL, Controlador de 24 segundos para basquetebol com dois Módulos mostradores, dois dígitos por módulo, Cronômetro regressivo de 24 e 30 segundos selecionável por chave, Marcador de faltas individuais de jogador de 1 a 5, Alarme de Sirene intermitente de 120 dB acionada manualmente ou automaticamente quando tempo esgotado, Gabinete em alumínio com pintura eletrostática, parte Frontal dos Dígitos em Acrílico translúcido vermelho, Painel de Comandos Microcontrolado com display de cristal líquido, com comunicação wireless. | E37: 52.10 | F37: Tecnodis/HS24 | G37: PECA | H37: 20 | I37: 20 | J37: 1409 | L37: =K37-(SUM(N37:Y37)) -> 0 | M37: =IF(L37<0,"ATENÇÃO","OK") -> OK | N37: 0 | O37: 0 | P37: 0 | Q37: 0 | R37: 0 | S37: 0 | T37: 0 | U37: 0 | V37: 0 | W37: 0 | X37: 0 | Y37: 0
C38: 2 | D38: PLACAR ELETRONICO, PARA GINASIO, Placar eletrônico para ginásios esportivos, resistente e de formato compacto. Para ginásios de pequeno porte, o placar eletrônico deve apresenta informações necessárias para jogos de basquetebol, futsal, handebol e vôlei, Equipado com alça de deslocamento, engates para fixação em paredes e pés de suporte, campainha que é acionada quando zera o cronômetro ou no pedido de tempo, de forma manual ou automática, cronômetro digital progressivo ou regressivo, memória para armazenamento de dados, comunicação via rádio freqüencia. Largura: 100cm, altura: 80cm, espessura: 5,5cm, peso: 16kg, consumo: 80watts, alimentação dos dados: teclado de comando com display altura do display: 14,5cm. Escores: de 0 a 199 indicação de faltas coletivas: de 0 a 19 indicação do período do jogo: de 0 a 19. | E38: 52.10 | F38: Tecnodis/ESP 15/1 | G38: PECA | H38: 20 | I38: 20 | J38: 3920.92 | K38: 1 | L38: =K38-(SUM(N38:Y38)) -> 1 | M38: =IF(L38<0,"ATENÇÃO","OK") -> OK | N38: 0 | O38: 0 | P38: 0 | Q38: 0 | R38: 0 | S38: 0 | T38: 0 | U38: 0 | V38: 0 | W38: 0 | X38: 0 | Y38: 0
A39: FRATELLI COMERCIO DE MAQUINAS E EQUIPAMENTOS LTDA ME | B39: 5 | C39: 1 | D39: ADIPOMETRO, PLICOMETRO CIENTIFICO, Plicômetro científico tradicional, com sensibilidade de 0,1 mm, amplitude de leitura de 85mm e pressão de 10g/mm². Montagem em base de alumínio com revestimento epoxi. Cabo e protetor em nylon technyl. Ponteiras (fixas) não metálicas. Molas em aço zincado. Relógio de alta precisão. | E39: 52.04 | F39: Cescorf | G39: PECA | H39: 20 | I39: 20 | J39: 850 | K39: 1 | L39: =K39-(SUM(N39:Y39)) -> 1 | M39: =IF(L39<0,"ATENÇÃO","OK") -> OK | N39: 0 | O39: 0 | P39: 0 | Q39: 0 | R39: 0 | S39: 0 | T39: 0 | U39: 0 | V39: 0 | W39: 0 | X39: 0 | Y39: 0
C40: 2 | D40: SIMETROGRAFO, ESTRUTURA DE ALUMINIO QUADRICULADO (P/FISIOTERAPIA), Confeccionado em ferro, com pintura epóxi de alta resistência. Maior detalhe na avaliação pois tem quadrados divididos de 5,0cm em 5,0cm. Dividido em 6 partes metálicas e acompanha 100m de elástico para marcar as linhas de medida. Tamanho: 190cm X 90cm. Garantia: 12 meses contra defeito de fabricação. | E40: 52.08 | F40: Sanny | G40: PECA | H40: 20 | I40: 20 | J40: 717 | K40: 1 | L40: =K40-(SUM(N40:Y40)) -> 1 | M40: =IF(L40<0,"ATENÇÃO","OK") -> OK | N40: 0 | O40: 0 | P40: 0 | Q40: 0 | R40: 0 | S40: 0 | T40: 0 | U40: 0 | V40: 0 | W40: 0 | X40: 0 | Y40: 0
...

Sheet CEFID
A1: PROCESSO: 0480/2014/UDESC | D1: OBJETO: Aquisição de material esportivo | J1: VIGÊNCIA DA ATA: 11/06/2014 até 11/06/2015 | N1: AF/OS nº xxxx/2014 Qtde. DT | O1: AF/OS nº xxxx/2014 Qtde. DT | P1: AF/OS nº xxxx/2014 Qtde. DT | Q1: AF/OS nº xxxx/2014 Qtde. DT | R1: AF/OS nº xxxx/2014 Qtde. DT | S1: AF/OS nº xxxx/2014 Qtde. DT | T1: AF/OS nº xxxx/2014 Qtde. DT | U1: AF/OS nº xxxx/2014 Qtde. DT | V1: AF/OS nº xxxx/2014 Qtde. DT | W1: AF/OS nº xxxx/2014 Qtde. DT | X1: AF/OS nº xxxx/2014 Qtde. DT | Y1: AF/OS nº xxxx/2014 Qtde. DT
A2: CENTRO PARTICIPANTE:
A3: FORNECEDOR | B3: LOTE | C3: ITEM | D3: PRODUTO - CARACTERÍSTICAS MÍNIMAS | E3: DETALHAMENTO | F3: MARCA/MODELO | G3: UNIDADE | H3: Entrega (Dias) | I3: Pagto. (Dias) | J3: Preço UNITÁRIO (R$) | K3: Qtde LICITADA | L3: Saldo / Automático | M3: ALERTA | N3: ...../...../...... | O3: ...../...../...... | P3: ...../...../...... | Q3: ...../...../...... | R3: ...../...../...... | S3: ...../...../...... | T3: ...../...../...... | U3: ...../...../...... | V3: ...../...../...... | W3: ...../...../...... | X3: ...../...../...... | Y3: ...../...../......
A4: ZERMIANI COMERCIO DE ARTIGOS ESPORTIVOS LTDA ME | B4: 1 | C4: 1 | D4: ANILHAS, KETTLEBELL, Kettlebell 4kg: anilha em ferro, utilizada para exercícios resistidos específicos. | E4: 52.10 | F4: WS | G4: PECA | H4: 20 | I4: 20 | J4: 47.9 | K4: 1 | L4: =K4-(SUM(N4:Y4)) -> 1 | M4: =IF(L4<0,"ATENÇÃO","OK") -> OK | N4: 0 | O4: 0 | P4: 0 | Q4: 0 | R4: 0 | S4: 0 | T4: 0 | U4: 0 | V4: 0 | W4: 0 | X4: 0 | Y4: 0
C5: 2 | D5: ANILHAS, KETTLEBELL, Kettlebell 6kg: anilha em ferro, utilizada para exercícios resistidos específicos. | E5: 52.10 | F5: WS | G5: PECA | H5: 20 | I5: 20 | J5: 72.9 | K5: 1 | L5: =K5-(SUM(N5:Y5)) -> 1 | M5: =IF(L5<0,"ATENÇÃO","OK") -> OK | N5: 0 | O5: 0 | P5: 0 | Q5: 0 | R5: 0 | S5: 0 | T5: 0 | U5: 0 | V5: 0 | W5: 0 | X5: 0 | Y5: 0
C6: 3 | D6: ANILHAS, KETTLEBELL, Kettlebell 8kg: anilha em ferro, utilizada para exercícios resistidos específicos. | E6: 52.10 | F6: WS | G6: PECA | H6: 20 | I6: 20 | J6: 96.9 | K6: 1 | L6: =K6-(SUM(N6:Y6)) -> 1 | M6: =IF(L6<0,"ATENÇÃO","OK") -> OK | N6: 0 | O6: 0 | P6: 0 | Q6: 0 | R6: 0 | S6: 0 | T6: 0 | U6: 0 | V6: 0 | W6: 0 | X6: 0 | Y6: 0
C7: 4 | D7: BARRA PARA APOIO, EM W PARA ANILHAS EM ACO CROMADO, Barra "w": barra maciça cromada, com pegadores emborrachados, para a realização de exercícios de musculação diversos. Dimensões: 1200mm X 30mm | E7: 52.10 | F7: WS | G7: PECA | H7: 20 | I7: 20 | J7: 170 | K7: 1 | L7: =K7-(SUM(N7:Y7)) -> 1 | M7: =IF(L7<0,"ATENÇÃO","OK") -> OK | N7: 0 | O7: 0 | P7: 0 | Q7: 0 | R7: 0 | S7: 0 | T7: 0 | U7: 0 | V7: 0 | W7: 0 | X7: 0 | Y7: 0
C8: 5 | D8: BARRA PARA APOIO, EM W PARA ANILHAS EM ACO CROMADO, TAMANHO: 1,20 m com Rosca. Barra maciça cromada e recartilhada. Cromada em sistema de banho com tecnologia e proteção ao meio ambiente. Indicada para execução de flexões, bíceps e tríceps. Composição: em aço 1020 polido. Dimensões aproximadas (C): 120 cm. Garantia do fabricante: 12 meses contra defeito de fabricação. | E8: 52.10 | F8: WS | G8: PECA | H8: 20 | I8: 20 | J8: 149 | L8: =K8-(SUM(N8:Y8)) -> 0 | M8: =IF(L8<0,"ATENÇÃO","OK") -> OK | N8: 0 | O8: 0 | P8: 0 | Q8: 0 | R8: 0 | S8: 0 | T8: 0 | U8: 0 | V8: 0 | W8: 0 | X8: 0 | Y8: 0
C9: 6 | D9: BARRA PARA APOIO, MEDINDO 1,20, Barra "H": barra maciça cromada, com pegadores emborrachados, para a realização de exercícios de musculação diversos. dimensões: 1200mm X 30mm. | E9: 52.10 | F9: WS | G9: PECA | H9: 20 | I9: 20 | J9: 196 | K9: 1 | L9: =K9-(SUM(N9:Y9)) -> 1 | M9: =IF(L9<0,"ATENÇÃO","OK") -> OK | N9: 0 | O9: 0 | P9: 0 | Q9: 0 | R9: 0 | S9: 0 | T9: 0 | U9: 0 | V9: 0 | W9: 0 | X9: 0 | Y9: 0
C10: 7 | D10: HALTERES, COM PESO DE 0,5 KG, Halter fabricado em ferro fundido e revestido por uma camada de vinil PVC colorida. Peso 0,5kg. | E10: 52.10 | F10: WS | G10: PECA | H10: 20 | I10: 20 | J10: 7.8 | K10: 6 | L10: =K10-(SUM(N10:Y10)) -> 6 | M10: =IF(L10<0,"ATENÇÃO","OK") -> OK | N10: 0 | O10: 0 | P10: 0 | Q10: 0 | R10: 0 | S10: 0 | T10: 0 | U10: 0 | V10: 0 | W10: 0 | X10: 0 | Y10: 0
C11: 8 | D11: HALTERES, COM PESO DE 1,0 KG, Halter fabricado em ferro fundido e revestido por uma camada de vinil PVC colorida. Peso 1,0kg. | E11: 52.10 | F11: WS | G11: PECA | H11: 20 | I11: 20 | J11: 14.5 | K11: 6 | L11: =K11-(SUM(N11:Y11)) -> 6 | M11: =IF(L11<0,"ATENÇÃO","OK") -> OK | N11: 0 | O11: 0 | P11: 0 | Q11: 0 | R11: 0 | S11: 0 | T11: 0 | U11: 0 | V11: 0 | W11: 0 | X11: 0 | Y11: 0
C12: 9 | D12: HALTERES, COM PESO DE 10 KG, Halter fabricado em ferro fundido e revestido por uma camada de vinil PVC colorida. Peso 10,0kg. | E12: 52.10 | F12: WS | G12: PECA | H12: 20 | I12: 20 | J12: 109 | L12: =K12-(SUM(N12:Y12)) -> 0 | M12: =IF(L12<0,"ATENÇÃO","OK") -> OK | N12: 0 | O12: 0 | P12: 0 | Q12: 0 | R12: 0 | S12: 0 | T12: 0 | U12: 0 | V12: 0 | W12: 0 | X12: 0 | Y12: 0
C13: 10 | D13: HALTERES, COM PESO DE 2,0 KG, Halter fabricado em ferro fundido e revestido por uma camada de vinil PVC colorida. Peso 2,0kg. | E13: 52.10 | F13: WS | G13: PECA | H13: 20 | I13: 20 | J13: 25 | K13: =6+4 -> 10 | L13: =K13-(SUM(N13:Y13)) -> 10 | M13: =IF(L13<0,"ATENÇÃO","OK") -> OK | N13: 0 | O13: 0 | P13: 0 | Q13: 0 | R13: 0 | S13: 0 | T13: 0 | U13: 0 | V13: 0 | W13: 0 | X13: 0 | Y13: 0
C14: 11 | D14: HALTERES, COM PESO DE 3,0 KG, Halter fabricado em ferro fundido e revestido por uma camada de vinil PVC colorida. Peso 3,0kg. | E14: 52.10 | F14: WS | G14: PECA | H14: 20 | I14: 20 | J14: 31 | K14: 6 | L14: =K14-(SUM(N14:Y14)) -> 6 | M14: =IF(L14<0,"ATENÇÃO","OK") -> OK | N14: 0 | O14: 0 | P14: 0 | Q14: 0 | R14: 0 | S14: 0 | T14: 0 | U14: 0 | V14: 0 | W14: 0 | X14: 0 | Y14: 0
C15: 12 | D15: HALTERES, COM PESO DE 4KG, Halter fabricado em ferro fundido e revestido por uma camada de vinil PVC colorida. Peso 4,0kg. | E15: 52.10 | F15: WS | G15: PECA | H15: 20 | I15: 20 | J15: 42 | K15: 12 | L15: =K15-(SUM(N15:Y15)) -> 12 | M15: =IF(L15<0,"ATENÇÃO","OK") -> OK | N15: 0 | O15: 0 | P15: 0 | Q15: 0 | R15: 0 | S15: 0 | T15: 0 | U15: 0 | V15: 0 | W15: 0 | X15: 0 | Y15: 0
C16: 13 | D16: HALTERES, COM PESO DE 5KG, Halter fabricado em ferro fundido e revestido por uma camada de vinil PVC colorida. Peso 5,0kg. | E16: 52.10 | F16: WS | G16: PECA | H16: 20 | I16: 20 | J16: 53 | K16: 6 | L16: =K16-(SUM(N16:Y16)) -> 6 | M16: =IF(L16<0,"ATENÇÃO","OK") -> OK | N16: 0 | O16: 0 | P16: 0 | Q16: 0 | R16: 0 | S16: 0 | T16: 0 | U16: 0 | V16: 0 | W16: 0 | X16: 0 | Y16: 0
C17: 14 | D17: HALTERES, COM PESO DE 6 KG, Halter fabricado em ferro fundido e revestido por uma camada de vinil PVC colorida. Peso 6,0kg. | E17: 52.10 | F17: WS | G17: PECA | H17: 20 | I17: 20 | J17: 43 | L17: =K17-(SUM(N17:Y17)) -> 0 | M17: =IF(L17<0,"ATENÇÃO","OK") -> OK | N17: 0 | O17: 0 | P17: 0 | Q17: 0 | R17: 0 | S17: 0 | T17: 0 | U17: 0 | V17: 0 | W17: 0 | X17: 0 | Y17: 0
C18: 15 | D18: HALTERES, COM PESO DE 8KG, Halter fabricado em ferro fundido e revestido por uma camada de vinil PVC colorida. Peso 8,0kg. | E18: 52.10 | F18: WS | G18: PECA | H18: 20 | I18: 20 | J18: 78 | L18: =K18-(SUM(N18:Y18)) -> 0 | M18: =IF(L18<0,"ATENÇÃO","OK") -> OK | N18: 0 | O18: 0 | P18: 0 | Q18: 0 | R18: 0 | S18: 0 | T18: 0 | U18: 0 | V18: 0 | W18: 0 | X18: 0 | Y18: 0
C19: 16 | D19: ROLO ABDOMINAL, TEXTURIZADO, A roda consiste em plástico moldado. A espessura maior da roda e seu revestimento de borracha proporcionam maior estabilidade e segurança na execução dos exercícios. Aparelho rolamentado. Suporta até 170Kg. Material polipropileno que não marca o piso. Manopla de borracha de fácil higienização. | E19: 52.10 | F19: Up Life | G19: PECA | H19: 20 | I19: 20 | J19: 44.9 | L19: =K19-(SUM(N19:Y19)) -> 0 | M19: =IF(L19<0,"ATENÇÃO","OK") -> OK | N19: 0 | O19: 0 | P19: 0 | Q19: 0 | R19: 0 | S19: 0 | T19: 0 | U19: 0 | V19: 0 | W19: 0 | X19: 0 | Y19: 0
C20: 17 | D20: SUPORTE PARA BOLAS INFLAVEIS, KIT COM 3 UNIDADES DE SUPORTES PARA BOLA INFLAVEL, Suporte para bolas infláveis. Kit com 3 unidades de suportes para bola inflável, composto em plástico e com regulagem de velcro que permite adpatar o suporte para os diferentes tamanhos de bola. | E20: 52.10 | F20: Up Life | G20: KIT | H20: 20 | I20: 20 | J20: 99 | K20: 2 | L20: =K20-(SUM(N20:Y20)) -> 2 | M20: =IF(L20<0,"ATENÇÃO","OK") -> OK | N20: 0 | O20: 0 | P20: 0 | Q20: 0 | R20: 0 | S20: 0 | T20: 0 | U20: 0 | V20: 0 | W20: 0 | X20: 0 | Y20: 0
C21: 18 | D21: SUPORTE PARA HALTERES, COM CAPACIDADE PARA 10 PARES, Suporte vertical (tipo torre) para 10 pares de halteres (de 1 a 10 kg). Feito com tubo de ferro pintado com tinta epóxi. Dimensões aproximadas: 1.35 (altura) x 0,47 (largura) x 0,45 (profundidade) metros. | E21: 52.10 | F21: Up Life | G21: PECA | H21: 20 | I21: 20 | J21: 251.9 | K21: 2 | L21: =K21-(SUM(N21:Y21)) -> 2 | M21: =IF(L21<0,"ATENÇÃO","OK") -> OK | N21: 0 | O21: 0 | P21: 0 | Q21: 0 | R21: 0 | S21: 0 | T21: 0 | U21: 0 | V21: 0 | W21: 0 | X21: 0 | Y21: 0
A22: ADBX COMERCIO E SERVIÇOS LTDA ME | B22: 2 | C22: 1 | D22: BARRA PARA EXERCICIOS, BARRA TRANSVERSAL ELASTICA PARA SALTOS COM PESOS, Barra Transversal Elástica para Saltos com pesos. Para treinamentos de saltos (altura e com vara). Extremidades com pesos. Comprimento: 4,5 metros | E22: 52.10 | F22: Pista Campo | G22: PECA | H22: 20 | I22: 20 | J22: 69.5 | K22: 2 | L22: =K22-(SUM(N22:Y22)) -> 2 | M22: =IF(L22<0,"ATENÇÃO","OK") -> OK | N22: 0 | O22: 0 | P22: 0 | Q22: 0 | R22: 0 | S22: 0 | T22: 0 | U22: 0 | V22: 0 | W22: 0 | X22: 0 | Y22: 0
C23: 2 | D23: BARREIRA DE ALTURA, EM PVC, LARGURA: 60CM E ALTURA: 40CM, Barreirinha de PVC para treinamento. Largura: 60 cm. Altura: 40 cm. Feita de material plástico de alta resistência. | E23: 52.10 | F23: Vinex | G23: PECA | H23: 20 | I23: 20 | J23: 80.5 | K23: 12 | L23: =K23-(SUM(N23:Y23)) -> 12 | M23: =IF(L23<0,"ATENÇÃO","OK") -> OK | N23: 0 | O23: 0 | P23: 0 | Q23: 0 | R23: 0 | S23: 0 | T23: 0 | U23: 0 | V23: 0 | W23: 0 | X23: 0 | Y23: 0
C24: 3 | D24: BLOCO DE PARTIDA (PARA DESPORTO), DE ACO UNIVERSAL IAAF, Estrutura única feita de aço galvanizado, extremamente resistente e apoio para os pés revestido em borracha sintética. Ajuste de cinco alturas e quinze distâncias diferentes para os pés. Utilização em qualquer tipo de pista. Possui alça para transporte. Certificado pela IAAF. Marca de referência: Polanik. | E24: 52.10 | F24: Vinex | G24: PECA | H24: 20 | I24: 20 | J24: 1120.1 | K24: 4 | L24: =K24-(SUM(N24:Y24)) -> 4 | M24: =IF(L24<0,"ATENÇÃO","OK") -> OK | N24: 0 | O24: 0 | P24: 0 | Q24: 0 | R24: 0 | S24: 0 | T24: 0 | U24: 0 | V24: 0 | W24: 0 | X24: 0 | Y24: 0
C25: 4 | D25: DARDO, DE DURALUMINIO DE 800G, Dardo de duralumínio/aço 800g. Estrutura de duralumínio (composto especial de alumínio, cobre e magnésio) de alta resistência e cabeça de aço galvanizado. Pintura a pó (resistente à corrosão, impacto, ação química etc) com efeito transparente. Certificado pela IAAF. | E25: 52.10 | F25: Polinik | G25: PECA | H25: 20 | I25: 20 | J25: 1141.35 | K25: 1 | L25: =K25-(SUM(N25:Y25)) -> 1 | M25: =IF(L25<0,"ATENÇÃO","OK") -> OK | N25: 0 | O25: 0 | P25: 0 | Q25: 0 | R25: 0 | S25: 0 | T25: 0 | U25: 0 | V25: 0 | W25: 0 | X25: 0 | Y25: 0
C26: 5 | D26: DARDO, DE DURALUMINIO/A«O DE 600G, Dardo de duralumínio/aço 600g. Estrutura de duralumínio (composto especial de alumínio, cobre e magnésio) de alta resistência e cabeça de aço galvanizado. Pintura a pó (resistente à corrosão, impacto, ação química etc) com efeito transparente. Certificado pela IAAF. | E26: 52.10 | F26: Polinik | G26: PECA | H26: 20 | I26: 20 | J26: 850 | K26: 3 | L26: =K26-(SUM(N26:Y26)) -> 3 | M26: =IF(L26<0,"ATENÇÃO","OK") -> OK | N26: 0 | O26: 0 | P26: 0 | Q26: 0 | R26: 0 | S26: 0 | T26: 0 | U26: 0 | V26: 0 | W26: 0 | X26: 0 | Y26: 0
C27: 6 | D27: DARDO, DE PLASTICO DE 300G, Dardo de plástico com ponteira de borracha, 300g. Corpo em plástico PVC de alta resistência, integrado com empunhadura em espiral para maior aderência às mãos. Comprimento 70cm e peso de 300 gramas. Ponteira substituível de borracha. Cores variadas. | E27: 52.10 | F27: Gill | G27: PECA | H27: 20 | I27: 20 | J27: 159.9 | K27: 2 | L27: =K27-(SUM(N27:Y27)) -> 2 | M27: =IF(L27<0,"ATENÇÃO","OK") -> OK | N27: 0 | O27: 0 | P27: 0 | Q27: 0 | R27: 0 | S27: 0 | T27: 0 | U27: 0 | V27: 0 | W27: 0 | X27: 0 | Y27: 0
C28: 7 | D28: DARDO, DE PLASTICO DE 400G, Dardo de plástico com ponteira de borracha, 400g. Corpo em plástico PVC de alta resistência, integrado com empunhadura em espiral para maior aderência às mãos. Comprimento 70cm e peso de 400 gramas. Ponteira substituível de borracha. Cores variadas. | E28: 52.10 | F28: Gill | G28: PECA | H28: 20 | I28: 20 | J28: 179.9 | K28: 2 | L28: =K28-(SUM(N28:Y28)) -> 2 | M28: =IF(L28<0,"ATENÇÃO","OK") -> OK | N28: 0 | O28: 0 | P28: 0 | Q28: 0 | R28: 0 | S28: 0 | T28: 0 | U28: 0 | V28: 0 | W28: 0 | X28: 0 | Y28: 0
C29: 8 | D29: MARTELO DE ARREMESSO, EM PVC DE 1KG, Martelo de PVC 1Kg. Ideal para iniciação. Feito de PVC macio. | E29: 52.10 | F29: Vinex | G29: PECA | H29: 20 | I29: 20 | J29: 99.9 | K29: 2 | L29: =K29-(SUM(N29:Y29)) -> 2 | M29: =IF(L29<0,"ATENÇÃO","OK") -> OK | N29: 0 | O29: 0 | P29: 0 | Q29: 0 | R29: 0 | S29: 0 | T29: 0 | U29: 0 | V29: 0 | W29: 0 | X29: 0 | Y29: 0
C30: 9 | D30: MARTELO DE ARREMESSO, EM PVC DE 500G, Martelo de PVC 500g. Feito de PVC macio, 500g. | E30: 52.10 | F30: Vinex | G30: PECA | H30: 20 | I30: 20 | J30: 79.9 | K30: 2 | L30: =K30-(SUM(N30:Y30)) -> 2 | M30: =IF(L30<0,"ATENÇÃO","OK") -> OK | N30: 0 | O30: 0 | P30: 0 | Q30: 0 | R30: 0 | S30: 0 | T30: 0 | U30: 0 | V30: 0 | W30: 0 | X30: 0 | Y30: 0
C31: 10 | D31: MARTELO DE ARREMESSO, PESANDO 3KG, Martelo de Atletismo de aço, 3 kg, 85 mm, para lançamento. Pode ser usado em competições e treinamento. Cabeça com diâmetro de 85 mm com acabamento rígido de aço galvanizado com pintura a pó e núcleo de chumbo, peso e diâmetro precisos, formato esférico, equilíbrio perfeito e superfície totalmente lisa. Cabo de aço galvanizado com 3,2 mm de espessura e 992 mm de comprimento. Empunhadura curvada de 110 mm de comprimento e largura com suporte e anel de aço e apoio de mão de alumínio. Peso total (incluindo cabo e empunhadura): 3,005 a 3,025 kg. Produto oficial, certificado pela IAAF. | E31: 52.10 | F31: Vinex | G31: PECA | H31: 20 | I31: 20 | J31: 249.45 | K31: 2 | L31: =K31-(SUM(N31:Y31)) -> 2 | M31: =IF(L31<0,"ATENÇÃO","OK") -> OK | N31: 0 | O31: 0 | P31: 0 | Q31: 0 | R31: 0 | S31: 0 | T31: 0 | U31: 0 | V31: 0 | W31: 0 | X31: 0 | Y31: 0
C32: 11 | D32: PESO PARA ARREMESSO, PESANDO 4KG, Peso de Atletismo Indoor, 4,00 KG para arremesso. Revestimento de PVC macio de alta resistência com recheio de microesferas de aço. Diâmetro de 135 mm. Peso: 4,00 kg. Produto oficial para competições indoor, conforme regras da IAAF. | E32: 52.10 | F32: Vinex | G32: PECA | H32: 20 | I32: 20 | J32: 179.9 | K32: 4 | L32: =K32-(SUM(N32:Y32)) -> 4 | M32: =IF(L32<0,"ATENÇÃO","OK") -> OK | N32: 0 | O32: 0 | P32: 0 | Q32: 0 | R32: 0 | S32: 0 | T32: 0 | U32: 0 | V32: 0 | W32: 0 | X32: 0 | Y32: 0
C33: 12 | D33: PESO PARA ARREMESSO, PESANDO 5KG, Peso de Atletismo Indoor, 5,00 kg para arremesso. Revestimento de PVC macio de alta resistência com recheio de microesferas de aço. Diâmetro de 135 mm. Peso: 5,00 kg. Produto oficial para competições indoor, conforme regras da IAAF. | E33: 52.10 | F33: Vinex | G33: PECA | H33: 20 | I33: 20 | J33: 254.9 | K33: 4 | L33: =K33-(SUM(N33:Y33)) -> 4 | M33: =IF(L33<0,"ATENÇÃO","OK") -> OK | N33: 0 | O33: 0 | P33: 0 | Q33: 0 | R33: 0 | S33: 0 | T33: 0 | U33: 0 | V33: 0 | W33: 0 | X33: 0 | Y33: 0
C34: 13 | D34: TRENO, PARA TREINAMENTO ESPORTIVO, Trenó para treinamento de força. Para uso na grama ou areia. Estrutura de aço tubular, pintura a pó. Inclui cinto ajustável com velcro e fita reforçada de nylon. Tamanho: 70 cm de comprimento x 30 cm de largura, peso de 2 kg. | E34: 52.10 | F34: Vinex | G34: PECA | H34: 20 | I34: 20 | J34: 184.95 | K34: 1 | L34: =K34-(SUM(N34:Y34)) -> 1 | M34: =IF(L34<0,"ATENÇÃO","OK") -> OK | N34: 0 | O34: 0 | P34: 0 | Q34: 0 | R34: 0 | S34: 0 | T34: 0 | U34: 0 | V34: 0 | W34: 0 | X34: 0 | Y34: 0
A35: FRATELLI COMERCIO DE MAQUINAS E EQUIPAMENTOS LTDA ME | B35: 3 | C35: 1 | D35: CARRO MANUAL PARA TRANSPORTE, DE BLOCOS DE PARTIDA, Carrinho para transporte de blocos de partida. Feito de aço e rodas Heavy Duty com dispositivo de bloqueio. Pintura a pó, resistente à corrosão, impacto, ação química, etc. Transporta até 10 blocos de partida. | E35: 52.10 | F35: Vinex | G35: PECA | H35: 20 | I35: 20 | J35: 679.9 | K35: 1 | L35: =K35-(SUM(N35:Y35)) -> 1 | M35: =IF(L35<0,"ATENÇÃO","OK") -> OK | N35: 0 | O35: 0 | P35: 0 | Q35: 0 | R35: 0 | S35: 0 | T35: 0 | U35: 0 | V35: 0 | W35: 0 | X35: 0 | Y35: 0
C36: 2 | D36: CARRO MANUAL PARA TRANSPORTE, DE DISCOS, PESOS E DARDOS, Carrinho para transporte de discos, pesos e dardos. Feito de aço tubular de alta resistência, rodas giratórias reforçadas. Pintura a pó, resistente à corrosão, impacto, ação química. Transporta 12 dardos, 12 pesos e 30 discos. | E36: 52.10 | F36: Vinex | G36: PECA | H36: 20 | I36: 20 | J36: 748 | K36: 1 | L36: =K36-(SUM(N36:Y36)) -> 1 | M36: =IF(L36<0,"ATENÇÃO","OK") -> OK | N36: 0 | O36: 0 | P36: 0 | Q36: 0 | R36: 0 | S36: 0 | T36: 0 | U36: 0 | V36: 0 | W36: 0 | X36: 0 | Y36: 0
A37: FRATELLI COMERCIO DE MAQUINAS E EQUIPAMENTOS LTDA ME | B37: 4 | C37: 1 | D37: CONTROLADOR DE 24 SEGUNDOS, PARA BASQUETEBOL, Controlador de 24 segundos para basquetebol com dois Módulos mostradores, dois dígitos por módulo, Cronômetro regressivo de 24 e 30 segundos selecionável por chave, Marcador de faltas individuais de jogador de 1 a 5, Alarme de Sirene intermitente de 120 dB acionada manualmente ou automaticamente quando tempo esgotado, Gabinete em alumínio com pintura eletrostática, parte Frontal dos Dígitos em Acrílico translúcido vermelho, Painel de Comandos Microcontrolado com display de cristal líquido, com comunicação wireless. | E37: 52.10 | F37: Tecnodis/HS24 | G37: PECA | H37: 20 | I37: 20 | J37: 1409 | K37: 4 | L37: =K37-(SUM(N37:Y37)) -> 4 | M37: =IF(L37<0,"ATENÇÃO","OK") -> OK | N37: 0 | O37: 0 | P37: 0 | Q37: 0 | R37: 0 | S37: 0 | T37: 0 | U37: 0 | V37: 0 | W37: 0 | X37: 0 | Y37: 0
C38: 2 | D38: PLACAR ELETRONICO, PARA GINASIO, Placar eletrônico para ginásios esportivos, resistente e de formato compacto. Para ginásios de pequeno porte, o placar eletrônico deve apresenta informações necessárias para jogos de basquetebol, futsal, handebol e vôlei, Equipado com alça de deslocamento, engates para fixação em paredes e pés de suporte, campainha que é acionada quando zera o cronômetro ou no pedido de tempo, de forma manual ou automática, cronômetro digital progressivo ou regressivo, memória para armazenamento de dados, comunicação via rádio freqüencia. Largura: 100cm, altura: 80cm, espessura: 5,5cm, peso: 16kg, consumo: 80watts, alimentação dos dados: teclado de comando com display altura do display: 14,5cm. Escores: de 0 a 199 indicação de faltas coletivas: de 0 a 19 indicação do período do jogo: de 0 a 19. | E38: 52.10 | F38: Tecnodis/ESP 15/1 | G38: PECA | H38: 20 | I38: 20 | J38: 3920.92 | K38: 2 | L38: =K38-(SUM(N38:Y38)) -> 2 | M38: =IF(L38<0,"ATENÇÃO","OK") -> OK | N38: 0 | O38: 0 | P38: 0 | Q38: 0 | R38: 0 | S38: 0 | T38: 0 | U38: 0 | V38: 0 | W38: 0 | X38: 0 | Y38: 0
A39: FRATELLI COMERCIO DE MAQUINAS E EQUIPAMENTOS LTDA ME | B39: 5 | C39: 1 | D39: ADIPOMETRO, PLICOMETRO CIENTIFICO, Plicômetro científico tradicional, com sensibilidade de 0,1 mm, amplitude de leitura de 85mm e pressão de 10g/mm². Montagem em base de alumínio com revestimento epoxi. Cabo e protetor em nylon technyl. Ponteiras (fixas) não metálicas. Molas em aço zincado. Relógio de alta precisão. | E39: 52.04 | F39: Cescorf | G39: PECA | H39: 20 | I39: 20 | J39: 850 | K39: 2 | L39: =K39-(SUM(N39:Y39)) -> 2 | M39: =IF(L39<0,"ATENÇÃO","OK") -> OK | N39: 0 | O39: 0 | P39: 0 | Q39: 0 | R39: 0 | S39: 0 | T39: 0 | U39: 0 | V39: 0 | W39: 0 | X39: 0 | Y39: 0
C40: 2 | D40: SIMETROGRAFO, ESTRUTURA DE ALUMINIO QUADRICULADO (P/FISIOTERAPIA), Confeccionado em ferro, com pintura epóxi de alta resistência. Maior detalhe na avaliação pois tem quadrados divididos de 5,0cm em 5,0cm. Dividido em 6 partes metálicas e acompanha 100m de elástico para marcar as linhas de medida. Tamanho: 190cm X 90cm. Garantia: 12 meses contra defeito de fabricação. | E40: 52.08 | F40: Sanny | G40: PECA | H40: 20 | I40: 20 | J40: 717 | L40: =K40-(SUM(N40:Y40)) -> 0 | M40: =IF(L40<0,"ATENÇÃO","OK") -> OK | N40: 0 | O40: 0 | P40: 0 | Q40: 0 | R40: 0 | S40: 0 | T40: 0 | U40: 0 | V40: 0 | W40: 0 | X40: 0 | Y40: 0
...

Sheet REITORIA
A1: PROCESSO: 0480/2014/UDESC | D1: OBJETO: Aquisição de material esportivo | J1: VIGÊNCIA DA ATA: 11/06/2014 até 11/06/2015 | N1: AF/OS nº xxxx/2014 Qtde. DT | O1: AF/OS nº xxxx/2014 Qtde. DT | P1: AF/OS nº xxxx/2014 Qtde. DT | Q1: AF/OS nº xxxx/2014 Qtde. DT | R1: AF/OS nº xxxx/2014 Qtde. DT | S1: AF/OS nº xxxx/2014 Qtde. DT | T1: AF/OS nº xxxx/2014 Qtde. DT | U1: AF/OS nº xxxx/2014 Qtde. DT | V1: AF/OS nº xxxx/2014 Qtde. DT | W1: AF/OS nº xxxx/2014 Qtde. DT | X1: AF/OS nº xxxx/2014 Qtde. DT | Y1: AF/OS nº xxxx/2014 Qtde. DT
A2: CENTRO PARTICIPANTE:
A3: FORNECEDOR | B3: LOTE | C3: ITEM | D3: PRODUTO - CARACTERÍSTICAS MÍNIMAS | E3: DETALHAMENTO | F3: MARCA/MODELO | G3: UNIDADE | H3: Entrega (Dias) | I3: Pagto. (Dias) | J3: Preço UNITÁRIO (R$) | K3: Qtde LICITADA | L3: Saldo / Automático | M3: ALERTA | N3: ...../...../...... | O3: ...../...../...... | P3: ...../...../...... | Q3: ...../...../...... | R3: ...../...../...... | S3: ...../...../...... | T3: ...../...../...... | U3: ...../...../...... | V3: ...../...../...... | W3: ...../...../...... | X3: ...../...../...... | Y3: ...../...../......
A4: ZERMIANI COMERCIO DE ARTIGOS ESPORTIVOS LTDA ME | B4: 1 | C4: 1 | D4: ANILHAS, KETTLEBELL, Kettlebell 4kg: anilha em ferro, utilizada para exercícios resistidos específicos. | E4: 52.10 | F4: WS | G4: PECA | H4: 20 | I4: 20 | J4: 47.9 | L4: =K4-(SUM(N4:Y4)) -> 0 | M4: =IF(L4<0,"ATENÇÃO","OK") -> OK | N4: 0 | O4: 0 | P4: 0 | Q4: 0 | R4: 0 | S4: 0 | T4: 0 | U4: 0 | V4: 0 | W4: 0 | X4: 0 | Y4: 0
C5: 2 | D5: ANILHAS, KETTLEBELL, Kettlebell 6kg: anilha em ferro, utilizada para exercícios resistidos específicos. | E5: 52.10 | F5: WS | G5: PECA | H5: 20 | I5: 20 | J5: 72.9 | L5: =K5-(SUM(N5:Y5)) -> 0 | M5: =IF(L5<0,"ATENÇÃO","OK") -> OK | N5: 0 | O5: 0 | P5: 0 | Q5: 0 | R5: 0 | S5: 0 | T5: 0 | U5: 0 | V5: 0 | W5: 0 | X5: 0 | Y5: 0
C6: 3 | D6: ANILHAS, KETTLEBELL, Kettlebell 8kg: anilha em ferro, utilizada para exercícios resistidos específicos. | E6: 52.10 | F6: WS | G6: PECA | H6: 20 | I6: 20 | J6: 96.9 | L6: =K6-(SUM(N6:Y6)) -> 0 | M6: =IF(L6<0,"ATENÇÃO","OK") -> OK | N6: 0 | O6: 0 | P6: 0 | Q6: 0 | R6: 0 | S6: 0 | T6: 0 | U6: 0 | V6: 0 | W6: 0 | X6: 0 | Y6: 0
C7: 4 | D7: BARRA PARA APOIO, EM W PARA ANILHAS EM ACO CROMADO, Barra "w": barra maciça cromada, com pegadores emborrachados, para a realização de exercícios de musculação diversos. Dimensões: 1200mm X 30mm | E7: 52.10 | F7: WS | G7: PECA | H7: 20 | I7: 20 | J7: 170 | L7: =K7-(SUM(N7:Y7)) -> 0 | M7: =IF(L7<0,"ATENÇÃO","OK") -> OK | N7: 0 | O7: 0 | P7: 0 | Q7: 0 | R7: 0 | S7: 0 | T7: 0 | U7: 0 | V7: 0 | W7: 0 | X7: 0 | Y7: 0
C8: 5 | D8: BARRA PARA APOIO, EM W PARA ANILHAS EM ACO CROMADO, TAMANHO: 1,20 m com Rosca. Barra maciça cromada e recartilhada. Cromada em sistema de banho com tecnologia e proteção ao meio ambiente. Indicada para execução de flexões, bíceps e tríceps. Composição: em aço 1020 polido. Dimensões aproximadas (C): 120 cm. Garantia do fabricante: 12 meses contra defeito de fabricação. | E8: 52.10 | F8: WS | G8: PECA | H8: 20 | I8: 20 | J8: 149 | L8: =K8-(SUM(N8:Y8)) -> 0 | M8: =IF(L8<0,"ATENÇÃO","OK") -> OK | N8: 0 | O8: 0 | P8: 0 | Q8: 0 | R8: 0 | S8: 0 | T8: 0 | U8: 0 | V8: 0 | W8: 0 | X8: 0 | Y8: 0
C9: 6 | D9: BARRA PARA APOIO, MEDINDO 1,20, Barra "H": barra maciça cromada, com pegadores emborrachados, para a realização de exercícios de musculação diversos. dimensões: 1200mm X 30mm. | E9: 52.10 | F9: WS | G9: PECA | H9: 20 | I9: 20 | J9: 196 | L9: =K9-(SUM(N9:Y9)) -> 0 | M9: =IF(L9<0,"ATENÇÃO","OK") -> OK | N9: 0 | O9: 0 | P9: 0 | Q9: 0 | R9: 0 | S9: 0 | T9: 0 | U9: 0 | V9: 0 | W9: 0 | X9: 0 | Y9: 0
C10: 7 | D10: HALTERES, COM PESO DE 0,5 KG, Halter fabricado em ferro fundido e revestido por uma camada de vinil PVC colorida. Peso 0,5kg. | E10: 52.10 | F10: WS | G10: PECA | H10: 20 | I10: 20 | J10: 7.8 | L10: =K10-(SUM(N10:Y10)) -> 0 | M10: =IF(L10<0,"ATENÇÃO","OK") -> OK | N10: 0 | O10: 0 | P10: 0 | Q10: 0 | R10: 0 | S10: 0 | T10: 0 | U10: 0 | V10: 0 | W10: 0 | X10: 0 | Y10: 0
C11: 8 | D11: HALTERES, COM PESO DE 1,0 KG, Halter fabricado em ferro fundido e revestido por uma camada de vinil PVC colorida. Peso 1,0kg. | E11: 52.10 | F11: WS | G11: PECA | H11: 20 | I11: 20 | J11: 14.5 | L11: =K11-(SUM(N11:Y11)) -> 0 | M11: =IF(L11<0,"ATENÇÃO","OK") -> OK | N11: 0 | O11: 0 | P11: 0 | Q11: 0 | R11: 0 | S11: 0 | T11: 0 | U11: 0 | V11: 0 | W11: 0 | X11: 0 | Y11: 0
C12: 9 | D12: HALTERES, COM PESO DE 10 KG, Halter fabricado em ferro fundido e revestido por uma camada de vinil PVC colorida. Peso 10,0kg. | E12: 52.10 | F12: WS | G12: PECA | H12: 20 | I12: 20 | J12: 109 | L12: =K12-(SUM(N12:Y12)) -> 0 | M12: =IF(L12<0,"ATENÇÃO","OK") -> OK | N12: 0 | O12: 0 | P12: 0 | Q12: 0 | R12: 0 | S12: 0 | T12: 0 | U12: 0 | V12: 0 | W12: 0 | X12: 0 | Y12: 0
C13: 10 | D13: HALTERES, COM PESO DE 2,0 KG, Halter fabricado em ferro fundido e revestido por uma camada de vinil PVC colorida. Peso 2,0kg. | E13: 52.10 | F13: WS | G13: PECA | H13: 20 | I13: 20 | J13: 25 | L13: =K13-(SUM(N13:Y13)) -> 0 | M13: =IF(L13<0,"ATENÇÃO","OK") -> OK | N13: 0 | O13: 0 | P13: 0 | Q13: 0 | R13: 0 | S13: 0 | T13: 0 | U13: 0 | V13: 0 | W13: 0 | X13: 0 | Y13: 0
C14: 11 | D14: HALTERES, COM PESO DE 3,0 KG, Halter fabricado em ferro fundido e revestido por uma camada de vinil PVC colorida. Peso 3,0kg. | E14: 52.10 | F14: WS | G14: PECA | H14: 20 | I14: 20 | J14: 31 | L14: =K14-(SUM(N14:Y14)) -> 0 | M14: =IF(L14<0,"ATENÇÃO","OK") -> OK | N14: 0 | O14: 0 | P14: 0 | Q14: 0 | R14: 0 | S14: 0 | T14: 0 | U14: 0 | V14: 0 | W14: 0 | X14: 0 | Y14: 0
C15: 12 | D15: HALTERES, COM PESO DE 4KG, Halter fabricado em ferro fundido e revestido por uma camada de vinil PVC colorida. Peso 4,0kg. | E15: 52.10 | F15: WS | G15: PECA | H15: 20 | I15: 20 | J15: 42 | L15: =K15-(SUM(N15:Y15)) -> 0 | M15: =IF(L15<0,"ATENÇÃO","OK") -> OK | N15: 0 | O15: 0 | P15: 0 | Q15: 0 | R15: 0 | S15: 0 | T15: 0 | U15: 0 | V15: 0 | W15: 0 | X15: 0 | Y15: 0
C16: 13 | D16: HALTERES, COM PESO DE 5KG, Halter fabricado em ferro fundido e revestido por uma camada de vinil PVC colorida. Peso 5,0kg. | E16: 52.10 | F16: WS | G16: PECA | H16: 20 | I16: 20 | J16: 53 | L16: =K16-(SUM(N16:Y16)) -> 0 | M16: =IF(L16<0,"ATENÇÃO","OK") -> OK | N16: 0 | O16: 0 | P16: 0 | Q16: 0 | R16: 0 | S16: 0 | T16: 0 | U16: 0 | V16: 0 | W16: 0 | X16: 0 | Y16: 0
... C18: 15 | D18: HALTERES, COM PESO DE 8KG, Halter fabricado em ferro fundido e revestido por uma camada de vinil PVC colorida. Peso 8,0kg. | E18: 52.10 | F18: WS | G18: PECA | H18: 20 | I18: 20 | J18: 78 | L18: =K18-(SUM(N18:Y18)) -> 0 | M18: =IF(L18<0,"ATENÇÃO","OK") -> OK | N18: 0 | O18: 0 | P18: 0 | Q18: 0 | R18: 0 | S18: 0 | T18: 0 | U18: 0 | V18: 0 | W18: 0 | X18: 0 | Y18: 0
C19: 16 | D19: ROLO ABDOMINAL, TEXTURIZADO, A roda consiste em plástico moldado. A espessura maior da roda e seu revestimento de borracha proporcionam maior estabilidade e segurança na execução dos exercícios. Aparelho rolamentado. Suporta até 170Kg. Material polipropileno que não marca o piso. Manopla de borracha de fácil higienização. | E19: 52.10 | F19: Up Life | G19: PECA | H19: 20 | I19: 20 | J19: 44.9 | K19: 1 | L19: =K19-(SUM(N19:Y19)) -> 1 | M19: =IF(L19<0,"ATENÇÃO","OK") -> OK | N19: 0 | O19: 0 | P19: 0 | Q19: 0 | R19: 0 | S19: 0 | T19: 0 | U19: 0 | V19: 0 | W19: 0 | X19: 0 | Y19: 0
C20: 17 | D20: SUPORTE PARA BOLAS INFLAVEIS, KIT COM 3 UNIDADES DE SUPORTES PARA BOLA INFLAVEL, Suporte para bolas infláveis. Kit com 3 unidades de suportes para bola inflável, composto em plástico e com regulagem de velcro que permite adpatar o suporte para os diferentes tamanhos de bola. | E20: 52.10 | F20: Up Life | G20: KIT | H20: 20 | I20: 20 | J20: 99 | L20: =K20-(SUM(N20:Y20)) -> 0 | M20: =IF(L20<0,"ATENÇÃO","OK") -> OK | N20: 0 | O20: 0 | P20: 0 | Q20: 0 | R20: 0 | S20: 0 | T20: 0 | U20: 0 | V20: 0 | W20: 0 | X20: 0 | Y20: 0
C21: 18 | D21: SUPORTE PARA HALTERES, COM CAPACIDADE PARA 10 PARES, Suporte vertical (tipo torre) para 10 pares de halteres (de 1 a 10 kg). Feito com tubo de ferro pintado com tinta epóxi. Dimensões aproximadas: 1.35 (altura) x 0,47 (largura) x 0,45 (profundidade) metros. | E21: 52.10 | F21: Up Life | G21: PECA | H21: 20 | I21: 20 | J21: 251.9 | L21: =K21-(SUM(N21:Y21)) -> 0 | M21: =IF(L21<0,"ATENÇÃO","OK") -> OK | N21: 0 | O21: 0 | P21: 0 | Q21: 0 | R21: 0 | S21: 0 | T21: 0 | U21: 0 | V21: 0 | W21: 0 | X21: 0 | Y21: 0
A22: ADBX COMERCIO E SERVIÇOS LTDA ME | B22: 2 | C22: 1 | D22: BARRA PARA EXERCICIOS, BARRA TRANSVERSAL ELASTICA PARA SALTOS COM PESOS, Barra Transversal Elástica para Saltos com pesos. Para treinamentos de saltos (altura e com vara). Extremidades com pesos. Comprimento: 4,5 metros | E22: 52.10 | F22: Pista Campo | G22: PECA | H22: 20 | I22: 20 | J22: 69.5 | L22: =K22-(SUM(N22:Y22)) -> 0 | M22: =IF(L22<0,"ATENÇÃO","OK") -> OK | N22: 0 | O22: 0 | P22: 0 | Q22: 0 | R22: 0 | S22: 0 | T22: 0 | U22: 0 | V22: 0 | W22: 0 | X22: 0 | Y22: 0
C23: 2 | D23: BARREIRA DE ALTURA, EM PVC, LARGURA: 60CM E ALTURA: 40CM, Barreirinha de PVC para treinamento. Largura: 60 cm. Altura: 40 cm. Feita de material plástico de alta resistência. | E23: 52.10 | F23: Vinex | G23: PECA | H23: 20 | I23: 20 | J23: 80.5 | L23: =K23-(SUM(N23:Y23)) -> 0 | M23: =IF(L23<0,"ATENÇÃO","OK") -> OK | N23: 0 | O23: 0 | P23: 0 | Q23: 0 | R23: 0 | S23: 0 | T23: 0 | U23: 0 | V23: 0 | W23: 0 | X23: 0 | Y23: 0
C24: 3 | D24: BLOCO DE PARTIDA (PARA DESPORTO), DE ACO UNIVERSAL IAAF, Estrutura única feita de aço galvanizado, extremamente resistente e apoio para os pés revestido em borracha sintética. Ajuste de cinco alturas e quinze distâncias diferentes para os pés. Utilização em qualquer tipo de pista. Possui alça para transporte. Certificado pela IAAF. Marca de referência: Polanik. | E24: 52.10 | F24: Vinex | G24: PECA | H24: 20 | I24: 20 | J24: 1120.1 | L24: =K24-(SUM(N24:Y24)) -> 0 | M24: =IF(L24<0,"ATENÇÃO","OK") -> OK | N24: 0 | O24: 0 | P24: 0 | Q24: 0 | R24: 0 | S24: 0 | T24: 0 | U24: 0 | V24: 0 | W24: 0 | X24: 0 | Y24: 0
C25: 4 | D25: DARDO, DE DURALUMINIO DE 800G, Dardo de duralumínio/aço 800g. Estrutura de duralumínio (composto especial de alumínio, cobre e magnésio) de alta resistência e cabeça de aço galvanizado. Pintura a pó (resistente à corrosão, impacto, ação química etc) com efeito transparente. Certificado pela IAAF. | E25: 52.10 | F25: Polinik | G25: PECA | H25: 20 | I25: 20 | J25: 1141.35 | L25: =K25-(SUM(N25:Y25)) -> 0 | M25: =IF(L25<0,"ATENÇÃO","OK") -> OK | N25: 0 | O25: 0 | P25: 0 | Q25: 0 | R25: 0 | S25: 0 | T25: 0 | U25: 0 | V25: 0 | W25: 0 | X25: 0 | Y25: 0
C26: 5 | D26: DARDO, DE DURALUMINIO/A«O DE 600G, Dardo de duralumínio/aço 600g. Estrutura de duralumínio (composto especial de alumínio, cobre e magnésio) de alta resistência e cabeça de aço galvanizado. Pintura a pó (resistente à corrosão, impacto, ação química etc) com efeito transparente. Certificado pela IAAF. | E26: 52.10 | F26: Polinik | G26: PECA | H26: 20 | I26: 20 | J26: 850 | L26: =K26-(SUM(N26:Y26)) -> 0 | M26: =IF(L26<0,"ATENÇÃO","OK") -> OK | N26: 0 | O26: 0 | P26: 0 | Q26: 0 | R26: 0 | S26: 0 | T26: 0 | U26: 0 | V26: 0 | W26: 0 | X26: 0 | Y26: 0
C27: 6 | D27: DARDO, DE PLASTICO DE 300G, Dardo de plástico com ponteira de borracha, 300g. Corpo em plástico PVC de alta resistência, integrado com empunhadura em espiral para maior aderência às mãos. Comprimento 70cm e peso de 300 gramas. Ponteira substituível de borracha. Cores variadas. | E27: 52.10 | F27: Gill | G27: PECA | H27: 20 | I27: 20 | J27: 159.9 | L27: =K27-(SUM(N27:Y27)) -> 0 | M27: =IF(L27<0,"ATENÇÃO","OK") -> OK | N27: 0 | O27: 0 | P27: 0 | Q27: 0 | R27: 0 | S27: 0 | T27: 0 | U27: 0 | V27: 0 | W27: 0 | X27: 0 | Y27: 0
C28: 7 | D28: DARDO, DE PLASTICO DE 400G, Dardo de plástico com ponteira de borracha, 400g. Corpo em plástico PVC de alta resistência, integrado com empunhadura em espiral para maior aderência às mãos. Comprimento 70cm e peso de 400 gramas. Ponteira substituível de borracha. Cores variadas. | E28: 52.10 | F28: Gill | G28: PECA | H28: 20 | I28: 20 | J28: 179.9 | L28: =K28-(SUM(N28:Y28)) -> 0 | M28: =IF(L28<0,"ATENÇÃO","OK") -> OK | N28: 0 | O28: 0 | P28: 0 | Q28: 0 | R28: 0 | S28: 0 | T28: 0 | U28: 0 | V28: 0 | W28: 0 | X28: 0 | Y28: 0
C29: 8 | D29: MARTELO DE ARREMESSO, EM PVC DE 1KG, Martelo de PVC 1Kg. Ideal para iniciação. Feito de PVC macio. | E29: 52.10 | F29: Vinex | G29: PECA | H29: 20 | I29: 20 | J29: 99.9 | L29: =K29-(SUM(N29:Y29)) -> 0 | M29: =IF(L29<0,"ATENÇÃO","OK") -> OK | N29: 0 | O29: 0 | P29: 0 | Q29: 0 | R29: 0 | S29: 0 | T29: 0 | U29: 0 | V29: 0 | W29: 0 | X29: 0 | Y29: 0
C30: 9 | D30: MARTELO DE ARREMESSO, EM PVC DE 500G, Martelo de PVC 500g. Feito de PVC macio, 500g. | E30: 52.10 | F30: Vinex | G30: PECA | H30: 20 | I30: 20 | J30: 79.9 | L30: =K30-(SUM(N30:Y30)) -> 0 | M30: =IF(L30<0,"ATENÇÃO","OK") -> OK | N30: 0 | O30: 0 | P30: 0 | Q30: 0 | R30: 0 | S30: 0 | T30: 0 | U30: 0 | V30: 0 | W30: 0 | X30: 0 | Y30: 0
C31: 10 | D31: MARTELO DE ARREMESSO, PESANDO 3KG, Martelo de Atletismo de aço, 3 kg, 85 mm, para lançamento. Pode ser usado em competições e treinamento. Cabeça com diâmetro de 85 mm com acabamento rígido de aço galvanizado com pintura a pó e núcleo de chumbo, peso e diâmetro precisos, formato esférico, equilíbrio perfeito e superfície totalmente lisa. Cabo de aço galvanizado com 3,2 mm de espessura e 992 mm de comprimento. Empunhadura curvada de 110 mm de comprimento e largura com suporte e anel de aço e apoio de mão de alumínio. Peso total (incluindo cabo e empunhadura): 3,005 a 3,025 kg. Produto oficial, certificado pela IAAF. | E31: 52.10 | F31: Vinex | G31: PECA | H31: 20 | I31: 20 | J31: 249.45 | L31: =K31-(SUM(N31:Y31)) -> 0 | M31: =IF(L31<0,"ATENÇÃO","OK") -> OK | N31: 0 | O31: 0 | P31: 0 | Q31: 0 | R31: 0 | S31: 0 | T31: 0 | U31: 0 | V31: 0 | W31: 0 | X31: 0 | Y31: 0
C32: 11 | D32: PESO PARA ARREMESSO, PESANDO 4KG, Peso de Atletismo Indoor, 4,00 KG para arremesso. Revestimento de PVC macio de alta resistência com recheio de microesferas de aço. Diâmetro de 135 mm. Peso: 4,00 kg. Produto oficial para competições indoor, conforme regras da IAAF. | E32: 52.10 | F32: Vinex | G32: PECA | H32: 20 | I32: 20 | J32: 179.9 | L32: =K32-(SUM(N32:Y32)) -> 0 | M32: =IF(L32<0,"ATENÇÃO","OK") -> OK | N32: 0 | O32: 0 | P32: 0 | Q32: 0 | R32: 0 | S32: 0 | T32: 0 | U32: 0 | V32: 0 | W32: 0 | X32: 0 | Y32: 0
C33: 12 | D33: PESO PARA ARREMESSO, PESANDO 5KG, Peso de Atletismo Indoor, 5,00 kg para arremesso. Revestimento de PVC macio de alta resistência com recheio de microesferas de aço. Diâmetro de 135 mm. Peso: 5,00 kg. Produto oficial para competições indoor, conforme regras da IAAF. | E33: 52.10 | F33: Vinex | G33: PECA | H33: 20 | I33: 20 | J33: 254.9 | L33: =K33-(SUM(N33:Y33)) -> 0 | M33: =IF(L33<0,"ATENÇÃO","OK") -> OK | N33: 0 | O33: 0 | P33: 0 | Q33: 0 | R33: 0 | S33: 0 | T33: 0 | U33: 0 | V33: 0 | W33: 0 | X33: 0 | Y33: 0
C34: 13 | D34: TRENO, PARA TREINAMENTO ESPORTIVO, Trenó para treinamento de força. Para uso na grama ou areia. Estrutura de aço tubular, pintura a pó. Inclui cinto ajustável com velcro e fita reforçada de nylon. Tamanho: 70 cm de comprimento x 30 cm de largura, peso de 2 kg. | E34: 52.10 | F34: Vinex | G34: PECA | H34: 20 | I34: 20 | J34: 184.95 | L34: =K34-(SUM(N34:Y34)) -> 0 | M34: =IF(L34<0,"ATENÇÃO","OK") -> OK | N34: 0 | O34: 0 | P34: 0 | Q34: 0 | R34: 0 | S34: 0 | T34: 0 | U34: 0 | V34: 0 | W34: 0 | X34: 0 | Y34: 0
A35: FRATELLI COMERCIO DE MAQUINAS E EQUIPAMENTOS LTDA ME | B35: 3 | C35: 1 | D35: CARRO MANUAL PARA TRANSPORTE, DE BLOCOS DE PARTIDA, Carrinho para transporte de blocos de partida. Feito de aço e rodas Heavy Duty com dispositivo de bloqueio. Pintura a pó, resistente à corrosão, impacto, ação química, etc. Transporta até 10 blocos de partida. | E35: 52.10 | F35: Vinex | G35: PECA | H35: 20 | I35: 20 | J35: 679.9 | L35: =K35-(SUM(N35:Y35)) -> 0 | M35: =IF(L35<0,"ATENÇÃO","OK") -> OK | N35: 0 | O35: 0 | P35: 0 | Q35: 0 | R35: 0 | S35: 0 | T35: 0 | U35: 0 | V35: 0 | W35: 0 | X35: 0 | Y35: 0
C36: 2 | D36: CARRO MANUAL PARA TRANSPORTE, DE DISCOS, PESOS E DARDOS, Carrinho para transporte de discos, pesos e dardos. Feito de aço tubular de alta resistência, rodas giratórias reforçadas. Pintura a pó, resistente à corrosão, impacto, ação química. Transporta 12 dardos, 12 pesos e 30 discos. | E36: 52.10 | F36: Vinex | G36: PECA | H36: 20 | I36: 20 | J36: 748 | L36: =K36-(SUM(N36:Y36)) -> 0 | M36: =IF(L36<0,"ATENÇÃO","OK") -> OK | N36: 0 | O36: 0 | P36: 0 | Q36: 0 | R36: 0 | S36: 0 | T36: 0 | U36: 0 | V36: 0 | W36: 0 | X36: 0 | Y36: 0
A37: FRATELLI COMERCIO DE MAQUINAS E EQUIPAMENTOS LTDA ME | B37: 4 | C37: 1 | D37: CONTROLADOR DE 24 SEGUNDOS, PARA BASQUETEBOL, Controlador de 24 segundos para basquetebol com dois Módulos mostradores, dois dígitos por módulo, Cronômetro regressivo de 24 e 30 segundos selecionável por chave, Marcador de faltas individuais de jogador de 1 a 5, Alarme de Sirene intermitente de 120 dB acionada manualmente ou automaticamente quando tempo esgotado, Gabinete em alumínio com pintura eletrostática, parte Frontal dos Dígitos em Acrílico translúcido vermelho, Painel de Comandos Microcontrolado com display de cristal líquido, com comunicação wireless. | E37: 52.10 | F37: Tecnodis/HS24 | G37: PECA | H37: 20 | I37: 20 | J37: 1409 | L37: =K37-(SUM(N37:Y37)) -> 0 | M37: =IF(L37<0,"ATENÇÃO","OK") -> OK | N37: 0 | O37: 0 | P37: 0 | Q37: 0 | R37: 0 | S37: 0 | T37: 0 | U37: 0 | V37: 0 | W37: 0 | X37: 0 | Y37: 0
