Workbook
Name diasuteis: #REF!
Name diasuteis: #REF!
Name diasuteis: #REF!
Name diasuteis: #REF!
Name diasuteis: #REF!
Name diasuteis: #REF!
Name diasuteis: #REF!
Name diasuteis: #REF!
Name diasuteis: #REF!
Name diasuteis: #REF!
Name diasuteis: #REF!
Name diasuteis: #REF!
Name diasuteis: #REF!
Name diasuteis: #REF!
Name Ferias: #REF!
Name Ferias: #REF!
Name Ferias: #REF!
Name Ferias: #REF!
Name Ferias: #REF!
Name Ferias: #REF!
Name Ferias: #REF!
Name Ferias: #REF!
Name Ferias: #REF!
Name Ferias: #REF!
Name Ferias: #REF!
Name Ferias: #REF!
Name Ferias: #REF!
Name RD: OFFSET(#REF!,(MATCH(SMALL(#REF!,ROW()-10),#REF!,0)-1),0)

Sheet REIT
A1: PROCESSO: 1024/2014/UDESC | D1: OBJETO: Aquisição de projetores e lâmpadas para projetores | K1: VIGÊNCIA DA ATA: 07/10/2014 até 06/10/2015 | N1: AF/OS nº 104/2015 Qtde. DT
A2: CENTRO PARTICIPANTE: REITORIA
A3: FORNECEDOR | B3: LOTE | C3: ITEM | D3: PRODUTO - CARACTERÍSTICAS MÍNIMAS | E3: ELEMENTO | F3: MARCA | G3: UNIDADE | H3: Entrega (Dias) | I3: Pagto. (Dias) | J3: Preço UNITÁRIO (R$) | K3: Qtde LICITADA | L3: Saldo / Automático | M3: ALERTA | N3: 42045
A4: Harley de Aguiar Júnior EPP | B4: 1 | C4: 1 | D4: PROJETOR, MULTIMIDIA, CARACTERÍSTICAS MÍNIMAS: 1) Canhão de projeção com tecnologia LCD ou DLP; 2) Resolução nativa de 1024x768; 3) Luminosidade de 2500 lumens; 4) Contraste de 3000:1; 5) Reprodução de 16 milhões de cores; 6) Compatibilidade com padrão NTSC e PAL-M; 7) Formato de imagem 4x3 e 16x9; 8) Coreção keystone vertical e horizontal; 9) Controle remoto sem fio; 10) Ajuste de zoom e foco; 11) Tamanho da imagem projetada de 1 a 3 metros na diagonal; 12) Distância entre o projetor e a imagem entre 1 a 5 mestros; 13) Entradas para video analógico VGA (d-sub 15p), S-Video, vídeo composto e video digital HDMI; 14) Entrada para áudio estereo e autofalante; 15) Interface USB 2.0; 16) Duração média da lâmpada de 3000 hrs em uso normal; 17) Peso máximo 4Kg; 18) Ruido menor que 50 db em funcionamento; 19) Projeção mesa/teto, fronta/traseiro; 20) Fonte de alimentação automática operando de 100 a 240 VAC de entrada, 60 Hz. CONDIÇÔES GERAIS: a) Garantia de hardware do tipo on-site de 3 anos (exceto para lampada que deverá ser de 1 ano), disponibilizada pelo fabricante e realizada pelo mesmo ou por empresa autorizada oficialmente, com tempo de solução em até cinco dias; b) Indicação no site do fabricante das especificações técnicas específicas do modelo do equipamento. | E4: 449052-33 | F4: EPSON MODELO X17 | G4: Peça | H4: 30 | I4: 20 | J4: 1645 | K4: 8 | L4: =K4-(SUM(N4:N4)) -> 4 | M4: =IF(L4<0,"ATENÇÃO","OK") -> OK | N4: 4
A5: Retropar Comércio Representação e Importação Ltda | B5: 2 | C5: 2 | D5: Lampadas para Projetor, marca: BENQ / modelo: MP512ST | E5: 339030-29 | G5: Peça | H5: 30 | I5: 20 | J5: 485 | L5: =K5-(SUM(N5:N5)) -> 0 | M5: =IF(L5<0,"ATENÇÃO","OK") -> OK | N5: 0
A6: Negócios de Informática RW Ltda EPP | B6: 3 | C6: 3 | D6: Lampadas para Projetor, marca: BENQ / modelo: MX618ST | E6: 339030-29 | G6: Peça | H6: 30 | I6: 20 | J6: 647 | L6: =K6-(SUM(N6:N6)) -> 0 | M6: =IF(L6<0,"ATENÇÃO","OK") -> OK | N6: 0
A7: BMI Prosper EIRELI | B7: 4 | C7: 4 | D7: Lampadas para Projetor, marca: EPSON / modelo: ELPLP78 | E7: 339030-29 | G7: Peça | H7: 30 | I7: 20 | J7: 493 | L7: =K7-(SUM(N7:N7)) -> 0 | M7: =IF(L7<0,"ATENÇÃO","OK") -> OK | N7: 0
A8: Retropar Comércio Representação e Importação Ltda | B8: 5 | C8: 5 | D8: Lampadas para Projetor, marca: EPSON / modelo: H429A | E8: 339030-29 | G8: Peça | H8: 30 | I8: 20 | J8: 440 | L8: =K8-(SUM(N8:N8)) -> 0 | M8: =IF(L8<0,"ATENÇÃO","OK") -> OK | N8: 0
B9: 6 | C9: 6 | D9: Lampadas para Projetor, marca: EPSON / modelo: H569A | E9: 339030-29 | G9: Peça | H9: 30 | I9: 20 | J9: 590 | L9: =K9-(SUM(N9:N9)) -> 0 | M9: =IF(L9<0,"ATENÇÃO","OK") -> OK | N9: 0
B10: 7 | C10: 7 | D10: Lampadas para Projetor, marca: EPSON / modelo: PowerLite X17 | E10: 339030-29 | G10: Peça | H10: 30 | I10: 20 | J10: 590 | L10: =K10-(SUM(N10:N10)) -> 0 | M10: =IF(L10<0,"ATENÇÃO","OK") -> OK | N10: 0
B11: 8 | C11: 8 | D11: Lampadas para Projetor, marca: EPSON / modelo: X12 | E11: 339030-29 | G11: Peça | H11: 30 | I11: 20 | J11: 427 | L11: =K11-(SUM(N11:N11)) -> 0 | M11: =IF(L11<0,"ATENÇÃO","OK") -> OK | N11: 0
B12: 9 | C12: 9 | D12: Lampadas para Projetor, marca: INFOCUS / modelo: LP280 | E12: 339030-29 | G12: Peça | H12: 30 | I12: 20 | J12: 530 | L12: =K12-(SUM(N12:N12)) -> 0 | M12: =IF(L12<0,"ATENÇÃO","OK") -> OK | N12: 0
B13: 10 | C13: 10 | D13: Lampadas para Projetor, marca: NEC / modelo: NP100 | E13: 339030-29 | G13: Peça | H13: 30 | I13: 20 | J13: 497 | L13: =K13-(SUM(N13:N13)) -> 0 | M13: =IF(L13<0,"ATENÇÃO","OK") -> OK | N13: 0
B14: 11 | C14: 11 | D14: Lampadas para Projetor, marca: OPTOMA/ modelo: DX551 DLP | E14: 339030-29 | G14: Peça | H14: 30 | I14: 20 | J14: 540 | L14: =K14-(SUM(N14:N14)) -> 0 | M14: =IF(L14<0,"ATENÇÃO","OK") -> OK | N14: 0
A15: BMI Prosper EIRELI | B15: 12 | C15: 12 | D15: Lampadas para Projetor, marca: SANYO / modelo: KA7-DSB20N00 | E15: 339030-29 | G15: Peça | H15: 30 | I15: 20 | J15: 1900 | L15: =K15-(SUM(N15:N15)) -> 0 | M15: =IF(L15<0,"ATENÇÃO","OK") -> OK | N15: 0
A16: Retropar Comércio Representação e Importação Ltda | B16: 13 | C16: 13 | D16: Lampadas para Projetor, marca: SANYO / modelo: PDGDSU20N | E16: 339030-29 | G16: Peça | H16: 30 | I16: 20 | J16: 465 | L16: =K16-(SUM(N16:N16)) -> 0 | M16: =IF(L16<0,"ATENÇÃO","OK") -> OK | N16: 0
A17: BMI Prosper EIRELI | B17: 14 | C17: 14 | D17: Lampadas para Projetor, marca: VIEW SONIC / modelo: PJD5122 - VS13308 | E17: 339030-29 | G17: Peça | H17: 30 | I17: 20 | J17: 449 | L17: =K17-(SUM(N17:N17)) -> 0 | M17: =IF(L17<0,"ATENÇÃO","OK") -> OK | N17: 0

Sheet PROEX
A1: PROCESSO: 1024/2014/UDESC | D1: OBJETO: Aquisição de projetores e lâmpadas para projetores | K1: VIGÊNCIA DA ATA: 07/10/2014 até 06/10/2015 | N1: AF/OS nº 104/2015 Qtde. DT
A2: CENTRO PARTICIPANTE: PROEX
A3: FORNECEDOR | B3: LOTE | C3: ITEM | D3: PRODUTO - CARACTERÍSTICAS MÍNIMAS | E3: ELEMENTO | F3: MARCA | G3: UNIDADE | H3: Entrega (Dias) | I3: Pagto. (Dias) | J3: Preço UNITÁRIO (R$) | K3: Qtde LICITADA | L3: Saldo / Automático | M3: ALERTA | N3: 42045
A4: Harley de Aguiar Júnior EPP | B4: 1 | C4: 1 | D4: PROJETOR, MULTIMIDIA, CARACTERÍSTICAS MÍNIMAS: 1) Canhão de projeção com tecnologia LCD ou DLP; 2) Resolução nativa de 1024x768; 3) Luminosidade de 2500 lumens; 4) Contraste de 3000:1; 5) Reprodução de 16 milhões de cores; 6) Compatibilidade com padrão NTSC e PAL-M; 7) Formato de imagem 4x3 e 16x9; 8) Coreção keystone vertical e horizontal; 9) Controle remoto sem fio; 10) Ajuste de zoom e foco; 11) Tamanho da imagem projetada de 1 a 3 metros na diagonal; 12) Distância entre o projetor e a imagem entre 1 a 5 mestros; 13) Entradas para video analógico VGA (d-sub 15p), S-Video, vídeo composto e video digital HDMI; 14) Entrada para áudio estereo e autofalante; 15) Interface USB 2.0; 16) Duração média da lâmpada de 3000 hrs em uso normal; 17) Peso máximo 4Kg; 18) Ruido menor que 50 db em funcionamento; 19) Projeção mesa/teto, fronta/traseiro; 20) Fonte de alimentação automática operando de 100 a 240 VAC de entrada, 60 Hz. CONDIÇÔES GERAIS: a) Garantia de hardware do tipo on-site de 3 anos (exceto para lampada que deverá ser de 1 ano), disponibilizada pelo fabricante e realizada pelo mesmo ou por empresa autorizada oficialmente, com tempo de solução em até cinco dias; b) Indicação no site do fabricante das especificações técnicas específicas do modelo do equipamento. | E4: 449052-33 | F4: EPSON MODELO X17 | G4: Peça | H4: 30 | I4: 20 | J4: 1645 | K4: 6 | L4: =K4-(SUM(N4:N4)) -> 2 | M4: =IF(L4<0,"ATENÇÃO","OK") -> OK | N4: 4
A5: Retropar Comércio Representação e Importação Ltda | B5: 2 | C5: 2 | D5: Lampadas para Projetor, marca: BENQ / modelo: MP512ST | E5: 339030-29 | G5: Peça | H5: 30 | I5: 20 | J5: 485 | L5: =K5-(SUM(N5:N5)) -> 0 | M5: =IF(L5<0,"ATENÇÃO","OK") -> OK | N5: 0
A6: Negócios de Informática RW Ltda EPP | B6: 3 | C6: 3 | D6: Lampadas para Projetor, marca: BENQ / modelo: MX618ST | E6: 339030-29 | G6: Peça | H6: 30 | I6: 20 | J6: 647 | L6: =K6-(SUM(N6:N6)) -> 0 | M6: =IF(L6<0,"ATENÇÃO","OK") -> OK | N6: 0
A7: BMI Prosper EIRELI | B7: 4 | C7: 4 | D7: Lampadas para Projetor, marca: EPSON / modelo: ELPLP78 | E7: 339030-29 | G7: Peça | H7: 30 | I7: 20 | J7: 493 | L7: =K7-(SUM(N7:N7)) -> 0 | M7: =IF(L7<0,"ATENÇÃO","OK") -> OK | N7: 0
A8: Retropar Comércio Representação e Importação Ltda | B8: 5 | C8: 5 | D8: Lampadas para Projetor, marca: EPSON / modelo: H429A | E8: 339030-29 | G8: Peça | H8: 30 | I8: 20 | J8: 440 | L8: =K8-(SUM(N8:N8)) -> 0 | M8: =IF(L8<0,"ATENÇÃO","OK") -> OK | N8: 0
B9: 6 | C9: 6 | D9: Lampadas para Projetor, marca: EPSON / modelo: H569A | E9: 339030-29 | G9: Peça | H9: 30 | I9: 20 | J9: 590 | L9: =K9-(SUM(N9:N9)) -> 0 | M9: =IF(L9<0,"ATENÇÃO","OK") -> OK | N9: 0
B10: 7 | C10: 7 | D10: Lampadas para Projetor, marca: EPSON / modelo: PowerLite X17 | E10: 339030-29 | G10: Peça | H10: 30 | I10: 20 | J10: 590 | L10: =K10-(SUM(N10:N10)) -> 0 | M10: =IF(L10<0,"ATENÇÃO","OK") -> OK | N10: 0
B11: 8 | C11: 8 | D11: Lampadas para Projetor, marca: EPSON / modelo: X12 | E11: 339030-29 | G11: Peça | H11: 30 | I11: 20 | J11: 427 | L11: =K11-(SUM(N11:N11)) -> 0 | M11: =IF(L11<0,"ATENÇÃO","OK") -> OK | N11: 0
B12: 9 | C12: 9 | D12: Lampadas para Projetor, marca: INFOCUS / modelo: LP280 | E12: 339030-29 | G12: Peça | H12: 30 | I12: 20 | J12: 530 | L12: =K12-(SUM(N12:N12)) -> 0 | M12: =IF(L12<0,"ATENÇÃO","OK") -> OK | N12: 0
B13: 10 | C13: 10 | D13: Lampadas para Projetor, marca: NEC / modelo: NP100 | E13: 339030-29 | G13: Peça | H13: 30 | I13: 20 | J13: 497 | L13: =K13-(SUM(N13:N13)) -> 0 | M13: =IF(L13<0,"ATENÇÃO","OK") -> OK | N13: 0
B14: 11 | C14: 11 | D14: Lampadas para Projetor, marca: OPTOMA/ modelo: DX551 DLP | E14: 339030-29 | G14: Peça | H14: 30 | I14: 20 | J14: 540 | L14: =K14-(SUM(N14:N14)) -> 0 | M14: =IF(L14<0,"ATENÇÃO","OK") -> OK | N14: 0
A15: BMI Prosper EIRELI | B15: 12 | C15: 12 | D15: Lampadas para Projetor, marca: SANYO / modelo: KA7-DSB20N00 | E15: 339030-29 | G15: Peça | H15: 30 | I15: 20 | J15: 1900 | L15: =K15-(SUM(N15:N15)) -> 0 | M15: =IF(L15<0,"ATENÇÃO","OK") -> OK | N15: 0
A16: Retropar Comércio Representação e Importação Ltda | B16: 13 | C16: 13 | D16: Lampadas para Projetor, marca: SANYO / modelo: PDGDSU20N | E16: 339030-29 | G16: Peça | H16: 30 | I16: 20 | J16: 465 | L16: =K16-(SUM(N16:N16)) -> 0 | M16: =IF(L16<0,"ATENÇÃO","OK") -> OK | N16: 0
A17: BMI Prosper EIRELI | B17: 14 | C17: 14 | D17: Lampadas para Projetor, marca: VIEW SONIC / modelo: PJD5122 - VS13308 | E17: 339030-29 | G17: Peça | H17: 30 | I17: 20 | J17: 449 | L17: =K17-(SUM(N17:N17)) -> 0 | M17: =IF(L17<0,"ATENÇÃO","OK") -> OK | N17: 0

Sheet CEART
A1: PROCESSO: 1024/2014/UDESC | D1: OBJETO: Aquisição de projetores e lâmpadas para projetores | K1: VIGÊNCIA DA ATA: 07/10/2014 até 06/10/2015 | N1: "51/2015" | O1: "54/2015" | P1: AF 1672/2015
A2: CENTRO PARTICIPANTE: CEART
A3: FORNECEDOR | B3: LOTE | C3: ITEM | D3: PRODUTO - CARACTERÍSTICAS MÍNIMAS | E3: ELEMENTO | F3: MARCA | G3: UNIDADE | H3: Entrega (Dias) | I3: Pagto. (Dias) | J3: Preço UNITÁRIO (R$) | K3: Qtde LICITADA | L3: Saldo / Automático | M3: ALERTA | N3: 42090 | O3: 42038 | P3: 42264
A4: Harley de Aguiar Júnior EPP | B4: 1 | C4: 1 | D4: PROJETOR, MULTIMIDIA, CARACTERÍSTICAS MÍNIMAS: 1) Canhão de projeção com tecnologia LCD ou DLP; 2) Resolução nativa de 1024x768; 3) Luminosidade de 2500 lumens; 4) Contraste de 3000:1; 5) Reprodução de 16 milhões de cores; 6) Compatibilidade com padrão NTSC e PAL-M; 7) Formato de imagem 4x3 e 16x9; 8) Coreção keystone vertical e horizontal; 9) Controle remoto sem fio; 10) Ajuste de zoom e foco; 11) Tamanho da imagem projetada de 1 a 3 metros na diagonal; 12) Distância entre o projetor e a imagem entre 1 a 5 mestros; 13) Entradas para video analógico VGA (d-sub 15p), S-Video, vídeo composto e video digital HDMI; 14) Entrada para áudio estereo e autofalante; 15) Interface USB 2.0; 16) Duração média da lâmpada de 3000 hrs em uso normal; 17) Peso máximo 4Kg; 18) Ruido menor que 50 db em funcionamento; 19) Projeção mesa/teto, fronta/traseiro; 20) Fonte de alimentação automática operando de 100 a 240 VAC de entrada, 60 Hz. CONDIÇÔES GERAIS: a) Garantia de hardware do tipo on-site de 3 anos (exceto para lampada que deverá ser de 1 ano), disponibilizada pelo fabricante e realizada pelo mesmo ou por empresa autorizada oficialmente, com tempo de solução em até cinco dias; b) Indicação no site do fabricante das especificações técnicas específicas do modelo do equipamento. | E4: 449052-33 | F4: EPSON MODELO X17 | G4: Peça | H4: 30 | I4: 20 | J4: 1645 | K4: 15 | L4: =K4-(SUM(N4:P4)) -> 8 | M4: =IF(L4<0,"ATENÇÃO","OK") -> OK | N4: 1 | O4: 0 | P4: 6
A5: Retropar Comércio Representação e Importação Ltda | B5: 2 | C5: 2 | D5: Lampadas para Projetor, marca: BENQ / modelo: MP512ST | E5: 339030-29 | G5: Peça | H5: 30 | I5: 20 | J5: 485 | L5: =K5-(SUM(N5:P5)) -> 0 | M5: =IF(L5<0,"ATENÇÃO","OK") -> OK | N5: 0 | O5: 0 | P5: 0
A6: Negócios de Informática RW Ltda EPP | B6: 3 | C6: 3 | D6: Lampadas para Projetor, marca: BENQ / modelo: MX618ST | E6: 339030-29 | G6: Peça | H6: 30 | I6: 20 | J6: 647 | L6: =K6-(SUM(N6:P6)) -> 0 | M6: =IF(L6<0,"ATENÇÃO","OK") -> OK | N6: 0 | O6: 0 | P6: 0
A7: BMI Prosper EIRELI | B7: 4 | C7: 4 | D7: Lampadas para Projetor, marca: EPSON / modelo: ELPLP78 | E7: 339030-29 | G7: Peça | H7: 30 | I7: 20 | J7: 493 | L7: =K7-(SUM(N7:P7)) -> 0 | M7: =IF(L7<0,"ATENÇÃO","OK") -> OK | N7: 0 | O7: 0 | P7: 0
A8: Retropar Comércio Representação e Importação Ltda | B8: 5 | C8: 5 | D8: Lampadas para Projetor, marca: EPSON / modelo: H429A | E8: 339030-29 | G8: Peça | H8: 30 | I8: 20 | J8: 440 | L8: =K8-(SUM(N8:P8)) -> 0 | M8: =IF(L8<0,"ATENÇÃO","OK") -> OK | N8: 0 | O8: 0 | P8: 0
B9: 6 | C9: 6 | D9: Lampadas para Projetor, marca: EPSON / modelo: H569A | E9: 339030-29 | G9: Peça | H9: 30 | I9: 20 | J9: 590 | L9: =K9-(SUM(N9:P9)) -> 0 | M9: =IF(L9<0,"ATENÇÃO","OK") -> OK | N9: 0 | O9: 0 | P9: 0
B10: 7 | C10: 7 | D10: Lampadas para Projetor, marca: EPSON / modelo: PowerLite X17 | E10: 339030-29 | G10: Peça | H10: 30 | I10: 20 | J10: 590 | K10: 10 | L10: =K10-(SUM(N10:P10)) -> 0 | M10: =IF(L10<0,"ATENÇÃO","OK") -> OK | O10: 10 | P10: 0
B11: 8 | C11: 8 | D11: Lampadas para Projetor, marca: EPSON / modelo: X12 | E11: 339030-29 | G11: Peça | H11: 30 | I11: 20 | J11: 427 | L11: =K11-(SUM(N11:P11)) -> 0 | M11: =IF(L11<0,"ATENÇÃO","OK") -> OK | N11: 0 | O11: 0 | P11: 0
B12: 9 | C12: 9 | D12: Lampadas para Projetor, marca: INFOCUS / modelo: LP280 | E12: 339030-29 | G12: Peça | H12: 30 | I12: 20 | J12: 530 | L12: =K12-(SUM(N12:P12)) -> 0 | M12: =IF(L12<0,"ATENÇÃO","OK") -> OK | N12: 0 | O12: 0 | P12: 0
B13: 10 | C13: 10 | D13: Lampadas para Projetor, marca: NEC / modelo: NP100 | E13: 339030-29 | G13: Peça | H13: 30 | I13: 20 | J13: 497 | L13: =K13-(SUM(N13:P13)) -> 0 | M13: =IF(L13<0,"ATENÇÃO","OK") -> OK | N13: 0 | O13: 0 | P13: 0
B14: 11 | C14: 11 | D14: Lampadas para Projetor, marca: OPTOMA/ modelo: DX551 DLP | E14: 339030-29 | G14: Peça | H14: 30 | I14: 20 | J14: 540 | K14: 8 | L14: =K14-(SUM(N14:P14)) -> 2 | M14: =IF(L14<0,"ATENÇÃO","OK") -> OK | O14: 6 | P14: 0
A15: BMI Prosper EIRELI | B15: 12 | C15: 12 | D15: Lampadas para Projetor, marca: SANYO / modelo: KA7-DSB20N00 | E15: 339030-29 | G15: Peça | H15: 30 | I15: 20 | J15: 1900 | L15: =K15-(SUM(N15:P15)) -> 0 | M15: =IF(L15<0,"ATENÇÃO","OK") -> OK | N15: 0 | O15: 0 | P15: 0
A16: Retropar Comércio Representação e Importação Ltda | B16: 13 | C16: 13 | D16: Lampadas para Projetor, marca: SANYO / modelo: PDGDSU20N | E16: 339030-29 | G16: Peça | H16: 30 | I16: 20 | J16: 465 | L16: =K16-(SUM(N16:P16)) -> 0 | M16: =IF(L16<0,"ATENÇÃO","OK") -> OK | N16: 0 | O16: 0 | P16: 0
A17: BMI Prosper EIRELI | B17: 14 | C17: 14 | D17: Lampadas para Projetor, marca: VIEW SONIC / modelo: PJD5122 - VS13308 | E17: 339030-29 | G17: Peça | H17: 30 | I17: 20 | J17: 449 | L17: =K17-(SUM(N17:P17)) -> 0 | M17: =IF(L17<0,"ATENÇÃO","OK") -> OK | N17: 0 | O17: 0 | P17: 0

Sheet FAED
A1: PROCESSO: 1024/2014/UDESC | D1: OBJETO: Aquisição de projetores e lâmpadas para projetores | K1: VIGÊNCIA DA ATA: 07/10/2014 até 06/10/2015 | N1: AF/OS nº 331/2015 Qtde. DT | O1: AF/OS nº 636/2015 Qtde. DT
A2: CENTRO PARTICIPANTE: FAED
A3: FORNECEDOR | B3: LOTE | C3: ITEM | D3: PRODUTO - CARACTERÍSTICAS MÍNIMAS | E3: ELEMENTO | F3: MARCA | G3: UNIDADE | H3: Entrega (Dias) | I3: Pagto. (Dias) | J3: Preço UNITÁRIO (R$) | K3: Qtde LICITADA | L3: Saldo / Automático | M3: ALERTA | N3: 42088 | O3: 42129
A4: Harley de Aguiar Júnior EPP | B4: 1 | C4: 1 | D4: PROJETOR, MULTIMIDIA, CARACTERÍSTICAS MÍNIMAS: 1) Canhão de projeção com tecnologia LCD ou DLP; 2) Resolução nativa de 1024x768; 3) Luminosidade de 2500 lumens; 4) Contraste de 3000:1; 5) Reprodução de 16 milhões de cores; 6) Compatibilidade com padrão NTSC e PAL-M; 7) Formato de imagem 4x3 e 16x9; 8) Coreção keystone vertical e horizontal; 9) Controle remoto sem fio; 10) Ajuste de zoom e foco; 11) Tamanho da imagem projetada de 1 a 3 metros na diagonal; 12) Distância entre o projetor e a imagem entre 1 a 5 mestros; 13) Entradas para video analógico VGA (d-sub 15p), S-Video, vídeo composto e video digital HDMI; 14) Entrada para áudio estereo e autofalante; 15) Interface USB 2.0; 16) Duração média da lâmpada de 3000 hrs em uso normal; 17) Peso máximo 4Kg; 18) Ruido menor que 50 db em funcionamento; 19) Projeção mesa/teto, fronta/traseiro; 20) Fonte de alimentação automática operando de 100 a 240 VAC de entrada, 60 Hz. CONDIÇÔES GERAIS: a) Garantia de hardware do tipo on-site de 3 anos (exceto para lampada que deverá ser de 1 ano), disponibilizada pelo fabricante e realizada pelo mesmo ou por empresa autorizada oficialmente, com tempo de solução em até cinco dias; b) Indicação no site do fabricante das especificações técnicas específicas do modelo do equipamento. | E4: 449052-33 | F4: EPSON MODELO X17 | G4: Peça | H4: 30 | I4: 20 | J4: 1645 | K4: 10 | L4: =K4-(SUM(N4:O4)) -> 8 | M4: =IF(L4<0,"ATENÇÃO","OK") -> OK | N4: 1 | O4: 1
A5: Retropar Comércio Representação e Importação Ltda | B5: 2 | C5: 2 | D5: Lampadas para Projetor, marca: BENQ / modelo: MP512ST | E5: 339030-29 | G5: Peça | H5: 30 | I5: 20 | J5: 485 | L5: =K5-(SUM(N5:O5)) -> 0 | M5: =IF(L5<0,"ATENÇÃO","OK") -> OK | N5: 0 | O5: 0
A6: Negócios de Informática RW Ltda EPP | B6: 3 | C6: 3 | D6: Lampadas para Projetor, marca: BENQ / modelo: MX618ST | E6: 339030-29 | G6: Peça | H6: 30 | I6: 20 | J6: 647 | L6: =K6-(SUM(N6:O6)) -> 0 | M6: =IF(L6<0,"ATENÇÃO","OK") -> OK | N6: 0 | O6: 0
A7: BMI Prosper EIRELI | B7: 4 | C7: 4 | D7: Lampadas para Projetor, marca: EPSON / modelo: ELPLP78 | E7: 339030-29 | G7: Peça | H7: 30 | I7: 20 | J7: 493 | L7: =K7-(SUM(N7:O7)) -> 0 | M7: =IF(L7<0,"ATENÇÃO","OK") -> OK | N7: 0 | O7: 0
A8: Retropar Comércio Representação e Importação Ltda | B8: 5 | C8: 5 | D8: Lampadas para Projetor, marca: EPSON / modelo: H429A | E8: 339030-29 | G8: Peça | H8: 30 | I8: 20 | J8: 440 | L8: =K8-(SUM(N8:O8)) -> 0 | M8: =IF(L8<0,"ATENÇÃO","OK") -> OK | N8: 0 | O8: 0
B9: 6 | C9: 6 | D9: Lampadas para Projetor, marca: EPSON / modelo: H569A | E9: 339030-29 | G9: Peça | H9: 30 | I9: 20 | J9: 590 | L9: =K9-(SUM(N9:O9)) -> 0 | M9: =IF(L9<0,"ATENÇÃO","OK") -> OK | N9: 0 | O9: 0
B10: 7 | C10: 7 | D10: Lampadas para Projetor, marca: EPSON / modelo: PowerLite X17 | E10: 339030-29 | G10: Peça | H10: 30 | I10: 20 | J10: 590 | L10: =K10-(SUM(N10:O10)) -> 0 | M10: =IF(L10<0,"ATENÇÃO","OK") -> OK | N10: 0 | O10: 0
B11: 8 | C11: 8 | D11: Lampadas para Projetor, marca: EPSON / modelo: X12 | E11: 339030-29 | G11: Peça | H11: 30 | I11: 20 | J11: 427 | L11: =K11-(SUM(N11:O11)) -> 0 | M11: =IF(L11<0,"ATENÇÃO","OK") -> OK | N11: 0 | O11: 0
B12: 9 | C12: 9 | D12: Lampadas para Projetor, marca: INFOCUS / modelo: LP280 | E12: 339030-29 | G12: Peça | H12: 30 | I12: 20 | J12: 530 | L12: =K12-(SUM(N12:O12)) -> 0 | M12: =IF(L12<0,"ATENÇÃO","OK") -> OK | N12: 0 | O12: 0
B13: 10 | C13: 10 | D13: Lampadas para Projetor, marca: NEC / modelo: NP100 | E13: 339030-29 | G13: Peça | H13: 30 | I13: 20 | J13: 497 | L13: =K13-(SUM(N13:O13)) -> 0 | M13: =IF(L13<0,"ATENÇÃO","OK") -> OK | N13: 0 | O13: 0
B14: 11 | C14: 11 | D14: Lampadas para Projetor, marca: OPTOMA/ modelo: DX551 DLP | E14: 339030-29 | G14: Peça | H14: 30 | I14: 20 | J14: 540 | L14: =K14-(SUM(N14:O14)) -> 0 | M14: =IF(L14<0,"ATENÇÃO","OK") -> OK | N14: 0 | O14: 0
A15: BMI Prosper EIRELI | B15: 12 | C15: 12 | D15: Lampadas para Projetor, marca: SANYO / modelo: KA7-DSB20N00 | E15: 339030-29 | G15: Peça | H15: 30 | I15: 20 | J15: 1900 | L15: =K15-(SUM(N15:O15)) -> 0 | M15: =IF(L15<0,"ATENÇÃO","OK") -> OK | N15: 0 | O15: 0
A16: Retropar Comércio Representação e Importação Ltda | B16: 13 | C16: 13 | D16: Lampadas para Projetor, marca: SANYO / modelo: PDGDSU20N | E16: 339030-29 | G16: Peça | H16: 30 | I16: 20 | J16: 465 | L16: =K16-(SUM(N16:O16)) -> 0 | M16: =IF(L16<0,"ATENÇÃO","OK") -> OK | N16: 0 | O16: 0
A17: BMI Prosper EIRELI | B17: 14 | C17: 14 | D17: Lampadas para Projetor, marca: VIEW SONIC / modelo: PJD5122 - VS13308 | E17: 339030-29 | G17: Peça | H17: 30 | I17: 20 | J17: 449 | L17: =K17-(SUM(N17:O17)) -> 0 | M17: =IF(L17<0,"ATENÇÃO","OK") -> OK | N17: 0 | O17: 0

Sheet CEFID
A1: PROCESSO: 1024/2014/UDESC | D1: OBJETO: Aquisição de projetores e lâmpadas para projetores | K1: VIGÊNCIA DA ATA: 07/10/2014 até 06/10/2015 | N1: AF/OS nº 166/2015 Qtde. DT | O1: AF/OS nº 476/2015 Qtde. DT | P1: AF/OS nº 478/2015 Qtde. DT | Q1: AF/OS nº 486/2015Qtde. DT | R1: AF/OS nº 572/2015 Qtde. DT
A2: CENTRO PARTICIPANTE: CEFID
A3: FORNECEDOR | B3: LOTE | C3: ITEM | D3: PRODUTO - CARACTERÍSTICAS MÍNIMAS | E3: ELEMENTO | F3: MARCA | G3: UNIDADE | H3: Entrega (Dias) | I3: Pagto. (Dias) | J3: Preço UNITÁRIO (R$) | K3: Qtde LICITADA | L3: Saldo / Automático | M3: ALERTA | N3: 41693 | O3: 42110 | P3: 42110 | Q3: 42111 | R3: 42122
A4: Harley de Aguiar Júnior EPP | B4: 1 | C4: 1 | D4: PROJETOR, MULTIMIDIA, CARACTERÍSTICAS MÍNIMAS: 1) Canhão de projeção com tecnologia LCD ou DLP; 2) Resolução nativa de 1024x768; 3) Luminosidade de 2500 lumens; 4) Contraste de 3000:1; 5) Reprodução de 16 milhões de cores; 6) Compatibilidade com padrão NTSC e PAL-M; 7) Formato de imagem 4x3 e 16x9; 8) Coreção keystone vertical e horizontal; 9) Controle remoto sem fio; 10) Ajuste de zoom e foco; 11) Tamanho da imagem projetada de 1 a 3 metros na diagonal; 12) Distância entre o projetor e a imagem entre 1 a 5 mestros; 13) Entradas para video analógico VGA (d-sub 15p), S-Video, vídeo composto e video digital HDMI; 14) Entrada para áudio estereo e autofalante; 15) Interface USB 2.0; 16) Duração média da lâmpada de 3000 hrs em uso normal; 17) Peso máximo 4Kg; 18) Ruido menor que 50 db em funcionamento; 19) Projeção mesa/teto, fronta/traseiro; 20) Fonte de alimentação automática operando de 100 a 240 VAC de entrada, 60 Hz. CONDIÇÔES GERAIS: a) Garantia de hardware do tipo on-site de 3 anos (exceto para lampada que deverá ser de 1 ano), disponibilizada pelo fabricante e realizada pelo mesmo ou por empresa autorizada oficialmente, com tempo de solução em até cinco dias; b) Indicação no site do fabricante das especificações técnicas específicas do modelo do equipamento. | E4: 449052-33 | F4: EPSON MODELO X17 | G4: Peça | H4: 30 | I4: 20 | J4: 1645 | K4: 15 | L4: =K4-(SUM(N4:R4)) -> 10 | M4: =IF(L4<0,"ATENÇÃO","OK") -> OK | N4: 0 | O4: 2 | P4: 1 | Q4: 1 | R4: 1
A5: Retropar Comércio Representação e Importação Ltda | B5: 2 | C5: 2 | D5: Lampadas para Projetor, marca: BENQ / modelo: MP512ST | E5: 339030-29 | G5: Peça | H5: 30 | I5: 20 | J5: 485 | K5: 15 | L5: =K5-(SUM(N5:R5)) -> 15 | M5: =IF(L5<0,"ATENÇÃO","OK") -> OK | N5: 0 | O5: 0 | P5: 0 | Q5: 0 | R5: 0
A6: Negócios de Informática RW Ltda EPP | B6: 3 | C6: 3 | D6: Lampadas para Projetor, marca: BENQ / modelo: MX618ST | E6: 339030-29 | G6: Peça | H6: 30 | I6: 20 | J6: 647 | K6: 5 | L6: =K6-(SUM(N6:R6)) -> 5 | M6: =IF(L6<0,"ATENÇÃO","OK") -> OK | N6: 0 | O6: 0 | P6: 0 | Q6: 0 | R6: 0
A7: BMI Prosper EIRELI | B7: 4 | C7: 4 | D7: Lampadas para Projetor, marca: EPSON / modelo: ELPLP78 | E7: 339030-29 | G7: Peça | H7: 30 | I7: 20 | J7: 493 | L7: =K7-(SUM(N7:R7)) -> 0 | M7: =IF(L7<0,"ATENÇÃO","OK") -> OK | N7: 0 | O7: 0 | P7: 0 | Q7: 0 | R7: 0
A8: Retropar Comércio Representação e Importação Ltda | B8: 5 | C8: 5 | D8: Lampadas para Projetor, marca: EPSON / modelo: H429A | E8: 339030-29 | G8: Peça | H8: 30 | I8: 20 | J8: 440 | K8: 5 | L8: =K8-(SUM(N8:R8)) -> 5 | M8: =IF(L8<0,"ATENÇÃO","OK") -> OK | N8: 0 | O8: 0 | P8: 0 | Q8: 0 | R8: 0
B9: 6 | C9: 6 | D9: Lampadas para Projetor, marca: EPSON / modelo: H569A | E9: 339030-29 | G9: Peça | H9: 30 | I9: 20 | J9: 590 | L9: =K9-(SUM(N9:R9)) -> 0 | M9: =IF(L9<0,"ATENÇÃO","OK") -> OK | N9: 0 | O9: 0 | P9: 0 | Q9: 0 | R9: 0
B10: 7 | C10: 7 | D10: Lampadas para Projetor, marca: EPSON / modelo: PowerLite X17 | E10: 339030-29 | G10: Peça | H10: 30 | I10: 20 | J10: 590 | K10: 5 | L10: =K10-(SUM(N10:R10)) -> 5 | M10: =IF(L10<0,"ATENÇÃO","OK") -> OK | N10: 0 | O10: 0 | P10: 0 | Q10: 0 | R10: 0
B11: 8 | C11: 8 | D11: Lampadas para Projetor, marca: EPSON / modelo: X12 | E11: 339030-29 | G11: Peça | H11: 30 | I11: 20 | J11: 427 | L11: =K11-(SUM(N11:R11)) -> 0 | M11: =IF(L11<0,"ATENÇÃO","OK") -> OK | N11: 0 | O11: 0 | P11: 0 | Q11: 0 | R11: 0
B12: 9 | C12: 9 | D12: Lampadas para Projetor, marca: INFOCUS / modelo: LP280 | E12: 339030-29 | G12: Peça | H12: 30 | I12: 20 | J12: 530 | K12: 5 | L12: =K12-(SUM(N12:R12)) -> 5 | M12: =IF(L12<0,"ATENÇÃO","OK") -> OK | N12: 0 | O12: 0 | P12: 0 | Q12: 0 | R12: 0
B13: 10 | C13: 10 | D13: Lampadas para Projetor, marca: NEC / modelo: NP100 | E13: 339030-29 | G13: Peça | H13: 30 | I13: 20 | J13: 497 | K13: 5 | L13: =K13-(SUM(N13:R13)) -> 5 | M13: =IF(L13<0,"ATENÇÃO","OK") -> OK | N13: 0 | O13: 0 | P13: 0 | Q13: 0 | R13: 0
B14: 11 | C14: 11 | D14: Lampadas para Projetor, marca: OPTOMA/ modelo: DX551 DLP | E14: 339030-29 | G14: Peça | H14: 30 | I14: 20 | J14: 540 | K14: 15 | L14: =K14-(SUM(N14:R14)) -> 13 | M14: =IF(L14<0,"ATENÇÃO","OK") -> OK | N14: 2 | O14: 0 | P14: 0 | Q14: 0 | R14: 0
A15: BMI Prosper EIRELI | B15: 12 | C15: 12 | D15: Lampadas para Projetor, marca: SANYO / modelo: KA7-DSB20N00 | E15: 339030-29 | G15: Peça | H15: 30 | I15: 20 | J15: 1900 | K15: 5 | L15: =K15-(SUM(N15:R15)) -> 5 | M15: =IF(L15<0,"ATENÇÃO","OK") -> OK | N15: 0 | O15: 0 | P15: 0 | Q15: 0 | R15: 0
A16: Retropar Comércio Representação e Importação Ltda | B16: 13 | C16: 13 | D16: Lampadas para Projetor, marca: SANYO / modelo: PDGDSU20N | E16: 339030-29 | G16: Peça | H16: 30 | I16: 20 | J16: 465 | K16: 5 | L16: =K16-(SUM(N16:R16)) -> 5 | M16: =IF(L16<0,"ATENÇÃO","OK") -> OK | N16: 0 | O16: 0 | P16: 0 | Q16: 0 | R16: 0
A17: BMI Prosper EIRELI | B17: 14 | C17: 14 | D17: Lampadas para Projetor, marca: VIEW SONIC / modelo: PJD5122 - VS13308 | E17: 339030-29 | G17: Peça | H17: 30 | I17: 20 | J17: 449 | K17: 5 | L17: =K17-(SUM(N17:R17)) -> 5 | M17: =IF(L17<0,"ATENÇÃO","OK") -> OK | N17: 0 | O17: 0 | P17: 0 | Q17: 0 | R17: 0

Sheet CESFI
A1: PROCESSO: 1024/2014/UDESC | D1: OBJETO: Aquisição de projetores e lâmpadas para projetores | K1: VIGÊNCIA DA ATA: 07/10/2014 até 06/10/2015 | N1: AF/OS nº xxxx/2014 Qtde. DT
A2: CENTRO PARTICIPANTE: CESFI
A3: FORNECEDOR | B3: LOTE | C3: ITEM | D3: PRODUTO - CARACTERÍSTICAS MÍNIMAS | E3: ELEMENTO | F3: MARCA | G3: UNIDADE | H3: Entrega (Dias) | I3: Pagto. (Dias) | J3: Preço UNITÁRIO (R$) | K3: Qtde LICITADA | L3: Saldo / Automático | M3: ALERTA | N3: ...../...../......
A4: Harley de Aguiar Júnior EPP | B4: 1 | C4: 1 | D4: PROJETOR, MULTIMIDIA, CARACTERÍSTICAS MÍNIMAS: 1) Canhão de projeção com tecnologia LCD ou DLP; 2) Resolução nativa de 1024x768; 3) Luminosidade de 2500 lumens; 4) Contraste de 3000:1; 5) Reprodução de 16 milhões de cores; 6) Compatibilidade com padrão NTSC e PAL-M; 7) Formato de imagem 4x3 e 16x9; 8) Coreção keystone vertical e horizontal; 9) Controle remoto sem fio; 10) Ajuste de zoom e foco; 11) Tamanho da imagem projetada de 1 a 3 metros na diagonal; 12) Distância entre o projetor e a imagem entre 1 a 5 mestros; 13) Entradas para video analógico VGA (d-sub 15p), S-Video, vídeo composto e video digital HDMI; 14) Entrada para áudio estereo e autofalante; 15) Interface USB 2.0; 16) Duração média da lâmpada de 3000 hrs em uso normal; 17) Peso máximo 4Kg; 18) Ruido menor que 50 db em funcionamento; 19) Projeção mesa/teto, fronta/traseiro; 20) Fonte de alimentação automática operando de 100 a 240 VAC de entrada, 60 Hz. CONDIÇÔES GERAIS: a) Garantia de hardware do tipo on-site de 3 anos (exceto para lampada que deverá ser de 1 ano), disponibilizada pelo fabricante e realizada pelo mesmo ou por empresa autorizada oficialmente, com tempo de solução em até cinco dias; b) Indicação no site do fabricante das especificações técnicas específicas do modelo do equipamento. | E4: 449052-33 | F4: EPSON MODELO X17 | G4: Peça | H4: 30 | I4: 20 | J4: 1645 | K4: 12 | L4: =K4-(SUM(N4:N4)) -> 12 | M4: =IF(L4<0,"ATENÇÃO","OK") -> OK | N4: 0
A5: Retropar Comércio Representação e Importação Ltda | B5: 2 | C5: 2 | D5: Lampadas para Projetor, marca: BENQ / modelo: MP512ST | E5: 339030-29 | G5: Peça | H5: 30 | I5: 20 | J5: 485 | L5: =K5-(SUM(N5:N5)) -> 0 | M5: =IF(L5<0,"ATENÇÃO","OK") -> OK | N5: 0
A6: Negócios de Informática RW Ltda EPP | B6: 3 | C6: 3 | D6: Lampadas para Projetor, marca: BENQ / modelo: MX618ST | E6: 339030-29 | G6: Peça | H6: 30 | I6: 20 | J6: 647 | L6: =K6-(SUM(N6:N6)) -> 0 | M6: =IF(L6<0,"ATENÇÃO","OK") -> OK | N6: 0
A7: BMI Prosper EIRELI | B7: 4 | C7: 4 | D7: Lampadas para Projetor, marca: EPSON / modelo: ELPLP78 | E7: 339030-29 | G7: Peça | H7: 30 | I7: 20 | J7: 493 | L7: =K7-(SUM(N7:N7)) -> 0 | M7: =IF(L7<0,"ATENÇÃO","OK") -> OK | N7: 0
A8: Retropar Comércio Representação e Importação Ltda | B8: 5 | C8: 5 | D8: Lampadas para Projetor, marca: EPSON / modelo: H429A | E8: 339030-29 | G8: Peça | H8: 30 | I8: 20 | J8: 440 | L8: =K8-(SUM(N8:N8)) -> 0 | M8: =IF(L8<0,"ATENÇÃO","OK") -> OK | N8: 0
B9: 6 | C9: 6 | D9: Lampadas para Projetor, marca: EPSON / modelo: H569A | E9: 339030-29 | G9: Peça | H9: 30 | I9: 20 | J9: 590 | L9: =K9-(SUM(N9:N9)) -> 0 | M9: =IF(L9<0,"ATENÇÃO","OK") -> OK | N9: 0
B10: 7 | C10: 7 | D10: Lampadas para Projetor, marca: EPSON / modelo: PowerLite X17 | E10: 339030-29 | G10: Peça | H10: 30 | I10: 20 | J10: 590 | L10: =K10-(SUM(N10:N10)) -> 0 | M10: =IF(L10<0,"ATENÇÃO","OK") -> OK | N10: 0
B11: 8 | C11: 8 | D11: Lampadas para Projetor, marca: EPSON / modelo: X12 | E11: 339030-29 | G11: Peça | H11: 30 | I11: 20 | J11: 427 | L11: =K11-(SUM(N11:N11)) -> 0 | M11: =IF(L11<0,"ATENÇÃO","OK") -> OK | N11: 0
B12: 9 | C12: 9 | D12: Lampadas para Projetor, marca: INFOCUS / modelo: LP280 | E12: 339030-29 | G12: Peça | H12: 30 | I12: 20 | J12: 530 | L12: =K12-(SUM(N12:N12)) -> 0 | M12: =IF(L12<0,"ATENÇÃO","OK") -> OK | N12: 0
B13: 10 | C13: 10 | D13: Lampadas para Projetor, marca: NEC / modelo: NP100 | E13: 339030-29 | G13: Peça | H13: 30 | I13: 20 | J13: 497 | L13: =K13-(SUM(N13:N13)) -> 0 | M13: =IF(L13<0,"ATENÇÃO","OK") -> OK | N13: 0
B14: 11 | C14: 11 | D14: Lampadas para Projetor, marca: OPTOMA/ modelo: DX551 DLP | E14: 339030-29 | G14: Peça | H14: 30 | I14: 20 | J14: 540 | K14: 10 | L14: =K14-(SUM(N14:N14)) -> 10 | M14: =IF(L14<0,"ATENÇÃO","OK") -> OK | N14: 0
A15: BMI Prosper EIRELI | B15: 12 | C15: 12 | D15: Lampadas para Projetor, marca: SANYO / modelo: KA7-DSB20N00 | E15: 339030-29 | G15: Peça | H15: 30 | I15: 20 | J15: 1900 | L15: =K15-(SUM(N15:N15)) -> 0 | M15: =IF(L15<0,"ATENÇÃO","OK") -> OK | N15: 0
A16: Retropar Comércio Representação e Importação Ltda | B16: 13 | C16: 13 | D16: Lampadas para Projetor, marca: SANYO / modelo: PDGDSU20N | E16: 339030-29 | G16: Peça | H16: 30 | I16: 20 | J16: 465 | L16: =K16-(SUM(N16:N16)) -> 0 | M16: =IF(L16<0,"ATENÇÃO","OK") -> OK | N16: 0
A17: BMI Prosper EIRELI | B17: 14 | C17: 14 | D17: Lampadas para Projetor, marca: VIEW SONIC / modelo: PJD5122 - VS13308 | E17: 339030-29 | G17: Peça | H17: 30 | I17: 20 | J17: 449 | L17: =K17-(SUM(N17:N17)) -> 0 | M17: =IF(L17<0,"ATENÇÃO","OK") -> OK | N17: 0

Sheet CEAVI
A1: PROCESSO: 1024/2014/UDESC | D1: OBJETO: Aquisição de projetores e lâmpadas para projetores | K1: VIGÊNCIA DA ATA: 07/10/2014 até 06/10/2015 | N1: AF/OS nº 322/2015 Qtde. DT
A2: CENTRO PARTICIPANTE: CEAVI
A3: FORNECEDOR | B3: LOTE | C3: ITEM | D3: PRODUTO - CARACTERÍSTICAS MÍNIMAS | E3: ELEMENTO | F3: MARCA | G3: UNIDADE | H3: Entrega (Dias) | I3: Pagto. (Dias) | J3: Preço UNITÁRIO (R$) | K3: Qtde LICITADA | L3: Saldo / Automático | M3: ALERTA | N3: 42110
A4: Harley de Aguiar Júnior EPP | B4: 1 | C4: 1 | D4: PROJETOR, MULTIMIDIA, CARACTERÍSTICAS MÍNIMAS: 1) Canhão de projeção com tecnologia LCD ou DLP; 2) Resolução nativa de 1024x768; 3) Luminosidade de 2500 lumens; 4) Contraste de 3000:1; 5) Reprodução de 16 milhões de cores; 6) Compatibilidade com padrão NTSC e PAL-M; 7) Formato de imagem 4x3 e 16x9; 8) Coreção keystone vertical e horizontal; 9) Controle remoto sem fio; 10) Ajuste de zoom e foco; 11) Tamanho da imagem projetada de 1 a 3 metros na diagonal; 12) Distância entre o projetor e a imagem entre 1 a 5 mestros; 13) Entradas para video analógico VGA (d-sub 15p), S-Video, vídeo composto e video digital HDMI; 14) Entrada para áudio estereo e autofalante; 15) Interface USB 2.0; 16) Duração média da lâmpada de 3000 hrs em uso normal; 17) Peso máximo 4Kg; 18) Ruido menor que 50 db em funcionamento; 19) Projeção mesa/teto, fronta/traseiro; 20) Fonte de alimentação automática operando de 100 a 240 VAC de entrada, 60 Hz. CONDIÇÔES GERAIS: a) Garantia de hardware do tipo on-site de 3 anos (exceto para lampada que deverá ser de 1 ano), disponibilizada pelo fabricante e realizada pelo mesmo ou por empresa autorizada oficialmente, com tempo de solução em até cinco dias; b) Indicação no site do fabricante das especificações técnicas específicas do modelo do equipamento. | E4: 449052-33 | F4: EPSON MODELO X17 | G4: Peça | H4: 30 | I4: 20 | J4: 1645 | K4: 30 | L4: =K4-(SUM(N4:N4)) -> 29 | M4: =IF(L4<0,"ATENÇÃO","OK") -> OK | N4: 1
A5: Retropar Comércio Representação e Importação Ltda | B5: 2 | C5: 2 | D5: Lampadas para Projetor, marca: BENQ / modelo: MP512ST | E5: 339030-29 | G5: Peça | H5: 30 | I5: 20 | J5: 485 | L5: =K5-(SUM(N5:N5)) -> 0 | M5: =IF(L5<0,"ATENÇÃO","OK") -> OK | N5: 0
A6: Negócios de Informática RW Ltda EPP | B6: 3 | C6: 3 | D6: Lampadas para Projetor, marca: BENQ / modelo: MX618ST | E6: 339030-29 | G6: Peça | H6: 30 | I6: 20 | J6: 647 | L6: =K6-(SUM(N6:N6)) -> 0 | M6: =IF(L6<0,"ATENÇÃO","OK") -> OK | N6: 0
A7: BMI Prosper EIRELI | B7: 4 | C7: 4 | D7: Lampadas para Projetor, marca: EPSON / modelo: ELPLP78 | E7: 339030-29 | G7: Peça | H7: 30 | I7: 20 | J7: 493 | L7: =K7-(SUM(N7:N7)) -> 0 | M7: =IF(L7<0,"ATENÇÃO","OK") -> OK | N7: 0
A8: Retropar Comércio Representação e Importação Ltda | B8: 5 | C8: 5 | D8: Lampadas para Projetor, marca: EPSON / modelo: H429A | E8: 339030-29 | G8: Peça | H8: 30 | I8: 20 | J8: 440 | K8: 15 | L8: =K8-(SUM(N8:N8)) -> 15 | M8: =IF(L8<0,"ATENÇÃO","OK") -> OK | N8: 0
B9: 6 | C9: 6 | D9: Lampadas para Projetor, marca: EPSON / modelo: H569A | E9: 339030-29 | G9: Peça | H9: 30 | I9: 20 | J9: 590 | L9: =K9-(SUM(N9:N9)) -> 0 | M9: =IF(L9<0,"ATENÇÃO","OK") -> OK | N9: 0
B10: 7 | C10: 7 | D10: Lampadas para Projetor, marca: EPSON / modelo: PowerLite X17 | E10: 339030-29 | G10: Peça | H10: 30 | I10: 20 | J10: 590 | L10: =K10-(SUM(N10:N10)) -> 0 | M10: =IF(L10<0,"ATENÇÃO","OK") -> OK | N10: 0
B11: 8 | C11: 8 | D11: Lampadas para Projetor, marca: EPSON / modelo: X12 | E11: 339030-29 | G11: Peça | H11: 30 | I11: 20 | J11: 427 | L11: =K11-(SUM(N11:N11)) -> 0 | M11: =IF(L11<0,"ATENÇÃO","OK") -> OK | N11: 0
B12: 9 | C12: 9 | D12: Lampadas para Projetor, marca: INFOCUS / modelo: LP280 | E12: 339030-29 | G12: Peça | H12: 30 | I12: 20 | J12: 530 | L12: =K12-(SUM(N12:N12)) -> 0 | M12: =IF(L12<0,"ATENÇÃO","OK") -> OK | N12: 0
B13: 10 | C13: 10 | D13: Lampadas para Projetor, marca: NEC / modelo: NP100 | E13: 339030-29 | G13: Peça | H13: 30 | I13: 20 | J13: 497 | L13: =K13-(SUM(N13:N13)) -> 0 | M13: =IF(L13<0,"ATENÇÃO","OK") -> OK | N13: 0
B14: 11 | C14: 11 | D14: Lampadas para Projetor, marca: OPTOMA/ modelo: DX551 DLP | E14: 339030-29 | G14: Peça | H14: 30 | I14: 20 | J14: 540 | L14: =K14-(SUM(N14:N14)) -> 0 | M14: =IF(L14<0,"ATENÇÃO","OK") -> OK | N14: 0
A15: BMI Prosper EIRELI | B15: 12 | C15: 12 | D15: Lampadas para Projetor, marca: SANYO / modelo: KA7-DSB20N00 | E15: 339030-29 | G15: Peça | H15: 30 | I15: 20 | J15: 1900 | L15: =K15-(SUM(N15:N15)) -> 0 | M15: =IF(L15<0,"ATENÇÃO","OK") -> OK | N15: 0
A16: Retropar Comércio Representação e Importação Ltda | B16: 13 | C16: 13 | D16: Lampadas para Projetor, marca: SANYO / modelo: PDGDSU20N | E16: 339030-29 | G16: Peça | H16: 30 | I16: 20 | J16: 465 | L16: =K16-(SUM(N16:N16)) -> 0 | M16: =IF(L16<0,"ATENÇÃO","OK") -> OK | N16: 0
A17: BMI Prosper EIRELI | B17: 14 | C17: 14 | D17: Lampadas para Projetor, marca: VIEW SONIC / modelo: PJD5122 - VS13308 | E17: 339030-29 | G17: Peça | H17: 30 | I17: 20 | J17: 449 | L17: =K17-(SUM(N17:N17)) -> 0 | M17: =IF(L17<0,"ATENÇÃO","OK") -> OK | N17: 0

Sheet CCT
A1: PROCESSO: 1024/2014/UDESC | D1: OBJETO: Aquisição de projetores e lâmpadas para projetores | K1: VIGÊNCIA DA ATA: 07/10/2014 até 06/10/2015 | N1: AF/OS nº 920/2015 Qtde. DT | O1: AF/OS nº 1684/2015 Qtde. DT
A2: CENTRO PARTICIPANTE: CCT
A3: FORNECEDOR | B3: LOTE | C3: ITEM | D3: PRODUTO - CARACTERÍSTICAS MÍNIMAS | E3: ELEMENTO | F3: MARCA | G3: UNIDADE | H3: Entrega (Dias) | I3: Pagto. (Dias) | J3: Preço UNITÁRIO (R$) | K3: Qtde LICITADA | L3: Saldo / Automático | M3: ALERTA | N3: 42165 | O3: 42265
A4: Harley de Aguiar Júnior EPP | B4: 1 | C4: 1 | D4: PROJETOR, MULTIMIDIA, CARACTERÍSTICAS MÍNIMAS: 1) Canhão de projeção com tecnologia LCD ou DLP; 2) Resolução nativa de 1024x768; 3) Luminosidade de 2500 lumens; 4) Contraste de 3000:1; 5) Reprodução de 16 milhões de cores; 6) Compatibilidade com padrão NTSC e PAL-M; 7) Formato de imagem 4x3 e 16x9; 8) Coreção keystone vertical e horizontal; 9) Controle remoto sem fio; 10) Ajuste de zoom e foco; 11) Tamanho da imagem projetada de 1 a 3 metros na diagonal; 12) Distância entre o projetor e a imagem entre 1 a 5 mestros; 13) Entradas para video analógico VGA (d-sub 15p), S-Video, vídeo composto e video digital HDMI; 14) Entrada para áudio estereo e autofalante; 15) Interface USB 2.0; 16) Duração média da lâmpada de 3000 hrs em uso normal; 17) Peso máximo 4Kg; 18) Ruido menor que 50 db em funcionamento; 19) Projeção mesa/teto, fronta/traseiro; 20) Fonte de alimentação automática operando de 100 a 240 VAC de entrada, 60 Hz. CONDIÇÔES GERAIS: a) Garantia de hardware do tipo on-site de 3 anos (exceto para lampada que deverá ser de 1 ano), disponibilizada pelo fabricante e realizada pelo mesmo ou por empresa autorizada oficialmente, com tempo de solução em até cinco dias; b) Indicação no site do fabricante das especificações técnicas específicas do modelo do equipamento. | E4: 449052-33 | F4: EPSON MODELO X17 | G4: Peça | H4: 30 | I4: 20 | J4: 1645 | K4: 40 | L4: =K4-(SUM(N4:O4)) -> 39 | M4: =IF(L4<0,"ATENÇÃO","OK") -> OK | N4: 0 | O4: 1
A5: Retropar Comércio Representação e Importação Ltda | B5: 2 | C5: 2 | D5: Lampadas para Projetor, marca: BENQ / modelo: MP512ST | E5: 339030-29 | G5: Peça | H5: 30 | I5: 20 | J5: 485 | L5: =K5-(SUM(N5:O5)) -> 0 | M5: =IF(L5<0,"ATENÇÃO","OK") -> OK | N5: 0 | O5: 0
A6: Negócios de Informática RW Ltda EPP | B6: 3 | C6: 3 | D6: Lampadas para Projetor, marca: BENQ / modelo: MX618ST | E6: 339030-29 | G6: Peça | H6: 30 | I6: 20 | J6: 647 | L6: =K6-(SUM(N6:O6)) -> 0 | M6: =IF(L6<0,"ATENÇÃO","OK") -> OK | N6: 0 | O6: 0
A7: BMI Prosper EIRELI | B7: 4 | C7: 4 | D7: Lampadas para Projetor, marca: EPSON / modelo: ELPLP78 | E7: 339030-29 | G7: Peça | H7: 30 | I7: 20 | J7: 493 | L7: =K7-(SUM(N7:O7)) -> 0 | M7: =IF(L7<0,"ATENÇÃO","OK") -> OK | N7: 0 | O7: 0
A8: Retropar Comércio Representação e Importação Ltda | B8: 5 | C8: 5 | D8: Lampadas para Projetor, marca: EPSON / modelo: H429A | E8: 339030-29 | G8: Peça | H8: 30 | I8: 20 | J8: 440 | L8: =K8-(SUM(N8:O8)) -> 0 | M8: =IF(L8<0,"ATENÇÃO","OK") -> OK | N8: 0 | O8: 0
B9: 6 | C9: 6 | D9: Lampadas para Projetor, marca: EPSON / modelo: H569A | E9: 339030-29 | G9: Peça | H9: 30 | I9: 20 | J9: 590 | L9: =K9-(SUM(N9:O9)) -> 0 | M9: =IF(L9<0,"ATENÇÃO","OK") -> OK | N9: 0 | O9: 0
B10: 7 | C10: 7 | D10: Lampadas para Projetor, marca: EPSON / modelo: PowerLite X17 | E10: 339030-29 | G10: Peça | H10: 30 | I10: 20 | J10: 590 | K10: 20 | L10: =K10-(SUM(N10:O10)) -> 16 | M10: =IF(L10<0,"ATENÇÃO","OK") -> OK | N10: 4 | O10: 0
B11: 8 | C11: 8 | D11: Lampadas para Projetor, marca: EPSON / modelo: X12 | E11: 339030-29 | G11: Peça | H11: 30 | I11: 20 | J11: 427 | L11: =K11-(SUM(N11:O11)) -> 0 | M11: =IF(L11<0,"ATENÇÃO","OK") -> OK | N11: 0 | O11: 0
B12: 9 | C12: 9 | D12: Lampadas para Projetor, marca: INFOCUS / modelo: LP280 | E12: 339030-29 | G12: Peça | H12: 30 | I12: 20 | J12: 530 | L12: =K12-(SUM(N12:O12)) -> 0 | M12: =IF(L12<0,"ATENÇÃO","OK") -> OK | N12: 0 | O12: 0
B13: 10 | C13: 10 | D13: Lampadas para Projetor, marca: NEC / modelo: NP100 | E13: 339030-29 | G13: Peça | H13: 30 | I13: 20 | J13: 497 | L13: =K13-(SUM(N13:O13)) -> 0 | M13: =IF(L13<0,"ATENÇÃO","OK") -> OK | N13: 0 | O13: 0
B14: 11 | C14: 11 | D14: Lampadas para Projetor, marca: OPTOMA/ modelo: DX551 DLP | E14: 339030-29 | G14: Peça | H14: 30 | I14: 20 | J14: 540 | L14: =K14-(SUM(N14:O14)) -> 0 | M14: =IF(L14<0,"ATENÇÃO","OK") -> OK | N14: 0 | O14: 0
A15: BMI Prosper EIRELI | B15: 12 | C15: 12 | D15: Lampadas para Projetor, marca: SANYO / modelo: KA7-DSB20N00 | E15: 339030-29 | G15: Peça | H15: 30 | I15: 20 | J15: 1900 | L15: =K15-(SUM(N15:O15)) -> 0 | M15: =IF(L15<0,"ATENÇÃO","OK") -> OK | N15: 0 | O15: 0
A16: Retropar Comércio Representação e Importação Ltda | B16: 13 | C16: 13 | D16: Lampadas para Projetor, marca: SANYO / modelo: PDGDSU20N | E16: 339030-29 | G16: Peça | H16: 30 | I16: 20 | J16: 465 | L16: =K16-(SUM(N16:O16)) -> 0 | M16: =IF(L16<0,"ATENÇÃO","OK") -> OK | N16: 0 | O16: 0
A17: BMI Prosper EIRELI | B17: 14 | C17: 14 | D17: Lampadas para Projetor, marca: VIEW SONIC / modelo: PJD5122 - VS13308 | E17: 339030-29 | G17: Peça | H17: 30 | I17: 20 | J17: 449 | L17: =K17-(SUM(N17:O17)) -> 0 | M17: =IF(L17<0,"ATENÇÃO","OK") -> OK | N17: 0 | O17: 0

Sheet CEPLAN
A1: PROCESSO: 1024/2014/UDESC | D1: OBJETO: Aquisição de projetores e lâmpadas para projetores | K1: VIGÊNCIA DA ATA: 07/10/2014 até 06/10/2015 | N1: AF/OS nº xxxx/2014 Qtde. DT
A2: CENTRO PARTICIPANTE: CEPLAN
A3: FORNECEDOR | B3: LOTE | C3: ITEM | D3: PRODUTO - CARACTERÍSTICAS MÍNIMAS | E3: ELEMENTO | F3: MARCA | G3: UNIDADE | H3: Entrega (Dias) | I3: Pagto. (Dias) | J3: Preço UNITÁRIO (R$) | K3: Qtde LICITADA | L3: Saldo / Automático | M3: ALERTA | N3: ...../...../......
A4: Harley de Aguiar Júnior EPP | B4: 1 | C4: 1 | D4: PROJETOR, MULTIMIDIA, CARACTERÍSTICAS MÍNIMAS: 1) Canhão de projeção com tecnologia LCD ou DLP; 2) Resolução nativa de 1024x768; 3) Luminosidade de 2500 lumens; 4) Contraste de 3000:1; 5) Reprodução de 16 milhões de cores; 6) Compatibilidade com padrão NTSC e PAL-M; 7) Formato de imagem 4x3 e 16x9; 8) Coreção keystone vertical e horizontal; 9) Controle remoto sem fio; 10) Ajuste de zoom e foco; 11) Tamanho da imagem projetada de 1 a 3 metros na diagonal; 12) Distância entre o projetor e a imagem entre 1 a 5 mestros; 13) Entradas para video analógico VGA (d-sub 15p), S-Video, vídeo composto e video digital HDMI; 14) Entrada para áudio estereo e autofalante; 15) Interface USB 2.0; 16) Duração média da lâmpada de 3000 hrs em uso normal; 17) Peso máximo 4Kg; 18) Ruido menor que 50 db em funcionamento; 19) Projeção mesa/teto, fronta/traseiro; 20) Fonte de alimentação automática operando de 100 a 240 VAC de entrada, 60 Hz. CONDIÇÔES GERAIS: a) Garantia de hardware do tipo on-site de 3 anos (exceto para lampada que deverá ser de 1 ano), disponibilizada pelo fabricante e realizada pelo mesmo ou por empresa autorizada oficialmente, com tempo de solução em até cinco dias; b) Indicação no site do fabricante das especificações técnicas específicas do modelo do equipamento. | E4: 449052-33 | F4: EPSON MODELO X17 | G4: Peça | H4: 30 | I4: 20 | J4: 1645 | K4: 11 | L4: =K4-(SUM(N4:N4)) -> 11 | M4: =IF(L4<0,"ATENÇÃO","OK") -> OK | N4: 0
A5: Retropar Comércio Representação e Importação Ltda | B5: 2 | C5: 2 | D5: Lampadas para Projetor, marca: BENQ / modelo: MP512ST | E5: 339030-29 | G5: Peça | H5: 30 | I5: 20 | J5: 485 | L5: =K5-(SUM(N5:N5)) -> 0 | M5: =IF(L5<0,"ATENÇÃO","OK") -> OK | N5: 0
A6: Negócios de Informática RW Ltda EPP | B6: 3 | C6: 3 | D6: Lampadas para Projetor, marca: BENQ / modelo: MX618ST | E6: 339030-29 | G6: Peça | H6: 30 | I6: 20 | J6: 647 | L6: =K6-(SUM(N6:N6)) -> 0 | M6: =IF(L6<0,"ATENÇÃO","OK") -> OK | N6: 0
A7: BMI Prosper EIRELI | B7: 4 | C7: 4 | D7: Lampadas para Projetor, marca: EPSON / modelo: ELPLP78 | E7: 339030-29 | G7: Peça | H7: 30 | I7: 20 | J7: 493 | L7: =K7-(SUM(N7:N7)) -> 0 | M7: =IF(L7<0,"ATENÇÃO","OK") -> OK | N7: 0
A8: Retropar Comércio Representação e Importação Ltda | B8: 5 | C8: 5 | D8: Lampadas para Projetor, marca: EPSON / modelo: H429A | E8: 339030-29 | G8: Peça | H8: 30 | I8: 20 | J8: 440 | L8: =K8-(SUM(N8:N8)) -> 0 | M8: =IF(L8<0,"ATENÇÃO","OK") -> OK | N8: 0
B9: 6 | C9: 6 | D9: Lampadas para Projetor, marca: EPSON / modelo: H569A | E9: 339030-29 | G9: Peça | H9: 30 | I9: 20 | J9: 590 | L9: =K9-(SUM(N9:N9)) -> 0 | M9: =IF(L9<0,"ATENÇÃO","OK") -> OK | N9: 0
B10: 7 | C10: 7 | D10: Lampadas para Projetor, marca: EPSON / modelo: PowerLite X17 | E10: 339030-29 | G10: Peça | H10: 30 | I10: 20 | J10: 590 | K10: 10 | L10: =K10-(SUM(N10:N10)) -> 10 | M10: =IF(L10<0,"ATENÇÃO","OK") -> OK | N10: 0
B11: 8 | C11: 8 | D11: Lampadas para Projetor, marca: EPSON / modelo: X12 | E11: 339030-29 | G11: Peça | H11: 30 | I11: 20 | J11: 427 | L11: =K11-(SUM(N11:N11)) -> 0 | M11: =IF(L11<0,"ATENÇÃO","OK") -> OK | N11: 0
B12: 9 | C12: 9 | D12: Lampadas para Projetor, marca: INFOCUS / modelo: LP280 | E12: 339030-29 | G12: Peça | H12: 30 | I12: 20 | J12: 530 | L12: =K12-(SUM(N12:N12)) -> 0 | M12: =IF(L12<0,"ATENÇÃO","OK") -> OK | N12: 0
B13: 10 | C13: 10 | D13: Lampadas para Projetor, marca: NEC / modelo: NP100 | E13: 339030-29 | G13: Peça | H13: 30 | I13: 20 | J13: 497 | L13: =K13-(SUM(N13:N13)) -> 0 | M13: =IF(L13<0,"ATENÇÃO","OK") -> OK | N13: 0
B14: 11 | C14: 11 | D14: Lampadas para Projetor, marca: OPTOMA/ modelo: DX551 DLP | E14: 339030-29 | G14: Peça | H14: 30 | I14: 20 | J14: 540 | L14: =K14-(SUM(N14:N14)) -> 0 | M14: =IF(L14<0,"ATENÇÃO","OK") -> OK | N14: 0
A15: BMI Prosper EIRELI | B15: 12 | C15: 12 | D15: Lampadas para Projetor, marca: SANYO / modelo: KA7-DSB20N00 | E15: 339030-29 | G15: Peça | H15: 30 | I15: 20 | J15: 1900 | L15: =K15-(SUM(N15:N15)) -> 0 | M15: =IF(L15<0,"ATENÇÃO","OK") -> OK | N15: 0
A16: Retropar Comércio Representação e Importação Ltda | B16: 13 | C16: 13 | D16: Lampadas para Projetor, marca: SANYO / modelo: PDGDSU20N | E16: 339030-29 | G16: Peça | H16: 30 | I16: 20 | J16: 465 | L16: =K16-(SUM(N16:N16)) -> 0 | M16: =IF(L16<0,"ATENÇÃO","OK") -> OK | N16: 0
A17: BMI Prosper EIRELI | B17: 14 | C17: 14 | D17: Lampadas para Projetor, marca: VIEW SONIC / modelo: PJD5122 - VS13308 | E17: 339030-29 | G17: Peça | H17: 30 | I17: 20 | J17: 449 | L17: =K17-(SUM(N17:N17)) -> 0 | M17: =IF(L17<0,"ATENÇÃO","OK") -> OK | N17: 0

Sheet CAV
A1: PROCESSO: 1024/2014/UDESC | D1: OBJETO: Aquisição de projetores e lâmpadas para projetores | K1: VIGÊNCIA DA ATA: 07/10/2014 até 06/10/2015 | N1: AF/OS nº xxxx/2014 Qtde. DT | O1: AF/OS nº xxxx/2014 Qtde. DT | P1: AF/OS nº xxxx/2014 Qtde. DT | Q1: AF/OS nº xxxx/2014 Qtde. DT | R1: AF/OS nº xxxx/2014 Qtde. DT | S1: AF/OS nº xxxx/2014 Qtde. DT
A2: CENTRO PARTICIPANTE: CAV
A3: FORNECEDOR | B3: LOTE | C3: ITEM | D3: PRODUTO - CARACTERÍSTICAS MÍNIMAS | E3: ELEMENTO | F3: MARCA | G3: UNIDADE | H3: Entrega (Dias) | I3: Pagto. (Dias) | J3: Preço UNITÁRIO (R$) | K3: Qtde LICITADA | L3: Saldo / Automático | M3: ALERTA | N3: ...../...../...... | O3: ...../...../...... | P3: ...../...../...... | Q3: ...../...../...... | R3: ...../...../...... | S3: ...../...../......
A4: Harley de Aguiar Júnior EPP | B4: 1 | C4: 1 | D4: PROJETOR, MULTIMIDIA, CARACTERÍSTICAS MÍNIMAS: 1) Canhão de projeção com tecnologia LCD ou DLP; 2) Resolução nativa de 1024x768; 3) Luminosidade de 2500 lumens; 4) Contraste de 3000:1; 5) Reprodução de 16 milhões de cores; 6) Compatibilidade com padrão NTSC e PAL-M; 7) Formato de imagem 4x3 e 16x9; 8) Coreção keystone vertical e horizontal; 9) Controle remoto sem fio; 10) Ajuste de zoom e foco; 11) Tamanho da imagem projetada de 1 a 3 metros na diagonal; 12) Distância entre o projetor e a imagem entre 1 a 5 mestros; 13) Entradas para video analógico VGA (d-sub 15p), S-Video, vídeo composto e video digital HDMI; 14) Entrada para áudio estereo e autofalante; 15) Interface USB 2.0; 16) Duração média da lâmpada de 3000 hrs em uso normal; 17) Peso máximo 4Kg; 18) Ruido menor que 50 db em funcionamento; 19) Projeção mesa/teto, fronta/traseiro; 20) Fonte de alimentação automática operando de 100 a 240 VAC de entrada, 60 Hz. CONDIÇÔES GERAIS: a) Garantia de hardware do tipo on-site de 3 anos (exceto para lampada que deverá ser de 1 ano), disponibilizada pelo fabricante e realizada pelo mesmo ou por empresa autorizada oficialmente, com tempo de solução em até cinco dias; b) Indicação no site do fabricante das especificações técnicas específicas do modelo do equipamento. | E4: 449052-33 | F4: EPSON MODELO X17 | G4: Peça | H4: 30 | I4: 20 | J4: 1645 | K4: =30+7 -> 37 | L4: =K4-(SUM(N4:S4)) -> 0 | M4: =IF(L4<0,"ATENÇÃO","OK") -> OK | N4: 14 | O4: 3 | P4: 6 | Q4: 1 | R4: 10 | S4: 3
A5: Retropar Comércio Representação e Importação Ltda | B5: 2 | C5: 2 | D5: Lampadas para Projetor, marca: BENQ / modelo: MP512ST | E5: 339030-29 | G5: Peça | H5: 30 | I5: 20 | J5: 485 | L5: =K5-(SUM(N5:S5)) -> 0 | M5: =IF(L5<0,"ATENÇÃO","OK") -> OK | N5: 0 | O5: 0 | P5: 0 | Q5: 0 | R5: 0 | S5: 0
A6: Negócios de Informática RW Ltda EPP | B6: 3 | C6: 3 | D6: Lampadas para Projetor, marca: BENQ / modelo: MX618ST | E6: 339030-29 | G6: Peça | H6: 30 | I6: 20 | J6: 647 | L6: =K6-(SUM(N6:S6)) -> 0 | M6: =IF(L6<0,"ATENÇÃO","OK") -> OK | N6: 0 | O6: 0 | P6: 0 | Q6: 0 | R6: 0 | S6: 0
A7: BMI Prosper EIRELI | B7: 4 | C7: 4 | D7: Lampadas para Projetor, marca: EPSON / modelo: ELPLP78 | E7: 339030-29 | G7: Peça | H7: 30 | I7: 20 | J7: 493 | L7: =K7-(SUM(N7:S7)) -> 0 | M7: =IF(L7<0,"ATENÇÃO","OK") -> OK | N7: 0 | O7: 0 | P7: 0 | Q7: 0 | R7: 0 | S7: 0
A8: Retropar Comércio Representação e Importação Ltda | B8: 5 | C8: 5 | D8: Lampadas para Projetor, marca: EPSON / modelo: H429A | E8: 339030-29 | G8: Peça | H8: 30 | I8: 20 | J8: 440 | L8: =K8-(SUM(N8:S8)) -> 0 | M8: =IF(L8<0,"ATENÇÃO","OK") -> OK | N8: 0 | O8: 0 | P8: 0 | Q8: 0 | R8: 0 | S8: 0
B9: 6 | C9: 6 | D9: Lampadas para Projetor, marca: EPSON / modelo: H569A | E9: 339030-29 | G9: Peça | H9: 30 | I9: 20 | J9: 590 | L9: =K9-(SUM(N9:S9)) -> 0 | M9: =IF(L9<0,"ATENÇÃO","OK") -> OK | N9: 0 | O9: 0 | P9: 0 | Q9: 0 | R9: 0 | S9: 0
B10: 7 | C10: 7 | D10: Lampadas para Projetor, marca: EPSON / modelo: PowerLite X17 | E10: 339030-29 | G10: Peça | H10: 30 | I10: 20 | J10: 590 | L10: =K10-(SUM(N10:S10)) -> 0 | M10: =IF(L10<0,"ATENÇÃO","OK") -> OK | N10: 0 | O10: 0 | P10: 0 | Q10: 0 | R10: 0 | S10: 0
B11: 8 | C11: 8 | D11: Lampadas para Projetor, marca: EPSON / modelo: X12 | E11: 339030-29 | G11: Peça | H11: 30 | I11: 20 | J11: 427 | L11: =K11-(SUM(N11:S11)) -> 0 | M11: =IF(L11<0,"ATENÇÃO","OK") -> OK | N11: 0 | O11: 0 | P11: 0 | Q11: 0 | R11: 0 | S11: 0
B12: 9 | C12: 9 | D12: Lampadas para Projetor, marca: INFOCUS / modelo: LP280 | E12: 339030-29 | G12: Peça | H12: 30 | I12: 20 | J12: 530 | L12: =K12-(SUM(N12:S12)) -> 0 | M12: =IF(L12<0,"ATENÇÃO","OK") -> OK | N12: 0 | O12: 0 | P12: 0 | Q12: 0 | R12: 0 | S12: 0
B13: 10 | C13: 10 | D13: Lampadas para Projetor, marca: NEC / modelo: NP100 | E13: 339030-29 | G13: Peça | H13: 30 | I13: 20 | J13: 497 | L13: =K13-(SUM(N13:S13)) -> 0 | M13: =IF(L13<0,"ATENÇÃO","OK") -> OK | N13: 0 | O13: 0 | P13: 0 | Q13: 0 | R13: 0 | S13: 0
B14: 11 | C14: 11 | D14: Lampadas para Projetor, marca: OPTOMA/ modelo: DX551 DLP | E14: 339030-29 | G14: Peça | H14: 30 | I14: 20 | J14: 540 | L14: =K14-(SUM(N14:S14)) -> 0 | M14: =IF(L14<0,"ATENÇÃO","OK") -> OK | N14: 0 | O14: 0 | P14: 0 | Q14: 0 | R14: 0 | S14: 0
A15: BMI Prosper EIRELI | B15: 12 | C15: 12 | D15: Lampadas para Projetor, marca: SANYO / modelo: KA7-DSB20N00 | E15: 339030-29 | G15: Peça | H15: 30 | I15: 20 | J15: 1900 | L15: =K15-(SUM(N15:S15)) -> 0 | M15: =IF(L15<0,"ATENÇÃO","OK") -> OK | N15: 0 | O15: 0 | P15: 0 | Q15: 0 | R15: 0 | S15: 0
A16: Retropar Comércio Representação e Importação Ltda | B16: 13 | C16: 13 | D16: Lampadas para Projetor, marca: SANYO / modelo: PDGDSU20N | E16: 339030-29 | G16: Peça | H16: 30 | I16: 20 | J16: 465 | L16: =K16-(SUM(N16:S16)) -> 0 | M16: =IF(L16<0,"ATENÇÃO","OK") -> OK | N16: 0 | O16: 0 | P16: 0 | Q16: 0 | R16: 0 | S16: 0
A17: BMI Prosper EIRELI | B17: 14 | C17: 14 | D17: Lampadas para Projetor, marca: VIEW SONIC / modelo: PJD5122 - VS13308 | E17: 339030-29 | G17: Peça | H17: 30 | I17: 20 | J17: 449 | L17: =K17-(SUM(N17:S17)) -> 0 | M17: =IF(L17<0,"ATENÇÃO","OK") -> OK | N17: 0 | O17: 0 | P17: 0 | Q17: 0 | R17: 0 | S17: 0

Sheet CEO
A1: PROCESSO: 1024/2014/UDESC | D1: OBJETO: Aquisição de projetores e lâmpadas para projetores | K1: VIGÊNCIA DA ATA: 07/10/2014 até 06/10/2015 | N1: AF/OS nº 1098/2015 Qtde. DT | O1: AF/OS nº 1791/2015Qtde. DT
A2: CENTRO PARTICIPANTE: CEO
A3: FORNECEDOR | B3: LOTE | C3: ITEM | D3: PRODUTO - CARACTERÍSTICAS MÍNIMAS | E3: ELEMENTO | F3: MARCA | G3: UNIDADE | H3: Entrega (Dias) | I3: Pagto. (Dias) | J3: Preço UNITÁRIO (R$) | K3: Qtde LICITADA | L3: Saldo / Automático | M3: ALERTA | N3: 42187 | O3: 42279
A4: Harley de Aguiar Júnior EPP | B4: 1 | C4: 1 | D4: PROJETOR, MULTIMIDIA, CARACTERÍSTICAS MÍNIMAS: 1) Canhão de projeção com tecnologia LCD ou DLP; 2) Resolução nativa de 1024x768; 3) Luminosidade de 2500 lumens; 4) Contraste de 3000:1; 5) Reprodução de 16 milhões de cores; 6) Compatibilidade com padrão NTSC e PAL-M; 7) Formato de imagem 4x3 e 16x9; 8) Coreção keystone vertical e horizontal; 9) Controle remoto sem fio; 10) Ajuste de zoom e foco; 11) Tamanho da imagem projetada de 1 a 3 metros na diagonal; 12) Distância entre o projetor e a imagem entre 1 a 5 mestros; 13) Entradas para video analógico VGA (d-sub 15p), S-Video, vídeo composto e video digital HDMI; 14) Entrada para áudio estereo e autofalante; 15) Interface USB 2.0; 16) Duração média da lâmpada de 3000 hrs em uso normal; 17) Peso máximo 4Kg; 18) Ruido menor que 50 db em funcionamento; 19) Projeção mesa/teto, fronta/traseiro; 20) Fonte de alimentação automática operando de 100 a 240 VAC de entrada, 60 Hz. CONDIÇÔES GERAIS: a) Garantia de hardware do tipo on-site de 3 anos (exceto para lampada que deverá ser de 1 ano), disponibilizada pelo fabricante e realizada pelo mesmo ou por empresa autorizada oficialmente, com tempo de solução em até cinco dias; b) Indicação no site do fabricante das especificações técnicas específicas do modelo do equipamento. | E4: 449052-33 | F4: EPSON MODELO X17 | G4: Peça | H4: 30 | I4: 20 | J4: 1645 | K4: =37-7 -> 30 | L4: =K4-(SUM(N4:O4)) -> 24 | M4: =IF(L4<0,"ATENÇÃO","OK") -> OK | N4: 1 | O4: 5
A5: Retropar Comércio Representação e Importação Ltda | B5: 2 | C5: 2 | D5: Lampadas para Projetor, marca: BENQ / modelo: MP512ST | E5: 339030-29 | G5: Peça | H5: 30 | I5: 20 | J5: 485 | L5: =K5-(SUM(N5:O5)) -> 0 | M5: =IF(L5<0,"ATENÇÃO","OK") -> OK | N5: 0 | O5: 0
A6: Negócios de Informática RW Ltda EPP | B6: 3 | C6: 3 | D6: Lampadas para Projetor, marca: BENQ / modelo: MX618ST | E6: 339030-29 | G6: Peça | H6: 30 | I6: 20 | J6: 647 | L6: =K6-(SUM(N6:O6)) -> 0 | M6: =IF(L6<0,"ATENÇÃO","OK") -> OK | N6: 0 | O6: 0
A7: BMI Prosper EIRELI | B7: 4 | C7: 4 | D7: Lampadas para Projetor, marca: EPSON / modelo: ELPLP78 | E7: 339030-29 | G7: Peça | H7: 30 | I7: 20 | J7: 493 | L7: =K7-(SUM(N7:O7)) -> 0 | M7: =IF(L7<0,"ATENÇÃO","OK") -> OK | N7: 0 | O7: 0
A8: Retropar Comércio Representação e Importação Ltda | B8: 5 | C8: 5 | D8: Lampadas para Projetor, marca: EPSON / modelo: H429A | E8: 339030-29 | G8: Peça | H8: 30 | I8: 20 | J8: 440 | L8: =K8-(SUM(N8:O8)) -> 0 | M8: =IF(L8<0,"ATENÇÃO","OK") -> OK | N8: 0 | O8: 0
B9: 6 | C9: 6 | D9: Lampadas para Projetor, marca: EPSON / modelo: H569A | E9: 339030-29 | G9: Peça | H9: 30 | I9: 20 | J9: 590 | K9: 6 | L9: =K9-(SUM(N9:O9)) -> 6 | M9: =IF(L9<0,"ATENÇÃO","OK") -> OK | N9: 0 | O9: 0
B10: 7 | C10: 7 | D10: Lampadas para Projetor, marca: EPSON / modelo: PowerLite X17 | E10: 339030-29 | G10: Peça | H10: 30 | I10: 20 | J10: 590 | L10: =K10-(SUM(N10:O10)) -> 0 | M10: =IF(L10<0,"ATENÇÃO","OK") -> OK | N10: 0 | O10: 0
B11: 8 | C11: 8 | D11: Lampadas para Projetor, marca: EPSON / modelo: X12 | E11: 339030-29 | G11: Peça | H11: 30 | I11: 20 | J11: 427 | K11: 60 | L11: =K11-(SUM(N11:O11)) -> 60 | M11: =IF(L11<0,"ATENÇÃO","OK") -> OK | N11: 0 | O11: 0
B12: 9 | C12: 9 | D12: Lampadas para Projetor, marca: INFOCUS / modelo: LP280 | E12: 339030-29 | G12: Peça | H12: 30 | I12: 20 | J12: 530 | L12: =K12-(SUM(N12:O12)) -> 0 | M12: =IF(L12<0,"ATENÇÃO","OK") -> OK | N12: 0 | O12: 0
B13: 10 | C13: 10 | D13: Lampadas para Projetor, marca: NEC / modelo: NP100 | E13: 339030-29 | G13: Peça | H13: 30 | I13: 20 | J13: 497 | L13: =K13-(SUM(N13:O13)) -> 0 | M13: =IF(L13<0,"ATENÇÃO","OK") -> OK | N13: 0 | O13: 0
B14: 11 | C14: 11 | D14: Lampadas para Projetor, marca: OPTOMA/ modelo: DX551 DLP | E14: 339030-29 | G14: Peça | H14: 30 | I14: 20 | J14: 540 | L14: =K14-(SUM(N14:O14)) -> 0 | M14: =IF(L14<0,"ATENÇÃO","OK") -> OK | N14: 0 | O14: 0
A15: BMI Prosper EIRELI | B15: 12 | C15: 12 | D15: Lampadas para Projetor, marca: SANYO / modelo: KA7-DSB20N00 | E15: 339030-29 | G15: Peça | H15: 30 | I15: 20 | J15: 1900 | L15: =K15-(SUM(N15:O15)) -> 0 | M15: =IF(L15<0,"ATENÇÃO","OK") -> OK | N15: 0 | O15: 0
A16: Retropar Comércio Representação e Importação Ltda | B16: 13 | C16: 13 | D16: Lampadas para Projetor, marca: SANYO / modelo: PDGDSU20N | E16: 339030-29 | G16: Peça | H16: 30 | I16: 20 | J16: 465 | L16: =K16-(SUM(N16:O16)) -> 0 | M16: =IF(L16<0,"ATENÇÃO","OK") -> OK | N16: 0 | O16: 0
A17: BMI Prosper EIRELI | B17: 14 | C17: 14 | D17: Lampadas para Projetor, marca: VIEW SONIC / modelo: PJD5122 - VS13308 | E17: 339030-29 | G17: Peça | H17: 30 | I17: 20 | J17: 449 | L17: =K17-(SUM(N17:O17)) -> 0 | M17: =IF(L17<0,"ATENÇÃO","OK") -> OK | N17: 0 | O17: 0

Sheet CERES
A1: PROCESSO: 1024/2014/UDESC | D1: OBJETO: Aquisição de projetores e lâmpadas para projetores | K1: VIGÊNCIA DA ATA: 07/10/2014 até 06/10/2015 | N1: AF/OS nº 1763/2014 Qtde. DT
A2: CENTRO PARTICIPANTE: CERES
A3: FORNECEDOR | B3: LOTE | C3: ITEM | D3: PRODUTO - CARACTERÍSTICAS MÍNIMAS | E3: ELEMENTO | F3: MARCA | G3: UNIDADE | H3: Entrega (Dias) | I3: Pagto. (Dias) | J3: Preço UNITÁRIO (R$) | K3: Qtde LICITADA | L3: Saldo / Automático | M3: ALERTA | N3: ...../...../......
