Workbook
Name diasuteis: #REF!
Name diasuteis: #REF!
Name diasuteis: #REF!
Name diasuteis: #REF!
Name diasuteis: #REF!
Name diasuteis: #REF!
Name diasuteis: #REF!
Name diasuteis: #REF!
Name diasuteis: #REF!
Name diasuteis: #REF!
Name diasuteis: #REF!
Name diasuteis: #REF!
Name diasuteis: #REF!
Name diasuteis: #REF!
Name Ferias: #REF!
Name Ferias: #REF!
Name Ferias: #REF!
Name Ferias: #REF!
Name Ferias: #REF!
Name Ferias: #REF!
Name Ferias: #REF!
Name Ferias: #REF!
Name Ferias: #REF!
Name Ferias: #REF!
Name Ferias: #REF!
Name Ferias: #REF!
Name Ferias: #REF!
Name RD: OFFSET(#REF!,(MATCH(SMALL(#REF!,ROW()-10),#REF!,0)-1),0)

Sheet REIT
A1: PROCESSO: 1024/2014/UDESC | D1: OBJETO: Aquisição de projetores e lâmpadas para projetores | K1: VIGÊNCIA DA ATA: 07/10/2014 até 06/10/2015 | N1: AF/OS nº 104/2015 Qtde. DT
A2: CENTRO PARTICIPANTE: REITORIA
A3: FORNECEDOR | B3: LOTE | C3: ITEM | D3: PRODUTO - CARACTERÍSTICAS MÍNIMAS | E3: ELEMENTO | F3: MARCA | G3: UNIDADE | H3: Entrega (Dias) | I3: Pagto. (Dias) | J3: Preço UNITÁRIO (R$) | K3: Qtde LICITADA | L3: Saldo / Automático | M3: ALERTA | N3: 42045
A4: Harley de Aguiar Júnior EPP | B4: 1 | C4: 1 | D4: PROJETOR, MULTIMIDIA, CARACTERÍSTICAS MÍNIMAS: 1) Canhão de projeção com tecnologia LCD ou DLP; 2) Resolução nativa de 1024x768; 3) Luminosidade de 2500 lumens; 4) Contraste de 3000:1; 5) Reprodução de 16 milhões de cores; 6) Compatibilidade com padrão NTSC e PAL-M; 7) Formato de imagem 4x3 e 16x9; 8) Coreção keystone vertical e horizontal; 9) Controle remoto sem fio; 10) Ajuste de zoom e foco; 11) Tamanho da imagem projetada de 1 a 3 metros na diagonal; 12) Distância entre o projetor e a imagem entre 1 a 5 mestros; 13) Entradas para video analógico VGA (d-sub 15p), S-Video, vídeo composto e video digital HDMI; 14) Entrada para áudio estereo e autofalante; 15) Interface USB 2.0; 16) Duração média da lâmpada de 3000 hrs em uso normal; 17) Peso máximo 4Kg; 18) Ruido menor que 50 db em funcionamento; 19) Projeção mesa/teto, fronta/traseiro; 20) Fonte de alimentação automática operando de 100 a 240 VAC de entrada, 60 Hz. CONDIÇÔES GERAIS: a) Garantia de hardware do tipo on-site de 3 anos (exceto para lampada que deverá ser de 1 ano), disponibilizada pelo fabricante e realizada pelo mesmo ou por empresa autorizada oficialmente, com tempo de solução em até cinco dias; b) Indicação no site do fabricante das especificações técnicas específicas do modelo do equipamento. | E4: 449052-33 | F4: EPSON MODELO X17 | G4: Peça | H4: 30 | I4: 20 | J4: 1645 | K4: 8 | L4: =K4-(SUM(N4:N4)) -> 4 | M4: =IF(L4<0,"ATENÇÃO","OK") -> OK | N4: 4
A5: Retropar Comércio Representação e Importação Ltda | B5: 2 | C5: 2 | D5: Lampadas para Projetor, marca: BENQ / modelo: MP512ST | E5: 339030-29 | G5: Peça | H5: 30 | I5: 20 | J5: 485 | L5: =K5-(SUM(N5:N5)) -> 0 | M5: =IF(L5<0,"ATENÇÃO","OK") -> OK | N5: 0
A6: Negócios de Informática RW Ltda EPP | B6: 3 | C6: 3 | D6: Lampadas para Projetor, marca: BENQ / modelo: MX618ST | E6: 339030-29 | G6: Peça | H6: 30 | I6: 20 | J6: 647 | L6: =K6-(SUM(N6:N6)) -> 0 | M6: =IF(L6<0,"ATENÇÃO","OK") -> OK | N6: 0
A7: BMI Prosper EIRELI | B7: 4 | C7: 4 | D7: Lampadas para Projetor, marca: EPSON / modelo: ELPLP78 | E7: 339030-29 | G7: Peça | H7: 30 | I7: 20 | J7: 493 | L7: =K7-(SUM(N7:N7)) -> 0 | M7: =IF(L7<0,"ATENÇÃO","OK") -> OK | N7: 0
A8: Retropar Comércio Representação e Importação Ltda | B8: 5 | C8: 5 | D8: Lampadas para Projetor, marca: EPSON / modelo: H429A | E8: 339030-29 | G8: Peça | H8: 30 | I8: 20 | J8: 440 | L8: =K8-(SUM(N8:N8)) -> 0 | M8: =IF(L8<0,"ATENÇÃO","OK") -> OK | N8: 0
B9: 6 | C9: 6 | D9: Lampadas para Projetor, marca: EPSON / modelo: H569A | E9: 339030-29 | G9: Peça | H9: 30 | I9: 20 | J9: 590 | L9: =K9-(SUM(N9:N9)) -> 0 | M9: =IF(L9<0,"ATENÇÃO","OK") -> OK | N9: 0
B10: 7 | C10: 7 | D10: Lampadas para Projetor, marca: EPSON / modelo: PowerLite X17 | E10: 339030-29 | G10: Peça | H10: 30 | I10: 20 | J10: 590 | L10: =K10-(SUM(N10:N10)) -> 0 | M10: =IF(L10<0,"ATENÇÃO","OK") -> OK | N10: 0
B11: 8 | C11: 8 | D11: Lampadas para Projetor, marca: EPSON / modelo: X12 | E11: 339030-29 | G11: Peça | H11: 30 | I11: 20 | J11: 427 | L11: =K11-(SUM(N11:N11)) -> 0 | M11: =IF(L11<0,"ATENÇÃO","OK") -> OK | N11: 0
B12: 9 | C12: 9 | D12: Lampadas para Projetor, marca: INFOCUS / modelo: LP280 | E12: 339030-29 | G12: Peça | H12: 30 | I12: 20 | J12: 530 | L12: =K12-(SUM(N12:N12)) -> 0 | M12: =IF(L12<0,"ATENÇÃO","OK") -> OK | N12: 0
B13: 10 | C13: 10 | D13: Lampadas para Projetor, marca: NEC / modelo: NP100 | E13: 339030-29 | G13: Peça | H13: 30 | I13: 20 | J13: 497 | L13: =K13-(SUM(N13:N13)) -> 0 | M13: =IF(L13<0,"ATENÇÃO","OK") -> OK | N13: 0
B14: 11 | C14: 11 | D14: Lampadas para Projetor, marca: OPTOMA/ modelo: DX551 DLP | E14: 339030-29 | G14: Peça | H14: 30 | I14: 20 | J14: 540 | L14: =K14-(SUM(N14:N14)) -> 0 | M14: =IF(L14<0,"ATENÇÃO","OK") -> OK | N14: 0
A15: BMI Prosper EIRELI | B15: 12 | C15: 12 | D15: Lampadas para Projetor, marca: SANYO / modelo: KA7-DSB20N00 | E15: 339030-29 | G15: Peça | H15: 30 | I15: 20 | J15: 1900 | L15: =K15-(SUM(N15:N15)) -> 0 | M15: =IF(L15<0,"ATENÇÃO","OK") -> OK | N15: 0
A16: Retropar Comércio Representação e Importação Ltda | B16: 13 | C16: 13 | D16: Lampadas para Projetor, marca: SANYO / modelo: PDGDSU20N | E16: 339030-29 | G16: Peça | H16: 30 | I16: 20 | J16: 465 | L16: =K16-(SUM(N16:N16)) -> 0 | M16: =IF(L16<0,"ATENÇÃO","OK") -> OK | N16: 0
A17: BMI Prosper EIRELI | B17: 14 | C17: 14 | D17: Lampadas para Projetor, marca: VIEW SONIC / modelo: PJD5122 - VS13308 | E17: 339030-29 | G17: Peça | H17: 30 | I17: 20 | J17: 449 | L17: =K17-(SUM(N17:N17)) -> 0 | M17: =IF(L17<0,"ATENÇÃO","OK") -> OK | N17: 0

Sheet PROEX
A1: PROCESSO: 1024/2014/UDESC | D1: OBJETO: Aquisição de projetores e lâmpadas para projetores | K1: VIGÊNCIA DA ATA: 07/10/2014 até 06/10/2015 | N1: AF/OS nº 104/2015 Qtde. DT
A2: CENTRO PARTICIPANTE: PROEX
A3: FORNECEDOR | B3: LOTE | C3: ITEM | D3: PRODUTO - CARACTERÍSTICAS MÍNIMAS | E3: ELEMENTO | F3: MARCA | G3: UNIDADE | H3: Entrega (Dias) | I3: Pagto. (Dias) | J3: Preço UNITÁRIO (R$) | K3: Qtde LICITADA | L3: Saldo / Automático | M3: ALERTA | N3: 42045
A4: Harley de Aguiar Júnior EPP | B4: 1 | C4: 1 | D4: PROJETOR, MULTIMIDIA, CARACTERÍSTICAS MÍNIMAS: 1) Canhão de projeção com tecnologia LCD ou DLP; 2) Resolução nativa de 1024x768; 3) Luminosidade de 2500 lumens; 4) Contraste de 3000:1; 5) Reprodução de 16 milhões de cores; 6) Compatibilidade com padrão NTSC e PAL-M; 7) Formato de imagem 4x3 e 16x9; 8) Coreção keystone vertical e horizontal; 9) Controle remoto sem fio; 10) Ajuste de zoom e foco; 11) Tamanho da imagem projetada de 1 a 3 metros na diagonal; 12) Distância entre o projetor e a imagem entre 1 a 5 mestros; 13) Entradas para video analógico VGA (d-sub 15p), S-Video, vídeo composto e video digital HDMI; 14) Entrada para áudio estereo e autofalante; 15) Interface USB 2.0; 16) Duração média da lâmpada de 3000 hrs em uso normal; 17) Peso máximo 4Kg; 18) Ruido menor que 50 db em funcionamento; 19) Projeção mesa/teto, fronta/traseiro; 20) Fonte de alimentação automática operando de 100 a 240 VAC de entrada, 60 Hz. CONDIÇÔES GERAIS: a) Garantia de hardware do tipo on-site de 3 anos (exceto para lampada que deverá ser de 1 ano), disponibilizada pelo fabricante e realizada pelo mesmo ou por empresa autorizada oficialmente, com tempo de solução em até cinco dias; b) Indicação no site do fabricante das especificações técnicas específicas do modelo do equipamento. | E4: 449052-33 | F4: EPSON MODELO X17 | G4: Peça | H4: 30 | I4: 20 | J4: 1645 | K4: 6 | L4: =K4-(SUM(N4:N4)) -> 2 | M4: =IF(L4<0,"ATENÇÃO","OK") -> OK | N4: 4
A5: Retropar Comércio Representação e Importação Ltda | B5: 2 | C5: 2 | D5: Lampadas para Projetor, marca: BENQ / modelo: MP512ST | E5: 339030-29 | G5: Peça | H5: 30 | I5: 20 | J5: 485 | L5: =K5-(SUM(N5:N5)) -> 0 | M5: =IF(L5<0,"ATENÇÃO","OK") -> OK | N5: 0
A6: Negócios de Informática RW Ltda EPP | B6: 3 | C6: 3 | D6: Lampadas para Projetor, marca: BENQ / modelo: MX618ST | E6: 339030-29 | G6: Peça | H6: 30 | I6: 20 | J6: 647 | L6: =K6-(SUM(N6:N6)) -> 0 | M6: =IF(L6<0,"ATENÇÃO","OK") -> OK | N6: 0
A7: BMI Prosper EIRELI | B7: 4 | C7: 4 | D7: Lampadas para Projetor, marca: EPSON / modelo: ELPLP78 | E7: 339030-29 | G7: Peça | H7: 30 | I7: 20 | J7: 493 | L7: =K7-(SUM(N7:N7)) -> 0 | M7: =IF(L7<0,"ATENÇÃO","OK") -> OK | N7: 0
A8: Retropar Comércio Representação e Importação Ltda | B8: 5 | C8: 5 | D8: Lampadas para Projetor, marca: EPSON / modelo: H429A | E8: 339030-29 | G8: Peça | H8: 30 | I8: 20 | J8: 440 | L8: =K8-(SUM(N8:N8)) -> 0 | M8: =IF(L8<0,"ATENÇÃO","OK") -> OK | N8: 0
B9: 6 | C9: 6 | D9: Lampadas para Projetor, marca: EPSON / modelo: H569A | E9: 339030-29 | G9: Peça | H9: 30 | I9: 20 | J9: 590 | L9: =K9-(SUM(N9:N9)) -> 0 | M9: =IF(L9<0,"ATENÇÃO","OK") -> OK | N9: 0
B10: 7 | C10: 7 | D10: Lampadas para Projetor, marca: EPSON / modelo: PowerLite X17 | E10: 339030-29 | G10: Peça | H10: 30 | I10: 20 | J10: 590 | L10: =K10-(SUM(N10:N10)) -> 0 | M10: =IF(L10<0,"ATENÇÃO","OK") -> OK | N10: 0
B11: 8 | C11: 8 | D11: Lampadas para Projetor, marca: EPSON / modelo: X12 | E11: 339030-29 | G11: Peça | H11: 30 | I11: 20 | J11: 427 | L11: =K11-(SUM(N11:N11)) -> 0 | M11: =IF(L11<0,"ATENÇÃO","OK") -> OK | N11: 0
B12: 9 | C12: 9 | D12: Lampadas para Projetor, marca: INFOCUS / modelo: LP280 | E12: 339030-29 | G12: Peça | H12: 30 | I12: 20 | J12: 530 | L12: =K12-(SUM(N12:N12)) -> 0 | M12: =IF(L12<0,"ATENÇÃO","OK") -> OK | N12: 0
B13: 10 | C13: 10 | D13: Lampadas para Projetor, marca: NEC / modelo: NP100 | E13: 339030-29 | G13: Peça | H13: 30 | I13: 20 | J13: 497 | L13: =K13-(SUM(N13:N13)) -> 0 | M13: =IF(L13<0,"ATENÇÃO","OK") -> OK | N13: 0
B14: 11 | C14: 11 | D14: Lampadas para Projetor, marca: OPTOMA/ modelo: DX551 DLP | E14: 339030-29 | G14: Peça | H14: 30 | I14: 20 | J14: 540 | L14: =K14-(SUM(N14:N14)) -> 0 | M14: =IF(L14<0,"ATENÇÃO","OK") -> OK | N14: 0
A15: BMI Prosper EIRELI | B15: 12 | C15: 12 | D15: Lampadas para Projetor, marca: SANYO / modelo: KA7-DSB20N00 | E15: 339030-29 | G15: Peça | H15: 30 | I15: 20 | J15: 1900 | L15: =K15-(SUM(N15:N15)) -> 0 | M15: =IF(L15<0,"ATENÇÃO","OK") -> OK | N15: 0
A16: Retropar Comércio Representação e Importação Ltda | B16: 13 | C16: 13 | D16: Lampadas para Projetor, marca: SANYO / modelo: PDGDSU20N | E16: 339030-29 | G16: Peça | H16: 30 | I16: 20 | J16: 465 | L16: =K16-(SUM(N16:N16)) -> 0 | M16: =IF(L16<0,"ATENÇÃO","OK") -> OK | N16: 0
A17: BMI Prosper EIRELI | B17: 14 | C17: 14 | D17: Lampadas para Projetor, marca: VIEW SONIC / modelo: PJD5122 - VS13308 | E17: 339030-29 | G17: Peça | H17: 30 | I17: 20 | J17: 449 | L17: =K17-(SUM(N17:N17)) -> 0 | M17: =IF(L17<0,"ATENÇÃO","OK") -> OK | N17: 0

Sheet CEART
A1: PROCESSO: 1024/2014/UDESC | D1: OBJETO: Aquisição de projetores e lâmpadas para projetores | K1: VIGÊNCIA DA ATA: 07/10/2014 até 06/10/2015 | N1: "51/2015" | O1: "54/2015" | P1: AF 1672/2015
A2: CENTRO PARTICIPANTE: CEART
A3: FORNECEDOR | B3: LOTE | C3: ITEM | D3: PRODUTO - CARACTERÍSTICAS MÍNIMAS | E3: ELEMENTO | F3: MARCA | G3: UNIDADE | H3: Entrega (Dias) | I3: Pagto. (Dias) | J3: Preço UNITÁRIO (R$) | K3: Qtde LICITADA | L3: Saldo / Automático | M3: ALERTA | N3: 42090 | O3: 42038 | P3: 42264
A4: Harley de Aguiar Júnior EPP | B4: 1 | C4: 1 | D4: PROJETOR, MULTIMIDIA, CARACTERÍSTICAS MÍNIMAS: 1) Canhão de projeção com tecnologia LCD ou DLP; 2) Resolução nativa de 1024x768; 3) Luminosidade de 2500 lumens; 4) Contraste de 3000:1; 5) Reprodução de 16 milhões de cores; 6) Compatibilidade com padrão NTSC e PAL-M; 7) Formato de imagem 4x3 e 16x9; 8) Coreção keystone vertical e horizontal; 9) Controle remoto sem fio; 10) Ajuste de zoom e foco; 11) Tamanho da imagem projetada de 1 a 3 metros na diagonal; 12) Distância entre o projetor e a imagem entre 1 a 5 mestros; 13) Entradas para video analógico VGA (d-sub 15p), S-Video, vídeo composto e video digital HDMI; 14) Entrada para áudio estereo e autofalante; 15) Interface USB 2.0; 16) Duração média da lâmpada de 3000 hrs em uso normal; 17) Peso máximo 4Kg; 18) Ruido menor que 50 db em funcionamento; 19) Projeção mesa/teto, fronta/traseiro; 20) Fonte de alimentação automática operando de 100 a 240 VAC de entrada, 60 Hz. CONDIÇÔES GERAIS: a) Garantia de hardware do tipo on-site de 3 anos (exceto para lampada que deverá ser de 1 ano), disponibilizada pelo fabricante e realizada pelo mesmo ou por empresa autorizada oficialmente, com tempo de solução em até cinco dias; b) Indicação no site do fabricante das especificações técnicas específicas do modelo do equipamento. | E4: 449052-33 | F4: EPSON MODELO X17 | G4: Peça | H4: 30 | I4: 20 | J4: 1645 | K4: 15 | L4: =K4-(SUM(N4:P4)) -> 8 | M4: =IF(L4<0,"ATENÇÃO","OK") -> OK | N4: 1 | O4: 0 | P4: 6
A5: Retropar Comércio Representação e Importação Ltda | B5: 2 | C5: 2 | D5: Lampadas para Projetor, marca: BENQ / modelo: MP512ST | E5: 339030-29 | G5: Peça | H5: 30 | I5: 20 | J5: 485 | L5: =K5-(SUM(N5:P5)) -> 0 | M5: =IF(L5<0,"ATENÇÃO","OK") -> OK | N5: 0 | O5: 0 | P5: 0
A6: Negócios de Informática RW Ltda EPP | B6: 3 | C6: 3 | D6: Lampadas para Projetor, marca: BENQ / modelo: MX618ST | E6: 339030-29 | G6: Peça | H6: 30 | I6: 20 | J6: 647 | L6: =K6-(SUM(N6:P6)) -> 0 | M6: =IF(L6<0,"ATENÇÃO","OK") -> OK | N6: 0 | O6: 0 | P6: 0
A7: BMI Prosper EIRELI | B7: 4 | C7: 4 | D7: Lampadas para Projetor, marca: EPSON / modelo: ELPLP78 | E7: 339030-29 | G7: Peça | H7: 30 | I7: 20 | J7: 493 | L7: =K7-(SUM(N7:P7)) -> 0 | M7: =IF(L7<0,"ATENÇÃO","OK") -> OK | N7: 0 | O7: 0 | P7: 0
A8: Retropar Comércio Representação e Importação Ltda | B8: 5 | C8: 5 | D8: Lampadas para Projetor, marca: EPSON / modelo: H429A | E8: 339030-29 | G8: Peça | H8: 30 | I8: 20 | J8: 440 | L8: =K8-(SUM(N8:P8)) -> 0 | M8: =IF(L8<0,"ATENÇÃO","OK") -> OK | N8: 0 | O8: 0 | P8: 0
B9: 6 | C9: 6 | D9: Lampadas para Projetor, marca: EPSON / modelo: H569A | E9: 339030-29 | G9: Peça | H9: 30 | I9: 20 | J9: 590 | L9: =K9-(SUM(N9:P9)) -> 0 | M9: =IF(L9<0,"ATENÇÃO","OK") -> OK | N9: 0 | O9: 0 | P9: 0
B10: 7 | C10: 7 | D10: Lampadas para Projetor, marca: EPSON / modelo: PowerLite X17 | E10: 339030-29 | G10: Peça | H10: 30 | I10: 20 | J10: 590 | K10: 10 | L10: =K10-(SUM(N10:P10)) -> 0 | M10: =IF(L10<0,"ATENÇÃO","OK") -> OK | O10: 10 | P10: 0
B11: 8 | C11: 8 | D11: Lampadas para Projetor, marca: EPSON / modelo: X12 | E11: 339030-29 | G11: Peça | H11: 30 | I11: 20 | J11: 427 | L11: =K11-(SUM(N11:P11)) -> 0 | M11: =IF(L11<0,"ATENÇÃO","OK") -> OK | N11: 0 | O11: 0 | P11: 0
B12: 9 | C12: 9 | D12: Lampadas para Projetor, marca: INFOCUS / modelo: LP280 | E12: 339030-29 | G12: Peça | H12: 30 | I12: 20 | J12: 530 | L12: =K12-(SUM(N12:P12)) -> 0 | M12: =IF(L12<0,"ATENÇÃO","OK") -> OK | N12: 0 | O12: 0 | P12: 0
B13: 10 | C13: 10 | D13: Lampadas para Projetor, marca: NEC / modelo: NP100 | E13: 339030-29 | G13: Peça | H13: 30 | I13: 20 | J13: 497 | L13: =K13-(SUM(N13:P13)) -> 0 | M13: =IF(L13<0,"ATENÇÃO","OK") -> OK | N13: 0 | O13: 0 | P13: 0
B14: 11 | C14: 11 | D14: Lampadas para Projetor, marca: OPTOMA/ modelo: DX551 DLP | E14: 339030-29 | G14: Peça | H14: 30 | I14: 20 | J14: 540 | K14: 8 | L14: =K14-(SUM(N14:P14)) -> 2 | M14: =IF(L14<0,"ATENÇÃO","OK") -> OK | O14: 6 | P14: 0
A15: BMI Prosper EIRELI | B15: 12 | C15: 12 | D15: Lampadas para Projetor, marca: SANYO / modelo: KA7-DSB20N00 | E15: 339030-29 | G15: Peça | H15: 30 | I15: 20 | J15: 1900 | L15: =K15-(SUM(N15:P15)) -> 0 | M15: =IF(L15<0,"ATENÇÃO","OK") -> OK | N15: 0 | O15: 0 | P15: 0
A16: Retropar Comércio Representação e Importação Ltda | B16: 13 | C16: 13 | D16: Lampadas para Projetor, marca: SANYO / modelo: PDGDSU20N | E16: 339030-29 | G16: Peça | H16: 30 | I16: 20 | J16: 465 | L16: =K16-(SUM(N16:P16)) -> 0 | M16: =IF(L16<0,"ATENÇÃO","OK") -> OK | N16: 0 | O16: 0 | P16: 0
A17: BMI Prosper EIRELI | B17: 14 | C17: 14 | D17: Lampadas para Projetor, marca: VIEW SONIC / modelo: PJD5122 - VS13308 | E17: 339030-29 | G17: Peça | H17: 30 | I17: 20 | J17: 449 | L17: =K17-(SUM(N17:P17)) -> 0 | M17: =IF(L17<0,"ATENÇÃO","OK") -> OK | N17: 0 | O17: 0 | P17: 0

Sheet FAED
A1: PROCESSO: 1024/2014/UDESC | D1: OBJETO: Aquisição de projetores e lâmpadas para projetores | K1: VIGÊNCIA DA ATA: 07/10/2014 até 06/10/2015 | N1: AF/OS nº 331/2015 Qtde. DT | O1: AF/OS nº 636/2015 Qtde. DT
A2: CENTRO PARTICIPANTE: FAED
A3: FORNECEDOR | B3: LOTE | C3: ITEM | D3: PRODUTO - CARACTERÍSTICAS MÍNIMAS | E3: ELEMENTO | F3: MARCA | G3: UNIDADE | H3: Entrega (Dias) | I3: Pagto. (Dias) | J3: Preço UNITÁRIO (R$) | K3: Qtde LICITADA | L3: Saldo / Automático | M3: ALERTA | N3: 42088 | O3: 42129
A4: Harley de Aguiar Júnior EPP | B4: 1 | C4: 1 | D4: PROJETOR, MULTIMIDIA, CARACTERÍSTICAS MÍNIMAS: 1) Canhão de projeção com tecnologia LCD ou DLP; 2) Resolução nativa de 1024x768; 3) Luminosidade de 2500 lumens; 4) Contraste de 3000:1; 5) Reprodução de 16 milhões de cores; 6) Compatibilidade com padrão NTSC e PAL-M; 7) Formato de imagem 4x3 e 16x9; 8) Coreção keystone vertical e horizontal; 9) Controle remoto sem fio; 10) Ajuste de zoom e foco; 11) Tamanho da imagem projetada de 1 a 3 metros na diagonal; 12) Distância entre o projetor e a imagem entre 1 a 5 mestros; 13) Entradas para video analógico VGA (d-sub 15p), S-Video, vídeo composto e video digital HDMI; 14) Entrada para áudio estereo e autofalante; 15) Interface USB 2.0; 16) Duração média da lâmpada de 3000 hrs em uso normal; 17) Peso máximo 4Kg; 18) Ruido menor que 50 db em funcionamento; 19) Projeção mesa/teto, fronta/traseiro; 20) Fonte de alimentação automática operando de 100 a 240 VAC de entrada, 60 Hz. CONDIÇÔES GERAIS: a) Garantia de hardware do tipo on-site de 3 anos (exceto para lampada que deverá ser de 1 ano), disponibilizada pelo fabricante e realizada pelo mesmo ou por empresa autorizada oficialmente, com tempo de solução em até cinco dias; b) Indicação no site do fabricante das especificações técnicas específicas do modelo do equipamento. | E4: 449052-33 | F4: EPSON MODELO X17 | G4: Peça | H4: 30 | I4: 20 | J4: 1645 | K4: 10 | L4: =K4-(SUM(N4:O4)) -> 8 | M4: =IF(L4<0,"ATENÇÃO","OK") -> OK | N4: 1 | O4: 1
A5: Retropar Comércio Representação e Importação Ltda | B5: 2 | C5: 2 | D5: Lampadas para Projetor, marca: BENQ / modelo: MP512ST | E5: 339030-29 | G5: Peça | H5: 30 | I5: 20 | J5: 485 | L5: =K5-(SUM(N5:O5)) -> 0 | M5: =IF(L5<0,"ATENÇÃO","OK") -> OK | N5: 0 | O5: 0
A6: Negócios de Informática RW Ltda EPP | B6: 3 | C6: 3 | D6: Lampadas para Projetor, marca: BENQ / modelo: MX618ST | E6: 339030-29 | G6: Peça | H6: 30 | I6: 20 | J6: 647 | L6: =K6-(SUM(N6:O6)) -> 0 | M6: =IF(L6<0,"ATENÇÃO","OK") -> OK | N6: 0 | O6: 0
A7: BMI Prosper EIRELI | B7: 4 | C7: 4 | D7: Lampadas para Projetor, marca: EPSON / modelo: ELPLP78 | E7: 339030-29 | G7: Peça | H7: 30 | I7: 20 | J7: 493 | L7: =K7-(SUM(N7:O7)) -> 0 | M7: =IF(L7<0,"ATENÇÃO","OK") -> OK | N7: 0 | O7: 0
A8: Retropar Comércio Representação e Importação Ltda | B8: 5 | C8: 5 | D8: Lampadas para Projetor, marca: EPSON / modelo: H429A | E8: 339030-29 | G8: Peça | H8: 30 | I8: 20 | J8: 440 | L8: =K8-(SUM(N8:O8)) -> 0 | M8: =IF(L8<0,"ATENÇÃO","OK") -> OK | N8: 0 | O8: 0
B9: 6 | C9: 6 | D9: Lampadas para Projetor, marca: EPSON / modelo: H569A | E9: 339030-29 | G9: Peça | H9: 30 | I9: 20 | J9: 590 | L9: =K9-(SUM(N9:O9)) -> 0 | M9: =IF(L9<0,"ATENÇÃO","OK") -> OK | N9: 0 | O9: 0
B10: 7 | C10: 7 | D10: Lampadas para Projetor, marca: EPSON / modelo: PowerLite X17 | E10: 339030-29 | G10: Peça | H10: 30 | I10: 20 | J10: 590 | L10: =K10-(SUM(N10:O10)) -> 0 | M10: =IF(L10<0,"ATENÇÃO","OK") -> OK | N10: 0 | O10: 0
B11: 8 | C11: 8 | D11: Lampadas para Projetor, marca: EPSON / modelo: X12 | E11: 339030-29 | G11: Peça | H11: 30 | I11: 20 | J11: 427 | L11: =K11-(SUM(N11:O11)) -> 0 | M11: =IF(L11<0,"ATENÇÃO","OK") -> OK | N11: 0 | O11: 0
B12: 9 | C12: 9 | D12: Lampadas para Projetor, marca: INFOCUS / modelo: LP280 | E12: 339030-29 | G12: Peça | H12: 30 | I12: 20 | J12: 530 | L12: =K12-(SUM(N12:O12)) -> 0 | M12: =IF(L12<0,"ATENÇÃO","OK") -> OK | N12: 0 | O12: 0
B13: 10 | C13: 10 | D13: Lampadas para Projetor, marca: NEC / modelo: NP100 | E13: 339030-29 | G13: Peça | H13: 30 | I13: 20 | J13: 497 | L13: =K13-(SUM(N13:O13)) -> 0 | M13: =IF(L13<0,"ATENÇÃO","OK") -> OK | N13: 0 | O13: 0
B14: 11 | C14: 11 | D14: Lampadas para Projetor, marca: OPTOMA/ modelo: DX551 DLP | E14: 339030-29 | G14: Peça | H14: 30 | I14: 20 | J14: 540 | L14: =K14-(SUM(N14:O14)) -> 0 | M14: =IF(L14<0,"ATENÇÃO","OK") -> OK | N14: 0 | O14: 0
A15: BMI Prosper EIRELI | B15: 12 | C15: 12 | D15: Lampadas para Projetor, marca: SANYO / modelo: KA7-DSB20N00 | E15: 339030-29 | G15: Peça | H15: 30 | I15: 20 | J15: 1900 | L15: =K15-(SUM(N15:O15)) -> 0 | M15: =IF(L15<0,"ATENÇÃO","OK") -> OK | N15: 0 | O15: 0
A16: Retropar Comércio Representação e Importação Ltda | B16: 13 | C16: 13 | D16: Lampadas para Projetor, marca: SANYO / modelo: PDGDSU20N | E16: 339030-29 | G16: Peça | H16: 30 | I16: 20 | J16: 465 | L16: =K16-(SUM(N16:O16)) -> 0 | M16: =IF(L16<0,"ATENÇÃO","OK") -> OK | N16: 0 | O16: 0
A17: BMI Prosper EIRELI | B17: 14 | C17: 14 | D17: Lampadas para Projetor, marca: VIEW SONIC / modelo: PJD5122 - VS13308 | E17: 339030-29 | G17: Peça | H17: 30 | I17: 20 | J17: 449 | L17: =K17-(SUM(N17:O17)) -> 0 | M17: =IF(L17<0,"ATENÇÃO","OK") -> OK | N17: 0 | O17: 0

Sheet CEFID
A1: PROCESSO: 1024/2014/UDESC | D1: OBJETO: Aquisição de projetores e lâmpadas para projetores | K1: VIGÊNCIA DA ATA: 07/10/2014 até 06/10/2015 | N1: AF/OS nº 166/2015 Qtde. DT | O1: AF/OS nº 476/2015 Qtde. DT | P1: AF/OS nº 478/2015 Qtde. DT | Q1: AF/OS nº 486/2015Qtde. DT | R1: AF/OS nº 572/2015 Qtde. DT
A2: CENTRO PARTICIPANTE: CEFID
A3: FORNECEDOR | B3: LOTE | C3: ITEM | D3: PRODUTO - CARACTERÍSTICAS MÍNIMAS | E3: ELEMENTO | F3: MARCA | G3: UNIDADE | H3: Entrega (Dias) | I3: Pagto. (Dias) | J3: Preço UNITÁRIO (R$) | K3: Qtde LICITADA | L3: Saldo / Automático | M3: ALERTA | N3: 41693 | O3: 42110 | P3: 42110 | Q3: 42111 | R3: 42122
A4: Harley de Aguiar Júnior EPP | B4: 1 | C4: 1 | D4: PROJETOR, MULTIMIDIA, CARACTERÍSTICAS MÍNIMAS: 1) Canhão de projeção com tecnologia LCD ou DLP; 2) Resolução nativa de 1024x768; 3) Luminosidade de 2500 lumens; 4) Contraste de 3000:1; 5) Reprodução de 16 milhões de cores; 6) Compatibilidade com padrão NTSC e PAL-M; 7) Formato de imagem 4x3 e 16x9; 8) Coreção keystone vertical e horizontal; 9) Controle remoto sem fio; 10) Ajuste de zoom e foco; 11) Tamanho da imagem projetada de 1 a 3 metros na diagonal; 12) Distância entre o projetor e a imagem entre 1 a 5 mestros; 13) Entradas para video analógico VGA (d-sub 15p), S-Video, vídeo composto e video digital HDMI; 14) Entrada para áudio estereo e autofalante; 15) Interface USB 2.0; 16) Duração média da lâmpada de 3000 hrs em uso normal; 17) Peso máximo 4Kg; 18) Ruido menor que 50 db em funcionamento; 19) Projeção mesa/teto, fronta/traseiro; 20) Fonte de alimentação automática operando de 100 a 240 VAC de entrada, 60 Hz. CONDIÇÔES GERAIS: a) Garantia de hardware do tipo on-site de 3 anos (exceto para lampada que deverá ser de 1 ano), disponibilizada pelo fabricante e realizada pelo mesmo ou por empresa autorizada oficialmente, com tempo de solução em até cinco dias; b) Indicação no site do fabricante das especificações técnicas específicas do modelo do equipamento. | E4: 449052-33 | F4: EPSON MODELO X17 | G4: Peça | H4: 30 | I4: 20 | J4: 1645 | K4: 15 | L4: =K4-(SUM(N4:R4)) -> 10 | M4: =IF(L4<0,"ATENÇÃO","OK") -> OK | N4: 0 | O4: 2 | P4: 1 | Q4: 1 | R4: 1
A5: Retropar Comércio Representação e Importação Ltda | B5: 2 | C5: 2 | D5: Lampadas para Projetor, marca: BENQ / modelo: MP512ST | E5: 339030-29 | G5: Peça | H5: 30 | I5: 20 | J5: 485 | K5: 15 | L5: =K5-(SUM(N5:R5)) -> 15 | M5: =IF(L5<0,"ATENÇÃO","OK") -> OK | N5: 0 | O5: 0 | P5: 0 | Q5: 0 | R5: 0
A6: Negócios de Informática RW Ltda EPP | B6: 3 | C6: 3 | D6: Lampadas para Projetor, marca: BENQ / modelo: MX618ST | E6: 339030-29 | G6: Peça | H6: 30 | I6: 20 | J6: 647 | K6: 5 | L6: =K6-(SUM(N6:R6)) -> 5 | M6: =IF(L6<0,"ATENÇÃO","OK") -> OK | N6: 0 | O6: 0 | P6: 0 | Q6: 0 | R6: 0
A7: BMI Prosper EIRELI | B7: 4 | C7: 4 | D7: Lampadas para Projetor, marca: EPSON / modelo: ELPLP78 | E7: 339030-29 | G7: Peça | H7: 30 | I7: 20 | J7: 493 | L7: =K7-(SUM(N7:R7)) -> 0 | M7: =IF(L7<0,"ATENÇÃO","OK") -> OK | N7: 0 | O7: 0 | P7: 0 | Q7: 0 | R7: 0
A8: Retropar Comércio Representação e Importação Ltda | B8: 5 | C8: 5 | D8: Lampadas para Projetor, marca: EPSON / modelo: H429A | E8: 339030-29 | G8: Peça | H8: 30 | I8: 20 | J8: 440 | K8: 5 | L8: =K8-(SUM(N8:R8)) -> 5 | M8: =IF(L8<0,"ATENÇÃO","OK") -> OK | N8: 0 | O8: 0 | P8: 0 | Q8: 0 | R8: 0
B9: 6 | C9: 6 | D9: Lampadas para Projetor, marca: EPSON / modelo: H569A | E9: 339030-29 | G9: Peça | H9: 30 | I9: 20 | J9: 590 | L9: =K9-(SUM(N9:R9)) -> 0 | M9: =IF(L9<0,"ATENÇÃO","OK") -> OK | N9: 0 | O9: 0 | P9: 0 | Q9: 0 | R9: 0
B10: 7 | C10: 7 | D10: Lampadas para Projetor, marca: EPSON / modelo: PowerLite X17 | E10: 339030-29 | G10: Peça | H10: 30 | I10: 20 | J10: 590 | K10: 5 | L10: =K10-(SUM(N10:R10)) -> 5 | M10: =IF(L10<0,"ATENÇÃO","OK") -> OK | N10: 0 | O10: 0 | P10: 0 | Q10: 0 | R10: 0
B11: 8 | C11: 8 | D11: Lampadas para Projetor, marca: EPSON / modelo: X12 | E11: 339030-29 | G11: Peça | H11: 30 | I11: 20 | J11: 427 | L11: =K11-(SUM(N11:R11)) -> 0 | M11: =IF(L11<0,"ATENÇÃO","OK") -> OK | N11: 0 | O11: 0 | P11: 0 | Q11: 0 | R11: 0
B12: 9 | C12: 9 | D12: Lampadas para Projetor, marca: INFOCUS / modelo: LP280 | E12: 339030-29 | G12: Peça | H12: 30 | I12: 20 | J12: 530 | K12: 5 | L12: =K12-(SUM(N12:R12)) -> 5 | M12: =IF(L12<0,"ATENÇÃO","OK") -> OK | N12: 0 | O12: 0 | P12: 0 | Q12: 0 | R12: 0
B13: 10 | C13: 10 | D13: Lampadas para Projetor, marca: NEC / modelo: NP100 | E13: 339030-29 | G13: Peça | H13: 30 | I13: 20 | J13: 497 | K13: 5 | L13: =K13-(SUM(N13:R13)) -> 5 | M13: =IF(L13<0,"ATENÇÃO","OK") -> OK | N13: 0 | O13: 0 | P13: 0 | Q13: 0 | R13: 0
B14: 11 | C14: 11 | D14: Lampadas para Projetor, marca: OPTOMA/ modelo: DX551 DLP | E14: 339030-29 | G14: Peça | H14: 30 | I14: 20 | J14: 540 | K14: 15 | L14: =K14-(SUM(N14:R14)) -> 13 | M14: =IF(L14<0,"ATENÇÃO","OK") -> OK | N14: 2 | O14: 0 | P14: 0 | Q14: 0 | R14: 0
A15: BMI Prosper EIRELI | B15: 12 | C15: 12 | D15: Lampadas para Projetor, marca: SANYO / modelo: KA7-DSB20N00 | E15: 339030-29 | G15: Peça | H15: 30 | I15: 20 | J15: 1900 | K15: 5 | L15: =K15-(SUM(N15:R15)) -> 5 | M15: =IF(L15<0,"ATENÇÃO","OK") -> OK | N15: 0 | O15: 0 | P15: 0 | Q15: 0 | R15: 0
A16: Retropar Comércio Representação e Importação Ltda | B16: 13 | C16: 13 | D16: Lampadas para Projetor, marca: SANYO / modelo: PDGDSU20N | E16: 339030-29 | G16: Peça | H16: 30 | I16: 20 | J16: 465 | K16: 5 | L16: =K16-(SUM(N16:R16)) -> 5 | M16: =IF(L16<0,"ATENÇÃO","OK") -> OK | N16: 0 | O16: 0 | P16: 0 | Q16: 0 | R16: 0
A17: BMI Prosper EIRELI | B17: 14 | C17: 14 | D17: Lampadas para Projetor, marca: VIEW SONIC / modelo: PJD5122 - VS13308 | E17: 339030-29 | G17: Peça | H17: 30 | I17: 20 | J17: 449 | K17: 5 | L17: =K17-(SUM(N17:R17)) -> 5 | M17: =IF(L17<0,"ATENÇÃO","OK") -> OK | N17: 0 | O17: 0 | P17: 0 | Q17: 0 | R17: 0

Sheet CESFI
A1: PROCESSO: 1024/2014/UDESC | D1: OBJETO: Aquisição de projetores e lâmpadas para projetores | K1: VIGÊNCIA DA ATA: 07/10/2014 até 06/10/2015 | N1: AF/OS nº xxxx/2014 Qtde. DT
A2: CENTRO PARTICIPANTE: CESFI
A3: FORNECEDOR | B3: LOTE | C3: ITEM | D3: PRODUTO - CARACTERÍSTICAS MÍNIMAS | E3: ELEMENTO | F3: MARCA | G3: UNIDADE | H3: Entrega (Dias) | I3: Pagto. (Dias) | J3: Preço UNITÁRIO (R$) | K3: Qtde LICITADA | L3: Saldo / Automático | M3: ALERTA | N3: ...../...../......
A4: Harley de Aguiar Júnior EPP | B4: 1 | C4: 1 | D4: PROJETOR, MULTIMIDIA, CARACTERÍSTICAS MÍNIMAS: 1) Canhão de projeção com tecnologia LCD ou DLP; 2) Resolução nativa de 1024x768; 3) Luminosidade de 2500 lumens; 4) Contraste de 3000:1; 5) Reprodução de 16 milhões de cores; 6) Compatibilidade com padrão NTSC e PAL-M; 7) Formato de imagem 4x3 e 16x9; 8) Coreção keystone vertical e horizontal; 9) Controle remoto sem fio; 10) Ajuste de zoom e foco; 11) Tamanho da imagem projetada de 1 a 3 metros na diagonal; 12) Distância entre o projetor e a imagem entre 1 a 5 mestros; 13) Entradas para video analógico VGA (d-sub 15p), S-Video, vídeo composto e video digital HDMI; 14) Entrada para áudio estereo e autofalante; 15) Interface USB 2.0; 16) Duração média da lâmpada de 3000 hrs em uso normal; 17) Peso máximo 4Kg; 18) Ruido menor que 50 db em funcionamento; 19) Projeção mesa/teto, fronta/traseiro; 20) Fonte de alimentação automática operando de 100 a 240 VAC de entrada, 60 Hz. CONDIÇÔES GERAIS: a) Garantia de hardware do tipo on-site de 3 anos (exceto para lampada que deverá ser de 1 ano), disponibilizada pelo fabricante e realizada pelo mesmo ou por empresa autorizada oficialmente, com tempo de solução em até cinco dias; b) Indicação no site do fabricante das especificações técnicas específicas do modelo do equipamento. | E4: 449052-33 | F4: EPSON MODELO X17 | G4: Peça | H4: 30 | I4: 20 | J4: 1645 | K4: 12 | L4: =K4-(SUM(N4:N4)) -> 12 | M4: =IF(L4<0,"ATENÇÃO","OK") -> OK | N4: 0
A5: Retropar Comércio Representação e Importação Ltda | B5: 2 | C5: 2 | D5: Lampadas para Projetor, marca: BENQ / modelo: MP512ST | E5: 339030-29 | G5: Peça | H5: 30 | I5: 20 | J5: 485 | L5: =K5-(SUM(N5:N5)) -> 0 | M5: =IF(L5<0,"ATENÇÃO","OK") -> OK | N5: 0
A6: Negócios de Informática RW Ltda EPP | B6: 3 | C6: 3 | D6: Lampadas para Projetor, marca: BENQ / modelo: MX618ST | E6: 339030-29 | G6: Peça | H6: 30 | I6: 20 | J6: 647 | L6: =K6-(SUM(N6:N6)) -> 0 | M6: =IF(L6<0,"ATENÇÃO","OK") -> OK | N6: 0
A7: BMI Prosper EIRELI | B7: 4 | C7: 4 | D7: Lampadas para Projetor, marca: EPSON / modelo: ELPLP78 | E7: 339030-29 | G7: Peça | H7: 30 | I7: 20 | J7: 493 | L7: =K7-(SUM(N7:N7)) -> 0 | M7: =IF(L7<0,"ATENÇÃO","OK") -> OK | N7: 0
A8: Retropar Comércio Representação e Importação Ltda | B8: 5 | C8: 5 | D8: Lampadas para Projetor, marca: EPSON / modelo: H429A | E8: 339030-29 | G8: Peça | H8: 30 | I8: 20 | J8: 440 | L8: =K8-(SUM(N8:N8)) -> 0 | M8: =IF(L8<0,"ATENÇÃO","OK") -> OK | N8: 0
B9: 6 | C9: 6 | D9: Lampadas para Projetor, marca: EPSON / modelo: H569A | E9: 339030-29 | G9: Peça | H9: 30 | I9: 20 | J9: 590 | L9: =K9-(SUM(N9:N9)) -> 0 | M9: =IF(L9<0,"ATENÇÃO","OK") -> OK | N9: 0
B10: 7 | C10: 7 | D10: Lampadas para Projetor, marca: EPSON / modelo: PowerLite X17 | E10: 339030-29 | G10: Peça | H10: 30 | I10: 20 | J10: 590 | L10: =K10-(SUM(N10:N10)) -> 0 | M10: =IF(L10<0,"ATENÇÃO","OK") -> OK | N10: 0
B11: 8 | C11: 8 | D11: Lampadas para Projetor, marca: EPSON / modelo: X12 | E11: 339030-29 | G11: Peça | H11: 30 | I11: 20 | J11: 427 | L11: =K11-(SUM(N11:N11)) -> 0 | M11: =IF(L11<0,"ATENÇÃO","OK") -> OK | N11: 0
B12: 9 | C12: 9 | D12: Lampadas para Projetor, marca: INFOCUS / modelo: LP280 | E12: 339030-29 | G12: Peça | H12: 30 | I12: 20 | J12: 530 | L12: =K12-(SUM(N12:N12)) -> 0 | M12: =IF(L12<0,"ATENÇÃO","OK") -> OK | N12: 0
B13: 10 | C13: 10 | D13: Lampadas para Projetor, marca: NEC / modelo: NP100 | E13: 339030-29 | G13: Peça | H13: 30 | I13: 20 | J13: 497 | L13: =K13-(SUM(N13:N13)) -> 0 | M13: =IF(L13<0,"ATENÇÃO","OK") -> OK | N13: 0
B14: 11 | C14: 11 | D14: Lampadas para Projetor, marca: OPTOMA/ modelo: DX551 DLP | E14: 339030-29 | G14: Peça | H14: 30 | I14: 20 | J14: 540 | K14: 10 | L14: =K14-(SUM(N14:N14)) -> 10 | M14: =IF(L14<0,"ATENÇÃO","OK") -> OK | N14: 0
A15: BMI Prosper EIRELI | B15: 12 | C15: 12 | D15: Lampadas para Projetor, marca: SANYO / modelo: KA7-DSB20N00 | E15: 339030-29 | G15: Peça | H15: 30 | I15: 20 | J15: 1900 | L15: =K15-(SUM(N15:N15)) -> 0 | M15: =IF(L15<0,"ATENÇÃO","OK") -> OK | N15: 0
A16: Retropar Comércio Representação e Importação Ltda | B16: 13 | C16: 13 | D16: Lampadas para Projetor, marca: SANYO / modelo: PDGDSU20N | E16: 339030-29 | G16: Peça | H16: 30 | I16: 20 | J16: 465 | L16: =K16-(SUM(N16:N16)) -> 0 | M16: =IF(L16<0,"ATENÇÃO","OK") -> OK | N16: 0
A17: BMI Prosper EIRELI | B17: 14 | C17: 14 | D17: Lampadas para Projetor, marca: VIEW SONIC / modelo: PJD5122 - VS13308 | E17: 339030-29 | G17: Peça | H17: 30 | I17: 20 | J17: 449 | L17: =K17-(SUM(N17:N17)) -> 0 | M17: =IF(L17<0,"ATENÇÃO","OK") -> OK | N17: 0

Sheet CEAVI
A1: PROCESSO: 1024/2014/UDESC | D1: OBJETO: Aquisição de projetores e lâmpadas para projetores | K1: VIGÊNCIA DA ATA: 07/10/2014 até 06/10/2015 | N1: AF/OS nº 322/2015 Qtde. DT
A2: CENTRO PARTICIPANTE: CEAVI
A3: FORNECEDOR | B3: LOTE | C3: ITEM | D3: PRODUTO - CARACTERÍSTICAS MÍNIMAS | E3: ELEMENTO | F3: MARCA | G3: UNIDADE | H3: Entrega (Dias) | I3: Pagto. (Dias) | J3: Preço UNITÁRIO (R$) | K3: Qtde LICITADA | L3: Saldo / Automático | M3: ALERTA | N3: 42110
A4: Harley de Aguiar Júnior EPP | B4: 1 | C4: 1 | D4: PROJETOR, MULTIMIDIA, CARACTERÍSTICAS MÍNIMAS: 1) Canhão de projeção com tecnologia LCD ou DLP; 2) Resolução nativa de 1024x768; 3) Luminosidade de 2500 lumens; 4) Contraste de 3000:1; 5) Reprodução de 16 milhões de cores; 6) Compatibilidade com padrão NTSC e PAL-M; 7) Formato de imagem 4x3 e 16x9; 8) Coreção keystone vertical e horizontal; 9) Controle remoto sem fio; 10) Ajuste de zoom e foco; 11) Tamanho da imagem projetada de 1 a 3 metros na diagonal; 12) Distância entre o projetor e a imagem entre 1 a 5 mestros; 13) Entradas para video analógico VGA (d-sub 15p), S-Video, vídeo composto e video digital HDMI; 14) Entrada para áudio estereo e autofalante; 15) Interface USB 2.0; 16) Duração média da lâmpada de 3000 hrs em uso normal; 17) Peso máximo 4Kg; 18) Ruido menor que 50 db em funcionamento; 19) Projeção mesa/teto, fronta/traseiro; 20) Fonte de alimentação automática operando de 100 a 240 VAC de entrada, 60 Hz. CONDIÇÔES GERAIS: a) Garantia de hardware do tipo on-site de 3 anos (exceto para lampada que deverá ser de 1 ano), disponibilizada pelo fabricante e realizada pelo mesmo ou por empresa autorizada oficialmente, com tempo de solução em até cinco dias; b) Indicação no site do fabricante das especificações técnicas específicas do modelo do equipamento. | E4: 449052-33 | F4: EPSON MODELO X17 | G4: Peça | H4: 30 | I4: 20 | J4: 1645 | K4: 30 | L4: =K4-(SUM(N4:N4)) -> 29 | M4: =IF(L4<0,"ATENÇÃO","OK") -> OK | N4: 1
A5: Retropar Comércio Representação e Importação Ltda | B5: 2 | C5: 2 | D5: Lampadas para Projetor, marca: BENQ / modelo: MP512ST | E5: 339030-29 | G5: Peça | H5: 30 | I5: 20 | J5: 485 | L5: =K5-(SUM(N5:N5)) -> 0 | M5: =IF(L5<0,"ATENÇÃO","OK") -> OK | N5: 0
A6: Negócios de Informática RW Ltda EPP | B6: 3 | C6: 3 | D6: Lampadas para Projetor, marca: BENQ / modelo: MX618ST | E6: 339030-29 | G6: Peça | H6: 30 | I6: 20 | J6: 647 | L6: =K6-(SUM(N6:N6)) -> 0 | M6: =IF(L6<0,"ATENÇÃO","OK") -> OK | N6: 0
A7: BMI Prosper EIRELI | B7: 4 | C7: 4 | D7: Lampadas para Projetor, marca: EPSON / modelo: ELPLP78 | E7: 339030-29 | G7: Peça | H7: 30 | I7: 20 | J7: 493 | L7: =K7-(SUM(N7:N7)) -> 0 | M7: =IF(L7<0,"ATENÇÃO","OK") -> OK | N7: 0
A8: Retropar Comércio Representação e Importação Ltda | B8: 5 | C8: 5 | D8: Lampadas para Projetor, marca: EPSON / modelo: H429A | E8: 339030-29 | G8: Peça | H8: 30 | I8: 20 | J8: 440 | K8: 15 | L8: =K8-(SUM(N8:N8)) -> 15 | M8: =IF(L8<0,"ATENÇÃO","OK") -> OK | N8: 0
B9: 6 | C9: 6 | D9: Lampadas para Projetor, marca: EPSON / modelo: H569A | E9: 339030-29 | G9: Peça | H9: 30 | I9: 20 | J9: 590 | L9: =K9-(SUM(N9:N9)) -> 0 | M9: =IF(L9<0,"ATENÇÃO","OK") -> OK | N9: 0
B10: 7 | C10: 7 | D10: Lampadas para Projetor, marca: EPSON / modelo: PowerLite X17 | E10: 339030-29 | G10: Peça | H10: 30 | I10: 20 | J10: 590 | L10: =K10-(SUM(N10:N10)) -> 0 | M10: =IF(L10<0,"ATENÇÃO","OK") -> OK | N10: 0
B11: 8 | C11: 8 | D11: Lampadas para Projetor, marca: EPSON / modelo: X12 | E11: 339030-29 | G11: Peça | H11: 30 | I11: 20 | J11: 427 | L11: =K11-(SUM(N11:N11)) -> 0 | M11: =IF(L11<0,"ATENÇÃO","OK") -> OK | N11: 0
B12: 9 | C12: 9 | D12: Lampadas para Projetor, marca: INFOCUS / modelo: LP280 | E12: 339030-29 | G12: Peça | H12: 30 | I12: 20 | J12: 530 | L12: =K12-(SUM(N12:N12)) -> 0 | M12: =IF(L12<0,"ATENÇÃO","OK") -> OK | N12: 0
B13: 10 | C13: 10 | D13: Lampadas para Projetor, marca: NEC / modelo: NP100 | E13: 339030-29 | G13: Peça | H13: 30 | I13: 20 | J13: 497 | L13: =K13-(SUM(N13:N13)) -> 0 | M13: =IF(L13<0,"ATENÇÃO","OK") -> OK | N13: 0
B14: 11 | C14: 11 | D14: Lampadas para Projetor, marca: OPTOMA/ modelo: DX551 DLP | E14: 339030-29 | G14: Peça | H14: 30 | I14: 20 | J14: 540 | L14: =K14-(SUM(N14:N14)) -> 0 | M14: =IF(L14<0,"ATENÇÃO","OK") -> OK | N14: 0
A15: BMI Prosper EIRELI | B15: 12 | C15: 12 | D15: Lampadas para Projetor, marca: SANYO / modelo: KA7-DSB20N00 | E15: 339030-29 | G15: Peça | H15: 30 | I15: 20 | J15: 1900 | L15: =K15-(SUM(N15:N15)) -> 0 | M15: =IF(L15<0,"ATENÇÃO","OK") -> OK | N15: 0
A16: Retropar Comércio Representação e Importação Ltda | B16: 13 | C16: 13 | D16: Lampadas para Projetor, marca: SANYO / modelo: PDGDSU20N | E16: 339030-29 | G16: Peça | H16: 30 | I16: 20 | J16: 465 | L16: =K16-(SUM(N16:N16)) -> 0 | M16: =IF(L16<0,"ATENÇÃO","OK") -> OK | N16: 0
A17: BMI Prosper EIRELI | B17: 14 | C17: 14 | D17: Lampadas para Projetor, marca: VIEW SONIC / modelo: PJD5122 - VS13308 | E17: 339030-29 | G17: Peça | H17: 30 | I17: 20 | J17: 449 | L17: =K17-(SUM(N17:N17)) -> 0 | M17: =IF(L17<0,"ATENÇÃO","OK") -> OK | N17: 0

Sheet CCT
A1: PROCESSO: 1024/2014/UDESC | D1: OBJETO: Aquisição de projetores e lâmpadas para projetores | K1: VIGÊNCIA DA ATA: 07/10/2014 até 06/10/2015 | N1: AF/OS nº 920/2015 Qtde. DT | O1: AF/OS nº 1684/2015 Qtde. DT
A2: CENTRO PARTICIPANTE: CCT
A3: FORNECEDOR | B3: LOTE | C3: ITEM | D3: PRODUTO - CARACTERÍSTICAS MÍNIMAS | E3: ELEMENTO | F3: MARCA | G3: UNIDADE | H3: Entrega (Dias) | I3: Pagto. (Dias) | J3: Preço UNITÁRIO (R$) | K3: Qtde LICITADA | L3: Saldo / Automático | M3: ALERTA | N3: 42165 | O3: 42265
A4: Harley de Aguiar Júnior EPP | B4: 1 | C4: 1 | D4: PROJETOR, MULTIMIDIA, CARACTERÍSTICAS MÍNIMAS: 1) Canhão de projeção com tecnologia LCD ou DLP; 2) Resolução nativa de 1024x768; 3) Luminosidade de 2500 lumens; 4) Contraste de 3000:1; 5) Reprodução de 16 milhões de cores; 6) Compatibilidade com padrão NTSC e PAL-M; 7) Formato de imagem 4x3 e 16x9; 8) Coreção keystone vertical e horizontal; 9) Controle remoto sem fio; 10) Ajuste de zoom e foco; 11) Tamanho da imagem projetada de 1 a 3 metros na diagonal; 12) Distância entre o projetor e a imagem entre 1 a 5 mestros; 13) Entradas para video analógico VGA (d-sub 15p), S-Video, vídeo composto e video digital HDMI; 14) Entrada para áudio estereo e autofalante; 15) Interface USB 2.0; 16) Duração média da lâmpada de 3000 hrs em uso normal; 17) Peso máximo 4Kg; 18) Ruido menor que 50 db em funcionamento; 19) Projeção mesa/teto, fronta/traseiro; 20) Fonte de alimentação automática operando de 100 a 240 VAC de entrada, 60 Hz. CONDIÇÔES GERAIS: a) Garantia de hardware do tipo on-site de 3 anos (exceto para lampada que deverá ser de 1 ano), disponibilizada pelo fabricante e realizada pelo mesmo ou por empresa autorizada oficialmente, com tempo de solução em até cinco dias; b) Indicação no site do fabricante das especificações técnicas específicas do modelo do equipamento. | E4: 449052-33 | F4: EPSON MODELO X17 | G4: Peça | H4: 30 | I4: 20 | J4: 1645 | K4: 40 | L4: =K4-(SUM(N4:O4)) -> 39 | M4: =IF(L4<0,"ATENÇÃO","OK") -> OK | N4: 0 | O4: 1
A5: Retropar Comércio Representação e Importação Ltda | B5: 2 | C5: 2 | D5: Lampadas para Projetor, marca: BENQ / modelo: MP512ST | E5: 339030-29 | G5: Peça | H5: 30 | I5: 20 | J5: 485 | L5: =K5-(SUM(N5:O5)) -> 0 | M5: =IF(L5<0,"ATENÇÃO","OK") -> OK | N5: 0 | O5: 0
A6: Negócios de Informática RW Ltda EPP | B6: 3 | C6: 3 | D6: Lampadas para Projetor, marca: BENQ / modelo: MX618ST | E6: 339030-29 | G6: Peça | H6: 30 | I6: 20 | J6: 647 | L6: =K6-(SUM(N6:O6)) -> 0 | M6: =IF(L6<0,"ATENÇÃO","OK") -> OK | N6: 0 | O6: 0
A7: BMI Prosper EIRELI | B7: 4 | C7: 4 | D7: Lampadas para Projetor, marca: EPSON / modelo: ELPLP78 | E7: 339030-29 | G7: Peça | H7: 30 | I7: 20 | J7: 493 | L7: =K7-(SUM(N7:O7)) -> 0 | M7: =IF(L7<0,"ATENÇÃO","OK") -> OK | N7: 0 | O7: 0
A8: Retropar Comércio Representação e Importação Ltda | B8: 5 | C8: 5 | D8: Lampadas para Projetor, marca: EPSON / modelo: H429A | E8: 339030-29 | G8: Peça | H8: 30 | I8: 20 | J8: 440 | L8: =K8-(SUM(N8:O8)) -> 0 | M8: =IF(L8<0,"ATENÇÃO","OK") -> OK | N8: 0 | O8: 0
B9: 6 | C9: 6 | D9: Lampadas para Projetor, marca: EPSON / modelo: H569A | E9: 339030-29 | G9: Peça | H9: 30 | I9: 20 | J9: 590 | L9: =K9-(SUM(N9:O9)) -> 0 | M9: =IF(L9<0,"ATENÇÃO","OK") -> OK | N9: 0 | O9: 0
B10: 7 | C10: 7 | D10: Lampadas para Projetor, marca: EPSON / modelo: PowerLite X17 | E10: 339030-29 | G10: Peça | H10: 30 | I10: 20 | J10: 590 | K10: 20 | L10: =K10-(SUM(N10:O10)) -> 16 | M10: =IF(L10<0,"ATENÇÃO","OK") -> OK | N10: 4 | O10: 0
B11: 8 | C11: 8 | D11: Lampadas para Projetor, marca: EPSON / modelo: X12 | E11: 339030-29 | G11: Peça | H11: 30 | I11: 20 | J11: 427 | L11: =K11-(SUM(N11:O11)) -> 0 | M11: =IF(L11<0,"ATENÇÃO","OK") -> OK | N11: 0 | O11: 0
B12: 9 | C12: 9 | D12: Lampadas para Projetor, marca: INFOCUS / modelo: LP280 | E12: 339030-29 | G12: Peça | H12: 30 | I12: 20 | J12: 530 | L12: =K12-(SUM(N12:O12)) -> 0 | M12: =IF(L12<0,"ATENÇÃO","OK") -> OK | N12: 0 | O12: 0
B13: 10 | C13: 10 | D13: Lampadas para Projetor, marca: NEC / modelo: NP100 | E13: 339030-29 | G13: Peça | H13: 30 | I13: 20 | J13: 497 | L13: =K13-(SUM(N13:O13)) -> 0 | M13: =IF(L13<0,"ATENÇÃO","OK") -> OK | N13: 0 | O13: 0
B14: 11 | C14: 11 | D14: Lampadas para Projetor, marca: OPTOMA/ modelo: DX551 DLP | E14: 339030-29 | G14: Peça | H14: 30 | I14: 20 | J14: 540 | L14: =K14-(SUM(N14:O14)) -> 0 | M14: =IF(L14<0,"ATENÇÃO","OK") -> OK | N14: 0 | O14: 0
A15: BMI Prosper EIRELI | B15: 12 | C15: 12 | D15: Lampadas para Projetor, marca: SANYO / modelo: KA7-DSB20N00 | E15: 339030-29 | G15: Peça | H15: 30 | I15: 20 | J15: 1900 | L15: =K15-(SUM(N15:O15)) -> 0 | M15: =IF(L15<0,"ATENÇÃO","OK") -> OK | N15: 0 | O15: 0
A16: Retropar Comércio Representação e Importação Ltda | B16: 13 | C16: 13 | D16: Lampadas para Projetor, marca: SANYO / modelo: PDGDSU20N | E16: 339030-29 | G16: Peça | H16: 30 | I16: 20 | J16: 465 | L16: =K16-(SUM(N16:O16)) -> 0 | M16: =IF(L16<0,"ATENÇÃO","OK") -> OK | N16: 0 | O16: 0
A17: BMI Prosper EIRELI | B17: 14 | C17: 14 | D17: Lampadas para Projetor, marca: VIEW SONIC / modelo: PJD5122 - VS13308 | E17: 339030-29 | G17: Peça | H17: 30 | I17: 20 | J17: 449 | L17: =K17-(SUM(N17:O17)) -> 0 | M17: =IF(L17<0,"ATENÇÃO","OK") -> OK | N17: 0 | O17: 0

Sheet CEPLAN
A1: PROCESSO: 1024/2014/UDESC | D1: OBJETO: Aquisição de projetores e lâmpadas para projetores | K1: VIGÊNCIA DA ATA: 07/10/2014 até 06/10/2015 | N1: AF/OS nº xxxx/2014 Qtde. DT
A2: CENTRO PARTICIPANTE: CEPLAN
A3: FORNECEDOR | B3: LOTE | C3: ITEM | D3: PRODUTO - CARACTERÍSTICAS MÍNIMAS | E3: ELEMENTO | F3: MARCA | G3: UNIDADE | H3: Entrega (Dias) | I3: Pagto. (Dias) | J3: Preço UNITÁRIO (R$) | K3: Qtde LICITADA | L3: Saldo / Automático | M3: ALERTA | N3: ...../...../......
A4: Harley de Aguiar Júnior EPP | B4: 1 | C4: 1 | D4: PROJETOR, MULTIMIDIA, CARACTERÍSTICAS MÍNIMAS: 1) Canhão de projeção com tecnologia LCD ou DLP; 2) Resolução nativa de 1024x768; 3) Luminosidade de 2500 lumens; 4) Contraste de 3000:1; 5) Reprodução de 16 milhões de cores; 6) Compatibilidade com padrão NTSC e PAL-M; 7) Formato de imagem 4x3 e 16x9; 8) Coreção keystone vertical e horizontal; 9) Controle remoto sem fio; 10) Ajuste de zoom e foco; 11) Tamanho da imagem projetada de 1 a 3 metros na diagonal; 12) Distância entre o projetor e a imagem entre 1 a 5 mestros; 13) Entradas para video analógico VGA (d-sub 15p), S-Video, vídeo composto e video digital HDMI; 14) Entrada para áudio estereo e autofalante; 15) Interface USB 2.0; 16) Duração média da lâmpada de 3000 hrs em uso normal; 17) Peso máximo 4Kg; 18) Ruido menor que 50 db em funcionamento; 19) Projeção mesa/teto, fronta/traseiro; 20) Fonte de alimentação automática operando de 100 a 240 VAC de entrada, 60 Hz. CONDIÇÔES GERAIS: a) Garantia de hardware do tipo on-site de 3 anos (exceto para lampada que deverá ser de 1 ano), disponibilizada pelo fabricante e realizada pelo mesmo ou por empresa autorizada oficialmente, com tempo de solução em até cinco dias; b) Indicação no site do fabricante das especificações técnicas específicas do modelo do equipamento. | E4: 449052-33 | F4: EPSON MODELO X17 | G4: Peça | H4: 30 | I4: 20 | J4: 1645 | K4: 11 | L4: =K4-(SUM(N4:N4)) -> 11 | M4: =IF(L4<0,"ATENÇÃO","OK") -> OK | N4: 0
A5: Retropar Comércio Representação e Importação Ltda | B5: 2 | C5: 2 | D5: Lampadas para Projetor, marca: BENQ / modelo: MP512ST | E5: 339030-29 | G5: Peça | H5: 30 | I5: 20 | J5: 485 | L5: =K5-(SUM(N5:N5)) -> 0 | M5: =IF(L5<0,"ATENÇÃO","OK") -> OK | N5: 0
A6: Negócios de Informática RW Ltda EPP | B6: 3 | C6: 3 | D6: Lampadas para Projetor, marca: BENQ / modelo: MX618ST | E6: 339030-29 | G6: Peça | H6: 30 | I6: 20 | J6: 647 | L6: =K6-(SUM(N6:N6)) -> 0 | M6: =IF(L6<0,"ATENÇÃO","OK") -> OK | N6: 0
A7: BMI Prosper EIRELI | B7: 4 | C7: 4 | D7: Lampadas para Projetor, marca: EPSON / modelo: ELPLP78 | E7: 339030-29 | G7: Peça | H7: 30 | I7: 20 | J7: 493 | L7: =K7-(SUM(N7:N7)) -> 0 | M7: =IF(L7<0,"ATENÇÃO","OK") -> OK | N7: 0
A8: Retropar Comércio Representação e Importação Ltda | B8: 5 | C8: 5 | D8: Lampadas para Projetor, marca: EPSON / modelo: H429A | E8: 339030-29 | G8: Peça | H8: 30 | I8: 20 | J8: 440 | L8: =K8-(SUM(N8:N8)) -> 0 | M8: =IF(L8<0,"ATENÇÃO","OK") -> OK | N8: 0
B9: 6 | C9: 6 | D9: Lampadas para Projetor, marca: EPSON / modelo: H569A | E9: 339030-29 | G9: Peça | H9: 30 | I9: 20 | J9: 590 | L9: =K9-(SUM(N9:N9)) -> 0 | M9: =IF(L9<0,"ATENÇÃO","OK") -> OK | N9: 0
B10: 7 | C10: 7 | D10: Lampadas para Projetor, marca: EPSON / modelo: PowerLite X17 | E10: 339030-29 | G10: Peça | H10: 30 | I10: 20 | J10: 590 | K10: 10 | L10: =K10-(SUM(N10:N10)) -> 10 | M10: =IF(L10<0,"ATENÇÃO","OK") -> OK | N10: 0
B11: 8 | C11: 8 | D11: Lampadas para Projetor, marca: EPSON / modelo: X12 | E11: 339030-29 | G11: Peça | H11: 30 | I11: 20 | J11: 427 | L11: =K11-(SUM(N11:N11)) -> 0 | M11: =IF(L11<0,"ATENÇÃO","OK") -> OK | N11: 0
B12: 9 | C12: 9 | D12: Lampadas para Projetor, marca: INFOCUS / modelo: LP280 | E12: 339030-29 | G12: Peça | H12: 30 | I12: 20 | J12: 530 | L12: =K12-(SUM(N12:N12)) -> 0 | M12: =IF(L12<0,"ATENÇÃO","OK") -> OK | N12: 0
B13: 10 | C13: 10 | D13: Lampadas para Projetor, marca: NEC / modelo: NP100 | E13: 339030-29 | G13: Peça | H13: 30 | I13: 20 | J13: 497 | L13: =K13-(SUM(N13:N13)) -> 0 | M13: =IF(L13<0,"ATENÇÃO","OK") -> OK | N13: 0
B14: 11 | C14: 11 | D14: Lampadas para Projetor, marca: OPTOMA/ modelo: DX551 DLP | E14: 339030-29 | G14: Peça | H14: 30 | I14: 20 | J14: 540 | L14: =K14-(SUM(N14:N14)) -> 0 | M14: =IF(L14<0,"ATENÇÃO","OK") -> OK | N14: 0
A15: BMI Prosper EIRELI | B15: 12 | C15: 12 | D15: Lampadas para Projetor, marca: SANYO / modelo: KA7-DSB20N00 | E15: 339030-29 | G15: Peça | H15: 30 | I15: 20 | J15: 1900 | L15: =K15-(SUM(N15:N15)) -> 0 | M15: =IF(L15<0,"ATENÇÃO","OK") -> OK | N15: 0
A16: Retropar Comércio Representação e Importação Ltda | B16: 13 | C16: 13 | D16: Lampadas para Projetor, marca: SANYO / modelo: PDGDSU20N | E16: 339030-29 | G16: Peça | H16: 30 | I16: 20 | J16: 465 | L16: =K16-(SUM(N16:N16)) -> 0 | M16: =IF(L16<0,"ATENÇÃO","OK") -> OK | N16: 0
A17: BMI Prosper EIRELI | B17: 14 | C17: 14 | D17: Lampadas para Projetor, marca: VIEW SONIC / modelo: PJD5122 - VS13308 | E17: 339030-29 | G17: Peça | H17: 30 | I17: 20 | J17: 449 | L17: =K17-(SUM(N17:N17)) -> 0 | M17: =IF(L17<0,"ATENÇÃO","OK") -> OK | N17: 0

Sheet CAV
A1: PROCESSO: 1024/2014/UDESC | D1: OBJETO: Aquisição de projetores e lâmpadas para projetores | K1: VIGÊNCIA DA ATA: 07/10/2014 até 06/10/2015 | N1: AF/OS nº xxxx/2014 Qtde. DT | O1: AF/OS nº xxxx/2014 Qtde. DT | P1: AF/OS nº xxxx/2014 Qtde. DT | Q1: AF/OS nº xxxx/2014 Qtde. DT | R1: AF/OS nº xxxx/2014 Qtde. DT | S1: AF/OS nº xxxx/2014 Qtde. DT
A2: CENTRO PARTICIPANTE: CAV
A3: FORNECEDOR | B3: LOTE | C3: ITEM | D3: PRODUTO - CARACTERÍSTICAS MÍNIMAS | E3: ELEMENTO | F3: MARCA | G3: UNIDADE | H3: Entrega (Dias) | I3: Pagto. (Dias) | J3: Preço UNITÁRIO (R$) | K3: Qtde LICITADA | L3: Saldo / Automático | M3: ALERTA | N3: ...../...../...... | O3: ...../...../...... | P3: ...../...../...... | Q3: ...../...../...... | R3: ...../...../...... | S3: ...../...../......
A4: Harley de Aguiar Júnior EPP | B4: 1 | C4: 1 | D4: PROJETOR, MULTIMIDIA, CARACTERÍSTICAS MÍNIMAS: 1) Canhão de projeção com tecnologia LCD ou DLP; 2) Resolução nativa de 1024x768; 3) Luminosidade de 2500 lumens; 4) Contraste de 3000:1; 5) Reprodução de 16 milhões de cores; 6) Compatibilidade com padrão NTSC e PAL-M; 7) Formato de imagem 4x3 e 16x9; 8) Coreção keystone vertical e horizontal; 9) Controle remoto sem fio; 10) Ajuste de zoom e foco; 11) Tamanho da imagem projetada de 1 a 3 metros na diagonal; 12) Distância entre o projetor e a imagem entre 1 a 5 mestros; 13) Entradas para video analógico VGA (d-sub 15p), S-Video, vídeo composto e video digital HDMI; 14) Entrada para áudio estereo e autofalante; 15) Interface USB 2.0; 16) Duração média da lâmpada de 3000 hrs em uso normal; 17) Peso máximo 4Kg; 18) Ruido menor que 50 db em funcionamento; 19) Projeção mesa/teto, fronta/traseiro; 20) Fonte de alimentação automática operando de 100 a 240 VAC de entrada, 60 Hz. CONDIÇÔES GERAIS: a) Garantia de hardware do tipo on-site de 3 anos (exceto para lampada que deverá ser de 1 ano), disponibilizada pelo fabricante e realizada pelo mesmo ou por empresa autorizada oficialmente, com tempo de solução em até cinco dias; b) Indicação no site do fabricante das especificações técnicas específicas do modelo do equipamento. | E4: 449052-33 | F4: EPSON MODELO X17 | G4: Peça | H4: 30 | I4: 20 | J4: 1645 | K4: =30+7 -> 37 | L4: =K4-(SUM(N4:S4)) -> 0 | M4: =IF(L4<0,"ATENÇÃO","OK") -> OK | N4: 14 | O4: 3 | P4: 6 | Q4: 1 | R4: 10 | S4: 3
A5: Retropar Comércio Representação e Importação Ltda | B5: 2 | C5: 2 | D5: Lampadas para Projetor, marca: BENQ / modelo: MP512ST | E5: 339030-29 | G5: Peça | H5: 30 | I5: 20 | J5: 485 | L5: =K5-(SUM(N5:S5)) -> 0 | M5: =IF(L5<0,"ATENÇÃO","OK") -> OK | N5: 0 | O5: 0 | P5: 0 | Q5: 0 | R5: 0 | S5: 0
A6: Negócios de Informática RW Ltda EPP | B6: 3 | C6: 3 | D6: Lampadas para Projetor, marca: BENQ / modelo: MX618ST | E6: 339030-29 | G6: Peça | H6: 30 | I6: 20 | J6: 647 | L6: =K6-(SUM(N6:S6)) -> 0 | M6: =IF(L6<0,"ATENÇÃO","OK") -> OK | N6: 0 | O6: 0 | P6: 0 | Q6: 0 | R6: 0 | S6: 0
A7: BMI Prosper EIRELI | B7: 4 | C7: 4 | D7: Lampadas para Projetor, marca: EPSON / modelo: ELPLP78 | E7: 339030-29 | G7: Peça | H7: 30 | I7: 20 | J7: 493 | L7: =K7-(SUM(N7:S7)) -> 0 | M7: =IF(L7<0,"ATENÇÃO","OK") -> OK | N7: 0 | O7: 0 | P7: 0 | Q7: 0 | R7: 0 | S7: 0
A8: Retropar Comércio Representação e Importação Ltda | B8: 5 | C8: 5 | D8: Lampadas para Projetor, marca: EPSON / modelo: H429A | E8: 339030-29 | G8: Peça | H8: 30 | I8: 20 | J8: 440 | L8: =K8-(SUM(N8:S8)) -> 0 | M8: =IF(L8<0,"ATENÇÃO","OK") -> OK | N8: 0 | O8: 0 | P8: 0 | Q8: 0 | R8: 0 | S8: 0
B9: 6 | C9: 6 | D9: Lampadas para Projetor, marca: EPSON / modelo: H569A | E9: 339030-29 | G9: Peça | H9: 30 | I9: 20 | J9: 590 | L9: =K9-(SUM(N9:S9)) -> 0 | M9: =IF(L9<0,"ATENÇÃO","OK") -> OK | N9: 0 | O9: 0 | P9: 0 | Q9: 0 | R9: 0 | S9: 0
B10: 7 | C10: 7 | D10: Lampadas para Projetor, marca: EPSON / modelo: PowerLite X17 | E10: 339030-29 | G10: Peça | H10: 30 | I10: 20 | J10: 590 | L10: =K10-(SUM(N10:S10)) -> 0 | M10: =IF(L10<0,"ATENÇÃO","OK") -> OK | N10: 0 | O10: 0 | P10: 0 | Q10: 0 | R10: 0 | S10: 0
B11: 8 | C11: 8 | D11: Lampadas para Projetor, marca: EPSON / modelo: X12 | E11: 339030-29 | G11: Peça | H11: 30 | I11: 20 | J11: 427 | L11: =K11-(SUM(N11:S11)) -> 0 | M11: =IF(L11<0,"ATENÇÃO","OK") -> OK | N11: 0 | O11: 0 | P11: 0 | Q11: 0 | R11: 0 | S11: 0
B12: 9 | C12: 9 | D12: Lampadas para Projetor, marca: INFOCUS / modelo: LP280 | E12: 339030-29 | G12: Peça | H12: 30 | I12: 20 | J12: 530 | L12: =K12-(SUM(N12:S12)) -> 0 | M12: =IF(L12<0,"ATENÇÃO","OK") -> OK | N12: 0 | O12: 0 | P12: 0 | Q12: 0 | R12: 0 | S12: 0
B13: 10 | C13: 10 | D13: Lampadas para Projetor, marca: NEC / modelo: NP100 | E13: 339030-29 | G13: Peça | H13: 30 | I13: 20 | J13: 497 | L13: =K13-(SUM(N13:S13)) -> 0 | M13: =IF(L13<0,"ATENÇÃO","OK") -> OK | N13: 0 | O13: 0 | P13: 0 | Q13: 0 | R13: 0 | S13: 0
B14: 11 | C14: 11 | D14: Lampadas para Projetor, marca: OPTOMA/ modelo: DX551 DLP | E14: 339030-29 | G14: Peça | H14: 30 | I14: 20 | J14: 540 | L14: =K14-(SUM(N14:S14)) -> 0 | M14: =IF(L14<0,"ATENÇÃO","OK") -> OK | N14: 0 | O14: 0 | P14: 0 | Q14: 0 | R14: 0 | S14: 0
A15: BMI Prosper EIRELI | B15: 12 | C15: 12 | D15: Lampadas para Projetor, marca: SANYO / modelo: KA7-DSB20N00 | E15: 339030-29 | G15: Peça | H15: 30 | I15: 20 | J15: 1900 | L15: =K15-(SUM(N15:S15)) -> 0 | M15: =IF(L15<0,"ATENÇÃO","OK") -> OK | N15: 0 | O15: 0 | P15: 0 | Q15: 0 | R15: 0 | S15: 0
A16: Retropar Comércio Representação e Importação Ltda | B16: 13 | C16: 13 | D16: Lampadas para Projetor, marca: SANYO / modelo: PDGDSU20N | E16: 339030-29 | G16: Peça | H16: 30 | I16: 20 | J16: 465 | L16: =K16-(SUM(N16:S16)) -> 0 | M16: =IF(L16<0,"ATENÇÃO","OK") -> OK | N16: 0 | O16: 0 | P16: 0 | Q16: 0 | R16: 0 | S16: 0
A17: BMI Prosper EIRELI | B17: 14 | C17: 14 | D17: Lampadas para Projetor, marca: VIEW SONIC / modelo: PJD5122 - VS13308 | E17: 339030-29 | G17: Peça | H17: 30 | I17: 20 | J17: 449 | L17: =K17-(SUM(N17:S17)) -> 0 | M17: =IF(L17<0,"ATENÇÃO","OK") -> OK | N17: 0 | O17: 0 | P17: 0 | Q17: 0 | R17: 0 | S17: 0

Sheet CEO
A1: PROCESSO: 1024/2014/UDESC | D1: OBJETO: Aquisição de projetores e lâmpadas para projetores | K1: VIGÊNCIA DA ATA: 07/10/2014 até 06/10/2015 | N1: AF/OS nº 1098/2015 Qtde. DT | O1: AF/OS nº 1791/2015Qtde. DT
A2: CENTRO PARTICIPANTE: CEO
A3: FORNECEDOR | B3: LOTE | C3: ITEM | D3: PRODUTO - CARACTERÍSTICAS MÍNIMAS | E3: ELEMENTO | F3: MARCA | G3: UNIDADE | H3: Entrega (Dias) | I3: Pagto. (Dias) | J3: Preço UNITÁRIO (R$) | K3: Qtde LICITADA | L3: Saldo / Automático | M3: ALERTA | N3: 42187 | O3: 42279
A4: Harley de Aguiar Júnior EPP | B4: 1 | C4: 1 | D4: PROJETOR, MULTIMIDIA, CARACTERÍSTICAS MÍNIMAS: 1) Canhão de projeção com tecnologia LCD ou DLP; 2) Resolução nativa de 1024x768; 3) Luminosidade de 2500 lumens; 4) Contraste de 3000:1; 5) Reprodução de 16 milhões de cores; 6) Compatibilidade com padrão NTSC e PAL-M; 7) Formato de imagem 4x3 e 16x9; 8) Coreção keystone vertical e horizontal; 9) Controle remoto sem fio; 10) Ajuste de zoom e foco; 11) Tamanho da imagem projetada de 1 a 3 metros na diagonal; 12) Distância entre o projetor e a imagem entre 1 a 5 mestros; 13) Entradas para video analógico VGA (d-sub 15p), S-Video, vídeo composto e video digital HDMI; 14) Entrada para áudio estereo e autofalante; 15) Interface USB 2.0; 16) Duração média da lâmpada de 3000 hrs em uso normal; 17) Peso máximo 4Kg; 18) Ruido menor que 50 db em funcionamento; 19) Projeção mesa/teto, fronta/traseiro; 20) Fonte de alimentação automática operando de 100 a 240 VAC de entrada, 60 Hz. CONDIÇÔES GERAIS: a) Garantia de hardware do tipo on-site de 3 anos (exceto para lampada que deverá ser de 1 ano), disponibilizada pelo fabricante e realizada pelo mesmo ou por empresa autorizada oficialmente, com tempo de solução em até cinco dias; b) Indicação no site do fabricante das especificações técnicas específicas do modelo do equipamento. | E4: 449052-33 | F4: EPSON MODELO X17 | G4: Peça | H4: 30 | I4: 20 | J4: 1645 | K4: =37-7 -> 30 | L4: =K4-(SUM(N4:O4)) -> 24 | M4: =IF(L4<0,"ATENÇÃO","OK") -> OK | N4: 1 | O4: 5
A5: Retropar Comércio Representação e Importação Ltda | B5: 2 | C5: 2 | D5: Lampadas para Projetor, marca: BENQ / modelo: MP512ST | E5: 339030-29 | G5: Peça | H5: 30 | I5: 20 | J5: 485 | L5: =K5-(SUM(N5:O5)) -> 0 | M5: =IF(L5<0,"ATENÇÃO","OK") -> OK | N5: 0 | O5: 0
A6: Negócios de Informática RW Ltda EPP | B6: 3 | C6: 3 | D6: Lampadas para Projetor, marca: BENQ / modelo: MX618ST | E6: 339030-29 | G6: Peça | H6: 30 | I6: 20 | J6: 647 | L6: =K6-(SUM(N6:O6)) -> 0 | M6: =IF(L6<0,"ATENÇÃO","OK") -> OK | N6: 0 | O6: 0
A7: BMI Prosper EIRELI | B7: 4 | C7: 4 | D7: Lampadas para Projetor, marca: EPSON / modelo: ELPLP78 | E7: 339030-29 | G7: Peça | H7: 30 | I7: 20 | J7: 493 | L7: =K7-(SUM(N7:O7)) -> 0 | M7: =IF(L7<0,"ATENÇÃO","OK") -> OK | N7: 0 | O7: 0
A8: Retropar Comércio Representação e Importação Ltda | B8: 5 | C8: 5 | D8: Lampadas para Projetor, marca: EPSON / modelo: H429A | E8: 339030-29 | G8: Peça | H8: 30 | I8: 20 | J8: 440 | L8: =K8-(SUM(N8:O8)) -> 0 | M8: =IF(L8<0,"ATENÇÃO","OK") -> OK | N8: 0 | O8: 0
B9: 6 | C9: 6 | D9: Lampadas para Projetor, marca: EPSON / modelo: H569A | E9: 339030-29 | G9: Peça | H9: 30 | I9: 20 | J9: 590 | K9: 6 | L9: =K9-(SUM(N9:O9)) -> 6 | M9: =IF(L9<0,"ATENÇÃO","OK") -> OK | N9: 0 | O9: 0
B10: 7 | C10: 7 | D10: Lampadas para Projetor, marca: EPSON / modelo: PowerLite X17 | E10: 339030-29 | G10: Peça | H10: 30 | I10: 20 | J10: 590 | L10: =K10-(SUM(N10:O10)) -> 0 | M10: =IF(L10<0,"ATENÇÃO","OK") -> OK | N10: 0 | O10: 0
B11: 8 | C11: 8 | D11: Lampadas para Projetor, marca: EPSON / modelo: X12 | E11: 339030-29 | G11: Peça | H11: 30 | I11: 20 | J11: 427 | K11: 60 | L11: =K11-(SUM(N11:O11)) -> 60 | M11: =IF(L11<0,"ATENÇÃO","OK") -> OK | N11: 0 | O11: 0
B12: 9 | C12: 9 | D12: Lampadas para Projetor, marca: INFOCUS / modelo: LP280 | E12: 339030-29 | G12: Peça | H12: 30 | I12: 20 | J12: 530 | L12: =K12-(SUM(N12:O12)) -> 0 | M12: =IF(L12<0,"ATENÇÃO","OK") -> OK | N12: 0 | O12: 0
B13: 10 | C13: 10 | D13: Lampadas para Projetor, marca: NEC / modelo: NP100 | E13: 339030-29 | G13: Peça | H13: 30 | I13: 20 | J13: 497 | L13: =K13-(SUM(N13:O13)) -> 0 | M13: =IF(L13<0,"ATENÇÃO","OK") -> OK | N13: 0 | O13: 0
B14: 11 | C14: 11 | D14: Lampadas para Projetor, marca: OPTOMA/ modelo: DX551 DLP | E14: 339030-29 | G14: Peça | H14: 30 | I14: 20 | J14: 540 | L14: =K14-(SUM(N14:O14)) -> 0 | M14: =IF(L14<0,"ATENÇÃO","OK") -> OK | N14: 0 | O14: 0
A15: BMI Prosper EIRELI | B15: 12 | C15: 12 | D15: Lampadas para Projetor, marca: SANYO / modelo: KA7-DSB20N00 | E15: 339030-29 | G15: Peça | H15: 30 | I15: 20 | J15: 1900 | L15: =K15-(SUM(N15:O15)) -> 0 | M15: =IF(L15<0,"ATENÇÃO","OK") -> OK | N15: 0 | O15: 0
A16: Retropar Comércio Representação e Importação Ltda | B16: 13 | C16: 13 | D16: Lampadas para Projetor, marca: SANYO / modelo: PDGDSU20N | E16: 339030-29 | G16: Peça | H16: 30 | I16: 20 | J16: 465 | L16: =K16-(SUM(N16:O16)) -> 0 | M16: =IF(L16<0,"ATENÇÃO","OK") -> OK | N16: 0 | O16: 0
A17: BMI Prosper EIRELI | B17: 14 | C17: 14 | D17: Lampadas para Projetor, marca: VIEW SONIC / modelo: PJD5122 - VS13308 | E17: 339030-29 | G17: Peça | H17: 30 | I17: 20 | J17: 449 | L17: =K17-(SUM(N17:O17)) -> 0 | M17: =IF(L17<0,"ATENÇÃO","OK") -> OK | N17: 0 | O17: 0

Sheet CERES
A1: PROCESSO: 1024/2014/UDESC | D1: OBJETO: Aquisição de projetores e lâmpadas para projetores | K1: VIGÊNCIA DA ATA: 07/10/2014 até 06/10/2015 | N1: AF/OS nº 1763/2014 Qtde. DT
A2: CENTRO PARTICIPANTE: CERES
A3: FORNECEDOR | B3: LOTE | C3: ITEM | D3: PRODUTO - CARACTERÍSTICAS MÍNIMAS | E3: ELEMENTO | F3: MARCA | G3: UNIDADE | H3: Entrega (Dias) | I3: Pagto. (Dias) | J3: Preço UNITÁRIO (R$) | K3: Qtde LICITADA | L3: Saldo / Automático | M3: ALERTA | N3: ...../...../......
A4: Harley de Aguiar Júnior EPP | B4: 1 | C4: 1 | D4: PROJETOR, MULTIMIDIA, CARACTERÍSTICAS MÍNIMAS: 1) Canhão de projeção com tecnologia LCD ou DLP; 2) Resolução nativa de 1024x768; 3) Luminosidade de 2500 lumens; 4) Contraste de 3000:1; 5) Reprodução de 16 milhões de cores; 6) Compatibilidade com padrão NTSC e PAL-M; 7) Formato de imagem 4x3 e 16x9; 8) Coreção keystone vertical e horizontal; 9) Controle remoto sem fio; 10) Ajuste de zoom e foco; 11) Tamanho da imagem projetada de 1 a 3 metros na diagonal; 12) Distância entre o projetor e a imagem entre 1 a 5 mestros; 13) Entradas para video analógico VGA (d-sub 15p), S-Video, vídeo composto e video digital HDMI; 14) Entrada para áudio estereo e autofalante; 15) Interface USB 2.0; 16) Duração média da lâmpada de 3000 hrs em uso normal; 17) Peso máximo 4Kg; 18) Ruido menor que 50 db em funcionamento; 19) Projeção mesa/teto, fronta/traseiro; 20) Fonte de alimentação automática operando de 100 a 240 VAC de entrada, 60 Hz. CONDIÇÔES GERAIS: a) Garantia de hardware do tipo on-site de 3 anos (exceto para lampada que deverá ser de 1 ano), disponibilizada pelo fabricante e realizada pelo mesmo ou por empresa autorizada oficialmente, com tempo de solução em até cinco dias; b) Indicação no site do fabricante das especificações técnicas específicas do modelo do equipamento. | E4: 449052-33 | F4: EPSON MODELO X17 | G4: Peça | H4: 30 | I4: 20 | J4: 1645 | K4: 28 | L4: =K4-(SUM(N4:N4)) -> 11 | M4: =IF(L4<0,"ATENÇÃO","OK") -> OK | N4: 17
A5: Retropar Comércio Representação e Importação Ltda | B5: 2 | C5: 2 | D5: Lampadas para Projetor, marca: BENQ / modelo: MP512ST | E5: 339030-29 | G5: Peça | H5: 30 | I5: 20 | J5: 485 | L5: =K5-(SUM(N5:N5)) -> 0 | M5: =IF(L5<0,"ATENÇÃO","OK") -> OK | N5: 0
A6: Negócios de Informática RW Ltda EPP | B6: 3 | C6: 3 | D6: Lampadas para Projetor, marca: BENQ / modelo: MX618ST | E6: 339030-29 | G6: Peça | H6: 30 | I6: 20 | J6: 647 | L6: =K6-(SUM(N6:N6)) -> 0 | M6: =IF(L6<0,"ATENÇÃO","OK") -> OK | N6: 0
A7: BMI Prosper EIRELI | B7: 4 | C7: 4 | D7: Lampadas para Projetor, marca: EPSON / modelo: ELPLP78 | E7: 339030-29 | G7: Peça | H7: 30 | I7: 20 | J7: 493 | K7: 9 | L7: =K7-(SUM(N7:N7)) -> 9 | M7: =IF(L7<0,"ATENÇÃO","OK") -> OK | N7: 0
A8: Retropar Comércio Representação e Importação Ltda | B8: 5 | C8: 5 | D8: Lampadas para Projetor, marca: EPSON / modelo: H429A | E8: 339030-29 | G8: Peça | H8: 30 | I8: 20 | J8: 440 | L8: =K8-(SUM(N8:N8)) -> 0 | M8: =IF(L8<0,"ATENÇÃO","OK") -> OK | N8: 0
B9: 6 | C9: 6 | D9: Lampadas para Projetor, marca: EPSON / modelo: H569A | E9: 339030-29 | G9: Peça | H9: 30 | I9: 20 | J9: 590 | L9: =K9-(SUM(N9:N9)) -> 0 | M9: =IF(L9<0,"ATENÇÃO","OK") -> OK | N9: 0
B10: 7 | C10: 7 | D10: Lampadas para Projetor, marca: EPSON / modelo: PowerLite X17 | E10: 339030-29 | G10: Peça | H10: 30 | I10: 20 | J10: 590 | L10: =K10-(SUM(N10:N10)) -> 0 | M10: =IF(L10<0,"ATENÇÃO","OK") -> OK | N10: 0
B11: 8 | C11: 8 | D11: Lampadas para Projetor, marca: EPSON / modelo: X12 | E11: 339030-29 | G11: Peça | H11: 30 | I11: 20 | J11: 427 | L11: =K11-(SUM(N11:N11)) -> 0 | M11: =IF(L11<0,"ATENÇÃO","OK") -> OK | N11: 0
B12: 9 | C12: 9 | D12: Lampadas para Projetor, marca: INFOCUS / modelo: LP280 | E12: 339030-29 | G12: Peça | H12: 30 | I12: 20 | J12: 530 | L12: =K12-(SUM(N12:N12)) -> 0 | M12: =IF(L12<0,"ATENÇÃO","OK") -> OK | N12: 0
B13: 10 | C13: 10 | D13: Lampadas para Projetor, marca: NEC / modelo: NP100 | E13: 339030-29 | G13: Peça | H13: 30 | I13: 20 | J13: 497 | L13: =K13-(SUM(N13:N13)) -> 0 | M13: =IF(L13<0,"ATENÇÃO","OK") -> OK | N13: 0
B14: 11 | C14: 11 | D14: Lampadas para Projetor, marca: OPTOMA/ modelo: DX551 DLP | E14: 339030-29 | G14: Peça | H14: 30 | I14: 20 | J14: 540 | L14: =K14-(SUM(N14:N14)) -> 0 | M14: =IF(L14<0,"ATENÇÃO","OK") -> OK | N14: 0
A15: BMI Prosper EIRELI | B15: 12 | C15: 12 | D15: Lampadas para Projetor, marca: SANYO / modelo: KA7-DSB20N00 | E15: 339030-29 | G15: Peça | H15: 30 | I15: 20 | J15: 1900 | L15: =K15-(SUM(N15:N15)) -> 0 | M15: =IF(L15<0,"ATENÇÃO","OK") -> OK | N15: 0
A16: Retropar Comércio Representação e Importação Ltda | B16: 13 | C16: 13 | D16: Lampadas para Projetor, marca: SANYO / modelo: PDGDSU20N | E16: 339030-29 | G16: Peça | H16: 30 | I16: 20 | J16: 465 | L16: =K16-(SUM(N16:N16)) -> 0 | M16: =IF(L16<0,"ATENÇÃO","OK") -> OK | N16: 0
A17: BMI Prosper EIRELI | B17: 14 | C17: 14 | D17: Lampadas para Projetor, marca: VIEW SONIC / modelo: PJD5122 - VS13308 | E17: 339030-29 | G17: Peça | H17: 30 | I17: 20 | J17: 449 | L17: =K17-(SUM(N17:N17)) -> 0 | M17: =IF(L17<0,"ATENÇÃO","OK") -> OK | N17: 0

Sheet GESTOR
A1: PROCESSO: 1024/2014/UDESC | D1: OBJETO: Aquisição de projetores e lâmpadas para projetores | K1: VIGÊNCIA DA ATA: 07/10/2014 até 06/10/2015
A2: CENTRO PARTICIPANTE: Reitoria e PROEX + 10 CENTROS
A3: FORNECEDOR | B3: LOTE | C3: ITEM | D3: PRODUTO - CARACTERÍSTICAS MÍNIMAS | E3: ELEMENTO | F3: MARCA | G3: UNIDADE | H3: Entrega (Dias) | I3: Pagto. (Dias) | J3: Preço UNITÁRIO (R$) | K3: Qtde Registrada + Aditivos | L3: Quantidade Utilizada | M3: SALDO | N3: Valor Total Registrado | O3: Valor Total Utilizado
A4: Harley de Aguiar Júnior EPP | B4: 1 | C4: 1 | D4: PROJETOR, MULTIMIDIA, CARACTERÍSTICAS MÍNIMAS: 1) Canhão de projeção com tecnologia LCD ou DLP; 2) Resolução nativa de 1024x768; 3) Luminosidade de 2500 lumens; 4) Contraste de 3000:1; 5) Reprodução de 16 milhões de cores; 6) Compatibilidade com padrão NTSC e PAL-M; 7) Formato de imagem 4x3 e 16x9; 8) Coreção keystone vertical e horizontal; 9) Controle remoto sem fio; 10) Ajuste de zoom e foco; 11) Tamanho da imagem projetada de 1 a 3 metros na diagonal; 12) Distância entre o projetor e a imagem entre 1 a 5 mestros; 13) Entradas para video analógico VGA (d-sub 15p), S-Video, vídeo composto e video digital HDMI; 14) Entrada para áudio estereo e autofalante; 15) Interface USB 2.0; 16) Duração média da lâmpada de 3000 hrs em uso normal; 17) Peso máximo 4Kg; 18) Ruido menor que 50 db em funcionamento; 19) Projeção mesa/teto, fronta/traseiro; 20) Fonte de alimentação automática operando de 100 a 240 VAC de entrada, 60 Hz. CONDIÇÔES GERAIS: a) Garantia de hardware do tipo on-site de 3 anos (exceto para lampada que deverá ser de 1 ano), disponibilizada pelo fabricante e realizada pelo mesmo ou por empresa autorizada oficialmente, com tempo de solução em até cinco dias; b) Indicação no site do fabricante das especificações técnicas específicas do modelo do equipamento. | E4: 449052-33 | F4: EPSON MODELO X17 | G4: Peça | H4: 30 | I4: 20 | J4: 1645 | K4: =REIT!K4+PROEX!K4+CEART!K4+FAED!K4+CEFID!K4+CESFI!K4+CEAVI!K4+CCT!K4+CEPLAN!K4+CAV!K4+CEO!K4+CERES!K4 -> 242 | L4: =(REIT!K4-REIT!L4)+(PROEX!K4-PROEX!L4)+(CEART!K4-CEART!L4)+(FAED!K4-FAED!L4)+(CEFID!K4-CEFID!L4)+(CESFI!K4-CESFI!L4)+(CEAVI!K4-CEAVI!L4)+(CCT!K4-CCT!L4)+(CEPLAN!K4-CEPLAN!L4)+(CAV!K4-CAV!L4)+(CEO!K4-CEO!L4)+(CERES!K4-CERES!L4) -> 84 | M4: =K4-L4 -> 158 | N4: =J4*K4 -> 398090 | O4: =J4*L4 -> 138180
A5: Retropar Comércio Representação e Importação Ltda | B5: 2 | C5: 2 | D5: Lampadas para Projetor, marca: BENQ / modelo: MP512ST | E5: 339030-29 | G5: Peça | H5: 30 | I5: 20 | J5: 485 | K5: =REIT!K5+PROEX!K5+CEART!K5+FAED!K5+CEFID!K5+CESFI!K5+CEAVI!K5+CCT!K5+CEPLAN!K5+CAV!K5+CEO!K5+CERES!K5 -> 15 | L5: =(REIT!K5-REIT!L5)+(PROEX!K5-PROEX!L5)+(CEART!K5-CEART!L5)+(FAED!K5-FAED!L5)+(CEFID!K5-CEFID!L5)+(CESFI!K5-CESFI!L5)+(CEAVI!K5-CEAVI!L5)+(CCT!K5-CCT!L5)+(CEPLAN!K5-CEPLAN!L5)+(CAV!K5-CAV!L5)+(CEO!K5-CEO!L5)+(CERES!K5-CERES!L5) -> 0 | M5: =K5-L5 -> 15 | N5: =J5*K5 -> 7275 | O5: =J5*L5 -> 0
A6: Negócios de Informática RW Ltda EPP | B6: 3 | C6: 3 | D6: Lampadas para Projetor, marca: BENQ / modelo: MX618ST | E6: 339030-29 | G6: Peça | H6: 30 | I6: 20 | J6: 647 | K6: =REIT!K6+PROEX!K6+CEART!K6+FAED!K6+CEFID!K6+CESFI!K6+CEAVI!K6+CCT!K6+CEPLAN!K6+CAV!K6+CEO!K6+CERES!K6 -> 5 | L6: =(REIT!K6-REIT!L6)+(PROEX!K6-PROEX!L6)+(CEART!K6-CEART!L6)+(FAED!K6-FAED!L6)+(CEFID!K6-CEFID!L6)+(CESFI!K6-CESFI!L6)+(CEAVI!K6-CEAVI!L6)+(CCT!K6-CCT!L6)+(CEPLAN!K6-CEPLAN!L6)+(CAV!K6-CAV!L6)+(CEO!K6-CEO!L6)+(CERES!K6-CERES!L6) -> 0 | M6: =K6-L6 -> 5 | N6: =J6*K6 -> 3235 | O6: =J6*L6 -> 0
A7: BMI Prosper EIRELI | B7: 4 | C7: 4 | D7: Lampadas para Projetor, marca: EPSON / modelo: ELPLP78 | E7: 339030-29 | G7: Peça | H7: 30 | I7: 20 | J7: 493 | K7: =REIT!K7+PROEX!K7+CEART!K7+FAED!K7+CEFID!K7+CESFI!K7+CEAVI!K7+CCT!K7+CEPLAN!K7+CAV!K7+CEO!K7+CERES!K7 -> 9 | L7: =(REIT!K7-REIT!L7)+(PROEX!K7-PROEX!L7)+(CEART!K7-CEART!L7)+(FAED!K7-FAED!L7)+(CEFID!K7-CEFID!L7)+(CESFI!K7-CESFI!L7)+(CEAVI!K7-CEAVI!L7)+(CCT!K7-CCT!L7)+(CEPLAN!K7-CEPLAN!L7)+(CAV!K7-CAV!L7)+(CEO!K7-CEO!L7)+(CERES!K7-CERES!L7) -> 0 | M7: =K7-L7 -> 9 | N7: =J7*K7 -> 4437 | O7: =J7*L7 -> 0
A8: Retropar Comércio Representação e Importação Ltda | B8: 5 | C8: 5 | D8: Lampadas para Projetor, marca: EPSON / modelo: H429A | E8: 339030-29 | G8: Peça | H8: 30 | I8: 20 | J8: 440 | K8: =REIT!K8+PROEX!K8+CEART!K8+FAED!K8+CEFID!K8+CESFI!K8+CEAVI!K8+CCT!K8+CEPLAN!K8+CAV!K8+CEO!K8+CERES!K8 -> 20 | L8: =(REIT!K8-REIT!L8)+(PROEX!K8-PROEX!L8)+(CEART!K8-CEART!L8)+(FAED!K8-FAED!L8)+(CEFID!K8-CEFID!L8)+(CESFI!K8-CESFI!L8)+(CEAVI!K8-CEAVI!L8)+(CCT!K8-CCT!L8)+(CEPLAN!K8-CEPLAN!L8)+(CAV!K8-CAV!L8)+(CEO!K8-CEO!L8)+(CERES!K8-CERES!L8) -> 0 | M8: =K8-L8 -> 20 | N8: =J8*K8 -> 8800 | O8: =J8*L8 -> 0
B9: 6 | C9: 6 | D9: Lampadas para Projetor, marca: EPSON / modelo: H569A | E9: 339030-29 | G9: Peça | H9: 30 | I9: 20 | J9: 590 | K9: =REIT!K9+PROEX!K9+CEART!K9+FAED!K9+CEFID!K9+CESFI!K9+CEAVI!K9+CCT!K9+CEPLAN!K9+CAV!K9+CEO!K9+CERES!K9 -> 6 | L9: =(REIT!K9-REIT!L9)+(PROEX!K9-PROEX!L9)+(CEART!K9-CEART!L9)+(FAED!K9-FAED!L9)+(CEFID!K9-CEFID!L9)+(CESFI!K9-CESFI!L9)+(CEAVI!K9-CEAVI!L9)+(CCT!K9-CCT!L9)+(CEPLAN!K9-CEPLAN!L9)+(CAV!K9-CAV!L9)+(CEO!K9-CEO!L9)+(CERES!K9-CERES!L9) -> 0 | M9: =K9-L9 -> 6 | N9: =J9*K9 -> 3540 | O9: =J9*L9 -> 0
B10: 7 | C10: 7 | D10: Lampadas para Projetor, marca: EPSON / modelo: PowerLite X17 | E10: 339030-29 | G10: Peça | H10: 30 | I10: 20 | J10: 590 | K10: =REIT!K10+PROEX!K10+CEART!K10+FAED!K10+CEFID!K10+CESFI!K10+CEAVI!K10+CCT!K10+CEPLAN!K10+CAV!K10+CEO!K10+CERES!K10 -> 45 | L10: =(REIT!K10-REIT!L10)+(PROEX!K10-PROEX!L10)+(CEART!K10-CEART!L10)+(FAED!K10-FAED!L10)+(CEFID!K10-CEFID!L10)+(CESFI!K10-CESFI!L10)+(CEAVI!K10-CEAVI!L10)+(CCT!K10-CCT!L10)+(CEPLAN!K10-CEPLAN!L10)+(CAV!K10-CAV!L10)+(CEO!K10-CEO!L10)+(CERES!K10-CERES!L10) -> 14 | M10: =K10-L10 -> 31 | N10: =J10*K10 -> 26550 | O10: =J10*L10 -> 8260
B11: 8 | C11: 8 | D11: Lampadas para Projetor, marca: EPSON / modelo: X12 | E11: 339030-29 | G11: Peça | H11: 30 | I11: 20 | J11: 427 | K11: =REIT!K11+PROEX!K11+CEART!K11+FAED!K11+CEFID!K11+CESFI!K11+CEAVI!K11+CCT!K11+CEPLAN!K11+CAV!K11+CEO!K11+CERES!K11 -> 60 | L11: =(REIT!K11-REIT!L11)+(PROEX!K11-PROEX!L11)+(CEART!K11-CEART!L11)+(FAED!K11-FAED!L11)+(CEFID!K11-CEFID!L11)+(CESFI!K11-CESFI!L11)+(CEAVI!K11-CEAVI!L11)+(CCT!K11-CCT!L11)+(CEPLAN!K11-CEPLAN!L11)+(CAV!K11-CAV!L11)+(CEO!K11-CEO!L11)+(CERES!K11-CERES!L11) -> 0 | M11: =K11-L11 -> 60 | N11: =J11*K11 -> 25620 | O11: =J11*L11 -> 0
B12: 9 | C12: 9 | D12: Lampadas para Projetor, marca: INFOCUS / modelo: LP280 | E12: 339030-29 | G12: Peça | H12: 30 | I12: 20 | J12: 530 | K12: =REIT!K12+PROEX!K12+CEART!K12+FAED!K12+CEFID!K12+CESFI!K12+CEAVI!K12+CCT!K12+CEPLAN!K12+CAV!K12+CEO!K12+CERES!K12 -> 5 | L12: =(REIT!K12-REIT!L12)+(PROEX!K12-PROEX!L12)+(CEART!K12-CEART!L12)+(FAED!K12-FAED!L12)+(CEFID!K12-CEFID!L12)+(CESFI!K12-CESFI!L12)+(CEAVI!K12-CEAVI!L12)+(CCT!K12-CCT!L12)+(CEPLAN!K12-CEPLAN!L12)+(CAV!K12-CAV!L12)+(CEO!K12-CEO!L12)+(CERES!K12-CERES!L12) -> 0 | M12: =K12-L12 -> 5 | N12: =J12*K12 -> 2650 | O12: =J12*L12 -> 0
B13: 10 | C13: 10 | D13: Lampadas para Projetor, marca: NEC / modelo: NP100 | E13: 339030-29 | G13: Peça | H13: 30 | I13: 20 | J13: 497 | K13: =REIT!K13+PROEX!K13+CEART!K13+FAED!K13+CEFID!K13+CESFI!K13+CEAVI!K13+CCT!K13+CEPLAN!K13+CAV!K13+CEO!K13+CERES!K13 -> 5 | L13: =(REIT!K13-REIT!L13)+(PROEX!K13-PROEX!L13)+(CEART!K13-CEART!L13)+(FAED!K13-FAED!L13)+(CEFID!K13-CEFID!L13)+(CESFI!K13-CESFI!L13)+(CEAVI!K13-CEAVI!L13)+(CCT!K13-CCT!L13)+(CEPLAN!K13-CEPLAN!L13)+(CAV!K13-CAV!L13)+(CEO!K13-CEO!L13)+(CERES!K13-CERES!L13) -> 0 | M13: =K13-L13 -> 5 | N13: =J13*K13 -> 2485 | O13: =J13*L13 -> 0
B14: 11 | C14: 11 | D14: Lampadas para Projetor, marca: OPTOMA/ modelo: DX551 DLP | E14: 339030-29 | G14: Peça | H14: 30 | I14: 20 | J14: 540 | K14: =REIT!K14+PROEX!K14+CEART!K14+FAED!K14+CEFID!K14+CESFI!K14+CEAVI!K14+CCT!K14+CEPLAN!K14+CAV!K14+CEO!K14+CERES!K14 -> 33 | L14: =(REIT!K14-REIT!L14)+(PROEX!K14-PROEX!L14)+(CEART!K14-CEART!L14)+(FAED!K14-FAED!L14)+(CEFID!K14-CEFID!L14)+(CESFI!K14-CESFI!L14)+(CEAVI!K14-CEAVI!L14)+(CCT!K14-CCT!L14)+(CEPLAN!K14-CEPLAN!L14)+(CAV!K14-CAV!L14)+(CEO!K14-CEO!L14)+(CERES!K14-CERES!L14) -> 8 | M14: =K14-L14 -> 25 | N14: =J14*K14 -> 17820 | O14: =J14*L14 -> 4320
A15: BMI Prosper EIRELI | B15: 12 | C15: 12 | D15: Lampadas para Projetor, marca: SANYO / modelo: KA7-DSB20N00 | E15: 339030-29 | G15: Peça | H15: 30 | I15: 20 | J15: 1900 | K15: =REIT!K15+PROEX!K15+CEART!K15+FAED!K15+CEFID!K15+CESFI!K15+CEAVI!K15+CCT!K15+CEPLAN!K15+CAV!K15+CEO!K15+CERES!K15 -> 5 | L15: =(REIT!K15-REIT!L15)+(PROEX!K15-PROEX!L15)+(CEART!K15-CEART!L15)+(FAED!K15-FAED!L15)+(CEFID!K15-CEFID!L15)+(CESFI!K15-CESFI!L15)+(CEAVI!K15-CEAVI!L15)+(CCT!K15-CCT!L15)+(CEPLAN!K15-CEPLAN!L15)+(CAV!K15-CAV!L15)+(CEO!K15-CEO!L15)+(CERES!K15-CERES!L15) -> 0 | M15: =K15-L15 -> 5 | N15: =J15*K15 -> 9500 | O15: =J15*L15 -> 0
A16: Retropar Comércio Representação e Importação Ltda | B16: 13 | C16: 13 | D16: Lampadas para Projetor, marca: SANYO / modelo: PDGDSU20N | E16: 339030-29 | G16: Peça | H16: 30 | I16: 20 | J16: 465 | K16: =REIT!K16+PROEX!K16+CEART!K16+FAED!K16+CEFID!K16+CESFI!K16+CEAVI!K16+CCT!K16+CEPLAN!K16+CAV!K16+CEO!K16+CERES!K16 -> 5 | L16: =(REIT!K16-REIT!L16)+(PROEX!K16-PROEX!L16)+(CEART!K16-CEART!L16)+(FAED!K16-FAED!L16)+(CEFID!K16-CEFID!L16)+(CESFI!K16-CESFI!L16)+(CEAVI!K16-CEAVI!L16)+(CCT!K16-CCT!L16)+(CEPLAN!K16-CEPLAN!L16)+(CAV!K16-CAV!L16)+(CEO!K16-CEO!L16)+(CERES!K16-CERES!L16) -> 0 | M16: =K16-L16 -> 5 | N16: =J16*K16 -> 2325 | O16: =J16*L16 -> 0
A17: BMI Prosper EIRELI | B17: 14 | C17: 14 | D17: Lampadas para Projetor, marca: VIEW SONIC / modelo: PJD5122 - VS13308 | E17: 339030-29 | G17: Peça | H17: 30 | I17: 20 | J17: 449 | K17: =REIT!K17+PROEX!K17+CEART!K17+FAED!K17+CEFID!K17+CESFI!K17+CEAVI!K17+CCT!K17+CEPLAN!K17+CAV!K17+CEO!K17+CERES!K17 -> 5 | L17: =(REIT!K17-REIT!L17)+(PROEX!K17-PROEX!L17)+(CEART!K17-CEART!L17)+(FAED!K17-FAED!L17)+(CEFID!K17-CEFID!L17)+(CESFI!K17-CESFI!L17)+(CEAVI!K17-CEAVI!L17)+(CCT!K17-CCT!L17)+(CEPLAN!K17-CEPLAN!L17)+(CAV!K17-CAV!L17)+(CEO!K17-CEO!L17)+(CERES!K17-CERES!L17) -> 0 | M17: =K17-L17 -> 5 | N17: =J17*K17 -> 2245 | O17: =J17*L17 -> 0
N18: =SUM(N4:N17) -> 514572 | O18: =SUM(O4:O17) -> 150760
K20: Pregão 1024/2014/UDESC - SRP
K21: Aquisição de projetores e lâmpadas para projetores
K22: Vigência 07/10/2014 até 06/10/2015
K23: Valor Total da Ata com Aditivo | O23: =N18 -> 514572
K24: Valor Utilizado | O24: =O18 -> 150760
K25: % Aditivos | O25: 0
K26: % Utilizado | O26: =O24/O23 -> 0.29298135
K27: Resumo Atualizado em Novembro/2015

Sheet Modelo Anexo II IN 002_2014
A1: ANEXO II – Instrução Normativa n.º 002/2014
A3: DECLARAÇÃO DE DISPONIBILIDADE DE QUANTITATIVO PARA EMISSÃO DE AUTORIZAÇÃO DE FORNECIMENTO/ORDEM DE SERVIÇO – SISTEMA DE REGISTRO DE PREÇOS/UDESC
A5: Processo CPA n.º XXXX/2014
A6: Pregão n.º XXXX/2014
A7: Objeto:
A8: Vigência da Ata de Registro de Preços: XX/XX/XXXX até XX/XX/XXXXX
A10: Declaro que o Centro XXXXXXX, participante da Ata de Registro de Preços proveniente do Pregão n.º XXXX/2014, possui saldo em seu quantitativo para a emissão da Autorização de Fornecimento/Ordem de Serviço n.º XXXX/2014, no valor de R$ X.XXX,XX, a ser firmada com a empresa XXXXXXX, restando ainda em sua cota para próximas contratações com o referido fornecedor os seguintes quantitativos:
A12: Lote | B12: Item | C12: Descrição Resumida | D12: Unidade | E12: Valor Unitário (R$) | F12: Saldo Quantitativo (antes da emissão desta AF/OS) | G12: Quantitativo da AF/OS | H12: Saldo Atualizado
A19: __________________, ____/_____/____
A20: Cidade Data
A24: _____________________________________________
A25: Diretor(a) de Administração
A26: (carimbo e assinatura)
