Workbook
Name diasuteis: #REF!
Name diasuteis: #REF!
Name diasuteis: #REF!
Name Ferias: #REF!
Name Ferias: #REF!
Name Ferias: #REF!
Name RD: OFFSET(#REF!,(MATCH(SMALL(#REF!,ROW()-10),#REF!,0)-1),0)
Name RD: OFFSET(#REF!,(MATCH(SMALL(#REF!,ROW()-10),#REF!,0)-1),0)
Name RD: OFFSET(#REF!,(MATCH(SMALL(#REF!,ROW()-10),#REF!,0)-1),0)

Sheet CERES
A1: PROCESSO: 1683/2015/UDESC | D1: OBJETO: CONTRATAÇÃO DE EMPRESA ESPECIALIZADA EM PRESTAÇÃO DE SERVIÇOS DE SONORIZAÇÃO, ILUMINAÇÃO, PALCO, TENDA, EXPOSIÇÃO E PROJEÇÃO DE IMAGENS PARA OS EVENTOS DA UDESC | G1: VIGÊNCIA DA ATA: 18/02/2016 até 17/02/2017 | J1: Contrato nº 517/2016 Qtde. DT | K1: Contrato nº 623/2016 Qtde. DT | L1: Contrato nº xxxx/2016 Qtde. DT | M1: Contrato nº xxxx/2016 Qtde. DT | N1: Contrato nº xxxx/2016 Qtde. DT | O1: Contrato nº xxxx/2016 Qtde. DT | P1: Contrato nº xxxx/2016 Qtde. DT | Q1: Contrato nº xxxx/2016 Qtde. DT | R1: Contrato nº xxxx/2016 Qtde. DT | S1: Contrato nº xxxx/2016 Qtde. DT | T1: Contrato nº xxxx/2016 Qtde. DT | U1: Contrato nº xxxx/2016 Qtde. DT
A2: CENTRO PARTICIPANTE: REITORIA/PROEX
A3: FORNECEDOR | B3: LOTE | C3: ITEM | D3: DESCRIÇÃO | E3: DETALHAMENTO | F3: Preço UNITÁRIO (R$) | G3: Qtde Registrada | H3: Saldo / Automático | I3: ALERTA | J3: 42509 | K3: 42531 | L3: ...../...../...... | M3: ...../...../...... | N3: ...../...../...... | O3: ...../...../...... | P3: ...../...../...... | Q3: ...../...../...... | R3: ...../...../...... | S3: ...../...../...... | T3: ...../...../...... | U3: ...../...../......
A4: LIND GUIMAR MACHADO - ME | B4: 1 | C4: 1 | D4: LOCAÇÃO DE SOM PARA ABERTURA DE EVENTOS E SOLENIDADES | E4: 339039-22 | F4: 744 | G4: 1 | H4: =G4-(SUM(J4:U4)) -> 0 | I4: =IF(H4<0,"ATENÇÃO","OK") -> OK | K4: 1
C5: 2 | D5: LOCAÇÃO DE ESTRUTURA DE FIXAÇÃO DE LUZ E SOM | E5: 339039-22 | F5: 730 | H5: =G5-(SUM(J5:U5)) -> 0 | I5: =IF(H5<0,"ATENÇÃO","OK") -> OK
C6: 3 | D6: LOCAÇÃO DE EQUIPAMENTO DE ILUMINAÇÃO | E6: 339039-22 | F6: 1080 | G6: 1 | H6: =G6-(SUM(J6:U6)) -> 0 | I6: =IF(H6<0,"ATENÇÃO","OK") -> OK | K6: 1
C7: 4 | D7: RÁDIO PARQUE COM 25 CAIXAS | E7: 339039-22 | F7: 3380 | H7: =G7-(SUM(J7:U7)) -> 0 | I7: =IF(H7<0,"ATENÇÃO","OK") -> OK
C8: 5 | D8: LOCAÇÃO DE SOM BÁSICO PARA APRESENTAÇÕES MUSICAIS | E8: 339039-22 | F8: 1150 | H8: =G8-(SUM(J8:U8)) -> 0 | I8: =IF(H8<0,"ATENÇÃO","OK") -> OK
C9: 6 | D9: LOCAÇÃO DE SOM INTERMEDIÁRIO PARA APRESENTAÇÕES MUSICAIS | E9: 339039-22 | F9: 1560 | H9: =G9-(SUM(J9:U9)) -> 0 | I9: =IF(H9<0,"ATENÇÃO","OK") -> OK
C10: 7 | D10: LOCAÇÃO DE PALCO COM COBERTURA (10,00 X 8,00 X 1,90 metros) | E10: 339039-22 | F10: 2135 | H10: =G10-(SUM(J10:U10)) -> 0 | I10: =IF(H10<0,"ATENÇÃO","OK") -> OK
C11: 8 | D11: LOCAÇÃO DE PALCO SEM COBERTURA (8,00 X 6,00 X 1,10 METROS) | E11: 339039-22 | F11: 660 | H11: =G11-(SUM(J11:U11)) -> 0 | I11: =IF(H11<0,"ATENÇÃO","OK") -> OK
C12: 9 | D12: EQUIPAMENTO DE ILUMINAÇÃO BASICA PARA APRESENTAÇÃO MUSICAL | E12: 339039-22 | F12: 1450 | H12: =G12-(SUM(J12:U12)) -> 0 | I12: =IF(H12<0,"ATENÇÃO","OK") -> OK
C13: 10 | D13: GRID PARA FIXAÇÃO DE BANNERS DE ATÈ 6x8M | E13: 339039-22 | F13: 400 | H13: =G13-(SUM(J13:U13)) -> 0 | I13: =IF(H13<0,"ATENÇÃO","OK") -> OK
C14: 11 | D14: LOCAÇÃO DE TENDA 5x5m | E14: 339039-22 | F14: 240 | G14: 1 | H14: =G14-(SUM(J14:U14)) -> 0 | I14: =IF(H14<0,"ATENÇÃO","OK") -> OK | J14: 1
C15: 12 | D15: LOCAÇÃO DE TENDA 10x10m | E15: 339039-22 | F15: 520 | H15: =G15-(SUM(J15:U15)) -> 0 | I15: =IF(H15<0,"ATENÇÃO","OK") -> OK
C16: 13 | D16: LOCAÇÃO DE PAVILHÃO 20x40m | E16: 339039-22 | F16: 7600 | H16: =G16-(SUM(J16:U16)) -> 0 | I16: =IF(H16<0,"ATENÇÃO","OK") -> OK
C17: 14 | D17: SERVIÇOS DE PALCO SIMPLES | E17: 339039-22 | F17: 1800 | H17: =G17-(SUM(J17:U17)) -> 0 | I17: =IF(H17<0,"ATENÇÃO","OK") -> OK
C18: 15 | D18: DECORAÇÃO COMPLETA AMBIENTES | E18: 339039-22 | F18: 2080 | H18: =G18-(SUM(J18:U18)) -> 0 | I18: =IF(H18<0,"ATENÇÃO","OK") -> OK
C19: 16 | D19: MESTRE DE CERIMÔNIA | E19: 339039-22 | F19: 580 | H19: =G19-(SUM(J19:U19)) -> 0 | I19: =IF(H19<0,"ATENÇÃO","OK") -> OK
C20: 17 | D20: SERVIÇO DE SEGURANÇA PARA EVENTOS | E20: 339039-22 | F20: 900 | H20: =G20-(SUM(J20:U20)) -> 0 | I20: =IF(H20<0,"ATENÇÃO","OK") -> OK
C21: 18 | D21: SERVIÇO DE LIMPEZA PARA EVENTOS | E21: 339039-22 | F21: 920 | H21: =G21-(SUM(J21:U21)) -> 0 | I21: =IF(H21<0,"ATENÇÃO","OK") -> OK
C22: 19 | D22: CADEIRAS | E22: 339039-22 | F22: 2 | H22: =G22-(SUM(J22:U22)) -> 0 | I22: =IF(H22<0,"ATENÇÃO","OK") -> OK
C23: 20 | D23: MESAS | E23: 339039-22 | F23: 5 | H23: =G23-(SUM(J23:U23)) -> 0 | I23: =IF(H23<0,"ATENÇÃO","OK") -> OK
C24: 21 | D24: SERVIÇO DE EXPOSIÇÃO DE TELAS E FOTOS | E24: 339039-22 | F24: 850 | H24: =G24-(SUM(J24:U24)) -> 0 | I24: =IF(H24<0,"ATENÇÃO","OK") -> OK
C25: 22 | D25: TELÃO E SERVIÇO DE FILMAGEM EXTERNA | E25: 339039-22 | F25: 1600 | H25: =G25-(SUM(J25:U25)) -> 0 | I25: =IF(H25<0,"ATENÇÃO","OK") -> OK
C26: 23 | D26: PROJEÇÃO COM PAINEL DE LED 10 mm (DIMENSÕES 6,00 x 4,00 metros) | E26: 339039-22 | F26: 2400 | H26: =G26-(SUM(J26:U26)) -> 0 | I26: =IF(H26<0,"ATENÇÃO","OK") -> OK
C27: 24 | D27: FILMAGEM E TRANSMISSÃO SIMULTÂNEA INTERNA | E27: 339039-22 | F27: 1700 | H27: =G27-(SUM(J27:U27)) -> 0 | I27: =IF(H27<0,"ATENÇÃO","OK") -> OK
D29: *Condições de execução, fornecimento e prazos conforme Termo de Referência

Sheet REITORIA_PROEX
A1: PROCESSO: 1683/2015/UDESC | D1: OBJETO: CONTRATAÇÃO DE EMPRESA ESPECIALIZADA EM PRESTAÇÃO DE SERVIÇOS DE SONORIZAÇÃO, ILUMINAÇÃO, PALCO, TENDA, EXPOSIÇÃO E PROJEÇÃO DE IMAGENS PARA OS EVENTOS DA UDESC | G1: VIGÊNCIA DA ATA: 18/02/2016 até 17/02/2017 | J1: OS nº 0158/2016 Qtde. DT | K1: OS nº 288/2016 Qtde. DT | L1: OS nº 453/2016 Qtde. DT | M1: OS nº 516/2016 Qtde. DT | N1: OS nº 578/2016 Qtde. DT | O1: OS nº 692/2016 Qtde. DT | P1: OS nº 732/2016 Qtde. DT | Q1: Contrato nº xxxx/2016 Qtde. DT | R1: Contrato nº xxxx/2016 Qtde. DT | S1: Contrato nº xxxx/2016 Qtde. DT | T1: Contrato nº xxxx/2016 Qtde. DT | U1: Contrato nº xxxx/2016 Qtde. DT
A2: CENTRO PARTICIPANTE: REITORIA/PROEX
A3: FORNECEDOR | B3: LOTE | C3: ITEM | D3: DESCRIÇÃO | E3: DETALHAMENTO | F3: Preço UNITÁRIO (R$) | G3: Qtde Registrada | H3: Saldo / Automático | I3: ALERTA | J3: 42430 | K3: 42457 | L3: 42479 | M3: 42508 | N3: 42515 | O3: 42543 | P3: 42557 | Q3: ...../...../...... | R3: ...../...../...... | S3: ...../...../...... | T3: ...../...../...... | U3: ...../...../......
A4: LIND GUIMAR MACHADO - ME | B4: 1 | C4: 1 | D4: LOCAÇÃO DE SOM PARA ABERTURA DE EVENTOS E SOLENIDADES | E4: 339039-22 | F4: 744 | G4: =12-1 -> 11 | H4: =G4-(SUM(J4:U4)) -> 6 | I4: =IF(H4<0,"ATENÇÃO","OK") -> OK | K4: 4 | M4: 1
C5: 2 | D5: LOCAÇÃO DE ESTRUTURA DE FIXAÇÃO DE LUZ E SOM | E5: 339039-22 | F5: 730 | G5: 19 | H5: =G5-(SUM(J5:U5)) -> 18 | I5: =IF(H5<0,"ATENÇÃO","OK") -> OK | K5: 1
C6: 3 | D6: LOCAÇÃO DE EQUIPAMENTO DE ILUMINAÇÃO | E6: 339039-22 | F6: 1080 | G6: =11-1 -> 10 | H6: =G6-(SUM(J6:U6)) -> 9 | I6: =IF(H6<0,"ATENÇÃO","OK") -> OK | M6: 1
C7: 4 | D7: RÁDIO PARQUE COM 25 CAIXAS | E7: 339039-22 | F7: 3380 | G7: 2 | H7: =G7-(SUM(J7:U7)) -> 2 | I7: =IF(H7<0,"ATENÇÃO","OK") -> OK
C8: 5 | D8: LOCAÇÃO DE SOM BÁSICO PARA APRESENTAÇÕES MUSICAIS | E8: 339039-22 | F8: 1150 | G8: 8 | H8: =G8-(SUM(J8:U8)) -> 5 | I8: =IF(H8<0,"ATENÇÃO","OK") -> OK | L8: 2 | O8: 1
C9: 6 | D9: LOCAÇÃO DE SOM INTERMEDIÁRIO PARA APRESENTAÇÕES MUSICAIS | E9: 339039-22 | F9: 1560 | G9: 18 | H9: =G9-(SUM(J9:U9)) -> 13 | I9: =IF(H9<0,"ATENÇÃO","OK") -> OK | J9: 1 | L9: 1 | N9: 1 | O9: 2
C10: 7 | D10: LOCAÇÃO DE PALCO COM COBERTURA (10,00 X 8,00 X 1,90 metros) | E10: 339039-22 | F10: 2135 | G10: 5 | H10: =G10-(SUM(J10:U10)) -> 5 | I10: =IF(H10<0,"ATENÇÃO","OK") -> OK
C11: 8 | D11: LOCAÇÃO DE PALCO SEM COBERTURA (8,00 X 6,00 X 1,10 METROS) | E11: 339039-22 | F11: 660 | G11: 6 | H11: =G11-(SUM(J11:U11)) -> 2 | I11: =IF(H11<0,"ATENÇÃO","OK") -> OK | K11: 3 | O11: 1
C12: 9 | D12: EQUIPAMENTO DE ILUMINAÇÃO BASICA PARA APRESENTAÇÃO MUSICAL | E12: 339039-22 | F12: 1450 | G12: 8 | H12: =G12-(SUM(J12:U12)) -> 6 | I12: =IF(H12<0,"ATENÇÃO","OK") -> OK | L12: 1 | N12: 1
C13: 10 | D13: GRID PARA FIXAÇÃO DE BANNERS DE ATÈ 6x8M | E13: 339039-22 | F13: 400 | G13: 7 | H13: =G13-(SUM(J13:U13)) -> 2 | I13: =IF(H13<0,"ATENÇÃO","OK") -> OK | K13: 4 | M13: 1
C14: 11 | D14: LOCAÇÃO DE TENDA 5x5m | E14: 339039-22 | F14: 240 | G14: =5-1 -> 4 | H14: =G14-(SUM(J14:U14)) -> 1 | I14: =IF(H14<0,"ATENÇÃO","OK") -> OK | K14: 3
C15: 12 | D15: LOCAÇÃO DE TENDA 10x10m | E15: 339039-22 | F15: 520 | G15: 15 | H15: =G15-(SUM(J15:U15)) -> 9 | I15: =IF(H15<0,"ATENÇÃO","OK") -> OK | K15: 4 | M15: 1 | P15: 1
C16: 13 | D16: LOCAÇÃO DE PAVILHÃO 20x40m | E16: 339039-22 | F16: 7600 | G16: 2 | H16: =G16-(SUM(J16:U16)) -> 2 | I16: =IF(H16<0,"ATENÇÃO","OK") -> OK
C17: 14 | D17: SERVIÇOS DE PALCO SIMPLES | E17: 339039-22 | F17: 1800 | G17: 4 | H17: =G17-(SUM(J17:U17)) -> 4 | I17: =IF(H17<0,"ATENÇÃO","OK") -> OK
C18: 15 | D18: DECORAÇÃO COMPLETA AMBIENTES | E18: 339039-22 | F18: 2080 | G18: 2 | H18: =G18-(SUM(J18:U18)) -> 2 | I18: =IF(H18<0,"ATENÇÃO","OK") -> OK
C19: 16 | D19: MESTRE DE CERIMÔNIA | E19: 339039-22 | F19: 580 | G19: 10 | H19: =G19-(SUM(J19:U19)) -> 5 | I19: =IF(H19<0,"ATENÇÃO","OK") -> OK | K19: 5
C20: 17 | D20: SERVIÇO DE SEGURANÇA PARA EVENTOS | E20: 339039-22 | F20: 900 | G20: 1 | H20: =G20-(SUM(J20:U20)) -> 1 | I20: =IF(H20<0,"ATENÇÃO","OK") -> OK
C21: 18 | D21: SERVIÇO DE LIMPEZA PARA EVENTOS | E21: 339039-22 | F21: 920 | G21: 2 | H21: =G21-(SUM(J21:U21)) -> 2 | I21: =IF(H21<0,"ATENÇÃO","OK") -> OK
C22: 19 | D22: CADEIRAS | E22: 339039-22 | F22: 2 | G22: 600 | H22: =G22-(SUM(J22:U22)) -> 300 | I22: =IF(H22<0,"ATENÇÃO","OK") -> OK | K22: 300
C23: 20 | D23: MESAS | E23: 339039-22 | F23: 5 | G23: 150 | H23: =G23-(SUM(J23:U23)) -> 75 | I23: =IF(H23<0,"ATENÇÃO","OK") -> OK | K23: 75
C24: 21 | D24: SERVIÇO DE EXPOSIÇÃO DE TELAS E FOTOS | E24: 339039-22 | F24: 850 | G24: 6 | H24: =G24-(SUM(J24:U24)) -> 6 | I24: =IF(H24<0,"ATENÇÃO","OK") -> OK
C25: 22 | D25: TELÃO E SERVIÇO DE FILMAGEM EXTERNA | E25: 339039-22 | F25: 1600 | G25: 2 | H25: =G25-(SUM(J25:U25)) -> 2 | I25: =IF(H25<0,"ATENÇÃO","OK") -> OK
C26: 23 | D26: PROJEÇÃO COM PAINEL DE LED 10 mm (DIMENSÕES 6,00 x 4,00 metros) | E26: 339039-22 | F26: 2400 | G26: 4 | H26: =G26-(SUM(J26:U26)) -> 4 | I26: =IF(H26<0,"ATENÇÃO","OK") -> OK
C27: 24 | D27: FILMAGEM E TRANSMISSÃO SIMULTÂNEA INTERNA | E27: 339039-22 | F27: 1700 | G27: 3 | H27: =G27-(SUM(J27:U27)) -> 3 | I27: =IF(H27<0,"ATENÇÃO","OK") -> OK
D29: *Condições de execução, fornecimento e prazos conforme Termo de Referência

Sheet GESTOR
A1: PROCESSO: 1683/2015/UDESC | D1: OBJETO: CONTRATAÇÃO DE EMPRESA ESPECIALIZADA EM PRESTAÇÃO DE SERVIÇOS DE SONORIZAÇÃO, ILUMINAÇÃO, PALCO, TENDA, EXPOSIÇÃO E PROJEÇÃO DE IMAGENS PARA OS EVENTOS DA UDESC | G1: VIGÊNCIA DA ATA: 18/02/2016 até 17/02/2017
A2: CENTRO PARTICIPANTE: REITORIA/PROEX
A3: FORNECEDOR | B3: LOTE | C3: ITEM | D3: DESCRIÇÃO | E3: DETALHAMENTO | F3: Preço UNITÁRIO (R$) | G3: Qtde Registrada | H3: Qtde Utilizada | I3: SALDO | J3: Valor Registrado | K3: Valor Utilizado
A4: LIND GUIMAR MACHADO - ME | B4: 1 | C4: 1 | D4: LOCAÇÃO DE SOM PARA ABERTURA DE EVENTOS E SOLENIDADES | E4: 339039-22 | F4: 744 | G4: =REITORIA_PROEX!G4 -> 11 | H4: =REITORIA_PROEX!G4-REITORIA_PROEX!H4 -> 5 | I4: =G4-H4 -> 6 | J4: =F4*G4 -> 8184 | K4: =F4*H4 -> 3720
C5: 2 | D5: LOCAÇÃO DE ESTRUTURA DE FIXAÇÃO DE LUZ E SOM | E5: 339039-22 | F5: 730 | G5: =REITORIA_PROEX!G5 -> 19 | H5: =REITORIA_PROEX!G5-REITORIA_PROEX!H5 -> 1 | I5: =G5-H5 -> 18 | J5: =F5*G5 -> 13870 | K5: =F5*H5 -> 730
C6: 3 | D6: LOCAÇÃO DE EQUIPAMENTO DE ILUMINAÇÃO | E6: 339039-22 | F6: 1080 | G6: =REITORIA_PROEX!G6 -> 10 | H6: =REITORIA_PROEX!G6-REITORIA_PROEX!H6 -> 1 | I6: =G6-H6 -> 9 | J6: =F6*G6 -> 10800 | K6: =F6*H6 -> 1080
C7: 4 | D7: RÁDIO PARQUE COM 25 CAIXAS | E7: 339039-22 | F7: 3380 | G7: =REITORIA_PROEX!G7 -> 2 | H7: =REITORIA_PROEX!G7-REITORIA_PROEX!H7 -> 0 | I7: =G7-H7 -> 2 | J7: =F7*G7 -> 6760 | K7: =F7*H7 -> 0
C8: 5 | D8: LOCAÇÃO DE SOM BÁSICO PARA APRESENTAÇÕES MUSICAIS | E8: 339039-22 | F8: 1150 | G8: =REITORIA_PROEX!G8 -> 8 | H8: =REITORIA_PROEX!G8-REITORIA_PROEX!H8 -> 3 | I8: =G8-H8 -> 5 | J8: =F8*G8 -> 9200 | K8: =F8*H8 -> 3450
C9: 6 | D9: LOCAÇÃO DE SOM INTERMEDIÁRIO PARA APRESENTAÇÕES MUSICAIS | E9: 339039-22 | F9: 1560 | G9: =REITORIA_PROEX!G9 -> 18 | H9: =REITORIA_PROEX!G9-REITORIA_PROEX!H9 -> 5 | I9: =G9-H9 -> 13 | J9: =F9*G9 -> 28080 | K9: =F9*H9 -> 7800
C10: 7 | D10: LOCAÇÃO DE PALCO COM COBERTURA (10,00 X 8,00 X 1,90 metros) | E10: 339039-22 | F10: 2135 | G10: =REITORIA_PROEX!G10 -> 5 | H10: =REITORIA_PROEX!G10-REITORIA_PROEX!H10 -> 0 | I10: =G10-H10 -> 5 | J10: =F10*G10 -> 10675 | K10: =F10*H10 -> 0
C11: 8 | D11: LOCAÇÃO DE PALCO SEM COBERTURA (8,00 X 6,00 X 1,10 METROS) | E11: 339039-22 | F11: 660 | G11: =REITORIA_PROEX!G11 -> 6 | H11: =REITORIA_PROEX!G11-REITORIA_PROEX!H11 -> 4 | I11: =G11-H11 -> 2 | J11: =F11*G11 -> 3960 | K11: =F11*H11 -> 2640
C12: 9 | D12: EQUIPAMENTO DE ILUMINAÇÃO BASICA PARA APRESENTAÇÃO MUSICAL | E12: 339039-22 | F12: 1450 | G12: =REITORIA_PROEX!G12 -> 8 | H12: =REITORIA_PROEX!G12-REITORIA_PROEX!H12 -> 2 | I12: =G12-H12 -> 6 | J12: =F12*G12 -> 11600 | K12: =F12*H12 -> 2900
C13: 10 | D13: GRID PARA FIXAÇÃO DE BANNERS DE ATÈ 6x8M | E13: 339039-22 | F13: 400 | G13: =REITORIA_PROEX!G13 -> 7 | H13: =REITORIA_PROEX!G13-REITORIA_PROEX!H13 -> 5 | I13: =G13-H13 -> 2 | J13: =F13*G13 -> 2800 | K13: =F13*H13 -> 2000
C14: 11 | D14: LOCAÇÃO DE TENDA 5x5m | E14: 339039-22 | F14: 240 | G14: =REITORIA_PROEX!G14 -> 4 | H14: =REITORIA_PROEX!G14-REITORIA_PROEX!H14 -> 3 | I14: =G14-H14 -> 1 | J14: =F14*G14 -> 960 | K14: =F14*H14 -> 720
C15: 12 | D15: LOCAÇÃO DE TENDA 10x10m | E15: 339039-22 | F15: 520 | G15: =REITORIA_PROEX!G15 -> 15 | H15: =REITORIA_PROEX!G15-REITORIA_PROEX!H15 -> 6 | I15: =G15-H15 -> 9 | J15: =F15*G15 -> 7800 | K15: =F15*H15 -> 3120
C16: 13 | D16: LOCAÇÃO DE PAVILHÃO 20x40m | E16: 339039-22 | F16: 7600 | G16: =REITORIA_PROEX!G16 -> 2 | H16: =REITORIA_PROEX!G16-REITORIA_PROEX!H16 -> 0 | I16: =G16-H16 -> 2 | J16: =F16*G16 -> 15200 | K16: =F16*H16 -> 0
... C27: 24 | D27: FILMAGEM E TRANSMISSÃO SIMULTÂNEA INTERNA | E27: 339039-22 | F27: 1700 | G27: =REITORIA_PROEX!G27 -> 3 | H27: =REITORIA_PROEX!G27-REITORIA_PROEX!H27 -> 0 | I27: =G27-H27 -> 3 | J27: =F27*G27 -> 5100 | K27: =F27*H27 -> 0
J28: =SUM(J4:J27) -> 174739 | K28: =SUM(K4:K27) -> 32035
D29: *Condições de execução, fornecimento e prazos conforme Termo de Referência
G30: Pregão 1683/2015/UDESC - SRP
G31: CONTRATAÇÃO DE EMPRESA ESPECIALIZADA EM PRESTAÇÃO DE SERVIÇOS DE SONORIZAÇÃO, ILUMINAÇÃO, PALCO, TENDA, EXPOSIÇÃO E PROJEÇÃO DE IMAGENS PARA OS EVENTOS DA UDESC
G32: VIGÊNCIA DA ATA: 18/02/2016 até 17/02/2017
G33: Valor Total da Ata com Aditivo | K33: =J28 -> 174739
G34: Valor Utilizado | K34: =K28 -> 32035
G35: % Aditivos
G36: % Utilizado | K36: =K34/K33 -> 0.18333057
G37: Resumo Atualizado em Agosto/2016

Sheet Modelo Anexo II IN 002_2014
A1: ANEXO II – Instrução Normativa n.º 002/2014
A3: DECLARAÇÃO DE DISPONIBILIDADE DE QUANTITATIVO PARA EMISSÃO DE AUTORIZAÇÃO DE FORNECIMENTO/ORDEM DE SERVIÇO – SISTEMA DE REGISTRO DE PREÇOS/UDESC
A5: Processo CPA n.º XXXX/2014
A6: Pregão n.º XXXX/2014
A7: Objeto:
A8: Vigência da Ata de Registro de Preços: XX/XX/XXXX até XX/XX/XXXXX
A10: Declaro que o Centro XXXXXXX, participante da Ata de Registro de Preços proveniente do Pregão n.º XXXX/2014, possui saldo em seu quantitativo para a emissão da Autorização de Fornecimento/Ordem de Serviço n.º XXXX/2014, no valor de R$ X.XXX,XX, a ser firmada com a empresa XXXXXXX, restando ainda em sua cota para próximas contratações com o referido fornecedor os seguintes quantitativos:
A12: Lote | B12: Item | C12: Descrição Resumida | D12: Unidade | E12: Valor Unitário (R$) | F12: Saldo Quantitativo (antes da emissão desta AF/OS) | G12: Quantitativo da AF/OS | H12: Saldo Atualizado
A19: __________________, ____/_____/____
A20: Cidade Data
A24: _____________________________________________
A25: Diretor(a) de Administração
A26: (carimbo e assinatura)
