Workbook
Name diasuteis: #REF!
Name diasuteis: #REF!
Name diasuteis: #REF!
Name diasuteis: #REF!
Name diasuteis: #REF!
Name diasuteis: #REF!
Name diasuteis: #REF!
Name diasuteis: #REF!
Name diasuteis: #REF!
Name diasuteis: #REF!
Name diasuteis: #REF!
Name diasuteis: #REF!
Name diasuteis: #REF!
Name diasuteis: #REF!
Name diasuteis: #REF!
Name Ferias: #REF!
Name Ferias: #REF!
Name Ferias: #REF!
Name Ferias: #REF!
Name Ferias: #REF!
Name Ferias: #REF!
Name Ferias: #REF!
Name Ferias: #REF!
Name Ferias: #REF!
Name Ferias: #REF!
Name Ferias: #REF!
Name RD: OFFSET(#REF!,(MATCH(SMALL(#REF!,ROW()-10),#REF!,0)-1),0)
Name RD: OFFSET(#REF!,(MATCH(SMALL(#REF!,ROW()-10),#REF!,0)-1),0)
Name RD: OFFSET(#REF!,(MATCH(SMALL(#REF!,ROW()-10),#REF!,0)-1),0)
Name RD: OFFSET(#REF!,(MATCH(SMALL(#REF!,ROW()-10),#REF!,0)-1),0)
Name RD: OFFSET(#REF!,(MATCH(SMALL(#REF!,ROW()-10),#REF!,0)-1),0)
Name RD: OFFSET(#REF!,(MATCH(SMALL(#REF!,ROW()-10),#REF!,0)-1),0)
Name RD: OFFSET(#REF!,(MATCH(SMALL(#REF!,ROW()-10),#REF!,0)-1),0)
Name RD: OFFSET(#REF!,(MATCH(SMALL(#REF!,ROW()-10),#REF!,0)-1),0)
Name RD: OFFSET(#REF!,(MATCH(SMALL(#REF!,ROW()-10),#REF!,0)-1),0)
Name RD: OFFSET(#REF!,(MATCH(SMALL(#REF!,ROW()-10),#REF!,0)-1),0)
Name RD: OFFSET(#REF!,(MATCH(SMALL(#REF!,ROW()-10),#REF!,0)-1),0)

Sheet Reitoria
A1: PROCESSO: 1651/2014/UDESC | D1: OBJETO: AQUISIÇÃO DE MATERIAIS DE EXPEDIENTE PARA A UDESC | I1: VIGÊNCIA DA ATA: 15/04/2015 até 14/04/2016 | L1: AF nº 560/2015 Qtde. DT | M1: AF nº 578/2015 Qtde. DT | N1: AF nº 581/2015 Qtde. DT | O1: AF nº 583/2015 Qtde. DT | P1: AF nº 587/2015 Qtde. DT | Q1: AF nº 588/2015 Qtde. DT | R1: AF nº 1359/2015 Qtde. DT | S1: AF nº 1360/2015 Qtde. DT | T1: AF nº 2140/2015 Qtde. DT | U1: AF nº 2155/2015 Qtde. DT | V1: AF nº 2156/2015 Qtde. DT | W1: AF nº 2157/2015 Qtde. DT | X1: AF nº 2158/2015 Qtde. DT | Y1: AF nº 2159/2015 Qtde. DT | Z1: AF nº 2160/2015 Qtde. DT | AA1: AF nº 0281/2016 Qtde. DT | AB1: AF nº 336/2016 Qtde. DT
A2: CENTRO PARTICIPANTE: Reitoria
A3: FORNECEDOR | B3: LOTE | C3: ITEM | D3: PRODUTO - CARACTERÍSTICAS MÍNIMAS | E3: UNIDADE | F3: MARCA | G3: DETALHAMENTO | H3: Preço UNITÁRIO (R$) | I3: Qtde Registrada | J3: Saldo / Automático | K3: ALERTA | L3: 42121 | M3: 42122 | N3: 42122 | O3: 42122 | P3: 42122 | Q3: 42122 | R3: 42221 | S3: 42221 | T3: 42318 | U3: 42319 | V3: 42319 | W3: 42319 | X3: 42319 | Y3: 42319 | Z3: 42319 | AA3: 42451 | AB3: 42464
A4: LICITAMIX MAT. DE ESC. LTDA ME | B4: 1 | C4: 1 | D4: AGENDA PERMANENTE, PARA MARCAR COMPROMISSOS, com no mínimo 100 folhas. Com fitilho marcador de páginas, medindo aproximadamente 145 X 205mm | E4: Peça | F4: FTD | G4: 33.90.30.16 | H4: 18.92 | I4: 80 | J4: =I4-(SUM(L4:AB4)) -> 55 | K4: =IF(J4<0,"ATENÇÃO","OK") -> OK | L4: 0 | M4: 0 | N4: 0 | O4: 0 | P4: 0 | Q4: 0 | R4: 0 | S4: 0 | T4: 0 | U4: 0 | V4: 0 | W4: 0 | X4: 25 | Y4: 0 | Z4: 0 | AA4: 0 | AB4: 0
C5: 2 | D5: APAGADOR PARA QUADRO BRANCO, com corpo plástico de alta resistência, base com feltro de no mínimo 2mm. Medidas: comprimento entre 15 e 18 cm; largura igual ou maior que 6 cm; altura entre 3cm e 5cm. Espaço no corpo do apagador para armazenar 2 canetas marcadoras para quadro branco. | E5: Peça | F5: KIT | G5: 33.90.30.16 | H5: 5.3 | I5: 20 | J5: =I5-(SUM(L5:AB5)) -> 0 | K5: =IF(J5<0,"ATENÇÃO","OK") -> OK | L5: 20 | M5: 0 | N5: 0 | O5: 0 | P5: 0 | Q5: 0 | R5: 0 | S5: 0 | T5: 0 | U5: 0 | V5: 0 | W5: 0 | X5: 0 | Y5: 0 | Z5: 0 | AA5: 0 | AB5: 0
A6: DIAL DEPARTAMENTOS EIRELI EPP | B6: 2 | C6: 3 | D6: Aplicador/suporte para fita adesiva de 48mm X 50m, com serrilha e cabo para empacotamento | E6: peça | F6: JOCAR | G6: 33.90.30.16 | H6: 13.68 | I6: 10 | J6: =I6-(SUM(L6:AB6)) -> 5 | K6: =IF(J6<0,"ATENÇÃO","OK") -> OK | L6: 0 | M6: 0 | N6: 0 | O6: 0 | P6: 5 | Q6: 0 | R6: 0 | S6: 0 | T6: 0 | U6: 0 | V6: 0 | W6: 0 | X6: 0 | Y6: 0 | Z6: 0 | AA6: 0 | AB6: 0
C7: 4 | D7: BORRACHA DE PAPELARIA NA COR VERDE PARA COLOCAR NA PARTE DE CIMA LAPIS | E7: peça | F7: LEONORA | G7: 33.90.30.16 | H7: 0.07 | J7: =I7-(SUM(L7:AB7)) -> 0 | K7: =IF(J7<0,"ATENÇÃO","OK") -> OK | L7: 0 | M7: 0 | N7: 0 | O7: 0 | P7: 0 | Q7: 0 | R7: 0 | S7: 0 | T7: 0 | U7: 0 | V7: 0 | W7: 0 | X7: 0 | Y7: 0 | Z7: 0 | AA7: 0 | AB7: 0
C8: 5 | D8: BORRACHA PLASTICA, COR BRANCA,COM CINTA PLASTICA,MEDINDO 58X34,5X12mm. Com registro no INMETRO. | E8: peça | F8: LEONORA | G8: 33.90.30.16 | H8: 0.7 | I8: 240 | J8: =I8-(SUM(L8:AB8)) -> 120 | K8: =IF(J8<0,"ATENÇÃO","OK") -> OK | L8: 0 | M8: 0 | N8: 0 | O8: 0 | P8: 120 | Q8: 0 | R8: 0 | S8: 0 | T8: 0 | U8: 0 | V8: 0 | W8: 0 | X8: 0 | Y8: 0 | Z8: 0 | AA8: 0 | AB8: 0
C9: 6 | D9: BARBANTE DE ALGODAO, com 08 (oito) fios, ROLO COM APROXIMADAMENTE 400 GRAMAS | E9: peça | F9: KOREA | G9: 33.90.30.16 | H9: 5.74 | I9: 50 | J9: =I9-(SUM(L9:AB9)) -> 50 | K9: =IF(J9<0,"ATENÇÃO","OK") -> OK | L9: 0 | M9: 0 | N9: 0 | O9: 0 | P9: 0 | Q9: 0 | R9: 0 | S9: 0 | T9: 0 | U9: 0 | V9: 0 | W9: 0 | X9: 0 | Y9: 0 | Z9: 0 | AA9: 0 | AB9: 0
C10: 7 | D10: APONTADOR DE LAPIS, DE PLASTICO, TIPO COLEGIAL, Com recipiente para segurar sobras do lápis apontado, medindo aproximadamente 5 cm | E10: Peça | F10: LEONORA | G10: 33.90.30.16 | H10: 0.45 | I10: 100 | J10: =I10-(SUM(L10:AB10)) -> 100 | K10: =IF(J10<0,"ATENÇÃO","OK") -> OK | L10: 0 | M10: 0 | N10: 0 | O10: 0 | P10: 0 | Q10: 0 | R10: 0 | S10: 0 | T10: 0 | U10: 0 | V10: 0 | W10: 0 | X10: 0 | Y10: 0 | Z10: 0 | AA10: 0 | AB10: 0
C11: 8 | D11: BANDEJA PARA DOCUMENTOS, EM ACRILICO, COM 1 DIVISÃO, na cor transparente – tamanho A4 | E11: Peça | F11: NOVACRIL | G11: 33.90.30.16 | H11: 9.32 | I11: 30 | J11: =I11-(SUM(L11:AB11)) -> 15 | K11: =IF(J11<0,"ATENÇÃO","OK") -> OK | L11: 0 | M11: 0 | N11: 0 | O11: 0 | P11: 15 | Q11: 0 | R11: 0 | S11: 0 | T11: 0 | U11: 0 | V11: 0 | W11: 0 | X11: 0 | Y11: 0 | Z11: 0 | AA11: 0 | AB11: 0
C12: 9 | D12: BANDEJA PARA DOCUMENTOS, EM ACRILICO, COM 2 DIVISOES, na cor transparente – tamanho A4 | E12: Peça | F12: NOVACRIL | G12: 33.90.30.16 | H12: 18.23 | I12: 30 | J12: =I12-(SUM(L12:AB12)) -> 15 | K12: =IF(J12<0,"ATENÇÃO","OK") -> OK | L12: 0 | M12: 0 | N12: 0 | O12: 0 | P12: 15 | Q12: 0 | R12: 0 | S12: 0 | T12: 0 | U12: 0 | V12: 0 | W12: 0 | X12: 0 | Y12: 0 | Z12: 0 | AA12: 0 | AB12: 0
C13: 10 | D13: BANDEJA PARA DOCUMENTOS, EM ACRILICO, COM 3 DIVISOES, NA COR TRANSPARENTE, TAMANHO A4 | E13: Peça | F13: NOVACRIL | G13: 33.90.30.16 | H13: 28.08 | I13: 30 | J13: =I13-(SUM(L13:AB13)) -> 15 | K13: =IF(J13<0,"ATENÇÃO","OK") -> OK | L13: 0 | M13: 0 | N13: 0 | O13: 0 | P13: 15 | Q13: 0 | R13: 0 | S13: 0 | T13: 0 | U13: 0 | V13: 0 | W13: 0 | X13: 0 | Y13: 0 | Z13: 0 | AA13: 0 | AB13: 0
A14: ALEXANDRA DOS PASSOS EIRELI EPP | B14: 3 | C14: 11 | D14: BLOCO DE RASCUNHO, AUTO ADESIVO, medindo 38 X 51mm, pacote com 4 blocos. Adesivos removíveis com 100 folhas, similar a marca post it. | E14: pacote | F14: MAKE | G14: 33.90.30.16 | H14: 2.06 | I14: 400 | J14: =I14-(SUM(L14:AB14)) -> 0 | K14: =IF(J14<0,"ATENÇÃO","OK") -> OK | L14: 0 | M14: 0 | N14: 0 | O14: 0 | P14: 0 | Q14: 192 | R14: 0 | S14: 208 | T14: 0 | U14: 0 | V14: 0 | W14: 0 | X14: 0 | Y14: 0 | Z14: 0 | AA14: 0 | AB14: 0
C15: 12 | D15: BLOCO DE RASCUNHO, AUTO ADESIVO, medindo 76 X 102mm, pacote com 100 folhas, amarelo, para recados. Adesivos removíveis, similar a marca post it. | E15: Peça | F15: JOCAR | G15: 33.90.30.16 | H15: 1.14 | I15: 400 | J15: =I15-(SUM(L15:AB15)) -> 0 | K15: =IF(J15<0,"ATENÇÃO","OK") -> OK | L15: 0 | M15: 0 | N15: 0 | O15: 0 | P15: 0 | Q15: 192 | R15: 0 | S15: 208 | T15: 0 | U15: 0 | V15: 0 | W15: 0 | X15: 0 | Y15: 0 | Z15: 0 | AA15: 0 | AB15: 0
A16: DIAL DEPARTAMENTOS EIRELI EPP | B16: 4 | C16: 13 | D16: ALFINETE COLORIDO, ponta redonda, CAIXA COM 50 UNIDADES | E16: Caixa | F16: JOCAR | G16: 33.90.30.16 | H16: 1.46 | I16: 30 | J16: =I16-(SUM(L16:AB16)) -> 20 | K16: =IF(J16<0,"ATENÇÃO","OK") -> OK | L16: 0 | M16: 0 | N16: 0 | O16: 0 | P16: 10 | Q16: 0 | R16: 0 | S16: 0 | T16: 0 | U16: 0 | V16: 0 | W16: 0 | X16: 0 | Y16: 0 | Z16: 0 | AA16: 0 | AB16: 0
C17: 14 | D17: APAGADOR, PARA QUADRO NEGRO, em madeira, base com feltro, medindo aproximadamente 15 X 6 X 4cm | E17: Peça | F17: CAGEMA | G17: 33.90.30.16 | H17: 1.59 | J17: =I17-(SUM(L17:AB17)) -> 0 | K17: =IF(J17<0,"ATENÇÃO","OK") -> OK | L17: 0 | M17: 0 | N17: 0 | O17: 0 | P17: 0 | Q17: 0 | R17: 0 | S17: 0 | T17: 0 | U17: 0 | V17: 0 | W17: 0 | X17: 0 | Y17: 0 | Z17: 0 | AA17: 0 | AB17: 0
C18: 15 | D18: BOBINA DE PAPEL, TÉRMICO, MEDINDO 57MM X 30M, CAIXA COM 10 UNIDADES, 1 via | E18: Caixa | F18: ALLSOMA | G18: 33.90.30.16 | H18: 19.98 | J18: =I18-(SUM(L18:AB18)) -> 0 | K18: =IF(J18<0,"ATENÇÃO","OK") -> OK | L18: 0 | M18: 0 | N18: 0 | O18: 0 | P18: 0 | Q18: 0 | R18: 0 | S18: 0 | T18: 0 | U18: 0 | V18: 0 | W18: 0 | X18: 0 | Y18: 0 | Z18: 0 | AA18: 0 | AB18: 0
C19: 16 | D19: BLOCO DE PAPEL, FLIP CHART COM PICOTE, COM 50 FOLHAS, medindo aproximadamente 64cm X 88cm. | E19: Peça | F19: S.R | G19: 33.90.30.16 | H19: 14.85 | I19: 5 | J19: =I19-(SUM(L19:AB19)) -> 5 | K19: =IF(J19<0,"ATENÇÃO","OK") -> OK | L19: 0 | M19: 0 | N19: 0 | O19: 0 | P19: 0 | Q19: 0 | R19: 0 | S19: 0 | T19: 0 | U19: 0 | V19: 0 | W19: 0 | X19: 0 | Y19: 0 | Z19: 0 | AA19: 0 | AB19: 0
C20: 17 | D20: BOBINA EM PAPEL PARA MAQUINA, BOBINA DE PAPEL TERMICO,MEDINDO 76MM X 40M, COM 1 VIA, | E20: Peça | F20: ALLSOMA | G20: 33.90.30.16 | H20: 3.11 | J20: =I20-(SUM(L20:AB20)) -> 0 | K20: =IF(J20<0,"ATENÇÃO","OK") -> OK | L20: 0 | M20: 0 | N20: 0 | O20: 0 | P20: 0 | Q20: 0 | R20: 0 | S20: 0 | T20: 0 | U20: 0 | V20: 0 | W20: 0 | X20: 0 | Y20: 0 | Z20: 0 | AA20: 0 | AB20: 0
C21: 18 | D21: CADERNO TIPO ESCOLAR, CAPA DURA, TIPO UNIVERSITARIO, COM 200 FOLHAS, Formato 203 X 280mm | E21: Peça | F21: PANAMERICANA | G21: 33.90.30.16 | H21: 4.58 | I21: 30 | J21: =I21-(SUM(L21:AB21)) -> 20 | K21: =IF(J21<0,"ATENÇÃO","OK") -> OK | L21: 0 | M21: 0 | N21: 0 | O21: 0 | P21: 10 | Q21: 0 | R21: 0 | S21: 0 | T21: 0 | U21: 0 | V21: 0 | W21: 0 | X21: 0 | Y21: 0 | Z21: 0 | AA21: 0 | AB21: 0
C22: 19 | D22: CADERNO TIPO ESCOLAR, TAMANHO PEQUENO COM 48 FOLHAS, capa dura tipo brochura. | E22: Peça | F22: PANAMERICANA | G22: 33.90.30.16 | H22: 1.47 | I22: 30 | J22: =I22-(SUM(L22:AB22)) -> 30 | K22: =IF(J22<0,"ATENÇÃO","OK") -> OK | L22: 0 | M22: 0 | N22: 0 | O22: 0 | P22: 0 | Q22: 0 | R22: 0 | S22: 0 | T22: 0 | U22: 0 | V22: 0 | W22: 0 | X22: 0 | Y22: 0 | Z22: 0 | AA22: 0 | AB22: 0
C23: 20 | D23: Calculadora média (portátil), tela inclinada para 12 dígitos, duas fontes de energia e desligamento (bateria e energia solar) telas de raiz quadrada e porcentagem, tela de apagar o último dígito, medidas aproximadas: 9 x 12 cm. | E23: Peça | F23: CLASSE | G23: 33.90.30.16 | H23: 10.13 | I23: 50 | J23: =I23-(SUM(L23:AB23)) -> 40 | K23: =IF(J23<0,"ATENÇÃO","OK") -> OK | L23: 0 | M23: 0 | N23: 0 | O23: 0 | P23: 10 | Q23: 0 | R23: 0 | S23: 0 | T23: 0 | U23: 0 | V23: 0 | W23: 0 | X23: 0 | Y23: 0 | Z23: 0 | AA23: 0 | AB23: 0
A24: ALEXANDRA DOS PASSOS EIRELI EPP | B24: 5 | C24: 21 | D24: CANETA ESFEROGRAFICA, NA COR AZUL, Corpo em poliestireno cristal, com protetor plástico entre a carga e o corpo da caneta; esfera em tungstênio; espessura da ponta de 1,00mm; formato redondo; ponta em latão usinado com esfera de tungstênio; tampa antiasfixiante. MARCA BIC, justificativa da marca anexada no processo e embasada no relatório de análise de produtos do "INMETRO". | E24: Peça | F24: BIC | G24: 33.90.30.16 | H24: 0.39 | I24: 2300 | J24: =I24-(SUM(L24:AB24)) -> 0 | K24: =IF(J24<0,"ATENÇÃO","OK") -> OK | L24: 0 | M24: 0 | N24: 0 | O24: 0 | P24: 0 | Q24: 1000 | R24: 0 | S24: 500 | T24: 800 | U24: 0 | V24: 0 | W24: 0 | X24: 0 | Y24: 0 | Z24: 0 | AA24: 0 | AB24: 0
C25: 22 | D25: CANETA ESFEROGRAFICA, NA COR PRETA, Corpo em poliestireno cristal, com protetor plástico entre a carga e o corpo da caneta; esfera em tungstênio;formato redondo; ponta em latão usinado com esfera de tungstênio; tampa antiasfixiante. MARCA BIC, justificativa da marca anexada no processo e embasada no relatório de análise de produtos do "INMETRO". | E25: Peça | F25: BIC | G25: 33.90.30.16 | H25: 0.39 | I25: 2300 | J25: =I25-(SUM(L25:AB25)) -> 0 | K25: =IF(J25<0,"ATENÇÃO","OK") -> OK | L25: 0 | M25: 0 | N25: 0 | O25: 0 | P25: 0 | Q25: 1000 | R25: 0 | S25: 300 | T25: 1000 | U25: 0 | V25: 0 | W25: 0 | X25: 0 | Y25: 0 | Z25: 0 | AA25: 0 | AB25: 0
C26: 23 | D26: CANETA ESFEROGRAFICA, NA COR VERDE, Corpo em poliestireno cristal, com protetor plástico entre a carga e o corpo da caneta; esfera em tungstênio; espessura da ponta de 1,00mm; formato redondo; ponta em latão usinado com esfera de tungstênio; tampa antiasfixiante. MARCA BIC, justificativa da marca anexada no processo e embasada no relatório de análise de produtos do "INMETRO". | E26: Peça | F26: BIC | G26: 33.90.30.16 | H26: 0.33 | J26: =I26-(SUM(L26:AB26)) -> 0 | K26: =IF(J26<0,"ATENÇÃO","OK") -> OK | L26: 0 | M26: 0 | N26: 0 | O26: 0 | P26: 0 | Q26: 0 | R26: 0 | S26: 0 | T26: 0 | U26: 0 | V26: 0 | W26: 0 | X26: 0 | Y26: 0 | Z26: 0 | AA26: 0 | AB26: 0
C27: 24 | D27: CANETA ESFEROGRAFICA, NA COR VERMELHA, Corpo em poliestireno cristal, com protetor plástico entre a carga e o corpo da caneta; esfera em tungstênio; espessura da ponta de 1,00mm; formato redondo; ponta em latão usinado com esfera de tungstênio; tampa antiasfixiante. MARCA BIC, justificativa da marca anexada no processo e embasada no relatório de análise de produtos do "INMETRO". | E27: Peça | F27: BIC | G27: 33.90.30.16 | H27: 0.33 | J27: =I27-(SUM(L27:AB27)) -> 0 | K27: =IF(J27<0,"ATENÇÃO","OK") -> OK | L27: 0 | M27: 0 | N27: 0 | O27: 0 | P27: 0 | Q27: 0 | R27: 0 | S27: 0 | T27: 0 | U27: 0 | V27: 0 | W27: 0 | X27: 0 | Y27: 0 | Z27: 0 | AA27: 0 | AB27: 0
A28: DIAL DEPARTAMENTOS EIRELI EPP | B28: 6 | C28: 25 | D28: PINCEL ATOMICO NA COR AZUL, PONTA OBLÍQUA (CHANFRADA), COM REGISTRO NO INMETRO. | E28: Peça | F28: J.STAMP | G28: 33.90.30.16 | H28: 0.82 | I28: 100 | J28: =I28-(SUM(L28:AB28)) -> 100 | K28: =IF(J28<0,"ATENÇÃO","OK") -> OK | L28: 0 | M28: 0 | N28: 0 | O28: 0 | P28: 0 | Q28: 0 | R28: 0 | S28: 0 | T28: 0 | U28: 0 | V28: 0 | W28: 0 | X28: 0 | Y28: 0 | Z28: 0 | AA28: 0 | AB28: 0
C29: 26 | D29: PINCEL ATOMICO NA COR PRETA PONTA OBLÍQUA (CHANFRADA), COM REGISTRO NO INMETRO. | E29: Peça | F29: J.STAMP | G29: 33.90.30.16 | H29: 0.82 | I29: 100 | J29: =I29-(SUM(L29:AB29)) -> 100 | K29: =IF(J29<0,"ATENÇÃO","OK") -> OK | L29: 0 | M29: 0 | N29: 0 | O29: 0 | P29: 0 | Q29: 0 | R29: 0 | S29: 0 | T29: 0 | U29: 0 | V29: 0 | W29: 0 | X29: 0 | Y29: 0 | Z29: 0 | AA29: 0 | AB29: 0
C30: 27 | D30: PINCEL ATOMICO NA COR VERDE PONTA OBLÍQUA (CHANFRADA), COM REGISTRO NO INMETRO. | E30: Peça | F30: J.STAMP | G30: 33.90.30.16 | H30: 0.82 | I30: 100 | J30: =I30-(SUM(L30:AB30)) -> 100 | K30: =IF(J30<0,"ATENÇÃO","OK") -> OK | L30: 0 | M30: 0 | N30: 0 | O30: 0 | P30: 0 | Q30: 0 | R30: 0 | S30: 0 | T30: 0 | U30: 0 | V30: 0 | W30: 0 | X30: 0 | Y30: 0 | Z30: 0 | AA30: 0 | AB30: 0
C31: 28 | D31: PINCEL ATOMICO NA COR VERMELHA PONTA OBLÍQUA (CHANFRADA), COM REGISTRO NO INMETRO. | E31: Peça | F31: J.STAMP | G31: 33.90.30.16 | H31: 0.82 | I31: 100 | J31: =I31-(SUM(L31:AB31)) -> 100 | K31: =IF(J31<0,"ATENÇÃO","OK") -> OK | L31: 0 | M31: 0 | N31: 0 | O31: 0 | P31: 0 | Q31: 0 | R31: 0 | S31: 0 | T31: 0 | U31: 0 | V31: 0 | W31: 0 | X31: 0 | Y31: 0 | Z31: 0 | AA31: 0 | AB31: 0
C32: 29 | D32: CANETA HIDROGRAFICA FOSFORESCENTE PARA DESTAQUE DE TEXTO, NA COR AMARELA, escrita de aproximadamente 3 mm de largura | E32: Peça | F32: JOCAR | G32: 33.90.30.16 | H32: 0.63 | I32: 360 | J32: =I32-(SUM(L32:AB32)) -> 240 | K32: =IF(J32<0,"ATENÇÃO","OK") -> OK | L32: 0 | M32: 0 | N32: 0 | O32: 0 | P32: 120 | Q32: 0 | R32: 0 | S32: 0 | T32: 0 | U32: 0 | V32: 0 | W32: 0 | X32: 0 | Y32: 0 | Z32: 0 | AA32: 0 | AB32: 0
C33: 30 | D33: CANETA HIDROGRAFICA FOSFORESCENTE PARA DESTAQUE DE TEXTO, NA COR VERDE, escrita de aproximadamente 3 mm de largura | E33: Peça | F33: JOCAR | G33: 33.90.30.16 | H33: 0.63 | I33: 240 | J33: =I33-(SUM(L33:AB33)) -> 240 | K33: =IF(J33<0,"ATENÇÃO","OK") -> OK | L33: 0 | M33: 0 | N33: 0 | O33: 0 | P33: 0 | Q33: 0 | R33: 0 | S33: 0 | T33: 0 | U33: 0 | V33: 0 | W33: 0 | X33: 0 | Y33: 0 | Z33: 0 | AA33: 0 | AB33: 0
C34: 31 | D34: CANETA ESFEROGRAFICA, COM TINTA ANTI-FRAUDE, com tinta segura e resistente a teste de água e luz composta de resinas termoplástica, tinta a base de solventes corantes orgânicos, ponta tungstênio, 0,7mm, cor preta. Similar a Unni ball Vision Elite. | E34: Peça | F34: UNIBALL | G34: 33.90.30.16 | H34: 5.51 | I34: 10 | J34: =I34-(SUM(L34:AB34)) -> 10 | K34: =IF(J34<0,"ATENÇÃO","OK") -> OK | L34: 0 | M34: 0 | N34: 0 | O34: 0 | P34: 0 | Q34: 0 | R34: 0 | S34: 0 | T34: 0 | U34: 0 | V34: 0 | W34: 0 | X34: 0 | Y34: 0 | Z34: 0 | AA34: 0 | AB34: 0
C35: 32 | D35: CANETA HIDROCOR, AVULSA - COR AZUL - PONTA DE 2MM | E35: Peça | F35: COMPACTOR | G35: 33.90.30.16 | H35: 0.57 | I35: 24 | J35: =I35-(SUM(L35:AB35)) -> 24 | K35: =IF(J35<0,"ATENÇÃO","OK") -> OK | L35: 0 | M35: 0 | N35: 0 | O35: 0 | P35: 0 | Q35: 0 | R35: 0 | S35: 0 | T35: 0 | U35: 0 | V35: 0 | W35: 0 | X35: 0 | Y35: 0 | Z35: 0 | AA35: 0 | AB35: 0
C36: 33 | D36: CANETA HIDROCOR, AVULSA - COR LARANJA - PONTA DE 2MM | E36: Peça | F36: COMPACTOR | G36: 33.90.30.16 | H36: 0.57 | I36: 24 | J36: =I36-(SUM(L36:AB36)) -> 24 | K36: =IF(J36<0,"ATENÇÃO","OK") -> OK | L36: 0 | M36: 0 | N36: 0 | O36: 0 | P36: 0 | Q36: 0 | R36: 0 | S36: 0 | T36: 0 | U36: 0 | V36: 0 | W36: 0 | X36: 0 | Y36: 0 | Z36: 0 | AA36: 0 | AB36: 0
C37: 34 | D37: CANETA HIDROCOR, AVULSA - COR PRETA - PONTA DE 2MM | E37: Peça | F37: COMPACTOR | G37: 33.90.30.16 | H37: 0.57 | I37: 24 | J37: =I37-(SUM(L37:AB37)) -> 24 | K37: =IF(J37<0,"ATENÇÃO","OK") -> OK | L37: 0 | M37: 0 | N37: 0 | O37: 0 | P37: 0 | Q37: 0 | R37: 0 | S37: 0 | T37: 0 | U37: 0 | V37: 0 | W37: 0 | X37: 0 | Y37: 0 | Z37: 0 | AA37: 0 | AB37: 0
C38: 35 | D38: CANETA HIDROCOR, AVULSA - COR VERDE - PONTA DE 2MM | E38: Peça | F38: COMPACTOR | G38: 33.90.30.16 | H38: 0.57 | I38: 24 | J38: =I38-(SUM(L38:AB38)) -> 24 | K38: =IF(J38<0,"ATENÇÃO","OK") -> OK | L38: 0 | M38: 0 | N38: 0 | O38: 0 | P38: 0 | Q38: 0 | R38: 0 | S38: 0 | T38: 0 | U38: 0 | V38: 0 | W38: 0 | X38: 0 | Y38: 0 | Z38: 0 | AA38: 0 | AB38: 0
C39: 36 | D39: CANETA HIDROCOR, AVULSA - COR VERMELHA - PONTA DE 2MM | E39: Peça | F39: COMPACTOR | G39: 33.90.30.16 | H39: 0.57 | I39: 24 | J39: =I39-(SUM(L39:AB39)) -> 24 | K39: =IF(J39<0,"ATENÇÃO","OK") -> OK | L39: 0 | M39: 0 | N39: 0 | O39: 0 | P39: 0 | Q39: 0 | R39: 0 | S39: 0 | T39: 0 | U39: 0 | V39: 0 | W39: 0 | X39: 0 | Y39: 0 | Z39: 0 | AA39: 0 | AB39: 0
C40: 37 | D40: CANETA HIDROCOR, COM 12 CORES, tamanho grande, lavável, com ponta fina de 2mm, com registro no INMETRO | E40: Jogo | F40: LEONORA | G40: 33.90.30.16 | H40: 2.21 | I40: 80 | J40: =I40-(SUM(L40:AB40)) -> 0 | K40: =IF(J40<0,"ATENÇÃO","OK") -> OK | L40: 0 | M40: 0 | N40: 0 | O40: 0 | P40: 80 | Q40: 0 | R40: 0 | S40: 0 | T40: 0 | U40: 0 | V40: 0 | W40: 0 | X40: 0 | Y40: 0 | Z40: 0 | AA40: 0 | AB40: 0
...

Sheet ESAG
A1: PROCESSO: 1651/2014/UDESC | D1: OBJETO: AQUISIÇÃO DE MATERIAIS DE EXPEDIENTE PARA A UDESC | I1: VIGÊNCIA DA ATA: 15/04/2015 até 14/04/2016 | L1: AF/OS nº 649/2015 Qtde. DT | M1: AF/OS nº 664/2015 Qtde. DT | N1: AF/OS nº 689/2015 Qtde. DT | O1: AF/OS nº 345/2016 Qtde. DT | P1: AF/OS nº 346/2016 Qtde. DT | Q1: AF/OS nº 347/2016 Qtde. DT
A2: CENTRO PARTICIPANTE: ESAG
A3: FORNECEDOR | B3: LOTE | C3: ITEM | D3: PRODUTO - CARACTERÍSTICAS MÍNIMAS | E3: UNIDADE | F3: MARCA | G3: DETALHAMENTO | H3: Preço UNITÁRIO (R$) | I3: Qtde Registrada | J3: Saldo / Automático | K3: ALERTA | L3: ...../...../...... | M3: ...../...../...... | N3: ...../...../...... | O3: ...../...../...... | P3: ...../...../...... | Q3: ...../...../......
A4: LICITAMIX MAT. DE ESC. LTDA ME | B4: 1 | C4: 1 | D4: AGENDA PERMANENTE, PARA MARCAR COMPROMISSOS, com no mínimo 100 folhas. Com fitilho marcador de páginas, medindo aproximadamente 145 X 205mm | E4: Peça | F4: FTD | G4: 33.90.30.16 | H4: 18.92 | I4: 150 | J4: =I4-(SUM(L4:Q4)) -> 150 | K4: =IF(J4<0,"ATENÇÃO","OK") -> OK
C5: 2 | D5: APAGADOR PARA QUADRO BRANCO, com corpo plástico de alta resistência, base com feltro de no mínimo 2mm. Medidas: comprimento entre 15 e 18 cm; largura igual ou maior que 6 cm; altura entre 3cm e 5cm. Espaço no corpo do apagador para armazenar 2 canetas marcadoras para quadro branco. | E5: Peça | F5: KIT | G5: 33.90.30.16 | H5: 5.3 | I5: 300 | J5: =I5-(SUM(L5:Q5)) -> 280 | K5: =IF(J5<0,"ATENÇÃO","OK") -> OK | Q5: 20
A6: DIAL DEPARTAMENTOS EIRELI EPP | B6: 2 | C6: 3 | D6: Aplicador/suporte para fita adesiva de 48mm X 50m, com serrilha e cabo para empacotamento | E6: peça | F6: JOCAR | G6: 33.90.30.16 | H6: 13.68 | J6: =I6-(SUM(L6:Q6)) -> 0 | K6: =IF(J6<0,"ATENÇÃO","OK") -> OK
C7: 4 | D7: BORRACHA DE PAPELARIA NA COR VERDE PARA COLOCAR NA PARTE DE CIMA LAPIS | E7: peça | F7: LEONORA | G7: 33.90.30.16 | H7: 0.07 | I7: 100 | J7: =I7-(SUM(L7:Q7)) -> 100 | K7: =IF(J7<0,"ATENÇÃO","OK") -> OK
C8: 5 | D8: BORRACHA PLASTICA, COR BRANCA,COM CINTA PLASTICA,MEDINDO 58X34,5X12mm. Com registro no INMETRO. | E8: peça | F8: LEONORA | G8: 33.90.30.16 | H8: 0.7 | I8: 100 | J8: =I8-(SUM(L8:Q8)) -> 100 | K8: =IF(J8<0,"ATENÇÃO","OK") -> OK
C9: 6 | D9: BARBANTE DE ALGODAO, com 08 (oito) fios, ROLO COM APROXIMADAMENTE 400 GRAMAS | E9: peça | F9: KOREA | G9: 33.90.30.16 | H9: 5.74 | I9: 10 | J9: =I9-(SUM(L9:Q9)) -> 10 | K9: =IF(J9<0,"ATENÇÃO","OK") -> OK
C10: 7 | D10: APONTADOR DE LAPIS, DE PLASTICO, TIPO COLEGIAL, Com recipiente para segurar sobras do lápis apontado, medindo aproximadamente 5 cm | E10: Peça | F10: LEONORA | G10: 33.90.30.16 | H10: 0.45 | I10: 100 | J10: =I10-(SUM(L10:Q10)) -> 76 | K10: =IF(J10<0,"ATENÇÃO","OK") -> OK | N10: 24
C11: 8 | D11: BANDEJA PARA DOCUMENTOS, EM ACRILICO, COM 1 DIVISÃO, na cor transparente – tamanho A4 | E11: Peça | F11: NOVACRIL | G11: 33.90.30.16 | H11: 9.32 | I11: 30 | J11: =I11-(SUM(L11:Q11)) -> 25 | K11: =IF(J11<0,"ATENÇÃO","OK") -> OK | N11: 5
C12: 9 | D12: BANDEJA PARA DOCUMENTOS, EM ACRILICO, COM 2 DIVISOES, na cor transparente – tamanho A4 | E12: Peça | F12: NOVACRIL | G12: 33.90.30.16 | H12: 18.23 | I12: 30 | J12: =I12-(SUM(L12:Q12)) -> 25 | K12: =IF(J12<0,"ATENÇÃO","OK") -> OK | N12: 5
C13: 10 | D13: BANDEJA PARA DOCUMENTOS, EM ACRILICO, COM 3 DIVISOES, NA COR TRANSPARENTE, TAMANHO A4 | E13: Peça | F13: NOVACRIL | G13: 33.90.30.16 | H13: 28.08 | I13: 30 | J13: =I13-(SUM(L13:Q13)) -> 27 | K13: =IF(J13<0,"ATENÇÃO","OK") -> OK | N13: 3
A14: ALEXANDRA DOS PASSOS EIRELI EPP | B14: 3 | C14: 11 | D14: BLOCO DE RASCUNHO, AUTO ADESIVO, medindo 38 X 51mm, pacote com 4 blocos. Adesivos removíveis com 100 folhas, similar a marca post it. | E14: pacote | F14: MAKE | G14: 33.90.30.16 | H14: 2.06 | I14: 200 | J14: =I14-(SUM(L14:Q14)) -> 175 | K14: =IF(J14<0,"ATENÇÃO","OK") -> OK | P14: 25
C15: 12 | D15: BLOCO DE RASCUNHO, AUTO ADESIVO, medindo 76 X 102mm, pacote com 100 folhas, amarelo, para recados. Adesivos removíveis, similar a marca post it. | E15: Peça | F15: JOCAR | G15: 33.90.30.16 | H15: 1.14 | I15: 200 | J15: =I15-(SUM(L15:Q15)) -> 175 | K15: =IF(J15<0,"ATENÇÃO","OK") -> OK | P15: 25
A16: DIAL DEPARTAMENTOS EIRELI EPP | B16: 4 | C16: 13 | D16: ALFINETE COLORIDO, ponta redonda, CAIXA COM 50 UNIDADES | E16: Caixa | F16: JOCAR | G16: 33.90.30.16 | H16: 1.46 | I16: 50 | J16: =I16-(SUM(L16:Q16)) -> 40 | K16: =IF(J16<0,"ATENÇÃO","OK") -> OK | N16: 10
C17: 14 | D17: APAGADOR, PARA QUADRO NEGRO, em madeira, base com feltro, medindo aproximadamente 15 X 6 X 4cm | E17: Peça | F17: CAGEMA | G17: 33.90.30.16 | H17: 1.59 | J17: =I17-(SUM(L17:Q17)) -> 0 | K17: =IF(J17<0,"ATENÇÃO","OK") -> OK
C18: 15 | D18: BOBINA DE PAPEL, TÉRMICO, MEDINDO 57MM X 30M, CAIXA COM 10 UNIDADES, 1 via | E18: Caixa | F18: ALLSOMA | G18: 33.90.30.16 | H18: 19.98 | J18: =I18-(SUM(L18:Q18)) -> 0 | K18: =IF(J18<0,"ATENÇÃO","OK") -> OK
C19: 16 | D19: BLOCO DE PAPEL, FLIP CHART COM PICOTE, COM 50 FOLHAS, medindo aproximadamente 64cm X 88cm. | E19: Peça | F19: S.R | G19: 33.90.30.16 | H19: 14.85 | I19: 5 | J19: =I19-(SUM(L19:Q19)) -> 5 | K19: =IF(J19<0,"ATENÇÃO","OK") -> OK
C20: 17 | D20: BOBINA EM PAPEL PARA MAQUINA, BOBINA DE PAPEL TERMICO,MEDINDO 76MM X 40M, COM 1 VIA, | E20: Peça | F20: ALLSOMA | G20: 33.90.30.16 | H20: 3.11 | J20: =I20-(SUM(L20:Q20)) -> 0 | K20: =IF(J20<0,"ATENÇÃO","OK") -> OK
C21: 18 | D21: CADERNO TIPO ESCOLAR, CAPA DURA, TIPO UNIVERSITARIO, COM 200 FOLHAS, Formato 203 X 280mm | E21: Peça | F21: PANAMERICANA | G21: 33.90.30.16 | H21: 4.58 | I21: 50 | J21: =I21-(SUM(L21:Q21)) -> 45 | K21: =IF(J21<0,"ATENÇÃO","OK") -> OK | N21: 5
C22: 19 | D22: CADERNO TIPO ESCOLAR, TAMANHO PEQUENO COM 48 FOLHAS, capa dura tipo brochura. | E22: Peça | F22: PANAMERICANA | G22: 33.90.30.16 | H22: 1.47 | I22: 50 | J22: =I22-(SUM(L22:Q22)) -> 45 | K22: =IF(J22<0,"ATENÇÃO","OK") -> OK | N22: 5
C23: 20 | D23: Calculadora média (portátil), tela inclinada para 12 dígitos, duas fontes de energia e desligamento (bateria e energia solar) telas de raiz quadrada e porcentagem, tela de apagar o último dígito, medidas aproximadas: 9 x 12 cm. | E23: Peça | F23: CLASSE | G23: 33.90.30.16 | H23: 10.13 | I23: 20 | J23: =I23-(SUM(L23:Q23)) -> 20 | K23: =IF(J23<0,"ATENÇÃO","OK") -> OK
A24: ALEXANDRA DOS PASSOS EIRELI EPP | B24: 5 | C24: 21 | D24: CANETA ESFEROGRAFICA, NA COR AZUL, Corpo em poliestireno cristal, com protetor plástico entre a carga e o corpo da caneta; esfera em tungstênio; espessura da ponta de 1,00mm; formato redondo; ponta em latão usinado com esfera de tungstênio; tampa antiasfixiante. MARCA BIC, justificativa da marca anexada no processo e embasada no relatório de análise de produtos do "INMETRO". | E24: Peça | F24: BIC | G24: 33.90.30.16 | H24: 0.39 | I24: 3000 | J24: =I24-(SUM(L24:Q24)) -> 1500 | K24: =IF(J24<0,"ATENÇÃO","OK") -> OK | L24: 750 | P24: 750
C25: 22 | D25: CANETA ESFEROGRAFICA, NA COR PRETA, Corpo em poliestireno cristal, com protetor plástico entre a carga e o corpo da caneta; esfera em tungstênio;formato redondo; ponta em latão usinado com esfera de tungstênio; tampa antiasfixiante. MARCA BIC, justificativa da marca anexada no processo e embasada no relatório de análise de produtos do "INMETRO". | E25: Peça | F25: BIC | G25: 33.90.30.16 | H25: 0.39 | I25: 3000 | J25: =I25-(SUM(L25:Q25)) -> 2100 | K25: =IF(J25<0,"ATENÇÃO","OK") -> OK | L25: 400 | P25: 500
C26: 23 | D26: CANETA ESFEROGRAFICA, NA COR VERDE, Corpo em poliestireno cristal, com protetor plástico entre a carga e o corpo da caneta; esfera em tungstênio; espessura da ponta de 1,00mm; formato redondo; ponta em latão usinado com esfera de tungstênio; tampa antiasfixiante. MARCA BIC, justificativa da marca anexada no processo e embasada no relatório de análise de produtos do "INMETRO". | E26: Peça | F26: BIC | G26: 33.90.30.16 | H26: 0.33 | I26: 1000 | J26: =I26-(SUM(L26:Q26)) -> 900 | K26: =IF(J26<0,"ATENÇÃO","OK") -> OK | L26: 100
C27: 24 | D27: CANETA ESFEROGRAFICA, NA COR VERMELHA, Corpo em poliestireno cristal, com protetor plástico entre a carga e o corpo da caneta; esfera em tungstênio; espessura da ponta de 1,00mm; formato redondo; ponta em latão usinado com esfera de tungstênio; tampa antiasfixiante. MARCA BIC, justificativa da marca anexada no processo e embasada no relatório de análise de produtos do "INMETRO". | E27: Peça | F27: BIC | G27: 33.90.30.16 | H27: 0.33 | I27: 2000 | J27: =I27-(SUM(L27:Q27)) -> 1650 | K27: =IF(J27<0,"ATENÇÃO","OK") -> OK | L27: 250 | P27: 100
A28: DIAL DEPARTAMENTOS EIRELI EPP | B28: 6 | C28: 25 | D28: PINCEL ATOMICO NA COR AZUL, PONTA OBLÍQUA (CHANFRADA), COM REGISTRO NO INMETRO. | E28: Peça | F28: J.STAMP | G28: 33.90.30.16 | H28: 0.82 | I28: 60 | J28: =I28-(SUM(L28:Q28)) -> 60 | K28: =IF(J28<0,"ATENÇÃO","OK") -> OK
C29: 26 | D29: PINCEL ATOMICO NA COR PRETA PONTA OBLÍQUA (CHANFRADA), COM REGISTRO NO INMETRO. | E29: Peça | F29: J.STAMP | G29: 33.90.30.16 | H29: 0.82 | I29: 60 | J29: =I29-(SUM(L29:Q29)) -> 60 | K29: =IF(J29<0,"ATENÇÃO","OK") -> OK
C30: 27 | D30: PINCEL ATOMICO NA COR VERDE PONTA OBLÍQUA (CHANFRADA), COM REGISTRO NO INMETRO. | E30: Peça | F30: J.STAMP | G30: 33.90.30.16 | H30: 0.82 | I30: 60 | J30: =I30-(SUM(L30:Q30)) -> 60 | K30: =IF(J30<0,"ATENÇÃO","OK") -> OK
C31: 28 | D31: PINCEL ATOMICO NA COR VERMELHA PONTA OBLÍQUA (CHANFRADA), COM REGISTRO NO INMETRO. | E31: Peça | F31: J.STAMP | G31: 33.90.30.16 | H31: 0.82 | I31: 60 | J31: =I31-(SUM(L31:Q31)) -> 60 | K31: =IF(J31<0,"ATENÇÃO","OK") -> OK
C32: 29 | D32: CANETA HIDROGRAFICA FOSFORESCENTE PARA DESTAQUE DE TEXTO, NA COR AMARELA, escrita de aproximadamente 3 mm de largura | E32: Peça | F32: JOCAR | G32: 33.90.30.16 | H32: 0.63 | I32: 120 | J32: =I32-(SUM(L32:Q32)) -> 72 | K32: =IF(J32<0,"ATENÇÃO","OK") -> OK | N32: 48
C33: 30 | D33: CANETA HIDROGRAFICA FOSFORESCENTE PARA DESTAQUE DE TEXTO, NA COR VERDE, escrita de aproximadamente 3 mm de largura | E33: Peça | F33: JOCAR | G33: 33.90.30.16 | H33: 0.63 | I33: 120 | J33: =I33-(SUM(L33:Q33)) -> 96 | K33: =IF(J33<0,"ATENÇÃO","OK") -> OK | N33: 24
C34: 31 | D34: CANETA ESFEROGRAFICA, COM TINTA ANTI-FRAUDE, com tinta segura e resistente a teste de água e luz composta de resinas termoplástica, tinta a base de solventes corantes orgânicos, ponta tungstênio, 0,7mm, cor preta. Similar a Unni ball Vision Elite. | E34: Peça | F34: UNIBALL | G34: 33.90.30.16 | H34: 5.51 | I34: 6 | J34: =I34-(SUM(L34:Q34)) -> 4 | K34: =IF(J34<0,"ATENÇÃO","OK") -> OK | N34: 2
C35: 32 | D35: CANETA HIDROCOR, AVULSA - COR AZUL - PONTA DE 2MM | E35: Peça | F35: COMPACTOR | G35: 33.90.30.16 | H35: 0.57 | I35: 12 | J35: =I35-(SUM(L35:Q35)) -> 12 | K35: =IF(J35<0,"ATENÇÃO","OK") -> OK
C36: 33 | D36: CANETA HIDROCOR, AVULSA - COR LARANJA - PONTA DE 2MM | E36: Peça | F36: COMPACTOR | G36: 33.90.30.16 | H36: 0.57 | I36: 12 | J36: =I36-(SUM(L36:Q36)) -> 12 | K36: =IF(J36<0,"ATENÇÃO","OK") -> OK
C37: 34 | D37: CANETA HIDROCOR, AVULSA - COR PRETA - PONTA DE 2MM | E37: Peça | F37: COMPACTOR | G37: 33.90.30.16 | H37: 0.57 | I37: 12 | J37: =I37-(SUM(L37:Q37)) -> 12 | K37: =IF(J37<0,"ATENÇÃO","OK") -> OK
C38: 35 | D38: CANETA HIDROCOR, AVULSA - COR VERDE - PONTA DE 2MM | E38: Peça | F38: COMPACTOR | G38: 33.90.30.16 | H38: 0.57 | I38: 12 | J38: =I38-(SUM(L38:Q38)) -> 12 | K38: =IF(J38<0,"ATENÇÃO","OK") -> OK
C39: 36 | D39: CANETA HIDROCOR, AVULSA - COR VERMELHA - PONTA DE 2MM | E39: Peça | F39: COMPACTOR | G39: 33.90.30.16 | H39: 0.57 | I39: 12 | J39: =I39-(SUM(L39:Q39)) -> 12 | K39: =IF(J39<0,"ATENÇÃO","OK") -> OK
C40: 37 | D40: CANETA HIDROCOR, COM 12 CORES, tamanho grande, lavável, com ponta fina de 2mm, com registro no INMETRO | E40: Jogo | F40: LEONORA | G40: 33.90.30.16 | H40: 2.21 | I40: 10 | J40: =I40-(SUM(L40:Q40)) -> 8 | K40: =IF(J40<0,"ATENÇÃO","OK") -> OK | N40: 2
...

Sheet CEART
A1: PROCESSO: 1651/2014/UDESC | D1: OBJETO: AQUISIÇÃO DE MATERIAIS DE EXPEDIENTE PARA A UDESC | I1: VIGÊNCIA DA ATA: 15/04/2015 até 14/04/2016 | L1: AF 1276/2015 | M1: AF 1272/2015 | N1: AF 1283/2015 | O1: AF 1274/2015 | P1: AF 1085/2015 | Q1: AF 1273/2015 | R1: AF 1884/2015 | S1: AF 1062/2015 | T1: AF 1196/2015 | U1: AF 2163/2015 | V1: AF 247/2016 | W1: AF 246/2016
A2: CENTRO PARTICIPANTE: CEART
A3: FORNECEDOR | B3: LOTE | C3: ITEM | D3: PRODUTO - CARACTERÍSTICAS MÍNIMAS | E3: UNIDADE | F3: MARCA | G3: DETALHAMENTO | H3: Preço UNITÁRIO (R$) | I3: Qtde Registrada | J3: Saldo / Automático | K3: ALERTA | L3: 42209 | M3: 42209 | N3: 42209 | O3: 42209 | P3: 42184 | Q3: 42209 | R3: 42285 | S3: 42181 | T3: 42199 | U3: 42317 | V3: 42444 | W3: 42444
A4: LICITAMIX MAT. DE ESC. LTDA ME | B4: 1 | C4: 1 | D4: AGENDA PERMANENTE, PARA MARCAR COMPROMISSOS, com no mínimo 100 folhas. Com fitilho marcador de páginas, medindo aproximadamente 145 X 205mm | E4: Peça | F4: FTD | G4: 33.90.30.16 | H4: 18.92 | I4: 50 | J4: =I4-(SUM(L4:W4)) -> 50 | K4: =IF(J4<0,"ATENÇÃO","OK") -> OK | L4: 0 | M4: 0 | N4: 0 | O4: 0 | P4: 0 | Q4: 0 | R4: 0 | S4: 0 | T4: 0 | U4: 0
C5: 2 | D5: APAGADOR PARA QUADRO BRANCO, com corpo plástico de alta resistência, base com feltro de no mínimo 2mm. Medidas: comprimento entre 15 e 18 cm; largura igual ou maior que 6 cm; altura entre 3cm e 5cm. Espaço no corpo do apagador para armazenar 2 canetas marcadoras para quadro branco. | E5: Peça | F5: KIT | G5: 33.90.30.16 | H5: 5.3 | I5: 1000 | J5: =I5-(SUM(L5:W5)) -> 970 | K5: =IF(J5<0,"ATENÇÃO","OK") -> OK | L5: 30 | M5: 0 | N5: 0 | O5: 0 | P5: 0 | Q5: 0 | R5: 0 | S5: 0 | T5: 0 | U5: 0
A6: DIAL DEPARTAMENTOS EIRELI EPP | B6: 2 | C6: 3 | D6: Aplicador/suporte para fita adesiva de 48mm X 50m, com serrilha e cabo para empacotamento | E6: peça | F6: JOCAR | G6: 33.90.30.16 | H6: 13.68 | I6: 10 | J6: =I6-(SUM(L6:W6)) -> 10 | K6: =IF(J6<0,"ATENÇÃO","OK") -> OK | L6: 0 | M6: 0 | N6: 0 | O6: 0 | P6: 0 | Q6: 0 | R6: 0 | S6: 0 | T6: 0 | U6: 0
C7: 4 | D7: BORRACHA DE PAPELARIA NA COR VERDE PARA COLOCAR NA PARTE DE CIMA LAPIS | E7: peça | F7: LEONORA | G7: 33.90.30.16 | H7: 0.07 | J7: =I7-(SUM(L7:W7)) -> 0 | K7: =IF(J7<0,"ATENÇÃO","OK") -> OK | L7: 0 | M7: 0 | N7: 0 | O7: 0 | P7: 0 | Q7: 0 | R7: 0 | S7: 0 | T7: 0 | U7: 0
C8: 5 | D8: BORRACHA PLASTICA, COR BRANCA,COM CINTA PLASTICA,MEDINDO 58X34,5X12mm. Com registro no INMETRO. | E8: peça | F8: LEONORA | G8: 33.90.30.16 | H8: 0.7 | I8: 60 | J8: =I8-(SUM(L8:W8)) -> 60 | K8: =IF(J8<0,"ATENÇÃO","OK") -> OK | L8: 0 | M8: 0 | N8: 0 | O8: 0 | P8: 0 | Q8: 0 | R8: 0 | S8: 0 | T8: 0 | U8: 0
C9: 6 | D9: BARBANTE DE ALGODAO, com 08 (oito) fios, ROLO COM APROXIMADAMENTE 400 GRAMAS | E9: peça | F9: KOREA | G9: 33.90.30.16 | H9: 5.74 | I9: 20 | J9: =I9-(SUM(L9:W9)) -> 20 | K9: =IF(J9<0,"ATENÇÃO","OK") -> OK | L9: 0 | M9: 0 | N9: 0 | O9: 0 | P9: 0 | Q9: 0 | R9: 0 | S9: 0 | T9: 0 | U9: 0
C10: 7 | D10: APONTADOR DE LAPIS, DE PLASTICO, TIPO COLEGIAL, Com recipiente para segurar sobras do lápis apontado, medindo aproximadamente 5 cm | E10: Peça | F10: LEONORA | G10: 33.90.30.16 | H10: 0.45 | I10: 50 | J10: =I10-(SUM(L10:W10)) -> 50 | K10: =IF(J10<0,"ATENÇÃO","OK") -> OK | L10: 0 | M10: 0 | N10: 0 | O10: 0 | P10: 0 | Q10: 0 | R10: 0 | S10: 0 | T10: 0 | U10: 0
C11: 8 | D11: BANDEJA PARA DOCUMENTOS, EM ACRILICO, COM 1 DIVISÃO, na cor transparente – tamanho A4 | E11: Peça | F11: NOVACRIL | G11: 33.90.30.16 | H11: 9.32 | I11: 20 | J11: =I11-(SUM(L11:W11)) -> 20 | K11: =IF(J11<0,"ATENÇÃO","OK") -> OK | L11: 0 | M11: 0 | N11: 0 | O11: 0 | P11: 0 | Q11: 0 | R11: 0 | S11: 0 | T11: 0 | U11: 0
C12: 9 | D12: BANDEJA PARA DOCUMENTOS, EM ACRILICO, COM 2 DIVISOES, na cor transparente – tamanho A4 | E12: Peça | F12: NOVACRIL | G12: 33.90.30.16 | H12: 18.23 | I12: 30 | J12: =I12-(SUM(L12:W12)) -> 30 | K12: =IF(J12<0,"ATENÇÃO","OK") -> OK | L12: 0 | M12: 0 | N12: 0 | O12: 0 | P12: 0 | Q12: 0 | R12: 0 | S12: 0 | T12: 0 | U12: 0
C13: 10 | D13: BANDEJA PARA DOCUMENTOS, EM ACRILICO, COM 3 DIVISOES, NA COR TRANSPARENTE, TAMANHO A4 | E13: Peça | F13: NOVACRIL | G13: 33.90.30.16 | H13: 28.08 | I13: 20 | J13: =I13-(SUM(L13:W13)) -> 20 | K13: =IF(J13<0,"ATENÇÃO","OK") -> OK | L13: 0 | M13: 0 | N13: 0 | O13: 0 | P13: 0 | Q13: 0 | R13: 0 | S13: 0 | T13: 0 | U13: 0
A14: ALEXANDRA DOS PASSOS EIRELI EPP | B14: 3 | C14: 11 | D14: BLOCO DE RASCUNHO, AUTO ADESIVO, medindo 38 X 51mm, pacote com 4 blocos. Adesivos removíveis com 100 folhas, similar a marca post it. | E14: pacote | F14: MAKE | G14: 33.90.30.16 | H14: 2.06 | I14: 1000 | J14: =I14-(SUM(L14:W14)) -> 700 | K14: =IF(J14<0,"ATENÇÃO","OK") -> OK | L14: 0 | M14: 300 | N14: 0 | O14: 0 | P14: 0 | Q14: 0 | R14: 0 | S14: 0 | T14: 0 | U14: 0
C15: 12 | D15: BLOCO DE RASCUNHO, AUTO ADESIVO, medindo 76 X 102mm, pacote com 100 folhas, amarelo, para recados. Adesivos removíveis, similar a marca post it. | E15: Peça | F15: JOCAR | G15: 33.90.30.16 | H15: 1.14 | I15: 1000 | J15: =I15-(SUM(L15:W15)) -> 900 | K15: =IF(J15<0,"ATENÇÃO","OK") -> OK | L15: 0 | M15: 100 | N15: 0 | O15: 0 | P15: 0 | Q15: 0 | R15: 0 | S15: 0 | T15: 0 | U15: 0
A16: DIAL DEPARTAMENTOS EIRELI EPP | B16: 4 | C16: 13 | D16: ALFINETE COLORIDO, ponta redonda, CAIXA COM 50 UNIDADES | E16: Caixa | F16: JOCAR | G16: 33.90.30.16 | H16: 1.46 | I16: 50 | J16: =I16-(SUM(L16:W16)) -> 50 | K16: =IF(J16<0,"ATENÇÃO","OK") -> OK | L16: 0 | M16: 0 | N16: 0 | O16: 0 | P16: 0 | Q16: 0 | R16: 0 | S16: 0 | T16: 0 | U16: 0
C17: 14 | D17: APAGADOR, PARA QUADRO NEGRO, em madeira, base com feltro, medindo aproximadamente 15 X 6 X 4cm | E17: Peça | F17: CAGEMA | G17: 33.90.30.16 | H17: 1.59 | I17: 50 | J17: =I17-(SUM(L17:W17)) -> 50 | K17: =IF(J17<0,"ATENÇÃO","OK") -> OK | L17: 0 | M17: 0 | N17: 0 | O17: 0 | P17: 0 | Q17: 0 | R17: 0 | S17: 0 | T17: 0 | U17: 0
C18: 15 | D18: BOBINA DE PAPEL, TÉRMICO, MEDINDO 57MM X 30M, CAIXA COM 10 UNIDADES, 1 via | E18: Caixa | F18: ALLSOMA | G18: 33.90.30.16 | H18: 19.98 | J18: =I18-(SUM(L18:W18)) -> 0 | K18: =IF(J18<0,"ATENÇÃO","OK") -> OK | L18: 0 | M18: 0 | N18: 0 | O18: 0 | P18: 0 | Q18: 0 | R18: 0 | S18: 0 | T18: 0 | U18: 0
C19: 16 | D19: BLOCO DE PAPEL, FLIP CHART COM PICOTE, COM 50 FOLHAS, medindo aproximadamente 64cm X 88cm. | E19: Peça | F19: S.R | G19: 33.90.30.16 | H19: 14.85 | I19: 100 | J19: =I19-(SUM(L19:W19)) -> 100 | K19: =IF(J19<0,"ATENÇÃO","OK") -> OK | L19: 0 | M19: 0 | N19: 0 | O19: 0 | P19: 0 | Q19: 0 | R19: 0 | S19: 0 | T19: 0 | U19: 0
C20: 17 | D20: BOBINA EM PAPEL PARA MAQUINA, BOBINA DE PAPEL TERMICO,MEDINDO 76MM X 40M, COM 1 VIA, | E20: Peça | F20: ALLSOMA | G20: 33.90.30.16 | H20: 3.11 | J20: =I20-(SUM(L20:W20)) -> 0 | K20: =IF(J20<0,"ATENÇÃO","OK") -> OK | L20: 0 | M20: 0 | N20: 0 | O20: 0 | P20: 0 | Q20: 0 | R20: 0 | S20: 0 | T20: 0 | U20: 0
C21: 18 | D21: CADERNO TIPO ESCOLAR, CAPA DURA, TIPO UNIVERSITARIO, COM 200 FOLHAS, Formato 203 X 280mm | E21: Peça | F21: PANAMERICANA | G21: 33.90.30.16 | H21: 4.58 | I21: 50 | J21: =I21-(SUM(L21:W21)) -> 50 | K21: =IF(J21<0,"ATENÇÃO","OK") -> OK | L21: 0 | M21: 0 | N21: 0 | O21: 0 | P21: 0 | Q21: 0 | R21: 0 | S21: 0 | T21: 0 | U21: 0
C22: 19 | D22: CADERNO TIPO ESCOLAR, TAMANHO PEQUENO COM 48 FOLHAS, capa dura tipo brochura. | E22: Peça | F22: PANAMERICANA | G22: 33.90.30.16 | H22: 1.47 | I22: 50 | J22: =I22-(SUM(L22:W22)) -> 50 | K22: =IF(J22<0,"ATENÇÃO","OK") -> OK | L22: 0 | M22: 0 | N22: 0 | O22: 0 | P22: 0 | Q22: 0 | R22: 0 | S22: 0 | T22: 0 | U22: 0
C23: 20 | D23: Calculadora média (portátil), tela inclinada para 12 dígitos, duas fontes de energia e desligamento (bateria e energia solar) telas de raiz quadrada e porcentagem, tela de apagar o último dígito, medidas aproximadas: 9 x 12 cm. | E23: Peça | F23: CLASSE | G23: 33.90.30.16 | H23: 10.13 | I23: 50 | J23: =I23-(SUM(L23:W23)) -> 50 | K23: =IF(J23<0,"ATENÇÃO","OK") -> OK | L23: 0 | M23: 0 | N23: 0 | O23: 0 | P23: 0 | Q23: 0 | R23: 0 | S23: 0 | T23: 0 | U23: 0
A24: ALEXANDRA DOS PASSOS EIRELI EPP | B24: 5 | C24: 21 | D24: CANETA ESFEROGRAFICA, NA COR AZUL, Corpo em poliestireno cristal, com protetor plástico entre a carga e o corpo da caneta; esfera em tungstênio; espessura da ponta de 1,00mm; formato redondo; ponta em latão usinado com esfera de tungstênio; tampa antiasfixiante. MARCA BIC, justificativa da marca anexada no processo e embasada no relatório de análise de produtos do "INMETRO". | E24: Peça | F24: BIC | G24: 33.90.30.16 | H24: 0.39 | I24: 3000 | J24: =I24-(SUM(L24:W24)) -> 2700 | K24: =IF(J24<0,"ATENÇÃO","OK") -> OK | L24: 0 | M24: 100 | N24: 0 | O24: 0 | P24: 0 | Q24: 0 | R24: 0 | S24: 0 | T24: 0 | U24: 0 | W24: 200
C25: 22 | D25: CANETA ESFEROGRAFICA, NA COR PRETA, Corpo em poliestireno cristal, com protetor plástico entre a carga e o corpo da caneta; esfera em tungstênio;formato redondo; ponta em latão usinado com esfera de tungstênio; tampa antiasfixiante. MARCA BIC, justificativa da marca anexada no processo e embasada no relatório de análise de produtos do "INMETRO". | E25: Peça | F25: BIC | G25: 33.90.30.16 | H25: 0.39 | I25: 3000 | J25: =I25-(SUM(L25:W25)) -> 2800 | K25: =IF(J25<0,"ATENÇÃO","OK") -> OK | L25: 0 | M25: 100 | N25: 0 | O25: 0 | P25: 0 | Q25: 0 | R25: 0 | S25: 0 | T25: 0 | U25: 0 | W25: 100
C26: 23 | D26: CANETA ESFEROGRAFICA, NA COR VERDE, Corpo em poliestireno cristal, com protetor plástico entre a carga e o corpo da caneta; esfera em tungstênio; espessura da ponta de 1,00mm; formato redondo; ponta em latão usinado com esfera de tungstênio; tampa antiasfixiante. MARCA BIC, justificativa da marca anexada no processo e embasada no relatório de análise de produtos do "INMETRO". | E26: Peça | F26: BIC | G26: 33.90.30.16 | H26: 0.33 | I26: 500 | J26: =I26-(SUM(L26:W26)) -> 500 | K26: =IF(J26<0,"ATENÇÃO","OK") -> OK | L26: 0 | M26: 0 | N26: 0 | O26: 0 | P26: 0 | Q26: 0 | R26: 0 | S26: 0 | T26: 0 | U26: 0
C27: 24 | D27: CANETA ESFEROGRAFICA, NA COR VERMELHA, Corpo em poliestireno cristal, com protetor plástico entre a carga e o corpo da caneta; esfera em tungstênio; espessura da ponta de 1,00mm; formato redondo; ponta em latão usinado com esfera de tungstênio; tampa antiasfixiante. MARCA BIC, justificativa da marca anexada no processo e embasada no relatório de análise de produtos do "INMETRO". | E27: Peça | F27: BIC | G27: 33.90.30.16 | H27: 0.33 | I27: 500 | J27: =I27-(SUM(L27:W27)) -> 500 | K27: =IF(J27<0,"ATENÇÃO","OK") -> OK | L27: 0 | M27: 0 | N27: 0 | O27: 0 | P27: 0 | Q27: 0 | R27: 0 | S27: 0 | T27: 0 | U27: 0
A28: DIAL DEPARTAMENTOS EIRELI EPP | B28: 6 | C28: 25 | D28: PINCEL ATOMICO NA COR AZUL, PONTA OBLÍQUA (CHANFRADA), COM REGISTRO NO INMETRO. | E28: Peça | F28: J.STAMP | G28: 33.90.30.16 | H28: 0.82 | I28: 24 | J28: =I28-(SUM(L28:W28)) -> 24 | K28: =IF(J28<0,"ATENÇÃO","OK") -> OK | L28: 0 | M28: 0 | N28: 0 | O28: 0 | P28: 0 | Q28: 0 | R28: 0 | S28: 0 | T28: 0 | U28: 0
C29: 26 | D29: PINCEL ATOMICO NA COR PRETA PONTA OBLÍQUA (CHANFRADA), COM REGISTRO NO INMETRO. | E29: Peça | F29: J.STAMP | G29: 33.90.30.16 | H29: 0.82 | I29: 24 | J29: =I29-(SUM(L29:W29)) -> 24 | K29: =IF(J29<0,"ATENÇÃO","OK") -> OK
C30: 27 | D30: PINCEL ATOMICO NA COR VERDE PONTA OBLÍQUA (CHANFRADA), COM REGISTRO NO INMETRO. | E30: Peça | F30: J.STAMP | G30: 33.90.30.16 | H30: 0.82 | I30: 24 | J30: =I30-(SUM(L30:W30)) -> 24 | K30: =IF(J30<0,"ATENÇÃO","OK") -> OK
C31: 28 | D31: PINCEL ATOMICO NA COR VERMELHA PONTA OBLÍQUA (CHANFRADA), COM REGISTRO NO INMETRO. | E31: Peça | F31: J.STAMP | G31: 33.90.30.16 | H31: 0.82 | I31: 24 | J31: =I31-(SUM(L31:W31)) -> 24 | K31: =IF(J31<0,"ATENÇÃO","OK") -> OK
C32: 29 | D32: CANETA HIDROGRAFICA FOSFORESCENTE PARA DESTAQUE DE TEXTO, NA COR AMARELA, escrita de aproximadamente 3 mm de largura | E32: Peça | F32: JOCAR | G32: 33.90.30.16 | H32: 0.63 | I32: 72 | J32: =I32-(SUM(L32:W32)) -> 72 | K32: =IF(J32<0,"ATENÇÃO","OK") -> OK
C33: 30 | D33: CANETA HIDROGRAFICA FOSFORESCENTE PARA DESTAQUE DE TEXTO, NA COR VERDE, escrita de aproximadamente 3 mm de largura | E33: Peça | F33: JOCAR | G33: 33.90.30.16 | H33: 0.63 | I33: 72 | J33: =I33-(SUM(L33:W33)) -> 72 | K33: =IF(J33<0,"ATENÇÃO","OK") -> OK
C34: 31 | D34: CANETA ESFEROGRAFICA, COM TINTA ANTI-FRAUDE, com tinta segura e resistente a teste de água e luz composta de resinas termoplástica, tinta a base de solventes corantes orgânicos, ponta tungstênio, 0,7mm, cor preta. Similar a Unni ball Vision Elite. | E34: Peça | F34: UNIBALL | G34: 33.90.30.16 | H34: 5.51 | I34: 30 | J34: =I34-(SUM(L34:W34)) -> 30 | K34: =IF(J34<0,"ATENÇÃO","OK") -> OK
C35: 32 | D35: CANETA HIDROCOR, AVULSA - COR AZUL - PONTA DE 2MM | E35: Peça | F35: COMPACTOR | G35: 33.90.30.16 | H35: 0.57 | J35: =I35-(SUM(L35:W35)) -> 0 | K35: =IF(J35<0,"ATENÇÃO","OK") -> OK
C36: 33 | D36: CANETA HIDROCOR, AVULSA - COR LARANJA - PONTA DE 2MM | E36: Peça | F36: COMPACTOR | G36: 33.90.30.16 | H36: 0.57 | J36: =I36-(SUM(L36:W36)) -> 0 | K36: =IF(J36<0,"ATENÇÃO","OK") -> OK
C37: 34 | D37: CANETA HIDROCOR, AVULSA - COR PRETA - PONTA DE 2MM | E37: Peça | F37: COMPACTOR | G37: 33.90.30.16 | H37: 0.57 | J37: =I37-(SUM(L37:W37)) -> 0 | K37: =IF(J37<0,"ATENÇÃO","OK") -> OK
C38: 35 | D38: CANETA HIDROCOR, AVULSA - COR VERDE - PONTA DE 2MM | E38: Peça | F38: COMPACTOR | G38: 33.90.30.16 | H38: 0.57 | J38: =I38-(SUM(L38:W38)) -> 0 | K38: =IF(J38<0,"ATENÇÃO","OK") -> OK
C39: 36 | D39: CANETA HIDROCOR, AVULSA - COR VERMELHA - PONTA DE 2MM | E39: Peça | F39: COMPACTOR | G39: 33.90.30.16 | H39: 0.57 | J39: =I39-(SUM(L39:W39)) -> 0 | K39: =IF(J39<0,"ATENÇÃO","OK") -> OK
C40: 37 | D40: CANETA HIDROCOR, COM 12 CORES, tamanho grande, lavável, com ponta fina de 2mm, com registro no INMETRO | E40: Jogo | F40: LEONORA | G40: 33.90.30.16 | H40: 2.21 | I40: 10 | J40: =I40-(SUM(L40:W40)) -> 10 | K40: =IF(J40<0,"ATENÇÃO","OK") -> OK
...

Sheet FAED
A1: PROCESSO: 1651/2014/UDESC | D1: OBJETO: AQUISIÇÃO DE MATERIAIS DE EXPEDIENTE PARA A UDESC | I1: VIGÊNCIA DA ATA: 15/04/2015 até 14/04/2016 | L1: AF/OS nº 589/2015 Qtde. DT | M1: AF/OS nº 635/2015 Qtde. DT | N1: AF/OS nº 641/2015 Qtde. DT | O1: AF/OS nº 645/2015 Qtde. DT | P1: AF/OS nº 761/2015 Qtde. DT | Q1: AF/OS nº 1624/2015 Qtde. DT | R1: AF/OS nº 1628/2015 Qtde. DT | S1: AF/OS nº 2050/2015 Qtde. DT | T1: AF/OS nº 2177/2015 Qtde. DT | U1: AF/OS nº 2051/2015 Qtde. DT | V1: AF/OS nº 263/2016 Qtde. DT | W1: AF/OS nº 265/2016 Qtde. DT | X1: AF/OS nº 267/2016 Qtde. DT
A2: CENTRO PARTICIPANTE: FAED
A3: FORNECEDOR | B3: LOTE | C3: ITEM | D3: PRODUTO - CARACTERÍSTICAS MÍNIMAS | E3: UNIDADE | F3: MARCA | G3: DETALHAMENTO | H3: Preço UNITÁRIO (R$) | I3: Qtde Registrada | J3: Saldo / Automático | K3: ALERTA | L3: 42123 | M3: 42129 | N3: 42130 | O3: 42130 | P3: 42138 | Q3: 42257 | R3: 42257 | S3: 42313 | T3: 42321 | U3: 42313 | V3: 42446 | W3: 42446 | X3: 42446
A4: LICITAMIX MAT. DE ESC. LTDA ME | B4: 1 | C4: 1 | D4: AGENDA PERMANENTE, PARA MARCAR COMPROMISSOS, com no mínimo 100 folhas. Com fitilho marcador de páginas, medindo aproximadamente 145 X 205mm | E4: Peça | F4: FTD | G4: 33.90.30.16 | H4: 18.92 | I4: 20 | J4: =I4-(SUM(L4:X4)) -> 15 | K4: =IF(J4<0,"ATENÇÃO","OK") -> OK | L4: 5 | M4: 0 | N4: 0 | O4: 0 | P4: 0 | Q4: 0 | R4: 0 | S4: 0 | T4: 0 | U4: 0 | V4: 0 | W4: 0 | X4: 0
C5: 2 | D5: APAGADOR PARA QUADRO BRANCO, com corpo plástico de alta resistência, base com feltro de no mínimo 2mm. Medidas: comprimento entre 15 e 18 cm; largura igual ou maior que 6 cm; altura entre 3cm e 5cm. Espaço no corpo do apagador para armazenar 2 canetas marcadoras para quadro branco. | E5: Peça | F5: KIT | G5: 33.90.30.16 | H5: 5.3 | I5: 30 | J5: =I5-(SUM(L5:X5)) -> 30 | K5: =IF(J5<0,"ATENÇÃO","OK") -> OK | L5: 0 | M5: 0 | N5: 0 | O5: 0 | P5: 0 | Q5: 0 | R5: 0 | S5: 0 | T5: 0 | U5: 0 | V5: 0 | W5: 0 | X5: 0
A6: DIAL DEPARTAMENTOS EIRELI EPP | B6: 2 | C6: 3 | D6: Aplicador/suporte para fita adesiva de 48mm X 50m, com serrilha e cabo para empacotamento | E6: peça | F6: JOCAR | G6: 33.90.30.16 | H6: 13.68 | I6: 5 | J6: =I6-(SUM(L6:X6)) -> 5 | K6: =IF(J6<0,"ATENÇÃO","OK") -> OK | L6: 0 | M6: 0 | N6: 0 | O6: 0 | P6: 0 | Q6: 0 | R6: 0 | S6: 0 | T6: 0 | U6: 0 | V6: 0 | W6: 0 | X6: 0
C7: 4 | D7: BORRACHA DE PAPELARIA NA COR VERDE PARA COLOCAR NA PARTE DE CIMA LAPIS | E7: peça | F7: LEONORA | G7: 33.90.30.16 | H7: 0.07 | I7: 20 | J7: =I7-(SUM(L7:X7)) -> 0 | K7: =IF(J7<0,"ATENÇÃO","OK") -> OK | L7: 0 | M7: 20 | N7: 0 | O7: 0 | P7: 0 | Q7: 0 | R7: 0 | S7: 0 | T7: 0 | U7: 0 | V7: 0 | W7: 0 | X7: 0
C8: 5 | D8: BORRACHA PLASTICA, COR BRANCA,COM CINTA PLASTICA,MEDINDO 58X34,5X12mm. Com registro no INMETRO. | E8: peça | F8: LEONORA | G8: 33.90.30.16 | H8: 0.7 | I8: 40 | J8: =I8-(SUM(L8:X8)) -> 0 | K8: =IF(J8<0,"ATENÇÃO","OK") -> OK | L8: 0 | M8: 40 | N8: 0 | O8: 0 | P8: 0 | Q8: 0 | R8: 0 | S8: 0 | T8: 0 | U8: 0 | V8: 0 | W8: 0 | X8: 0
C9: 6 | D9: BARBANTE DE ALGODAO, com 08 (oito) fios, ROLO COM APROXIMADAMENTE 400 GRAMAS | E9: peça | F9: KOREA | G9: 33.90.30.16 | H9: 5.74 | I9: 10 | J9: =I9-(SUM(L9:X9)) -> 10 | K9: =IF(J9<0,"ATENÇÃO","OK") -> OK | L9: 0 | M9: 0 | N9: 0 | O9: 0 | P9: 0 | Q9: 0 | R9: 0 | S9: 0 | T9: 0 | U9: 0 | V9: 0 | W9: 0 | X9: 0
C10: 7 | D10: APONTADOR DE LAPIS, DE PLASTICO, TIPO COLEGIAL, Com recipiente para segurar sobras do lápis apontado, medindo aproximadamente 5 cm | E10: Peça | F10: LEONORA | G10: 33.90.30.16 | H10: 0.45 | I10: 50 | J10: =I10-(SUM(L10:X10)) -> 30 | K10: =IF(J10<0,"ATENÇÃO","OK") -> OK | L10: 0 | M10: 20 | N10: 0 | O10: 0 | P10: 0 | Q10: 0 | R10: 0 | S10: 0 | T10: 0 | U10: 0 | V10: 0 | W10: 0 | X10: 0
C11: 8 | D11: BANDEJA PARA DOCUMENTOS, EM ACRILICO, COM 1 DIVISÃO, na cor transparente – tamanho A4 | E11: Peça | F11: NOVACRIL | G11: 33.90.30.16 | H11: 9.32 | I11: 20 | J11: =I11-(SUM(L11:X11)) -> 15 | K11: =IF(J11<0,"ATENÇÃO","OK") -> OK | L11: 0 | M11: 5 | N11: 0 | O11: 0 | P11: 0 | Q11: 0 | R11: 0 | S11: 0 | T11: 0 | U11: 0 | V11: 0 | W11: 0 | X11: 0
C12: 9 | D12: BANDEJA PARA DOCUMENTOS, EM ACRILICO, COM 2 DIVISOES, na cor transparente – tamanho A4 | E12: Peça | F12: NOVACRIL | G12: 33.90.30.16 | H12: 18.23 | I12: 20 | J12: =I12-(SUM(L12:X12)) -> 10 | K12: =IF(J12<0,"ATENÇÃO","OK") -> OK | L12: 0 | M12: 10 | N12: 0 | O12: 0 | P12: 0 | Q12: 0 | R12: 0 | S12: 0 | T12: 0 | U12: 0 | V12: 0 | W12: 0 | X12: 0
C13: 10 | D13: BANDEJA PARA DOCUMENTOS, EM ACRILICO, COM 3 DIVISOES, NA COR TRANSPARENTE, TAMANHO A4 | E13: Peça | F13: NOVACRIL | G13: 33.90.30.16 | H13: 28.08 | I13: 20 | J13: =I13-(SUM(L13:X13)) -> 10 | K13: =IF(J13<0,"ATENÇÃO","OK") -> OK | L13: 0 | M13: 10 | N13: 0 | O13: 0 | P13: 0 | Q13: 0 | R13: 0 | S13: 0 | T13: 0 | U13: 0 | V13: 0 | W13: 0 | X13: 0
A14: ALEXANDRA DOS PASSOS EIRELI EPP | B14: 3 | C14: 11 | D14: BLOCO DE RASCUNHO, AUTO ADESIVO, medindo 38 X 51mm, pacote com 4 blocos. Adesivos removíveis com 100 folhas, similar a marca post it. | E14: pacote | F14: MAKE | G14: 33.90.30.16 | H14: 2.06 | I14: 100 | J14: =I14-(SUM(L14:X14)) -> 100 | K14: =IF(J14<0,"ATENÇÃO","OK") -> OK | L14: 0 | M14: 0 | N14: 0 | O14: 0 | P14: 0 | Q14: 0 | R14: 0 | S14: 0 | T14: 0 | U14: 0 | V14: 0 | W14: 0 | X14: 0
C15: 12 | D15: BLOCO DE RASCUNHO, AUTO ADESIVO, medindo 76 X 102mm, pacote com 100 folhas, amarelo, para recados. Adesivos removíveis, similar a marca post it. | E15: Peça | F15: JOCAR | G15: 33.90.30.16 | H15: 1.14 | I15: 50 | J15: =I15-(SUM(L15:X15)) -> 0 | K15: =IF(J15<0,"ATENÇÃO","OK") -> OK | L15: 0 | M15: 0 | N15: 0 | O15: 0 | P15: 0 | Q15: 50 | R15: 0 | S15: 0 | T15: 0 | U15: 0 | V15: 0 | W15: 0 | X15: 0
A16: DIAL DEPARTAMENTOS EIRELI EPP | B16: 4 | C16: 13 | D16: ALFINETE COLORIDO, ponta redonda, CAIXA COM 50 UNIDADES | E16: Caixa | F16: JOCAR | G16: 33.90.30.16 | H16: 1.46 | I16: 10 | J16: =I16-(SUM(L16:X16)) -> 0 | K16: =IF(J16<0,"ATENÇÃO","OK") -> OK | L16: 0 | M16: 10 | N16: 0 | O16: 0 | P16: 0 | Q16: 0 | R16: 0 | S16: 0 | T16: 0 | U16: 0 | V16: 0 | W16: 0 | X16: 0
C17: 14 | D17: APAGADOR, PARA QUADRO NEGRO, em madeira, base com feltro, medindo aproximadamente 15 X 6 X 4cm | E17: Peça | F17: CAGEMA | G17: 33.90.30.16 | H17: 1.59 | I17: 10 | J17: =I17-(SUM(L17:X17)) -> 10 | K17: =IF(J17<0,"ATENÇÃO","OK") -> OK | L17: 0 | M17: 0 | N17: 0 | O17: 0 | P17: 0 | Q17: 0 | R17: 0 | S17: 0 | T17: 0 | U17: 0 | V17: 0 | W17: 0 | X17: 0
C18: 15 | D18: BOBINA DE PAPEL, TÉRMICO, MEDINDO 57MM X 30M, CAIXA COM 10 UNIDADES, 1 via | E18: Caixa | F18: ALLSOMA | G18: 33.90.30.16 | H18: 19.98 | J18: =I18-(SUM(L18:X18)) -> 0 | K18: =IF(J18<0,"ATENÇÃO","OK") -> OK | L18: 0 | M18: 0 | N18: 0 | O18: 0 | P18: 0 | Q18: 0 | R18: 0 | S18: 0 | T18: 0 | U18: 0 | V18: 0 | W18: 0 | X18: 0
C19: 16 | D19: BLOCO DE PAPEL, FLIP CHART COM PICOTE, COM 50 FOLHAS, medindo aproximadamente 64cm X 88cm. | E19: Peça | F19: S.R | G19: 33.90.30.16 | H19: 14.85 | I19: 30 | J19: =I19-(SUM(L19:X19)) -> 30 | K19: =IF(J19<0,"ATENÇÃO","OK") -> OK | L19: 0 | M19: 0 | N19: 0 | O19: 0 | P19: 0 | Q19: 0 | R19: 0 | S19: 0 | T19: 0 | U19: 0 | V19: 0 | W19: 0 | X19: 0
C20: 17 | D20: BOBINA EM PAPEL PARA MAQUINA, BOBINA DE PAPEL TERMICO,MEDINDO 76MM X 40M, COM 1 VIA, | E20: Peça | F20: ALLSOMA | G20: 33.90.30.16 | H20: 3.11 | J20: =I20-(SUM(L20:X20)) -> 0 | K20: =IF(J20<0,"ATENÇÃO","OK") -> OK | L20: 0 | M20: 0 | N20: 0 | O20: 0 | P20: 0 | Q20: 0 | R20: 0 | S20: 0 | T20: 0 | U20: 0 | V20: 0 | W20: 0 | X20: 0
C21: 18 | D21: CADERNO TIPO ESCOLAR, CAPA DURA, TIPO UNIVERSITARIO, COM 200 FOLHAS, Formato 203 X 280mm | E21: Peça | F21: PANAMERICANA | G21: 33.90.30.16 | H21: 4.58 | I21: 20 | J21: =I21-(SUM(L21:X21)) -> 15 | K21: =IF(J21<0,"ATENÇÃO","OK") -> OK | L21: 0 | M21: 5 | N21: 0 | O21: 0 | P21: 0 | Q21: 0 | R21: 0 | S21: 0 | T21: 0 | U21: 0 | V21: 0 | W21: 0 | X21: 0
C22: 19 | D22: CADERNO TIPO ESCOLAR, TAMANHO PEQUENO COM 48 FOLHAS, capa dura tipo brochura. | E22: Peça | F22: PANAMERICANA | G22: 33.90.30.16 | H22: 1.47 | I22: 30 | J22: =I22-(SUM(L22:X22)) -> 25 | K22: =IF(J22<0,"ATENÇÃO","OK") -> OK | L22: 0 | M22: 5 | N22: 0 | O22: 0 | P22: 0 | Q22: 0 | R22: 0 | S22: 0 | T22: 0 | U22: 0 | V22: 0 | W22: 0 | X22: 0
C23: 20 | D23: Calculadora média (portátil), tela inclinada para 12 dígitos, duas fontes de energia e desligamento (bateria e energia solar) telas de raiz quadrada e porcentagem, tela de apagar o último dígito, medidas aproximadas: 9 x 12 cm. | E23: Peça | F23: CLASSE | G23: 33.90.30.16 | H23: 10.13 | I23: 20 | J23: =I23-(SUM(L23:X23)) -> 20 | K23: =IF(J23<0,"ATENÇÃO","OK") -> OK | L23: 0 | M23: 0 | N23: 0 | O23: 0 | P23: 0 | Q23: 0 | R23: 0 | S23: 0 | T23: 0 | U23: 0 | V23: 0 | W23: 0 | X23: 0
A24: ALEXANDRA DOS PASSOS EIRELI EPP | B24: 5 | C24: 21 | D24: CANETA ESFEROGRAFICA, NA COR AZUL, Corpo em poliestireno cristal, com protetor plástico entre a carga e o corpo da caneta; esfera em tungstênio; espessura da ponta de 1,00mm; formato redondo; ponta em latão usinado com esfera de tungstênio; tampa antiasfixiante. MARCA BIC, justificativa da marca anexada no processo e embasada no relatório de análise de produtos do "INMETRO". | E24: Peça | F24: BIC | G24: 33.90.30.16 | H24: 0.39 | I24: 1000 | J24: =I24-(SUM(L24:X24)) -> 350 | K24: =IF(J24<0,"ATENÇÃO","OK") -> OK | L24: 0 | M24: 0 | N24: 300 | O24: 0 | P24: 0 | Q24: 0 | R24: 0 | S24: 0 | T24: 0 | U24: 350 | V24: 0 | W24: 0 | X24: 0
C25: 22 | D25: CANETA ESFEROGRAFICA, NA COR PRETA, Corpo em poliestireno cristal, com protetor plástico entre a carga e o corpo da caneta; esfera em tungstênio;formato redondo; ponta em latão usinado com esfera de tungstênio; tampa antiasfixiante. MARCA BIC, justificativa da marca anexada no processo e embasada no relatório de análise de produtos do "INMETRO". | E25: Peça | F25: BIC | G25: 33.90.30.16 | H25: 0.39 | I25: 800 | J25: =I25-(SUM(L25:X25)) -> 0 | K25: =IF(J25<0,"ATENÇÃO","OK") -> OK | L25: 0 | M25: 0 | N25: 300 | O25: 0 | P25: 0 | Q25: 0 | R25: 0 | S25: 0 | T25: 0 | U25: 500 | V25: 0 | W25: 0 | X25: 0
C26: 23 | D26: CANETA ESFEROGRAFICA, NA COR VERDE, Corpo em poliestireno cristal, com protetor plástico entre a carga e o corpo da caneta; esfera em tungstênio; espessura da ponta de 1,00mm; formato redondo; ponta em latão usinado com esfera de tungstênio; tampa antiasfixiante. MARCA BIC, justificativa da marca anexada no processo e embasada no relatório de análise de produtos do "INMETRO". | E26: Peça | F26: BIC | G26: 33.90.30.16 | H26: 0.33 | I26: 200 | J26: =I26-(SUM(L26:X26)) -> 0 | K26: =IF(J26<0,"ATENÇÃO","OK") -> OK | L26: 0 | M26: 0 | N26: 100 | O26: 0 | P26: 0 | Q26: 0 | R26: 0 | S26: 0 | T26: 0 | U26: 100 | V26: 0 | W26: 0 | X26: 0
C27: 24 | D27: CANETA ESFEROGRAFICA, NA COR VERMELHA, Corpo em poliestireno cristal, com protetor plástico entre a carga e o corpo da caneta; esfera em tungstênio; espessura da ponta de 1,00mm; formato redondo; ponta em latão usinado com esfera de tungstênio; tampa antiasfixiante. MARCA BIC, justificativa da marca anexada no processo e embasada no relatório de análise de produtos do "INMETRO". | E27: Peça | F27: BIC | G27: 33.90.30.16 | H27: 0.33 | I27: 400 | J27: =I27-(SUM(L27:X27)) -> 200 | K27: =IF(J27<0,"ATENÇÃO","OK") -> OK | L27: 0 | M27: 0 | N27: 0 | O27: 0 | P27: 0 | Q27: 0 | R27: 0 | S27: 0 | T27: 0 | U27: 200 | V27: 0 | W27: 0 | X27: 0
A28: DIAL DEPARTAMENTOS EIRELI EPP | B28: 6 | C28: 25 | D28: PINCEL ATOMICO NA COR AZUL, PONTA OBLÍQUA (CHANFRADA), COM REGISTRO NO INMETRO. | E28: Peça | F28: J.STAMP | G28: 33.90.30.16 | H28: 0.82 | I28: 20 | J28: =I28-(SUM(L28:X28)) -> 0 | K28: =IF(J28<0,"ATENÇÃO","OK") -> OK | L28: 0 | M28: 20 | N28: 0 | O28: 0 | P28: 0 | Q28: 0 | R28: 0 | S28: 0 | T28: 0 | U28: 0 | V28: 0 | W28: 0 | X28: 0
C29: 26 | D29: PINCEL ATOMICO NA COR PRETA PONTA OBLÍQUA (CHANFRADA), COM REGISTRO NO INMETRO. | E29: Peça | F29: J.STAMP | G29: 33.90.30.16 | H29: 0.82 | I29: 20 | J29: =I29-(SUM(L29:X29)) -> 0 | K29: =IF(J29<0,"ATENÇÃO","OK") -> OK | M29: 20 | V29: 0 | W29: 0 | X29: 0
C30: 27 | D30: PINCEL ATOMICO NA COR VERDE PONTA OBLÍQUA (CHANFRADA), COM REGISTRO NO INMETRO. | E30: Peça | F30: J.STAMP | G30: 33.90.30.16 | H30: 0.82 | I30: 10 | J30: =I30-(SUM(L30:X30)) -> 0 | K30: =IF(J30<0,"ATENÇÃO","OK") -> OK | M30: 10 | V30: 0 | W30: 0 | X30: 0
C31: 28 | D31: PINCEL ATOMICO NA COR VERMELHA PONTA OBLÍQUA (CHANFRADA), COM REGISTRO NO INMETRO. | E31: Peça | F31: J.STAMP | G31: 33.90.30.16 | H31: 0.82 | I31: 10 | J31: =I31-(SUM(L31:X31)) -> 0 | K31: =IF(J31<0,"ATENÇÃO","OK") -> OK | M31: 10 | V31: 0 | W31: 0 | X31: 0
C32: 29 | D32: CANETA HIDROGRAFICA FOSFORESCENTE PARA DESTAQUE DE TEXTO, NA COR AMARELA, escrita de aproximadamente 3 mm de largura | E32: Peça | F32: JOCAR | G32: 33.90.30.16 | H32: 0.63 | I32: 60 | J32: =I32-(SUM(L32:X32)) -> 30 | K32: =IF(J32<0,"ATENÇÃO","OK") -> OK | M32: 30 | V32: 0 | W32: 0 | X32: 0
C33: 30 | D33: CANETA HIDROGRAFICA FOSFORESCENTE PARA DESTAQUE DE TEXTO, NA COR VERDE, escrita de aproximadamente 3 mm de largura | E33: Peça | F33: JOCAR | G33: 33.90.30.16 | H33: 0.63 | I33: 30 | J33: =I33-(SUM(L33:X33)) -> 15 | K33: =IF(J33<0,"ATENÇÃO","OK") -> OK | M33: 15 | V33: 0 | W33: 0 | X33: 0
C34: 31 | D34: CANETA ESFEROGRAFICA, COM TINTA ANTI-FRAUDE, com tinta segura e resistente a teste de água e luz composta de resinas termoplástica, tinta a base de solventes corantes orgânicos, ponta tungstênio, 0,7mm, cor preta. Similar a Unni ball Vision Elite. | E34: Peça | F34: UNIBALL | G34: 33.90.30.16 | H34: 5.51 | I34: 10 | J34: =I34-(SUM(L34:X34)) -> 10 | K34: =IF(J34<0,"ATENÇÃO","OK") -> OK | V34: 0 | W34: 0 | X34: 0
C35: 32 | D35: CANETA HIDROCOR, AVULSA - COR AZUL - PONTA DE 2MM | E35: Peça | F35: COMPACTOR | G35: 33.90.30.16 | H35: 0.57 | I35: 10 | J35: =I35-(SUM(L35:X35)) -> 10 | K35: =IF(J35<0,"ATENÇÃO","OK") -> OK | V35: 0 | W35: 0 | X35: 0
C36: 33 | D36: CANETA HIDROCOR, AVULSA - COR LARANJA - PONTA DE 2MM | E36: Peça | F36: COMPACTOR | G36: 33.90.30.16 | H36: 0.57 | I36: 10 | J36: =I36-(SUM(L36:X36)) -> 10 | K36: =IF(J36<0,"ATENÇÃO","OK") -> OK | V36: 0 | W36: 0 | X36: 0
C37: 34 | D37: CANETA HIDROCOR, AVULSA - COR PRETA - PONTA DE 2MM | E37: Peça | F37: COMPACTOR | G37: 33.90.30.16 | H37: 0.57 | I37: 10 | J37: =I37-(SUM(L37:X37)) -> 10 | K37: =IF(J37<0,"ATENÇÃO","OK") -> OK | V37: 0 | W37: 0 | X37: 0
C38: 35 | D38: CANETA HIDROCOR, AVULSA - COR VERDE - PONTA DE 2MM | E38: Peça | F38: COMPACTOR | G38: 33.90.30.16 | H38: 0.57 | I38: 10 | J38: =I38-(SUM(L38:X38)) -> 10 | K38: =IF(J38<0,"ATENÇÃO","OK") -> OK | V38: 0 | W38: 0 | X38: 0
C39: 36 | D39: CANETA HIDROCOR, AVULSA - COR VERMELHA - PONTA DE 2MM | E39: Peça | F39: COMPACTOR | G39: 33.90.30.16 | H39: 0.57 | I39: 10 | J39: =I39-(SUM(L39:X39)) -> 10 | K39: =IF(J39<0,"ATENÇÃO","OK") -> OK | V39: 0 | W39: 0 | X39: 0
C40: 37 | D40: CANETA HIDROCOR, COM 12 CORES, tamanho grande, lavável, com ponta fina de 2mm, com registro no INMETRO | E40: Jogo | F40: LEONORA | G40: 33.90.30.16 | H40: 2.21 | I40: 30 | J40: =I40-(SUM(L40:X40)) -> 30 | K40: =IF(J40<0,"ATENÇÃO","OK") -> OK | V40: 0 | W40: 0 | X40: 0
...

Sheet CEAD
A1: PROCESSO: 1651/2014/UDESC | D1: OBJETO: AQUISIÇÃO DE MATERIAIS DE EXPEDIENTE PARA A UDESC | I1: VIGÊNCIA DA ATA: 15/04/2015 até 14/04/2016 | L1: AF/OS nº 931/2015 Qtde. DT | M1: AF/OS nº 915/2015 Qtde. DT | N1: AF/OS nº 770/2015 Qtde. DT | O1: AF/OS nº 877/2015 Qtde. DT | P1: AF/OS nº 2117/2015 Qtde. DT
A2: CENTRO PARTICIPANTE: CEAD
A3: FORNECEDOR | B3: LOTE | C3: ITEM | D3: PRODUTO - CARACTERÍSTICAS MÍNIMAS | E3: UNIDADE | F3: MARCA | G3: DETALHAMENTO | H3: Preço UNITÁRIO (R$) | I3: Qtde Registrada | J3: Saldo / Automático | K3: ALERTA | L3: 42166 | M3: 42164 | N3: 42152 | O3: 42152 | P3: 42314
