Workbook
Name diasuteis: #REF!
Name diasuteis: #REF!
Name diasuteis: #REF!
Name diasuteis: #REF!
Name diasuteis: #REF!
Name diasuteis: #REF!
Name diasuteis: #REF!
Name diasuteis: #REF!
Name diasuteis: #REF!
Name diasuteis: #REF!
Name diasuteis: #REF!
Name diasuteis: #REF!
Name diasuteis: #REF!
Name diasuteis: #REF!
Name diasuteis: #REF!
Name diasuteis: #REF!
Name diasuteis: #REF!
Name Ferias: #REF!
Name Ferias: #REF!
Name Ferias: #REF!
Name Ferias: #REF!
Name Ferias: #REF!
Name Ferias: #REF!
Name Ferias: #REF!
Name Ferias: #REF!
Name Ferias: #REF!
Name RD: OFFSET(#REF!,(MATCH(SMALL(#REF!,ROW()-10),#REF!,0)-1),0)
Name RD: OFFSET(#REF!,(MATCH(SMALL(#REF!,ROW()-10),#REF!,0)-1),0)
Name RD: OFFSET(#REF!,(MATCH(SMALL(#REF!,ROW()-10),#REF!,0)-1),0)
Name RD: OFFSET(#REF!,(MATCH(SMALL(#REF!,ROW()-10),#REF!,0)-1),0)
Name RD: OFFSET(#REF!,(MATCH(SMALL(#REF!,ROW()-10),#REF!,0)-1),0)
Name RD: OFFSET(#REF!,(MATCH(SMALL(#REF!,ROW()-10),#REF!,0)-1),0)
Name RD: OFFSET(#REF!,(MATCH(SMALL(#REF!,ROW()-10),#REF!,0)-1),0)
Name RD: OFFSET(#REF!,(MATCH(SMALL(#REF!,ROW()-10),#REF!,0)-1),0)
Name RD: OFFSET(#REF!,(MATCH(SMALL(#REF!,ROW()-10),#REF!,0)-1),0)

Sheet Reit-PROAD
A1: PROCESSO: 1605/2015/UDESC | D1: OBJETO: : CONTRATAÇÃO DE AGÊNCIA DE TURISMO PARA PRESTAÇÃO DE SERVIÇOS DE COTAÇÃO, RESERVA E EMISSÃO DE HOSPEDAGEM EM HOTÉIS E DEMAIS SERVIÇOS NECESSÁRIOS E CORRELATOS PARA 2016 PARA A UDESC. | F1: VIGÊNCIA DA ATA: 04/02/2016 até 03/02/2017 | I1: OS nº 778/2016 Qtde. DT | J1: AF/OS nº xxxx/2016 Qtde. DT | K1: AF/OS nº xxxx/2016 Qtde. DT | L1: AF/OS nº xxxx/2016 Qtde. DT | M1: AF/OS nº xxxx/2016 Qtde. DT | N1: AF/OS nº xxxx/2016 Qtde. DT | O1: AF/OS nº xxxx/2016 Qtde. DT | P1: AF/OS nº xxxx/2016 Qtde. DT | Q1: AF/OS nº xxxx/2016 Qtde. DT | R1: AF/OS nº xxxx/2016 Qtde. DT | S1: AF/OS nº xxxx/2016 Qtde. DT | T1: AF/OS nº xxxx/2016 Qtde. DT
A2: CENTRO PARTICIPANTE: REITORIA PROAD
A3: FORNECEDOR | B3: LOTE | C3: ITEM | D3: PRODUTO - CARACTERÍSTICAS MÍNIMAS | E3: DESCONTO MÍNIMO % | F3: Qtde Registrada | G3: Saldo / Automático | H3: ALERTA | I3: 42565 | J3: ...../...../...... | K3: ...../...../...... | L3: ...../...../...... | M3: ...../...../...... | N3: ...../...../...... | O3: ...../...../...... | P3: ...../...../...... | Q3: ...../...../...... | R3: ...../...../...... | S3: ...../...../...... | T3: ...../...../......
A4: Arancíbia Turismo Ltda (MA Travel - Soluções em viagens) | B4: 1 | C4: 1 | D4: Hospedagem (Diária) De R$ 500,00 a 301,00 | E4: 0.09 | G4: =F4-(SUM(I4:T4)) -> 0 | H4: =IF(G4<0,"ATENÇÃO","OK") -> OK | I4: 0 | J4: 0 | K4: 0 | L4: 0 | M4: 0 | N4: 0 | O4: 0 | P4: 0 | Q4: 0 | R4: 0 | S4: 0 | T4: 0
C5: 2 | D5: Hospedagem (Diária) De R$ 300,00 a 201,00 | E5: 0.09 | F5: 20 | G5: =F5-(SUM(I5:T5)) -> 19 | H5: =IF(G5<0,"ATENÇÃO","OK") -> OK | I5: 1 | J5: 0 | K5: 0 | L5: 0 | M5: 0 | N5: 0 | O5: 0 | P5: 0 | Q5: 0 | R5: 0 | S5: 0 | T5: 0
C6: 3 | D6: Hospedagem (Diária) De R$ 200,00 a 101,00 | E6: 0.09 | F6: =50+50 -> 100 | G6: =F6-(SUM(I6:T6)) -> 85 | H6: =IF(G6<0,"ATENÇÃO","OK") -> OK | I6: 15 | J6: 0 | K6: 0 | L6: 0 | M6: 0 | N6: 0 | O6: 0 | P6: 0 | Q6: 0 | R6: 0 | S6: 0 | T6: 0
C7: 4 | D7: Hospedagem (Diária) Abaixo de R$ 100,00 | E7: 0.085 | F7: =30-20 -> 10 | G7: =F7-(SUM(I7:T7)) -> 10 | H7: =IF(G7<0,"ATENÇÃO","OK") -> OK | I7: 0 | J7: 0 | K7: 0 | L7: 0 | M7: 0 | N7: 0 | O7: 0 | P7: 0 | Q7: 0 | R7: 0 | S7: 0 | T7: 0
C8: 5 | D8: Alimentação (Almoço e/ou Jantar por pessoa) De R$ 100,00 a 51,00 | E8: 0.08 | F8: 30 | G8: =F8-(SUM(I8:T8)) -> 29 | H8: =IF(G8<0,"ATENÇÃO","OK") -> OK | I8: 1 | J8: 0 | K8: 0 | L8: 0 | M8: 0 | N8: 0 | O8: 0 | P8: 0 | Q8: 0 | R8: 0 | S8: 0 | T8: 0
C9: 6 | D9: Alimentação (Almoço e/ou Jantar por pessoa) Abaixo de R$ 50,00 | E9: 0.068 | F9: 150 | G9: =F9-(SUM(I9:T9)) -> 147 | H9: =IF(G9<0,"ATENÇÃO","OK") -> OK | I9: 3 | J9: 0 | K9: 0 | L9: 0 | M9: 0 | N9: 0 | O9: 0 | P9: 0 | Q9: 0 | R9: 0 | S9: 0 | T9: 0

Sheet Reit-PROEN
A1: PROCESSO: 1605/2015/UDESC | D1: OBJETO: : CONTRATAÇÃO DE AGÊNCIA DE TURISMO PARA PRESTAÇÃO DE SERVIÇOS DE COTAÇÃO, RESERVA E EMISSÃO DE HOSPEDAGEM EM HOTÉIS E DEMAIS SERVIÇOS NECESSÁRIOS E CORRELATOS PARA 2016 PARA A UDESC. | F1: VIGÊNCIA DA ATA: 04/02/2016 até 03/02/2017 | I1: OS nº 778/2016 Qtde. DT | J1: AF/OS nº xxxx/2016 Qtde. DT | K1: AF/OS nº xxxx/2016 Qtde. DT | L1: AF/OS nº xxxx/2016 Qtde. DT | M1: AF/OS nº xxxx/2016 Qtde. DT | N1: AF/OS nº xxxx/2016 Qtde. DT | O1: AF/OS nº xxxx/2016 Qtde. DT | P1: AF/OS nº xxxx/2016 Qtde. DT | Q1: AF/OS nº xxxx/2016 Qtde. DT | R1: AF/OS nº xxxx/2016 Qtde. DT | S1: AF/OS nº xxxx/2016 Qtde. DT | T1: AF/OS nº xxxx/2016 Qtde. DT
A2: CENTRO PARTICIPANTE: REITORIA PROEN
A3: FORNECEDOR | B3: LOTE | C3: ITEM | D3: PRODUTO - CARACTERÍSTICAS MÍNIMAS | E3: DESCONTO MÍNIMO % | F3: Qtde Registrada | G3: Saldo / Automático | H3: ALERTA | I3: 42565 | J3: ...../...../...... | K3: ...../...../...... | L3: ...../...../...... | M3: ...../...../...... | N3: ...../...../...... | O3: ...../...../...... | P3: ...../...../...... | Q3: ...../...../...... | R3: ...../...../...... | S3: ...../...../...... | T3: ...../...../......
A4: Arancíbia Turismo Ltda (MA Travel - Soluções em viagens) | B4: 1 | C4: 1 | D4: Hospedagem (Diária) De R$ 500,00 a 301,00 | E4: 0.09 | G4: =F4-(SUM(I4:T4)) -> 0 | H4: =IF(G4<0,"ATENÇÃO","OK") -> OK | I4: 0 | J4: 0 | K4: 0 | L4: 0 | M4: 0 | N4: 0 | O4: 0 | P4: 0 | Q4: 0 | R4: 0 | S4: 0 | T4: 0
C5: 2 | D5: Hospedagem (Diária) De R$ 300,00 a 201,00 | E5: 0.09 | F5: 4 | G5: =F5-(SUM(I5:T5)) -> 0 | H5: =IF(G5<0,"ATENÇÃO","OK") -> OK | I5: 4 | J5: 0 | K5: 0 | L5: 0 | M5: 0 | N5: 0 | O5: 0 | P5: 0 | Q5: 0 | R5: 0 | S5: 0 | T5: 0
C6: 3 | D6: Hospedagem (Diária) De R$ 200,00 a 101,00 | E6: 0.09 | G6: =F6-(SUM(I6:T6)) -> 0 | H6: =IF(G6<0,"ATENÇÃO","OK") -> OK | I6: 0 | J6: 0 | K6: 0 | L6: 0 | M6: 0 | N6: 0 | O6: 0 | P6: 0 | Q6: 0 | R6: 0 | S6: 0 | T6: 0
C7: 4 | D7: Hospedagem (Diária) Abaixo de R$ 100,00 | E7: 0.085 | G7: =F7-(SUM(I7:T7)) -> 0 | H7: =IF(G7<0,"ATENÇÃO","OK") -> OK | I7: 0 | J7: 0 | K7: 0 | L7: 0 | M7: 0 | N7: 0 | O7: 0 | P7: 0 | Q7: 0 | R7: 0 | S7: 0 | T7: 0
C8: 5 | D8: Alimentação (Almoço e/ou Jantar por pessoa) De R$ 100,00 a 51,00 | E8: 0.08 | F8: 4 | G8: =F8-(SUM(I8:T8)) -> 0 | H8: =IF(G8<0,"ATENÇÃO","OK") -> OK | I8: 4 | J8: 0 | K8: 0 | L8: 0 | M8: 0 | N8: 0 | O8: 0 | P8: 0 | Q8: 0 | R8: 0 | S8: 0 | T8: 0
C9: 6 | D9: Alimentação (Almoço e/ou Jantar por pessoa) Abaixo de R$ 50,00 | E9: 0.068 | F9: 12 | G9: =F9-(SUM(I9:T9)) -> 0 | H9: =IF(G9<0,"ATENÇÃO","OK") -> OK | I9: 12 | J9: 0 | K9: 0 | L9: 0 | M9: 0 | N9: 0 | O9: 0 | P9: 0 | Q9: 0 | R9: 0 | S9: 0 | T9: 0

Sheet Reit-PROEX
A1: PROCESSO: 1605/2015/UDESC | D1: OBJETO: : CONTRATAÇÃO DE AGÊNCIA DE TURISMO PARA PRESTAÇÃO DE SERVIÇOS DE COTAÇÃO, RESERVA E EMISSÃO DE HOSPEDAGEM EM HOTÉIS E DEMAIS SERVIÇOS NECESSÁRIOS E CORRELATOS PARA 2016 PARA A UDESC. | F1: VIGÊNCIA DA ATA: 04/02/2016 até 03/02/2017 | I1: OS nº 737/2016 Qtde. DT | J1: OS nº 778/2016 Qtde. DT | K1: AF/OS nº xxxx/2016 Qtde. DT | L1: AF/OS nº xxxx/2016 Qtde. DT | M1: AF/OS nº xxxx/2016 Qtde. DT | N1: AF/OS nº xxxx/2016 Qtde. DT | O1: AF/OS nº xxxx/2016 Qtde. DT | P1: AF/OS nº xxxx/2016 Qtde. DT | Q1: AF/OS nº xxxx/2016 Qtde. DT | R1: AF/OS nº xxxx/2016 Qtde. DT | S1: AF/OS nº xxxx/2016 Qtde. DT | T1: AF/OS nº xxxx/2016 Qtde. DT
A2: CENTRO PARTICIPANTE: REITORIA PROEX
A3: FORNECEDOR | B3: LOTE | C3: ITEM | D3: PRODUTO - CARACTERÍSTICAS MÍNIMAS | E3: DESCONTO MÍNIMO % | F3: Qtde Registrada | G3: Saldo / Automático | H3: ALERTA | I3: 42558 | J3: 42565 | K3: ...../...../...... | L3: ...../...../...... | M3: ...../...../...... | N3: ...../...../...... | O3: ...../...../...... | P3: ...../...../...... | Q3: ...../...../...... | R3: ...../...../...... | S3: ...../...../...... | T3: ...../...../......
A4: Arancíbia Turismo Ltda (MA Travel - Soluções em viagens) | B4: 1 | C4: 1 | D4: Hospedagem (Diária) De R$ 500,00 a 301,00 | E4: 0.09 | F4: 40 | G4: =F4-(SUM(I4:T4)) -> 25 | H4: =IF(G4<0,"ATENÇÃO","OK") -> OK | I4: 15 | J4: 0 | K4: 0 | L4: 0 | M4: 0 | N4: 0 | O4: 0 | P4: 0 | Q4: 0 | R4: 0 | S4: 0 | T4: 0
C5: 2 | D5: Hospedagem (Diária) De R$ 300,00 a 201,00 | E5: 0.09 | F5: =350-50 -> 300 | G5: =F5-(SUM(I5:T5)) -> 245 | H5: =IF(G5<0,"ATENÇÃO","OK") -> OK | I5: 25 | J5: 30 | K5: 0 | L5: 0 | M5: 0 | N5: 0 | O5: 0 | P5: 0 | Q5: 0 | R5: 0 | S5: 0 | T5: 0
C6: 3 | D6: Hospedagem (Diária) De R$ 200,00 a 101,00 | E6: 0.09 | F6: =100-30+50-20 -> 100 | G6: =F6-(SUM(I6:T6)) -> 0 | H6: =IF(G6<0,"ATENÇÃO","OK") -> OK | I6: 100 | J6: 0 | K6: 0 | L6: 0 | M6: 0 | N6: 0 | O6: 0 | P6: 0 | Q6: 0 | R6: 0 | S6: 0 | T6: 0
C7: 4 | D7: Hospedagem (Diária) Abaixo de R$ 100,00 | E7: 0.085 | G7: =F7-(SUM(I7:T7)) -> 0 | H7: =IF(G7<0,"ATENÇÃO","OK") -> OK | I7: 0 | J7: 0 | K7: 0 | L7: 0 | M7: 0 | N7: 0 | O7: 0 | P7: 0 | Q7: 0 | R7: 0 | S7: 0 | T7: 0
C8: 5 | D8: Alimentação (Almoço e/ou Jantar por pessoa) De R$ 100,00 a 51,00 | E8: 0.08 | F8: 20 | G8: =F8-(SUM(I8:T8)) -> 20 | H8: =IF(G8<0,"ATENÇÃO","OK") -> OK | I8: 0 | J8: 0 | K8: 0 | L8: 0 | M8: 0 | N8: 0 | O8: 0 | P8: 0 | Q8: 0 | R8: 0 | S8: 0 | T8: 0
C9: 6 | D9: Alimentação (Almoço e/ou Jantar por pessoa) Abaixo de R$ 50,00 | E9: 0.068 | F9: =1500-40 -> 1460 | G9: =F9-(SUM(I9:T9)) -> 1460 | H9: =IF(G9<0,"ATENÇÃO","OK") -> OK | I9: 0 | J9: 0 | K9: 0 | L9: 0 | M9: 0 | N9: 0 | O9: 0 | P9: 0 | Q9: 0 | R9: 0 | S9: 0 | T9: 0

Sheet Reit-Museu
A1: PROCESSO: 1605/2015/UDESC | D1: OBJETO: : CONTRATAÇÃO DE AGÊNCIA DE TURISMO PARA PRESTAÇÃO DE SERVIÇOS DE COTAÇÃO, RESERVA E EMISSÃO DE HOSPEDAGEM EM HOTÉIS E DEMAIS SERVIÇOS NECESSÁRIOS E CORRELATOS PARA 2016 PARA A UDESC. | F1: VIGÊNCIA DA ATA: 04/02/2016 até 03/02/2017 | I1: AF/OS nº xxxx/2016 Qtde. DT | J1: AF/OS nº xxxx/2016 Qtde. DT | K1: AF/OS nº xxxx/2016 Qtde. DT | L1: AF/OS nº xxxx/2016 Qtde. DT | M1: AF/OS nº xxxx/2016 Qtde. DT | N1: AF/OS nº xxxx/2016 Qtde. DT | O1: AF/OS nº xxxx/2016 Qtde. DT | P1: AF/OS nº xxxx/2016 Qtde. DT | Q1: AF/OS nº xxxx/2016 Qtde. DT | R1: AF/OS nº xxxx/2016 Qtde. DT | S1: AF/OS nº xxxx/2016 Qtde. DT | T1: AF/OS nº xxxx/2016 Qtde. DT
A2: CENTRO PARTICIPANTE: REITORIA MUSEU
A3: FORNECEDOR | B3: LOTE | C3: ITEM | D3: PRODUTO - CARACTERÍSTICAS MÍNIMAS | E3: DESCONTO MÍNIMO % | F3: Qtde Registrada | G3: Saldo / Automático | H3: ALERTA | I3: ...../...../...... | J3: ...../...../...... | K3: ...../...../...... | L3: ...../...../...... | M3: ...../...../...... | N3: ...../...../...... | O3: ...../...../...... | P3: ...../...../...... | Q3: ...../...../...... | R3: ...../...../...... | S3: ...../...../...... | T3: ...../...../......
A4: Arancíbia Turismo Ltda (MA Travel - Soluções em viagens) | B4: 1 | C4: 1 | D4: Hospedagem (Diária) De R$ 500,00 a 301,00 | E4: 0.09 | G4: =F4-(SUM(I4:T4)) -> 0 | H4: =IF(G4<0,"ATENÇÃO","OK") -> OK | I4: 0 | J4: 0 | K4: 0 | L4: 0 | M4: 0 | N4: 0 | O4: 0 | P4: 0 | Q4: 0 | R4: 0 | S4: 0 | T4: 0
C5: 2 | D5: Hospedagem (Diária) De R$ 300,00 a 201,00 | E5: 0.09 | F5: 10 | G5: =F5-(SUM(I5:T5)) -> 10 | H5: =IF(G5<0,"ATENÇÃO","OK") -> OK | I5: 0 | J5: 0 | K5: 0 | L5: 0 | M5: 0 | N5: 0 | O5: 0 | P5: 0 | Q5: 0 | R5: 0 | S5: 0 | T5: 0
C6: 3 | D6: Hospedagem (Diária) De R$ 200,00 a 101,00 | E6: 0.09 | G6: =F6-(SUM(I6:T6)) -> 0 | H6: =IF(G6<0,"ATENÇÃO","OK") -> OK | I6: 0 | J6: 0 | K6: 0 | L6: 0 | M6: 0 | N6: 0 | O6: 0 | P6: 0 | Q6: 0 | R6: 0 | S6: 0 | T6: 0
C7: 4 | D7: Hospedagem (Diária) Abaixo de R$ 100,00 | E7: 0.085 | G7: =F7-(SUM(I7:T7)) -> 0 | H7: =IF(G7<0,"ATENÇÃO","OK") -> OK | I7: 0 | J7: 0 | K7: 0 | L7: 0 | M7: 0 | N7: 0 | O7: 0 | P7: 0 | Q7: 0 | R7: 0 | S7: 0 | T7: 0
C8: 5 | D8: Alimentação (Almoço e/ou Jantar por pessoa) De R$ 100,00 a 51,00 | E8: 0.08 | F8: 10 | G8: =F8-(SUM(I8:T8)) -> 10 | H8: =IF(G8<0,"ATENÇÃO","OK") -> OK | I8: 0 | J8: 0 | K8: 0 | L8: 0 | M8: 0 | N8: 0 | O8: 0 | P8: 0 | Q8: 0 | R8: 0 | S8: 0 | T8: 0
C9: 6 | D9: Alimentação (Almoço e/ou Jantar por pessoa) Abaixo de R$ 50,00 | E9: 0.068 | G9: =F9-(SUM(I9:T9)) -> 0 | H9: =IF(G9<0,"ATENÇÃO","OK") -> OK | I9: 0 | J9: 0 | K9: 0 | L9: 0 | M9: 0 | N9: 0 | O9: 0 | P9: 0 | Q9: 0 | R9: 0 | S9: 0 | T9: 0

Sheet ESAG
A1: PROCESSO: 1605/2015/UDESC | D1: OBJETO: : CONTRATAÇÃO DE AGÊNCIA DE TURISMO PARA PRESTAÇÃO DE SERVIÇOS DE COTAÇÃO, RESERVA E EMISSÃO DE HOSPEDAGEM EM HOTÉIS E DEMAIS SERVIÇOS NECESSÁRIOS E CORRELATOS PARA 2016 PARA A UDESC. | F1: VIGÊNCIA DA ATA: 04/02/2016 até 03/02/2017 | I1: AF/OS nº 297/2016 Qtde. DT | J1: AF/OS nº 553/2016 Qtde. DT | K1: AF/OS nº xxxx/2016 Qtde. DT | L1: AF/OS nº xxxx/2016 Qtde. DT | M1: AF/OS nº xxxx/2016 Qtde. DT | N1: AF/OS nº xxxx/2016 Qtde. DT | O1: AF/OS nº xxxx/2016 Qtde. DT | P1: AF/OS nº xxxx/2016 Qtde. DT | Q1: AF/OS nº xxxx/2016 Qtde. DT | R1: AF/OS nº xxxx/2016 Qtde. DT | S1: AF/OS nº xxxx/2016 Qtde. DT | T1: AF/OS nº xxxx/2016 Qtde. DT
A2: CENTRO PARTICIPANTE: ESAG
A3: FORNECEDOR | B3: LOTE | C3: ITEM | D3: PRODUTO - CARACTERÍSTICAS MÍNIMAS | E3: DESCONTO MÍNIMO % | F3: Qtde Registrada | G3: Saldo / Automático | H3: ALERTA | I3: ...../...../...... | J3: ...../...../...... | K3: ...../...../...... | L3: ...../...../...... | M3: ...../...../...... | N3: ...../...../...... | O3: ...../...../...... | P3: ...../...../...... | Q3: ...../...../...... | R3: ...../...../...... | S3: ...../...../...... | T3: ...../...../......
A4: Arancíbia Turismo Ltda (MA Travel - Soluções em viagens) | B4: 1 | C4: 1 | D4: Hospedagem (Diária) De R$ 500,00 a 301,00 | E4: 0.09 | F4: 10 | G4: =F4-(SUM(I4:T4)) -> 10 | H4: =IF(G4<0,"ATENÇÃO","OK") -> OK | K4: 0 | L4: 0 | M4: 0 | N4: 0 | O4: 0 | P4: 0 | Q4: 0 | R4: 0 | S4: 0 | T4: 0
C5: 2 | D5: Hospedagem (Diária) De R$ 300,00 a 201,00 | E5: 0.09 | F5: 10 | G5: =F5-(SUM(I5:T5)) -> 10 | H5: =IF(G5<0,"ATENÇÃO","OK") -> OK | K5: 0 | L5: 0 | M5: 0 | N5: 0 | O5: 0 | P5: 0 | Q5: 0 | R5: 0 | S5: 0 | T5: 0
C6: 3 | D6: Hospedagem (Diária) De R$ 200,00 a 101,00 | E6: 0.09 | F6: =170-50 -> 120 | G6: =F6-(SUM(I6:T6)) -> 97 | H6: =IF(G6<0,"ATENÇÃO","OK") -> OK | I6: 20 | J6: 3 | K6: 0 | L6: 0 | M6: 0 | N6: 0 | O6: 0 | P6: 0 | Q6: 0 | R6: 0 | S6: 0 | T6: 0
C7: 4 | D7: Hospedagem (Diária) Abaixo de R$ 100,00 | E7: 0.085 | F7: 50 | G7: =F7-(SUM(I7:T7)) -> 50 | H7: =IF(G7<0,"ATENÇÃO","OK") -> OK | K7: 0 | L7: 0 | M7: 0 | N7: 0 | O7: 0 | P7: 0 | Q7: 0 | R7: 0 | S7: 0 | T7: 0
C8: 5 | D8: Alimentação (Almoço e/ou Jantar por pessoa) De R$ 100,00 a 51,00 | E8: 0.08 | F8: 20 | G8: =F8-(SUM(I8:T8)) -> 17 | H8: =IF(G8<0,"ATENÇÃO","OK") -> OK | J8: 3 | K8: 0 | L8: 0 | M8: 0 | N8: 0 | O8: 0 | P8: 0 | Q8: 0 | R8: 0 | S8: 0 | T8: 0
C9: 6 | D9: Alimentação (Almoço e/ou Jantar por pessoa) Abaixo de R$ 50,00 | E9: 0.068 | F9: 240 | G9: =F9-(SUM(I9:T9)) -> 220 | H9: =IF(G9<0,"ATENÇÃO","OK") -> OK | I9: 20 | K9: 0 | L9: 0 | M9: 0 | N9: 0 | O9: 0 | P9: 0 | Q9: 0 | R9: 0 | S9: 0 | T9: 0

Sheet CEART
A1: PROCESSO: 1605/2015/UDESC | D1: OBJETO: : CONTRATAÇÃO DE AGÊNCIA DE TURISMO PARA PRESTAÇÃO DE SERVIÇOS DE COTAÇÃO, RESERVA E EMISSÃO DE HOSPEDAGEM EM HOTÉIS E DEMAIS SERVIÇOS NECESSÁRIOS E CORRELATOS PARA 2016 PARA A UDESC. | F1: VIGÊNCIA DA ATA: 04/02/2016 até 03/02/2017 | I1: AF/OS nº 437/2016 Qtde. DT PROAP/PPGAV E1659 | J1: AF/OS nº 443/2016 Qtde. DT PROAP/PPGT E1669 | K1: AF/OS nº 443/2016 Qtde. DT PROAP/PPGMUS E1670 | L1: AF/OS nº 446/2016 Qtde. DT PAEX E1693 | M1: AF/OS nº 446/2016 Qtde. DT PRAPEG E1694 | N1: AF/OS nº xxxx/2016 Qtde. DT | O1: AF/OS nº xxxx/2016 Qtde. DT | P1: AF/OS nº xxxx/2016 Qtde. DT | Q1: AF/OS nº xxxx/2016 Qtde. DT | R1: AF/OS nº xxxx/2016 Qtde. DT | S1: AF/OS nº xxxx/2016 Qtde. DT | T1: AF/OS nº xxxx/2016 Qtde. DT
A2: CENTRO PARTICIPANTE: CEART
A3: FORNECEDOR | B3: LOTE | C3: ITEM | D3: PRODUTO - CARACTERÍSTICAS MÍNIMAS | E3: DESCONTO MÍNIMO % | F3: Qtde Registrada | G3: Saldo / Automático | H3: ALERTA | I3: 42492 | J3: 42493 | K3: 42493 | L3: 42493 | M3: 42493 | N3: ...../...../...... | O3: ...../...../...... | P3: ...../...../...... | Q3: ...../...../...... | R3: ...../...../...... | S3: ...../...../...... | T3: ...../...../......
A4: Arancíbia Turismo Ltda (MA Travel - Soluções em viagens) | B4: 1 | C4: 1 | D4: Hospedagem (Diária) De R$ 500,00 a 301,00 | E4: 0.09 | G4: =F4-(SUM(I4:T4)) -> 0 | H4: =IF(G4<0,"ATENÇÃO","OK") -> OK | I4: 0 | J4: 0 | K4: 0 | L4: 0 | M4: 0 | N4: 0 | O4: 0 | P4: 0 | Q4: 0 | R4: 0 | S4: 0 | T4: 0
C5: 2 | D5: Hospedagem (Diária) De R$ 300,00 a 201,00 | E5: 0.09 | F5: =50 -> 50 | G5: =F5-(SUM(I5:T5)) -> 50 | H5: =IF(G5<0,"ATENÇÃO","OK") -> OK | I5: 0 | J5: 0 | K5: 0 | L5: 0 | M5: 0 | N5: 0 | O5: 0 | P5: 0 | Q5: 0 | R5: 0 | S5: 0 | T5: 0
C6: 3 | D6: Hospedagem (Diária) De R$ 200,00 a 101,00 | E6: 0.09 | F6: =400-50-50 -> 300 | G6: =F6-(SUM(I6:T6)) -> 231 | H6: =IF(G6<0,"ATENÇÃO","OK") -> OK | I6: 11 | J6: 8 | K6: 7 | L6: 35 | M6: 8 | N6: 0 | O6: 0 | P6: 0 | Q6: 0 | R6: 0 | S6: 0 | T6: 0
C7: 4 | D7: Hospedagem (Diária) Abaixo de R$ 100,00 | E7: 0.085 | G7: =F7-(SUM(I7:T7)) -> 0 | H7: =IF(G7<0,"ATENÇÃO","OK") -> OK | I7: 0 | J7: 0 | K7: 0 | L7: 0 | M7: 0 | N7: 0 | O7: 0 | P7: 0 | Q7: 0 | R7: 0 | S7: 0 | T7: 0
C8: 5 | D8: Alimentação (Almoço e/ou Jantar por pessoa) De R$ 100,00 a 51,00 | E8: 0.08 | G8: =F8-(SUM(I8:T8)) -> 0 | H8: =IF(G8<0,"ATENÇÃO","OK") -> OK | I8: 0 | J8: 0 | K8: 0 | L8: 0 | M8: 0 | N8: 0 | O8: 0 | P8: 0 | Q8: 0 | R8: 0 | S8: 0 | T8: 0
C9: 6 | D9: Alimentação (Almoço e/ou Jantar por pessoa) Abaixo de R$ 50,00 | E9: 0.068 | F9: 250 | G9: =F9-(SUM(I9:T9)) -> 130 | H9: =IF(G9<0,"ATENÇÃO","OK") -> OK | I9: 20 | J9: 14 | K9: 12 | L9: 60 | M9: 14 | N9: 0 | O9: 0 | P9: 0 | Q9: 0 | R9: 0 | S9: 0 | T9: 0

Sheet FAED
A1: PROCESSO: 1605/2015/UDESC | D1: OBJETO: : CONTRATAÇÃO DE AGÊNCIA DE TURISMO PARA PRESTAÇÃO DE SERVIÇOS DE COTAÇÃO, RESERVA E EMISSÃO DE HOSPEDAGEM EM HOTÉIS E DEMAIS SERVIÇOS NECESSÁRIOS E CORRELATOS PARA 2016 PARA A UDESC. | F1: VIGÊNCIA DA ATA: 04/02/2016 até 03/02/2017 | I1: AF/OS nº 510/2016 Qtde. DT - PAEX | J1: AF/OS nº 588/2016 Qtde. DT | K1: AF/OS nº 697/2016 Qtde. DT - PRAPEG | L1: AF/OS nº 774/2016 Qtde. DT - PET-GEO | M1: AF/OS nº 852/2016 Qtde. DT | N1: AF/OS nº xxxx/2016 Qtde. DT | O1: AF/OS nº xxxx/2016 Qtde. DT | P1: AF/OS nº xxxx/2016 Qtde. DT | Q1: AF/OS nº xxxx/2016 Qtde. DT | R1: AF/OS nº xxxx/2016 Qtde. DT | S1: AF/OS nº xxxx/2016 Qtde. DT | T1: AF/OS nº xxxx/2016 Qtde. DT
A2: CENTRO PARTICIPANTE: FAED
A3: FORNECEDOR | B3: LOTE | C3: ITEM | D3: PRODUTO - CARACTERÍSTICAS MÍNIMAS | E3: DESCONTO MÍNIMO % | F3: Qtde Registrada | G3: Saldo / Automático | H3: ALERTA | I3: 42507 | J3: 42521 | K3: 42544 | L3: 42565 | M3: 42578 | N3: ...../...../...... | O3: ...../...../...... | P3: ...../...../...... | Q3: ...../...../...... | R3: ...../...../...... | S3: ...../...../...... | T3: ...../...../......
A4: Arancíbia Turismo Ltda (MA Travel - Soluções em viagens) | B4: 1 | C4: 1 | D4: Hospedagem (Diária) De R$ 500,00 a 301,00 | E4: 0.09 | F4: 2 | G4: =F4-(SUM(I4:T4)) -> 2 | H4: =IF(G4<0,"ATENÇÃO","OK") -> OK | I4: 0 | J4: 0 | K4: 0 | L4: 0 | M4: 0 | N4: 0 | O4: 0 | P4: 0 | Q4: 0 | R4: 0 | S4: 0 | T4: 0
C5: 2 | D5: Hospedagem (Diária) De R$ 300,00 a 201,00 | E5: 0.09 | F5: 42 | G5: =F5-(SUM(I5:T5)) -> 12 | H5: =IF(G5<0,"ATENÇÃO","OK") -> OK | I5: 22 | J5: 8 | K5: 0 | L5: 0 | M5: 0 | N5: 0 | O5: 0 | P5: 0 | Q5: 0 | R5: 0 | S5: 0 | T5: 0
C6: 3 | D6: Hospedagem (Diária) De R$ 200,00 a 101,00 | E6: 0.09 | F6: =2+20+20 -> 42 | G6: =F6-(SUM(I6:T6)) -> 0 | H6: =IF(G6<0,"ATENÇÃO","OK") -> OK | I6: 2 | J6: 0 | K6: 20 | L6: 0 | M6: 20 | N6: 0 | O6: 0 | P6: 0 | Q6: 0 | R6: 0 | S6: 0 | T6: 0
C7: 4 | D7: Hospedagem (Diária) Abaixo de R$ 100,00 | E7: 0.085 | F7: =20 -> 20 | G7: =F7-(SUM(I7:T7)) -> 0 | H7: =IF(G7<0,"ATENÇÃO","OK") -> OK | I7: 0 | J7: 0 | K7: 0 | L7: 20 | M7: 0 | N7: 0 | O7: 0 | P7: 0 | Q7: 0 | R7: 0 | S7: 0 | T7: 0
C8: 5 | D8: Alimentação (Almoço e/ou Jantar por pessoa) De R$ 100,00 a 51,00 | E8: 0.08 | F8: 25 | G8: =F8-(SUM(I8:T8)) -> 12 | H8: =IF(G8<0,"ATENÇÃO","OK") -> OK | I8: 5 | J8: 8 | K8: 0 | L8: 0 | M8: 0 | N8: 0 | O8: 0 | P8: 0 | Q8: 0 | R8: 0 | S8: 0 | T8: 0
C9: 6 | D9: Alimentação (Almoço e/ou Jantar por pessoa) Abaixo de R$ 50,00 | E9: 0.068 | F9: =10+40 -> 50 | G9: =F9-(SUM(I9:T9)) -> 0 | H9: =IF(G9<0,"ATENÇÃO","OK") -> OK | I9: 10 | J9: 0 | K9: 0 | L9: 0 | M9: 40 | N9: 0 | O9: 0 | P9: 0 | Q9: 0 | R9: 0 | S9: 0 | T9: 0

Sheet CEAD
A1: PROCESSO: 1605/2015/UDESC | D1: OBJETO: : CONTRATAÇÃO DE AGÊNCIA DE TURISMO PARA PRESTAÇÃO DE SERVIÇOS DE COTAÇÃO, RESERVA E EMISSÃO DE HOSPEDAGEM EM HOTÉIS E DEMAIS SERVIÇOS NECESSÁRIOS E CORRELATOS PARA 2016 PARA A UDESC. | F1: VIGÊNCIA DA ATA: 04/02/2016 até 03/02/2017 | I1: AF/OS nº 861/2016 Qtde. DT | J1: AF/OS nº xxxx/2016 Qtde. DT | K1: AF/OS nº xxxx/2016 Qtde. DT | L1: AF/OS nº xxxx/2016 Qtde. DT | M1: AF/OS nº xxxx/2016 Qtde. DT | N1: AF/OS nº xxxx/2016 Qtde. DT | O1: AF/OS nº xxxx/2016 Qtde. DT | P1: AF/OS nº xxxx/2016 Qtde. DT | Q1: AF/OS nº xxxx/2016 Qtde. DT | R1: AF/OS nº xxxx/2016 Qtde. DT | S1: AF/OS nº xxxx/2016 Qtde. DT | T1: AF/OS nº xxxx/2016 Qtde. DT
A2: CENTRO PARTICIPANTE: CEAD
A3: FORNECEDOR | B3: LOTE | C3: ITEM | D3: PRODUTO - CARACTERÍSTICAS MÍNIMAS | E3: DESCONTO MÍNIMO % | F3: Qtde Registrada | G3: Saldo / Automático | H3: ALERTA | I3: 42583 | J3: ...../...../...... | K3: ...../...../...... | L3: ...../...../...... | M3: ...../...../...... | N3: ...../...../...... | O3: ...../...../...... | P3: ...../...../...... | Q3: ...../...../...... | R3: ...../...../...... | S3: ...../...../...... | T3: ...../...../......
A4: Arancíbia Turismo Ltda (MA Travel - Soluções em viagens) | B4: 1 | C4: 1 | D4: Hospedagem (Diária) De R$ 500,00 a 301,00 | E4: 0.09 | G4: =F4-(SUM(I4:T4)) -> 0 | H4: =IF(G4<0,"ATENÇÃO","OK") -> OK | I4: 0 | J4: 0 | K4: 0 | L4: 0 | M4: 0 | N4: 0 | O4: 0 | P4: 0 | Q4: 0 | R4: 0 | S4: 0 | T4: 0
C5: 2 | D5: Hospedagem (Diária) De R$ 300,00 a 201,00 | E5: 0.09 | F5: 75 | G5: =F5-(SUM(I5:T5)) -> 75 | H5: =IF(G5<0,"ATENÇÃO","OK") -> OK | I5: 0 | J5: 0 | K5: 0 | L5: 0 | M5: 0 | N5: 0 | O5: 0 | P5: 0 | Q5: 0 | R5: 0 | S5: 0 | T5: 0
C6: 3 | D6: Hospedagem (Diária) De R$ 200,00 a 101,00 | E6: 0.09 | F6: 55 | G6: =F6-(SUM(I6:T6)) -> 36 | H6: =IF(G6<0,"ATENÇÃO","OK") -> OK | I6: 19 | J6: 0 | K6: 0 | L6: 0 | M6: 0 | N6: 0 | O6: 0 | P6: 0 | Q6: 0 | R6: 0 | S6: 0 | T6: 0
C7: 4 | D7: Hospedagem (Diária) Abaixo de R$ 100,00 | E7: 0.085 | G7: =F7-(SUM(I7:T7)) -> 0 | H7: =IF(G7<0,"ATENÇÃO","OK") -> OK | I7: 0 | J7: 0 | K7: 0 | L7: 0 | M7: 0 | N7: 0 | O7: 0 | P7: 0 | Q7: 0 | R7: 0 | S7: 0 | T7: 0
C8: 5 | D8: Alimentação (Almoço e/ou Jantar por pessoa) De R$ 100,00 a 51,00 | E8: 0.08 | F8: 40 | G8: =F8-(SUM(I8:T8)) -> 40 | H8: =IF(G8<0,"ATENÇÃO","OK") -> OK | I8: 0 | J8: 0 | K8: 0 | L8: 0 | M8: 0 | N8: 0 | O8: 0 | P8: 0 | Q8: 0 | R8: 0 | S8: 0 | T8: 0
C9: 6 | D9: Alimentação (Almoço e/ou Jantar por pessoa) Abaixo de R$ 50,00 | E9: 0.068 | F9: 160 | G9: =F9-(SUM(I9:T9)) -> 126 | H9: =IF(G9<0,"ATENÇÃO","OK") -> OK | I9: 34 | J9: 0 | K9: 0 | L9: 0 | M9: 0 | N9: 0 | O9: 0 | P9: 0 | Q9: 0 | R9: 0 | S9: 0 | T9: 0

Sheet CEFID
A1: PROCESSO: 1605/2015/UDESC | D1: OBJETO: : CONTRATAÇÃO DE AGÊNCIA DE TURISMO PARA PRESTAÇÃO DE SERVIÇOS DE COTAÇÃO, RESERVA E EMISSÃO DE HOSPEDAGEM EM HOTÉIS E DEMAIS SERVIÇOS NECESSÁRIOS E CORRELATOS PARA 2016 PARA A UDESC. | F1: VIGÊNCIA DA ATA: 04/02/2016 até 03/02/2017 | I1: AF/OS nº 112/2016 Qtde. DT | J1: AF/OS nº 167/2016 Qtde. DT | K1: AF/OS nº 334/2016 Qtde. DT | L1: AF/OS nº 574/2016 Qtde. DT | M1: AF/OS nº xxxx/2016 Qtde. DT | N1: AF/OS nº xxxx/2016 Qtde. DT | O1: AF/OS nº xxxx/2016 Qtde. DT | P1: AF/OS nº xxxx/2016 Qtde. DT | Q1: AF/OS nº xxxx/2016 Qtde. DT | R1: AF/OS nº xxxx/2016 Qtde. DT | S1: AF/OS nº xxxx/2016 Qtde. DT | T1: AF/OS nº xxxx/2016 Qtde. DT
A2: CENTRO PARTICIPANTE: CEFID
A3: FORNECEDOR | B3: LOTE | C3: ITEM | D3: PRODUTO - CARACTERÍSTICAS MÍNIMAS | E3: DESCONTO MÍNIMO % | F3: Qtde Registrada | G3: Saldo / Automático | H3: ALERTA | I3: 42416 | J3: 42433 | K3: 42464 | L3: ...../...../...... | M3: ...../...../...... | N3: ...../...../...... | O3: ...../...../...... | P3: ...../...../...... | Q3: ...../...../...... | R3: ...../...../...... | S3: ...../...../...... | T3: ...../...../......
A4: Arancíbia Turismo Ltda (MA Travel - Soluções em viagens) | B4: 1 | C4: 1 | D4: Hospedagem (Diária) De R$ 500,00 a 301,00 | E4: 0.09 | F4: 6 | G4: =F4-(SUM(I4:T4)) -> 1 | H4: =IF(G4<0,"ATENÇÃO","OK") -> OK | I4: 0 | J4: 0 | K4: 5 | L4: 0 | M4: 0 | N4: 0 | O4: 0 | P4: 0 | Q4: 0 | R4: 0 | S4: 0 | T4: 0
C5: 2 | D5: Hospedagem (Diária) De R$ 300,00 a 201,00 | E5: 0.09 | F5: 20 | G5: =F5-(SUM(I5:T5)) -> 0 | H5: =IF(G5<0,"ATENÇÃO","OK") -> OK | I5: 0 | J5: 20 | K5: 0 | L5: 0 | M5: 0 | N5: 0 | O5: 0 | P5: 0 | Q5: 0 | R5: 0 | S5: 0 | T5: 0
C6: 3 | D6: Hospedagem (Diária) De R$ 200,00 a 101,00 | E6: 0.09 | F6: 125 | G6: =F6-(SUM(I6:T6)) -> 90 | H6: =IF(G6<0,"ATENÇÃO","OK") -> OK | I6: 5 | J6: 0 | K6: 0 | L6: 30 | M6: 0 | N6: 0 | O6: 0 | P6: 0 | Q6: 0 | R6: 0 | S6: 0 | T6: 0
C7: 4 | D7: Hospedagem (Diária) Abaixo de R$ 100,00 | E7: 0.085 | G7: =F7-(SUM(I7:T7)) -> 0 | H7: =IF(G7<0,"ATENÇÃO","OK") -> OK | I7: 0 | J7: 0 | K7: 0 | L7: 0 | M7: 0 | N7: 0 | O7: 0 | P7: 0 | Q7: 0 | R7: 0 | S7: 0 | T7: 0
C8: 5 | D8: Alimentação (Almoço e/ou Jantar por pessoa) De R$ 100,00 a 51,00 | E8: 0.08 | F8: 40 | G8: =F8-(SUM(I8:T8)) -> 30 | H8: =IF(G8<0,"ATENÇÃO","OK") -> OK | I8: 0 | J8: 0 | K8: 10 | L8: 0 | M8: 0 | N8: 0 | O8: 0 | P8: 0 | Q8: 0 | R8: 0 | S8: 0 | T8: 0
C9: 6 | D9: Alimentação (Almoço e/ou Jantar por pessoa) Abaixo de R$ 50,00 | E9: 0.068 | F9: 270 | G9: =F9-(SUM(I9:T9)) -> 165 | H9: =IF(G9<0,"ATENÇÃO","OK") -> OK | I9: 5 | J9: 40 | K9: 0 | L9: 60 | M9: 0 | N9: 0 | O9: 0 | P9: 0 | Q9: 0 | R9: 0 | S9: 0 | T9: 0

Sheet CERES
A1: PROCESSO: 1605/2015/UDESC | D1: OBJETO: : CONTRATAÇÃO DE AGÊNCIA DE TURISMO PARA PRESTAÇÃO DE SERVIÇOS DE COTAÇÃO, RESERVA E EMISSÃO DE HOSPEDAGEM EM HOTÉIS E DEMAIS SERVIÇOS NECESSÁRIOS E CORRELATOS PARA 2016 PARA A UDESC. | F1: VIGÊNCIA DA ATA: 04/02/2016 até 03/02/2017 | I1: AF/OS nº 482/2016 Qtde. DT | J1: AF/OS nº xxxx/2016 Qtde. DT | K1: AF/OS nº xxxx/2016 Qtde. DT | L1: AF/OS nº xxxx/2016 Qtde. DT | M1: AF/OS nº xxxx/2016 Qtde. DT | N1: AF/OS nº xxxx/2016 Qtde. DT | O1: AF/OS nº xxxx/2016 Qtde. DT | P1: AF/OS nº xxxx/2016 Qtde. DT | Q1: AF/OS nº xxxx/2016 Qtde. DT | R1: AF/OS nº xxxx/2016 Qtde. DT | S1: AF/OS nº xxxx/2016 Qtde. DT | T1: AF/OS nº xxxx/2016 Qtde. DT
A2: CENTRO PARTICIPANTE: CERES
A3: FORNECEDOR | B3: LOTE | C3: ITEM | D3: PRODUTO - CARACTERÍSTICAS MÍNIMAS | E3: DESCONTO MÍNIMO % | F3: Qtde Registrada | G3: Saldo / Automático | H3: ALERTA | I3: 42502 | J3: ...../...../...... | K3: ...../...../...... | L3: ...../...../...... | M3: ...../...../...... | N3: ...../...../...... | O3: ...../...../...... | P3: ...../...../...... | Q3: ...../...../...... | R3: ...../...../...... | S3: ...../...../...... | T3: ...../...../......
A4: Arancíbia Turismo Ltda (MA Travel - Soluções em viagens) | B4: 1 | C4: 1 | D4: Hospedagem (Diária) De R$ 500,00 a 301,00 | E4: 0.09 | G4: =F4-(SUM(I4:T4)) -> 0 | H4: =IF(G4<0,"ATENÇÃO","OK") -> OK | I4: 0 | J4: 0 | K4: 0 | L4: 0 | M4: 0 | N4: 0 | O4: 0 | P4: 0 | Q4: 0 | R4: 0 | S4: 0 | T4: 0
C5: 2 | D5: Hospedagem (Diária) De R$ 300,00 a 201,00 | E5: 0.09 | F5: 10 | G5: =F5-(SUM(I5:T5)) -> 10 | H5: =IF(G5<0,"ATENÇÃO","OK") -> OK | I5: 0 | J5: 0 | K5: 0 | L5: 0 | M5: 0 | N5: 0 | O5: 0 | P5: 0 | Q5: 0 | R5: 0 | S5: 0 | T5: 0
C6: 3 | D6: Hospedagem (Diária) De R$ 200,00 a 101,00 | E6: 0.09 | F6: 65 | G6: =F6-(SUM(I6:T6)) -> 60 | H6: =IF(G6<0,"ATENÇÃO","OK") -> OK | I6: 5 | J6: 0 | K6: 0 | L6: 0 | M6: 0 | N6: 0 | O6: 0 | P6: 0 | Q6: 0 | R6: 0 | S6: 0 | T6: 0
C7: 4 | D7: Hospedagem (Diária) Abaixo de R$ 100,00 | E7: 0.085 | F7: 5 | G7: =F7-(SUM(I7:T7)) -> 5 | H7: =IF(G7<0,"ATENÇÃO","OK") -> OK | I7: 0 | J7: 0 | K7: 0 | L7: 0 | M7: 0 | N7: 0 | O7: 0 | P7: 0 | Q7: 0 | R7: 0 | S7: 0 | T7: 0
C8: 5 | D8: Alimentação (Almoço e/ou Jantar por pessoa) De R$ 100,00 a 51,00 | E8: 0.08 | F8: 18 | G8: =F8-(SUM(I8:T8)) -> 18 | H8: =IF(G8<0,"ATENÇÃO","OK") -> OK | I8: 0 | J8: 0 | K8: 0 | L8: 0 | M8: 0 | N8: 0 | O8: 0 | P8: 0 | Q8: 0 | R8: 0 | S8: 0 | T8: 0
C9: 6 | D9: Alimentação (Almoço e/ou Jantar por pessoa) Abaixo de R$ 50,00 | E9: 0.068 | F9: 135 | G9: =F9-(SUM(I9:T9)) -> 135 | H9: =IF(G9<0,"ATENÇÃO","OK") -> OK | I9: 0 | J9: 0 | K9: 0 | L9: 0 | M9: 0 | N9: 0 | O9: 0 | P9: 0 | Q9: 0 | R9: 0 | S9: 0 | T9: 0

Sheet CESFI
A1: PROCESSO: 1605/2015/UDESC | D1: OBJETO: : CONTRATAÇÃO DE AGÊNCIA DE TURISMO PARA PRESTAÇÃO DE SERVIÇOS DE COTAÇÃO, RESERVA E EMISSÃO DE HOSPEDAGEM EM HOTÉIS E DEMAIS SERVIÇOS NECESSÁRIOS E CORRELATOS PARA 2016 PARA A UDESC. | F1: VIGÊNCIA DA ATA: 04/02/2016 até 03/02/2017 | I1: AF/OS nº 165/2016 Qtde. DT | J1: AF/OS nº xxxx/2016 Qtde. DT | K1: AF/OS nº xxxx/2016 Qtde. DT | L1: AF/OS nº xxxx/2016 Qtde. DT | M1: AF/OS nº xxxx/2016 Qtde. DT | N1: AF/OS nº xxxx/2016 Qtde. DT | O1: AF/OS nº xxxx/2016 Qtde. DT | P1: AF/OS nº xxxx/2016 Qtde. DT | Q1: AF/OS nº xxxx/2016 Qtde. DT | R1: AF/OS nº xxxx/2016 Qtde. DT | S1: AF/OS nº xxxx/2016 Qtde. DT | T1: AF/OS nº xxxx/2016 Qtde. DT
A2: CENTRO PARTICIPANTE: CESFI
A3: FORNECEDOR | B3: LOTE | C3: ITEM | D3: PRODUTO - CARACTERÍSTICAS MÍNIMAS | E3: DESCONTO MÍNIMO % | F3: Qtde Registrada | G3: Saldo / Automático | H3: ALERTA | I3: 42431 | J3: ...../...../...... | K3: ...../...../...... | L3: ...../...../...... | M3: ...../...../...... | N3: ...../...../...... | O3: ...../...../...... | P3: ...../...../...... | Q3: ...../...../...... | R3: ...../...../...... | S3: ...../...../...... | T3: ...../...../......
A4: Arancíbia Turismo Ltda (MA Travel - Soluções em viagens) | B4: 1 | C4: 1 | D4: Hospedagem (Diária) De R$ 500,00 a 301,00 | E4: 0.09 | F4: 5 | G4: =F4-(SUM(I4:T4)) -> 5 | H4: =IF(G4<0,"ATENÇÃO","OK") -> OK | I4: 0 | J4: 0 | K4: 0 | L4: 0 | M4: 0 | N4: 0 | O4: 0 | P4: 0 | Q4: 0 | R4: 0 | S4: 0 | T4: 0
C5: 2 | D5: Hospedagem (Diária) De R$ 300,00 a 201,00 | E5: 0.09 | F5: 5 | G5: =F5-(SUM(I5:T5)) -> 5 | H5: =IF(G5<0,"ATENÇÃO","OK") -> OK | I5: 0 | J5: 0 | K5: 0 | L5: 0 | M5: 0 | N5: 0 | O5: 0 | P5: 0 | Q5: 0 | R5: 0 | S5: 0 | T5: 0
C6: 3 | D6: Hospedagem (Diária) De R$ 200,00 a 101,00 | E6: 0.09 | F6: =75+10 -> 85 | G6: =F6-(SUM(I6:T6)) -> 70 | H6: =IF(G6<0,"ATENÇÃO","OK") -> OK | I6: 15 | J6: 0 | K6: 0 | L6: 0 | M6: 0 | N6: 0 | O6: 0 | P6: 0 | Q6: 0 | R6: 0 | S6: 0 | T6: 0
C7: 4 | D7: Hospedagem (Diária) Abaixo de R$ 100,00 | E7: 0.085 | G7: =F7-(SUM(I7:T7)) -> 0 | H7: =IF(G7<0,"ATENÇÃO","OK") -> OK | I7: 0 | J7: 0 | K7: 0 | L7: 0 | M7: 0 | N7: 0 | O7: 0 | P7: 0 | Q7: 0 | R7: 0 | S7: 0 | T7: 0
C8: 5 | D8: Alimentação (Almoço e/ou Jantar por pessoa) De R$ 100,00 a 51,00 | E8: 0.08 | F8: 20 | G8: =F8-(SUM(I8:T8)) -> 20 | H8: =IF(G8<0,"ATENÇÃO","OK") -> OK | I8: 0 | J8: 0 | K8: 0 | L8: 0 | M8: 0 | N8: 0 | O8: 0 | P8: 0 | Q8: 0 | R8: 0 | S8: 0 | T8: 0
C9: 6 | D9: Alimentação (Almoço e/ou Jantar por pessoa) Abaixo de R$ 50,00 | E9: 0.068 | F9: 170 | G9: =F9-(SUM(I9:T9)) -> 170 | H9: =IF(G9<0,"ATENÇÃO","OK") -> OK | I9: 0 | J9: 0 | K9: 0 | L9: 0 | M9: 0 | N9: 0 | O9: 0 | P9: 0 | Q9: 0 | R9: 0 | S9: 0 | T9: 0

Sheet CCT
A1: PROCESSO: 1605/2015/UDESC | D1: OBJETO: : CONTRATAÇÃO DE AGÊNCIA DE TURISMO PARA PRESTAÇÃO DE SERVIÇOS DE COTAÇÃO, RESERVA E EMISSÃO DE HOSPEDAGEM EM HOTÉIS E DEMAIS SERVIÇOS NECESSÁRIOS E CORRELATOS PARA 2016 PARA A UDESC. | F1: VIGÊNCIA DA ATA: 04/02/2016 até 03/02/2017 | I1: AF/OS nº 357/2016 Qtde. DT | J1: AF/OS nº 767/2016 Qtde. DT | K1: AF/OS nº xxxx/2016 Qtde. DT | L1: AF/OS nº xxxx/2016 Qtde. DT | M1: AF/OS nº xxxx/2016 Qtde. DT | N1: AF/OS nº xxxx/2016 Qtde. DT | O1: AF/OS nº xxxx/2016 Qtde. DT | P1: AF/OS nº xxxx/2016 Qtde. DT | Q1: AF/OS nº xxxx/2016 Qtde. DT | R1: AF/OS nº xxxx/2016 Qtde. DT | S1: AF/OS nº xxxx/2016 Qtde. DT | T1: AF/OS nº xxxx/2016 Qtde. DT
A2: CENTRO PARTICIPANTE: CCT
A3: FORNECEDOR | B3: LOTE | C3: ITEM | D3: PRODUTO - CARACTERÍSTICAS MÍNIMAS | E3: DESCONTO MÍNIMO % | F3: Qtde Registrada | G3: Saldo / Automático | H3: ALERTA | I3: 42478 | J3: 15/07/2016. | K3: ...../...../...... | L3: ...../...../...... | M3: ...../...../...... | N3: ...../...../...... | O3: ...../...../...... | P3: ...../...../...... | Q3: ...../...../...... | R3: ...../...../...... | S3: ...../...../...... | T3: ...../...../......
A4: Arancíbia Turismo Ltda (MA Travel - Soluções em viagens) | B4: 1 | C4: 1 | D4: Hospedagem (Diária) De R$ 500,00 a 301,00 | E4: 0.09 | F4: 15 | G4: =F4-(SUM(I4:T4)) -> 15 | H4: =IF(G4<0,"ATENÇÃO","OK") -> OK | I4: 0 | J4: 0 | K4: 0 | L4: 0 | M4: 0 | N4: 0 | O4: 0 | P4: 0 | Q4: 0 | R4: 0 | S4: 0 | T4: 0
C5: 2 | D5: Hospedagem (Diária) De R$ 300,00 a 201,00 | E5: 0.09 | F5: 55 | G5: =F5-(SUM(I5:T5)) -> 35 | H5: =IF(G5<0,"ATENÇÃO","OK") -> OK | I5: 20 | J5: 0 | K5: 0 | L5: 0 | M5: 0 | N5: 0 | O5: 0 | P5: 0 | Q5: 0 | R5: 0 | S5: 0 | T5: 0
C6: 3 | D6: Hospedagem (Diária) De R$ 200,00 a 101,00 | E6: 0.09 | F6: 95 | G6: =F6-(SUM(I6:T6)) -> 75 | H6: =IF(G6<0,"ATENÇÃO","OK") -> OK | I6: 20 | J6: 0 | K6: 0 | L6: 0 | M6: 0 | N6: 0 | O6: 0 | P6: 0 | Q6: 0 | R6: 0 | S6: 0 | T6: 0
C7: 4 | D7: Hospedagem (Diária) Abaixo de R$ 100,00 | E7: 0.085 | F7: 100 | G7: =F7-(SUM(I7:T7)) -> 65 | H7: =IF(G7<0,"ATENÇÃO","OK") -> OK | I7: 20 | J7: 15 | K7: 0 | L7: 0 | M7: 0 | N7: 0 | O7: 0 | P7: 0 | Q7: 0 | R7: 0 | S7: 0 | T7: 0
C8: 5 | D8: Alimentação (Almoço e/ou Jantar por pessoa) De R$ 100,00 a 51,00 | E8: 0.08 | F8: 20 | G8: =F8-(SUM(I8:T8)) -> 20 | H8: =IF(G8<0,"ATENÇÃO","OK") -> OK | I8: 0 | J8: 0 | K8: 0 | L8: 0 | M8: 0 | N8: 0 | O8: 0 | P8: 0 | Q8: 0 | R8: 0 | S8: 0 | T8: 0
C9: 6 | D9: Alimentação (Almoço e/ou Jantar por pessoa) Abaixo de R$ 50,00 | E9: 0.068 | F9: 50 | G9: =F9-(SUM(I9:T9)) -> 50 | H9: =IF(G9<0,"ATENÇÃO","OK") -> OK | I9: 0 | J9: 0 | K9: 0 | L9: 0 | M9: 0 | N9: 0 | O9: 0 | P9: 0 | Q9: 0 | R9: 0 | S9: 0 | T9: 0

Sheet CEO
A1: PROCESSO: 1605/2015/UDESC | D1: OBJETO: : CONTRATAÇÃO DE AGÊNCIA DE TURISMO PARA PRESTAÇÃO DE SERVIÇOS DE COTAÇÃO, RESERVA E EMISSÃO DE HOSPEDAGEM EM HOTÉIS E DEMAIS SERVIÇOS NECESSÁRIOS E CORRELATOS PARA 2016 PARA A UDESC. | F1: VIGÊNCIA DA ATA: 04/02/2016 até 03/02/2017 | I1: AF/OS nº 327/2016 Qtde. DT | J1: AF/OS nº 556/2016 Qtde. DT | K1: AF/OS nº 624/2016 Qtde. DT | L1: AF/OS nº 721/2016 Qtde. DT | M1: AF/OS nº 722/2016 Qtde. DT | N1: AF/OS nº 772/2016 Qtde. DT PRAPEG | O1: AF/OS nº 773/2016 Qtde. DT | P1: AF/OS nº 812/2016 Qtde. DT PET | Q1: AF/OS nº xxxx/2016 Qtde. DT | R1: AF/OS nº xxxx/2016 Qtde. DT | S1: AF/OS nº xxxx/2016 Qtde. DT | T1: AF/OS nº xxxx/2016 Qtde. DT
A2: CENTRO PARTICIPANTE: CEO
A3: FORNECEDOR | B3: LOTE | C3: ITEM | D3: PRODUTO - CARACTERÍSTICAS MÍNIMAS | E3: DESCONTO MÍNIMO % | F3: Qtde Registrada | G3: Saldo / Automático | H3: ALERTA | I3: 42475 | J3: 42515 | K3: 42536 | L3: 42557 | M3: 42527 | N3: 42566 | O3: 42573 | P3: 42573 | Q3: ...../...../...... | R3: ...../...../...... | S3: ...../...../...... | T3: ...../...../......
A4: Arancíbia Turismo Ltda (MA Travel - Soluções em viagens) | B4: 1 | C4: 1 | D4: Hospedagem (Diária) De R$ 500,00 a 301,00 | E4: 0.09 | F4: 20 | G4: =F4-(SUM(I4:T4)) -> 20 | H4: =IF(G4<0,"ATENÇÃO","OK") -> OK | I4: 0 | J4: 0 | K4: 0 | L4: 0 | M4: 0 | N4: 0 | O4: 0 | P4: 0 | Q4: 0 | R4: 0 | S4: 0 | T4: 0
C5: 2 | D5: Hospedagem (Diária) De R$ 300,00 a 201,00 | E5: 0.09 | F5: 55 | G5: =F5-(SUM(I5:T5)) -> 52 | H5: =IF(G5<0,"ATENÇÃO","OK") -> OK | I5: 1 | J5: 0 | K5: 0 | L5: 2 | M5: 0 | N5: 0 | O5: 0 | P5: 0 | Q5: 0 | R5: 0 | S5: 0 | T5: 0
C6: 3 | D6: Hospedagem (Diária) De R$ 200,00 a 101,00 | E6: 0.09 | F6: 100 | G6: =F6-(SUM(I6:T6)) -> 73 | H6: =IF(G6<0,"ATENÇÃO","OK") -> OK | I6: 0 | J6: 6 | K6: 2 | L6: 0 | M6: 2 | N6: 2 | O6: 3 | P6: 12 | Q6: 0 | R6: 0 | S6: 0 | T6: 0
C7: 4 | D7: Hospedagem (Diária) Abaixo de R$ 100,00 | E7: 0.085 | F7: 20 | G7: =F7-(SUM(I7:T7)) -> 20 | H7: =IF(G7<0,"ATENÇÃO","OK") -> OK | I7: 0 | J7: 0 | K7: 0 | L7: 0 | M7: 0 | N7: 0 | O7: 0 | P7: 0 | Q7: 0 | R7: 0 | S7: 0 | T7: 0
C8: 5 | D8: Alimentação (Almoço e/ou Jantar por pessoa) De R$ 100,00 a 51,00 | E8: 0.08 | F8: 80 | G8: =F8-(SUM(I8:T8)) -> 80 | H8: =IF(G8<0,"ATENÇÃO","OK") -> OK | I8: 0 | J8: 0 | K8: 0 | L8: 0 | M8: 0 | N8: 0 | O8: 0 | P8: 0 | Q8: 0 | R8: 0 | S8: 0 | T8: 0
C9: 6 | D9: Alimentação (Almoço e/ou Jantar por pessoa) Abaixo de R$ 50,00 | E9: 0.068 | F9: 60 | G9: =F9-(SUM(I9:T9)) -> 59 | H9: =IF(G9<0,"ATENÇÃO","OK") -> OK | I9: 1 | J9: 0 | K9: 0 | L9: 0 | M9: 0 | N9: 0 | O9: 0 | P9: 0 | Q9: 0 | R9: 0 | S9: 0 | T9: 0

Sheet CAV
A1: PROCESSO: 1605/2015/UDESC | D1: OBJETO: : CONTRATAÇÃO DE AGÊNCIA DE TURISMO PARA PRESTAÇÃO DE SERVIÇOS DE COTAÇÃO, RESERVA E EMISSÃO DE HOSPEDAGEM EM HOTÉIS E DEMAIS SERVIÇOS NECESSÁRIOS E CORRELATOS PARA 2016 PARA A UDESC. | F1: VIGÊNCIA DA ATA: 04/02/2016 até 03/02/2017 | I1: AF/OS nº xxxx/2016 Qtde. DT | J1: AF/OS nº xxxx/2016 Qtde. DT | K1: AF/OS nº xxxx/2016 Qtde. DT | L1: AF/OS nº xxxx/2016 Qtde. DT | M1: AF/OS nº xxxx/2016 Qtde. DT | N1: AF/OS nº xxxx/2016 Qtde. DT | O1: AF/OS nº xxxx/2016 Qtde. DT | P1: AF/OS nº xxxx/2016 Qtde. DT | Q1: AF/OS nº xxxx/2016 Qtde. DT | R1: AF/OS nº xxxx/2016 Qtde. DT | S1: AF/OS nº xxxx/2016 Qtde. DT | T1: AF/OS nº xxxx/2016 Qtde. DT
A2: CENTRO PARTICIPANTE: CAV
A3: FORNECEDOR | B3: LOTE | C3: ITEM | D3: PRODUTO - CARACTERÍSTICAS MÍNIMAS | E3: DESCONTO MÍNIMO % | F3: Qtde Registrada | G3: Saldo / Automático | H3: ALERTA | I3: ...../...../...... | J3: ...../...../...... | K3: ...../...../...... | L3: ...../...../...... | M3: ...../...../...... | N3: ...../...../...... | O3: ...../...../...... | P3: ...../...../...... | Q3: ...../...../...... | R3: ...../...../...... | S3: ...../...../...... | T3: ...../...../......
A4: Arancíbia Turismo Ltda (MA Travel - Soluções em viagens) | B4: 1 | C4: 1 | D4: Hospedagem (Diária) De R$ 500,00 a 301,00 | E4: 0.09 | G4: =F4-(SUM(I4:T4)) -> 0 | H4: =IF(G4<0,"ATENÇÃO","OK") -> OK | I4: 0 | J4: 0 | K4: 0 | L4: 0 | M4: 0 | N4: 0 | O4: 0 | P4: 0 | Q4: 0 | R4: 0 | S4: 0 | T4: 0
C5: 2 | D5: Hospedagem (Diária) De R$ 300,00 a 201,00 | E5: 0.09 | G5: =F5-(SUM(I5:T5)) -> 0 | H5: =IF(G5<0,"ATENÇÃO","OK") -> OK | I5: 0 | J5: 0 | K5: 0 | L5: 0 | M5: 0 | N5: 0 | O5: 0 | P5: 0 | Q5: 0 | R5: 0 | S5: 0 | T5: 0
C6: 3 | D6: Hospedagem (Diária) De R$ 200,00 a 101,00 | E6: 0.09 | F6: =120-10 -> 110 | G6: =F6-(SUM(I6:T6)) -> 80 | H6: =IF(G6<0,"ATENÇÃO","OK") -> OK | I6: 30 | J6: 0 | K6: 0 | L6: 0 | M6: 0 | N6: 0 | O6: 0 | P6: 0 | Q6: 0 | R6: 0 | S6: 0 | T6: 0
C7: 4 | D7: Hospedagem (Diária) Abaixo de R$ 100,00 | E7: 0.085 | G7: =F7-(SUM(I7:T7)) -> 0 | H7: =IF(G7<0,"ATENÇÃO","OK") -> OK | I7: 0 | J7: 0 | K7: 0 | L7: 0 | M7: 0 | N7: 0 | O7: 0 | P7: 0 | Q7: 0 | R7: 0 | S7: 0 | T7: 0
C8: 5 | D8: Alimentação (Almoço e/ou Jantar por pessoa) De R$ 100,00 a 51,00 | E8: 0.08 | G8: =F8-(SUM(I8:T8)) -> 0 | H8: =IF(G8<0,"ATENÇÃO","OK") -> OK | I8: 0 | J8: 0 | K8: 0 | L8: 0 | M8: 0 | N8: 0 | O8: 0 | P8: 0 | Q8: 0 | R8: 0 | S8: 0 | T8: 0
C9: 6 | D9: Alimentação (Almoço e/ou Jantar por pessoa) Abaixo de R$ 50,00 | E9: 0.068 | G9: =F9-(SUM(I9:T9)) -> 0 | H9: =IF(G9<0,"ATENÇÃO","OK") -> OK | I9: 0 | J9: 0 | K9: 0 | L9: 0 | M9: 0 | N9: 0 | O9: 0 | P9: 0 | Q9: 0 | R9: 0 | S9: 0 | T9: 0

Sheet CEAVI
A1: PROCESSO: 1605/2015/UDESC | D1: OBJETO: : CONTRATAÇÃO DE AGÊNCIA DE TURISMO PARA PRESTAÇÃO DE SERVIÇOS DE COTAÇÃO, RESERVA E EMISSÃO DE HOSPEDAGEM EM HOTÉIS E DEMAIS SERVIÇOS NECESSÁRIOS E CORRELATOS PARA 2016 PARA A UDESC. | F1: VIGÊNCIA DA ATA: 04/02/2016 até 03/02/2017 | I1: OS nº xxxx/2016 Qtde. DT | J1: AF/OS nº xxxx/2016 Qtde. DT | K1: AF/OS nº xxxx/2016 Qtde. DT | L1: AF/OS nº xxxx/2016 Qtde. DT | M1: AF/OS nº xxxx/2016 Qtde. DT | N1: AF/OS nº xxxx/2016 Qtde. DT | O1: AF/OS nº xxxx/2016 Qtde. DT | P1: AF/OS nº xxxx/2016 Qtde. DT | Q1: AF/OS nº xxxx/2016 Qtde. DT | R1: AF/OS nº xxxx/2016 Qtde. DT | S1: AF/OS nº xxxx/2016 Qtde. DT | T1: AF/OS nº xxxx/2016 Qtde. DT
A2: CENTRO PARTICIPANTE: CEAVI
A3: FORNECEDOR | B3: LOTE | C3: ITEM | D3: PRODUTO - CARACTERÍSTICAS MÍNIMAS | E3: DESCONTO MÍNIMO % | F3: Qtde Registrada | G3: Saldo / Automático | H3: ALERTA | I3: 42502 | J3: ...../...../...... | K3: ...../...../...... | L3: ...../...../...... | M3: ...../...../...... | N3: ...../...../...... | O3: ...../...../...... | P3: ...../...../...... | Q3: ...../...../...... | R3: ...../...../...... | S3: ...../...../...... | T3: ...../...../......
A4: Arancíbia Turismo Ltda (MA Travel - Soluções em viagens) | B4: 1 | C4: 1 | D4: Hospedagem (Diária) De R$ 500,00 a 301,00 | E4: 0.09 | F4: 20 | G4: =F4-(SUM(I4:T4)) -> 20 | H4: =IF(G4<0,"ATENÇÃO","OK") -> OK | I4: 0 | J4: 0 | K4: 0 | L4: 0 | M4: 0 | N4: 0 | O4: 0 | P4: 0 | Q4: 0 | R4: 0 | S4: 0 | T4: 0
C5: 2 | D5: Hospedagem (Diária) De R$ 300,00 a 201,00 | E5: 0.09 | F5: 35 | G5: =F5-(SUM(I5:T5)) -> 35 | H5: =IF(G5<0,"ATENÇÃO","OK") -> OK | I5: 0 | J5: 0 | K5: 0 | L5: 0 | M5: 0 | N5: 0 | O5: 0 | P5: 0 | Q5: 0 | R5: 0 | S5: 0 | T5: 0
C6: 3 | D6: Hospedagem (Diária) De R$ 200,00 a 101,00 | E6: 0.09 | F6: 60 | G6: =F6-(SUM(I6:T6)) -> 58 | H6: =IF(G6<0,"ATENÇÃO","OK") -> OK | I6: 2 | J6: 0 | K6: 0 | L6: 0 | M6: 0 | N6: 0 | O6: 0 | P6: 0 | Q6: 0 | R6: 0 | S6: 0 | T6: 0
C7: 4 | D7: Hospedagem (Diária) Abaixo de R$ 100,00 | E7: 0.085 | F7: 20 | G7: =F7-(SUM(I7:T7)) -> 20 | H7: =IF(G7<0,"ATENÇÃO","OK") -> OK | I7: 0 | J7: 0 | K7: 0 | L7: 0 | M7: 0 | N7: 0 | O7: 0 | P7: 0 | Q7: 0 | R7: 0 | S7: 0 | T7: 0
C8: 5 | D8: Alimentação (Almoço e/ou Jantar por pessoa) De R$ 100,00 a 51,00 | E8: 0.08 | F8: 40 | G8: =F8-(SUM(I8:T8)) -> 40 | H8: =IF(G8<0,"ATENÇÃO","OK") -> OK | I8: 0 | J8: 0 | K8: 0 | L8: 0 | M8: 0 | N8: 0 | O8: 0 | P8: 0 | Q8: 0 | R8: 0 | S8: 0 | T8: 0
C9: 6 | D9: Alimentação (Almoço e/ou Jantar por pessoa) Abaixo de R$ 50,00 | E9: 0.068 | F9: 40 | G9: =F9-(SUM(I9:T9)) -> 38 | H9: =IF(G9<0,"ATENÇÃO","OK") -> OK | I9: 2 | J9: 0 | K9: 0 | L9: 0 | M9: 0 | N9: 0 | O9: 0 | P9: 0 | Q9: 0 | R9: 0 | S9: 0 | T9: 0

Sheet CEPLAN
A1: PROCESSO: 1605/2015/UDESC | D1: OBJETO: : CONTRATAÇÃO DE AGÊNCIA DE TURISMO PARA PRESTAÇÃO DE SERVIÇOS DE COTAÇÃO, RESERVA E EMISSÃO DE HOSPEDAGEM EM HOTÉIS E DEMAIS SERVIÇOS NECESSÁRIOS E CORRELATOS PARA 2016 PARA A UDESC. | F1: VIGÊNCIA DA ATA: 04/02/2016 até 03/02/2017 | I1: AF/OS nº 552/2016 Qtde. DT | J1: AF/OS nº xxxx/2016 Qtde. DT | K1: AF/OS nº xxxx/2016 Qtde. DT | L1: AF/OS nº xxxx/2016 Qtde. DT | M1: AF/OS nº xxxx/2016 Qtde. DT | N1: AF/OS nº xxxx/2016 Qtde. DT | O1: AF/OS nº xxxx/2016 Qtde. DT | P1: AF/OS nº xxxx/2016 Qtde. DT | Q1: AF/OS nº xxxx/2016 Qtde. DT | R1: AF/OS nº xxxx/2016 Qtde. DT | S1: AF/OS nº xxxx/2016 Qtde. DT | T1: AF/OS nº xxxx/2016 Qtde. DT
A2: CENTRO PARTICIPANTE: CEPLAN
A3: FORNECEDOR | B3: LOTE | C3: ITEM | D3: PRODUTO - CARACTERÍSTICAS MÍNIMAS | E3: DESCONTO MÍNIMO % | F3: Qtde Registrada | G3: Saldo / Automático | H3: ALERTA | I3: ...../...../...... | J3: ...../...../...... | K3: ...../...../...... | L3: ...../...../...... | M3: ...../...../...... | N3: ...../...../...... | O3: ...../...../...... | P3: ...../...../...... | Q3: ...../...../...... | R3: ...../...../...... | S3: ...../...../...... | T3: ...../...../......
A4: Arancíbia Turismo Ltda (MA Travel - Soluções em viagens) | B4: 1 | C4: 1 | D4: Hospedagem (Diária) De R$ 500,00 a 301,00 | E4: 0.09 | G4: =F4-(SUM(I4:T4)) -> 0 | H4: =IF(G4<0,"ATENÇÃO","OK") -> OK | I4: 0 | J4: 0 | K4: 0 | L4: 0 | M4: 0 | N4: 0 | O4: 0 | P4: 0 | Q4: 0 | R4: 0 | S4: 0 | T4: 0
C5: 2 | D5: Hospedagem (Diária) De R$ 300,00 a 201,00 | E5: 0.09 | F5: 10 | G5: =F5-(SUM(I5:T5)) -> 9 | H5: =IF(G5<0,"ATENÇÃO","OK") -> OK | I5: 1 | J5: 0 | K5: 0 | L5: 0 | M5: 0 | N5: 0 | O5: 0 | P5: 0 | Q5: 0 | R5: 0 | S5: 0 | T5: 0
C6: 3 | D6: Hospedagem (Diária) De R$ 200,00 a 101,00 | E6: 0.09 | F6: 130 | G6: =F6-(SUM(I6:T6)) -> 130 | H6: =IF(G6<0,"ATENÇÃO","OK") -> OK | I6: 0 | J6: 0 | K6: 0 | L6: 0 | M6: 0 | N6: 0 | O6: 0 | P6: 0 | Q6: 0 | R6: 0 | S6: 0 | T6: 0
C7: 4 | D7: Hospedagem (Diária) Abaixo de R$ 100,00 | E7: 0.085 | G7: =F7-(SUM(I7:T7)) -> 0 | H7: =IF(G7<0,"ATENÇÃO","OK") -> OK | I7: 0 | J7: 0 | K7: 0 | L7: 0 | M7: 0 | N7: 0 | O7: 0 | P7: 0 | Q7: 0 | R7: 0 | S7: 0 | T7: 0
C8: 5 | D8: Alimentação (Almoço e/ou Jantar por pessoa) De R$ 100,00 a 51,00 | E8: 0.08 | F8: 10 | G8: =F8-(SUM(I8:T8)) -> 10 | H8: =IF(G8<0,"ATENÇÃO","OK") -> OK | I8: 0 | J8: 0 | K8: 0 | L8: 0 | M8: 0 | N8: 0 | O8: 0 | P8: 0 | Q8: 0 | R8: 0 | S8: 0 | T8: 0
C9: 6 | D9: Alimentação (Almoço e/ou Jantar por pessoa) Abaixo de R$ 50,00 | E9: 0.068 | F9: 40 | G9: =F9-(SUM(I9:T9)) -> 40 | H9: =IF(G9<0,"ATENÇÃO","OK") -> OK | I9: 0 | J9: 0 | K9: 0 | L9: 0 | M9: 0 | N9: 0 | O9: 0 | P9: 0 | Q9: 0 | R9: 0 | S9: 0 | T9: 0

Sheet GESTOR
A1: PROCESSO: 1605/2015/UDESC | D1: OBJETO: CONTRATAÇÃO DE AGÊNCIA DE TURISMO PARA PRESTAÇÃO DE SERVIÇOS DE COTAÇÃO, RESERVA E EMISSÃO DE HOSPEDAGEM EM HOTÉIS E DEMAIS SERVIÇOS NECESSÁRIOS E CORRELATOS PARA 2016 PARA A UDESC. | F1: VIGÊNCIA DA ATA: 04/02/2016 até 03/02/2017
A2: CENTRO PARTICIPANTE: GESTOR
A3: FORNECEDOR | B3: LOTE | C3: ITEM | D3: PRODUTO - CARACTERÍSTICAS MÍNIMAS | E3: DESCONTO MÍNIMO % | F3: Qtde Registrada | G3: Qtde Utilizada | H3: Saldo | I3: % Utilizado
A4: Arancíbia Turismo Ltda (MA Travel - Soluções em viagens) | B4: 1 | C4: 1 | D4: Hospedagem (Diária) De R$ 500,00 a 301,00 | E4: 0.09 | F4: ='Reit-PROAD'!F4+'Reit-PROEN'!F4+'Reit-PROEX'!F4+'Reit-Museu'!F4+ESAG!F4+CEART!F4+FAED!F4+CEAD!F4+CEFID!F4+CERES!F4+CESFI!F4+CCT!F4+CEO!F4+CAV!F4+CEAVI!F4+CEPLAN!F4 -> 118 | G4: =('Reit-PROAD'!F4-'Reit-PROAD'!G4)+('Reit-PROEN'!F4-'Reit-PROEN'!G4)+('Reit-PROEX'!F4-'Reit-PROEX'!G4)+('Reit-Museu'!F4-'Reit-Museu'!G4)+(ESAG!F4-ESAG!G4)+(CEART!F4-CEART!G4)+(FAED!F4-FAED!G4)+(CEAD!F4-CEAD!G4)+(CEFID!F4-CEFID!G4)+(CERES!F4-CERES!G4)+(CESFI!F4-CESFI!G4)+(CCT!F4-CCT!G4)+(CEO!F4-CEO!G4)+(CAV!F4-CAV!G4)+(CEAVI!F4-CEAVI!G4)+(CEPLAN!F4-CEPLAN!G4) -> 20 | H4: =F4-G4 -> 98 | I4: =G4/F4 -> 0.16949153
C5: 2 | D5: Hospedagem (Diária) De R$ 300,00 a 201,00 | E5: 0.09 | F5: ='Reit-PROAD'!F5+'Reit-PROEN'!F5+'Reit-PROEX'!F5+'Reit-Museu'!F5+ESAG!F5+CEART!F5+FAED!F5+CEAD!F5+CEFID!F5+CERES!F5+CESFI!F5+CCT!F5+CEO!F5+CAV!F5+CEAVI!F5+CEPLAN!F5 -> 701 | G5: =('Reit-PROAD'!F5-'Reit-PROAD'!G5)+('Reit-PROEN'!F5-'Reit-PROEN'!G5)+('Reit-PROEX'!F5-'Reit-PROEX'!G5)+('Reit-Museu'!F5-'Reit-Museu'!G5)+(ESAG!F5-ESAG!G5)+(CEART!F5-CEART!G5)+(FAED!F5-FAED!G5)+(CEAD!F5-CEAD!G5)+(CEFID!F5-CEFID!G5)+(CERES!F5-CERES!G5)+(CESFI!F5-CESFI!G5)+(CCT!F5-CCT!G5)+(CEO!F5-CEO!G5)+(CAV!F5-CAV!G5)+(CEAVI!F5-CEAVI!G5)+(CEPLAN!F5-CEPLAN!G5) -> 134 | H5: =F5-G5 -> 567 | I5: =G5/F5 -> 0.19115549
C6: 3 | D6: Hospedagem (Diária) De R$ 200,00 a 101,00 | E6: 0.09 | F6: ='Reit-PROAD'!F6+'Reit-PROEN'!F6+'Reit-PROEX'!F6+'Reit-Museu'!F6+ESAG!F6+CEART!F6+FAED!F6+CEAD!F6+CEFID!F6+CERES!F6+CESFI!F6+CCT!F6+CEO!F6+CAV!F6+CEAVI!F6+CEPLAN!F6 -> 1487 | G6: =('Reit-PROAD'!F6-'Reit-PROAD'!G6)+('Reit-PROEN'!F6-'Reit-PROEN'!G6)+('Reit-PROEX'!F6-'Reit-PROEX'!G6)+('Reit-Museu'!F6-'Reit-Museu'!G6)+(ESAG!F6-ESAG!G6)+(CEART!F6-CEART!G6)+(FAED!F6-FAED!G6)+(CEAD!F6-CEAD!G6)+(CEFID!F6-CEFID!G6)+(CERES!F6-CERES!G6)+(CESFI!F6-CESFI!G6)+(CCT!F6-CCT!G6)+(CEO!F6-CEO!G6)+(CAV!F6-CAV!G6)+(CEAVI!F6-CEAVI!G6)+(CEPLAN!F6-CEPLAN!G6) -> 402 | H6: =F6-G6 -> 1085 | I6: =G6/F6 -> 0.27034297
C7: 4 | D7: Hospedagem (Diária) Abaixo de R$ 100,00 | E7: 0.085 | F7: ='Reit-PROAD'!F7+'Reit-PROEN'!F7+'Reit-PROEX'!F7+'Reit-Museu'!F7+ESAG!F7+CEART!F7+FAED!F7+CEAD!F7+CEFID!F7+CERES!F7+CESFI!F7+CCT!F7+CEO!F7+CAV!F7+CEAVI!F7+CEPLAN!F7 -> 225 | G7: =('Reit-PROAD'!F7-'Reit-PROAD'!G7)+('Reit-PROEN'!F7-'Reit-PROEN'!G7)+('Reit-PROEX'!F7-'Reit-PROEX'!G7)+('Reit-Museu'!F7-'Reit-Museu'!G7)+(ESAG!F7-ESAG!G7)+(CEART!F7-CEART!G7)+(FAED!F7-FAED!G7)+(CEAD!F7-CEAD!G7)+(CEFID!F7-CEFID!G7)+(CERES!F7-CERES!G7)+(CESFI!F7-CESFI!G7)+(CCT!F7-CCT!G7)+(CEO!F7-CEO!G7)+(CAV!F7-CAV!G7)+(CEAVI!F7-CEAVI!G7)+(CEPLAN!F7-CEPLAN!G7) -> 55 | H7: =F7-G7 -> 170 | I7: =G7/F7 -> 0.24444444
C8: 5 | D8: Alimentação (Almoço e/ou Jantar por pessoa) De R$ 100,00 a 51,00 | E8: 0.08 | F8: ='Reit-PROAD'!F8+'Reit-PROEN'!F8+'Reit-PROEX'!F8+'Reit-Museu'!F8+ESAG!F8+CEART!F8+FAED!F8+CEAD!F8+CEFID!F8+CERES!F8+CESFI!F8+CCT!F8+CEO!F8+CAV!F8+CEAVI!F8+CEPLAN!F8 -> 377 | G8: =('Reit-PROAD'!F8-'Reit-PROAD'!G8)+('Reit-PROEN'!F8-'Reit-PROEN'!G8)+('Reit-PROEX'!F8-'Reit-PROEX'!G8)+('Reit-Museu'!F8-'Reit-Museu'!G8)+(ESAG!F8-ESAG!G8)+(CEART!F8-CEART!G8)+(FAED!F8-FAED!G8)+(CEAD!F8-CEAD!G8)+(CEFID!F8-CEFID!G8)+(CERES!F8-CERES!G8)+(CESFI!F8-CESFI!G8)+(CCT!F8-CCT!G8)+(CEO!F8-CEO!G8)+(CAV!F8-CAV!G8)+(CEAVI!F8-CEAVI!G8)+(CEPLAN!F8-CEPLAN!G8) -> 31 | H8: =F8-G8 -> 346 | I8: =G8/F8 -> 0.082228117
C9: 6 | D9: Alimentação (Almoço e/ou Jantar por pessoa) Abaixo de R$ 50,00 | E9: 0.068 | F9: ='Reit-PROAD'!F9+'Reit-PROEN'!F9+'Reit-PROEX'!F9+'Reit-Museu'!F9+ESAG!F9+CEART!F9+FAED!F9+CEAD!F9+CEFID!F9+CERES!F9+CESFI!F9+CCT!F9+CEO!F9+CAV!F9+CEAVI!F9+CEPLAN!F9 -> 3087 | G9: =('Reit-PROAD'!F9-'Reit-PROAD'!G9)+('Reit-PROEN'!F9-'Reit-PROEN'!G9)+('Reit-PROEX'!F9-'Reit-PROEX'!G9)+('Reit-Museu'!F9-'Reit-Museu'!G9)+(ESAG!F9-ESAG!G9)+(CEART!F9-CEART!G9)+(FAED!F9-FAED!G9)+(CEAD!F9-CEAD!G9)+(CEFID!F9-CEFID!G9)+(CERES!F9-CERES!G9)+(CESFI!F9-CESFI!G9)+(CCT!F9-CCT!G9)+(CEO!F9-CEO!G9)+(CAV!F9-CAV!G9)+(CEAVI!F9-CEAVI!G9)+(CEPLAN!F9-CEPLAN!G9) -> 347 | H9: =F9-G9 -> 2740 | I9: =G9/F9 -> 0.11240687
F10: =SUM(F4:F9) -> 5995 | G10: =SUM(G4:G9) -> 989 | H10: =SUM(H4:H9) -> 5006 | I10: =G10/F10 -> 0.16497081
E13: Pregão 1605/2015/UDESC - SRP
E14: CONTRATAÇÃO DE AGÊNCIA DE TURISMO PARA PRESTAÇÃO DE SERVIÇOS DE COTAÇÃO, RESERVA E EMISSÃO DE HOSPEDAGEM EM HOTÉIS E DEMAIS SERVIÇOS NECESSÁRIOS E CORRELATOS PARA 2016 PARA A UDESC.
E15: VIGÊNCIA DA ATA: 04/02/2016 até 03/02/2017
E16: Valor Total da Ata com Aditivo | I16: =F10 -> 5995
E17: Valor Utilizado | I17: =G10 -> 989
E18: % Aditivos
E19: % Utilizado | I19: =I17/I16 -> 0.16497081
E20: Resumo Atualizado em Agosto/2016

Sheet Modelo Anexo II IN 002_2014
A1: ANEXO II – Instrução Normativa n.º 002/2014
A3: DECLARAÇÃO DE DISPONIBILIDADE DE QUANTITATIVO PARA EMISSÃO DE AUTORIZAÇÃO DE FORNECIMENTO/ORDEM DE SERVIÇO – SISTEMA DE REGISTRO DE PREÇOS/UDESC
A5: Processo CPA n.º XXXX/2014
A6: Pregão n.º XXXX/2014
A7: Objeto:
A8: Vigência da Ata de Registro de Preços: XX/XX/XXXX até XX/XX/XXXXX
A10: Declaro que o Centro XXXXXXX, participante da Ata de Registro de Preços proveniente do Pregão n.º XXXX/2014, possui saldo em seu quantitativo para a emissão da Autorização de Fornecimento/Ordem de Serviço n.º XXXX/2014, no valor de R$ X.XXX,XX, a ser firmada com a empresa XXXXXXX, restando ainda em sua cota para próximas contratações com o referido fornecedor os seguintes quantitativos:
A12: Lote | B12: Item | C12: Descrição Resumida | D12: Unidade | E12: Valor Unitário (R$) | F12: Saldo Quantitativo (antes da emissão desta AF/OS) | G12: Quantitativo da AF/OS | H12: Saldo Atualizado
A19: __________________, ____/_____/____
A20: Cidade Data
A24: _____________________________________________
A25: Diretor(a) de Administração
A26: (carimbo e assinatura)
