Workbook
Name diasuteis: #REF!
Name diasuteis: #REF!
Name Ferias: #REF!
Name Ferias: #REF!
Name RD: OFFSET(#REF!,(MATCH(SMALL(#REF!,ROW()-10),#REF!,0)-1),0)
Name RD: OFFSET(#REF!,(MATCH(SMALL(#REF!,ROW()-10),#REF!,0)-1),0)

Sheet REITORIA
A1: PROCESSO: 1509/2015/UDESC | D1: OBJETO: AQUISIÇÃO DE SOFTWARES PARA A UDESC | H1: VIGÊNCIA DA ATA: 15/01/2016 até 14/01/2017 | K1: Contrato nº xxxx/2016 Qtde. DT | L1: Contrato nº xxxx/2016 Qtde. DT | M1: Contrato nº xxxx/2016 Qtde. DT | N1: Contrato nº xxxx/2016 Qtde. DT | O1: Contrato nº xxxx/2016 Qtde. DT | P1: Contrato nº xxxx/2016 Qtde. DT | Q1: Contrato nº xxxx/2016 Qtde. DT | R1: Contrato nº xxxx/2016 Qtde. DT | S1: Contrato nº xxxx/2016 Qtde. DT | T1: Contrato nº xxxx/2016 Qtde. DT | U1: Contrato nº xxxx/2016 Qtde. DT | V1: Contrato nº xxxx/2016 Qtde. DT
A2: CENTRO PARTICIPANTE: REITORIA
A3: FORNECEDOR | B3: LOTE | C3: ITEM | D3: DESCRIÇÃO | E3: UNIDADE | F3: DETALHAMENTO | G3: Preço UNITÁRIO (R$) | H3: Qtde Registrada | I3: Saldo / Automático | J3: ALERTA | K3: ...../...../...... | L3: ...../...../...... | M3: ...../...../...... | N3: ...../...../...... | O3: ...../...../...... | P3: ...../...../...... | Q3: ...../...../...... | R3: ...../...../...... | S3: ...../...../...... | T3: ...../...../...... | U3: ...../...../...... | V3: ...../...../......
A4: DESERTO | B4: 1 | C4: 1 | D4: DESERTO | I4: =H4-(SUM(K4:V4)) -> 0 | J4: =IF(I4<0,"ATENÇÃO","OK") -> OK
A5: DESERTO | B5: 2 | C5: 2 | D5: DESERTO | I5: =H5-(SUM(K5:V5)) -> 0 | J5: =IF(I5<0,"ATENÇÃO","OK") -> OK
A6: ENG COM DE COMPUTADORES LIMITADA - EPP | B6: 3 | C6: 3 | D6: Adobe - Creative Cloud for Education - subscrição de 36 meses | E6: Licença | F6: 44.90.39 | G6: 3399 | I6: =H6-(SUM(K6:V6)) -> 0 | J6: =IF(I6<0,"ATENÇÃO","OK") -> OK
C7: 4 | D7: Adobe - Creative Cloud - subscrição de 48 meses | E7: Licença | F7: 44.90.39 | G7: 5200 | H7: 6 | I7: =H7-(SUM(K7:V7)) -> 6 | J7: =IF(I7<0,"ATENÇÃO","OK") -> OK
A8: DESERTO | B8: 4 | C8: 5 | D8: DESERTO | I8: =H8-(SUM(K8:V8)) -> 0 | J8: =IF(I8<0,"ATENÇÃO","OK") -> OK
A9: DESERTO | B9: 5 | C9: 6 | D9: DESERTO | I9: =H9-(SUM(K9:V9)) -> 0 | J9: =IF(I9<0,"ATENÇÃO","OK") -> OK
A10: INFRUTÍFERO | B10: 6 | C10: 7 | D10: INFRUTÍFERO | I10: =H10-(SUM(K10:V10)) -> 0 | J10: =IF(I10<0,"ATENÇÃO","OK") -> OK
A11: DESERTO | B11: 7 | C11: 8 | D11: DESERTO | I11: =H11-(SUM(K11:V11)) -> 0 | J11: =IF(I11<0,"ATENÇÃO","OK") -> OK
A12: DESERTO | B12: 8 | C12: 9 | D12: DESERTO | I12: =H12-(SUM(K12:V12)) -> 0 | J12: =IF(I12<0,"ATENÇÃO","OK") -> OK
A13: DESERTO | B13: 9 | C13: 10 | D13: DESERTO | I13: =H13-(SUM(K13:V13)) -> 0 | J13: =IF(I13<0,"ATENÇÃO","OK") -> OK
A14: SULSOFT SERVIÇOS DE PROCESSAMENTO DE DADOS LTDA | B14: 10 | C14: 11 | D14: Exelis Visual Information Solutions - ENVI - subscrição de 12 meses | E14: Licença | F14: 44.90.39 | G14: 1734.6 | I14: =H14-(SUM(K14:V14)) -> 0 | J14: =IF(I14<0,"ATENÇÃO","OK") -> OK
A15: DESERTO | B15: 11 | C15: 12 | D15: DESERTO | E15: Licença | F15: 44.90.39 | I15: =H15-(SUM(K15:V15)) -> 0 | J15: =IF(I15<0,"ATENÇÃO","OK") -> OK
A16: DESERTO | B16: 12 | C16: 13 | D16: DESERTO | E16: Licença | F16: 44.90.39 | I16: =H16-(SUM(K16:V16)) -> 0 | J16: =IF(I16<0,"ATENÇÃO","OK") -> OK
A17: IST SISTEMAS LTDA | B17: 13 | C17: 14 | D17: Dassault Systèmes Solidworks - SolidWorks EDU Edition 2015-2016 - subscrição de 36 meses - 1 licença (45 usuários) | G17: 15400 | I17: =H17-(SUM(K17:V17)) -> 0 | J17: =IF(I17<0,"ATENÇÃO","OK") -> OK
B20: *Prazos de execução e pagamento conforme Edital

Sheet CEFID
A1: PROCESSO: 1509/2015/UDESC | D1: OBJETO: AQUISIÇÃO DE SOFTWARES PARA A UDESC | H1: VIGÊNCIA DA ATA: 15/01/2016 até 14/01/2017 | K1: Contrato nº xxxx/2016 Qtde. DT | L1: Contrato nº xxxx/2016 Qtde. DT | M1: Contrato nº xxxx/2016 Qtde. DT | N1: Contrato nº xxxx/2016 Qtde. DT | O1: Contrato nº xxxx/2016 Qtde. DT | P1: Contrato nº xxxx/2016 Qtde. DT | Q1: Contrato nº xxxx/2016 Qtde. DT | R1: Contrato nº xxxx/2016 Qtde. DT | S1: Contrato nº xxxx/2016 Qtde. DT | T1: Contrato nº xxxx/2016 Qtde. DT | U1: Contrato nº xxxx/2016 Qtde. DT | V1: Contrato nº xxxx/2016 Qtde. DT
A2: CENTRO PARTICIPANTE: CEFID
A3: FORNECEDOR | B3: LOTE | C3: ITEM | D3: DESCRIÇÃO | E3: UNIDADE | F3: DETALHAMENTO | G3: Preço UNITÁRIO (R$) | H3: Qtde Registrada | I3: Saldo / Automático | J3: ALERTA | K3: ...../...../...... | L3: ...../...../...... | M3: ...../...../...... | N3: ...../...../...... | O3: ...../...../...... | P3: ...../...../...... | Q3: ...../...../...... | R3: ...../...../...... | S3: ...../...../...... | T3: ...../...../...... | U3: ...../...../...... | V3: ...../...../......
A4: DESERTO | B4: 1 | C4: 1 | D4: DESERTO | I4: =H4-(SUM(K4:V4)) -> 0 | J4: =IF(I4<0,"ATENÇÃO","OK") -> OK
A5: DESERTO | B5: 2 | C5: 2 | D5: DESERTO | I5: =H5-(SUM(K5:V5)) -> 0 | J5: =IF(I5<0,"ATENÇÃO","OK") -> OK
A6: ENG COM DE COMPUTADORES LIMITADA - EPP | B6: 3 | C6: 3 | D6: Adobe - Creative Cloud for Education - subscrição de 36 meses | E6: Licença | F6: 44.90.39 | G6: 3399 | I6: =H6-(SUM(K6:V6)) -> 0 | J6: =IF(I6<0,"ATENÇÃO","OK") -> OK
C7: 4 | D7: Adobe - Creative Cloud - subscrição de 48 meses | E7: Licença | F7: 44.90.39 | G7: 5200 | I7: =H7-(SUM(K7:V7)) -> 0 | J7: =IF(I7<0,"ATENÇÃO","OK") -> OK
A8: DESERTO | B8: 4 | C8: 5 | D8: DESERTO | I8: =H8-(SUM(K8:V8)) -> 0 | J8: =IF(I8<0,"ATENÇÃO","OK") -> OK
A9: DESERTO | B9: 5 | C9: 6 | D9: DESERTO | I9: =H9-(SUM(K9:V9)) -> 0 | J9: =IF(I9<0,"ATENÇÃO","OK") -> OK
A10: INFRUTÍFERO | B10: 6 | C10: 7 | D10: INFRUTÍFERO | I10: =H10-(SUM(K10:V10)) -> 0 | J10: =IF(I10<0,"ATENÇÃO","OK") -> OK
A11: DESERTO | B11: 7 | C11: 8 | D11: DESERTO | I11: =H11-(SUM(K11:V11)) -> 0 | J11: =IF(I11<0,"ATENÇÃO","OK") -> OK
A12: DESERTO | B12: 8 | C12: 9 | D12: DESERTO | I12: =H12-(SUM(K12:V12)) -> 0 | J12: =IF(I12<0,"ATENÇÃO","OK") -> OK
A13: DESERTO | B13: 9 | C13: 10 | D13: DESERTO | I13: =H13-(SUM(K13:V13)) -> 0 | J13: =IF(I13<0,"ATENÇÃO","OK") -> OK
A14: SULSOFT SERVIÇOS DE PROCESSAMENTO DE DADOS LTDA | B14: 10 | C14: 11 | D14: Exelis Visual Information Solutions - ENVI - subscrição de 12 meses | E14: Licença | F14: 44.90.39 | G14: 1734.6 | I14: =H14-(SUM(K14:V14)) -> 0 | J14: =IF(I14<0,"ATENÇÃO","OK") -> OK
A15: DESERTO | B15: 11 | C15: 12 | D15: DESERTO | E15: Licença | F15: 44.90.39 | I15: =H15-(SUM(K15:V15)) -> 0 | J15: =IF(I15<0,"ATENÇÃO","OK") -> OK
A16: DESERTO | B16: 12 | C16: 13 | D16: DESERTO | E16: Licença | F16: 44.90.39 | I16: =H16-(SUM(K16:V16)) -> 0 | J16: =IF(I16<0,"ATENÇÃO","OK") -> OK
A17: IST SISTEMAS LTDA | B17: 13 | C17: 14 | D17: Dassault Systèmes Solidworks - SolidWorks EDU Edition 2015-2016 - subscrição de 36 meses - 1 licença (45 usuários) | G17: 15400 | I17: =H17-(SUM(K17:V17)) -> 0 | J17: =IF(I17<0,"ATENÇÃO","OK") -> OK
B21: *Prazos de execução e pagamento conforme Edital

Sheet CEART
A1: PROCESSO: 1509/2015/UDESC | D1: OBJETO: AQUISIÇÃO DE SOFTWARES PARA A UDESC | H1: VIGÊNCIA DA ATA: 15/01/2016 até 14/01/2017 | K1: Contrato nº 343/2016 | L1: Contrato nº xxxx/2016 Qtde. DT | M1: Contrato nº xxxx/2016 Qtde. DT | N1: Contrato nº xxxx/2016 Qtde. DT | O1: Contrato nº xxxx/2016 Qtde. DT | P1: Contrato nº xxxx/2016 Qtde. DT | Q1: Contrato nº xxxx/2016 Qtde. DT | R1: Contrato nº xxxx/2016 Qtde. DT | S1: Contrato nº xxxx/2016 Qtde. DT | T1: Contrato nº xxxx/2016 Qtde. DT | U1: Contrato nº xxxx/2016 Qtde. DT | V1: Contrato nº xxxx/2016 Qtde. DT
A2: CENTRO PARTICIPANTE: CEART
A3: FORNECEDOR | B3: LOTE | C3: ITEM | D3: DESCRIÇÃO | E3: UNIDADE | F3: DETALHAMENTO | G3: Preço UNITÁRIO (R$) | H3: Qtde Registrada | I3: Saldo / Automático | J3: ALERTA | K3: 42410 | L3: ...../...../...... | M3: ...../...../...... | N3: ...../...../...... | O3: ...../...../...... | P3: ...../...../...... | Q3: ...../...../...... | R3: ...../...../...... | S3: ...../...../...... | T3: ...../...../...... | U3: ...../...../...... | V3: ...../...../......
A4: DESERTO | B4: 1 | C4: 1 | D4: DESERTO | I4: =H4-(SUM(K4:V4)) -> 0 | J4: =IF(I4<0,"ATENÇÃO","OK") -> OK
A5: DESERTO | B5: 2 | C5: 2 | D5: DESERTO | I5: =H5-(SUM(K5:V5)) -> 0 | J5: =IF(I5<0,"ATENÇÃO","OK") -> OK
A6: ENG COM DE COMPUTADORES LIMITADA - EPP | B6: 3 | C6: 3 | D6: Adobe - Creative Cloud for Education - subscrição de 36 meses | E6: Licença | F6: 44.90.39 | G6: 3399 | H6: 29 | I6: =H6-(SUM(K6:V6)) -> 29 | J6: =IF(I6<0,"ATENÇÃO","OK") -> OK
C7: 4 | D7: Adobe - Creative Cloud - subscrição de 48 meses | E7: Licença | F7: 44.90.39 | G7: 5200 | I7: =H7-(SUM(K7:V7)) -> 0 | J7: =IF(I7<0,"ATENÇÃO","OK") -> OK
A8: DESERTO | B8: 4 | C8: 5 | D8: DESERTO | I8: =H8-(SUM(K8:V8)) -> 0 | J8: =IF(I8<0,"ATENÇÃO","OK") -> OK
A9: DESERTO | B9: 5 | C9: 6 | D9: DESERTO | I9: =H9-(SUM(K9:V9)) -> 0 | J9: =IF(I9<0,"ATENÇÃO","OK") -> OK
A10: INFRUTÍFERO | B10: 6 | C10: 7 | D10: INFRUTÍFERO | I10: =H10-(SUM(K10:V10)) -> 0 | J10: =IF(I10<0,"ATENÇÃO","OK") -> OK
A11: DESERTO | B11: 7 | C11: 8 | D11: DESERTO | I11: =H11-(SUM(K11:V11)) -> 0 | J11: =IF(I11<0,"ATENÇÃO","OK") -> OK
A12: DESERTO | B12: 8 | C12: 9 | D12: DESERTO | I12: =H12-(SUM(K12:V12)) -> 0 | J12: =IF(I12<0,"ATENÇÃO","OK") -> OK
A13: DESERTO | B13: 9 | C13: 10 | D13: DESERTO | I13: =H13-(SUM(K13:V13)) -> 0 | J13: =IF(I13<0,"ATENÇÃO","OK") -> OK
A14: SULSOFT SERVIÇOS DE PROCESSAMENTO DE DADOS LTDA | B14: 10 | C14: 11 | D14: Exelis Visual Information Solutions - ENVI - subscrição de 12 meses | E14: Licença | F14: 44.90.39 | G14: 1734.6 | I14: =H14-(SUM(K14:V14)) -> 0 | J14: =IF(I14<0,"ATENÇÃO","OK") -> OK
A15: DESERTO | B15: 11 | C15: 12 | D15: DESERTO | E15: Licença | F15: 44.90.39 | I15: =H15-(SUM(K15:V15)) -> 0 | J15: =IF(I15<0,"ATENÇÃO","OK") -> OK
A16: DESERTO | B16: 12 | C16: 13 | D16: DESERTO | E16: Licença | F16: 44.90.39 | I16: =H16-(SUM(K16:V16)) -> 0 | J16: =IF(I16<0,"ATENÇÃO","OK") -> OK
A17: IST SISTEMAS LTDA | B17: 13 | C17: 14 | D17: Dassault Systèmes Solidworks - SolidWorks EDU Edition 2015-2016 - subscrição de 36 meses - 1 licença (45 usuários) | G17: 15400 | H17: 1 | I17: =H17-(SUM(K17:V17)) -> 0 | J17: =IF(I17<0,"ATENÇÃO","OK") -> OK | K17: 1
B21: *Prazos de execução e pagamento conforme Edital

Sheet CEAD
A1: PROCESSO: 1509/2015/UDESC | D1: OBJETO: AQUISIÇÃO DE SOFTWARES PARA A UDESC | H1: VIGÊNCIA DA ATA: 15/01/2016 até 14/01/2017 | K1: Contrato nº xxxx/2016 Qtde. DT | L1: Contrato nº xxxx/2016 Qtde. DT | M1: Contrato nº xxxx/2016 Qtde. DT | N1: Contrato nº xxxx/2016 Qtde. DT | O1: Contrato nº xxxx/2016 Qtde. DT | P1: Contrato nº xxxx/2016 Qtde. DT | Q1: Contrato nº xxxx/2016 Qtde. DT | R1: Contrato nº xxxx/2016 Qtde. DT | S1: Contrato nº xxxx/2016 Qtde. DT | T1: Contrato nº xxxx/2016 Qtde. DT | U1: Contrato nº xxxx/2016 Qtde. DT | V1: Contrato nº xxxx/2016 Qtde. DT
A2: CENTRO PARTICIPANTE: CEAD
A3: FORNECEDOR | B3: LOTE | C3: ITEM | D3: DESCRIÇÃO | E3: UNIDADE | F3: DETALHAMENTO | G3: Preço UNITÁRIO (R$) | H3: Qtde Registrada | I3: Saldo / Automático | J3: ALERTA | K3: ...../...../...... | L3: ...../...../...... | M3: ...../...../...... | N3: ...../...../...... | O3: ...../...../...... | P3: ...../...../...... | Q3: ...../...../...... | R3: ...../...../...... | S3: ...../...../...... | T3: ...../...../...... | U3: ...../...../...... | V3: ...../...../......
A4: DESERTO | B4: 1 | C4: 1 | D4: DESERTO | I4: =H4-(SUM(K4:V4)) -> 0 | J4: =IF(I4<0,"ATENÇÃO","OK") -> OK
A5: DESERTO | B5: 2 | C5: 2 | D5: DESERTO | I5: =H5-(SUM(K5:V5)) -> 0 | J5: =IF(I5<0,"ATENÇÃO","OK") -> OK
A6: ENG COM DE COMPUTADORES LIMITADA - EPP | B6: 3 | C6: 3 | D6: Adobe - Creative Cloud for Education - subscrição de 36 meses | E6: Licença | F6: 44.90.39 | G6: 3399 | I6: =H6-(SUM(K6:V6)) -> 0 | J6: =IF(I6<0,"ATENÇÃO","OK") -> OK
C7: 4 | D7: Adobe - Creative Cloud - subscrição de 48 meses | E7: Licença | F7: 44.90.39 | G7: 5200 | H7: 6 | I7: =H7-(SUM(K7:V7)) -> 6 | J7: =IF(I7<0,"ATENÇÃO","OK") -> OK
A8: DESERTO | B8: 4 | C8: 5 | D8: DESERTO | I8: =H8-(SUM(K8:V8)) -> 0 | J8: =IF(I8<0,"ATENÇÃO","OK") -> OK
A9: DESERTO | B9: 5 | C9: 6 | D9: DESERTO | I9: =H9-(SUM(K9:V9)) -> 0 | J9: =IF(I9<0,"ATENÇÃO","OK") -> OK
A10: INFRUTÍFERO | B10: 6 | C10: 7 | D10: INFRUTÍFERO | I10: =H10-(SUM(K10:V10)) -> 0 | J10: =IF(I10<0,"ATENÇÃO","OK") -> OK
A11: DESERTO | B11: 7 | C11: 8 | D11: DESERTO | I11: =H11-(SUM(K11:V11)) -> 0 | J11: =IF(I11<0,"ATENÇÃO","OK") -> OK
A12: DESERTO | B12: 8 | C12: 9 | D12: DESERTO | I12: =H12-(SUM(K12:V12)) -> 0 | J12: =IF(I12<0,"ATENÇÃO","OK") -> OK
A13: DESERTO | B13: 9 | C13: 10 | D13: DESERTO | I13: =H13-(SUM(K13:V13)) -> 0 | J13: =IF(I13<0,"ATENÇÃO","OK") -> OK
A14: SULSOFT SERVIÇOS DE PROCESSAMENTO DE DADOS LTDA | B14: 10 | C14: 11 | D14: Exelis Visual Information Solutions - ENVI - subscrição de 12 meses | E14: Licença | F14: 44.90.39 | G14: 1734.6 | I14: =H14-(SUM(K14:V14)) -> 0 | J14: =IF(I14<0,"ATENÇÃO","OK") -> OK
A15: DESERTO | B15: 11 | C15: 12 | D15: DESERTO | E15: Licença | F15: 44.90.39 | I15: =H15-(SUM(K15:V15)) -> 0 | J15: =IF(I15<0,"ATENÇÃO","OK") -> OK
A16: DESERTO | B16: 12 | C16: 13 | D16: DESERTO | E16: Licença | F16: 44.90.39 | I16: =H16-(SUM(K16:V16)) -> 0 | J16: =IF(I16<0,"ATENÇÃO","OK") -> OK
A17: IST SISTEMAS LTDA | B17: 13 | C17: 14 | D17: Dassault Systèmes Solidworks - SolidWorks EDU Edition 2015-2016 - subscrição de 36 meses - 1 licença (45 usuários) | G17: 15400 | I17: =H17-(SUM(K17:V17)) -> 0 | J17: =IF(I17<0,"ATENÇÃO","OK") -> OK
B20: *Prazos de execução e pagamento conforme Edital

Sheet CAV
A1: PROCESSO: 1509/2015/UDESC | D1: OBJETO: AQUISIÇÃO DE SOFTWARES PARA A UDESC | H1: VIGÊNCIA DA ATA: 15/01/2016 até 14/01/2017 | K1: Contrato nº xxxx/2016 Qtde. DT | L1: Contrato nº xxxx/2016 Qtde. DT | M1: Contrato nº xxxx/2016 Qtde. DT | N1: Contrato nº xxxx/2016 Qtde. DT | O1: Contrato nº xxxx/2016 Qtde. DT | P1: Contrato nº xxxx/2016 Qtde. DT | Q1: Contrato nº xxxx/2016 Qtde. DT | R1: Contrato nº xxxx/2016 Qtde. DT | S1: Contrato nº xxxx/2016 Qtde. DT | T1: Contrato nº xxxx/2016 Qtde. DT | U1: Contrato nº xxxx/2016 Qtde. DT | V1: Contrato nº xxxx/2016 Qtde. DT
A2: CENTRO PARTICIPANTE: CAV
A3: FORNECEDOR | B3: LOTE | C3: ITEM | D3: DESCRIÇÃO | E3: UNIDADE | F3: DETALHAMENTO | G3: Preço UNITÁRIO (R$) | H3: Qtde Registrada | I3: Saldo / Automático | J3: ALERTA | K3: ...../...../...... | L3: ...../...../...... | M3: ...../...../...... | N3: ...../...../...... | O3: ...../...../...... | P3: ...../...../...... | Q3: ...../...../...... | R3: ...../...../...... | S3: ...../...../...... | T3: ...../...../...... | U3: ...../...../...... | V3: ...../...../......
A4: DESERTO | B4: 1 | C4: 1 | D4: DESERTO | I4: =H4-(SUM(K4:V4)) -> 0 | J4: =IF(I4<0,"ATENÇÃO","OK") -> OK
A5: DESERTO | B5: 2 | C5: 2 | D5: DESERTO | I5: =H5-(SUM(K5:V5)) -> 0 | J5: =IF(I5<0,"ATENÇÃO","OK") -> OK
A6: ENG COM DE COMPUTADORES LIMITADA - EPP | B6: 3 | C6: 3 | D6: Adobe - Creative Cloud for Education - subscrição de 36 meses | E6: Licença | F6: 44.90.39 | G6: 3399 | I6: =H6-(SUM(K6:V6)) -> 0 | J6: =IF(I6<0,"ATENÇÃO","OK") -> OK
C7: 4 | D7: Adobe - Creative Cloud - subscrição de 48 meses | E7: Licença | F7: 44.90.39 | G7: 5200 | H7: 6 | I7: =H7-(SUM(K7:V7)) -> 6 | J7: =IF(I7<0,"ATENÇÃO","OK") -> OK
A8: DESERTO | B8: 4 | C8: 5 | D8: DESERTO | I8: =H8-(SUM(K8:V8)) -> 0 | J8: =IF(I8<0,"ATENÇÃO","OK") -> OK
A9: DESERTO | B9: 5 | C9: 6 | D9: DESERTO | I9: =H9-(SUM(K9:V9)) -> 0 | J9: =IF(I9<0,"ATENÇÃO","OK") -> OK
A10: INFRUTÍFERO | B10: 6 | C10: 7 | D10: INFRUTÍFERO | I10: =H10-(SUM(K10:V10)) -> 0 | J10: =IF(I10<0,"ATENÇÃO","OK") -> OK
A11: DESERTO | B11: 7 | C11: 8 | D11: DESERTO | I11: =H11-(SUM(K11:V11)) -> 0 | J11: =IF(I11<0,"ATENÇÃO","OK") -> OK
A12: DESERTO | B12: 8 | C12: 9 | D12: DESERTO | I12: =H12-(SUM(K12:V12)) -> 0 | J12: =IF(I12<0,"ATENÇÃO","OK") -> OK
A13: DESERTO | B13: 9 | C13: 10 | D13: DESERTO | I13: =H13-(SUM(K13:V13)) -> 0 | J13: =IF(I13<0,"ATENÇÃO","OK") -> OK
A14: SULSOFT SERVIÇOS DE PROCESSAMENTO DE DADOS LTDA | B14: 10 | C14: 11 | D14: Exelis Visual Information Solutions - ENVI - subscrição de 12 meses | E14: Licença | F14: 44.90.39 | G14: 1734.6 | H14: 25 | I14: =H14-(SUM(K14:V14)) -> 25 | J14: =IF(I14<0,"ATENÇÃO","OK") -> OK
A15: DESERTO | B15: 11 | C15: 12 | D15: DESERTO | E15: Licença | F15: 44.90.39 | I15: =H15-(SUM(K15:V15)) -> 0 | J15: =IF(I15<0,"ATENÇÃO","OK") -> OK
A16: DESERTO | B16: 12 | C16: 13 | D16: DESERTO | E16: Licença | F16: 44.90.39 | I16: =H16-(SUM(K16:V16)) -> 0 | J16: =IF(I16<0,"ATENÇÃO","OK") -> OK
A17: IST SISTEMAS LTDA | B17: 13 | C17: 14 | D17: Dassault Systèmes Solidworks - SolidWorks EDU Edition 2015-2016 - subscrição de 36 meses - 1 licença (45 usuários) | G17: 15400 | I17: =H17-(SUM(K17:V17)) -> 0 | J17: =IF(I17<0,"ATENÇÃO","OK") -> OK
B21: *Prazos de execução e pagamento conforme Edital

Sheet CEO
A1: PROCESSO: 1509/2015/UDESC | D1: OBJETO: AQUISIÇÃO DE SOFTWARES PARA A UDESC | H1: VIGÊNCIA DA ATA: 15/01/2016 até 14/01/2017 | K1: Contrato nº xxxx/2016 Qtde. DT | L1: Contrato nº xxxx/2016 Qtde. DT | M1: Contrato nº xxxx/2016 Qtde. DT | N1: Contrato nº xxxx/2016 Qtde. DT | O1: Contrato nº xxxx/2016 Qtde. DT | P1: Contrato nº xxxx/2016 Qtde. DT | Q1: Contrato nº xxxx/2016 Qtde. DT | R1: Contrato nº xxxx/2016 Qtde. DT | S1: Contrato nº xxxx/2016 Qtde. DT | T1: Contrato nº xxxx/2016 Qtde. DT | U1: Contrato nº xxxx/2016 Qtde. DT | V1: Contrato nº xxxx/2016 Qtde. DT
A2: CENTRO PARTICIPANTE: CEO
A3: FORNECEDOR | B3: LOTE | C3: ITEM | D3: DESCRIÇÃO | E3: UNIDADE | F3: DETALHAMENTO | G3: Preço UNITÁRIO (R$) | H3: Qtde Registrada | I3: Saldo / Automático | J3: ALERTA | K3: ...../...../...... | L3: ...../...../...... | M3: ...../...../...... | N3: ...../...../...... | O3: ...../...../...... | P3: ...../...../...... | Q3: ...../...../...... | R3: ...../...../...... | S3: ...../...../...... | T3: ...../...../...... | U3: ...../...../...... | V3: ...../...../......
A4: DESERTO | B4: 1 | C4: 1 | D4: DESERTO | I4: =H4-(SUM(K4:V4)) -> 0 | J4: =IF(I4<0,"ATENÇÃO","OK") -> OK
A5: DESERTO | B5: 2 | C5: 2 | D5: DESERTO | I5: =H5-(SUM(K5:V5)) -> 0 | J5: =IF(I5<0,"ATENÇÃO","OK") -> OK
A6: ENG COM DE COMPUTADORES LIMITADA - EPP | B6: 3 | C6: 3 | D6: Adobe - Creative Cloud for Education - subscrição de 36 meses | E6: Licença | F6: 44.90.39 | G6: 3399 | I6: =H6-(SUM(K6:V6)) -> 0 | J6: =IF(I6<0,"ATENÇÃO","OK") -> OK
C7: 4 | D7: Adobe - Creative Cloud - subscrição de 48 meses | E7: Licença | F7: 44.90.39 | G7: 5200 | I7: =H7-(SUM(K7:V7)) -> 0 | J7: =IF(I7<0,"ATENÇÃO","OK") -> OK
A8: DESERTO | B8: 4 | C8: 5 | D8: DESERTO | I8: =H8-(SUM(K8:V8)) -> 0 | J8: =IF(I8<0,"ATENÇÃO","OK") -> OK
A9: DESERTO | B9: 5 | C9: 6 | D9: DESERTO | I9: =H9-(SUM(K9:V9)) -> 0 | J9: =IF(I9<0,"ATENÇÃO","OK") -> OK
A10: INFRUTÍFERO | B10: 6 | C10: 7 | D10: INFRUTÍFERO | I10: =H10-(SUM(K10:V10)) -> 0 | J10: =IF(I10<0,"ATENÇÃO","OK") -> OK
A11: DESERTO | B11: 7 | C11: 8 | D11: DESERTO | I11: =H11-(SUM(K11:V11)) -> 0 | J11: =IF(I11<0,"ATENÇÃO","OK") -> OK
A12: DESERTO | B12: 8 | C12: 9 | D12: DESERTO | I12: =H12-(SUM(K12:V12)) -> 0 | J12: =IF(I12<0,"ATENÇÃO","OK") -> OK
A13: DESERTO | B13: 9 | C13: 10 | D13: DESERTO | I13: =H13-(SUM(K13:V13)) -> 0 | J13: =IF(I13<0,"ATENÇÃO","OK") -> OK
A14: SULSOFT SERVIÇOS DE PROCESSAMENTO DE DADOS LTDA | B14: 10 | C14: 11 | D14: Exelis Visual Information Solutions - ENVI - subscrição de 12 meses | E14: Licença | F14: 44.90.39 | G14: 1734.6 | I14: =H14-(SUM(K14:V14)) -> 0 | J14: =IF(I14<0,"ATENÇÃO","OK") -> OK
A15: DESERTO | B15: 11 | C15: 12 | D15: DESERTO | E15: Licença | F15: 44.90.39 | I15: =H15-(SUM(K15:V15)) -> 0 | J15: =IF(I15<0,"ATENÇÃO","OK") -> OK
A16: DESERTO | B16: 12 | C16: 13 | D16: DESERTO | E16: Licença | F16: 44.90.39 | I16: =H16-(SUM(K16:V16)) -> 0 | J16: =IF(I16<0,"ATENÇÃO","OK") -> OK
A17: IST SISTEMAS LTDA | B17: 13 | C17: 14 | D17: Dassault Systèmes Solidworks - SolidWorks EDU Edition 2015-2016 - subscrição de 36 meses - 1 licença (45 usuários) | G17: 15400 | I17: =H17-(SUM(K17:V17)) -> 0 | J17: =IF(I17<0,"ATENÇÃO","OK") -> OK
B21: *Prazos de execução e pagamento conforme Edital

Sheet CESFI
A1: PROCESSO: 1509/2015/UDESC | D1: OBJETO: AQUISIÇÃO DE SOFTWARES PARA A UDESC | H1: VIGÊNCIA DA ATA: 15/01/2016 até 14/01/2017 | K1: Contrato nº xxxx/2016 Qtde. DT | L1: Contrato nº xxxx/2016 Qtde. DT | M1: Contrato nº xxxx/2016 Qtde. DT | N1: Contrato nº xxxx/2016 Qtde. DT | O1: Contrato nº xxxx/2016 Qtde. DT | P1: Contrato nº xxxx/2016 Qtde. DT | Q1: Contrato nº xxxx/2016 Qtde. DT | R1: Contrato nº xxxx/2016 Qtde. DT | S1: Contrato nº xxxx/2016 Qtde. DT | T1: Contrato nº xxxx/2016 Qtde. DT | U1: Contrato nº xxxx/2016 Qtde. DT | V1: Contrato nº xxxx/2016 Qtde. DT
A2: CENTRO PARTICIPANTE: CESFI
A3: FORNECEDOR | B3: LOTE | C3: ITEM | D3: DESCRIÇÃO | E3: UNIDADE | F3: DETALHAMENTO | G3: Preço UNITÁRIO (R$) | H3: Qtde Registrada | I3: Saldo / Automático | J3: ALERTA | K3: ...../...../...... | L3: ...../...../...... | M3: ...../...../...... | N3: ...../...../...... | O3: ...../...../...... | P3: ...../...../...... | Q3: ...../...../...... | R3: ...../...../...... | S3: ...../...../...... | T3: ...../...../...... | U3: ...../...../...... | V3: ...../...../......
A4: DESERTO | B4: 1 | C4: 1 | D4: DESERTO | I4: =H4-(SUM(K4:V4)) -> 0 | J4: =IF(I4<0,"ATENÇÃO","OK") -> OK
A5: DESERTO | B5: 2 | C5: 2 | D5: DESERTO | I5: =H5-(SUM(K5:V5)) -> 0 | J5: =IF(I5<0,"ATENÇÃO","OK") -> OK
A6: ENG COM DE COMPUTADORES LIMITADA - EPP | B6: 3 | C6: 3 | D6: Adobe - Creative Cloud for Education - subscrição de 36 meses | E6: Licença | F6: 44.90.39 | G6: 3399 | I6: =H6-(SUM(K6:V6)) -> 0 | J6: =IF(I6<0,"ATENÇÃO","OK") -> OK
C7: 4 | D7: Adobe - Creative Cloud - subscrição de 48 meses | E7: Licença | F7: 44.90.39 | G7: 5200 | I7: =H7-(SUM(K7:V7)) -> 0 | J7: =IF(I7<0,"ATENÇÃO","OK") -> OK
A8: DESERTO | B8: 4 | C8: 5 | D8: DESERTO | I8: =H8-(SUM(K8:V8)) -> 0 | J8: =IF(I8<0,"ATENÇÃO","OK") -> OK
A9: DESERTO | B9: 5 | C9: 6 | D9: DESERTO | I9: =H9-(SUM(K9:V9)) -> 0 | J9: =IF(I9<0,"ATENÇÃO","OK") -> OK
A10: INFRUTÍFERO | B10: 6 | C10: 7 | D10: INFRUTÍFERO | I10: =H10-(SUM(K10:V10)) -> 0 | J10: =IF(I10<0,"ATENÇÃO","OK") -> OK
A11: DESERTO | B11: 7 | C11: 8 | D11: DESERTO | I11: =H11-(SUM(K11:V11)) -> 0 | J11: =IF(I11<0,"ATENÇÃO","OK") -> OK
A12: DESERTO | B12: 8 | C12: 9 | D12: DESERTO | I12: =H12-(SUM(K12:V12)) -> 0 | J12: =IF(I12<0,"ATENÇÃO","OK") -> OK
A13: DESERTO | B13: 9 | C13: 10 | D13: DESERTO | I13: =H13-(SUM(K13:V13)) -> 0 | J13: =IF(I13<0,"ATENÇÃO","OK") -> OK
A14: SULSOFT SERVIÇOS DE PROCESSAMENTO DE DADOS LTDA | B14: 10 | C14: 11 | D14: Exelis Visual Information Solutions - ENVI - subscrição de 12 meses | E14: Licença | F14: 44.90.39 | G14: 1734.6 | I14: =H14-(SUM(K14:V14)) -> 0 | J14: =IF(I14<0,"ATENÇÃO","OK") -> OK
A15: DESERTO | B15: 11 | C15: 12 | D15: DESERTO | E15: Licença | F15: 44.90.39 | I15: =H15-(SUM(K15:V15)) -> 0 | J15: =IF(I15<0,"ATENÇÃO","OK") -> OK
A16: DESERTO | B16: 12 | C16: 13 | D16: DESERTO | E16: Licença | F16: 44.90.39 | I16: =H16-(SUM(K16:V16)) -> 0 | J16: =IF(I16<0,"ATENÇÃO","OK") -> OK
A17: IST SISTEMAS LTDA | B17: 13 | C17: 14 | D17: Dassault Systèmes Solidworks - SolidWorks EDU Edition 2015-2016 - subscrição de 36 meses - 1 licença (45 usuários) | G17: 15400 | I17: =H17-(SUM(K17:V17)) -> 0 | J17: =IF(I17<0,"ATENÇÃO","OK") -> OK
B21: *Prazos de execução e pagamento conforme Edital

Sheet GESTOR
A1: PROCESSO: 1509/2015/UDESC | D1: OBJETO: AQUISIÇÃO DE SOFTWARES PARA A UDESC | H1: VIGÊNCIA DA ATA: 15/01/2016 até 14/01/2017
A2: CENTRO PARTICIPANTE: GESTOR
A3: FORNECEDOR | B3: LOTE | C3: ITEM | D3: DESCRIÇÃO | E3: UNIDADE | F3: DETALHAMENTO | G3: Preço UNITÁRIO (R$) | H3: Qtde Registrada | I3: Qtde Utilizada | J3: SALDO | K3: Valor Registrado | L3: Valor Utilizado
A4: DESERTO | B4: 1 | C4: 1 | D4: DESERTO | H4: =REITORIA!H4+CEFID!H4+CEART!H4+CEAD!H4+CAV!H4+CEO!H4+CESFI!H4 -> 0 | I4: =(REITORIA!H4-REITORIA!I4)+(CEFID!H4-CEFID!I4)+(CEART!H4-CEART!I4)+(CEAD!H4-CEAD!I4)+(CAV!H4-CAV!I4)+(CEO!H4-CEO!I4)+(CESFI!H4-CESFI!I4) -> 0 | J4: =H4-I4 -> 0 | K4: =G4*H4 -> 0 | L4: =G4*I4 -> 0
A5: DESERTO | B5: 2 | C5: 2 | D5: DESERTO | H5: =REITORIA!H5+CEFID!H5+CEART!H5+CEAD!H5+CAV!H5+CEO!H5+CESFI!H5 -> 0 | I5: =(REITORIA!H5-REITORIA!I5)+(CEFID!H5-CEFID!I5)+(CEART!H5-CEART!I5)+(CEAD!H5-CEAD!I5)+(CAV!H5-CAV!I5)+(CEO!H5-CEO!I5)+(CESFI!H5-CESFI!I5) -> 0 | J5: =H5-I5 -> 0 | K5: =G5*H5 -> 0 | L5: =G5*I5 -> 0
A6: ENG COM DE COMPUTADORES LIMITADA - EPP | B6: 3 | C6: 3 | D6: Adobe - Creative Cloud for Education - subscrição de 36 meses | E6: Licença | F6: 44.90.39 | G6: 3399 | H6: =REITORIA!H6+CEFID!H6+CEART!H6+CEAD!H6+CAV!H6+CEO!H6+CESFI!H6 -> 29 | I6: =(REITORIA!H6-REITORIA!I6)+(CEFID!H6-CEFID!I6)+(CEART!H6-CEART!I6)+(CEAD!H6-CEAD!I6)+(CAV!H6-CAV!I6)+(CEO!H6-CEO!I6)+(CESFI!H6-CESFI!I6) -> 0 | J6: =H6-I6 -> 29 | K6: =G6*H6 -> 98571 | L6: =G6*I6 -> 0
C7: 4 | D7: Adobe - Creative Cloud - subscrição de 48 meses | E7: Licença | F7: 44.90.39 | G7: 5200 | H7: =REITORIA!H7+CEFID!H7+CEART!H7+CEAD!H7+CAV!H7+CEO!H7+CESFI!H7 -> 18 | I7: =(REITORIA!H7-REITORIA!I7)+(CEFID!H7-CEFID!I7)+(CEART!H7-CEART!I7)+(CEAD!H7-CEAD!I7)+(CAV!H7-CAV!I7)+(CEO!H7-CEO!I7)+(CESFI!H7-CESFI!I7) -> 0 | J7: =H7-I7 -> 18 | K7: =G7*H7 -> 93600 | L7: =G7*I7 -> 0
A8: DESERTO | B8: 4 | C8: 5 | D8: DESERTO | H8: =REITORIA!H8+CEFID!H8+CEART!H8+CEAD!H8+CAV!H8+CEO!H8+CESFI!H8 -> 0 | I8: =(REITORIA!H8-REITORIA!I8)+(CEFID!H8-CEFID!I8)+(CEART!H8-CEART!I8)+(CEAD!H8-CEAD!I8)+(CAV!H8-CAV!I8)+(CEO!H8-CEO!I8)+(CESFI!H8-CESFI!I8) -> 0 | J8: =H8-I8 -> 0 | K8: =G8*H8 -> 0 | L8: =G8*I8 -> 0
A9: DESERTO | B9: 5 | C9: 6 | D9: DESERTO | H9: =REITORIA!H9+CEFID!H9+CEART!H9+CEAD!H9+CAV!H9+CEO!H9+CESFI!H9 -> 0 | I9: =(REITORIA!H9-REITORIA!I9)+(CEFID!H9-CEFID!I9)+(CEART!H9-CEART!I9)+(CEAD!H9-CEAD!I9)+(CAV!H9-CAV!I9)+(CEO!H9-CEO!I9)+(CESFI!H9-CESFI!I9) -> 0 | J9: =H9-I9 -> 0 | K9: =G9*H9 -> 0 | L9: =G9*I9 -> 0
A10: INFRUTÍFERO | B10: 6 | C10: 7 | D10: INFRUTÍFERO | H10: =REITORIA!H10+CEFID!H10+CEART!H10+CEAD!H10+CAV!H10+CEO!H10+CESFI!H10 -> 0 | I10: =(REITORIA!H10-REITORIA!I10)+(CEFID!H10-CEFID!I10)+(CEART!H10-CEART!I10)+(CEAD!H10-CEAD!I10)+(CAV!H10-CAV!I10)+(CEO!H10-CEO!I10)+(CESFI!H10-CESFI!I10) -> 0 | J10: =H10-I10 -> 0 | K10: =G10*H10 -> 0 | L10: =G10*I10 -> 0
A11: DESERTO | B11: 7 | C11: 8 | D11: DESERTO | H11: =REITORIA!H11+CEFID!H11+CEART!H11+CEAD!H11+CAV!H11+CEO!H11+CESFI!H11 -> 0 | I11: =(REITORIA!H11-REITORIA!I11)+(CEFID!H11-CEFID!I11)+(CEART!H11-CEART!I11)+(CEAD!H11-CEAD!I11)+(CAV!H11-CAV!I11)+(CEO!H11-CEO!I11)+(CESFI!H11-CESFI!I11) -> 0 | J11: =H11-I11 -> 0 | K11: =G11*H11 -> 0 | L11: =G11*I11 -> 0
A12: DESERTO | B12: 8 | C12: 9 | D12: DESERTO | H12: =REITORIA!H12+CEFID!H12+CEART!H12+CEAD!H12+CAV!H12+CEO!H12+CESFI!H12 -> 0 | I12: =(REITORIA!H12-REITORIA!I12)+(CEFID!H12-CEFID!I12)+(CEART!H12-CEART!I12)+(CEAD!H12-CEAD!I12)+(CAV!H12-CAV!I12)+(CEO!H12-CEO!I12)+(CESFI!H12-CESFI!I12) -> 0 | J12: =H12-I12 -> 0 | K12: =G12*H12 -> 0 | L12: =G12*I12 -> 0
A13: DESERTO | B13: 9 | C13: 10 | D13: DESERTO | H13: =REITORIA!H13+CEFID!H13+CEART!H13+CEAD!H13+CAV!H13+CEO!H13+CESFI!H13 -> 0 | I13: =(REITORIA!H13-REITORIA!I13)+(CEFID!H13-CEFID!I13)+(CEART!H13-CEART!I13)+(CEAD!H13-CEAD!I13)+(CAV!H13-CAV!I13)+(CEO!H13-CEO!I13)+(CESFI!H13-CESFI!I13) -> 0 | J13: =H13-I13 -> 0 | K13: =G13*H13 -> 0 | L13: =G13*I13 -> 0
A14: SULSOFT SERVIÇOS DE PROCESSAMENTO DE DADOS LTDA | B14: 10 | C14: 11 | D14: Exelis Visual Information Solutions - ENVI - subscrição de 12 meses | E14: Licença | F14: 44.90.39 | G14: 1734.6 | H14: =REITORIA!H14+CEFID!H14+CEART!H14+CEAD!H14+CAV!H14+CEO!H14+CESFI!H14 -> 25 | I14: =(REITORIA!H14-REITORIA!I14)+(CEFID!H14-CEFID!I14)+(CEART!H14-CEART!I14)+(CEAD!H14-CEAD!I14)+(CAV!H14-CAV!I14)+(CEO!H14-CEO!I14)+(CESFI!H14-CESFI!I14) -> 0 | J14: =H14-I14 -> 25 | K14: =G14*H14 -> 43365 | L14: =G14*I14 -> 0
A15: DESERTO | B15: 11 | C15: 12 | D15: DESERTO | E15: Licença | F15: 44.90.39 | H15: =REITORIA!H15+CEFID!H15+CEART!H15+CEAD!H15+CAV!H15+CEO!H15+CESFI!H15 -> 0 | I15: =(REITORIA!H15-REITORIA!I15)+(CEFID!H15-CEFID!I15)+(CEART!H15-CEART!I15)+(CEAD!H15-CEAD!I15)+(CAV!H15-CAV!I15)+(CEO!H15-CEO!I15)+(CESFI!H15-CESFI!I15) -> 0 | J15: =H15-I15 -> 0 | K15: =G15*H15 -> 0 | L15: =G15*I15 -> 0
A16: DESERTO | B16: 12 | C16: 13 | D16: DESERTO | E16: Licença | F16: 44.90.39 | H16: =REITORIA!H16+CEFID!H16+CEART!H16+CEAD!H16+CAV!H16+CEO!H16+CESFI!H16 -> 0 | I16: =(REITORIA!H16-REITORIA!I16)+(CEFID!H16-CEFID!I16)+(CEART!H16-CEART!I16)+(CEAD!H16-CEAD!I16)+(CAV!H16-CAV!I16)+(CEO!H16-CEO!I16)+(CESFI!H16-CESFI!I16) -> 0 | J16: =H16-I16 -> 0 | K16: =G16*H16 -> 0 | L16: =G16*I16 -> 0
A17: IST SISTEMAS LTDA | B17: 13 | C17: 14 | D17: Dassault Systèmes Solidworks - SolidWorks EDU Edition 2015-2016 - subscrição de 36 meses - 1 licença (45 usuários) | G17: 15400 | H17: =REITORIA!H17+CEFID!H17+CEART!H17+CEAD!H17+CAV!H17+CEO!H17+CESFI!H17 -> 1 | I17: =(REITORIA!H17-REITORIA!I17)+(CEFID!H17-CEFID!I17)+(CEART!H17-CEART!I17)+(CEAD!H17-CEAD!I17)+(CAV!H17-CAV!I17)+(CEO!H17-CEO!I17)+(CESFI!H17-CESFI!I17) -> 1 | J17: =H17-I17 -> 0 | K17: =G17*H17 -> 15400 | L17: =G17*I17 -> 15400
K18: =SUM(K4:K17) -> 250936 | L18: =SUM(L4:L17) -> 15400
B21: *Prazos de execução e pagamento conforme Edital | H21: Pregão1509/2015/UDESC - SRP
H22: AQUISIÇÃO DE SOFTWARES PARA A UDESC
H23: VIGÊNCIA DA ATA: 15/01/2016 até 14/01/2017
H24: Valor Total da Ata com Aditivo | L24: =K18 -> 250936
H25: Valor Utilizado | L25: =L18 -> 15400
H26: % Aditivos
H27: % Utilizado | L27: =L25/L24 -> 0.06137023
H28: Atualizado em Julho/2016

Sheet Modelo Anexo II IN 002_2014
A1: ANEXO II – Instrução Normativa n.º 002/2014
A3: DECLARAÇÃO DE DISPONIBILIDADE DE QUANTITATIVO PARA EMISSÃO DE AUTORIZAÇÃO DE FORNECIMENTO/ORDEM DE SERVIÇO – SISTEMA DE REGISTRO DE PREÇOS/UDESC
A5: Processo CPA n.º XXXX/2014
A6: Pregão n.º XXXX/2014
A7: Objeto:
A8: Vigência da Ata de Registro de Preços: XX/XX/XXXX até XX/XX/XXXXX
A10: Declaro que o Centro XXXXXXX, participante da Ata de Registro de Preços proveniente do Pregão n.º XXXX/2014, possui saldo em seu quantitativo para a emissão da Autorização de Fornecimento/Ordem de Serviço n.º XXXX/2014, no valor de R$ X.XXX,XX, a ser firmada com a empresa XXXXXXX, restando ainda em sua cota para próximas contratações com o referido fornecedor os seguintes quantitativos:
A12: Lote | B12: Item | C12: Descrição Resumida | D12: Unidade | E12: Valor Unitário (R$) | F12: Saldo Quantitativo (antes da emissão desta AF/OS) | G12: Quantitativo da AF/OS | H12: Saldo Atualizado
A19: __________________, ____/_____/____
A20: Cidade Data
A24: _____________________________________________
A25: Diretor(a) de Administração
A26: (carimbo e assinatura)
