Workbook
Name diasuteis: #REF!
Name diasuteis: #REF!
Name Ferias: #REF!
Name Ferias: #REF!
Name RD: OFFSET(#REF!,(MATCH(SMALL(#REF!,ROW()-10),#REF!,0)-1),0)
Name RD: OFFSET(#REF!,(MATCH(SMALL(#REF!,ROW()-10),#REF!,0)-1),0)

Sheet REITORIA
A1: PROCESSO: 1404/2015/UDESC | C1: OBJETO: CONTRATAÇÃO DE EMPRESA PARA FORNECIMENTO DE COFFEE BREAK E COQUETEL PARA EVENTOS DO CAMPUS I - UDESC | G1: VIGÊNCIA DA ATA: 03/12/2015 até 02/12/2016 | J1: Contrato nº xxxx/2016 Qtde. DT | K1: Contrato nº xxxx/2016 Qtde. DT | L1: Contrato nº xxxx/2016 Qtde. DT | M1: Contrato nº xxxx/2016 Qtde. DT | N1: Contrato nº xxxx/2016 Qtde. DT | O1: Contrato nº xxxx/2016 Qtde. DT | P1: Contrato nº xxxx/2016 Qtde. DT | Q1: Contrato nº xxxx/2016 Qtde. DT | R1: Contrato nº xxxx/2016 Qtde. DT | S1: Contrato nº xxxx/2016 Qtde. DT | T1: Contrato nº xxxx/2016 Qtde. DT | U1: Contrato nº xxxx/2016 Qtde. DT
A2: CENTRO PARTICIPANTE: REITORIA
A3: FORNECEDOR | B3: ITEM | C3: DESCRIÇÃO | D3: UNIDADE | E3: DETALHAMENTO | F3: Preço UNITÁRIO (R$) | G3: Qtde Registrada | H3: Saldo / Automático | I3: ALERTA | J3: ...../...../...... | K3: ...../...../...... | L3: ...../...../...... | M3: ...../...../...... | N3: ...../...../...... | O3: ...../...../...... | P3: ...../...../...... | Q3: ...../...../...... | R3: ...../...../...... | S3: ...../...../...... | T3: ...../...../...... | U3: ...../...../......
A4: Açoriana Buffet Fornecedora de Alimentos Ltda ME | B4: 1 | C4: COFFEE BREAK TIPO 1 | D4: Pessoa | E4: 339030-15 | F4: 7.58 | H4: =G4-(SUM(J4:U4)) -> 0 | I4: =IF(H4<0,"ATENÇÃO","OK") -> OK
B5: 2 | C5: COFFEE BREAK TIPO 2 | D5: Pessoa | E5: 339030-15 | F5: 8.68 | G5: 455 | H5: =G5-(SUM(J5:U5)) -> 455 | I5: =IF(H5<0,"ATENÇÃO","OK") -> OK
B6: 3 | C6: COFFEE BREAK TIPO 3 | D6: Pessoa | E6: 339030-15 | F6: 9.92 | H6: =G6-(SUM(J6:U6)) -> 0 | I6: =IF(H6<0,"ATENÇÃO","OK") -> OK
B7: 4 | C7: COQUETEL | D7: Pessoa | E7: 339030-15 | F7: 18.4 | G7: 400 | H7: =G7-(SUM(J7:U7)) -> 400 | I7: =IF(H7<0,"ATENÇÃO","OK") -> OK
C9: *Prazos de execução e pagamento conforme Edital

Sheet PROEX
A1: PROCESSO: 1404/2015/UDESC | C1: OBJETO: CONTRATAÇÃO DE EMPRESA PARA FORNECIMENTO DE COFFEE BREAK E COQUETEL PARA EVENTOS DO CAMPUS I - UDESC | G1: VIGÊNCIA DA ATA: 03/12/2015 até 02/12/2016 | J1: AF nº 2242/2015 Qtde. DT | K1: Contrato nº xxxx/2016 Qtde. DT | L1: Contrato nº xxxx/2016 Qtde. DT | M1: Contrato nº xxxx/2016 Qtde. DT | N1: Contrato nº xxxx/2016 Qtde. DT | O1: Contrato nº xxxx/2016 Qtde. DT | P1: Contrato nº xxxx/2016 Qtde. DT | Q1: Contrato nº xxxx/2016 Qtde. DT | R1: Contrato nº xxxx/2016 Qtde. DT | S1: Contrato nº xxxx/2016 Qtde. DT | T1: Contrato nº xxxx/2016 Qtde. DT | U1: Contrato nº xxxx/2016 Qtde. DT
A2: CENTRO PARTICIPANTE: REITORIA
A3: FORNECEDOR | B3: ITEM | C3: DESCRIÇÃO | D3: UNIDADE | E3: DETALHAMENTO | F3: Preço UNITÁRIO (R$) | G3: Qtde Registrada | H3: Saldo / Automático | I3: ALERTA | J3: 42342 | K3: ...../...../...... | L3: ...../...../...... | M3: ...../...../...... | N3: ...../...../...... | O3: ...../...../...... | P3: ...../...../...... | Q3: ...../...../...... | R3: ...../...../...... | S3: ...../...../...... | T3: ...../...../...... | U3: ...../...../......
A4: Açoriana Buffet Fornecedora de Alimentos Ltda ME | B4: 1 | C4: COFFEE BREAK TIPO 1 | D4: Pessoa | E4: 339030-15 | F4: 7.58 | H4: =G4-(SUM(J4:U4)) -> 0 | I4: =IF(H4<0,"ATENÇÃO","OK") -> OK
B5: 2 | C5: COFFEE BREAK TIPO 2 | D5: Pessoa | E5: 339030-15 | F5: 8.68 | G5: 3000 | H5: =G5-(SUM(J5:U5)) -> 3000 | I5: =IF(H5<0,"ATENÇÃO","OK") -> OK
B6: 3 | C6: COFFEE BREAK TIPO 3 | D6: Pessoa | E6: 339030-15 | F6: 9.92 | G6: 1000 | H6: =G6-(SUM(J6:U6)) -> 960 | I6: =IF(H6<0,"ATENÇÃO","OK") -> OK | J6: 40
B7: 4 | C7: COQUETEL | D7: Pessoa | E7: 339030-15 | F7: 18.4 | G7: 500 | H7: =G7-(SUM(J7:U7)) -> 500 | I7: =IF(H7<0,"ATENÇÃO","OK") -> OK
C9: *Prazos de execução e pagamento conforme Edital

Sheet MUSEU
A1: PROCESSO: 1404/2015/UDESC | C1: OBJETO: CONTRATAÇÃO DE EMPRESA PARA FORNECIMENTO DE COFFEE BREAK E COQUETEL PARA EVENTOS DO CAMPUS I - UDESC | G1: VIGÊNCIA DA ATA: 03/12/2015 até 02/12/2016 | J1: Contrato nº xxxx/2016 Qtde. DT | K1: Contrato nº xxxx/2016 Qtde. DT | L1: Contrato nº xxxx/2016 Qtde. DT | M1: Contrato nº xxxx/2016 Qtde. DT | N1: Contrato nº xxxx/2016 Qtde. DT | O1: Contrato nº xxxx/2016 Qtde. DT | P1: Contrato nº xxxx/2016 Qtde. DT | Q1: Contrato nº xxxx/2016 Qtde. DT | R1: Contrato nº xxxx/2016 Qtde. DT | S1: Contrato nº xxxx/2016 Qtde. DT | T1: Contrato nº xxxx/2016 Qtde. DT | U1: Contrato nº xxxx/2016 Qtde. DT
A2: CENTRO PARTICIPANTE: REITORIA
A3: FORNECEDOR | B3: ITEM | C3: DESCRIÇÃO | D3: UNIDADE | E3: DETALHAMENTO | F3: Preço UNITÁRIO (R$) | G3: Qtde Registrada | H3: Saldo / Automático | I3: ALERTA | J3: ...../...../...... | K3: ...../...../...... | L3: ...../...../...... | M3: ...../...../...... | N3: ...../...../...... | O3: ...../...../...... | P3: ...../...../...... | Q3: ...../...../...... | R3: ...../...../...... | S3: ...../...../...... | T3: ...../...../...... | U3: ...../...../......
A4: Açoriana Buffet Fornecedora de Alimentos Ltda ME | B4: 1 | C4: COFFEE BREAK TIPO 1 | D4: Pessoa | E4: 339030-15 | F4: 7.58 | H4: =G4-(SUM(J4:U4)) -> 0 | I4: =IF(H4<0,"ATENÇÃO","OK") -> OK
B5: 2 | C5: COFFEE BREAK TIPO 2 | D5: Pessoa | E5: 339030-15 | F5: 8.68 | H5: =G5-(SUM(J5:U5)) -> 0 | I5: =IF(H5<0,"ATENÇÃO","OK") -> OK
B6: 3 | C6: COFFEE BREAK TIPO 3 | D6: Pessoa | E6: 339030-15 | F6: 9.92 | G6: 280 | H6: =G6-(SUM(J6:U6)) -> 280 | I6: =IF(H6<0,"ATENÇÃO","OK") -> OK
B7: 4 | C7: COQUETEL | D7: Pessoa | E7: 339030-15 | F7: 18.4 | G7: 100 | H7: =G7-(SUM(J7:U7)) -> 100 | I7: =IF(H7<0,"ATENÇÃO","OK") -> OK
C9: *Prazos de execução e pagamento conforme Edital

Sheet PROEN
A1: PROCESSO: 1404/2015/UDESC | C1: OBJETO: CONTRATAÇÃO DE EMPRESA PARA FORNECIMENTO DE COFFEE BREAK E COQUETEL PARA EVENTOS DO CAMPUS I - UDESC | G1: VIGÊNCIA DA ATA: 03/12/2015 até 02/12/2016 | J1: Contrato nº xxxx/2016 Qtde. DT | K1: Contrato nº xxxx/2016 Qtde. DT | L1: Contrato nº xxxx/2016 Qtde. DT | M1: Contrato nº xxxx/2016 Qtde. DT | N1: Contrato nº xxxx/2016 Qtde. DT | O1: Contrato nº xxxx/2016 Qtde. DT | P1: Contrato nº xxxx/2016 Qtde. DT | Q1: Contrato nº xxxx/2016 Qtde. DT | R1: Contrato nº xxxx/2016 Qtde. DT | S1: Contrato nº xxxx/2016 Qtde. DT | T1: Contrato nº xxxx/2016 Qtde. DT | U1: Contrato nº xxxx/2016 Qtde. DT
A2: CENTRO PARTICIPANTE: REITORIA
A3: FORNECEDOR | B3: ITEM | C3: DESCRIÇÃO | D3: UNIDADE | E3: DETALHAMENTO | F3: Preço UNITÁRIO (R$) | G3: Qtde Registrada | H3: Saldo / Automático | I3: ALERTA | J3: ...../...../...... | K3: ...../...../...... | L3: ...../...../...... | M3: ...../...../...... | N3: ...../...../...... | O3: ...../...../...... | P3: ...../...../...... | Q3: ...../...../...... | R3: ...../...../...... | S3: ...../...../...... | T3: ...../...../...... | U3: ...../...../......
A4: Açoriana Buffet Fornecedora de Alimentos Ltda ME | B4: 1 | C4: COFFEE BREAK TIPO 1 | D4: Pessoa | E4: 339030-15 | F4: 7.58 | H4: =G4-(SUM(J4:U4)) -> 0 | I4: =IF(H4<0,"ATENÇÃO","OK") -> OK
B5: 2 | C5: COFFEE BREAK TIPO 2 | D5: Pessoa | E5: 339030-15 | F5: 8.68 | G5: 140 | H5: =G5-(SUM(J5:U5)) -> 140 | I5: =IF(H5<0,"ATENÇÃO","OK") -> OK
B6: 3 | C6: COFFEE BREAK TIPO 3 | D6: Pessoa | E6: 339030-15 | F6: 9.92 | H6: =G6-(SUM(J6:U6)) -> 0 | I6: =IF(H6<0,"ATENÇÃO","OK") -> OK
B7: 4 | C7: COQUETEL | D7: Pessoa | E7: 339030-15 | F7: 18.4 | G7: 100 | H7: =G7-(SUM(J7:U7)) -> 100 | I7: =IF(H7<0,"ATENÇÃO","OK") -> OK
C9: *Prazos de execução e pagamento conforme Edital

Sheet ESAG
A1: PROCESSO: 1404/2015/UDESC | C1: OBJETO: CONTRATAÇÃO DE EMPRESA PARA FORNECIMENTO DE COFFEE BREAK E COQUETEL PARA EVENTOS DO CAMPUS I - UDESC | G1: VIGÊNCIA DA ATA: 03/12/2015 até 02/12/2016 | J1: 110/2016 | K1: 452/2016 | L1: Contrato nº xxxx/2016 Qtde. DT | M1: Contrato nº xxxx/2016 Qtde. DT | N1: Contrato nº xxxx/2016 Qtde. DT | O1: Contrato nº xxxx/2016 Qtde. DT | P1: Contrato nº xxxx/2016 Qtde. DT | Q1: Contrato nº xxxx/2016 Qtde. DT | R1: Contrato nº xxxx/2016 Qtde. DT | S1: Contrato nº xxxx/2016 Qtde. DT | T1: Contrato nº xxxx/2016 Qtde. DT | U1: Contrato nº xxxx/2016 Qtde. DT
A2: CENTRO PARTICIPANTE: REITORIA
A3: FORNECEDOR | B3: ITEM | C3: DESCRIÇÃO | D3: UNIDADE | E3: DETALHAMENTO | F3: Preço UNITÁRIO (R$) | G3: Qtde Registrada | H3: Saldo / Automático | I3: ALERTA | J3: ...../...../...... | K3: ...../...../...... | L3: ...../...../...... | M3: ...../...../...... | N3: ...../...../...... | O3: ...../...../...... | P3: ...../...../...... | Q3: ...../...../...... | R3: ...../...../...... | S3: ...../...../...... | T3: ...../...../...... | U3: ...../...../......
A4: Açoriana Buffet Fornecedora de Alimentos Ltda ME | B4: 1 | C4: COFFEE BREAK TIPO 1 | D4: Pessoa | E4: 339030-15 | F4: 7.58 | H4: =G4-(SUM(J4:U4)) -> 0 | I4: =IF(H4<0,"ATENÇÃO","OK") -> OK
B5: 2 | C5: COFFEE BREAK TIPO 2 | D5: Pessoa | E5: 339030-15 | F5: 8.68 | H5: =G5-(SUM(J5:U5)) -> 0 | I5: =IF(H5<0,"ATENÇÃO","OK") -> OK
B6: 3 | C6: COFFEE BREAK TIPO 3 | D6: Pessoa | E6: 339030-15 | F6: 9.92 | G6: 1500 | H6: =G6-(SUM(J6:U6)) -> 820 | I6: =IF(H6<0,"ATENÇÃO","OK") -> OK | J6: 500 | K6: 180
B7: 4 | C7: COQUETEL | D7: Pessoa | E7: 339030-15 | F7: 18.4 | G7: 1000 | H7: =G7-(SUM(J7:U7)) -> 1000 | I7: =IF(H7<0,"ATENÇÃO","OK") -> OK
C9: *Prazos de execução e pagamento conforme Edital

Sheet CEART
A1: PROCESSO: 1404/2015/UDESC | C1: OBJETO: CONTRATAÇÃO DE EMPRESA PARA FORNECIMENTO DE COFFEE BREAK E COQUETEL PARA EVENTOS DO CAMPUS I - UDESC | G1: VIGÊNCIA DA ATA: 03/12/2015 até 02/12/2016 | J1: Contrato nº AF91/2016 Qtde. DT | K1: Contrato nº AF425/2016 Qtde. DT | L1: Contrato nº xxxx/2016 Qtde. DT | M1: Contrato nº xxxx/2016 Qtde. DT | N1: Contrato nº xxxx/2016 Qtde. DT | O1: Contrato nº xxxx/2016 Qtde. DT | P1: Contrato nº xxxx/2016 Qtde. DT | Q1: Contrato nº xxxx/2016 Qtde. DT | R1: Contrato nº xxxx/2016 Qtde. DT | S1: Contrato nº xxxx/2016 Qtde. DT | T1: Contrato nº xxxx/2016 Qtde. DT | U1: Contrato nº xxxx/2016 Qtde. DT
A2: CENTRO PARTICIPANTE: REITORIA
A3: FORNECEDOR | B3: ITEM | C3: DESCRIÇÃO | D3: UNIDADE | E3: DETALHAMENTO | F3: Preço UNITÁRIO (R$) | G3: Qtde Registrada | H3: Saldo / Automático | I3: ALERTA | J3: 42410 | K3: 42500 | L3: ...../...../...... | M3: ...../...../...... | N3: ...../...../...... | O3: ...../...../...... | P3: ...../...../...... | Q3: ...../...../...... | R3: ...../...../...... | S3: ...../...../...... | T3: ...../...../...... | U3: ...../...../......
A4: Açoriana Buffet Fornecedora de Alimentos Ltda ME | B4: 1 | C4: COFFEE BREAK TIPO 1 | D4: Pessoa | E4: 339030-15 | F4: 7.58 | H4: =G4-(SUM(J4:U4)) -> 0 | I4: =IF(H4<0,"ATENÇÃO","OK") -> OK
B5: 2 | C5: COFFEE BREAK TIPO 2 | D5: Pessoa | E5: 339030-15 | F5: 8.68 | G5: 1048 | H5: =G5-(SUM(J5:U5)) -> 988 | I5: =IF(H5<0,"ATENÇÃO","OK") -> OK | K5: 60
B6: 3 | C6: COFFEE BREAK TIPO 3 | D6: Pessoa | E6: 339030-15 | F6: 9.92 | G6: 690 | H6: =G6-(SUM(J6:U6)) -> 640 | I6: =IF(H6<0,"ATENÇÃO","OK") -> OK | J6: 50
B7: 4 | C7: COQUETEL | D7: Pessoa | E7: 339030-15 | F7: 18.4 | G7: 670 | H7: =G7-(SUM(J7:U7)) -> 670 | I7: =IF(H7<0,"ATENÇÃO","OK") -> OK
C9: *Prazos de execução e pagamento conforme Edital

Sheet FAED
A1: PROCESSO: 1404/2015/UDESC | C1: OBJETO: CONTRATAÇÃO DE EMPRESA PARA FORNECIMENTO DE COFFEE BREAK E COQUETEL PARA EVENTOS DO CAMPUS I - UDESC | G1: VIGÊNCIA DA ATA: 03/12/2015 até 02/12/2016 | J1: Contrato nº 93/2016 Qtde. DT | K1: Contrato nº xxxx/2016 Qtde. DT | L1: Contrato nº xxxx/2016 Qtde. DT | M1: Contrato nº xxxx/2016 Qtde. DT | N1: Contrato nº xxxx/2016 Qtde. DT | O1: Contrato nº xxxx/2016 Qtde. DT | P1: Contrato nº xxxx/2016 Qtde. DT | Q1: Contrato nº xxxx/2016 Qtde. DT | R1: Contrato nº xxxx/2016 Qtde. DT | S1: Contrato nº xxxx/2016 Qtde. DT | T1: Contrato nº xxxx/2016 Qtde. DT | U1: Contrato nº xxxx/2016 Qtde. DT
A2: CENTRO PARTICIPANTE: REITORIA
A3: FORNECEDOR | B3: ITEM | C3: DESCRIÇÃO | D3: UNIDADE | E3: DETALHAMENTO | F3: Preço UNITÁRIO (R$) | G3: Qtde Registrada | H3: Saldo / Automático | I3: ALERTA | J3: 42410 | K3: ...../...../...... | L3: ...../...../...... | M3: ...../...../...... | N3: ...../...../...... | O3: ...../...../...... | P3: ...../...../...... | Q3: ...../...../...... | R3: ...../...../...... | S3: ...../...../...... | T3: ...../...../...... | U3: ...../...../......
A4: Açoriana Buffet Fornecedora de Alimentos Ltda ME | B4: 1 | C4: COFFEE BREAK TIPO 1 | D4: Pessoa | E4: 339030-15 | F4: 7.58 | G4: 470 | H4: =G4-(SUM(J4:U4)) -> 370 | I4: =IF(H4<0,"ATENÇÃO","OK") -> OK | J4: 100
B5: 2 | C5: COFFEE BREAK TIPO 2 | D5: Pessoa | E5: 339030-15 | F5: 8.68 | G5: 970 | H5: =G5-(SUM(J5:U5)) -> 820 | I5: =IF(H5<0,"ATENÇÃO","OK") -> OK | J5: 150
B6: 3 | C6: COFFEE BREAK TIPO 3 | D6: Pessoa | E6: 339030-15 | F6: 9.92 | G6: 750 | H6: =G6-(SUM(J6:U6)) -> 500 | I6: =IF(H6<0,"ATENÇÃO","OK") -> OK | J6: 250
B7: 4 | C7: COQUETEL | D7: Pessoa | E7: 339030-15 | F7: 18.4 | G7: 800 | H7: =G7-(SUM(J7:U7)) -> 800 | I7: =IF(H7<0,"ATENÇÃO","OK") -> OK
C9: *Prazos de execução e pagamento conforme Edital

Sheet CEAD
A1: PROCESSO: 1404/2015/UDESC | C1: OBJETO: CONTRATAÇÃO DE EMPRESA PARA FORNECIMENTO DE COFFEE BREAK E COQUETEL PARA EVENTOS DO CAMPUS I - UDESC | G1: VIGÊNCIA DA ATA: 03/12/2015 até 02/12/2016 | J1: Contrato nº xxxx/2016 Qtde. DT | K1: Contrato nº xxxx/2016 Qtde. DT | L1: Contrato nº xxxx/2016 Qtde. DT | M1: Contrato nº xxxx/2016 Qtde. DT | N1: Contrato nº xxxx/2016 Qtde. DT | O1: Contrato nº xxxx/2016 Qtde. DT | P1: Contrato nº xxxx/2016 Qtde. DT | Q1: Contrato nº xxxx/2016 Qtde. DT | R1: Contrato nº xxxx/2016 Qtde. DT | S1: Contrato nº xxxx/2016 Qtde. DT | T1: Contrato nº xxxx/2016 Qtde. DT | U1: Contrato nº xxxx/2016 Qtde. DT
A2: CENTRO PARTICIPANTE: REITORIA
A3: FORNECEDOR | B3: ITEM | C3: DESCRIÇÃO | D3: UNIDADE | E3: DETALHAMENTO | F3: Preço UNITÁRIO (R$) | G3: Qtde Registrada | H3: Saldo / Automático | I3: ALERTA | J3: ...../...../...... | K3: ...../...../...... | L3: ...../...../...... | M3: ...../...../...... | N3: ...../...../...... | O3: ...../...../...... | P3: ...../...../...... | Q3: ...../...../...... | R3: ...../...../...... | S3: ...../...../...... | T3: ...../...../...... | U3: ...../...../......
A4: Açoriana Buffet Fornecedora de Alimentos Ltda ME | B4: 1 | C4: COFFEE BREAK TIPO 1 | D4: Pessoa | E4: 339030-15 | F4: 7.58 | H4: =G4-(SUM(J4:U4)) -> 0 | I4: =IF(H4<0,"ATENÇÃO","OK") -> OK
B5: 2 | C5: COFFEE BREAK TIPO 2 | D5: Pessoa | E5: 339030-15 | F5: 8.68 | G5: 2000 | H5: =G5-(SUM(J5:U5)) -> 2000 | I5: =IF(H5<0,"ATENÇÃO","OK") -> OK
B6: 3 | C6: COFFEE BREAK TIPO 3 | D6: Pessoa | E6: 339030-15 | F6: 9.92 | G6: 340 | H6: =G6-(SUM(J6:U6)) -> 340 | I6: =IF(H6<0,"ATENÇÃO","OK") -> OK
B7: 4 | C7: COQUETEL | D7: Pessoa | E7: 339030-15 | F7: 18.4 | G7: 120 | H7: =G7-(SUM(J7:U7)) -> 120 | I7: =IF(H7<0,"ATENÇÃO","OK") -> OK
C9: *Prazos de execução e pagamento conforme Edital

Sheet CEFID
A1: PROCESSO: 1404/2015/UDESC | C1: OBJETO: CONTRATAÇÃO DE EMPRESA PARA FORNECIMENTO DE COFFEE BREAK E COQUETEL PARA EVENTOS DO CAMPUS I - UDESC | G1: VIGÊNCIA DA ATA: 03/12/2015 até 02/12/2016 | J1: Contrato nº xxxx/2016 Qtde. DT | K1: Contrato nº xxxx/2016 Qtde. DT | L1: Contrato nº xxxx/2016 Qtde. DT | M1: Contrato nº xxxx/2016 Qtde. DT | N1: Contrato nº xxxx/2016 Qtde. DT | O1: Contrato nº xxxx/2016 Qtde. DT | P1: Contrato nº xxxx/2016 Qtde. DT | Q1: Contrato nº xxxx/2016 Qtde. DT | R1: Contrato nº xxxx/2016 Qtde. DT | S1: Contrato nº xxxx/2016 Qtde. DT | T1: Contrato nº xxxx/2016 Qtde. DT | U1: Contrato nº xxxx/2016 Qtde. DT
A2: CENTRO PARTICIPANTE: REITORIA
A3: FORNECEDOR | B3: ITEM | C3: DESCRIÇÃO | D3: UNIDADE | E3: DETALHAMENTO | F3: Preço UNITÁRIO (R$) | G3: Qtde Registrada | H3: Saldo / Automático | I3: ALERTA | J3: ...../...../...... | K3: ...../...../...... | L3: ...../...../...... | M3: ...../...../...... | N3: ...../...../...... | O3: ...../...../...... | P3: ...../...../...... | Q3: ...../...../...... | R3: ...../...../...... | S3: ...../...../...... | T3: ...../...../...... | U3: ...../...../......
A4: Açoriana Buffet Fornecedora de Alimentos Ltda ME | B4: 1 | C4: COFFEE BREAK TIPO 1 | D4: Pessoa | E4: 339030-15 | F4: 7.58 | H4: =G4-(SUM(J4:U4)) -> 0 | I4: =IF(H4<0,"ATENÇÃO","OK") -> OK
B5: 2 | C5: COFFEE BREAK TIPO 2 | D5: Pessoa | E5: 339030-15 | F5: 8.68 | G5: 1408 | H5: =G5-(SUM(J5:U5)) -> 1408 | I5: =IF(H5<0,"ATENÇÃO","OK") -> OK
B6: 3 | C6: COFFEE BREAK TIPO 3 | D6: Pessoa | E6: 339030-15 | F6: 9.92 | H6: =G6-(SUM(J6:U6)) -> 0 | I6: =IF(H6<0,"ATENÇÃO","OK") -> OK
B7: 4 | C7: COQUETEL | D7: Pessoa | E7: 339030-15 | F7: 18.4 | H7: =G7-(SUM(J7:U7)) -> 0 | I7: =IF(H7<0,"ATENÇÃO","OK") -> OK
C9: *Prazos de execução e pagamento conforme Edital

Sheet GESTOR
A1: PROCESSO: 1404/2015/UDESC | C1: OBJETO: CONTRATAÇÃO DE EMPRESA PARA FORNECIMENTO DE COFFEE BREAK E COQUETEL PARA EVENTOS DO CAMPUS I - UDESC | G1: VIGÊNCIA DA ATA: 03/12/2015 até 02/12/2016
A2: CENTRO PARTICIPANTE: REITORIA
A3: FORNECEDOR | B3: ITEM | C3: DESCRIÇÃO | D3: UNIDADE | E3: DETALHAMENTO | F3: Preço UNITÁRIO (R$) | G3: Qtde Registrada | H3: Qtde Utilizada | I3: SALDO | J3: Valor Total Registrado | K3: Valor Total Utilizado
A4: Açoriana Buffet Fornecedora de Alimentos Ltda ME | B4: 1 | C4: COFFEE BREAK TIPO 1 | D4: Pessoa | E4: 339030-15 | F4: 7.58 | G4: =REITORIA!G4+PROEX!G4+MUSEU!G4+PROEN!G4+ESAG!G4+CEART!G4+FAED!G4+CEAD!G4+CEFID!G4 -> 470 | H4: =(REITORIA!G4-REITORIA!H4)+(PROEX!G4-PROEX!H4)+(MUSEU!G4-MUSEU!H4)+(PROEN!G4-PROEN!H4)+(ESAG!G4-ESAG!H4)+(CEART!G4-CEART!H4)+(FAED!G4-FAED!H4)+(CEAD!G4-CEAD!H4)+(CEFID!G4-CEFID!H4) -> 100 | I4: =G4-H4 -> 370 | J4: =F4*G4 -> 3562.6 | K4: =F4*H4 -> 758
B5: 2 | C5: COFFEE BREAK TIPO 2 | D5: Pessoa | E5: 339030-15 | F5: 8.68 | G5: =REITORIA!G5+PROEX!G5+MUSEU!G5+PROEN!G5+ESAG!G5+CEART!G5+FAED!G5+CEAD!G5+CEFID!G5 -> 9021 | H5: =(REITORIA!G5-REITORIA!H5)+(PROEX!G5-PROEX!H5)+(MUSEU!G5-MUSEU!H5)+(PROEN!G5-PROEN!H5)+(ESAG!G5-ESAG!H5)+(CEART!G5-CEART!H5)+(FAED!G5-FAED!H5)+(CEAD!G5-CEAD!H5)+(CEFID!G5-CEFID!H5) -> 210 | I5: =G5-H5 -> 8811 | J5: =F5*G5 -> 78302.28 | K5: =F5*H5 -> 1822.8
B6: 3 | C6: COFFEE BREAK TIPO 3 | D6: Pessoa | E6: 339030-15 | F6: 9.92 | G6: =REITORIA!G6+PROEX!G6+MUSEU!G6+PROEN!G6+ESAG!G6+CEART!G6+FAED!G6+CEAD!G6+CEFID!G6 -> 4560 | H6: =(REITORIA!G6-REITORIA!H6)+(PROEX!G6-PROEX!H6)+(MUSEU!G6-MUSEU!H6)+(PROEN!G6-PROEN!H6)+(ESAG!G6-ESAG!H6)+(CEART!G6-CEART!H6)+(FAED!G6-FAED!H6)+(CEAD!G6-CEAD!H6)+(CEFID!G6-CEFID!H6) -> 1020 | I6: =G6-H6 -> 3540 | J6: =F6*G6 -> 45235.2 | K6: =F6*H6 -> 10118.4
B7: 4 | C7: COQUETEL | D7: Pessoa | E7: 339030-15 | F7: 18.4 | G7: =REITORIA!G7+PROEX!G7+MUSEU!G7+PROEN!G7+ESAG!G7+CEART!G7+FAED!G7+CEAD!G7+CEFID!G7 -> 3690 | H7: =(REITORIA!G7-REITORIA!H7)+(PROEX!G7-PROEX!H7)+(MUSEU!G7-MUSEU!H7)+(PROEN!G7-PROEN!H7)+(ESAG!G7-ESAG!H7)+(CEART!G7-CEART!H7)+(FAED!G7-FAED!H7)+(CEAD!G7-CEAD!H7)+(CEFID!G7-CEFID!H7) -> 0 | I7: =G7-H7 -> 3690 | J7: =F7*G7 -> 67896 | K7: =F7*H7 -> 0
J8: =SUM(J4:J7) -> 194996.08 | K8: =SUM(K4:K7) -> 12699.2
C9: *Prazos de execução e pagamento conforme Edital
G10: Pregão 1404/2015/UDESC - SRP
G11: CONTRATAÇÃO DE EMPRESA PARA FORNECIMENTO DE COFFEE BREAK E COQUETEL PARA EVENTOS DO CAMPUS I - UDESC
G12: VIGÊNCIA DA ATA: 03/12/2015 até 02/12/2016
G13: Valor Total da Ata com Aditivo | K13: =J8 -> 194996.08
G14: Valor Utilizado | K14: =K8 -> 12699.2
G15: % Aditivos
G16: % Utilizado | K16: =K14/K13 -> 0.065125412
G17: Resumo Atualizado em Junho/2016

Sheet Modelo Anexo II IN 002_2014
A1: ANEXO II – Instrução Normativa n.º 002/2014
A3: DECLARAÇÃO DE DISPONIBILIDADE DE QUANTITATIVO PARA EMISSÃO DE AUTORIZAÇÃO DE FORNECIMENTO/ORDEM DE SERVIÇO – SISTEMA DE REGISTRO DE PREÇOS/UDESC
A5: Processo CPA n.º XXXX/2014
A6: Pregão n.º XXXX/2014
A7: Objeto:
A8: Vigência da Ata de Registro de Preços: XX/XX/XXXX até XX/XX/XXXXX
A10: Declaro que o Centro XXXXXXX, participante da Ata de Registro de Preços proveniente do Pregão n.º XXXX/2014, possui saldo em seu quantitativo para a emissão da Autorização de Fornecimento/Ordem de Serviço n.º XXXX/2014, no valor de R$ X.XXX,XX, a ser firmada com a empresa XXXXXXX, restando ainda em sua cota para próximas contratações com o referido fornecedor os seguintes quantitativos:
A12: Lote | B12: Item | C12: Descrição Resumida | D12: Unidade | E12: Valor Unitário (R$) | F12: Saldo Quantitativo (antes da emissão desta AF/OS) | G12: Quantitativo da AF/OS | H12: Saldo Atualizado
A19: __________________, ____/_____/____
A20: Cidade Data
A24: _____________________________________________
A25: Diretor(a) de Administração
A26: (carimbo e assinatura)
