Workbook
Name diasuteis: #REF!
Name diasuteis: #REF!
Name diasuteis: #REF!
Name Ferias: #REF!
Name Ferias: #REF!
Name RD: OFFSET(#REF!,(MATCH(SMALL(#REF!,ROW()-10),#REF!,0)-1),0)
Name RD: OFFSET(#REF!,(MATCH(SMALL(#REF!,ROW()-10),#REF!,0)-1),0)

Sheet SETIC
A1: PROCESSO: 1356/2014/UDESC | D1: OBJETO: AQUISIÇÃO DE EQUIPAMENTOS, MATERIAIS E LICENÇAS PARA SOLUÇÃO DE TELEFONIA CORPORATIVA – IP PARA A UDESC | I1: VIGÊNCIA DA ATA: 21/11/2014 até 20/11/2015 | L1: Contrato nº 241/2015 Qtde. DT | M1: Contrato nº 1054/2015 Qtde. DT | N1: Contrato nº 1512/2015 Qtde. DT | O1: Contrato nº 2103/2015 Qtde. DT
A2: CENTRO PARTICIPANTE: SETIC
A3: FORNECEDOR | B3: LOTE | C3: ITEM | D3: PRODUTO - CARACTERÍSTICAS MÍNIMAS | F3: ELEMENTO | G3: UNIDADE | H3: Preço UNITÁRIO (R$) | I3: Qtde Registrada | J3: Saldo / Automático | K3: ALERTA | L3: 42074 | M3: 42180 | N3: 42247 | O3: 42327
A4: Integra Tecnologia LTDA | B4: 1 | C4: 1 | D4: Acessorios Para Computador Kit Montagem Gabinete Large | E4: Alcatel-Lucent-Acessorios Montagem Gabinete Large PN:3EH75001AB | F4: 339030.30 | G4: Kit | H4: 377 | I4: 4 | J4: =I4-(SUM(L4:O4)) -> 4 | K4: =IF(J4<0,"ATENÇÃO","OK") -> OK | L4: 0 | M4: 0 | N4: 0 | O4: 0
C5: 2 | D5: Aparelho Telefonico IP Basico | E5: Telefone IP Alcatel Lucent Modelo 4018 PN:3GV27063TB | F5: 449052.06 | G5: Peça | H5: 665.5 | I5: 1500 | J5: =I5-(SUM(L5:O5)) -> 0 | K5: =IF(J5<0,"ATENÇÃO","OK") -> OK | L5: 780 | M5: 720 | N5: 0 | O5: 0
C6: 3 | D6: Fonte de Alimentação Aparelho Telefonico IP Basico | E6: Fonte para aparelho IP Alcatel-Lucent / PN:3MG27006AA | F6: 449052.06 | G6: Peça | H6: 76 | I6: 750 | J6: =I6-(SUM(L6:O6)) -> 100 | K6: =IF(J6<0,"ATENÇÃO","OK") -> OK | L6: 300 | M6: 0 | N6: 300 | O6: 50
C7: 4 | D7: Aparelho Telefonico IP Intermediario | E7: Telefone IP Alcatel Lucent Modelo 4038 PN:3GV27061TB | F7: 449052.06 | G7: Peça | H7: 1347.5 | I7: 100 | J7: =I7-(SUM(L7:O7)) -> 0 | K7: =IF(J7<0,"ATENÇÃO","OK") -> OK | L7: 70 | M7: 30 | N7: 0 | O7: 0
C8: 5 | D8: Fonte de Alimentação Aparelho Telefonico IP Intermediario | E8: Fonte para aparelho IP Alcatel-Lucent / PN:3MG27006AA | F8: 449052.06 | G8: Peça | H8: 76 | I8: 50 | J8: =I8-(SUM(L8:O8)) -> 50 | K8: =IF(J8<0,"ATENÇÃO","OK") -> OK | L8: 0 | M8: 0 | N8: 0 | O8: 0
C9: 6 | D9: Aparelho Telefonico IP Top | E9: Telefone IP Alcatel Lucent Modelo 4068 PN:3GV27062TB | F9: 449052.06 | G9: Peça | H9: 2025 | I9: 1 | J9: =I9-(SUM(L9:O9)) -> 0 | K9: =IF(J9<0,"ATENÇÃO","OK") -> OK | L9: 1 | M9: 0 | N9: 0 | O9: 0
C10: 7 | D10: Fonte de Alimentação Aparelho Telefonico IP Top | E10: Fonte para aparelho IP Alcatel-Lucent / PN:3MG27006AA | F10: 449052.06 | G10: Peça | H10: 76 | I10: 1 | J10: =I10-(SUM(L10:O10)) -> 1 | K10: =IF(J10<0,"ATENÇÃO","OK") -> OK | L10: 0 | M10: 0 | N10: 0 | O10: 0
C11: 8 | D11: Cabo Paralelo/Padrao Cabo TY1 | E11: Alcatel-Lucent- Cabo TY1 64/96 Pinos PN:3BA58020AB/3BA58027AA | F11: 339030.30 | G11: Peça | H11: 240 | I11: 10 | J11: =I11-(SUM(L11:O11)) -> 10 | K11: =IF(J11<0,"ATENÇÃO","OK") -> OK | L11: 0 | M11: 0 | N11: 0 | O11: 0
C12: 9 | D12: Gabinete Chassi Para Hardware Comum | E12: Alcatel-Lucent-Chassi para Hardware Comum PN:3BA00751UA | F12: 449052.06 | G12: Peça | H12: 5044 | I12: 2 | J12: =I12-(SUM(L12:O12)) -> 0 | K12: =IF(J12<0,"ATENÇÃO","OK") -> OK | L12: 0 | M12: 0 | N12: 0 | O12: 2
C13: 10 | D13: Gabinete Chassi para Hardware Crystal ACT 28 | E13: Alcatel-Lucent-Chassi hardware Crystal PN: 3BA56007AA | F13: 449052.06 | G13: Peça | H13: 5955 | I13: 4 | J13: =I13-(SUM(L13:O13)) -> 1 | K13: =IF(J13<0,"ATENÇÃO","OK") -> OK | L13: 0 | M13: 0 | N13: 3 | O13: 0
C14: 11 | D14: Gabinete Retificador e PSAL Para Gabinete ACT 28 | E14: Alcatel-Lucent-Gabinete Retificador e PSAL para ACT28 PN:3BA27121AA | F14: 449052.06 | G14: Peça | H14: 4064 | I14: 4 | J14: =I14-(SUM(L14:O14)) -> 4 | K14: =IF(J14<0,"ATENÇÃO","OK") -> OK | L14: 0 | M14: 0 | N14: 0 | O14: 0
C15: 12 | D15: Mesa Operadora para Telefonistas | E15: Alcatel-Lucent-Mesa Operadora IP 4059 PN:3BA00637PB | F15: 449052.06 | G15: Peça | H15: 7207 | I15: 15 | J15: =I15-(SUM(L15:O15)) -> 12 | K15: =IF(J15<0,"ATENÇÃO","OK") -> OK | L15: 0 | M15: 0 | N15: 3 | O15: 0
C16: 13 | D16: Placa de Comunicação GD - Gateway Driver | E16: Alcatel-Lucent-Placa GD / PN: 3EH73084AE | F16: 449052.06 | G16: Peça | H16: 4641 | I16: 8 | J16: =I16-(SUM(L16:O16)) -> 8 | K16: =IF(J16<0,"ATENÇÃO","OK") -> OK | L16: 0 | M16: 0 | N16: 0 | O16: 0
... C28: 25 | D28: Sistema de Correio de Voz | E28: Alcatel-Lucent OmniPCX Enterprise Communication Server- Integrates Voice Guide Services/ PN:3BA09506AA | F28: 449039.94 | G28: Licença | H28: 4000 | I28: 15 | J28: =I28-(SUM(L28:O28)) -> 2 | K28: =IF(J28<0,"ATENÇÃO","OK") -> OK | L28: 0 | M28: 0 | N28: 13 | O28: 0

Sheet GESTOR
A1: PROCESSO: 1356/2014/UDESC | D1: OBJETO: AQUISIÇÃO DE EQUIPAMENTOS, MATERIAIS E LICENÇAS PARA SOLUÇÃO DE TELEFONIA CORPORATIVA – IP PARA A UDESC | I1: VIGÊNCIA DA ATA: 21/11/2014 até 20/11/2015
A2: PLANILHA CONTROLE GESTOR
A3: FORNECEDOR | B3: LOTE | C3: ITEM | D3: PRODUTO - CARACTERÍSTICAS MÍNIMAS | F3: ELEMENTO | G3: UNIDADE | H3: Preço UNITÁRIO (R$) | I3: Qtde Registrada + Aditivos | J3: Quantidade Utilizada | K3: SALDO | L3: Valor Total Registrado | M3: Valor Total Utilizado
A4: Integra Tecnologia LTDA | B4: 1 | C4: 1 | D4: Acessorios Para Computador Kit Montagem Gabinete Large | E4: Alcatel-Lucent-Acessorios Montagem Gabinete Large PN:3EH75001AB | F4: 339030.30 | G4: Kit | H4: 377 | I4: 4 | J4: =SETIC!I4-SETIC!J4 -> 0 | K4: =I4-J4 -> 4 | L4: =H4*I4 -> 1508 | M4: =H4*J4 -> 0
C5: 2 | D5: Aparelho Telefonico IP Basico | E5: Telefone IP Alcatel Lucent Modelo 4018 PN:3GV27063TB | F5: 449052.06 | G5: Peça | H5: 665.5 | I5: 1500 | J5: =SETIC!I5-SETIC!J5 -> 1500 | K5: =I5-J5 -> 0 | L5: =H5*I5 -> 998250 | M5: =H5*J5 -> 998250
C6: 3 | D6: Fonte de Alimentação Aparelho Telefonico IP Basico | E6: Fonte para aparelho IP Alcatel-Lucent / PN:3MG27006AA | F6: 449052.06 | G6: Peça | H6: 76 | I6: 750 | J6: =SETIC!I6-SETIC!J6 -> 650 | K6: =I6-J6 -> 100 | L6: =H6*I6 -> 57000 | M6: =H6*J6 -> 49400
C7: 4 | D7: Aparelho Telefonico IP Intermediario | E7: Telefone IP Alcatel Lucent Modelo 4038 PN:3GV27061TB | F7: 449052.06 | G7: Peça | H7: 1347.5 | I7: 100 | J7: =SETIC!I7-SETIC!J7 -> 100 | K7: =I7-J7 -> 0 | L7: =H7*I7 -> 134750 | M7: =H7*J7 -> 134750
C8: 5 | D8: Fonte de Alimentação Aparelho Telefonico IP Intermediario | E8: Fonte para aparelho IP Alcatel-Lucent / PN:3MG27006AA | F8: 449052.06 | G8: Peça | H8: 76 | I8: 50 | J8: =SETIC!I8-SETIC!J8 -> 0 | K8: =I8-J8 -> 50 | L8: =H8*I8 -> 3800 | M8: =H8*J8 -> 0
C9: 6 | D9: Aparelho Telefonico IP Top | E9: Telefone IP Alcatel Lucent Modelo 4068 PN:3GV27062TB | F9: 449052.06 | G9: Peça | H9: 2025 | I9: 1 | J9: =SETIC!I9-SETIC!J9 -> 1 | K9: =I9-J9 -> 0 | L9: =H9*I9 -> 2025 | M9: =H9*J9 -> 2025
C10: 7 | D10: Fonte de Alimentação Aparelho Telefonico IP Top | E10: Fonte para aparelho IP Alcatel-Lucent / PN:3MG27006AA | F10: 449052.06 | G10: Peça | H10: 76 | I10: 1 | J10: =SETIC!I10-SETIC!J10 -> 0 | K10: =I10-J10 -> 1 | L10: =H10*I10 -> 76 | M10: =H10*J10 -> 0
C11: 8 | D11: Cabo Paralelo/Padrao Cabo TY1 | E11: Alcatel-Lucent- Cabo TY1 64/96 Pinos PN:3BA58020AB/3BA58027AA | F11: 339030.30 | G11: Peça | H11: 240 | I11: 10 | J11: =SETIC!I11-SETIC!J11 -> 0 | K11: =I11-J11 -> 10 | L11: =H11*I11 -> 2400 | M11: =H11*J11 -> 0
C12: 9 | D12: Gabinete Chassi Para Hardware Comum | E12: Alcatel-Lucent-Chassi para Hardware Comum PN:3BA00751UA | F12: 449052.06 | G12: Peça | H12: 5044 | I12: 2 | J12: =SETIC!I12-SETIC!J12 -> 2 | K12: =I12-J12 -> 0 | L12: =H12*I12 -> 10088 | M12: =H12*J12 -> 10088
C13: 10 | D13: Gabinete Chassi para Hardware Crystal ACT 28 | E13: Alcatel-Lucent-Chassi hardware Crystal PN: 3BA56007AA | F13: 449052.06 | G13: Peça | H13: 5955 | I13: 4 | J13: =SETIC!I13-SETIC!J13 -> 3 | K13: =I13-J13 -> 1 | L13: =H13*I13 -> 23820 | M13: =H13*J13 -> 17865
C14: 11 | D14: Gabinete Retificador e PSAL Para Gabinete ACT 28 | E14: Alcatel-Lucent-Gabinete Retificador e PSAL para ACT28 PN:3BA27121AA | F14: 449052.06 | G14: Peça | H14: 4064 | I14: 4 | J14: =SETIC!I14-SETIC!J14 -> 0 | K14: =I14-J14 -> 4 | L14: =H14*I14 -> 16256 | M14: =H14*J14 -> 0
C15: 12 | D15: Mesa Operadora para Telefonistas | E15: Alcatel-Lucent-Mesa Operadora IP 4059 PN:3BA00637PB | F15: 449052.06 | G15: Peça | H15: 7207 | I15: 15 | J15: =SETIC!I15-SETIC!J15 -> 3 | K15: =I15-J15 -> 12 | L15: =H15*I15 -> 108105 | M15: =H15*J15 -> 21621
C16: 13 | D16: Placa de Comunicação GD - Gateway Driver | E16: Alcatel-Lucent-Placa GD / PN: 3EH73084AE | F16: 449052.06 | G16: Peça | H16: 4641 | I16: 8 | J16: =SETIC!I16-SETIC!J16 -> 0 | K16: =I16-J16 -> 8 | L16: =H16*I16 -> 37128 | M16: =H16*J16 -> 0
... C28: 25 | D28: Sistema de Correio de Voz | E28: Alcatel-Lucent OmniPCX Enterprise Communication Server- Integrates Voice Guide Services/ PN:3BA09506AA | F28: 449039.94 | G28: Licença | H28: 4000 | I28: 15 | J28: =SETIC!I28-SETIC!J28 -> 13 | K28: =I28-J28 -> 2 | L28: =H28*I28 -> 60000 | M28: =H28*J28 -> 52000
L29: =SUM(L4:L28) -> 1832000 | M29: =SUM(M4:M28) -> 1402799
I31: Pregão 1356/2014/UDESC - SRP
I32: AQUISIÇÃO DE EQUIPAMENTOS, MATERIAIS E LICENÇAS PARA SOLUÇÃO DE TELEFONIA CORPORATIVA – IP PARA A UDESC
I33: Vigência da Ata: 21/11/2014 até 20/11/2015
I34: Valor Total da Ata com Aditivo | M34: =L29 -> 1832000
I35: Valor Utilizado | M35: =M29 -> 1402799
I36: % Aditivos
I37: % Utilizado | M37: =M35/M34 -> 0.76571998
I38: Resumo Atualizado em Dezembro/2015

Sheet Modelo Anexo II IN 002_2014
A1: ANEXO II – Instrução Normativa n.º 002/2014
A3: DECLARAÇÃO DE DISPONIBILIDADE DE QUANTITATIVO PARA EMISSÃO DE AUTORIZAÇÃO DE FORNECIMENTO/ORDEM DE SERVIÇO – SISTEMA DE REGISTRO DE PREÇOS/UDESC
A5: Processo CPA n.º XXXX/2014
A6: Pregão n.º XXXX/2014
A7: Objeto:
A8: Vigência da Ata de Registro de Preços: XX/XX/XXXX até XX/XX/XXXXX
A10: Declaro que o Centro XXXXXXX, participante da Ata de Registro de Preços proveniente do Pregão n.º XXXX/2014, possui saldo em seu quantitativo para a emissão da Autorização de Fornecimento/Ordem de Serviço n.º XXXX/2014, no valor de R$ X.XXX,XX, a ser firmada com a empresa XXXXXXX, restando ainda em sua cota para próximas contratações com o referido fornecedor os seguintes quantitativos:
A12: Lote | B12: Item | C12: Descrição Resumida | D12: Unidade | E12: Valor Unitário (R$) | F12: Saldo Quantitativo (antes da emissão desta AF/OS) | G12: Quantitativo da AF/OS | H12: Saldo Atualizado
A19: __________________, ____/_____/____
A20: Cidade Data
A24: _____________________________________________
A25: Diretor(a) de Administração
A26: (carimbo e assinatura)
