Workbook
Name diasuteis: #REF!
Name diasuteis: #REF!
Name diasuteis: #REF!
Name Ferias: #REF!
Name Ferias: #REF!
Name RD: OFFSET(#REF!,(MATCH(SMALL(#REF!,ROW()-10),#REF!,0)-1),0)
Name RD: OFFSET(#REF!,(MATCH(SMALL(#REF!,ROW()-10),#REF!,0)-1),0)

Sheet SETIC
A1: PROCESSO: 1356/2014/UDESC | D1: OBJETO: AQUISIÇÃO DE EQUIPAMENTOS, MATERIAIS E LICENÇAS PARA SOLUÇÃO DE TELEFONIA CORPORATIVA – IP PARA A UDESC | I1: VIGÊNCIA DA ATA: 21/11/2014 até 20/11/2015 | L1: AF/OS nº xxxx/2014 Qtde. DT | M1: AF/OS nº xxxx/2014 Qtde. DT | N1: AF/OS nº xxxx/2014 Qtde. DT | O1: AF/OS nº xxxx/2014 Qtde. DT | P1: AF/OS nº xxxx/2014 Qtde. DT | Q1: AF/OS nº xxxx/2014 Qtde. DT | R1: AF/OS nº xxxx/2014 Qtde. DT | S1: AF/OS nº xxxx/2014 Qtde. DT | T1: AF/OS nº xxxx/2014 Qtde. DT | U1: AF/OS nº xxxx/2014 Qtde. DT | V1: AF/OS nº xxxx/2014 Qtde. DT | W1: AF/OS nº xxxx/2014 Qtde. DT
A2: CENTRO PARTICIPANTE: SETIC
A3: FORNECEDOR | B3: LOTE | C3: ITEM | D3: PRODUTO - CARACTERÍSTICAS MÍNIMAS | F3: ELEMENTO | G3: UNIDADE | H3: Preço UNITÁRIO (R$) | I3: Qtde LICITADA | J3: Saldo / Automático | K3: ALERTA | L3: ...../...../...... | M3: ...../...../...... | N3: ...../...../...... | O3: ...../...../...... | P3: ...../...../...... | Q3: ...../...../...... | R3: ...../...../...... | S3: ...../...../...... | T3: ...../...../...... | U3: ...../...../...... | V3: ...../...../...... | W3: ...../...../......
A4: Integra Tecnologia LTDA | B4: 1 | C4: 1 | D4: Acessorios Para Computador Kit Montagem Gabinete Large | E4: Alcatel-Lucent-Acessorios Montagem Gabinete Large PN:3EH75001AB | F4: 339030.30 | G4: Kit | H4: 377 | I4: 4 | J4: =I4-(SUM(L4:W4)) -> 4 | K4: =IF(J4<0,"ATENÇÃO","OK") -> OK | L4: 0 | M4: 0 | N4: 0 | O4: 0 | P4: 0 | Q4: 0 | R4: 0 | S4: 0 | T4: 0 | U4: 0 | V4: 0 | W4: 0
C5: 2 | D5: Aparelho Telefonico IP Basico | E5: Telefone IP Alcatel Lucent Modelo 4018 PN:3GV27063TB | F5: 449052.06 | G5: Peça | H5: 665.5 | I5: 1500 | J5: =I5-(SUM(L5:W5)) -> 1500 | K5: =IF(J5<0,"ATENÇÃO","OK") -> OK | L5: 0 | M5: 0 | N5: 0 | O5: 0 | P5: 0 | Q5: 0 | R5: 0 | S5: 0 | T5: 0 | U5: 0 | V5: 0 | W5: 0
C6: 3 | D6: Fonte de Alimentação Aparelho Telefonico IP Basico | E6: Fonte para aparelho IP Alcatel-Lucent / PN:3MG27006AA | F6: 449052.06 | G6: Peça | H6: 76 | I6: 750 | J6: =I6-(SUM(L6:W6)) -> 750 | K6: =IF(J6<0,"ATENÇÃO","OK") -> OK | L6: 0 | M6: 0 | N6: 0 | O6: 0 | P6: 0 | Q6: 0 | R6: 0 | S6: 0 | T6: 0 | U6: 0 | V6: 0 | W6: 0
C7: 4 | D7: Aparelho Telefonico IP Intermediario | E7: Telefone IP Alcatel Lucent Modelo 4038 PN:3GV27061TB | F7: 449052.06 | G7: Peça | H7: 1347.5 | I7: 100 | J7: =I7-(SUM(L7:W7)) -> 100 | K7: =IF(J7<0,"ATENÇÃO","OK") -> OK | L7: 0 | M7: 0 | N7: 0 | O7: 0 | P7: 0 | Q7: 0 | R7: 0 | S7: 0 | T7: 0 | U7: 0 | V7: 0 | W7: 0
C8: 5 | D8: Fonte de Alimentação Aparelho Telefonico IP Intermediario | E8: Fonte para aparelho IP Alcatel-Lucent / PN:3MG27006AA | F8: 449052.06 | G8: Peça | H8: 76 | I8: 50 | J8: =I8-(SUM(L8:W8)) -> 50 | K8: =IF(J8<0,"ATENÇÃO","OK") -> OK | L8: 0 | M8: 0 | N8: 0 | O8: 0 | P8: 0 | Q8: 0 | R8: 0 | S8: 0 | T8: 0 | U8: 0 | V8: 0 | W8: 0
C9: 6 | D9: Aparelho Telefonico IP Top | E9: Telefone IP Alcatel Lucent Modelo 4068 PN:3GV27062TB | F9: 449052.06 | G9: Peça | H9: 2025 | I9: 1 | J9: =I9-(SUM(L9:W9)) -> 1 | K9: =IF(J9<0,"ATENÇÃO","OK") -> OK | L9: 0 | M9: 0 | N9: 0 | O9: 0 | P9: 0 | Q9: 0 | R9: 0 | S9: 0 | T9: 0 | U9: 0 | V9: 0 | W9: 0
C10: 7 | D10: Fonte de Alimentação Aparelho Telefonico IP Top | E10: Fonte para aparelho IP Alcatel-Lucent / PN:3MG27006AA | F10: 449052.06 | G10: Peça | H10: 76 | I10: 1 | J10: =I10-(SUM(L10:W10)) -> 1 | K10: =IF(J10<0,"ATENÇÃO","OK") -> OK | L10: 0 | M10: 0 | N10: 0 | O10: 0 | P10: 0 | Q10: 0 | R10: 0 | S10: 0 | T10: 0 | U10: 0 | V10: 0 | W10: 0
C11: 8 | D11: Cabo Paralelo/Padrao Cabo TY1 | E11: Alcatel-Lucent- Cabo TY1 64/96 Pinos PN:3BA58020AB/3BA58027AA | F11: 339030.30 | G11: Peça | H11: 240 | I11: 10 | J11: =I11-(SUM(L11:W11)) -> 10 | K11: =IF(J11<0,"ATENÇÃO","OK") -> OK | L11: 0 | M11: 0 | N11: 0 | O11: 0 | P11: 0 | Q11: 0 | R11: 0 | S11: 0 | T11: 0 | U11: 0 | V11: 0 | W11: 0
C12: 9 | D12: Gabinete Chassi Para Hardware Comum | E12: Alcatel-Lucent-Chassi para Hardware Comum PN:3BA00751UA | F12: 449052.06 | G12: Peça | H12: 5044 | I12: 2 | J12: =I12-(SUM(L12:W12)) -> 2 | K12: =IF(J12<0,"ATENÇÃO","OK") -> OK | L12: 0 | M12: 0 | N12: 0 | O12: 0 | P12: 0 | Q12: 0 | R12: 0 | S12: 0 | T12: 0 | U12: 0 | V12: 0 | W12: 0
C13: 10 | D13: Gabinete Chassi para Hardware Crystal ACT 28 | E13: Alcatel-Lucent-Chassi hardware Crystal PN: 3BA56007AA | F13: 449052.06 | G13: Peça | H13: 5955 | I13: 4 | J13: =I13-(SUM(L13:W13)) -> 4 | K13: =IF(J13<0,"ATENÇÃO","OK") -> OK | L13: 0 | M13: 0 | N13: 0 | O13: 0 | P13: 0 | Q13: 0 | R13: 0 | S13: 0 | T13: 0 | U13: 0 | V13: 0 | W13: 0
C14: 11 | D14: Gabinete Retificador e PSAL Para Gabinete ACT 28 | E14: Alcatel-Lucent-Gabinete Retificador e PSAL para ACT28 PN:3BA27121AA | F14: 449052.06 | G14: Peça | H14: 4064 | I14: 4 | J14: =I14-(SUM(L14:W14)) -> 4 | K14: =IF(J14<0,"ATENÇÃO","OK") -> OK | L14: 0 | M14: 0 | N14: 0 | O14: 0 | P14: 0 | Q14: 0 | R14: 0 | S14: 0 | T14: 0 | U14: 0 | V14: 0 | W14: 0
C15: 12 | D15: Mesa Operadora para Telefonistas | E15: Alcatel-Lucent-Mesa Operadora IP 4059 PN:3BA00637PB | F15: 449052.06 | G15: Peça | H15: 7207 | I15: 15 | J15: =I15-(SUM(L15:W15)) -> 15 | K15: =IF(J15<0,"ATENÇÃO","OK") -> OK | L15: 0 | M15: 0 | N15: 0 | O15: 0 | P15: 0 | Q15: 0 | R15: 0 | S15: 0 | T15: 0 | U15: 0 | V15: 0 | W15: 0
C16: 13 | D16: Placa de Comunicação GD - Gateway Driver | E16: Alcatel-Lucent-Placa GD / PN: 3EH73084AE | F16: 449052.06 | G16: Peça | H16: 4641 | I16: 8 | J16: =I16-(SUM(L16:W16)) -> 8 | K16: =IF(J16<0,"ATENÇÃO","OK") -> OK | L16: 0 | M16: 0 | N16: 0 | O16: 0 | P16: 0 | Q16: 0 | R16: 0 | S16: 0 | T16: 0 | U16: 0 | V16: 0 | W16: 0
... C28: 25 | D28: Sistema de Correio de Voz | E28: Alcatel-Lucent OmniPCX Enterprise Communication Server- Integrates Voice Guide Services/ PN:3BA09506AA | F28: 449039.94 | G28: Licença | H28: 4000 | I28: 15 | J28: =I28-(SUM(L28:W28)) -> 15 | K28: =IF(J28<0,"ATENÇÃO","OK") -> OK | L28: 0 | M28: 0 | N28: 0 | O28: 0 | P28: 0 | Q28: 0 | R28: 0 | S28: 0 | T28: 0 | U28: 0 | V28: 0 | W28: 0

Sheet GESTOR
A1: PROCESSO: 1356/2014/UDESC | D1: OBJETO: AQUISIÇÃO DE EQUIPAMENTOS, MATERIAIS E LICENÇAS PARA SOLUÇÃO DE TELEFONIA CORPORATIVA – IP PARA A UDESC | I1: VIGÊNCIA DA ATA: 21/11/2014 até 20/11/2015
A2: PLANILHA CONTROLE GESTOR
A3: FORNECEDOR | B3: LOTE | C3: ITEM | D3: PRODUTO - CARACTERÍSTICAS MÍNIMAS | F3: ELEMENTO | G3: UNIDADE | H3: Preço UNITÁRIO (R$) | I3: Qtde LICITADA | J3: Quantidade Utilizada | K3: SALDO
A4: Integra Tecnologia LTDA | B4: 1 | C4: 1 | D4: Acessorios Para Computador Kit Montagem Gabinete Large | E4: Alcatel-Lucent-Acessorios Montagem Gabinete Large PN:3EH75001AB | F4: 339030.30 | G4: Kit | H4: 377 | I4: 4 | J4: =SUM(SETIC!L4:W4) -> 0 | K4: =I4-J4 -> 4
C5: 2 | D5: Aparelho Telefonico IP Basico | E5: Telefone IP Alcatel Lucent Modelo 4018 PN:3GV27063TB | F5: 449052.06 | G5: Peça | H5: 665.5 | I5: 1500 | J5: =SUM(SETIC!L5:W5) -> 0 | K5: =I5-J5 -> 1500
C6: 3 | D6: Fonte de Alimentação Aparelho Telefonico IP Basico | E6: Fonte para aparelho IP Alcatel-Lucent / PN:3MG27006AA | F6: 449052.06 | G6: Peça | H6: 76 | I6: 750 | J6: =SUM(SETIC!L6:W6) -> 0 | K6: =I6-J6 -> 750
C7: 4 | D7: Aparelho Telefonico IP Intermediario | E7: Telefone IP Alcatel Lucent Modelo 4038 PN:3GV27061TB | F7: 449052.06 | G7: Peça | H7: 1347.5 | I7: 100 | J7: =SUM(SETIC!L7:W7) -> 0 | K7: =I7-J7 -> 100
C8: 5 | D8: Fonte de Alimentação Aparelho Telefonico IP Intermediario | E8: Fonte para aparelho IP Alcatel-Lucent / PN:3MG27006AA | F8: 449052.06 | G8: Peça | H8: 76 | I8: 50 | J8: =SUM(SETIC!L8:W8) -> 0 | K8: =I8-J8 -> 50
C9: 6 | D9: Aparelho Telefonico IP Top | E9: Telefone IP Alcatel Lucent Modelo 4068 PN:3GV27062TB | F9: 449052.06 | G9: Peça | H9: 2025 | I9: 1 | J9: =SUM(SETIC!L9:W9) -> 0 | K9: =I9-J9 -> 1
C10: 7 | D10: Fonte de Alimentação Aparelho Telefonico IP Top | E10: Fonte para aparelho IP Alcatel-Lucent / PN:3MG27006AA | F10: 449052.06 | G10: Peça | H10: 76 | I10: 1 | J10: =SUM(SETIC!L10:W10) -> 0 | K10: =I10-J10 -> 1
C11: 8 | D11: Cabo Paralelo/Padrao Cabo TY1 | E11: Alcatel-Lucent- Cabo TY1 64/96 Pinos PN:3BA58020AB/3BA58027AA | F11: 339030.30 | G11: Peça | H11: 240 | I11: 10 | J11: =SUM(SETIC!L11:W11) -> 0 | K11: =I11-J11 -> 10
C12: 9 | D12: Gabinete Chassi Para Hardware Comum | E12: Alcatel-Lucent-Chassi para Hardware Comum PN:3BA00751UA | F12: 449052.06 | G12: Peça | H12: 5044 | I12: 2 | J12: =SUM(SETIC!L12:W12) -> 0 | K12: =I12-J12 -> 2
C13: 10 | D13: Gabinete Chassi para Hardware Crystal ACT 28 | E13: Alcatel-Lucent-Chassi hardware Crystal PN: 3BA56007AA | F13: 449052.06 | G13: Peça | H13: 5955 | I13: 4 | J13: =SUM(SETIC!L13:W13) -> 0 | K13: =I13-J13 -> 4
C14: 11 | D14: Gabinete Retificador e PSAL Para Gabinete ACT 28 | E14: Alcatel-Lucent-Gabinete Retificador e PSAL para ACT28 PN:3BA27121AA | F14: 449052.06 | G14: Peça | H14: 4064 | I14: 4 | J14: =SUM(SETIC!L14:W14) -> 0 | K14: =I14-J14 -> 4
C15: 12 | D15: Mesa Operadora para Telefonistas | E15: Alcatel-Lucent-Mesa Operadora IP 4059 PN:3BA00637PB | F15: 449052.06 | G15: Peça | H15: 7207 | I15: 15 | J15: =SUM(SETIC!L15:W15) -> 0 | K15: =I15-J15 -> 15
C16: 13 | D16: Placa de Comunicação GD - Gateway Driver | E16: Alcatel-Lucent-Placa GD / PN: 3EH73084AE | F16: 449052.06 | G16: Peça | H16: 4641 | I16: 8 | J16: =SUM(SETIC!L16:W16) -> 0 | K16: =I16-J16 -> 8
... C28: 25 | D28: Sistema de Correio de Voz | E28: Alcatel-Lucent OmniPCX Enterprise Communication Server- Integrates Voice Guide Services/ PN:3BA09506AA | F28: 449039.94 | G28: Licença | H28: 4000 | I28: 15 | J28: =SUM(SETIC!L28:W28) -> 0 | K28: =I28-J28 -> 15

Sheet Modelo Anexo II IN 002_2014
A1: ANEXO II – Instrução Normativa n.º 002/2014
A3: DECLARAÇÃO DE DISPONIBILIDADE DE QUANTITATIVO PARA EMISSÃO DE AUTORIZAÇÃO DE FORNECIMENTO/ORDEM DE SERVIÇO – SISTEMA DE REGISTRO DE PREÇOS/UDESC
A5: Processo CPA n.º XXXX/2014
A6: Pregão n.º XXXX/2014
A7: Objeto:
A8: Vigência da Ata de Registro de Preços: XX/XX/XXXX até XX/XX/XXXXX
A10: Declaro que o Centro XXXXXXX, participante da Ata de Registro de Preços proveniente do Pregão n.º XXXX/2014, possui saldo em seu quantitativo para a emissão da Autorização de Fornecimento/Ordem de Serviço n.º XXXX/2014, no valor de R$ X.XXX,XX, a ser firmada com a empresa XXXXXXX, restando ainda em sua cota para próximas contratações com o referido fornecedor os seguintes quantitativos:
A12: Lote | B12: Item | C12: Descrição Resumida | D12: Unidade | E12: Valor Unitário (R$) | F12: Saldo Quantitativo (antes da emissão desta AF/OS) | G12: Quantitativo da AF/OS | H12: Saldo Atualizado
A19: __________________, ____/_____/____
A20: Cidade Data
A24: _____________________________________________
A25: Diretor(a) de Administração
A26: (carimbo e assinatura)
