Workbook
Name CEPLAN: #REF!
Name CEPLAN: #REF!
Name diasuteis: #REF!
Name diasuteis: #REF!
Name diasuteis: #REF!
Name Ferias: #REF!
Name Ferias: #REF!
Name Ferias: #REF!
Name RD: OFFSET(#REF!,(MATCH(SMALL(#REF!,ROW()-10),#REF!,0)-1),0)
Name RD: OFFSET(#REF!,(MATCH(SMALL(#REF!,ROW()-10),#REF!,0)-1),0)
Name RD: OFFSET(#REF!,(MATCH(SMALL(#REF!,ROW()-10),#REF!,0)-1),0)

Sheet REITORIA
A1: PROCESSO: 1066/2015/UDESC | D1: OBJETO: AQUISIÇÃO DE SUPRIMENTOS DE INFORMÁTICA PARA A UDESC | I1: VIGÊNCIA DA ATA: 06/10/2015 até 05/10/2016 | L1: AF/OS nº xxxx/2015 Qtde. DT | M1: AF/OS nº xxxx/2015 Qtde. DT | N1: AF/OS nº xxxx/2015 Qtde. DT | O1: AF/OS nº xxxx/2015 Qtde. DT | P1: AF/OS nº xxxx/2015 Qtde. DT | Q1: AF/OS nº xxxx/2015 Qtde. DT | R1: AF/OS nº xxxx/2015 Qtde. DT | S1: AF/OS nº xxxx/2015 Qtde. DT | T1: AF/OS nº xxxx/2015 Qtde. DT | U1: AF/OS nº xxxx/2015 Qtde. DT | V1: AF/OS nº xxxx/2015 Qtde. DT | W1: AF/OS nº xxxx/2015 Qtde. DT
A2: CENTRO PARTICIPANTE: REITORIA
A3: FORNECEDOR | B3: LOTE | C3: ITEM | D3: PRODUTO - CARACTERÍSTICAS MÍNIMAS | E3: UNIDADE | F3: MARCA | G3: DETALHAMENTO | H3: Preço UNITÁRIO (R$) | I3: Qtde Registrada | J3: Saldo / Automático | K3: ALERTA | L3: ...../...../...... | M3: ...../...../...... | N3: ...../...../...... | O3: ...../...../...... | P3: ...../...../...... | Q3: ...../...../...... | R3: ...../...../...... | S3: ...../...../...... | T3: ...../...../...... | U3: ...../...../...... | V3: ...../...../...... | W3: ...../...../......
A4: EONIX SUPRIMENTOS DE INFORMÁTICA LTDA ME | B4: 1 | C4: 1 | D4: Cabeça de Impressão HP 72 C9380A (Novo e Original) | E4: peça | F4: HP | G4: 339030.17 | H4: 270 | I4: 2 | J4: =I4-(SUM(L4:W4)) -> 2 | K4: =IF(J4<0,"ATENÇÃO","OK") -> OK | L4: 0 | M4: 0 | N4: 0 | O4: 0 | P4: 0 | Q4: 0 | R4: 0 | S4: 0 | T4: 0 | U4: 0 | V4: 0 | W4: 0
C5: 2 | D5: Cabeça de Impressão HP 72 C9383A (Novo e Original) | E5: peça | F5: HP | G5: 339030.17 | H5: 270 | I5: 2 | J5: =I5-(SUM(L5:W5)) -> 2 | K5: =IF(J5<0,"ATENÇÃO","OK") -> OK | L5: 0 | M5: 0 | N5: 0 | O5: 0 | P5: 0 | Q5: 0 | R5: 0 | S5: 0 | T5: 0 | U5: 0 | V5: 0 | W5: 0
C6: 3 | D6: Cabeça de Impressão HP 72 C9384A (Novo e Original) | E6: peça | F6: HP | G6: 339030.17 | H6: 269.5 | I6: 2 | J6: =I6-(SUM(L6:W6)) -> 2 | K6: =IF(J6<0,"ATENÇÃO","OK") -> OK | L6: 0 | M6: 0 | N6: 0 | O6: 0 | P6: 0 | Q6: 0 | R6: 0 | S6: 0 | T6: 0 | U6: 0 | V6: 0 | W6: 0
C7: 4 | D7: Cartucho de Tinta HP 72 C9373A (Novo e Original) | E7: peça | F7: HP | G7: 339030.17 | H7: 297 | I7: 3 | J7: =I7-(SUM(L7:W7)) -> 3 | K7: =IF(J7<0,"ATENÇÃO","OK") -> OK | L7: 0 | M7: 0 | N7: 0 | O7: 0 | P7: 0 | Q7: 0 | R7: 0 | S7: 0 | T7: 0 | U7: 0 | V7: 0 | W7: 0
C8: 5 | D8: Cartucho de Tinta HP 72 C9403A (Novo e Original) | E8: peça | F8: HP | G8: 339030.17 | H8: 297 | I8: 3 | J8: =I8-(SUM(L8:W8)) -> 3 | K8: =IF(J8<0,"ATENÇÃO","OK") -> OK | L8: 0 | M8: 0 | N8: 0 | O8: 0 | P8: 0 | Q8: 0 | R8: 0 | S8: 0 | T8: 0 | U8: 0 | V8: 0 | W8: 0
C9: 6 | D9: Cartucho de Tinta HP 72 C9370A (Novo e Original) | E9: peça | F9: HP | G9: 339030.17 | H9: 297 | I9: 3 | J9: =I9-(SUM(L9:W9)) -> 3 | K9: =IF(J9<0,"ATENÇÃO","OK") -> OK | L9: 0 | M9: 0 | N9: 0 | O9: 0 | P9: 0 | Q9: 0 | R9: 0 | S9: 0 | T9: 0 | U9: 0 | V9: 0 | W9: 0
C10: 7 | D10: Cartucho de Tinta HP 72 C9371A (Novo e Original) | E10: peça | F10: HP | G10: 339030.17 | H10: 297 | I10: 3 | J10: =I10-(SUM(L10:W10)) -> 3 | K10: =IF(J10<0,"ATENÇÃO","OK") -> OK | L10: 0 | M10: 0 | N10: 0 | O10: 0 | P10: 0 | Q10: 0 | R10: 0 | S10: 0 | T10: 0 | U10: 0 | V10: 0 | W10: 0
C11: 8 | D11: Cartucho de Tinta HP 72 C9374A (Novo e Original) | E11: peça | F11: HP | G11: 339030.17 | H11: 297 | I11: 3 | J11: =I11-(SUM(L11:W11)) -> 3 | K11: =IF(J11<0,"ATENÇÃO","OK") -> OK | L11: 0 | M11: 0 | N11: 0 | O11: 0 | P11: 0 | Q11: 0 | R11: 0 | S11: 0 | T11: 0 | U11: 0 | V11: 0 | W11: 0
C12: 9 | D12: Cartucho de Tinta HP 72 C9372A (Novo e Original) | E12: peça | F12: HP | G12: 339030.17 | H12: 297 | I12: 3 | J12: =I12-(SUM(L12:W12)) -> 3 | K12: =IF(J12<0,"ATENÇÃO","OK") -> OK | L12: 0 | M12: 0 | N12: 0 | O12: 0 | P12: 0 | Q12: 0 | R12: 0 | S12: 0 | T12: 0 | U12: 0 | V12: 0 | W12: 0
A13: INFOTRIZ COMERCIAL EIRELI EPP | B13: 2 | C13: 10 | D13: Fita para impressora Epson FX 2190, referência S015335 | E13: peça | F13: Master | G13: 339030.17 | H13: 40.62 | I13: 8 | J13: =I13-(SUM(L13:W13)) -> 8 | K13: =IF(J13<0,"ATENÇÃO","OK") -> OK | L13: 0 | M13: 0 | N13: 0 | O13: 0 | P13: 0 | Q13: 0 | R13: 0 | S13: 0 | T13: 0 | U13: 0 | V13: 0 | W13: 0
A14: INFOTRIZ COMERCIAL EIRELI EPP | B14: 3 | C14: 11 | D14: Rolo OFFSET para Plotter 914mmX100m 75g/m2 | E14: rolo | F14: VR | G14: 339030.17 | H14: 79.3 | J14: =I14-(SUM(L14:W14)) -> 0 | K14: =IF(J14<0,"ATENÇÃO","OK") -> OK | L14: 0 | M14: 0 | N14: 0 | O14: 0 | P14: 0 | Q14: 0 | R14: 0 | S14: 0 | T14: 0 | U14: 0 | V14: 0 | W14: 0
A15: INFOTRIZ COMERCIAL EIRELI EPP | B15: 4 | C15: 23 | D15: FITA PARA IMPRESSORA, MODELO 9208,EPSON FX 2180 *, Fita para impressora Epson FX 2180 | E15: peça | F15: Master | G15: 339030.17 | H15: 28.8 | J15: =I15-(SUM(L15:W15)) -> 0 | K15: =IF(J15<0,"ATENÇÃO","OK") -> OK | L15: 0 | M15: 0 | N15: 0 | O15: 0 | P15: 0 | Q15: 0 | R15: 0 | S15: 0 | T15: 0 | U15: 0 | V15: 0 | W15: 0
A16: INFOTRIZ COMERCIAL EIRELI EPP | B16: 6 | C16: 24 | D16: Toner Samsung MLT-D208S MLT-D208L D208 | ML1635 SCX5635FN SCX5835FN | Compatível 10k | E16: Peça | F16: Master | G16: 339030.17 | H16: 72.5 | J16: =I16-(SUM(L16:W16)) -> 0 | K16: =IF(J16<0,"ATENÇÃO","OK") -> OK | L16: 0 | M16: 0 | N16: 0 | O16: 0 | P16: 0 | Q16: 0 | R16: 0 | S16: 0 | T16: 0 | U16: 0 | V16: 0 | W16: 0
A17: EONIX SUPRIMENTOS DE INFORMÁTICA LTDA ME | B17: 7 | C17: 25 | D17: Toner Compatível HP CE285A 85A | CB435A | CB436A | P1102 P1102W M1210 M1212 | E17: Peça | F17: Politoner | G17: 339030.17 | H17: 66 | J17: =I17-(SUM(L17:W17)) -> 0 | K17: =IF(J17<0,"ATENÇÃO","OK") -> OK | L17: 0 | M17: 0 | N17: 0 | O17: 0 | P17: 0 | Q17: 0 | R17: 0 | S17: 0 | T17: 0 | U17: 0 | V17: 0 | W17: 0
C18: 26 | D18: HP 56 Cartucho de impressão a jato de tinta preto (C6656AB) | E18: Peça | F18: HP | G18: 339030.17 | H18: 89 | J18: =I18-(SUM(L18:W18)) -> 0 | K18: =IF(J18<0,"ATENÇÃO","OK") -> OK | L18: 0 | M18: 0 | N18: 0 | O18: 0 | P18: 0 | Q18: 0 | R18: 0 | S18: 0 | T18: 0 | U18: 0 | V18: 0 | W18: 0
A19: INFOTRIZ COMERCIAL EIRELI EPP | B19: 8 | C19: 27 | D19: Cartucho preto nº 92. | E19: Peça | F19: HP | G19: 339030.17 | H19: 38.11 | J19: =I19-(SUM(L19:W19)) -> 0 | K19: =IF(J19<0,"ATENÇÃO","OK") -> OK | L19: 0 | M19: 0 | N19: 0 | O19: 0 | P19: 0 | Q19: 0 | R19: 0 | S19: 0 | T19: 0 | U19: 0 | V19: 0 | W19: 0
C20: 28 | D20: Cartucho colorido nº 93 ou 95. | E20: Peça | F20: HP | G20: 339030.17 | H20: 76.03 | J20: =I20-(SUM(L20:W20)) -> 0 | K20: =IF(J20<0,"ATENÇÃO","OK") -> OK | L20: 0 | M20: 0 | N20: 0 | O20: 0 | P20: 0 | Q20: 0 | R20: 0 | S20: 0 | T20: 0 | U20: 0 | V20: 0 | W20: 0
C21: 29 | D21: Cartucho fotográfico nº 99. | E21: Peça | F21: HP | G21: 339030.17 | H21: 85.86 | J21: =I21-(SUM(L21:W21)) -> 0 | K21: =IF(J21<0,"ATENÇÃO","OK") -> OK | L21: 0 | M21: 0 | N21: 0 | O21: 0 | P21: 0 | Q21: 0 | R21: 0 | S21: 0 | T21: 0 | U21: 0 | V21: 0 | W21: 0
D23: Lote 5 - Infrutífero
D24: Prazos de entrega epagamento conforme Termo de Referência

Sheet ESAG
A1: PROCESSO: 1066/2015/UDESC | D1: OBJETO: AQUISIÇÃO DE SUPRIMENTOS DE INFORMÁTICA PARA A UDESC | I1: VIGÊNCIA DA ATA: 06/10/2015 até 05/10/2016 | L1: AF/OS nº xxxx/2015 Qtde. DT | M1: AF/OS nº xxxx/2015 Qtde. DT | N1: AF/OS nº xxxx/2015 Qtde. DT | O1: AF/OS nº xxxx/2015 Qtde. DT | P1: AF/OS nº xxxx/2015 Qtde. DT | Q1: AF/OS nº xxxx/2015 Qtde. DT | R1: AF/OS nº xxxx/2015 Qtde. DT | S1: AF/OS nº xxxx/2015 Qtde. DT | T1: AF/OS nº xxxx/2015 Qtde. DT | U1: AF/OS nº xxxx/2015 Qtde. DT | V1: AF/OS nº xxxx/2015 Qtde. DT | W1: AF/OS nº xxxx/2015 Qtde. DT
A2: CENTRO PARTICIPANTE: ESAG
A3: FORNECEDOR | B3: LOTE | C3: ITEM | D3: PRODUTO - CARACTERÍSTICAS MÍNIMAS | E3: UNIDADE | F3: MARCA | G3: DETALHAMENTO | H3: Preço UNITÁRIO (R$) | I3: Qtde Registrada | J3: Saldo / Automático | K3: ALERTA | L3: ...../...../...... | M3: ...../...../...... | N3: ...../...../...... | O3: ...../...../...... | P3: ...../...../...... | Q3: ...../...../...... | R3: ...../...../...... | S3: ...../...../...... | T3: ...../...../...... | U3: ...../...../...... | V3: ...../...../...... | W3: ...../...../......
A4: EONIX SUPRIMENTOS DE INFORMÁTICA LTDA ME | B4: 1 | C4: 1 | D4: Cabeça de Impressão HP 72 C9380A (Novo e Original) | E4: peça | F4: HP | G4: 339030.17 | H4: 270 | J4: =I4-(SUM(L4:W4)) -> 0 | K4: =IF(J4<0,"ATENÇÃO","OK") -> OK | L4: 0 | M4: 0 | N4: 0 | O4: 0 | P4: 0 | Q4: 0 | R4: 0 | S4: 0 | T4: 0 | U4: 0 | V4: 0 | W4: 0
C5: 2 | D5: Cabeça de Impressão HP 72 C9383A (Novo e Original) | E5: peça | F5: HP | G5: 339030.17 | H5: 270 | J5: =I5-(SUM(L5:W5)) -> 0 | K5: =IF(J5<0,"ATENÇÃO","OK") -> OK | L5: 0 | M5: 0 | N5: 0 | O5: 0 | P5: 0 | Q5: 0 | R5: 0 | S5: 0 | T5: 0 | U5: 0 | V5: 0 | W5: 0
C6: 3 | D6: Cabeça de Impressão HP 72 C9384A (Novo e Original) | E6: peça | F6: HP | G6: 339030.17 | H6: 269.5 | J6: =I6-(SUM(L6:W6)) -> 0 | K6: =IF(J6<0,"ATENÇÃO","OK") -> OK | L6: 0 | M6: 0 | N6: 0 | O6: 0 | P6: 0 | Q6: 0 | R6: 0 | S6: 0 | T6: 0 | U6: 0 | V6: 0 | W6: 0
C7: 4 | D7: Cartucho de Tinta HP 72 C9373A (Novo e Original) | E7: peça | F7: HP | G7: 339030.17 | H7: 297 | J7: =I7-(SUM(L7:W7)) -> 0 | K7: =IF(J7<0,"ATENÇÃO","OK") -> OK | L7: 0 | M7: 0 | N7: 0 | O7: 0 | P7: 0 | Q7: 0 | R7: 0 | S7: 0 | T7: 0 | U7: 0 | V7: 0 | W7: 0
C8: 5 | D8: Cartucho de Tinta HP 72 C9403A (Novo e Original) | E8: peça | F8: HP | G8: 339030.17 | H8: 297 | J8: =I8-(SUM(L8:W8)) -> 0 | K8: =IF(J8<0,"ATENÇÃO","OK") -> OK | L8: 0 | M8: 0 | N8: 0 | O8: 0 | P8: 0 | Q8: 0 | R8: 0 | S8: 0 | T8: 0 | U8: 0 | V8: 0 | W8: 0
C9: 6 | D9: Cartucho de Tinta HP 72 C9370A (Novo e Original) | E9: peça | F9: HP | G9: 339030.17 | H9: 297 | J9: =I9-(SUM(L9:W9)) -> 0 | K9: =IF(J9<0,"ATENÇÃO","OK") -> OK | L9: 0 | M9: 0 | N9: 0 | O9: 0 | P9: 0 | Q9: 0 | R9: 0 | S9: 0 | T9: 0 | U9: 0 | V9: 0 | W9: 0
C10: 7 | D10: Cartucho de Tinta HP 72 C9371A (Novo e Original) | E10: peça | F10: HP | G10: 339030.17 | H10: 297 | J10: =I10-(SUM(L10:W10)) -> 0 | K10: =IF(J10<0,"ATENÇÃO","OK") -> OK | L10: 0 | M10: 0 | N10: 0 | O10: 0 | P10: 0 | Q10: 0 | R10: 0 | S10: 0 | T10: 0 | U10: 0 | V10: 0 | W10: 0
C11: 8 | D11: Cartucho de Tinta HP 72 C9374A (Novo e Original) | E11: peça | F11: HP | G11: 339030.17 | H11: 297 | J11: =I11-(SUM(L11:W11)) -> 0 | K11: =IF(J11<0,"ATENÇÃO","OK") -> OK | L11: 0 | M11: 0 | N11: 0 | O11: 0 | P11: 0 | Q11: 0 | R11: 0 | S11: 0 | T11: 0 | U11: 0 | V11: 0 | W11: 0
C12: 9 | D12: Cartucho de Tinta HP 72 C9372A (Novo e Original) | E12: peça | F12: HP | G12: 339030.17 | H12: 297 | J12: =I12-(SUM(L12:W12)) -> 0 | K12: =IF(J12<0,"ATENÇÃO","OK") -> OK | L12: 0 | M12: 0 | N12: 0 | O12: 0 | P12: 0 | Q12: 0 | R12: 0 | S12: 0 | T12: 0 | U12: 0 | V12: 0 | W12: 0
A13: INFOTRIZ COMERCIAL EIRELI EPP | B13: 2 | C13: 10 | D13: Fita para impressora Epson FX 2190, referência S015335 | E13: peça | F13: Master | G13: 339030.17 | H13: 40.62 | J13: =I13-(SUM(L13:W13)) -> 0 | K13: =IF(J13<0,"ATENÇÃO","OK") -> OK | L13: 0 | M13: 0 | N13: 0 | O13: 0 | P13: 0 | Q13: 0 | R13: 0 | S13: 0 | T13: 0 | U13: 0 | V13: 0 | W13: 0
A14: INFOTRIZ COMERCIAL EIRELI EPP | B14: 3 | C14: 11 | D14: Rolo OFFSET para Plotter 914mmX100m 75g/m2 | E14: rolo | F14: VR | G14: 339030.17 | H14: 79.3 | J14: =I14-(SUM(L14:W14)) -> 0 | K14: =IF(J14<0,"ATENÇÃO","OK") -> OK | L14: 0 | M14: 0 | N14: 0 | O14: 0 | P14: 0 | Q14: 0 | R14: 0 | S14: 0 | T14: 0 | U14: 0 | V14: 0 | W14: 0
A15: INFOTRIZ COMERCIAL EIRELI EPP | B15: 4 | C15: 23 | D15: FITA PARA IMPRESSORA, MODELO 9208,EPSON FX 2180 *, Fita para impressora Epson FX 2180 | E15: peça | F15: Master | G15: 339030.17 | H15: 28.8 | I15: 3 | J15: =I15-(SUM(L15:W15)) -> 3 | K15: =IF(J15<0,"ATENÇÃO","OK") -> OK | L15: 0 | M15: 0 | N15: 0 | O15: 0 | P15: 0 | Q15: 0 | R15: 0 | S15: 0 | T15: 0 | U15: 0 | V15: 0 | W15: 0
A16: INFOTRIZ COMERCIAL EIRELI EPP | B16: 6 | C16: 24 | D16: Toner Samsung MLT-D208S MLT-D208L D208 | ML1635 SCX5635FN SCX5835FN | Compatível 10k | E16: Peça | F16: Master | G16: 339030.17 | H16: 72.5 | J16: =I16-(SUM(L16:W16)) -> 0 | K16: =IF(J16<0,"ATENÇÃO","OK") -> OK | L16: 0 | M16: 0 | N16: 0 | O16: 0 | P16: 0 | Q16: 0 | R16: 0 | S16: 0 | T16: 0 | U16: 0 | V16: 0 | W16: 0
A17: EONIX SUPRIMENTOS DE INFORMÁTICA LTDA ME | B17: 7 | C17: 25 | D17: Toner Compatível HP CE285A 85A | CB435A | CB436A | P1102 P1102W M1210 M1212 | E17: Peça | F17: Politoner | G17: 339030.17 | H17: 66 | J17: =I17-(SUM(L17:W17)) -> 0 | K17: =IF(J17<0,"ATENÇÃO","OK") -> OK | L17: 0 | M17: 0 | N17: 0 | O17: 0 | P17: 0 | Q17: 0 | R17: 0 | S17: 0 | T17: 0 | U17: 0 | V17: 0 | W17: 0
C18: 26 | D18: HP 56 Cartucho de impressão a jato de tinta preto (C6656AB) | E18: Peça | F18: HP | G18: 339030.17 | H18: 89 | J18: =I18-(SUM(L18:W18)) -> 0 | K18: =IF(J18<0,"ATENÇÃO","OK") -> OK | L18: 0 | M18: 0 | N18: 0 | O18: 0 | P18: 0 | Q18: 0 | R18: 0 | S18: 0 | T18: 0 | U18: 0 | V18: 0 | W18: 0
A19: INFOTRIZ COMERCIAL EIRELI EPP | B19: 8 | C19: 27 | D19: Cartucho preto nº 92. | E19: Peça | F19: HP | G19: 339030.17 | H19: 38.11 | J19: =I19-(SUM(L19:W19)) -> 0 | K19: =IF(J19<0,"ATENÇÃO","OK") -> OK | L19: 0 | M19: 0 | N19: 0 | O19: 0 | P19: 0 | Q19: 0 | R19: 0 | S19: 0 | T19: 0 | U19: 0 | V19: 0 | W19: 0
C20: 28 | D20: Cartucho colorido nº 93 ou 95. | E20: Peça | F20: HP | G20: 339030.17 | H20: 76.03 | J20: =I20-(SUM(L20:W20)) -> 0 | K20: =IF(J20<0,"ATENÇÃO","OK") -> OK | L20: 0 | M20: 0 | N20: 0 | O20: 0 | P20: 0 | Q20: 0 | R20: 0 | S20: 0 | T20: 0 | U20: 0 | V20: 0 | W20: 0
C21: 29 | D21: Cartucho fotográfico nº 99. | E21: Peça | F21: HP | G21: 339030.17 | H21: 85.86 | J21: =I21-(SUM(L21:W21)) -> 0 | K21: =IF(J21<0,"ATENÇÃO","OK") -> OK | L21: 0 | M21: 0 | N21: 0 | O21: 0 | P21: 0 | Q21: 0 | R21: 0 | S21: 0 | T21: 0 | U21: 0 | V21: 0 | W21: 0
D23: Lote 5 - Infrutífero
D24: Prazos de entrega epagamento conforme Termo de Referência

Sheet FAED
A1: PROCESSO: 1066/2015/UDESC | D1: OBJETO: AQUISIÇÃO DE SUPRIMENTOS DE INFORMÁTICA PARA A UDESC | I1: VIGÊNCIA DA ATA: 06/10/2015 até 05/10/2016 | L1: AF/OS nº xxxx/2015 Qtde. DT | M1: AF/OS nº xxxx/2015 Qtde. DT | N1: AF/OS nº xxxx/2015 Qtde. DT | O1: AF/OS nº xxxx/2015 Qtde. DT | P1: AF/OS nº xxxx/2015 Qtde. DT | Q1: AF/OS nº xxxx/2015 Qtde. DT | R1: AF/OS nº xxxx/2015 Qtde. DT | S1: AF/OS nº xxxx/2015 Qtde. DT | T1: AF/OS nº xxxx/2015 Qtde. DT | U1: AF/OS nº xxxx/2015 Qtde. DT | V1: AF/OS nº xxxx/2015 Qtde. DT | W1: AF/OS nº xxxx/2015 Qtde. DT
A2: CENTRO PARTICIPANTE: FAED
A3: FORNECEDOR | B3: LOTE | C3: ITEM | D3: PRODUTO - CARACTERÍSTICAS MÍNIMAS | E3: UNIDADE | F3: MARCA | G3: DETALHAMENTO | H3: Preço UNITÁRIO (R$) | I3: Qtde Registrada | J3: Saldo / Automático | K3: ALERTA | L3: ...../...../...... | M3: ...../...../...... | N3: ...../...../...... | O3: ...../...../...... | P3: ...../...../...... | Q3: ...../...../...... | R3: ...../...../...... | S3: ...../...../...... | T3: ...../...../...... | U3: ...../...../...... | V3: ...../...../...... | W3: ...../...../......
A4: EONIX SUPRIMENTOS DE INFORMÁTICA LTDA ME | B4: 1 | C4: 1 | D4: Cabeça de Impressão HP 72 C9380A (Novo e Original) | E4: peça | F4: HP | G4: 339030.17 | H4: 270 | J4: =I4-(SUM(L4:W4)) -> 0 | K4: =IF(J4<0,"ATENÇÃO","OK") -> OK | L4: 0 | M4: 0 | N4: 0 | O4: 0 | P4: 0 | Q4: 0 | R4: 0 | S4: 0 | T4: 0 | U4: 0 | V4: 0 | W4: 0
C5: 2 | D5: Cabeça de Impressão HP 72 C9383A (Novo e Original) | E5: peça | F5: HP | G5: 339030.17 | H5: 270 | J5: =I5-(SUM(L5:W5)) -> 0 | K5: =IF(J5<0,"ATENÇÃO","OK") -> OK | L5: 0 | M5: 0 | N5: 0 | O5: 0 | P5: 0 | Q5: 0 | R5: 0 | S5: 0 | T5: 0 | U5: 0 | V5: 0 | W5: 0
C6: 3 | D6: Cabeça de Impressão HP 72 C9384A (Novo e Original) | E6: peça | F6: HP | G6: 339030.17 | H6: 269.5 | J6: =I6-(SUM(L6:W6)) -> 0 | K6: =IF(J6<0,"ATENÇÃO","OK") -> OK | L6: 0 | M6: 0 | N6: 0 | O6: 0 | P6: 0 | Q6: 0 | R6: 0 | S6: 0 | T6: 0 | U6: 0 | V6: 0 | W6: 0
C7: 4 | D7: Cartucho de Tinta HP 72 C9373A (Novo e Original) | E7: peça | F7: HP | G7: 339030.17 | H7: 297 | I7: 2 | J7: =I7-(SUM(L7:W7)) -> 2 | K7: =IF(J7<0,"ATENÇÃO","OK") -> OK | L7: 0 | M7: 0 | N7: 0 | O7: 0 | P7: 0 | Q7: 0 | R7: 0 | S7: 0 | T7: 0 | U7: 0 | V7: 0 | W7: 0
C8: 5 | D8: Cartucho de Tinta HP 72 C9403A (Novo e Original) | E8: peça | F8: HP | G8: 339030.17 | H8: 297 | I8: 3 | J8: =I8-(SUM(L8:W8)) -> 3 | K8: =IF(J8<0,"ATENÇÃO","OK") -> OK | L8: 0 | M8: 0 | N8: 0 | O8: 0 | P8: 0 | Q8: 0 | R8: 0 | S8: 0 | T8: 0 | U8: 0 | V8: 0 | W8: 0
C9: 6 | D9: Cartucho de Tinta HP 72 C9370A (Novo e Original) | E9: peça | F9: HP | G9: 339030.17 | H9: 297 | I9: 3 | J9: =I9-(SUM(L9:W9)) -> 3 | K9: =IF(J9<0,"ATENÇÃO","OK") -> OK | L9: 0 | M9: 0 | N9: 0 | O9: 0 | P9: 0 | Q9: 0 | R9: 0 | S9: 0 | T9: 0 | U9: 0 | V9: 0 | W9: 0
C10: 7 | D10: Cartucho de Tinta HP 72 C9371A (Novo e Original) | E10: peça | F10: HP | G10: 339030.17 | H10: 297 | I10: 2 | J10: =I10-(SUM(L10:W10)) -> 2 | K10: =IF(J10<0,"ATENÇÃO","OK") -> OK | L10: 0 | M10: 0 | N10: 0 | O10: 0 | P10: 0 | Q10: 0 | R10: 0 | S10: 0 | T10: 0 | U10: 0 | V10: 0 | W10: 0
C11: 8 | D11: Cartucho de Tinta HP 72 C9374A (Novo e Original) | E11: peça | F11: HP | G11: 339030.17 | H11: 297 | I11: 3 | J11: =I11-(SUM(L11:W11)) -> 3 | K11: =IF(J11<0,"ATENÇÃO","OK") -> OK | L11: 0 | M11: 0 | N11: 0 | O11: 0 | P11: 0 | Q11: 0 | R11: 0 | S11: 0 | T11: 0 | U11: 0 | V11: 0 | W11: 0
C12: 9 | D12: Cartucho de Tinta HP 72 C9372A (Novo e Original) | E12: peça | F12: HP | G12: 339030.17 | H12: 297 | I12: 2 | J12: =I12-(SUM(L12:W12)) -> 2 | K12: =IF(J12<0,"ATENÇÃO","OK") -> OK | L12: 0 | M12: 0 | N12: 0 | O12: 0 | P12: 0 | Q12: 0 | R12: 0 | S12: 0 | T12: 0 | U12: 0 | V12: 0 | W12: 0
A13: INFOTRIZ COMERCIAL EIRELI EPP | B13: 2 | C13: 10 | D13: Fita para impressora Epson FX 2190, referência S015335 | E13: peça | F13: Master | G13: 339030.17 | H13: 40.62 | J13: =I13-(SUM(L13:W13)) -> 0 | K13: =IF(J13<0,"ATENÇÃO","OK") -> OK | L13: 0 | M13: 0 | N13: 0 | O13: 0 | P13: 0 | Q13: 0 | R13: 0 | S13: 0 | T13: 0 | U13: 0 | V13: 0 | W13: 0
A14: INFOTRIZ COMERCIAL EIRELI EPP | B14: 3 | C14: 11 | D14: Rolo OFFSET para Plotter 914mmX100m 75g/m2 | E14: rolo | F14: VR | G14: 339030.17 | H14: 79.3 | I14: 4 | J14: =I14-(SUM(L14:W14)) -> 4 | K14: =IF(J14<0,"ATENÇÃO","OK") -> OK | L14: 0 | M14: 0 | N14: 0 | O14: 0 | P14: 0 | Q14: 0 | R14: 0 | S14: 0 | T14: 0 | U14: 0 | V14: 0 | W14: 0
A15: INFOTRIZ COMERCIAL EIRELI EPP | B15: 4 | C15: 23 | D15: FITA PARA IMPRESSORA, MODELO 9208,EPSON FX 2180 *, Fita para impressora Epson FX 2180 | E15: peça | F15: Master | G15: 339030.17 | H15: 28.8 | J15: =I15-(SUM(L15:W15)) -> 0 | K15: =IF(J15<0,"ATENÇÃO","OK") -> OK | L15: 0 | M15: 0 | N15: 0 | O15: 0 | P15: 0 | Q15: 0 | R15: 0 | S15: 0 | T15: 0 | U15: 0 | V15: 0 | W15: 0
A16: INFOTRIZ COMERCIAL EIRELI EPP | B16: 6 | C16: 24 | D16: Toner Samsung MLT-D208S MLT-D208L D208 | ML1635 SCX5635FN SCX5835FN | Compatível 10k | E16: Peça | F16: Master | G16: 339030.17 | H16: 72.5 | J16: =I16-(SUM(L16:W16)) -> 0 | K16: =IF(J16<0,"ATENÇÃO","OK") -> OK | L16: 0 | M16: 0 | N16: 0 | O16: 0 | P16: 0 | Q16: 0 | R16: 0 | S16: 0 | T16: 0 | U16: 0 | V16: 0 | W16: 0
A17: EONIX SUPRIMENTOS DE INFORMÁTICA LTDA ME | B17: 7 | C17: 25 | D17: Toner Compatível HP CE285A 85A | CB435A | CB436A | P1102 P1102W M1210 M1212 | E17: Peça | F17: Politoner | G17: 339030.17 | H17: 66 | J17: =I17-(SUM(L17:W17)) -> 0 | K17: =IF(J17<0,"ATENÇÃO","OK") -> OK | L17: 0 | M17: 0 | N17: 0 | O17: 0 | P17: 0 | Q17: 0 | R17: 0 | S17: 0 | T17: 0 | U17: 0 | V17: 0 | W17: 0
C18: 26 | D18: HP 56 Cartucho de impressão a jato de tinta preto (C6656AB) | E18: Peça | F18: HP | G18: 339030.17 | H18: 89 | J18: =I18-(SUM(L18:W18)) -> 0 | K18: =IF(J18<0,"ATENÇÃO","OK") -> OK | L18: 0 | M18: 0 | N18: 0 | O18: 0 | P18: 0 | Q18: 0 | R18: 0 | S18: 0 | T18: 0 | U18: 0 | V18: 0 | W18: 0
A19: INFOTRIZ COMERCIAL EIRELI EPP | B19: 8 | C19: 27 | D19: Cartucho preto nº 92. | E19: Peça | F19: HP | G19: 339030.17 | H19: 38.11 | J19: =I19-(SUM(L19:W19)) -> 0 | K19: =IF(J19<0,"ATENÇÃO","OK") -> OK | L19: 0 | M19: 0 | N19: 0 | O19: 0 | P19: 0 | Q19: 0 | R19: 0 | S19: 0 | T19: 0 | U19: 0 | V19: 0 | W19: 0
C20: 28 | D20: Cartucho colorido nº 93 ou 95. | E20: Peça | F20: HP | G20: 339030.17 | H20: 76.03 | J20: =I20-(SUM(L20:W20)) -> 0 | K20: =IF(J20<0,"ATENÇÃO","OK") -> OK | L20: 0 | M20: 0 | N20: 0 | O20: 0 | P20: 0 | Q20: 0 | R20: 0 | S20: 0 | T20: 0 | U20: 0 | V20: 0 | W20: 0
C21: 29 | D21: Cartucho fotográfico nº 99. | E21: Peça | F21: HP | G21: 339030.17 | H21: 85.86 | J21: =I21-(SUM(L21:W21)) -> 0 | K21: =IF(J21<0,"ATENÇÃO","OK") -> OK | L21: 0 | M21: 0 | N21: 0 | O21: 0 | P21: 0 | Q21: 0 | R21: 0 | S21: 0 | T21: 0 | U21: 0 | V21: 0 | W21: 0
D23: Lote 5 - Infrutífero
D24: Prazos de entrega epagamento conforme Termo de Referência

Sheet CERES
A1: PROCESSO: 1066/2015/UDESC | D1: OBJETO: AQUISIÇÃO DE SUPRIMENTOS DE INFORMÁTICA PARA A UDESC | I1: VIGÊNCIA DA ATA: 06/10/2015 até 05/10/2016 | L1: AF/OS nº xxxx/2015 Qtde. DT | M1: AF/OS nº xxxx/2015 Qtde. DT | N1: AF/OS nº xxxx/2015 Qtde. DT | O1: AF/OS nº xxxx/2015 Qtde. DT | P1: AF/OS nº xxxx/2015 Qtde. DT | Q1: AF/OS nº xxxx/2015 Qtde. DT | R1: AF/OS nº xxxx/2015 Qtde. DT | S1: AF/OS nº xxxx/2015 Qtde. DT | T1: AF/OS nº xxxx/2015 Qtde. DT | U1: AF/OS nº xxxx/2015 Qtde. DT | V1: AF/OS nº xxxx/2015 Qtde. DT | W1: AF/OS nº xxxx/2015 Qtde. DT
A2: CENTRO PARTICIPANTE: CERES
A3: FORNECEDOR | B3: LOTE | C3: ITEM | D3: PRODUTO - CARACTERÍSTICAS MÍNIMAS | E3: UNIDADE | F3: MARCA | G3: DETALHAMENTO | H3: Preço UNITÁRIO (R$) | I3: Qtde Registrada | J3: Saldo / Automático | K3: ALERTA | L3: ...../...../...... | M3: ...../...../...... | N3: ...../...../...... | O3: ...../...../...... | P3: ...../...../...... | Q3: ...../...../...... | R3: ...../...../...... | S3: ...../...../...... | T3: ...../...../...... | U3: ...../...../...... | V3: ...../...../...... | W3: ...../...../......
A4: EONIX SUPRIMENTOS DE INFORMÁTICA LTDA ME | B4: 1 | C4: 1 | D4: Cabeça de Impressão HP 72 C9380A (Novo e Original) | E4: peça | F4: HP | G4: 339030.17 | H4: 270 | I4: 2 | J4: =I4-(SUM(L4:W4)) -> 2 | K4: =IF(J4<0,"ATENÇÃO","OK") -> OK | L4: 0 | M4: 0 | N4: 0 | O4: 0 | P4: 0 | Q4: 0 | R4: 0 | S4: 0 | T4: 0 | U4: 0 | V4: 0 | W4: 0
C5: 2 | D5: Cabeça de Impressão HP 72 C9383A (Novo e Original) | E5: peça | F5: HP | G5: 339030.17 | H5: 270 | I5: 2 | J5: =I5-(SUM(L5:W5)) -> 2 | K5: =IF(J5<0,"ATENÇÃO","OK") -> OK | L5: 0 | M5: 0 | N5: 0 | O5: 0 | P5: 0 | Q5: 0 | R5: 0 | S5: 0 | T5: 0 | U5: 0 | V5: 0 | W5: 0
C6: 3 | D6: Cabeça de Impressão HP 72 C9384A (Novo e Original) | E6: peça | F6: HP | G6: 339030.17 | H6: 269.5 | I6: 2 | J6: =I6-(SUM(L6:W6)) -> 2 | K6: =IF(J6<0,"ATENÇÃO","OK") -> OK | L6: 0 | M6: 0 | N6: 0 | O6: 0 | P6: 0 | Q6: 0 | R6: 0 | S6: 0 | T6: 0 | U6: 0 | V6: 0 | W6: 0
C7: 4 | D7: Cartucho de Tinta HP 72 C9373A (Novo e Original) | E7: peça | F7: HP | G7: 339030.17 | H7: 297 | I7: 2 | J7: =I7-(SUM(L7:W7)) -> 2 | K7: =IF(J7<0,"ATENÇÃO","OK") -> OK | L7: 0 | M7: 0 | N7: 0 | O7: 0 | P7: 0 | Q7: 0 | R7: 0 | S7: 0 | T7: 0 | U7: 0 | V7: 0 | W7: 0
C8: 5 | D8: Cartucho de Tinta HP 72 C9403A (Novo e Original) | E8: peça | F8: HP | G8: 339030.17 | H8: 297 | I8: 2 | J8: =I8-(SUM(L8:W8)) -> 2 | K8: =IF(J8<0,"ATENÇÃO","OK") -> OK | L8: 0 | M8: 0 | N8: 0 | O8: 0 | P8: 0 | Q8: 0 | R8: 0 | S8: 0 | T8: 0 | U8: 0 | V8: 0 | W8: 0
C9: 6 | D9: Cartucho de Tinta HP 72 C9370A (Novo e Original) | E9: peça | F9: HP | G9: 339030.17 | H9: 297 | I9: 3 | J9: =I9-(SUM(L9:W9)) -> 3 | K9: =IF(J9<0,"ATENÇÃO","OK") -> OK | L9: 0 | M9: 0 | N9: 0 | O9: 0 | P9: 0 | Q9: 0 | R9: 0 | S9: 0 | T9: 0 | U9: 0 | V9: 0 | W9: 0
C10: 7 | D10: Cartucho de Tinta HP 72 C9371A (Novo e Original) | E10: peça | F10: HP | G10: 339030.17 | H10: 297 | I10: 2 | J10: =I10-(SUM(L10:W10)) -> 2 | K10: =IF(J10<0,"ATENÇÃO","OK") -> OK | L10: 0 | M10: 0 | N10: 0 | O10: 0 | P10: 0 | Q10: 0 | R10: 0 | S10: 0 | T10: 0 | U10: 0 | V10: 0 | W10: 0
C11: 8 | D11: Cartucho de Tinta HP 72 C9374A (Novo e Original) | E11: peça | F11: HP | G11: 339030.17 | H11: 297 | I11: 2 | J11: =I11-(SUM(L11:W11)) -> 2 | K11: =IF(J11<0,"ATENÇÃO","OK") -> OK | L11: 0 | M11: 0 | N11: 0 | O11: 0 | P11: 0 | Q11: 0 | R11: 0 | S11: 0 | T11: 0 | U11: 0 | V11: 0 | W11: 0
C12: 9 | D12: Cartucho de Tinta HP 72 C9372A (Novo e Original) | E12: peça | F12: HP | G12: 339030.17 | H12: 297 | I12: 2 | J12: =I12-(SUM(L12:W12)) -> 2 | K12: =IF(J12<0,"ATENÇÃO","OK") -> OK | L12: 0 | M12: 0 | N12: 0 | O12: 0 | P12: 0 | Q12: 0 | R12: 0 | S12: 0 | T12: 0 | U12: 0 | V12: 0 | W12: 0
A13: INFOTRIZ COMERCIAL EIRELI EPP | B13: 2 | C13: 10 | D13: Fita para impressora Epson FX 2190, referência S015335 | E13: peça | F13: Master | G13: 339030.17 | H13: 40.62 | J13: =I13-(SUM(L13:W13)) -> 0 | K13: =IF(J13<0,"ATENÇÃO","OK") -> OK | L13: 0 | M13: 0 | N13: 0 | O13: 0 | P13: 0 | Q13: 0 | R13: 0 | S13: 0 | T13: 0 | U13: 0 | V13: 0 | W13: 0
A14: INFOTRIZ COMERCIAL EIRELI EPP | B14: 3 | C14: 11 | D14: Rolo OFFSET para Plotter 914mmX100m 75g/m2 | E14: rolo | F14: VR | G14: 339030.17 | H14: 79.3 | J14: =I14-(SUM(L14:W14)) -> 0 | K14: =IF(J14<0,"ATENÇÃO","OK") -> OK | L14: 0 | M14: 0 | N14: 0 | O14: 0 | P14: 0 | Q14: 0 | R14: 0 | S14: 0 | T14: 0 | U14: 0 | V14: 0 | W14: 0
A15: INFOTRIZ COMERCIAL EIRELI EPP | B15: 4 | C15: 23 | D15: FITA PARA IMPRESSORA, MODELO 9208,EPSON FX 2180 *, Fita para impressora Epson FX 2180 | E15: peça | F15: Master | G15: 339030.17 | H15: 28.8 | J15: =I15-(SUM(L15:W15)) -> 0 | K15: =IF(J15<0,"ATENÇÃO","OK") -> OK | L15: 0 | M15: 0 | N15: 0 | O15: 0 | P15: 0 | Q15: 0 | R15: 0 | S15: 0 | T15: 0 | U15: 0 | V15: 0 | W15: 0
A16: INFOTRIZ COMERCIAL EIRELI EPP | B16: 6 | C16: 24 | D16: Toner Samsung MLT-D208S MLT-D208L D208 | ML1635 SCX5635FN SCX5835FN | Compatível 10k | E16: Peça | F16: Master | G16: 339030.17 | H16: 72.5 | J16: =I16-(SUM(L16:W16)) -> 0 | K16: =IF(J16<0,"ATENÇÃO","OK") -> OK | L16: 0 | M16: 0 | N16: 0 | O16: 0 | P16: 0 | Q16: 0 | R16: 0 | S16: 0 | T16: 0 | U16: 0 | V16: 0 | W16: 0
A17: EONIX SUPRIMENTOS DE INFORMÁTICA LTDA ME | B17: 7 | C17: 25 | D17: Toner Compatível HP CE285A 85A | CB435A | CB436A | P1102 P1102W M1210 M1212 | E17: Peça | F17: Politoner | G17: 339030.17 | H17: 66 | J17: =I17-(SUM(L17:W17)) -> 0 | K17: =IF(J17<0,"ATENÇÃO","OK") -> OK | L17: 0 | M17: 0 | N17: 0 | O17: 0 | P17: 0 | Q17: 0 | R17: 0 | S17: 0 | T17: 0 | U17: 0 | V17: 0 | W17: 0
C18: 26 | D18: HP 56 Cartucho de impressão a jato de tinta preto (C6656AB) | E18: Peça | F18: HP | G18: 339030.17 | H18: 89 | J18: =I18-(SUM(L18:W18)) -> 0 | K18: =IF(J18<0,"ATENÇÃO","OK") -> OK | L18: 0 | M18: 0 | N18: 0 | O18: 0 | P18: 0 | Q18: 0 | R18: 0 | S18: 0 | T18: 0 | U18: 0 | V18: 0 | W18: 0
A19: INFOTRIZ COMERCIAL EIRELI EPP | B19: 8 | C19: 27 | D19: Cartucho preto nº 92. | E19: Peça | F19: HP | G19: 339030.17 | H19: 38.11 | J19: =I19-(SUM(L19:W19)) -> 0 | K19: =IF(J19<0,"ATENÇÃO","OK") -> OK | L19: 0 | M19: 0 | N19: 0 | O19: 0 | P19: 0 | Q19: 0 | R19: 0 | S19: 0 | T19: 0 | U19: 0 | V19: 0 | W19: 0
C20: 28 | D20: Cartucho colorido nº 93 ou 95. | E20: Peça | F20: HP | G20: 339030.17 | H20: 76.03 | J20: =I20-(SUM(L20:W20)) -> 0 | K20: =IF(J20<0,"ATENÇÃO","OK") -> OK | L20: 0 | M20: 0 | N20: 0 | O20: 0 | P20: 0 | Q20: 0 | R20: 0 | S20: 0 | T20: 0 | U20: 0 | V20: 0 | W20: 0
C21: 29 | D21: Cartucho fotográfico nº 99. | E21: Peça | F21: HP | G21: 339030.17 | H21: 85.86 | J21: =I21-(SUM(L21:W21)) -> 0 | K21: =IF(J21<0,"ATENÇÃO","OK") -> OK | L21: 0 | M21: 0 | N21: 0 | O21: 0 | P21: 0 | Q21: 0 | R21: 0 | S21: 0 | T21: 0 | U21: 0 | V21: 0 | W21: 0
D23: Lote 5 - Infrutífero
D24: Prazos de entrega epagamento conforme Termo de Referência

Sheet CEO
A1: PROCESSO: 1066/2015/UDESC | D1: OBJETO: AQUISIÇÃO DE SUPRIMENTOS DE INFORMÁTICA PARA A UDESC | I1: VIGÊNCIA DA ATA: 06/10/2015 até 05/10/2016 | L1: AF/OS nº xxxx/2015 Qtde. DT | M1: AF/OS nº xxxx/2015 Qtde. DT | N1: AF/OS nº xxxx/2015 Qtde. DT | O1: AF/OS nº xxxx/2015 Qtde. DT | P1: AF/OS nº xxxx/2015 Qtde. DT | Q1: AF/OS nº xxxx/2015 Qtde. DT | R1: AF/OS nº xxxx/2015 Qtde. DT | S1: AF/OS nº xxxx/2015 Qtde. DT | T1: AF/OS nº xxxx/2015 Qtde. DT | U1: AF/OS nº xxxx/2015 Qtde. DT | V1: AF/OS nº xxxx/2015 Qtde. DT | W1: AF/OS nº xxxx/2015 Qtde. DT
A2: CENTRO PARTICIPANTE: CEO
A3: FORNECEDOR | B3: LOTE | C3: ITEM | D3: PRODUTO - CARACTERÍSTICAS MÍNIMAS | E3: UNIDADE | F3: MARCA | G3: DETALHAMENTO | H3: Preço UNITÁRIO (R$) | I3: Qtde Registrada | J3: Saldo / Automático | K3: ALERTA | L3: ...../...../...... | M3: ...../...../...... | N3: ...../...../...... | O3: ...../...../...... | P3: ...../...../...... | Q3: ...../...../...... | R3: ...../...../...... | S3: ...../...../...... | T3: ...../...../...... | U3: ...../...../...... | V3: ...../...../...... | W3: ...../...../......
A4: EONIX SUPRIMENTOS DE INFORMÁTICA LTDA ME | B4: 1 | C4: 1 | D4: Cabeça de Impressão HP 72 C9380A (Novo e Original) | E4: peça | F4: HP | G4: 339030.17 | H4: 270 | J4: =I4-(SUM(L4:W4)) -> 0 | K4: =IF(J4<0,"ATENÇÃO","OK") -> OK | L4: 0 | M4: 0 | N4: 0 | O4: 0 | P4: 0 | Q4: 0 | R4: 0 | S4: 0 | T4: 0 | U4: 0 | V4: 0 | W4: 0
C5: 2 | D5: Cabeça de Impressão HP 72 C9383A (Novo e Original) | E5: peça | F5: HP | G5: 339030.17 | H5: 270 | J5: =I5-(SUM(L5:W5)) -> 0 | K5: =IF(J5<0,"ATENÇÃO","OK") -> OK | L5: 0 | M5: 0 | N5: 0 | O5: 0 | P5: 0 | Q5: 0 | R5: 0 | S5: 0 | T5: 0 | U5: 0 | V5: 0 | W5: 0
C6: 3 | D6: Cabeça de Impressão HP 72 C9384A (Novo e Original) | E6: peça | F6: HP | G6: 339030.17 | H6: 269.5 | J6: =I6-(SUM(L6:W6)) -> 0 | K6: =IF(J6<0,"ATENÇÃO","OK") -> OK | L6: 0 | M6: 0 | N6: 0 | O6: 0 | P6: 0 | Q6: 0 | R6: 0 | S6: 0 | T6: 0 | U6: 0 | V6: 0 | W6: 0
C7: 4 | D7: Cartucho de Tinta HP 72 C9373A (Novo e Original) | E7: peça | F7: HP | G7: 339030.17 | H7: 297 | J7: =I7-(SUM(L7:W7)) -> 0 | K7: =IF(J7<0,"ATENÇÃO","OK") -> OK | L7: 0 | M7: 0 | N7: 0 | O7: 0 | P7: 0 | Q7: 0 | R7: 0 | S7: 0 | T7: 0 | U7: 0 | V7: 0 | W7: 0
C8: 5 | D8: Cartucho de Tinta HP 72 C9403A (Novo e Original) | E8: peça | F8: HP | G8: 339030.17 | H8: 297 | J8: =I8-(SUM(L8:W8)) -> 0 | K8: =IF(J8<0,"ATENÇÃO","OK") -> OK | L8: 0 | M8: 0 | N8: 0 | O8: 0 | P8: 0 | Q8: 0 | R8: 0 | S8: 0 | T8: 0 | U8: 0 | V8: 0 | W8: 0
C9: 6 | D9: Cartucho de Tinta HP 72 C9370A (Novo e Original) | E9: peça | F9: HP | G9: 339030.17 | H9: 297 | J9: =I9-(SUM(L9:W9)) -> 0 | K9: =IF(J9<0,"ATENÇÃO","OK") -> OK | L9: 0 | M9: 0 | N9: 0 | O9: 0 | P9: 0 | Q9: 0 | R9: 0 | S9: 0 | T9: 0 | U9: 0 | V9: 0 | W9: 0
C10: 7 | D10: Cartucho de Tinta HP 72 C9371A (Novo e Original) | E10: peça | F10: HP | G10: 339030.17 | H10: 297 | J10: =I10-(SUM(L10:W10)) -> 0 | K10: =IF(J10<0,"ATENÇÃO","OK") -> OK | L10: 0 | M10: 0 | N10: 0 | O10: 0 | P10: 0 | Q10: 0 | R10: 0 | S10: 0 | T10: 0 | U10: 0 | V10: 0 | W10: 0
C11: 8 | D11: Cartucho de Tinta HP 72 C9374A (Novo e Original) | E11: peça | F11: HP | G11: 339030.17 | H11: 297 | J11: =I11-(SUM(L11:W11)) -> 0 | K11: =IF(J11<0,"ATENÇÃO","OK") -> OK | L11: 0 | M11: 0 | N11: 0 | O11: 0 | P11: 0 | Q11: 0 | R11: 0 | S11: 0 | T11: 0 | U11: 0 | V11: 0 | W11: 0
C12: 9 | D12: Cartucho de Tinta HP 72 C9372A (Novo e Original) | E12: peça | F12: HP | G12: 339030.17 | H12: 297 | J12: =I12-(SUM(L12:W12)) -> 0 | K12: =IF(J12<0,"ATENÇÃO","OK") -> OK | L12: 0 | M12: 0 | N12: 0 | O12: 0 | P12: 0 | Q12: 0 | R12: 0 | S12: 0 | T12: 0 | U12: 0 | V12: 0 | W12: 0
A13: INFOTRIZ COMERCIAL EIRELI EPP | B13: 2 | C13: 10 | D13: Fita para impressora Epson FX 2190, referência S015335 | E13: peça | F13: Master | G13: 339030.17 | H13: 40.62 | J13: =I13-(SUM(L13:W13)) -> 0 | K13: =IF(J13<0,"ATENÇÃO","OK") -> OK | L13: 0 | M13: 0 | N13: 0 | O13: 0 | P13: 0 | Q13: 0 | R13: 0 | S13: 0 | T13: 0 | U13: 0 | V13: 0 | W13: 0
A14: INFOTRIZ COMERCIAL EIRELI EPP | B14: 3 | C14: 11 | D14: Rolo OFFSET para Plotter 914mmX100m 75g/m2 | E14: rolo | F14: VR | G14: 339030.17 | H14: 79.3 | J14: =I14-(SUM(L14:W14)) -> 0 | K14: =IF(J14<0,"ATENÇÃO","OK") -> OK | L14: 0 | M14: 0 | N14: 0 | O14: 0 | P14: 0 | Q14: 0 | R14: 0 | S14: 0 | T14: 0 | U14: 0 | V14: 0 | W14: 0
A15: INFOTRIZ COMERCIAL EIRELI EPP | B15: 4 | C15: 23 | D15: FITA PARA IMPRESSORA, MODELO 9208,EPSON FX 2180 *, Fita para impressora Epson FX 2180 | E15: peça | F15: Master | G15: 339030.17 | H15: 28.8 | J15: =I15-(SUM(L15:W15)) -> 0 | K15: =IF(J15<0,"ATENÇÃO","OK") -> OK | L15: 0 | M15: 0 | N15: 0 | O15: 0 | P15: 0 | Q15: 0 | R15: 0 | S15: 0 | T15: 0 | U15: 0 | V15: 0 | W15: 0
A16: INFOTRIZ COMERCIAL EIRELI EPP | B16: 6 | C16: 24 | D16: Toner Samsung MLT-D208S MLT-D208L D208 | ML1635 SCX5635FN SCX5835FN | Compatível 10k | E16: Peça | F16: Master | G16: 339030.17 | H16: 72.5 | I16: 4 | J16: =I16-(SUM(L16:W16)) -> 4 | K16: =IF(J16<0,"ATENÇÃO","OK") -> OK | L16: 0 | M16: 0 | N16: 0 | O16: 0 | P16: 0 | Q16: 0 | R16: 0 | S16: 0 | T16: 0 | U16: 0 | V16: 0 | W16: 0
A17: EONIX SUPRIMENTOS DE INFORMÁTICA LTDA ME | B17: 7 | C17: 25 | D17: Toner Compatível HP CE285A 85A | CB435A | CB436A | P1102 P1102W M1210 M1212 | E17: Peça | F17: Politoner | G17: 339030.17 | H17: 66 | I17: 3 | J17: =I17-(SUM(L17:W17)) -> 3 | K17: =IF(J17<0,"ATENÇÃO","OK") -> OK | L17: 0 | M17: 0 | N17: 0 | O17: 0 | P17: 0 | Q17: 0 | R17: 0 | S17: 0 | T17: 0 | U17: 0 | V17: 0 | W17: 0
C18: 26 | D18: HP 56 Cartucho de impressão a jato de tinta preto (C6656AB) | E18: Peça | F18: HP | G18: 339030.17 | H18: 89 | I18: 4 | J18: =I18-(SUM(L18:W18)) -> 4 | K18: =IF(J18<0,"ATENÇÃO","OK") -> OK | L18: 0 | M18: 0 | N18: 0 | O18: 0 | P18: 0 | Q18: 0 | R18: 0 | S18: 0 | T18: 0 | U18: 0 | V18: 0 | W18: 0
A19: INFOTRIZ COMERCIAL EIRELI EPP | B19: 8 | C19: 27 | D19: Cartucho preto nº 92. | E19: Peça | F19: HP | G19: 339030.17 | H19: 38.11 | I19: 2 | J19: =I19-(SUM(L19:W19)) -> 2 | K19: =IF(J19<0,"ATENÇÃO","OK") -> OK | L19: 0 | M19: 0 | N19: 0 | O19: 0 | P19: 0 | Q19: 0 | R19: 0 | S19: 0 | T19: 0 | U19: 0 | V19: 0 | W19: 0
C20: 28 | D20: Cartucho colorido nº 93 ou 95. | E20: Peça | F20: HP | G20: 339030.17 | H20: 76.03 | I20: 2 | J20: =I20-(SUM(L20:W20)) -> 2 | K20: =IF(J20<0,"ATENÇÃO","OK") -> OK | L20: 0 | M20: 0 | N20: 0 | O20: 0 | P20: 0 | Q20: 0 | R20: 0 | S20: 0 | T20: 0 | U20: 0 | V20: 0 | W20: 0
C21: 29 | D21: Cartucho fotográfico nº 99. | E21: Peça | F21: HP | G21: 339030.17 | H21: 85.86 | I21: 2 | J21: =I21-(SUM(L21:W21)) -> 2 | K21: =IF(J21<0,"ATENÇÃO","OK") -> OK | L21: 0 | M21: 0 | N21: 0 | O21: 0 | P21: 0 | Q21: 0 | R21: 0 | S21: 0 | T21: 0 | U21: 0 | V21: 0 | W21: 0
D23: Lote 5 - Infrutífero
D24: Prazos de entrega epagamento conforme Termo de Referência

Sheet GESTOR
A1: PROCESSO: 1066/2015/UDESC | D1: OBJETO: AQUISIÇÃO DE SUPRIMENTOS DE INFORMÁTICA PARA A UDESC | I1: VIGÊNCIA DA ATA: 06/10/2015 até 05/10/2016
A2: CENTRO PARTICIPANTE: GESTOR
A3: FORNECEDOR | B3: LOTE | C3: ITEM | D3: PRODUTO - CARACTERÍSTICAS MÍNIMAS | E3: UNIDADE | F3: MARCA | G3: DETALHAMENTO | H3: Preço UNITÁRIO (R$) | I3: Qtde Registrada | J3: Qtde Utilizada | K3: SALDO | L3: Valor Total Registrado | M3: Valor Total Utilizado
A4: EONIX SUPRIMENTOS DE INFORMÁTICA LTDA ME | B4: 1 | C4: 1 | D4: Cabeça de Impressão HP 72 C9380A (Novo e Original) | E4: peça | F4: HP | G4: 339030.17 | H4: 270 | I4: =REITORIA!I4+ESAG!I4+FAED!I4+CERES!I4+CEO!I4 -> 4 | J4: =(REITORIA!I4-REITORIA!J4)+(ESAG!I4-ESAG!J4)+(FAED!I4-FAED!J4)+(CERES!I4-CERES!J4)+(CEO!I4-CEO!J4) -> 0 | K4: =I4-J4 -> 4 | L4: =H4*I4 -> 1080 | M4: =H4*J4 -> 0
C5: 2 | D5: Cabeça de Impressão HP 72 C9383A (Novo e Original) | E5: peça | F5: HP | G5: 339030.17 | H5: 270 | I5: =REITORIA!I5+ESAG!I5+FAED!I5+CERES!I5+CEO!I5 -> 4 | J5: =(REITORIA!I5-REITORIA!J5)+(ESAG!I5-ESAG!J5)+(FAED!I5-FAED!J5)+(CERES!I5-CERES!J5)+(CEO!I5-CEO!J5) -> 0 | K5: =I5-J5 -> 4 | L5: =H5*I5 -> 1080 | M5: =H5*J5 -> 0
C6: 3 | D6: Cabeça de Impressão HP 72 C9384A (Novo e Original) | E6: peça | F6: HP | G6: 339030.17 | H6: 269.5 | I6: =REITORIA!I6+ESAG!I6+FAED!I6+CERES!I6+CEO!I6 -> 4 | J6: =(REITORIA!I6-REITORIA!J6)+(ESAG!I6-ESAG!J6)+(FAED!I6-FAED!J6)+(CERES!I6-CERES!J6)+(CEO!I6-CEO!J6) -> 0 | K6: =I6-J6 -> 4 | L6: =H6*I6 -> 1078 | M6: =H6*J6 -> 0
C7: 4 | D7: Cartucho de Tinta HP 72 C9373A (Novo e Original) | E7: peça | F7: HP | G7: 339030.17 | H7: 297 | I7: =REITORIA!I7+ESAG!I7+FAED!I7+CERES!I7+CEO!I7 -> 7 | J7: =(REITORIA!I7-REITORIA!J7)+(ESAG!I7-ESAG!J7)+(FAED!I7-FAED!J7)+(CERES!I7-CERES!J7)+(CEO!I7-CEO!J7) -> 0 | K7: =I7-J7 -> 7 | L7: =H7*I7 -> 2079 | M7: =H7*J7 -> 0
C8: 5 | D8: Cartucho de Tinta HP 72 C9403A (Novo e Original) | E8: peça | F8: HP | G8: 339030.17 | H8: 297 | I8: =REITORIA!I8+ESAG!I8+FAED!I8+CERES!I8+CEO!I8 -> 8 | J8: =(REITORIA!I8-REITORIA!J8)+(ESAG!I8-ESAG!J8)+(FAED!I8-FAED!J8)+(CERES!I8-CERES!J8)+(CEO!I8-CEO!J8) -> 0 | K8: =I8-J8 -> 8 | L8: =H8*I8 -> 2376 | M8: =H8*J8 -> 0
C9: 6 | D9: Cartucho de Tinta HP 72 C9370A (Novo e Original) | E9: peça | F9: HP | G9: 339030.17 | H9: 297 | I9: =REITORIA!I9+ESAG!I9+FAED!I9+CERES!I9+CEO!I9 -> 9 | J9: =(REITORIA!I9-REITORIA!J9)+(ESAG!I9-ESAG!J9)+(FAED!I9-FAED!J9)+(CERES!I9-CERES!J9)+(CEO!I9-CEO!J9) -> 0 | K9: =I9-J9 -> 9 | L9: =H9*I9 -> 2673 | M9: =H9*J9 -> 0
C10: 7 | D10: Cartucho de Tinta HP 72 C9371A (Novo e Original) | E10: peça | F10: HP | G10: 339030.17 | H10: 297 | I10: =REITORIA!I10+ESAG!I10+FAED!I10+CERES!I10+CEO!I10 -> 7 | J10: =(REITORIA!I10-REITORIA!J10)+(ESAG!I10-ESAG!J10)+(FAED!I10-FAED!J10)+(CERES!I10-CERES!J10)+(CEO!I10-CEO!J10) -> 0 | K10: =I10-J10 -> 7 | L10: =H10*I10 -> 2079 | M10: =H10*J10 -> 0
C11: 8 | D11: Cartucho de Tinta HP 72 C9374A (Novo e Original) | E11: peça | F11: HP | G11: 339030.17 | H11: 297 | I11: =REITORIA!I11+ESAG!I11+FAED!I11+CERES!I11+CEO!I11 -> 8 | J11: =(REITORIA!I11-REITORIA!J11)+(ESAG!I11-ESAG!J11)+(FAED!I11-FAED!J11)+(CERES!I11-CERES!J11)+(CEO!I11-CEO!J11) -> 0 | K11: =I11-J11 -> 8 | L11: =H11*I11 -> 2376 | M11: =H11*J11 -> 0
C12: 9 | D12: Cartucho de Tinta HP 72 C9372A (Novo e Original) | E12: peça | F12: HP | G12: 339030.17 | H12: 297 | I12: =REITORIA!I12+ESAG!I12+FAED!I12+CERES!I12+CEO!I12 -> 7 | J12: =(REITORIA!I12-REITORIA!J12)+(ESAG!I12-ESAG!J12)+(FAED!I12-FAED!J12)+(CERES!I12-CERES!J12)+(CEO!I12-CEO!J12) -> 0 | K12: =I12-J12 -> 7 | L12: =H12*I12 -> 2079 | M12: =H12*J12 -> 0
A13: INFOTRIZ COMERCIAL EIRELI EPP | B13: 2 | C13: 10 | D13: Fita para impressora Epson FX 2190, referência S015335 | E13: peça | F13: Master | G13: 339030.17 | H13: 40.62 | I13: =REITORIA!I13+ESAG!I13+FAED!I13+CERES!I13+CEO!I13 -> 8 | J13: =(REITORIA!I13-REITORIA!J13)+(ESAG!I13-ESAG!J13)+(FAED!I13-FAED!J13)+(CERES!I13-CERES!J13)+(CEO!I13-CEO!J13) -> 0 | K13: =I13-J13 -> 8 | L13: =H13*I13 -> 324.96 | M13: =H13*J13 -> 0
A14: INFOTRIZ COMERCIAL EIRELI EPP | B14: 3 | C14: 11 | D14: Rolo OFFSET para Plotter 914mmX100m 75g/m2 | E14: rolo | F14: VR | G14: 339030.17 | H14: 79.3 | I14: =REITORIA!I14+ESAG!I14+FAED!I14+CERES!I14+CEO!I14 -> 4 | J14: =(REITORIA!I14-REITORIA!J14)+(ESAG!I14-ESAG!J14)+(FAED!I14-FAED!J14)+(CERES!I14-CERES!J14)+(CEO!I14-CEO!J14) -> 0 | K14: =I14-J14 -> 4 | L14: =H14*I14 -> 317.2 | M14: =H14*J14 -> 0
A15: INFOTRIZ COMERCIAL EIRELI EPP | B15: 4 | C15: 23 | D15: FITA PARA IMPRESSORA, MODELO 9208,EPSON FX 2180 *, Fita para impressora Epson FX 2180 | E15: peça | F15: Master | G15: 339030.17 | H15: 28.8 | I15: =REITORIA!I15+ESAG!I15+FAED!I15+CERES!I15+CEO!I15 -> 3 | J15: =(REITORIA!I15-REITORIA!J15)+(ESAG!I15-ESAG!J15)+(FAED!I15-FAED!J15)+(CERES!I15-CERES!J15)+(CEO!I15-CEO!J15) -> 0 | K15: =I15-J15 -> 3 | L15: =H15*I15 -> 86.4 | M15: =H15*J15 -> 0
A16: INFOTRIZ COMERCIAL EIRELI EPP | B16: 6 | C16: 24 | D16: Toner Samsung MLT-D208S MLT-D208L D208 | ML1635 SCX5635FN SCX5835FN | Compatível 10k | E16: Peça | F16: Master | G16: 339030.17 | H16: 72.5 | I16: =REITORIA!I16+ESAG!I16+FAED!I16+CERES!I16+CEO!I16 -> 4 | J16: =(REITORIA!I16-REITORIA!J16)+(ESAG!I16-ESAG!J16)+(FAED!I16-FAED!J16)+(CERES!I16-CERES!J16)+(CEO!I16-CEO!J16) -> 0 | K16: =I16-J16 -> 4 | L16: =H16*I16 -> 290 | M16: =H16*J16 -> 0
A17: EONIX SUPRIMENTOS DE INFORMÁTICA LTDA ME | B17: 7 | C17: 25 | D17: Toner Compatível HP CE285A 85A | CB435A | CB436A | P1102 P1102W M1210 M1212 | E17: Peça | F17: Politoner | G17: 339030.17 | H17: 66 | I17: =REITORIA!I17+ESAG!I17+FAED!I17+CERES!I17+CEO!I17 -> 3 | J17: =(REITORIA!I17-REITORIA!J17)+(ESAG!I17-ESAG!J17)+(FAED!I17-FAED!J17)+(CERES!I17-CERES!J17)+(CEO!I17-CEO!J17) -> 0 | K17: =I17-J17 -> 3 | L17: =H17*I17 -> 198 | M17: =H17*J17 -> 0
C18: 26 | D18: HP 56 Cartucho de impressão a jato de tinta preto (C6656AB) | E18: Peça | F18: HP | G18: 339030.17 | H18: 89 | I18: =REITORIA!I18+ESAG!I18+FAED!I18+CERES!I18+CEO!I18 -> 4 | J18: =(REITORIA!I18-REITORIA!J18)+(ESAG!I18-ESAG!J18)+(FAED!I18-FAED!J18)+(CERES!I18-CERES!J18)+(CEO!I18-CEO!J18) -> 0 | K18: =I18-J18 -> 4 | L18: =H18*I18 -> 356 | M18: =H18*J18 -> 0
A19: INFOTRIZ COMERCIAL EIRELI EPP | B19: 8 | C19: 27 | D19: Cartucho preto nº 92. | E19: Peça | F19: HP | G19: 339030.17 | H19: 38.11 | I19: =REITORIA!I19+ESAG!I19+FAED!I19+CERES!I19+CEO!I19 -> 2 | J19: =(REITORIA!I19-REITORIA!J19)+(ESAG!I19-ESAG!J19)+(FAED!I19-FAED!J19)+(CERES!I19-CERES!J19)+(CEO!I19-CEO!J19) -> 0 | K19: =I19-J19 -> 2 | L19: =H19*I19 -> 76.22 | M19: =H19*J19 -> 0
C20: 28 | D20: Cartucho colorido nº 93 ou 95. | E20: Peça | F20: HP | G20: 339030.17 | H20: 76.03 | I20: =REITORIA!I20+ESAG!I20+FAED!I20+CERES!I20+CEO!I20 -> 2 | J20: =(REITORIA!I20-REITORIA!J20)+(ESAG!I20-ESAG!J20)+(FAED!I20-FAED!J20)+(CERES!I20-CERES!J20)+(CEO!I20-CEO!J20) -> 0 | K20: =I20-J20 -> 2 | L20: =H20*I20 -> 152.06 | M20: =H20*J20 -> 0
C21: 29 | D21: Cartucho fotográfico nº 99. | E21: Peça | F21: HP | G21: 339030.17 | H21: 85.86 | I21: =REITORIA!I21+ESAG!I21+FAED!I21+CERES!I21+CEO!I21 -> 2 | J21: =(REITORIA!I21-REITORIA!J21)+(ESAG!I21-ESAG!J21)+(FAED!I21-FAED!J21)+(CERES!I21-CERES!J21)+(CEO!I21-CEO!J21) -> 0 | K21: =I21-J21 -> 2 | L21: =H21*I21 -> 171.72 | M21: =H21*J21 -> 0
L22: =SUM(L4:L21) -> 18872.56 | M22: =SUM(M4:M21) -> 0
D23: Lote 5 - Infrutífero
D24: Prazos de entrega epagamento conforme Termo de Referência
I25: Pregão 1066/2015/UDESC - SRP
I26: AQUISIÇÃO DE SUPRIMENTOS DE INFORMÁTICA PARA A UDESC
I27: VIGÊNCIA DA ATA: 06/10/2015 até 05/10/2016
I28: Valor Total da Ata com Aditivo | M28: =L22 -> 18872.56
I29: Valor Utilizado | M29: =M22 -> 0
I30: % Aditivos
I31: % Utilizado | M31: =M29/M28 -> 0
I32: Resumo Atualizado em Abril/2016

Sheet Modelo Anexo II IN 002_2014
A1: ANEXO II – Instrução Normativa n.º 002/2014
A3: DECLARAÇÃO DE DISPONIBILIDADE DE QUANTITATIVO PARA EMISSÃO DE AUTORIZAÇÃO DE FORNECIMENTO/ORDEM DE SERVIÇO – SISTEMA DE REGISTRO DE PREÇOS/UDESC
A5: Processo CPA n.º XXXX/2014
A6: Pregão n.º XXXX/2014
A7: Objeto:
A8: Vigência da Ata de Registro de Preços: XX/XX/XXXX até XX/XX/XXXXX
A10: Declaro que o Centro XXXXXXX, participante da Ata de Registro de Preços proveniente do Pregão n.º XXXX/2014, possui saldo em seu quantitativo para a emissão da Autorização de Fornecimento/Ordem de Serviço n.º XXXX/2014, no valor de R$ X.XXX,XX, a ser firmada com a empresa XXXXXXX, restando ainda em sua cota para próximas contratações com o referido fornecedor os seguintes quantitativos:
A12: Lote | B12: Item | C12: Descrição Resumida | D12: Unidade | E12: Valor Unitário (R$) | F12: Saldo Quantitativo (antes da emissão desta AF/OS) | G12: Quantitativo da AF/OS | H12: Saldo Atualizado
A19: __________________, ____/_____/____
A20: Cidade Data
A24: _____________________________________________
A25: Diretor(a) de Administração
A26: (carimbo e assinatura)
