Workbook
Name CEPLAN: #REF!
Name CEPLAN: #REF!
Name CEPLAN: #REF!
Name diasuteis: #REF!
Name diasuteis: #REF!
Name diasuteis: #REF!
Name Ferias: #REF!
Name Ferias: #REF!
Name Ferias: #REF!
Name RD: OFFSET(#REF!,(MATCH(SMALL(#REF!,ROW()-10),#REF!,0)-1),0)
Name RD: OFFSET(#REF!,(MATCH(SMALL(#REF!,ROW()-10),#REF!,0)-1),0)
Name RD: OFFSET(#REF!,(MATCH(SMALL(#REF!,ROW()-10),#REF!,0)-1),0)

Sheet CAV
A1: PROCESSO: 1063/2015/UDESC | D1: OBJETO: AQUISIÇÃO E INSTALAÇÃO DE APARELHOS DE AR CONDICIONADO PARA A UDESC | I1: VIGÊNCIA DA ATA: 27/10/2015 até 26/10/2016 | L1: AF/OS nº xxxx/2015 Qtde. DT | M1: AF/OS nº xxxx/2015 Qtde. DT | N1: AF/OS nº xxxx/2015 Qtde. DT | O1: AF/OS nº xxxx/2015 Qtde. DT | P1: AF/OS nº xxxx/2015 Qtde. DT | Q1: AF/OS nº xxxx/2015 Qtde. DT | R1: AF/OS nº xxxx/2015 Qtde. DT | S1: AF/OS nº xxxx/2015 Qtde. DT | T1: AF/OS nº xxxx/2015 Qtde. DT | U1: AF/OS nº xxxx/2015 Qtde. DT | V1: AF/OS nº xxxx/2015 Qtde. DT | W1: AF/OS nº xxxx/2015 Qtde. DT
A2: CENTRO PARTICIPANTE: CAV
A3: FORNECEDOR | B3: LOTE | C3: ITEM | D3: PRODUTO - CARACTERÍSTICAS MÍNIMAS | E3: UNIDADE | F3: MARCA | G3: DETALHAMENTO | H3: Preço UNITÁRIO (R$) | I3: Qtde Registrada | J3: Saldo / Automático | K3: ALERTA | L3: ...../...../...... | M3: ...../...../...... | N3: ...../...../...... | O3: ...../...../...... | P3: ...../...../...... | Q3: ...../...../...... | R3: ...../...../...... | S3: ...../...../...... | T3: ...../...../...... | U3: ...../...../...... | V3: ...../...../...... | W3: ...../...../......
A4: ATENA COMÉRCIO DE MÓVEIS LTDA ME | B4: 3 | C4: 40 | D4: Aparelho de ar condicionado tipo Split High Wall (para parede), ciclo quente e frio, capacidade frigorífica nominal de 12.000 btu’s, 220 V,com controle remoto (individual) sem fio e filtro de ar lavável. Selo PROCEL “A”. | E4: Peça | F4: ELGIN: SSQIA-12000-2 SSQEA-12000-2 | G4: 449052-34 | H4: 1335.9 | I4: 13 | J4: =I4-SUM(L4:W4) -> 12 | K4: =IF(J4<0,"ATENÇÃO","OK") -> OK | L4: 1
C5: 41 | D5: Aparelho de ar condicionado tipo Split High Wall (para parede), ciclo quente e frio, capacidade frigorífica nominal de 18.000 btu’s, 220 V,com controle remoto (individual) sem fio e filtro de ar lavável. | E5: Peça | F5: PHILCO PH18000QFM4 PH18000QFM4 | G5: 449052-34 | H5: 1946.2 | I5: 6 | J5: =I5-SUM(L5:W5) -> 2 | K5: =IF(J5<0,"ATENÇÃO","OK") -> OK | L5: 4
C6: 42 | D6: Aparelho de ar condicionado tipo Split High Wall (para parede), ciclo quente e frio, capacidade frigorífica nominal de 24.000 btu’s, 220 V, com controle remoto (individual) sem fio e filtro de ar lavável. | E6: Peça | F6: PHILCO PH24000QFM4 PH24000QFM4 | G6: 449052-34 | H6: 2474.03 | I6: 6 | J6: =I6-SUM(L6:W6) -> 4 | K6: =IF(J6<0,"ATENÇÃO","OK") -> OK | L6: 2
C7: 43 | D7: Aparelho de ar condicionado tipo Split High Wall (para parede), ciclo quente e frio, capacidade frigorífica nominal de 30.000 btu’s, 220 V, com controle remoto (individual) sem fio e filtro de ar lavável. | E7: Peça | F7: ELGIN SRQ30000 | G7: 449052-34 | H7: 3461 | I7: 5 | J7: =I7-SUM(L7:W7) -> 5 | K7: =IF(J7<0,"ATENÇÃO","OK") -> OK
C8: 44 | D8: Instalação completa de equipamento de ar-condicionado tipo "split" até 24.000 BTU/h incluindo até 3 metros de distância entre evaporadora e condensadora – Composto de 01 (uma) unidade evaporadora e 01 (uma) unidade condensadora. | E8: Serviço | F8: SERVIÇO | G8: 339039-25 | H8: 579.75 | I8: 35 | J8: =I8-SUM(L8:W8) -> 35 | K8: =IF(J8<0,"ATENÇÃO","OK") -> OK
C9: 45 | D9: Instalação completa de equipamento de ar-condicionado tipo "split" de 25.000 a 48.000 BTU/h incluindo até 3 metros de distância entre evaporadora e condensadora – Composto de 01 (uma) unidade evaporadora e 01 (uma) unidade condensadora. | E9: Serviço | F9: SERVIÇO | G9: 339039-25 | H9: 816.81 | I9: 15 | J9: =I9-SUM(L9:W9) -> 15 | K9: =IF(J9<0,"ATENÇÃO","OK") -> OK
C10: 46 | D10: Desinstalação de equipamento de ar-condicionado. | E10: Serviço | F10: SERVIÇO | G10: 339039-25 | H10: 251.75 | I10: 10 | J10: =I10-SUM(L10:W10) -> 10 | K10: =IF(J10<0,"ATENÇÃO","OK") -> OK
C11: 47 | D11: Aparelho de ar condicionado tipo Split High Wall com no mínimo 22.000 BTU/h, ciclo quente/frio. Que no MODO AUTOMÁTICO de controle de temperatura PERMITA escolher a temperatura de funcionamento em toda a faixa de operação do equipamento. Com controle remoto. Com filtro de ar lavável. Selo PROCEL de economia de energia com classe de consumo de energia A ou B (Selo do INMETRO). Para rede monofásica de 220 volts. Entrega e instalação completa dos equipamentos no CAV/UDESC em Lages/SC. | E11: Peça | F11: MIDEA 42MFQA22M5 38KQN22M5 | G11: 449052.34 | H11: 3164.33 | I11: 6 | J11: =I11-SUM(L11:W11) -> 6 | K11: =IF(J11<0,"ATENÇÃO","OK") -> OK
A12: ATENA COMÉRCIO DE MÓVEIS LTDA ME | B12: 4 | C12: 48 | D12: Aparelho de ar condicionado tipo Split High Wall (para parede), ciclo quente e frio: controle remoto sem fio, capacidade nominal de no mínimo 9.000 btus; capacidade de desumidificar o ambiente e filtro de ar lavável, tensão 220 Volts, frequência 60 Hz. Selo PROCEL “A”. | E12: Peça | F12: ELGIN SSQIA-9000-2 SSQEA-9000-2 | G12: 449052-34 | H12: 1276.34 | J12: =I12-SUM(L12:W12) -> 0 | K12: =IF(J12<0,"ATENÇÃO","OK") -> OK
C13: 49 | D13: Aparelho de ar condicionado tipo Split High Wall (para parede), ciclo quente e frio, capacidade frigorífica nominal de 12.000 btu’s, 220 V,com controle remoto (individual) sem fio e filtro de ar lavável. Selo PROCEL “A”. | E13: Peça | F13: ELGIN SSQIA-12000-2 SSQEA-12000-2 | G13: 449052-34 | H13: 1335.9 | J13: =I13-SUM(L13:W13) -> 0 | K13: =IF(J13<0,"ATENÇÃO","OK") -> OK
C14: 50 | D14: Aparelho de ar condicionado tipo Split High Wall (para parede), ciclo quente e frio, capacidade frigorífica nominal de 24.000 btu’s, 220 V, com controle remoto (individual) sem fio e filtro de ar lavável. | E14: Peça | F14: PHILCO PH24000QFM4 PH24000QFM4 | G14: 449052-34 | H14: 2474.03 | J14: =I14-SUM(L14:W14) -> 0 | K14: =IF(J14<0,"ATENÇÃO","OK") -> OK
C15: 51 | D15: Condicionado de Ar tipo Split Piso Teto/Parede, capacidade frigorífica nominal de 36.000 btu’s, ciclos quente e frio, 220 V, com controle remoto sem fio e filtro de ar lavável. | E15: Peça | F15: KOMECO KOP36QC | G15: 449052-34 | H15: 4884.53 | J15: =I15-SUM(L15:W15) -> 0 | K15: =IF(J15<0,"ATENÇÃO","OK") -> OK
C16: 52 | D16: Condicionador de Ar tipo Split Piso Teto/Parede – de 60.000 BTU’s ciclos quente e frio, com controle remoto - trifásico 380 V, com pressotato de alta e baixa, rele contra inversão de fase. Selo PROCEL até "E". | E16: Peça | F16: ELGIN PHQ60000 | G16: 449052-34 | H16: 6227.75 | J16: =I16-SUM(L16:W16) -> 0 | K16: =IF(J16<0,"ATENÇÃO","OK") -> OK
C17: 53 | D17: Instalação completa de equipamento de ar-condicionado tipo "split" até 24.000 BTU/h incluindo até 3 metros de distância entre evaporadora e condensadora – Composto de 01 (uma) unidade evaporadora e 01 (uma) unidade condensadora. | E17: Serviço | F17: SERVIÇO | G17: 339039-25 | H17: 579.75 | J17: =I17-SUM(L17:W17) -> 0 | K17: =IF(J17<0,"ATENÇÃO","OK") -> OK
C18: 54 | D18: Instalação completa de equipamento de ar-condicionado tipo "split" de 25.000 a 48.000 BTU/h incluindo até 3 metros de distância entre evaporadora e condensadora – Composto de 01 (uma) unidade evaporadora e 01 (uma) unidade condensadora. | E18: Serviço | F18: SERVIÇO | G18: 339039-25 | H18: 817 | J18: =I18-SUM(L18:W18) -> 0 | K18: =IF(J18<0,"ATENÇÃO","OK") -> OK
C19: 55 | D19: Instalação completa de equipamento de ar-condicionado tipo "split" acima de 48.000 BTU/h incluindo até 3 metros de distância entre evaporadora e condensadora – Composto de 01 (uma) unidade evaporadora e 01 (uma) unidade condensadora. | E19: Serviço | F19: SERVIÇO | G19: 339039-25 | H19: 975 | J19: =I19-SUM(L19:W19) -> 0 | K19: =IF(J19<0,"ATENÇÃO","OK") -> OK
C20: 56 | D20: Metro adicional de linha para instalação de split até 24.000 BTU/h. | E20: Metro | F20: ELUMA + POLIPEX | G20: 339039-25 | H20: 47 | J20: =I20-SUM(L20:W20) -> 0 | K20: =IF(J20<0,"ATENÇÃO","OK") -> OK
C21: 57 | D21: Metro adicional de linha para instalação de split de 25.000 a 48.000 BTU/h. | E21: Metro | F21: ELUMA + POLIPEX | G21: 339039-25 | H21: 57.25 | J21: =I21-SUM(L21:W21) -> 0 | K21: =IF(J21<0,"ATENÇÃO","OK") -> OK
C22: 58 | D22: Metro adicional de linha para instalação de split acima de 48.000 BTU/h. | E22: Metro | F22: ELUMA + POLIPEX | G22: 339039-25 | H22: 67.87 | J22: =I22-SUM(L22:W22) -> 0 | K22: =IF(J22<0,"ATENÇÃO","OK") -> OK
C23: 59 | D23: Desinstalação de equipamento de ar-condicionado. | E23: Serviço | F23: SERVIÇO | G23: 339039-25 | H23: 251.75 | J23: =I23-SUM(L23:W23) -> 0 | K23: =IF(J23<0,"ATENÇÃO","OK") -> OK
A25: *Lote 1 - itens 1 a 28 - infrutífero
A26: *Lote 2 - itens 29 a 39 - infrutífero

Sheet CEO
A1: PROCESSO: 1063/2015/UDESC | D1: OBJETO: AQUISIÇÃO E INSTALAÇÃO DE APARELHOS DE AR CONDICIONADO PARA A UDESC | I1: VIGÊNCIA DA ATA: 27/10/2015 até 26/10/2016 | L1: AF/OS nº 322/2016 Qtde. DT | M1: AF/OS nº xxxx/2015 Qtde. DT | N1: AF/OS nº xxxx/2015 Qtde. DT | O1: AF/OS nº xxxx/2015 Qtde. DT | P1: AF/OS nº xxxx/2015 Qtde. DT | Q1: AF/OS nº xxxx/2015 Qtde. DT | R1: AF/OS nº xxxx/2015 Qtde. DT | S1: AF/OS nº xxxx/2015 Qtde. DT | T1: AF/OS nº xxxx/2015 Qtde. DT | U1: AF/OS nº xxxx/2015 Qtde. DT | V1: AF/OS nº xxxx/2015 Qtde. DT | W1: AF/OS nº xxxx/2015 Qtde. DT
A2: CENTRO PARTICIPANTE: CAV
A3: FORNECEDOR | B3: LOTE | C3: ITEM | D3: PRODUTO - CARACTERÍSTICAS MÍNIMAS | E3: UNIDADE | F3: MARCA | G3: DETALHAMENTO | H3: Preço UNITÁRIO (R$) | I3: Qtde Registrada | J3: Saldo / Automático | K3: ALERTA | L3: ...../...../...... | M3: ...../...../...... | N3: ...../...../...... | O3: ...../...../...... | P3: ...../...../...... | Q3: ...../...../...... | R3: ...../...../...... | S3: ...../...../...... | T3: ...../...../...... | U3: ...../...../...... | V3: ...../...../...... | W3: ...../...../......
A4: ATENA COMÉRCIO DE MÓVEIS LTDA ME | B4: 3 | C4: 40 | D4: Aparelho de ar condicionado tipo Split High Wall (para parede), ciclo quente e frio, capacidade frigorífica nominal de 12.000 btu’s, 220 V,com controle remoto (individual) sem fio e filtro de ar lavável. Selo PROCEL “A”. | E4: Peça | F4: ELGIN: SSQIA-12000-2 SSQEA-12000-2 | G4: 449052-34 | H4: 1335.9 | J4: =I4-SUM(L4:W4) -> 0 | K4: =IF(J4<0,"ATENÇÃO","OK") -> OK
C5: 41 | D5: Aparelho de ar condicionado tipo Split High Wall (para parede), ciclo quente e frio, capacidade frigorífica nominal de 18.000 btu’s, 220 V,com controle remoto (individual) sem fio e filtro de ar lavável. | E5: Peça | F5: PHILCO PH18000QFM4 PH18000QFM4 | G5: 449052-34 | H5: 1946.2 | J5: =I5-SUM(L5:W5) -> 0 | K5: =IF(J5<0,"ATENÇÃO","OK") -> OK
C6: 42 | D6: Aparelho de ar condicionado tipo Split High Wall (para parede), ciclo quente e frio, capacidade frigorífica nominal de 24.000 btu’s, 220 V, com controle remoto (individual) sem fio e filtro de ar lavável. | E6: Peça | F6: PHILCO PH24000QFM4 PH24000QFM4 | G6: 449052-34 | H6: 2474.03 | J6: =I6-SUM(L6:W6) -> 0 | K6: =IF(J6<0,"ATENÇÃO","OK") -> OK
C7: 43 | D7: Aparelho de ar condicionado tipo Split High Wall (para parede), ciclo quente e frio, capacidade frigorífica nominal de 30.000 btu’s, 220 V, com controle remoto (individual) sem fio e filtro de ar lavável. | E7: Peça | F7: ELGIN SRQ30000 | G7: 449052-34 | H7: 3461 | J7: =I7-SUM(L7:W7) -> 0 | K7: =IF(J7<0,"ATENÇÃO","OK") -> OK
C8: 44 | D8: Instalação completa de equipamento de ar-condicionado tipo "split" até 24.000 BTU/h incluindo até 3 metros de distância entre evaporadora e condensadora – Composto de 01 (uma) unidade evaporadora e 01 (uma) unidade condensadora. | E8: Serviço | F8: SERVIÇO | G8: 339039-25 | H8: 579.75 | J8: =I8-SUM(L8:W8) -> 0 | K8: =IF(J8<0,"ATENÇÃO","OK") -> OK
C9: 45 | D9: Instalação completa de equipamento de ar-condicionado tipo "split" de 25.000 a 48.000 BTU/h incluindo até 3 metros de distância entre evaporadora e condensadora – Composto de 01 (uma) unidade evaporadora e 01 (uma) unidade condensadora. | E9: Serviço | F9: SERVIÇO | G9: 339039-25 | H9: 816.81 | J9: =I9-SUM(L9:W9) -> 0 | K9: =IF(J9<0,"ATENÇÃO","OK") -> OK
C10: 46 | D10: Desinstalação de equipamento de ar-condicionado. | E10: Serviço | F10: SERVIÇO | G10: 339039-25 | H10: 251.75 | J10: =I10-SUM(L10:W10) -> 0 | K10: =IF(J10<0,"ATENÇÃO","OK") -> OK
C11: 47 | D11: Aparelho de ar condicionado tipo Split High Wall com no mínimo 22.000 BTU/h, ciclo quente/frio. Que no MODO AUTOMÁTICO de controle de temperatura PERMITA escolher a temperatura de funcionamento em toda a faixa de operação do equipamento. Com controle remoto. Com filtro de ar lavável. Selo PROCEL de economia de energia com classe de consumo de energia A ou B (Selo do INMETRO). Para rede monofásica de 220 volts. Entrega e instalação completa dos equipamentos no CAV/UDESC em Lages/SC. | E11: Peça | F11: MIDEA 42MFQA22M5 38KQN22M5 | G11: 449052.34 | H11: 3164.33 | J11: =I11-SUM(L11:W11) -> 0 | K11: =IF(J11<0,"ATENÇÃO","OK") -> OK
A12: ATENA COMÉRCIO DE MÓVEIS LTDA ME | B12: 4 | C12: 48 | D12: Aparelho de ar condicionado tipo Split High Wall (para parede), ciclo quente e frio: controle remoto sem fio, capacidade nominal de no mínimo 9.000 btus; capacidade de desumidificar o ambiente e filtro de ar lavável, tensão 220 Volts, frequência 60 Hz. Selo PROCEL “A”. | E12: Peça | F12: ELGIN SSQIA-9000-2 SSQEA-9000-2 | G12: 449052-34 | H12: 1276.34 | I12: 5 | J12: =I12-SUM(L12:W12) -> 5 | K12: =IF(J12<0,"ATENÇÃO","OK") -> OK
C13: 49 | D13: Aparelho de ar condicionado tipo Split High Wall (para parede), ciclo quente e frio, capacidade frigorífica nominal de 12.000 btu’s, 220 V,com controle remoto (individual) sem fio e filtro de ar lavável. Selo PROCEL “A”. | E13: Peça | F13: ELGIN SSQIA-12000-2 SSQEA-12000-2 | G13: 449052-34 | H13: 1335.9 | I13: 5 | J13: =I13-SUM(L13:W13) -> 5 | K13: =IF(J13<0,"ATENÇÃO","OK") -> OK
C14: 50 | D14: Aparelho de ar condicionado tipo Split High Wall (para parede), ciclo quente e frio, capacidade frigorífica nominal de 24.000 btu’s, 220 V, com controle remoto (individual) sem fio e filtro de ar lavável. | E14: Peça | F14: PHILCO PH24000QFM4 PH24000QFM4 | G14: 449052-34 | H14: 2474.03 | I14: 2 | J14: =I14-SUM(L14:W14) -> 2 | K14: =IF(J14<0,"ATENÇÃO","OK") -> OK
C15: 51 | D15: Condicionado de Ar tipo Split Piso Teto/Parede, capacidade frigorífica nominal de 36.000 btu’s, ciclos quente e frio, 220 V, com controle remoto sem fio e filtro de ar lavável. | E15: Peça | F15: KOMECO KOP36QC | G15: 449052-34 | H15: 4884.53 | I15: 5 | J15: =I15-SUM(L15:W15) -> 5 | K15: =IF(J15<0,"ATENÇÃO","OK") -> OK
C16: 52 | D16: Condicionador de Ar tipo Split Piso Teto/Parede – de 60.000 BTU’s ciclos quente e frio, com controle remoto - trifásico 380 V, com pressotato de alta e baixa, rele contra inversão de fase. Selo PROCEL até "E". | E16: Peça | F16: ELGIN PHQ60000 | G16: 449052-34 | H16: 6227.75 | I16: 4 | J16: =I16-SUM(L16:W16) -> 4 | K16: =IF(J16<0,"ATENÇÃO","OK") -> OK
C17: 53 | D17: Instalação completa de equipamento de ar-condicionado tipo "split" até 24.000 BTU/h incluindo até 3 metros de distância entre evaporadora e condensadora – Composto de 01 (uma) unidade evaporadora e 01 (uma) unidade condensadora. | E17: Serviço | F17: SERVIÇO | G17: 339039-25 | H17: 579.75 | I17: 15 | J17: =I17-SUM(L17:W17) -> 14 | K17: =IF(J17<0,"ATENÇÃO","OK") -> OK | L17: 1
C18: 54 | D18: Instalação completa de equipamento de ar-condicionado tipo "split" de 25.000 a 48.000 BTU/h incluindo até 3 metros de distância entre evaporadora e condensadora – Composto de 01 (uma) unidade evaporadora e 01 (uma) unidade condensadora. | E18: Serviço | F18: SERVIÇO | G18: 339039-25 | H18: 817 | I18: 10 | J18: =I18-SUM(L18:W18) -> 10 | K18: =IF(J18<0,"ATENÇÃO","OK") -> OK
C19: 55 | D19: Instalação completa de equipamento de ar-condicionado tipo "split" acima de 48.000 BTU/h incluindo até 3 metros de distância entre evaporadora e condensadora – Composto de 01 (uma) unidade evaporadora e 01 (uma) unidade condensadora. | E19: Serviço | F19: SERVIÇO | G19: 339039-25 | H19: 975 | I19: 6 | J19: =I19-SUM(L19:W19) -> 6 | K19: =IF(J19<0,"ATENÇÃO","OK") -> OK
C20: 56 | D20: Metro adicional de linha para instalação de split até 24.000 BTU/h. | E20: Metro | F20: ELUMA + POLIPEX | G20: 339039-25 | H20: 47 | I20: 10 | J20: =I20-SUM(L20:W20) -> 10 | K20: =IF(J20<0,"ATENÇÃO","OK") -> OK
C21: 57 | D21: Metro adicional de linha para instalação de split de 25.000 a 48.000 BTU/h. | E21: Metro | F21: ELUMA + POLIPEX | G21: 339039-25 | H21: 57.25 | I21: 10 | J21: =I21-SUM(L21:W21) -> 10 | K21: =IF(J21<0,"ATENÇÃO","OK") -> OK
C22: 58 | D22: Metro adicional de linha para instalação de split acima de 48.000 BTU/h. | E22: Metro | F22: ELUMA + POLIPEX | G22: 339039-25 | H22: 67.87 | I22: 10 | J22: =I22-SUM(L22:W22) -> 10 | K22: =IF(J22<0,"ATENÇÃO","OK") -> OK
C23: 59 | D23: Desinstalação de equipamento de ar-condicionado. | E23: Serviço | F23: SERVIÇO | G23: 339039-25 | H23: 251.75 | I23: 10 | J23: =I23-SUM(L23:W23) -> 10 | K23: =IF(J23<0,"ATENÇÃO","OK") -> OK
A25: *Lote 1 - itens 1 a 28 - infrutífero
A26: *Lote 2 - itens 29 a 39 - infrutífero

Sheet GESTOR
A1: PROCESSO: 1063/2015/UDESC | D1: OBJETO: AQUISIÇÃO E INSTALAÇÃO DE APARELHOS DE AR CONDICIONADO PARA A UDESC | I1: VIGÊNCIA DA ATA: 27/10/2015 até 26/10/2016
A2: GESTOR
A3: FORNECEDOR | B3: LOTE | C3: ITEM | D3: PRODUTO - CARACTERÍSTICAS MÍNIMAS | E3: UNIDADE | F3: MARCA | G3: DETALHAMENTO | H3: Preço UNITÁRIO (R$) | I3: Qtde Registrada | J3: Qtde Utilizada | K3: SALDO | L3: Valor Total Registrado | M3: Valor Total Utilizado
A4: ATENA COMÉRCIO DE MÓVEIS LTDA ME | B4: 3 | C4: 40 | D4: Aparelho de ar condicionado tipo Split High Wall (para parede), ciclo quente e frio, capacidade frigorífica nominal de 12.000 btu’s, 220 V,com controle remoto (individual) sem fio e filtro de ar lavável. Selo PROCEL “A”. | E4: Peça | F4: ELGIN: SSQIA-12000-2 SSQEA-12000-2 | G4: 449052-34 | H4: 1335.9 | I4: =SUM(CAV!I4,CEO!I4) -> 13 | J4: =(CAV!I4-CAV!J4)+(CEO!I4-CEO!J4) -> 1 | K4: =I4-J4 -> 12 | L4: =I4*H4 -> 17366.7 | M4: =J4*H4 -> 1335.9
C5: 41 | D5: Aparelho de ar condicionado tipo Split High Wall (para parede), ciclo quente e frio, capacidade frigorífica nominal de 18.000 btu’s, 220 V,com controle remoto (individual) sem fio e filtro de ar lavável. | E5: Peça | F5: PHILCO PH18000QFM4 PH18000QFM4 | G5: 449052-34 | H5: 1946.2 | I5: =SUM(CAV!I5,CEO!I5) -> 6 | J5: =(CAV!I5-CAV!J5)+(CEO!I5-CEO!J5) -> 4 | K5: =I5-J5 -> 2 | L5: =I5*H5 -> 11677.2 | M5: =J5*H5 -> 7784.8
C6: 42 | D6: Aparelho de ar condicionado tipo Split High Wall (para parede), ciclo quente e frio, capacidade frigorífica nominal de 24.000 btu’s, 220 V, com controle remoto (individual) sem fio e filtro de ar lavável. | E6: Peça | F6: PHILCO PH24000QFM4 PH24000QFM4 | G6: 449052-34 | H6: 2474.03 | I6: =SUM(CAV!I6,CEO!I6) -> 6 | J6: =(CAV!I6-CAV!J6)+(CEO!I6-CEO!J6) -> 2 | K6: =I6-J6 -> 4 | L6: =I6*H6 -> 14844.18 | M6: =J6*H6 -> 4948.06
C7: 43 | D7: Aparelho de ar condicionado tipo Split High Wall (para parede), ciclo quente e frio, capacidade frigorífica nominal de 30.000 btu’s, 220 V, com controle remoto (individual) sem fio e filtro de ar lavável. | E7: Peça | F7: ELGIN SRQ30000 | G7: 449052-34 | H7: 3461 | I7: =SUM(CAV!I7,CEO!I7) -> 5 | J7: =(CAV!I7-CAV!J7)+(CEO!I7-CEO!J7) -> 0 | K7: =I7-J7 -> 5 | L7: =I7*H7 -> 17305 | M7: =J7*H7 -> 0
C8: 44 | D8: Instalação completa de equipamento de ar-condicionado tipo "split" até 24.000 BTU/h incluindo até 3 metros de distância entre evaporadora e condensadora – Composto de 01 (uma) unidade evaporadora e 01 (uma) unidade condensadora. | E8: Serviço | F8: SERVIÇO | G8: 339039-25 | H8: 579.75 | I8: =SUM(CAV!I8,CEO!I8) -> 35 | J8: =(CAV!I8-CAV!J8)+(CEO!I8-CEO!J8) -> 0 | K8: =I8-J8 -> 35 | L8: =I8*H8 -> 20291.25 | M8: =J8*H8 -> 0
C9: 45 | D9: Instalação completa de equipamento de ar-condicionado tipo "split" de 25.000 a 48.000 BTU/h incluindo até 3 metros de distância entre evaporadora e condensadora – Composto de 01 (uma) unidade evaporadora e 01 (uma) unidade condensadora. | E9: Serviço | F9: SERVIÇO | G9: 339039-25 | H9: 816.81 | I9: =SUM(CAV!I9,CEO!I9) -> 15 | J9: =(CAV!I9-CAV!J9)+(CEO!I9-CEO!J9) -> 0 | K9: =I9-J9 -> 15 | L9: =I9*H9 -> 12252.15 | M9: =J9*H9 -> 0
C10: 46 | D10: Desinstalação de equipamento de ar-condicionado. | E10: Serviço | F10: SERVIÇO | G10: 339039-25 | H10: 251.75 | I10: =SUM(CAV!I10,CEO!I10) -> 10 | J10: =(CAV!I10-CAV!J10)+(CEO!I10-CEO!J10) -> 0 | K10: =I10-J10 -> 10 | L10: =I10*H10 -> 2517.5 | M10: =J10*H10 -> 0
C11: 47 | D11: Aparelho de ar condicionado tipo Split High Wall com no mínimo 22.000 BTU/h, ciclo quente/frio. Que no MODO AUTOMÁTICO de controle de temperatura PERMITA escolher a temperatura de funcionamento em toda a faixa de operação do equipamento. Com controle remoto. Com filtro de ar lavável. Selo PROCEL de economia de energia com classe de consumo de energia A ou B (Selo do INMETRO). Para rede monofásica de 220 volts. Entrega e instalação completa dos equipamentos no CAV/UDESC em Lages/SC. | E11: Peça | F11: MIDEA 42MFQA22M5 38KQN22M5 | G11: 449052.34 | H11: 3164.33 | I11: =SUM(CAV!I11,CEO!I11) -> 6 | J11: =(CAV!I11-CAV!J11)+(CEO!I11-CEO!J11) -> 0 | K11: =I11-J11 -> 6 | L11: =I11*H11 -> 18985.98 | M11: =J11*H11 -> 0
A12: ATENA COMÉRCIO DE MÓVEIS LTDA ME | B12: 4 | C12: 48 | D12: Aparelho de ar condicionado tipo Split High Wall (para parede), ciclo quente e frio: controle remoto sem fio, capacidade nominal de no mínimo 9.000 btus; capacidade de desumidificar o ambiente e filtro de ar lavável, tensão 220 Volts, frequência 60 Hz. Selo PROCEL “A”. | E12: Peça | F12: ELGIN SSQIA-9000-2 SSQEA-9000-2 | G12: 449052-34 | H12: 1276.34 | I12: =SUM(CAV!I12,CEO!I12) -> 5 | J12: =(CAV!I12-CAV!J12)+(CEO!I12-CEO!J12) -> 0 | K12: =I12-J12 -> 5 | L12: =I12*H12 -> 6381.7 | M12: =J12*H12 -> 0
C13: 49 | D13: Aparelho de ar condicionado tipo Split High Wall (para parede), ciclo quente e frio, capacidade frigorífica nominal de 12.000 btu’s, 220 V,com controle remoto (individual) sem fio e filtro de ar lavável. Selo PROCEL “A”. | E13: Peça | F13: ELGIN SSQIA-12000-2 SSQEA-12000-2 | G13: 449052-34 | H13: 1335.9 | I13: =SUM(CAV!I13,CEO!I13) -> 5 | J13: =(CAV!I13-CAV!J13)+(CEO!I13-CEO!J13) -> 0 | K13: =I13-J13 -> 5 | L13: =I13*H13 -> 6679.5 | M13: =J13*H13 -> 0
C14: 50 | D14: Aparelho de ar condicionado tipo Split High Wall (para parede), ciclo quente e frio, capacidade frigorífica nominal de 24.000 btu’s, 220 V, com controle remoto (individual) sem fio e filtro de ar lavável. | E14: Peça | F14: PHILCO PH24000QFM4 PH24000QFM4 | G14: 449052-34 | H14: 2474.03 | I14: =SUM(CAV!I14,CEO!I14) -> 2 | J14: =(CAV!I14-CAV!J14)+(CEO!I14-CEO!J14) -> 0 | K14: =I14-J14 -> 2 | L14: =I14*H14 -> 4948.06 | M14: =J14*H14 -> 0
C15: 51 | D15: Condicionado de Ar tipo Split Piso Teto/Parede, capacidade frigorífica nominal de 36.000 btu’s, ciclos quente e frio, 220 V, com controle remoto sem fio e filtro de ar lavável. | E15: Peça | F15: KOMECO KOP36QC | G15: 449052-34 | H15: 4884.53 | I15: =SUM(CAV!I15,CEO!I15) -> 5 | J15: =(CAV!I15-CAV!J15)+(CEO!I15-CEO!J15) -> 0 | K15: =I15-J15 -> 5 | L15: =I15*H15 -> 24422.65 | M15: =J15*H15 -> 0
C16: 52 | D16: Condicionador de Ar tipo Split Piso Teto/Parede – de 60.000 BTU’s ciclos quente e frio, com controle remoto - trifásico 380 V, com pressotato de alta e baixa, rele contra inversão de fase. Selo PROCEL até "E". | E16: Peça | F16: ELGIN PHQ60000 | G16: 449052-34 | H16: 6227.75 | I16: =SUM(CAV!I16,CEO!I16) -> 4 | J16: =(CAV!I16-CAV!J16)+(CEO!I16-CEO!J16) -> 0 | K16: =I16-J16 -> 4 | L16: =I16*H16 -> 24911 | M16: =J16*H16 -> 0
C17: 53 | D17: Instalação completa de equipamento de ar-condicionado tipo "split" até 24.000 BTU/h incluindo até 3 metros de distância entre evaporadora e condensadora – Composto de 01 (uma) unidade evaporadora e 01 (uma) unidade condensadora. | E17: Serviço | F17: SERVIÇO | G17: 339039-25 | H17: 579.75 | I17: =SUM(CAV!I17,CEO!I17) -> 15 | J17: =(CAV!I17-CAV!J17)+(CEO!I17-CEO!J17) -> 1 | K17: =I17-J17 -> 14 | L17: =I17*H17 -> 8696.25 | M17: =J17*H17 -> 579.75
C18: 54 | D18: Instalação completa de equipamento de ar-condicionado tipo "split" de 25.000 a 48.000 BTU/h incluindo até 3 metros de distância entre evaporadora e condensadora – Composto de 01 (uma) unidade evaporadora e 01 (uma) unidade condensadora. | E18: Serviço | F18: SERVIÇO | G18: 339039-25 | H18: 817 | I18: =SUM(CAV!I18,CEO!I18) -> 10 | J18: =(CAV!I18-CAV!J18)+(CEO!I18-CEO!J18) -> 0 | K18: =I18-J18 -> 10 | L18: =I18*H18 -> 8170 | M18: =J18*H18 -> 0
C19: 55 | D19: Instalação completa de equipamento de ar-condicionado tipo "split" acima de 48.000 BTU/h incluindo até 3 metros de distância entre evaporadora e condensadora – Composto de 01 (uma) unidade evaporadora e 01 (uma) unidade condensadora. | E19: Serviço | F19: SERVIÇO | G19: 339039-25 | H19: 975 | I19: =SUM(CAV!I19,CEO!I19) -> 6 | J19: =(CAV!I19-CAV!J19)+(CEO!I19-CEO!J19) -> 0 | K19: =I19-J19 -> 6 | L19: =I19*H19 -> 5850 | M19: =J19*H19 -> 0
C20: 56 | D20: Metro adicional de linha para instalação de split até 24.000 BTU/h. | E20: Metro | F20: ELUMA + POLIPEX | G20: 339039-25 | H20: 47 | I20: =SUM(CAV!I20,CEO!I20) -> 10 | J20: =(CAV!I20-CAV!J20)+(CEO!I20-CEO!J20) -> 0 | K20: =I20-J20 -> 10 | L20: =I20*H20 -> 470 | M20: =J20*H20 -> 0
C21: 57 | D21: Metro adicional de linha para instalação de split de 25.000 a 48.000 BTU/h. | E21: Metro | F21: ELUMA + POLIPEX | G21: 339039-25 | H21: 57.25 | I21: =SUM(CAV!I21,CEO!I21) -> 10 | J21: =(CAV!I21-CAV!J21)+(CEO!I21-CEO!J21) -> 0 | K21: =I21-J21 -> 10 | L21: =I21*H21 -> 572.5 | M21: =J21*H21 -> 0
C22: 58 | D22: Metro adicional de linha para instalação de split acima de 48.000 BTU/h. | E22: Metro | F22: ELUMA + POLIPEX | G22: 339039-25 | H22: 67.87 | I22: =SUM(CAV!I22,CEO!I22) -> 10 | J22: =(CAV!I22-CAV!J22)+(CEO!I22-CEO!J22) -> 0 | K22: =I22-J22 -> 10 | L22: =I22*H22 -> 678.7 | M22: =J22*H22 -> 0
C23: 59 | D23: Desinstalação de equipamento de ar-condicionado. | E23: Serviço | F23: SERVIÇO | G23: 339039-25 | H23: 251.75 | I23: =SUM(CAV!I23,CEO!I23) -> 10 | J23: =(CAV!I23-CAV!J23)+(CEO!I23-CEO!J23) -> 0 | K23: =I23-J23 -> 10 | L23: =I23*H23 -> 2517.5 | M23: =J23*H23 -> 0
L24: =SUM(L4:L23) -> 209537.82 | M24: =SUM(M4:M23) -> 14648.51
A25: *Lote 1 - itens 1 a 28 - infrutífero
A26: *Lote 2 - itens 29 a 39 - infrutífero
I27: Pregão 1063/2015/UDESC - SRP
I28: AQUISIÇÃO E INSTALAÇÃO DE APARELHOS DE AR CONDICIONADO PARA A UDESC
I29: VIGÊNCIA DA ATA: 27/10/2015 até 26/10/2016
I30: Valor Total da Ata com Aditivo | M30: =L24 -> 209537.82
I31: Valor Utilizado | M31: =M24 -> 14648.51
I32: % Aditivos
I33: % Utilizado | M33: =M31/M30 -> 0.069908669
I34: Resumo Atualizado em Abril/2016

Sheet Modelo Anexo II IN 002_2014
A1: ANEXO II – Instrução Normativa n.º 002/2014
A3: DECLARAÇÃO DE DISPONIBILIDADE DE QUANTITATIVO PARA EMISSÃO DE AUTORIZAÇÃO DE FORNECIMENTO/ORDEM DE SERVIÇO – SISTEMA DE REGISTRO DE PREÇOS/UDESC
A5: Processo CPA n.º XXXX/2014
A6: Pregão n.º XXXX/2014
A7: Objeto:
A8: Vigência da Ata de Registro de Preços: XX/XX/XXXX até XX/XX/XXXXX
A10: Declaro que o Centro XXXXXXX, participante da Ata de Registro de Preços proveniente do Pregão n.º XXXX/2014, possui saldo em seu quantitativo para a emissão da Autorização de Fornecimento/Ordem de Serviço n.º XXXX/2014, no valor de R$ X.XXX,XX, a ser firmada com a empresa XXXXXXX, restando ainda em sua cota para próximas contratações com o referido fornecedor os seguintes quantitativos:
A12: Lote | B12: Item | C12: Descrição Resumida | D12: Unidade | E12: Valor Unitário (R$) | F12: Saldo Quantitativo (antes da emissão desta AF/OS) | G12: Quantitativo da AF/OS | H12: Saldo Atualizado
A19: __________________, ____/_____/____
A20: Cidade Data
A24: _____________________________________________
A25: Diretor(a) de Administração
A26: (carimbo e assinatura)
