Workbook
Name CEPLAN: #REF!
Name CEPLAN: #REF!
Name diasuteis: #REF!
Name diasuteis: #REF!
Name Ferias: #REF!
Name Ferias: #REF!
Name RD: OFFSET(#REF!,(MATCH(SMALL(#REF!,ROW()-10),#REF!,0)-1),0)
Name RD: OFFSET(#REF!,(MATCH(SMALL(#REF!,ROW()-10),#REF!,0)-1),0)

Sheet REITORIA
A1: PROCESSO: 1063/2015/UDESC - REL | D1: OBJETO: AQUISIÇÃO E INSTALAÇÃO DE APARELHOS DE AR CONDICIONADO PARA A UDESC - RELANÇAMENTO | H1: VIGÊNCIA DA ATA: 04/03/2016 até 03/03/2017 | K1: AF nº 473/2016 Qtde. DT | L1: AF nº 621/2016 Qtde. DT | M1: AF nº 1020/2016 Qtde. DT | N1: AF/OS nº xxxx/2016 Qtde. DT | O1: AF/OS nº xxxx/2016 Qtde. DT | P1: AF/OS nº xxxx/2016 Qtde. DT | Q1: AF/OS nº xxxx/2016 Qtde. DT | R1: AF/OS nº xxxx/2016 Qtde. DT | S1: AF/OS nº xxxx/2016 Qtde. DT | T1: AF/OS nº xxxx/2016 Qtde. DT | U1: AF/OS nº xxxx/2016 Qtde. DT | V1: AF/OS nº xxxx/2016 Qtde. DT
A2: CENTRO PARTICIPANTE: REITORIA
A3: FORNECEDOR | B3: LOTE | C3: ITEM | D3: PRODUTO - CARACTERÍSTICAS MÍNIMAS | E3: UNIDADE | F3: DETALHAMENTO | G3: Preço UNITÁRIO (R$) | H3: Qtde Registrada | I3: Saldo / Automático | J3: ALERTA | K3: 42500 | L3: 42558 | M3: 42618 | N3: ...../...../...... | O3: ...../...../...... | P3: ...../...../...... | Q3: ...../...../...... | R3: ...../...../...... | S3: ...../...../...... | T3: ...../...../...... | U3: ...../...../...... | V3: ...../...../......
A4: E&AR EQUIPAMENTOS DE REFRIGERAÇÃO EIRELI EPP | B4: 1 | C4: 1 | D4: Aparelho de ar condicionado tipo Split High Wall (para parede), capacidade frigorífica nominal de 9.000 btu’s, 220 V, somente frio, com controle remoto (individual) sem fio e filtro de ar lavável. Selo PROCEL “A” . | E4: Peça | F4: 449052-34 | G4: 1480 | I4: =H4-SUM(K4:V4) -> 0 | J4: =IF(I4<0,"ATENÇÃO","OK") -> OK
C5: 2 | D5: Aparelho de ar condicionado tipo Split High Wall (para parede), ciclo quente e frio: controle remoto sem fio, capacidade nominal de no mínimo 9.000 btus; capacidade de desumidificar o ambiente e filtro de ar lavável, tensão 220 Volts, frequência 60 Hz. Selo PROCEL “A”. | E5: Peça | F5: 449052-34 | G5: 1585 | H5: 2 | I5: =H5-SUM(K5:V5) -> 1 | J5: =IF(I5<0,"ATENÇÃO","OK") -> OK | K5: 1
C6: 3 | D6: Aparelho de ar condicionado tipo Split High Wall (para parede), ciclo somente frio, 220 V, capacidade frigorífica nominal de 12.000 btu’s somente frio, com controle remoto (individual) sem fio e filtro de ar lavável. Selo PROCEL “A”. | E6: Peça | F6: 449052-34 | G6: 1595 | I6: =H6-SUM(K6:V6) -> 0 | J6: =IF(I6<0,"ATENÇÃO","OK") -> OK
C7: 4 | D7: Aparelho de ar condicionado tipo Split High Wall (para parede), ciclo quente e frio, capacidade frigorífica nominal de 12.000 btu’s, 220 V,com controle remoto (individual) sem fio e filtro de ar lavável. Selo PROCEL “A”. | E7: Peça | F7: 449052-34 | G7: 1685 | H7: 5 | I7: =H7-SUM(K7:V7) -> 4 | J7: =IF(I7<0,"ATENÇÃO","OK") -> OK | M7: 1
C8: 5 | D8: Aparelho de ar condicionado tipo Split High Wall, (para parede), ciclo somente frio, capacidade frigorífica nominal de 18.000 btu’s, 220 V, com controle remoto (individual) sem fio e filtro de ar lavável. | E8: Peça | F8: 449052-34 | G8: 2200 | I8: =H8-SUM(K8:V8) -> 0 | J8: =IF(I8<0,"ATENÇÃO","OK") -> OK
C9: 6 | D9: Aparelho de ar condicionado tipo Split High Wall (para parede), ciclo quente e frio, capacidade frigorífica nominal de 18.000 btu’s, 220 V,com controle remoto (individual) sem fio e filtro de ar lavável. | E9: Peça | F9: 449052-34 | G9: 2455 | H9: 1 | I9: =H9-SUM(K9:V9) -> 1 | J9: =IF(I9<0,"ATENÇÃO","OK") -> OK
C10: 7 | D10: Aparelho de ar condicionado tipo Split Cassete, ciclo FRIO: controle remoto sem fio, capacidade nominal de no mínimo 18.000 btus; tensão 220 Volts. | E10: Peça | F10: 449052-34 | G10: 4265 | I10: =H10-SUM(K10:V10) -> 0 | J10: =IF(I10<0,"ATENÇÃO","OK") -> OK
C11: 8 | D11: Aparelho de ar condicionado tipo Split Piso Teto, capacidade frigorífica nominal 24.000 BTU’s, ciclo somente frio, 220 V, com controle remoto (individual), sem fio e filtro de ar lavável. | E11: Peça | F11: 449052-34 | G11: 4100 | I11: =H11-SUM(K11:V11) -> 0 | J11: =IF(I11<0,"ATENÇÃO","OK") -> OK
C12: 9 | D12: Aparelho de ar condicionado tipo Split High Wall (para parede), ciclo quente e frio, capacidade frigorífica nominal de 24.000 btu’s, 220 V, com controle remoto (individual) sem fio e filtro de ar lavável. | E12: Peça | F12: 449052-34 | G12: 2960 | I12: =H12-SUM(K12:V12) -> 0 | J12: =IF(I12<0,"ATENÇÃO","OK") -> OK
C13: 10 | D13: Aparelho de ar condicionado tipo Split Cassete, ciclo FRIO: controle remoto sem fio, capacidade nominal de no mínimo 24.000 btus; tensão 220 Volts. | E13: Peça | F13: 449052-34 | G13: 4985 | H13: 7 | I13: =H13-SUM(K13:V13) -> 7 | J13: =IF(I13<0,"ATENÇÃO","OK") -> OK
C14: 11 | D14: Aparelho de ar condicionado tipo Split Piso Teto, ciclo somente frio, capacidade frigorífica nominal de 30.000 btu’s somente frio, 220 V, com controle remoto (individual) sem fio e filtro de ar lavável. | E14: Peça | F14: 449052-34 | G14: 4870 | I14: =H14-SUM(K14:V14) -> 0 | J14: =IF(I14<0,"ATENÇÃO","OK") -> OK
C15: 12 | D15: Aparelho de ar condicionado tipo Split High Wall (para parede), ciclo quente e frio, capacidade frigorífica nominal de 30.000 btu’s, 220 V, com controle remoto (individual) sem fio e filtro de ar lavável. | E15: Peça | F15: 449052-34 | G15: 4605 | I15: =H15-SUM(K15:V15) -> 0 | J15: =IF(I15<0,"ATENÇÃO","OK") -> OK
C16: 13 | D16: Condicionador de Ar tipo Split Piso Teto – de 36.000 BTU’s ciclo somente frio, com controle remoto (individual) sem fio. | E16: Peça | F16: 449052-34 | G16: 5575 | I16: =H16-SUM(K16:V16) -> 0 | J16: =IF(I16<0,"ATENÇÃO","OK") -> OK
C17: 14 | D17: Condicionado de Ar tipo Split Piso Teto/Parede, capacidade frigorífica nominal de 36.000 btu’s, ciclos quente e frio, 220 V, com controle remoto sem fio e filtro de ar lavável. | E17: Peça | F17: 449052-34 | G17: 6005 | I17: =H17-SUM(K17:V17) -> 0 | J17: =IF(I17<0,"ATENÇÃO","OK") -> OK
C18: 15 | D18: Aparelho de ar condicionado tipo Split Cassete, ciclo FRIO: controle remoto sem fio, capacidade nominal de no mínimo 36.000 btus; tensão 220 Volts. | E18: Peça | F18: 449052-34 | G18: 7485 | I18: =H18-SUM(K18:V18) -> 0 | J18: =IF(I18<0,"ATENÇÃO","OK") -> OK
C19: 16 | D19: Condicionador de Ar tipo Split Piso Teto – de 48.000 BTU’s ciclo somente frio, com controle remoto (individual) sem fio e filtro de ar lavável. | E19: Peça | F19: 449052-34 | G19: 6820 | I19: =H19-SUM(K19:V19) -> 0 | J19: =IF(I19<0,"ATENÇÃO","OK") -> OK
C20: 17 | D20: Condicionador de Ar tipo Split Piso Teto, ciclo somente frio, 55.000 a 60.000 BTU´s, com controle remoto (individual sem fio). Trifásico 380V, com pressotato de alta e baixa, rele contra inversão de fase. Selo PROCEL até "E". | E20: Peça | F20: 449052-34 | G20: 7625 | I20: =H20-SUM(K20:V20) -> 0 | J20: =IF(I20<0,"ATENÇÃO","OK") -> OK
C21: 18 | D21: Condicionador de Ar tipo Split Piso Teto/Parede – de 55.000 a 60.000 BTU’s ciclos quente e frio, com controle remoto - trifásico 380 V, com pressotato de alta e baixa, rele contra inversão de fase. Selo PROCEL até "E". | E21: Peça | F21: 449052-34 | G21: 8225 | I21: =H21-SUM(K21:V21) -> 0 | J21: =IF(I21<0,"ATENÇÃO","OK") -> OK
C22: 19 | D22: Aparelho de ar condicionado tipo Split Cassete, capacidade nominal de no mínimo 55.000 a 60.000 BTU’s ciclo frio, com controle remoto - trifásico 380 V, com pressotato de alta e baixa, rele contra inversão de fase. | E22: Peça | F22: 449052-34 | G22: 8700 | H22: 1 | I22: =H22-SUM(K22:V22) -> 1 | J22: =IF(I22<0,"ATENÇÃO","OK") -> OK
C23: 20 | D23: Cortina de Ar. Dimensões aproximadas: (L X A XP): 150 x 23 x 22cm , podendo ter pequena variação de tamanho, dependendo da marca do produto. Monofásico, 220 Volts. Potência (c/v) mínimo de 1/5. Nível máximo de ruído (db): menor que 60db. Modos de operação: ventila. Velocidades (m/s) mínimo de 11. Vazão de ar: mínimo de 1300 m3/h. Temperatura somente ventilação. Recursos função automática. Saída de ar frontal e vertical. Entrada superior de ar. Direcionadores de ar vertical. Recirculação de ar (m3/m) maior que 25. Prazo de garantia de 01 ano. Item incluso: controle remoto. Cor branco. | E23: Peça | F23: 449052-34 | G23: 830 | I23: =H23-SUM(K23:V23) -> 0 | J23: =IF(I23<0,"ATENÇÃO","OK") -> OK
C24: 21 | D24: Instalação de Cortina de Ar do item 54. | E24: Serviço | F24: 339039-25 | G24: 220 | I24: =H24-SUM(K24:V24) -> 0 | J24: =IF(I24<0,"ATENÇÃO","OK") -> OK
C25: 22 | D25: Instalação completa de equipamento de ar-condicionado tipo "split" até 24.000 BTU/h incluindo até 3 metros de distância entre evaporadora e condensadora – Composto de 01 (uma) unidade evaporadora e 01 (uma) unidade condensadora. | E25: Serviço | F25: 339039-25 | G25: 600 | H25: =37-2 -> 35 | I25: =H25-SUM(K25:V25) -> 28 | J25: =IF(I25<0,"ATENÇÃO","OK") -> OK | K25: 5 | L25: 2
C26: 23 | D26: Instalação completa de equipamento de ar-condicionado tipo "split" de 25.000 a 48.000 BTU/h incluindo até 3 metros de distância entre evaporadora e condensadora – Composto de 01 (uma) unidade evaporadora e 01 (uma) unidade condensadora. | E26: Serviço | F26: 339039-25 | G26: 815 | H26: 15 | I26: =H26-SUM(K26:V26) -> 12 | J26: =IF(I26<0,"ATENÇÃO","OK") -> OK | L26: 3
C27: 24 | D27: Instalação completa de equipamento de ar-condicionado tipo "split" acima de 48.000 BTU/h incluindo até 3 metros de distância entre evaporadora e condensadora – Composto de 01 (uma) unidade evaporadora e 01 (uma) unidade condensadora. | E27: Serviço | F27: 339039-25 | G27: 1010 | H27: 18 | I27: =H27-SUM(K27:V27) -> 11 | J27: =IF(I27<0,"ATENÇÃO","OK") -> OK | K27: 3 | L27: 4
C28: 25 | D28: Metro adicional de linha para instalação de split até 24.000 BTU/h. | E28: Metro | F28: 339039-25 | G28: 55 | H28: =694-3 -> 691 | I28: =H28-SUM(K28:V28) -> 676 | J28: =IF(I28<0,"ATENÇÃO","OK") -> OK | K28: 3 | L28: 12
C29: 26 | D29: Metro adicional de linha para instalação de split de 25.000 a 48.000 BTU/h. | E29: Metro | F29: 339039-25 | G29: 63 | H29: 180 | I29: =H29-SUM(K29:V29) -> 162 | J29: =IF(I29<0,"ATENÇÃO","OK") -> OK | L29: 18
C30: 27 | D30: Metro adicional de linha para instalação de split acima de 48.000 BTU/h. | E30: Metro | F30: 339039-25 | G30: 76 | H30: 253 | I30: =H30-SUM(K30:V30) -> 219 | J30: =IF(I30<0,"ATENÇÃO","OK") -> OK | K30: 10 | L30: 24
C31: 28 | D31: Desinstalação de equipamento de ar-condicionado. | E31: Serviço | F31: 339039-25 | G31: 302 | H31: =28-2-3 -> 23 | I31: =H31-SUM(K31:V31) -> 8 | J31: =IF(I31<0,"ATENÇÃO","OK") -> OK | K31: 6 | L31: 9
A32: E&AR EQUIPAMENTOS DE REFRIGERAÇÃO EIRELI EPP | B32: 2 | C32: 29 | D32: Aparelho de ar condicionado tipo Split High Wall (para parede), ciclo somente frio, 220 V, capacidade frigorífica nominal de 12.000 btu’s somente frio, com controle remoto (individual) sem fio e filtro de ar lavável. Selo PROCEL “A”. | E32: Peça | F32: 449052-34 | G32: 1500 | I32: =H32-SUM(K32:V32) -> 0 | J32: =IF(I32<0,"ATENÇÃO","OK") -> OK
C33: 30 | D33: Aparelho de ar condicionado tipo Split High Wall, (para parede), ciclo somente frio, capacidade frigorífica nominal de 18.000 btu’s, 220 V, com controle remoto (individual) sem fio e filtro de ar lavável. | E33: Peça | F33: 449052-34 | G33: 2200 | I33: =H33-SUM(K33:V33) -> 0 | J33: =IF(I33<0,"ATENÇÃO","OK") -> OK
C34: 31 | D34: Aparelho de ar condicionado tipo Split Piso Teto, capacidade frigorífica nominal 24.000 BTU’s, ciclo somente frio, 220 V, com controle remoto (individual), sem fio e filtro de ar lavável. | E34: Peça | F34: 449052-34 | G34: 4150 | I34: =H34-SUM(K34:V34) -> 0 | J34: =IF(I34<0,"ATENÇÃO","OK") -> OK
C35: 32 | D35: Condicionador de Ar ti Split Piso Teto, ciclo somente frio, 55.000 a 60.000 BTU´s, com controle remoto (individual sem fio). Trifásico 380V, com pressotato de alta e baixa, rele contra inversão de fase. Selo PROCEL até "E". | E35: Peça | F35: 449052-34 | G35: 7525 | I35: =H35-SUM(K35:V35) -> 0 | J35: =IF(I35<0,"ATENÇÃO","OK") -> OK
C36: 33 | D36: Cortina de Ar. Dimensões aproximadas: (L X A XP): 150 x 23 x 22cm , podendo ter pequena variação de tamanho, dependendo da marca do produto. Monofásico, 220 Volts. Potência (c/v) mínimo de 1/5. Nível máximo de ruído (db): menor que 60db. Modos de operação: ventila. Velocidades (m/s) mínimo de 11. Vazão de ar: mínimo de 1300 m3/h. Temperatura somente ventilação. Recursos função automática. Saída de ar frontal e vertical. Entrada superior de ar. Direcionadores de ar vertical. Recirculação de ar (m3/m) maior que 25. Prazo de garantia de 01 ano. Item incluso: controle remoto. Cor branco. | E36: Peça | F36: 449052-34 | G36: 800 | I36: =H36-SUM(K36:V36) -> 0 | J36: =IF(I36<0,"ATENÇÃO","OK") -> OK
C37: 34 | D37: Instalação de Cortina de Ar do item 80. | E37: Serviço | F37: 339039-25 | G37: 200 | I37: =H37-SUM(K37:V37) -> 0 | J37: =IF(I37<0,"ATENÇÃO","OK") -> OK
C38: 35 | D38: Instalação completa de equipamento de ar-condicionado tipo "split" até 24.000 BTU/h incluindo até 3 metros de distância entre evaporadora e condensadora – Composto de 01 (uma) unidade evaporadora e 01 (uma) unidade condensadora. | E38: Serviço | F38: 339039-25 | G38: 550 | I38: =H38-SUM(K38:V38) -> 0 | J38: =IF(I38<0,"ATENÇÃO","OK") -> OK
C39: 36 | D39: Instalação completa de equipamento de ar-condicionado tipo "split" acima de 48.000 BTU/h incluindo até 3 metros de distância entre evaporadora e condensadora – Composto de 01 (uma) unidade evaporadora e 01 (uma) unidade condensadora. | E39: Serviço | F39: 339039-25 | G39: 900 | I39: =H39-SUM(K39:V39) -> 0 | J39: =IF(I39<0,"ATENÇÃO","OK") -> OK
C40: 37 | D40: Metro adicional de linha para instalação de split até 24.000 BTU/h. | E40: Metro | F40: 339039-25 | G40: 50 | I40: =H40-SUM(K40:V40) -> 0 | J40: =IF(I40<0,"ATENÇÃO","OK") -> OK
C41: 38 | D41: Metro adicional de linha para instalação de split acima de 48.000 BTU/h. | E41: Metro | F41: 339039-25 | G41: 70 | I41: =H41-SUM(K41:V41) -> 0 | J41: =IF(I41<0,"ATENÇÃO","OK") -> OK
C42: 39 | D42: Desinstalação de equipamento de ar-condicionado. | E42: Serviço | F42: 339039-25 | G42: 300 | I42: =H42-SUM(K42:V42) -> 0 | J42: =IF(I42<0,"ATENÇÃO","OK") -> OK

Sheet MUSEU
A1: PROCESSO: 1063/2015/UDESC - REL | D1: OBJETO: AQUISIÇÃO E INSTALAÇÃO DE APARELHOS DE AR CONDICIONADO PARA A UDESC - RELANÇAMENTO | H1: VIGÊNCIA DA ATA: 04/03/2016 até 03/03/2017 | K1: AF nº 954/2016 Qtde. DT | L1: AF/OS nº xxxx/2016 Qtde. DT | M1: AF/OS nº xxxx/2016 Qtde. DT | N1: AF/OS nº xxxx/2016 Qtde. DT | O1: AF/OS nº xxxx/2016 Qtde. DT | P1: AF/OS nº xxxx/2016 Qtde. DT | Q1: AF/OS nº xxxx/2016 Qtde. DT | R1: AF/OS nº xxxx/2016 Qtde. DT | S1: AF/OS nº xxxx/2016 Qtde. DT | T1: AF/OS nº xxxx/2016 Qtde. DT | U1: AF/OS nº xxxx/2016 Qtde. DT | V1: AF/OS nº xxxx/2016 Qtde. DT
A2: CENTRO PARTICIPANTE: MUSEU
A3: FORNECEDOR | B3: LOTE | C3: ITEM | D3: PRODUTO - CARACTERÍSTICAS MÍNIMAS | E3: UNIDADE | F3: DETALHAMENTO | G3: Preço UNITÁRIO (R$) | H3: Qtde Registrada | I3: Saldo / Automático | J3: ALERTA | K3: 42604 | L3: ...../...../...... | M3: ...../...../...... | N3: ...../...../...... | O3: ...../...../...... | P3: ...../...../...... | Q3: ...../...../...... | R3: ...../...../...... | S3: ...../...../...... | T3: ...../...../...... | U3: ...../...../...... | V3: ...../...../......
A4: E&AR EQUIPAMENTOS DE REFRIGERAÇÃO EIRELI EPP | B4: 1 | C4: 1 | D4: Aparelho de ar condicionado tipo Split High Wall (para parede), capacidade frigorífica nominal de 9.000 btu’s, 220 V, somente frio, com controle remoto (individual) sem fio e filtro de ar lavável. Selo PROCEL “A” . | E4: Peça | F4: 449052-34 | G4: 1480 | I4: =H4-SUM(K4:V4) -> 0 | J4: =IF(I4<0,"ATENÇÃO","OK") -> OK
C5: 2 | D5: Aparelho de ar condicionado tipo Split High Wall (para parede), ciclo quente e frio: controle remoto sem fio, capacidade nominal de no mínimo 9.000 btus; capacidade de desumidificar o ambiente e filtro de ar lavável, tensão 220 Volts, frequência 60 Hz. Selo PROCEL “A”. | E5: Peça | F5: 449052-34 | G5: 1585 | I5: =H5-SUM(K5:V5) -> 0 | J5: =IF(I5<0,"ATENÇÃO","OK") -> OK
C6: 3 | D6: Aparelho de ar condicionado tipo Split High Wall (para parede), ciclo somente frio, 220 V, capacidade frigorífica nominal de 12.000 btu’s somente frio, com controle remoto (individual) sem fio e filtro de ar lavável. Selo PROCEL “A”. | E6: Peça | F6: 449052-34 | G6: 1595 | H6: 1 | I6: =H6-SUM(K6:V6) -> 1 | J6: =IF(I6<0,"ATENÇÃO","OK") -> OK
C7: 4 | D7: Aparelho de ar condicionado tipo Split High Wall (para parede), ciclo quente e frio, capacidade frigorífica nominal de 12.000 btu’s, 220 V,com controle remoto (individual) sem fio e filtro de ar lavável. Selo PROCEL “A”. | E7: Peça | F7: 449052-34 | G7: 1685 | I7: =H7-SUM(K7:V7) -> 0 | J7: =IF(I7<0,"ATENÇÃO","OK") -> OK
C8: 5 | D8: Aparelho de ar condicionado tipo Split High Wall, (para parede), ciclo somente frio, capacidade frigorífica nominal de 18.000 btu’s, 220 V, com controle remoto (individual) sem fio e filtro de ar lavável. | E8: Peça | F8: 449052-34 | G8: 2200 | I8: =H8-SUM(K8:V8) -> 0 | J8: =IF(I8<0,"ATENÇÃO","OK") -> OK
C9: 6 | D9: Aparelho de ar condicionado tipo Split High Wall (para parede), ciclo quente e frio, capacidade frigorífica nominal de 18.000 btu’s, 220 V,com controle remoto (individual) sem fio e filtro de ar lavável. | E9: Peça | F9: 449052-34 | G9: 2455 | I9: =H9-SUM(K9:V9) -> 0 | J9: =IF(I9<0,"ATENÇÃO","OK") -> OK
C10: 7 | D10: Aparelho de ar condicionado tipo Split Cassete, ciclo FRIO: controle remoto sem fio, capacidade nominal de no mínimo 18.000 btus; tensão 220 Volts. | E10: Peça | F10: 449052-34 | G10: 4265 | I10: =H10-SUM(K10:V10) -> 0 | J10: =IF(I10<0,"ATENÇÃO","OK") -> OK
C11: 8 | D11: Aparelho de ar condicionado tipo Split Piso Teto, capacidade frigorífica nominal 24.000 BTU’s, ciclo somente frio, 220 V, com controle remoto (individual), sem fio e filtro de ar lavável. | E11: Peça | F11: 449052-34 | G11: 4100 | I11: =H11-SUM(K11:V11) -> 0 | J11: =IF(I11<0,"ATENÇÃO","OK") -> OK
C12: 9 | D12: Aparelho de ar condicionado tipo Split High Wall (para parede), ciclo quente e frio, capacidade frigorífica nominal de 24.000 btu’s, 220 V, com controle remoto (individual) sem fio e filtro de ar lavável. | E12: Peça | F12: 449052-34 | G12: 2960 | I12: =H12-SUM(K12:V12) -> 0 | J12: =IF(I12<0,"ATENÇÃO","OK") -> OK
C13: 10 | D13: Aparelho de ar condicionado tipo Split Cassete, ciclo FRIO: controle remoto sem fio, capacidade nominal de no mínimo 24.000 btus; tensão 220 Volts. | E13: Peça | F13: 449052-34 | G13: 4985 | I13: =H13-SUM(K13:V13) -> 0 | J13: =IF(I13<0,"ATENÇÃO","OK") -> OK
C14: 11 | D14: Aparelho de ar condicionado tipo Split Piso Teto, ciclo somente frio, capacidade frigorífica nominal de 30.000 btu’s somente frio, 220 V, com controle remoto (individual) sem fio e filtro de ar lavável. | E14: Peça | F14: 449052-34 | G14: 4870 | I14: =H14-SUM(K14:V14) -> 0 | J14: =IF(I14<0,"ATENÇÃO","OK") -> OK
C15: 12 | D15: Aparelho de ar condicionado tipo Split High Wall (para parede), ciclo quente e frio, capacidade frigorífica nominal de 30.000 btu’s, 220 V, com controle remoto (individual) sem fio e filtro de ar lavável. | E15: Peça | F15: 449052-34 | G15: 4605 | I15: =H15-SUM(K15:V15) -> 0 | J15: =IF(I15<0,"ATENÇÃO","OK") -> OK
C16: 13 | D16: Condicionador de Ar tipo Split Piso Teto – de 36.000 BTU’s ciclo somente frio, com controle remoto (individual) sem fio. | E16: Peça | F16: 449052-34 | G16: 5575 | I16: =H16-SUM(K16:V16) -> 0 | J16: =IF(I16<0,"ATENÇÃO","OK") -> OK
C17: 14 | D17: Condicionado de Ar tipo Split Piso Teto/Parede, capacidade frigorífica nominal de 36.000 btu’s, ciclos quente e frio, 220 V, com controle remoto sem fio e filtro de ar lavável. | E17: Peça | F17: 449052-34 | G17: 6005 | I17: =H17-SUM(K17:V17) -> 0 | J17: =IF(I17<0,"ATENÇÃO","OK") -> OK
C18: 15 | D18: Aparelho de ar condicionado tipo Split Cassete, ciclo FRIO: controle remoto sem fio, capacidade nominal de no mínimo 36.000 btus; tensão 220 Volts. | E18: Peça | F18: 449052-34 | G18: 7485 | H18: 2 | I18: =H18-SUM(K18:V18) -> 2 | J18: =IF(I18<0,"ATENÇÃO","OK") -> OK
C19: 16 | D19: Condicionador de Ar tipo Split Piso Teto – de 48.000 BTU’s ciclo somente frio, com controle remoto (individual) sem fio e filtro de ar lavável. | E19: Peça | F19: 449052-34 | G19: 6820 | I19: =H19-SUM(K19:V19) -> 0 | J19: =IF(I19<0,"ATENÇÃO","OK") -> OK
C20: 17 | D20: Condicionador de Ar tipo Split Piso Teto, ciclo somente frio, 55.000 a 60.000 BTU´s, com controle remoto (individual sem fio). Trifásico 380V, com pressotato de alta e baixa, rele contra inversão de fase. Selo PROCEL até "E". | E20: Peça | F20: 449052-34 | G20: 7625 | I20: =H20-SUM(K20:V20) -> 0 | J20: =IF(I20<0,"ATENÇÃO","OK") -> OK
C21: 18 | D21: Condicionador de Ar tipo Split Piso Teto/Parede – de 55.000 a 60.000 BTU’s ciclos quente e frio, com controle remoto - trifásico 380 V, com pressotato de alta e baixa, rele contra inversão de fase. Selo PROCEL até "E". | E21: Peça | F21: 449052-34 | G21: 8225 | I21: =H21-SUM(K21:V21) -> 0 | J21: =IF(I21<0,"ATENÇÃO","OK") -> OK
C22: 19 | D22: Aparelho de ar condicionado tipo Split Cassete, capacidade nominal de no mínimo 55.000 a 60.000 BTU’s ciclo frio, com controle remoto - trifásico 380 V, com pressotato de alta e baixa, rele contra inversão de fase. | E22: Peça | F22: 449052-34 | G22: 8700 | H22: 2 | I22: =H22-SUM(K22:V22) -> 2 | J22: =IF(I22<0,"ATENÇÃO","OK") -> OK
C23: 20 | D23: Cortina de Ar. Dimensões aproximadas: (L X A XP): 150 x 23 x 22cm , podendo ter pequena variação de tamanho, dependendo da marca do produto. Monofásico, 220 Volts. Potência (c/v) mínimo de 1/5. Nível máximo de ruído (db): menor que 60db. Modos de operação: ventila. Velocidades (m/s) mínimo de 11. Vazão de ar: mínimo de 1300 m3/h. Temperatura somente ventilação. Recursos função automática. Saída de ar frontal e vertical. Entrada superior de ar. Direcionadores de ar vertical. Recirculação de ar (m3/m) maior que 25. Prazo de garantia de 01 ano. Item incluso: controle remoto. Cor branco. | E23: Peça | F23: 449052-34 | G23: 830 | H23: 2 | I23: =H23-SUM(K23:V23) -> 2 | J23: =IF(I23<0,"ATENÇÃO","OK") -> OK
C24: 21 | D24: Instalação de Cortina de Ar do item 54. | E24: Serviço | F24: 339039-25 | G24: 220 | H24: 2 | I24: =H24-SUM(K24:V24) -> 2 | J24: =IF(I24<0,"ATENÇÃO","OK") -> OK
C25: 22 | D25: Instalação completa de equipamento de ar-condicionado tipo "split" até 24.000 BTU/h incluindo até 3 metros de distância entre evaporadora e condensadora – Composto de 01 (uma) unidade evaporadora e 01 (uma) unidade condensadora. | E25: Serviço | F25: 339039-25 | G25: 600 | H25: 1 | I25: =H25-SUM(K25:V25) -> 0 | J25: =IF(I25<0,"ATENÇÃO","OK") -> OK | K25: 1
C26: 23 | D26: Instalação completa de equipamento de ar-condicionado tipo "split" de 25.000 a 48.000 BTU/h incluindo até 3 metros de distância entre evaporadora e condensadora – Composto de 01 (uma) unidade evaporadora e 01 (uma) unidade condensadora. | E26: Serviço | F26: 339039-25 | G26: 815 | H26: 2 | I26: =H26-SUM(K26:V26) -> 0 | J26: =IF(I26<0,"ATENÇÃO","OK") -> OK | K26: 2
C27: 24 | D27: Instalação completa de equipamento de ar-condicionado tipo "split" acima de 48.000 BTU/h incluindo até 3 metros de distância entre evaporadora e condensadora – Composto de 01 (uma) unidade evaporadora e 01 (uma) unidade condensadora. | E27: Serviço | F27: 339039-25 | G27: 1010 | H27: 2 | I27: =H27-SUM(K27:V27) -> 2 | J27: =IF(I27<0,"ATENÇÃO","OK") -> OK
C28: 25 | D28: Metro adicional de linha para instalação de split até 24.000 BTU/h. | E28: Metro | F28: 339039-25 | G28: 55 | H28: =5+3 -> 8 | I28: =H28-SUM(K28:V28) -> 0 | J28: =IF(I28<0,"ATENÇÃO","OK") -> OK | K28: 8
C29: 26 | D29: Metro adicional de linha para instalação de split de 25.000 a 48.000 BTU/h. | E29: Metro | F29: 339039-25 | G29: 63 | H29: 20 | I29: =H29-SUM(K29:V29) -> 4 | J29: =IF(I29<0,"ATENÇÃO","OK") -> OK | K29: 16
C30: 27 | D30: Metro adicional de linha para instalação de split acima de 48.000 BTU/h. | E30: Metro | F30: 339039-25 | G30: 76 | H30: 20 | I30: =H30-SUM(K30:V30) -> 20 | J30: =IF(I30<0,"ATENÇÃO","OK") -> OK
C31: 28 | D31: Desinstalação de equipamento de ar-condicionado. | E31: Serviço | F31: 339039-25 | G31: 302 | H31: 3 | I31: =H31-SUM(K31:V31) -> 0 | J31: =IF(I31<0,"ATENÇÃO","OK") -> OK | K31: 3
A32: E&AR EQUIPAMENTOS DE REFRIGERAÇÃO EIRELI EPP | B32: 2 | C32: 29 | D32: Aparelho de ar condicionado tipo Split High Wall (para parede), ciclo somente frio, 220 V, capacidade frigorífica nominal de 12.000 btu’s somente frio, com controle remoto (individual) sem fio e filtro de ar lavável. Selo PROCEL “A”. | E32: Peça | F32: 449052-34 | G32: 1500 | I32: =H32-SUM(K32:V32) -> 0 | J32: =IF(I32<0,"ATENÇÃO","OK") -> OK
C33: 30 | D33: Aparelho de ar condicionado tipo Split High Wall, (para parede), ciclo somente frio, capacidade frigorífica nominal de 18.000 btu’s, 220 V, com controle remoto (individual) sem fio e filtro de ar lavável. | E33: Peça | F33: 449052-34 | G33: 2200 | I33: =H33-SUM(K33:V33) -> 0 | J33: =IF(I33<0,"ATENÇÃO","OK") -> OK
C34: 31 | D34: Aparelho de ar condicionado tipo Split Piso Teto, capacidade frigorífica nominal 24.000 BTU’s, ciclo somente frio, 220 V, com controle remoto (individual), sem fio e filtro de ar lavável. | E34: Peça | F34: 449052-34 | G34: 4150 | I34: =H34-SUM(K34:V34) -> 0 | J34: =IF(I34<0,"ATENÇÃO","OK") -> OK
C35: 32 | D35: Condicionador de Ar ti Split Piso Teto, ciclo somente frio, 55.000 a 60.000 BTU´s, com controle remoto (individual sem fio). Trifásico 380V, com pressotato de alta e baixa, rele contra inversão de fase. Selo PROCEL até "E". | E35: Peça | F35: 449052-34 | G35: 7525 | I35: =H35-SUM(K35:V35) -> 0 | J35: =IF(I35<0,"ATENÇÃO","OK") -> OK
C36: 33 | D36: Cortina de Ar. Dimensões aproximadas: (L X A XP): 150 x 23 x 22cm , podendo ter pequena variação de tamanho, dependendo da marca do produto. Monofásico, 220 Volts. Potência (c/v) mínimo de 1/5. Nível máximo de ruído (db): menor que 60db. Modos de operação: ventila. Velocidades (m/s) mínimo de 11. Vazão de ar: mínimo de 1300 m3/h. Temperatura somente ventilação. Recursos função automática. Saída de ar frontal e vertical. Entrada superior de ar. Direcionadores de ar vertical. Recirculação de ar (m3/m) maior que 25. Prazo de garantia de 01 ano. Item incluso: controle remoto. Cor branco. | E36: Peça | F36: 449052-34 | G36: 800 | I36: =H36-SUM(K36:V36) -> 0 | J36: =IF(I36<0,"ATENÇÃO","OK") -> OK
C37: 34 | D37: Instalação de Cortina de Ar do item 80. | E37: Serviço | F37: 339039-25 | G37: 200 | I37: =H37-SUM(K37:V37) -> 0 | J37: =IF(I37<0,"ATENÇÃO","OK") -> OK
C38: 35 | D38: Instalação completa de equipamento de ar-condicionado tipo "split" até 24.000 BTU/h incluindo até 3 metros de distância entre evaporadora e condensadora – Composto de 01 (uma) unidade evaporadora e 01 (uma) unidade condensadora. | E38: Serviço | F38: 339039-25 | G38: 550 | I38: =H38-SUM(K38:V38) -> 0 | J38: =IF(I38<0,"ATENÇÃO","OK") -> OK
C39: 36 | D39: Instalação completa de equipamento de ar-condicionado tipo "split" acima de 48.000 BTU/h incluindo até 3 metros de distância entre evaporadora e condensadora – Composto de 01 (uma) unidade evaporadora e 01 (uma) unidade condensadora. | E39: Serviço | F39: 339039-25 | G39: 900 | I39: =H39-SUM(K39:V39) -> 0 | J39: =IF(I39<0,"ATENÇÃO","OK") -> OK
C40: 37 | D40: Metro adicional de linha para instalação de split até 24.000 BTU/h. | E40: Metro | F40: 339039-25 | G40: 50 | I40: =H40-SUM(K40:V40) -> 0 | J40: =IF(I40<0,"ATENÇÃO","OK") -> OK
C41: 38 | D41: Metro adicional de linha para instalação de split acima de 48.000 BTU/h. | E41: Metro | F41: 339039-25 | G41: 70 | I41: =H41-SUM(K41:V41) -> 0 | J41: =IF(I41<0,"ATENÇÃO","OK") -> OK
C42: 39 | D42: Desinstalação de equipamento de ar-condicionado. | E42: Serviço | F42: 339039-25 | G42: 300 | I42: =H42-SUM(K42:V42) -> 0 | J42: =IF(I42<0,"ATENÇÃO","OK") -> OK

Sheet ESAG
A1: PROCESSO: 1063/2015/UDESC - REL | D1: OBJETO: AQUISIÇÃO E INSTALAÇÃO DE APARELHOS DE AR CONDICIONADO PARA A UDESC - RELANÇAMENTO | H1: VIGÊNCIA DA ATA: 04/03/2016 até 03/03/2017 | K1: AF/OS nº xxxx/2016 Qtde. DT | L1: AF/OS nº xxxx/2016 Qtde. DT | M1: AF/OS nº xxxx/2016 Qtde. DT | N1: AF/OS nº xxxx/2016 Qtde. DT | O1: AF/OS nº xxxx/2016 Qtde. DT | P1: AF/OS nº xxxx/2016 Qtde. DT | Q1: AF/OS nº xxxx/2016 Qtde. DT | R1: AF/OS nº xxxx/2016 Qtde. DT | S1: AF/OS nº xxxx/2016 Qtde. DT | T1: AF/OS nº xxxx/2016 Qtde. DT | U1: AF/OS nº xxxx/2016 Qtde. DT | V1: AF/OS nº xxxx/2016 Qtde. DT
A2: CENTRO PARTICIPANTE: ESAG
A3: FORNECEDOR | B3: LOTE | C3: ITEM | D3: PRODUTO - CARACTERÍSTICAS MÍNIMAS | E3: UNIDADE | F3: DETALHAMENTO | G3: Preço UNITÁRIO (R$) | H3: Qtde Registrada | I3: Saldo / Automático | J3: ALERTA | K3: ...../...../...... | L3: ...../...../...... | M3: ...../...../...... | N3: ...../...../...... | O3: ...../...../...... | P3: ...../...../...... | Q3: ...../...../...... | R3: ...../...../...... | S3: ...../...../...... | T3: ...../...../...... | U3: ...../...../...... | V3: ...../...../......
A4: E&AR EQUIPAMENTOS DE REFRIGERAÇÃO EIRELI EPP | B4: 1 | C4: 1 | D4: Aparelho de ar condicionado tipo Split High Wall (para parede), capacidade frigorífica nominal de 9.000 btu’s, 220 V, somente frio, com controle remoto (individual) sem fio e filtro de ar lavável. Selo PROCEL “A” . | E4: Peça | F4: 449052-34 | G4: 1480 | I4: =H4-SUM(K4:V4) -> 0 | J4: =IF(I4<0,"ATENÇÃO","OK") -> OK
C5: 2 | D5: Aparelho de ar condicionado tipo Split High Wall (para parede), ciclo quente e frio: controle remoto sem fio, capacidade nominal de no mínimo 9.000 btus; capacidade de desumidificar o ambiente e filtro de ar lavável, tensão 220 Volts, frequência 60 Hz. Selo PROCEL “A”. | E5: Peça | F5: 449052-34 | G5: 1585 | I5: =H5-SUM(K5:V5) -> 0 | J5: =IF(I5<0,"ATENÇÃO","OK") -> OK
C6: 3 | D6: Aparelho de ar condicionado tipo Split High Wall (para parede), ciclo somente frio, 220 V, capacidade frigorífica nominal de 12.000 btu’s somente frio, com controle remoto (individual) sem fio e filtro de ar lavável. Selo PROCEL “A”. | E6: Peça | F6: 449052-34 | G6: 1595 | I6: =H6-SUM(K6:V6) -> 0 | J6: =IF(I6<0,"ATENÇÃO","OK") -> OK
C7: 4 | D7: Aparelho de ar condicionado tipo Split High Wall (para parede), ciclo quente e frio, capacidade frigorífica nominal de 12.000 btu’s, 220 V,com controle remoto (individual) sem fio e filtro de ar lavável. Selo PROCEL “A”. | E7: Peça | F7: 449052-34 | G7: 1685 | I7: =H7-SUM(K7:V7) -> 0 | J7: =IF(I7<0,"ATENÇÃO","OK") -> OK
C8: 5 | D8: Aparelho de ar condicionado tipo Split High Wall, (para parede), ciclo somente frio, capacidade frigorífica nominal de 18.000 btu’s, 220 V, com controle remoto (individual) sem fio e filtro de ar lavável. | E8: Peça | F8: 449052-34 | G8: 2200 | I8: =H8-SUM(K8:V8) -> 0 | J8: =IF(I8<0,"ATENÇÃO","OK") -> OK
C9: 6 | D9: Aparelho de ar condicionado tipo Split High Wall (para parede), ciclo quente e frio, capacidade frigorífica nominal de 18.000 btu’s, 220 V,com controle remoto (individual) sem fio e filtro de ar lavável. | E9: Peça | F9: 449052-34 | G9: 2455 | I9: =H9-SUM(K9:V9) -> 0 | J9: =IF(I9<0,"ATENÇÃO","OK") -> OK
C10: 7 | D10: Aparelho de ar condicionado tipo Split Cassete, ciclo FRIO: controle remoto sem fio, capacidade nominal de no mínimo 18.000 btus; tensão 220 Volts. | E10: Peça | F10: 449052-34 | G10: 4265 | I10: =H10-SUM(K10:V10) -> 0 | J10: =IF(I10<0,"ATENÇÃO","OK") -> OK
C11: 8 | D11: Aparelho de ar condicionado tipo Split Piso Teto, capacidade frigorífica nominal 24.000 BTU’s, ciclo somente frio, 220 V, com controle remoto (individual), sem fio e filtro de ar lavável. | E11: Peça | F11: 449052-34 | G11: 4100 | I11: =H11-SUM(K11:V11) -> 0 | J11: =IF(I11<0,"ATENÇÃO","OK") -> OK
C12: 9 | D12: Aparelho de ar condicionado tipo Split High Wall (para parede), ciclo quente e frio, capacidade frigorífica nominal de 24.000 btu’s, 220 V, com controle remoto (individual) sem fio e filtro de ar lavável. | E12: Peça | F12: 449052-34 | G12: 2960 | I12: =H12-SUM(K12:V12) -> 0 | J12: =IF(I12<0,"ATENÇÃO","OK") -> OK
C13: 10 | D13: Aparelho de ar condicionado tipo Split Cassete, ciclo FRIO: controle remoto sem fio, capacidade nominal de no mínimo 24.000 btus; tensão 220 Volts. | E13: Peça | F13: 449052-34 | G13: 4985 | I13: =H13-SUM(K13:V13) -> 0 | J13: =IF(I13<0,"ATENÇÃO","OK") -> OK
C14: 11 | D14: Aparelho de ar condicionado tipo Split Piso Teto, ciclo somente frio, capacidade frigorífica nominal de 30.000 btu’s somente frio, 220 V, com controle remoto (individual) sem fio e filtro de ar lavável. | E14: Peça | F14: 449052-34 | G14: 4870 | I14: =H14-SUM(K14:V14) -> 0 | J14: =IF(I14<0,"ATENÇÃO","OK") -> OK
C15: 12 | D15: Aparelho de ar condicionado tipo Split High Wall (para parede), ciclo quente e frio, capacidade frigorífica nominal de 30.000 btu’s, 220 V, com controle remoto (individual) sem fio e filtro de ar lavável. | E15: Peça | F15: 449052-34 | G15: 4605 | I15: =H15-SUM(K15:V15) -> 0 | J15: =IF(I15<0,"ATENÇÃO","OK") -> OK
C16: 13 | D16: Condicionador de Ar tipo Split Piso Teto – de 36.000 BTU’s ciclo somente frio, com controle remoto (individual) sem fio. | E16: Peça | F16: 449052-34 | G16: 5575 | I16: =H16-SUM(K16:V16) -> 0 | J16: =IF(I16<0,"ATENÇÃO","OK") -> OK
... C23: 20 | D23: Cortina de Ar. Dimensões aproximadas: (L X A XP): 150 x 23 x 22cm , podendo ter pequena variação de tamanho, dependendo da marca do produto. Monofásico, 220 Volts. Potência (c/v) mínimo de 1/5. Nível máximo de ruído (db): menor que 60db. Modos de operação: ventila. Velocidades (m/s) mínimo de 11. Vazão de ar: mínimo de 1300 m3/h. Temperatura somente ventilação. Recursos função automática. Saída de ar frontal e vertical. Entrada superior de ar. Direcionadores de ar vertical. Recirculação de ar (m3/m) maior que 25. Prazo de garantia de 01 ano. Item incluso: controle remoto. Cor branco. | E23: Peça | F23: 449052-34 | G23: 830 | I23: =H23-SUM(K23:V23) -> 0 | J23: =IF(I23<0,"ATENÇÃO","OK") -> OK
C24: 21 | D24: Instalação de Cortina de Ar do item 54. | E24: Serviço | F24: 339039-25 | G24: 220 | H24: 3 | I24: =H24-SUM(K24:V24) -> 3 | J24: =IF(I24<0,"ATENÇÃO","OK") -> OK
C25: 22 | D25: Instalação completa de equipamento de ar-condicionado tipo "split" até 24.000 BTU/h incluindo até 3 metros de distância entre evaporadora e condensadora – Composto de 01 (uma) unidade evaporadora e 01 (uma) unidade condensadora. | E25: Serviço | F25: 339039-25 | G25: 600 | H25: 10 | I25: =H25-SUM(K25:V25) -> 10 | J25: =IF(I25<0,"ATENÇÃO","OK") -> OK
C26: 23 | D26: Instalação completa de equipamento de ar-condicionado tipo "split" de 25.000 a 48.000 BTU/h incluindo até 3 metros de distância entre evaporadora e condensadora – Composto de 01 (uma) unidade evaporadora e 01 (uma) unidade condensadora. | E26: Serviço | F26: 339039-25 | G26: 815 | H26: 10 | I26: =H26-SUM(K26:V26) -> 10 | J26: =IF(I26<0,"ATENÇÃO","OK") -> OK
C27: 24 | D27: Instalação completa de equipamento de ar-condicionado tipo "split" acima de 48.000 BTU/h incluindo até 3 metros de distância entre evaporadora e condensadora – Composto de 01 (uma) unidade evaporadora e 01 (uma) unidade condensadora. | E27: Serviço | F27: 339039-25 | G27: 1010 | H27: 30 | I27: =H27-SUM(K27:V27) -> 30 | J27: =IF(I27<0,"ATENÇÃO","OK") -> OK
C28: 25 | D28: Metro adicional de linha para instalação de split até 24.000 BTU/h. | E28: Metro | F28: 339039-25 | G28: 55 | H28: 30 | I28: =H28-SUM(K28:V28) -> 30 | J28: =IF(I28<0,"ATENÇÃO","OK") -> OK
C29: 26 | D29: Metro adicional de linha para instalação de split de 25.000 a 48.000 BTU/h. | E29: Metro | F29: 339039-25 | G29: 63 | H29: 30 | I29: =H29-SUM(K29:V29) -> 30 | J29: =IF(I29<0,"ATENÇÃO","OK") -> OK
C30: 27 | D30: Metro adicional de linha para instalação de split acima de 48.000 BTU/h. | E30: Metro | F30: 339039-25 | G30: 76 | H30: 30 | I30: =H30-SUM(K30:V30) -> 30 | J30: =IF(I30<0,"ATENÇÃO","OK") -> OK
C31: 28 | D31: Desinstalação de equipamento de ar-condicionado. | E31: Serviço | F31: 339039-25 | G31: 302 | H31: 50 | I31: =H31-SUM(K31:V31) -> 50 | J31: =IF(I31<0,"ATENÇÃO","OK") -> OK
A32: E&AR EQUIPAMENTOS DE REFRIGERAÇÃO EIRELI EPP | B32: 2 | C32: 29 | D32: Aparelho de ar condicionado tipo Split High Wall (para parede), ciclo somente frio, 220 V, capacidade frigorífica nominal de 12.000 btu’s somente frio, com controle remoto (individual) sem fio e filtro de ar lavável. Selo PROCEL “A”. | E32: Peça | F32: 449052-34 | G32: 1500 | I32: =H32-SUM(K32:V32) -> 0 | J32: =IF(I32<0,"ATENÇÃO","OK") -> OK
C33: 30 | D33: Aparelho de ar condicionado tipo Split High Wall, (para parede), ciclo somente frio, capacidade frigorífica nominal de 18.000 btu’s, 220 V, com controle remoto (individual) sem fio e filtro de ar lavável. | E33: Peça | F33: 449052-34 | G33: 2200 | I33: =H33-SUM(K33:V33) -> 0 | J33: =IF(I33<0,"ATENÇÃO","OK") -> OK
C34: 31 | D34: Aparelho de ar condicionado tipo Split Piso Teto, capacidade frigorífica nominal 24.000 BTU’s, ciclo somente frio, 220 V, com controle remoto (individual), sem fio e filtro de ar lavável. | E34: Peça | F34: 449052-34 | G34: 4150 | I34: =H34-SUM(K34:V34) -> 0 | J34: =IF(I34<0,"ATENÇÃO","OK") -> OK
C35: 32 | D35: Condicionador de Ar ti Split Piso Teto, ciclo somente frio, 55.000 a 60.000 BTU´s, com controle remoto (individual sem fio). Trifásico 380V, com pressotato de alta e baixa, rele contra inversão de fase. Selo PROCEL até "E". | E35: Peça | F35: 449052-34 | G35: 7525 | I35: =H35-SUM(K35:V35) -> 0 | J35: =IF(I35<0,"ATENÇÃO","OK") -> OK
C36: 33 | D36: Cortina de Ar. Dimensões aproximadas: (L X A XP): 150 x 23 x 22cm , podendo ter pequena variação de tamanho, dependendo da marca do produto. Monofásico, 220 Volts. Potência (c/v) mínimo de 1/5. Nível máximo de ruído (db): menor que 60db. Modos de operação: ventila. Velocidades (m/s) mínimo de 11. Vazão de ar: mínimo de 1300 m3/h. Temperatura somente ventilação. Recursos função automática. Saída de ar frontal e vertical. Entrada superior de ar. Direcionadores de ar vertical. Recirculação de ar (m3/m) maior que 25. Prazo de garantia de 01 ano. Item incluso: controle remoto. Cor branco. | E36: Peça | F36: 449052-34 | G36: 800 | I36: =H36-SUM(K36:V36) -> 0 | J36: =IF(I36<0,"ATENÇÃO","OK") -> OK
C37: 34 | D37: Instalação de Cortina de Ar do item 80. | E37: Serviço | F37: 339039-25 | G37: 200 | I37: =H37-SUM(K37:V37) -> 0 | J37: =IF(I37<0,"ATENÇÃO","OK") -> OK
C38: 35 | D38: Instalação completa de equipamento de ar-condicionado tipo "split" até 24.000 BTU/h incluindo até 3 metros de distância entre evaporadora e condensadora – Composto de 01 (uma) unidade evaporadora e 01 (uma) unidade condensadora. | E38: Serviço | F38: 339039-25 | G38: 550 | I38: =H38-SUM(K38:V38) -> 0 | J38: =IF(I38<0,"ATENÇÃO","OK") -> OK
C39: 36 | D39: Instalação completa de equipamento de ar-condicionado tipo "split" acima de 48.000 BTU/h incluindo até 3 metros de distância entre evaporadora e condensadora – Composto de 01 (uma) unidade evaporadora e 01 (uma) unidade condensadora. | E39: Serviço | F39: 339039-25 | G39: 900 | I39: =H39-SUM(K39:V39) -> 0 | J39: =IF(I39<0,"ATENÇÃO","OK") -> OK
C40: 37 | D40: Metro adicional de linha para instalação de split até 24.000 BTU/h. | E40: Metro | F40: 339039-25 | G40: 50 | I40: =H40-SUM(K40:V40) -> 0 | J40: =IF(I40<0,"ATENÇÃO","OK") -> OK
C41: 38 | D41: Metro adicional de linha para instalação de split acima de 48.000 BTU/h. | E41: Metro | F41: 339039-25 | G41: 70 | I41: =H41-SUM(K41:V41) -> 0 | J41: =IF(I41<0,"ATENÇÃO","OK") -> OK
C42: 39 | D42: Desinstalação de equipamento de ar-condicionado. | E42: Serviço | F42: 339039-25 | G42: 300 | I42: =H42-SUM(K42:V42) -> 0 | J42: =IF(I42<0,"ATENÇÃO","OK") -> OK

Sheet CEART
A1: PROCESSO: 1063/2015/UDESC - REL | D1: OBJETO: AQUISIÇÃO E INSTALAÇÃO DE APARELHOS DE AR CONDICIONADO PARA A UDESC - RELANÇAMENTO | H1: VIGÊNCIA DA ATA: 04/03/2016 até 03/03/2017 | K1: AF/OS nº 935/2016 Qtde. DT | L1: AF/OS nº 936/2016 Qtde. DT | M1: AF/OS nº xxxx/2016 Qtde. DT | N1: AF/OS nº xxxx/2016 Qtde. DT | O1: AF/OS nº xxxx/2016 Qtde. DT | P1: AF/OS nº xxxx/2016 Qtde. DT | Q1: AF/OS nº xxxx/2016 Qtde. DT | R1: AF/OS nº xxxx/2016 Qtde. DT | S1: AF/OS nº xxxx/2016 Qtde. DT | T1: AF/OS nº xxxx/2016 Qtde. DT | U1: AF/OS nº xxxx/2016 Qtde. DT | V1: AF/OS nº xxxx/2016 Qtde. DT
A2: CENTRO PARTICIPANTE: CEART
A3: FORNECEDOR | B3: LOTE | C3: ITEM | D3: PRODUTO - CARACTERÍSTICAS MÍNIMAS | E3: UNIDADE | F3: DETALHAMENTO | G3: Preço UNITÁRIO (R$) | H3: Qtde Registrada | I3: Saldo / Automático | J3: ALERTA | K3: 42599 | L3: 42599 | M3: ...../...../...... | N3: ...../...../...... | O3: ...../...../...... | P3: ...../...../...... | Q3: ...../...../...... | R3: ...../...../...... | S3: ...../...../...... | T3: ...../...../...... | U3: ...../...../...... | V3: ...../...../......
A4: E&AR EQUIPAMENTOS DE REFRIGERAÇÃO EIRELI EPP | B4: 1 | C4: 1 | D4: Aparelho de ar condicionado tipo Split High Wall (para parede), capacidade frigorífica nominal de 9.000 btu’s, 220 V, somente frio, com controle remoto (individual) sem fio e filtro de ar lavável. Selo PROCEL “A” . | E4: Peça | F4: 449052-34 | G4: 1480 | I4: =H4-SUM(K4:V4) -> 0 | J4: =IF(I4<0,"ATENÇÃO","OK") -> OK
C5: 2 | D5: Aparelho de ar condicionado tipo Split High Wall (para parede), ciclo quente e frio: controle remoto sem fio, capacidade nominal de no mínimo 9.000 btus; capacidade de desumidificar o ambiente e filtro de ar lavável, tensão 220 Volts, frequência 60 Hz. Selo PROCEL “A”. | E5: Peça | F5: 449052-34 | G5: 1585 | I5: =H5-SUM(K5:V5) -> 0 | J5: =IF(I5<0,"ATENÇÃO","OK") -> OK
C6: 3 | D6: Aparelho de ar condicionado tipo Split High Wall (para parede), ciclo somente frio, 220 V, capacidade frigorífica nominal de 12.000 btu’s somente frio, com controle remoto (individual) sem fio e filtro de ar lavável. Selo PROCEL “A”. | E6: Peça | F6: 449052-34 | G6: 1595 | H6: 35 | I6: =H6-SUM(K6:V6) -> 35 | J6: =IF(I6<0,"ATENÇÃO","OK") -> OK
C7: 4 | D7: Aparelho de ar condicionado tipo Split High Wall (para parede), ciclo quente e frio, capacidade frigorífica nominal de 12.000 btu’s, 220 V,com controle remoto (individual) sem fio e filtro de ar lavável. Selo PROCEL “A”. | E7: Peça | F7: 449052-34 | G7: 1685 | I7: =H7-SUM(K7:V7) -> 0 | J7: =IF(I7<0,"ATENÇÃO","OK") -> OK
C8: 5 | D8: Aparelho de ar condicionado tipo Split High Wall, (para parede), ciclo somente frio, capacidade frigorífica nominal de 18.000 btu’s, 220 V, com controle remoto (individual) sem fio e filtro de ar lavável. | E8: Peça | F8: 449052-34 | G8: 2200 | H8: 10 | I8: =H8-SUM(K8:V8) -> 8 | J8: =IF(I8<0,"ATENÇÃO","OK") -> OK | K8: 2
C9: 6 | D9: Aparelho de ar condicionado tipo Split High Wall (para parede), ciclo quente e frio, capacidade frigorífica nominal de 18.000 btu’s, 220 V,com controle remoto (individual) sem fio e filtro de ar lavável. | E9: Peça | F9: 449052-34 | G9: 2455 | I9: =H9-SUM(K9:V9) -> 0 | J9: =IF(I9<0,"ATENÇÃO","OK") -> OK
C10: 7 | D10: Aparelho de ar condicionado tipo Split Cassete, ciclo FRIO: controle remoto sem fio, capacidade nominal de no mínimo 18.000 btus; tensão 220 Volts. | E10: Peça | F10: 449052-34 | G10: 4265 | I10: =H10-SUM(K10:V10) -> 0 | J10: =IF(I10<0,"ATENÇÃO","OK") -> OK
C11: 8 | D11: Aparelho de ar condicionado tipo Split Piso Teto, capacidade frigorífica nominal 24.000 BTU’s, ciclo somente frio, 220 V, com controle remoto (individual), sem fio e filtro de ar lavável. | E11: Peça | F11: 449052-34 | G11: 4100 | H11: 8 | I11: =H11-SUM(K11:V11) -> 8 | J11: =IF(I11<0,"ATENÇÃO","OK") -> OK
C12: 9 | D12: Aparelho de ar condicionado tipo Split High Wall (para parede), ciclo quente e frio, capacidade frigorífica nominal de 24.000 btu’s, 220 V, com controle remoto (individual) sem fio e filtro de ar lavável. | E12: Peça | F12: 449052-34 | G12: 2960 | I12: =H12-SUM(K12:V12) -> 0 | J12: =IF(I12<0,"ATENÇÃO","OK") -> OK
C13: 10 | D13: Aparelho de ar condicionado tipo Split Cassete, ciclo FRIO: controle remoto sem fio, capacidade nominal de no mínimo 24.000 btus; tensão 220 Volts. | E13: Peça | F13: 449052-34 | G13: 4985 | I13: =H13-SUM(K13:V13) -> 0 | J13: =IF(I13<0,"ATENÇÃO","OK") -> OK
C14: 11 | D14: Aparelho de ar condicionado tipo Split Piso Teto, ciclo somente frio, capacidade frigorífica nominal de 30.000 btu’s somente frio, 220 V, com controle remoto (individual) sem fio e filtro de ar lavável. | E14: Peça | F14: 449052-34 | G14: 4870 | H14: 6 | I14: =H14-SUM(K14:V14) -> 6 | J14: =IF(I14<0,"ATENÇÃO","OK") -> OK
C15: 12 | D15: Aparelho de ar condicionado tipo Split High Wall (para parede), ciclo quente e frio, capacidade frigorífica nominal de 30.000 btu’s, 220 V, com controle remoto (individual) sem fio e filtro de ar lavável. | E15: Peça | F15: 449052-34 | G15: 4605 | I15: =H15-SUM(K15:V15) -> 0 | J15: =IF(I15<0,"ATENÇÃO","OK") -> OK
C16: 13 | D16: Condicionador de Ar tipo Split Piso Teto – de 36.000 BTU’s ciclo somente frio, com controle remoto (individual) sem fio. | E16: Peça | F16: 449052-34 | G16: 5575 | I16: =H16-SUM(K16:V16) -> 0 | J16: =IF(I16<0,"ATENÇÃO","OK") -> OK
C17: 14 | D17: Condicionado de Ar tipo Split Piso Teto/Parede, capacidade frigorífica nominal de 36.000 btu’s, ciclos quente e frio, 220 V, com controle remoto sem fio e filtro de ar lavável. | E17: Peça | F17: 449052-34 | G17: 6005 | I17: =H17-SUM(K17:V17) -> 0 | J17: =IF(I17<0,"ATENÇÃO","OK") -> OK
C18: 15 | D18: Aparelho de ar condicionado tipo Split Cassete, ciclo FRIO: controle remoto sem fio, capacidade nominal de no mínimo 36.000 btus; tensão 220 Volts. | E18: Peça | F18: 449052-34 | G18: 7485 | I18: =H18-SUM(K18:V18) -> 0 | J18: =IF(I18<0,"ATENÇÃO","OK") -> OK
C19: 16 | D19: Condicionador de Ar tipo Split Piso Teto – de 48.000 BTU’s ciclo somente frio, com controle remoto (individual) sem fio e filtro de ar lavável. | E19: Peça | F19: 449052-34 | G19: 6820 | H19: 2 | I19: =H19-SUM(K19:V19) -> 2 | J19: =IF(I19<0,"ATENÇÃO","OK") -> OK
C20: 17 | D20: Condicionador de Ar tipo Split Piso Teto, ciclo somente frio, 55.000 a 60.000 BTU´s, com controle remoto (individual sem fio). Trifásico 380V, com pressotato de alta e baixa, rele contra inversão de fase. Selo PROCEL até "E". | E20: Peça | F20: 449052-34 | G20: 7625 | I20: =H20-SUM(K20:V20) -> 0 | J20: =IF(I20<0,"ATENÇÃO","OK") -> OK
C21: 18 | D21: Condicionador de Ar tipo Split Piso Teto/Parede – de 55.000 a 60.000 BTU’s ciclos quente e frio, com controle remoto - trifásico 380 V, com pressotato de alta e baixa, rele contra inversão de fase. Selo PROCEL até "E". | E21: Peça | F21: 449052-34 | G21: 8225 | I21: =H21-SUM(K21:V21) -> 0 | J21: =IF(I21<0,"ATENÇÃO","OK") -> OK
C22: 19 | D22: Aparelho de ar condicionado tipo Split Cassete, capacidade nominal de no mínimo 55.000 a 60.000 BTU’s ciclo frio, com controle remoto - trifásico 380 V, com pressotato de alta e baixa, rele contra inversão de fase. | E22: Peça | F22: 449052-34 | G22: 8700 | H22: 2 | I22: =H22-SUM(K22:V22) -> 2 | J22: =IF(I22<0,"ATENÇÃO","OK") -> OK
C23: 20 | D23: Cortina de Ar. Dimensões aproximadas: (L X A XP): 150 x 23 x 22cm , podendo ter pequena variação de tamanho, dependendo da marca do produto. Monofásico, 220 Volts. Potência (c/v) mínimo de 1/5. Nível máximo de ruído (db): menor que 60db. Modos de operação: ventila. Velocidades (m/s) mínimo de 11. Vazão de ar: mínimo de 1300 m3/h. Temperatura somente ventilação. Recursos função automática. Saída de ar frontal e vertical. Entrada superior de ar. Direcionadores de ar vertical. Recirculação de ar (m3/m) maior que 25. Prazo de garantia de 01 ano. Item incluso: controle remoto. Cor branco. | E23: Peça | F23: 449052-34 | G23: 830 | H23: 5 | I23: =H23-SUM(K23:V23) -> 5 | J23: =IF(I23<0,"ATENÇÃO","OK") -> OK
C24: 21 | D24: Instalação de Cortina de Ar do item 54. | E24: Serviço | F24: 339039-25 | G24: 220 | H24: 5 | I24: =H24-SUM(K24:V24) -> 5 | J24: =IF(I24<0,"ATENÇÃO","OK") -> OK
C25: 22 | D25: Instalação completa de equipamento de ar-condicionado tipo "split" até 24.000 BTU/h incluindo até 3 metros de distância entre evaporadora e condensadora – Composto de 01 (uma) unidade evaporadora e 01 (uma) unidade condensadora. | E25: Serviço | F25: 339039-25 | G25: 600 | H25: 58 | I25: =H25-SUM(K25:V25) -> 56 | J25: =IF(I25<0,"ATENÇÃO","OK") -> OK | L25: 2
C26: 23 | D26: Instalação completa de equipamento de ar-condicionado tipo "split" de 25.000 a 48.000 BTU/h incluindo até 3 metros de distância entre evaporadora e condensadora – Composto de 01 (uma) unidade evaporadora e 01 (uma) unidade condensadora. | E26: Serviço | F26: 339039-25 | G26: 815 | H26: 13 | I26: =H26-SUM(K26:V26) -> 13 | J26: =IF(I26<0,"ATENÇÃO","OK") -> OK
C27: 24 | D27: Instalação completa de equipamento de ar-condicionado tipo "split" acima de 48.000 BTU/h incluindo até 3 metros de distância entre evaporadora e condensadora – Composto de 01 (uma) unidade evaporadora e 01 (uma) unidade condensadora. | E27: Serviço | F27: 339039-25 | G27: 1010 | H27: 7 | I27: =H27-SUM(K27:V27) -> 7 | J27: =IF(I27<0,"ATENÇÃO","OK") -> OK
C28: 25 | D28: Metro adicional de linha para instalação de split até 24.000 BTU/h. | E28: Metro | F28: 339039-25 | G28: 55 | H28: 1100 | I28: =H28-SUM(K28:V28) -> 1100 | J28: =IF(I28<0,"ATENÇÃO","OK") -> OK
C29: 26 | D29: Metro adicional de linha para instalação de split de 25.000 a 48.000 BTU/h. | E29: Metro | F29: 339039-25 | G29: 63 | H29: 450 | I29: =H29-SUM(K29:V29) -> 450 | J29: =IF(I29<0,"ATENÇÃO","OK") -> OK
C30: 27 | D30: Metro adicional de linha para instalação de split acima de 48.000 BTU/h. | E30: Metro | F30: 339039-25 | G30: 76 | H30: 200 | I30: =H30-SUM(K30:V30) -> 200 | J30: =IF(I30<0,"ATENÇÃO","OK") -> OK
C31: 28 | D31: Desinstalação de equipamento de ar-condicionado. | E31: Serviço | F31: 339039-25 | G31: 302 | H31: 50 | I31: =H31-SUM(K31:V31) -> 50 | J31: =IF(I31<0,"ATENÇÃO","OK") -> OK
A32: E&AR EQUIPAMENTOS DE REFRIGERAÇÃO EIRELI EPP | B32: 2 | C32: 29 | D32: Aparelho de ar condicionado tipo Split High Wall (para parede), ciclo somente frio, 220 V, capacidade frigorífica nominal de 12.000 btu’s somente frio, com controle remoto (individual) sem fio e filtro de ar lavável. Selo PROCEL “A”. | E32: Peça | F32: 449052-34 | G32: 1500 | I32: =H32-SUM(K32:V32) -> 0 | J32: =IF(I32<0,"ATENÇÃO","OK") -> OK
C33: 30 | D33: Aparelho de ar condicionado tipo Split High Wall, (para parede), ciclo somente frio, capacidade frigorífica nominal de 18.000 btu’s, 220 V, com controle remoto (individual) sem fio e filtro de ar lavável. | E33: Peça | F33: 449052-34 | G33: 2200 | I33: =H33-SUM(K33:V33) -> 0 | J33: =IF(I33<0,"ATENÇÃO","OK") -> OK
C34: 31 | D34: Aparelho de ar condicionado tipo Split Piso Teto, capacidade frigorífica nominal 24.000 BTU’s, ciclo somente frio, 220 V, com controle remoto (individual), sem fio e filtro de ar lavável. | E34: Peça | F34: 449052-34 | G34: 4150 | I34: =H34-SUM(K34:V34) -> 0 | J34: =IF(I34<0,"ATENÇÃO","OK") -> OK
C35: 32 | D35: Condicionador de Ar ti Split Piso Teto, ciclo somente frio, 55.000 a 60.000 BTU´s, com controle remoto (individual sem fio). Trifásico 380V, com pressotato de alta e baixa, rele contra inversão de fase. Selo PROCEL até "E". | E35: Peça | F35: 449052-34 | G35: 7525 | I35: =H35-SUM(K35:V35) -> 0 | J35: =IF(I35<0,"ATENÇÃO","OK") -> OK
C36: 33 | D36: Cortina de Ar. Dimensões aproximadas: (L X A XP): 150 x 23 x 22cm , podendo ter pequena variação de tamanho, dependendo da marca do produto. Monofásico, 220 Volts. Potência (c/v) mínimo de 1/5. Nível máximo de ruído (db): menor que 60db. Modos de operação: ventila. Velocidades (m/s) mínimo de 11. Vazão de ar: mínimo de 1300 m3/h. Temperatura somente ventilação. Recursos função automática. Saída de ar frontal e vertical. Entrada superior de ar. Direcionadores de ar vertical. Recirculação de ar (m3/m) maior que 25. Prazo de garantia de 01 ano. Item incluso: controle remoto. Cor branco. | E36: Peça | F36: 449052-34 | G36: 800 | I36: =H36-SUM(K36:V36) -> 0 | J36: =IF(I36<0,"ATENÇÃO","OK") -> OK
C37: 34 | D37: Instalação de Cortina de Ar do item 80. | E37: Serviço | F37: 339039-25 | G37: 200 | I37: =H37-SUM(K37:V37) -> 0 | J37: =IF(I37<0,"ATENÇÃO","OK") -> OK
C38: 35 | D38: Instalação completa de equipamento de ar-condicionado tipo "split" até 24.000 BTU/h incluindo até 3 metros de distância entre evaporadora e condensadora – Composto de 01 (uma) unidade evaporadora e 01 (uma) unidade condensadora. | E38: Serviço | F38: 339039-25 | G38: 550 | I38: =H38-SUM(K38:V38) -> 0 | J38: =IF(I38<0,"ATENÇÃO","OK") -> OK
C39: 36 | D39: Instalação completa de equipamento de ar-condicionado tipo "split" acima de 48.000 BTU/h incluindo até 3 metros de distância entre evaporadora e condensadora – Composto de 01 (uma) unidade evaporadora e 01 (uma) unidade condensadora. | E39: Serviço | F39: 339039-25 | G39: 900 | I39: =H39-SUM(K39:V39) -> 0 | J39: =IF(I39<0,"ATENÇÃO","OK") -> OK
C40: 37 | D40: Metro adicional de linha para instalação de split até 24.000 BTU/h. | E40: Metro | F40: 339039-25 | G40: 50 | I40: =H40-SUM(K40:V40) -> 0 | J40: =IF(I40<0,"ATENÇÃO","OK") -> OK
C41: 38 | D41: Metro adicional de linha para instalação de split acima de 48.000 BTU/h. | E41: Metro | F41: 339039-25 | G41: 70 | I41: =H41-SUM(K41:V41) -> 0 | J41: =IF(I41<0,"ATENÇÃO","OK") -> OK
C42: 39 | D42: Desinstalação de equipamento de ar-condicionado. | E42: Serviço | F42: 339039-25 | G42: 300 | I42: =H42-SUM(K42:V42) -> 0 | J42: =IF(I42<0,"ATENÇÃO","OK") -> OK

Sheet FAED
A1: PROCESSO: 1063/2015/UDESC - REL | D1: OBJETO: AQUISIÇÃO E INSTALAÇÃO DE APARELHOS DE AR CONDICIONADO PARA A UDESC - RELANÇAMENTO | H1: VIGÊNCIA DA ATA: 04/03/2016 até 03/03/2017 | K1: AF/OS nº 268/2016 Qtde. DT | L1: AF/OS nº 341/2016 Qtde. DT | M1: AF/OS nº 838/2016 Qtde. DT | N1: AF/OS nº xxxx/2016 Qtde. DT | O1: AF/OS nº xxxx/2016 Qtde. DT | P1: AF/OS nº xxxx/2016 Qtde. DT | Q1: AF/OS nº xxxx/2016 Qtde. DT | R1: AF/OS nº xxxx/2016 Qtde. DT | S1: AF/OS nº xxxx/2016 Qtde. DT | T1: AF/OS nº xxxx/2016 Qtde. DT | U1: AF/OS nº xxxx/2016 Qtde. DT | V1: AF/OS nº xxxx/2016 Qtde. DT
A2: CENTRO PARTICIPANTE: FAED
A3: FORNECEDOR | B3: LOTE | C3: ITEM | D3: PRODUTO - CARACTERÍSTICAS MÍNIMAS | E3: UNIDADE | F3: DETALHAMENTO | G3: Preço UNITÁRIO (R$) | H3: Qtde Registrada | I3: Saldo / Automático | J3: ALERTA | K3: 42446 | L3: 42466 | M3: 42577 | N3: ...../...../...... | O3: ...../...../...... | P3: ...../...../...... | Q3: ...../...../...... | R3: ...../...../...... | S3: ...../...../...... | T3: ...../...../...... | U3: ...../...../...... | V3: ...../...../......
A4: E&AR EQUIPAMENTOS DE REFRIGERAÇÃO EIRELI EPP | B4: 1 | C4: 1 | D4: Aparelho de ar condicionado tipo Split High Wall (para parede), capacidade frigorífica nominal de 9.000 btu’s, 220 V, somente frio, com controle remoto (individual) sem fio e filtro de ar lavável. Selo PROCEL “A” . | E4: Peça | F4: 449052-34 | G4: 1480 | H4: 4 | I4: =H4-SUM(K4:V4) -> 4 | J4: =IF(I4<0,"ATENÇÃO","OK") -> OK
C5: 2 | D5: Aparelho de ar condicionado tipo Split High Wall (para parede), ciclo quente e frio: controle remoto sem fio, capacidade nominal de no mínimo 9.000 btus; capacidade de desumidificar o ambiente e filtro de ar lavável, tensão 220 Volts, frequência 60 Hz. Selo PROCEL “A”. | E5: Peça | F5: 449052-34 | G5: 1585 | I5: =H5-SUM(K5:V5) -> 0 | J5: =IF(I5<0,"ATENÇÃO","OK") -> OK
C6: 3 | D6: Aparelho de ar condicionado tipo Split High Wall (para parede), ciclo somente frio, 220 V, capacidade frigorífica nominal de 12.000 btu’s somente frio, com controle remoto (individual) sem fio e filtro de ar lavável. Selo PROCEL “A”. | E6: Peça | F6: 449052-34 | G6: 1595 | H6: 3 | I6: =H6-SUM(K6:V6) -> 3 | J6: =IF(I6<0,"ATENÇÃO","OK") -> OK
C7: 4 | D7: Aparelho de ar condicionado tipo Split High Wall (para parede), ciclo quente e frio, capacidade frigorífica nominal de 12.000 btu’s, 220 V,com controle remoto (individual) sem fio e filtro de ar lavável. Selo PROCEL “A”. | E7: Peça | F7: 449052-34 | G7: 1685 | I7: =H7-SUM(K7:V7) -> 0 | J7: =IF(I7<0,"ATENÇÃO","OK") -> OK
C8: 5 | D8: Aparelho de ar condicionado tipo Split High Wall, (para parede), ciclo somente frio, capacidade frigorífica nominal de 18.000 btu’s, 220 V, com controle remoto (individual) sem fio e filtro de ar lavável. | E8: Peça | F8: 449052-34 | G8: 2200 | H8: 3 | I8: =H8-SUM(K8:V8) -> 3 | J8: =IF(I8<0,"ATENÇÃO","OK") -> OK
C9: 6 | D9: Aparelho de ar condicionado tipo Split High Wall (para parede), ciclo quente e frio, capacidade frigorífica nominal de 18.000 btu’s, 220 V,com controle remoto (individual) sem fio e filtro de ar lavável. | E9: Peça | F9: 449052-34 | G9: 2455 | I9: =H9-SUM(K9:V9) -> 0 | J9: =IF(I9<0,"ATENÇÃO","OK") -> OK
C10: 7 | D10: Aparelho de ar condicionado tipo Split Cassete, ciclo FRIO: controle remoto sem fio, capacidade nominal de no mínimo 18.000 btus; tensão 220 Volts. | E10: Peça | F10: 449052-34 | G10: 4265 | I10: =H10-SUM(K10:V10) -> 0 | J10: =IF(I10<0,"ATENÇÃO","OK") -> OK
C11: 8 | D11: Aparelho de ar condicionado tipo Split Piso Teto, capacidade frigorífica nominal 24.000 BTU’s, ciclo somente frio, 220 V, com controle remoto (individual), sem fio e filtro de ar lavável. | E11: Peça | F11: 449052-34 | G11: 4100 | H11: 5 | I11: =H11-SUM(K11:V11) -> 5 | J11: =IF(I11<0,"ATENÇÃO","OK") -> OK
C12: 9 | D12: Aparelho de ar condicionado tipo Split High Wall (para parede), ciclo quente e frio, capacidade frigorífica nominal de 24.000 btu’s, 220 V, com controle remoto (individual) sem fio e filtro de ar lavável. | E12: Peça | F12: 449052-34 | G12: 2960 | I12: =H12-SUM(K12:V12) -> 0 | J12: =IF(I12<0,"ATENÇÃO","OK") -> OK
C13: 10 | D13: Aparelho de ar condicionado tipo Split Cassete, ciclo FRIO: controle remoto sem fio, capacidade nominal de no mínimo 24.000 btus; tensão 220 Volts. | E13: Peça | F13: 449052-34 | G13: 4985 | I13: =H13-SUM(K13:V13) -> 0 | J13: =IF(I13<0,"ATENÇÃO","OK") -> OK
C14: 11 | D14: Aparelho de ar condicionado tipo Split Piso Teto, ciclo somente frio, capacidade frigorífica nominal de 30.000 btu’s somente frio, 220 V, com controle remoto (individual) sem fio e filtro de ar lavável. | E14: Peça | F14: 449052-34 | G14: 4870 | I14: =H14-SUM(K14:V14) -> 0 | J14: =IF(I14<0,"ATENÇÃO","OK") -> OK
C15: 12 | D15: Aparelho de ar condicionado tipo Split High Wall (para parede), ciclo quente e frio, capacidade frigorífica nominal de 30.000 btu’s, 220 V, com controle remoto (individual) sem fio e filtro de ar lavável. | E15: Peça | F15: 449052-34 | G15: 4605 | I15: =H15-SUM(K15:V15) -> 0 | J15: =IF(I15<0,"ATENÇÃO","OK") -> OK
C16: 13 | D16: Condicionador de Ar tipo Split Piso Teto – de 36.000 BTU’s ciclo somente frio, com controle remoto (individual) sem fio. | E16: Peça | F16: 449052-34 | G16: 5575 | I16: =H16-SUM(K16:V16) -> 0 | J16: =IF(I16<0,"ATENÇÃO","OK") -> OK
C17: 14 | D17: Condicionado de Ar tipo Split Piso Teto/Parede, capacidade frigorífica nominal de 36.000 btu’s, ciclos quente e frio, 220 V, com controle remoto sem fio e filtro de ar lavável. | E17: Peça | F17: 449052-34 | G17: 6005 | I17: =H17-SUM(K17:V17) -> 0 | J17: =IF(I17<0,"ATENÇÃO","OK") -> OK
C18: 15 | D18: Aparelho de ar condicionado tipo Split Cassete, ciclo FRIO: controle remoto sem fio, capacidade nominal de no mínimo 36.000 btus; tensão 220 Volts. | E18: Peça | F18: 449052-34 | G18: 7485 | I18: =H18-SUM(K18:V18) -> 0 | J18: =IF(I18<0,"ATENÇÃO","OK") -> OK
C19: 16 | D19: Condicionador de Ar tipo Split Piso Teto – de 48.000 BTU’s ciclo somente frio, com controle remoto (individual) sem fio e filtro de ar lavável. | E19: Peça | F19: 449052-34 | G19: 6820 | H19: 5 | I19: =H19-SUM(K19:V19) -> 5 | J19: =IF(I19<0,"ATENÇÃO","OK") -> OK
C20: 17 | D20: Condicionador de Ar tipo Split Piso Teto, ciclo somente frio, 55.000 a 60.000 BTU´s, com controle remoto (individual sem fio). Trifásico 380V, com pressotato de alta e baixa, rele contra inversão de fase. Selo PROCEL até "E". | E20: Peça | F20: 449052-34 | G20: 7625 | I20: =H20-SUM(K20:V20) -> 0 | J20: =IF(I20<0,"ATENÇÃO","OK") -> OK
C21: 18 | D21: Condicionador de Ar tipo Split Piso Teto/Parede – de 55.000 a 60.000 BTU’s ciclos quente e frio, com controle remoto - trifásico 380 V, com pressotato de alta e baixa, rele contra inversão de fase. Selo PROCEL até "E". | E21: Peça | F21: 449052-34 | G21: 8225 | I21: =H21-SUM(K21:V21) -> 0 | J21: =IF(I21<0,"ATENÇÃO","OK") -> OK
C22: 19 | D22: Aparelho de ar condicionado tipo Split Cassete, capacidade nominal de no mínimo 55.000 a 60.000 BTU’s ciclo frio, com controle remoto - trifásico 380 V, com pressotato de alta e baixa, rele contra inversão de fase. | E22: Peça | F22: 449052-34 | G22: 8700 | H22: 4 | I22: =H22-SUM(K22:V22) -> 4 | J22: =IF(I22<0,"ATENÇÃO","OK") -> OK
C23: 20 | D23: Cortina de Ar. Dimensões aproximadas: (L X A XP): 150 x 23 x 22cm , podendo ter pequena variação de tamanho, dependendo da marca do produto. Monofásico, 220 Volts. Potência (c/v) mínimo de 1/5. Nível máximo de ruído (db): menor que 60db. Modos de operação: ventila. Velocidades (m/s) mínimo de 11. Vazão de ar: mínimo de 1300 m3/h. Temperatura somente ventilação. Recursos função automática. Saída de ar frontal e vertical. Entrada superior de ar. Direcionadores de ar vertical. Recirculação de ar (m3/m) maior que 25. Prazo de garantia de 01 ano. Item incluso: controle remoto. Cor branco. | E23: Peça | F23: 449052-34 | G23: 830 | I23: =H23-SUM(K23:V23) -> 0 | J23: =IF(I23<0,"ATENÇÃO","OK") -> OK
C24: 21 | D24: Instalação de Cortina de Ar do item 54. | E24: Serviço | F24: 339039-25 | G24: 220 | I24: =H24-SUM(K24:V24) -> 0 | J24: =IF(I24<0,"ATENÇÃO","OK") -> OK
C25: 22 | D25: Instalação completa de equipamento de ar-condicionado tipo "split" até 24.000 BTU/h incluindo até 3 metros de distância entre evaporadora e condensadora – Composto de 01 (uma) unidade evaporadora e 01 (uma) unidade condensadora. | E25: Serviço | F25: 339039-25 | G25: 600 | H25: 15 | I25: =H25-SUM(K25:V25) -> 8 | J25: =IF(I25<0,"ATENÇÃO","OK") -> OK | L25: 1 | M25: 6
C26: 23 | D26: Instalação completa de equipamento de ar-condicionado tipo "split" de 25.000 a 48.000 BTU/h incluindo até 3 metros de distância entre evaporadora e condensadora – Composto de 01 (uma) unidade evaporadora e 01 (uma) unidade condensadora. | E26: Serviço | F26: 339039-25 | G26: 815 | H26: 5 | I26: =H26-SUM(K26:V26) -> 4 | J26: =IF(I26<0,"ATENÇÃO","OK") -> OK | K26: 1
C27: 24 | D27: Instalação completa de equipamento de ar-condicionado tipo "split" acima de 48.000 BTU/h incluindo até 3 metros de distância entre evaporadora e condensadora – Composto de 01 (uma) unidade evaporadora e 01 (uma) unidade condensadora. | E27: Serviço | F27: 339039-25 | G27: 1010 | H27: 4 | I27: =H27-SUM(K27:V27) -> 4 | J27: =IF(I27<0,"ATENÇÃO","OK") -> OK
C28: 25 | D28: Metro adicional de linha para instalação de split até 24.000 BTU/h. | E28: Metro | F28: 339039-25 | G28: 55 | H28: 150 | I28: =H28-SUM(K28:V28) -> 120 | J28: =IF(I28<0,"ATENÇÃO","OK") -> OK | L28: 30
C29: 26 | D29: Metro adicional de linha para instalação de split de 25.000 a 48.000 BTU/h. | E29: Metro | F29: 339039-25 | G29: 63 | H29: 50 | I29: =H29-SUM(K29:V29) -> 20 | J29: =IF(I29<0,"ATENÇÃO","OK") -> OK | K29: 30
C30: 27 | D30: Metro adicional de linha para instalação de split acima de 48.000 BTU/h. | E30: Metro | F30: 339039-25 | G30: 76 | H30: 40 | I30: =H30-SUM(K30:V30) -> 40 | J30: =IF(I30<0,"ATENÇÃO","OK") -> OK
C31: 28 | D31: Desinstalação de equipamento de ar-condicionado. | E31: Serviço | F31: 339039-25 | G31: 302 | H31: 8 | I31: =H31-SUM(K31:V31) -> 2 | J31: =IF(I31<0,"ATENÇÃO","OK") -> OK | L31: 1 | M31: 5
A32: E&AR EQUIPAMENTOS DE REFRIGERAÇÃO EIRELI EPP | B32: 2 | C32: 29 | D32: Aparelho de ar condicionado tipo Split High Wall (para parede), ciclo somente frio, 220 V, capacidade frigorífica nominal de 12.000 btu’s somente frio, com controle remoto (individual) sem fio e filtro de ar lavável. Selo PROCEL “A”. | E32: Peça | F32: 449052-34 | G32: 1500 | I32: =H32-SUM(K32:V32) -> 0 | J32: =IF(I32<0,"ATENÇÃO","OK") -> OK
C33: 30 | D33: Aparelho de ar condicionado tipo Split High Wall, (para parede), ciclo somente frio, capacidade frigorífica nominal de 18.000 btu’s, 220 V, com controle remoto (individual) sem fio e filtro de ar lavável. | E33: Peça | F33: 449052-34 | G33: 2200 | I33: =H33-SUM(K33:V33) -> 0 | J33: =IF(I33<0,"ATENÇÃO","OK") -> OK
C34: 31 | D34: Aparelho de ar condicionado tipo Split Piso Teto, capacidade frigorífica nominal 24.000 BTU’s, ciclo somente frio, 220 V, com controle remoto (individual), sem fio e filtro de ar lavável. | E34: Peça | F34: 449052-34 | G34: 4150 | I34: =H34-SUM(K34:V34) -> 0 | J34: =IF(I34<0,"ATENÇÃO","OK") -> OK
C35: 32 | D35: Condicionador de Ar ti Split Piso Teto, ciclo somente frio, 55.000 a 60.000 BTU´s, com controle remoto (individual sem fio). Trifásico 380V, com pressotato de alta e baixa, rele contra inversão de fase. Selo PROCEL até "E". | E35: Peça | F35: 449052-34 | G35: 7525 | I35: =H35-SUM(K35:V35) -> 0 | J35: =IF(I35<0,"ATENÇÃO","OK") -> OK
C36: 33 | D36: Cortina de Ar. Dimensões aproximadas: (L X A XP): 150 x 23 x 22cm , podendo ter pequena variação de tamanho, dependendo da marca do produto. Monofásico, 220 Volts. Potência (c/v) mínimo de 1/5. Nível máximo de ruído (db): menor que 60db. Modos de operação: ventila. Velocidades (m/s) mínimo de 11. Vazão de ar: mínimo de 1300 m3/h. Temperatura somente ventilação. Recursos função automática. Saída de ar frontal e vertical. Entrada superior de ar. Direcionadores de ar vertical. Recirculação de ar (m3/m) maior que 25. Prazo de garantia de 01 ano. Item incluso: controle remoto. Cor branco. | E36: Peça | F36: 449052-34 | G36: 800 | I36: =H36-SUM(K36:V36) -> 0 | J36: =IF(I36<0,"ATENÇÃO","OK") -> OK
C37: 34 | D37: Instalação de Cortina de Ar do item 80. | E37: Serviço | F37: 339039-25 | G37: 200 | I37: =H37-SUM(K37:V37) -> 0 | J37: =IF(I37<0,"ATENÇÃO","OK") -> OK
C38: 35 | D38: Instalação completa de equipamento de ar-condicionado tipo "split" até 24.000 BTU/h incluindo até 3 metros de distância entre evaporadora e condensadora – Composto de 01 (uma) unidade evaporadora e 01 (uma) unidade condensadora. | E38: Serviço | F38: 339039-25 | G38: 550 | I38: =H38-SUM(K38:V38) -> 0 | J38: =IF(I38<0,"ATENÇÃO","OK") -> OK
C39: 36 | D39: Instalação completa de equipamento de ar-condicionado tipo "split" acima de 48.000 BTU/h incluindo até 3 metros de distância entre evaporadora e condensadora – Composto de 01 (uma) unidade evaporadora e 01 (uma) unidade condensadora. | E39: Serviço | F39: 339039-25 | G39: 900 | I39: =H39-SUM(K39:V39) -> 0 | J39: =IF(I39<0,"ATENÇÃO","OK") -> OK
C40: 37 | D40: Metro adicional de linha para instalação de split até 24.000 BTU/h. | E40: Metro | F40: 339039-25 | G40: 50 | I40: =H40-SUM(K40:V40) -> 0 | J40: =IF(I40<0,"ATENÇÃO","OK") -> OK
C41: 38 | D41: Metro adicional de linha para instalação de split acima de 48.000 BTU/h. | E41: Metro | F41: 339039-25 | G41: 70 | I41: =H41-SUM(K41:V41) -> 0 | J41: =IF(I41<0,"ATENÇÃO","OK") -> OK
C42: 39 | D42: Desinstalação de equipamento de ar-condicionado. | E42: Serviço | F42: 339039-25 | G42: 300 | I42: =H42-SUM(K42:V42) -> 0 | J42: =IF(I42<0,"ATENÇÃO","OK") -> OK

Sheet CEAD
A1: PROCESSO: 1063/2015/UDESC - REL | D1: OBJETO: AQUISIÇÃO E INSTALAÇÃO DE APARELHOS DE AR CONDICIONADO PARA A UDESC - RELANÇAMENTO | H1: VIGÊNCIA DA ATA: 04/03/2016 até 03/03/2017 | K1: AF/OS nº não informado Qtde. DT | L1: AF/OS nº xxxx/2016 Qtde. DT | M1: AF/OS nº xxxx/2016 Qtde. DT | N1: AF/OS nº xxxx/2016 Qtde. DT | O1: AF/OS nº xxxx/2016 Qtde. DT | P1: AF/OS nº xxxx/2016 Qtde. DT | Q1: AF/OS nº xxxx/2016 Qtde. DT | R1: AF/OS nº xxxx/2016 Qtde. DT | S1: AF/OS nº xxxx/2016 Qtde. DT | T1: AF/OS nº xxxx/2016 Qtde. DT | U1: AF/OS nº xxxx/2016 Qtde. DT | V1: AF/OS nº xxxx/2016 Qtde. DT
A2: CENTRO PARTICIPANTE: CEAD
A3: FORNECEDOR | B3: LOTE | C3: ITEM | D3: PRODUTO - CARACTERÍSTICAS MÍNIMAS | E3: UNIDADE | F3: DETALHAMENTO | G3: Preço UNITÁRIO (R$) | H3: Qtde Registrada | I3: Saldo / Automático | J3: ALERTA | K3: ...../...../...... | L3: ...../...../...... | M3: ...../...../...... | N3: ...../...../...... | O3: ...../...../...... | P3: ...../...../...... | Q3: ...../...../...... | R3: ...../...../...... | S3: ...../...../...... | T3: ...../...../...... | U3: ...../...../...... | V3: ...../...../......
A4: E&AR EQUIPAMENTOS DE REFRIGERAÇÃO EIRELI EPP | B4: 1 | C4: 1 | D4: Aparelho de ar condicionado tipo Split High Wall (para parede), capacidade frigorífica nominal de 9.000 btu’s, 220 V, somente frio, com controle remoto (individual) sem fio e filtro de ar lavável. Selo PROCEL “A” . | E4: Peça | F4: 449052-34 | G4: 1480 | I4: =H4-SUM(K4:V4) -> 0 | J4: =IF(I4<0,"ATENÇÃO","OK") -> OK
C5: 2 | D5: Aparelho de ar condicionado tipo Split High Wall (para parede), ciclo quente e frio: controle remoto sem fio, capacidade nominal de no mínimo 9.000 btus; capacidade de desumidificar o ambiente e filtro de ar lavável, tensão 220 Volts, frequência 60 Hz. Selo PROCEL “A”. | E5: Peça | F5: 449052-34 | G5: 1585 | I5: =H5-SUM(K5:V5) -> 0 | J5: =IF(I5<0,"ATENÇÃO","OK") -> OK
C6: 3 | D6: Aparelho de ar condicionado tipo Split High Wall (para parede), ciclo somente frio, 220 V, capacidade frigorífica nominal de 12.000 btu’s somente frio, com controle remoto (individual) sem fio e filtro de ar lavável. Selo PROCEL “A”. | E6: Peça | F6: 449052-34 | G6: 1595 | H6: 1 | I6: =H6-SUM(K6:V6) -> 1 | J6: =IF(I6<0,"ATENÇÃO","OK") -> OK
C7: 4 | D7: Aparelho de ar condicionado tipo Split High Wall (para parede), ciclo quente e frio, capacidade frigorífica nominal de 12.000 btu’s, 220 V,com controle remoto (individual) sem fio e filtro de ar lavável. Selo PROCEL “A”. | E7: Peça | F7: 449052-34 | G7: 1685 | I7: =H7-SUM(K7:V7) -> 0 | J7: =IF(I7<0,"ATENÇÃO","OK") -> OK
C8: 5 | D8: Aparelho de ar condicionado tipo Split High Wall, (para parede), ciclo somente frio, capacidade frigorífica nominal de 18.000 btu’s, 220 V, com controle remoto (individual) sem fio e filtro de ar lavável. | E8: Peça | F8: 449052-34 | G8: 2200 | H8: 5 | I8: =H8-SUM(K8:V8) -> 5 | J8: =IF(I8<0,"ATENÇÃO","OK") -> OK
C9: 6 | D9: Aparelho de ar condicionado tipo Split High Wall (para parede), ciclo quente e frio, capacidade frigorífica nominal de 18.000 btu’s, 220 V,com controle remoto (individual) sem fio e filtro de ar lavável. | E9: Peça | F9: 449052-34 | G9: 2455 | I9: =H9-SUM(K9:V9) -> 0 | J9: =IF(I9<0,"ATENÇÃO","OK") -> OK
C10: 7 | D10: Aparelho de ar condicionado tipo Split Cassete, ciclo FRIO: controle remoto sem fio, capacidade nominal de no mínimo 18.000 btus; tensão 220 Volts. | E10: Peça | F10: 449052-34 | G10: 4265 | I10: =H10-SUM(K10:V10) -> 0 | J10: =IF(I10<0,"ATENÇÃO","OK") -> OK
C11: 8 | D11: Aparelho de ar condicionado tipo Split Piso Teto, capacidade frigorífica nominal 24.000 BTU’s, ciclo somente frio, 220 V, com controle remoto (individual), sem fio e filtro de ar lavável. | E11: Peça | F11: 449052-34 | G11: 4100 | I11: =H11-SUM(K11:V11) -> 0 | J11: =IF(I11<0,"ATENÇÃO","OK") -> OK
C12: 9 | D12: Aparelho de ar condicionado tipo Split High Wall (para parede), ciclo quente e frio, capacidade frigorífica nominal de 24.000 btu’s, 220 V, com controle remoto (individual) sem fio e filtro de ar lavável. | E12: Peça | F12: 449052-34 | G12: 2960 | I12: =H12-SUM(K12:V12) -> 0 | J12: =IF(I12<0,"ATENÇÃO","OK") -> OK
C13: 10 | D13: Aparelho de ar condicionado tipo Split Cassete, ciclo FRIO: controle remoto sem fio, capacidade nominal de no mínimo 24.000 btus; tensão 220 Volts. | E13: Peça | F13: 449052-34 | G13: 4985 | I13: =H13-SUM(K13:V13) -> 0 | J13: =IF(I13<0,"ATENÇÃO","OK") -> OK
C14: 11 | D14: Aparelho de ar condicionado tipo Split Piso Teto, ciclo somente frio, capacidade frigorífica nominal de 30.000 btu’s somente frio, 220 V, com controle remoto (individual) sem fio e filtro de ar lavável. | E14: Peça | F14: 449052-34 | G14: 4870 | I14: =H14-SUM(K14:V14) -> 0 | J14: =IF(I14<0,"ATENÇÃO","OK") -> OK
C15: 12 | D15: Aparelho de ar condicionado tipo Split High Wall (para parede), ciclo quente e frio, capacidade frigorífica nominal de 30.000 btu’s, 220 V, com controle remoto (individual) sem fio e filtro de ar lavável. | E15: Peça | F15: 449052-34 | G15: 4605 | I15: =H15-SUM(K15:V15) -> 0 | J15: =IF(I15<0,"ATENÇÃO","OK") -> OK
C16: 13 | D16: Condicionador de Ar tipo Split Piso Teto – de 36.000 BTU’s ciclo somente frio, com controle remoto (individual) sem fio. | E16: Peça | F16: 449052-34 | G16: 5575 | I16: =H16-SUM(K16:V16) -> 0 | J16: =IF(I16<0,"ATENÇÃO","OK") -> OK
C17: 14 | D17: Condicionado de Ar tipo Split Piso Teto/Parede, capacidade frigorífica nominal de 36.000 btu’s, ciclos quente e frio, 220 V, com controle remoto sem fio e filtro de ar lavável. | E17: Peça | F17: 449052-34 | G17: 6005 | I17: =H17-SUM(K17:V17) -> 0 | J17: =IF(I17<0,"ATENÇÃO","OK") -> OK
C18: 15 | D18: Aparelho de ar condicionado tipo Split Cassete, ciclo FRIO: controle remoto sem fio, capacidade nominal de no mínimo 36.000 btus; tensão 220 Volts. | E18: Peça | F18: 449052-34 | G18: 7485 | I18: =H18-SUM(K18:V18) -> 0 | J18: =IF(I18<0,"ATENÇÃO","OK") -> OK
C19: 16 | D19: Condicionador de Ar tipo Split Piso Teto – de 48.000 BTU’s ciclo somente frio, com controle remoto (individual) sem fio e filtro de ar lavável. | E19: Peça | F19: 449052-34 | G19: 6820 | I19: =H19-SUM(K19:V19) -> 0 | J19: =IF(I19<0,"ATENÇÃO","OK") -> OK
C20: 17 | D20: Condicionador de Ar tipo Split Piso Teto, ciclo somente frio, 55.000 a 60.000 BTU´s, com controle remoto (individual sem fio). Trifásico 380V, com pressotato de alta e baixa, rele contra inversão de fase. Selo PROCEL até "E". | E20: Peça | F20: 449052-34 | G20: 7625 | I20: =H20-SUM(K20:V20) -> 0 | J20: =IF(I20<0,"ATENÇÃO","OK") -> OK
... C24: 21 | D24: Instalação de Cortina de Ar do item 54. | E24: Serviço | F24: 339039-25 | G24: 220 | I24: =H24-SUM(K24:V24) -> 0 | J24: =IF(I24<0,"ATENÇÃO","OK") -> OK
C25: 22 | D25: Instalação completa de equipamento de ar-condicionado tipo "split" até 24.000 BTU/h incluindo até 3 metros de distância entre evaporadora e condensadora – Composto de 01 (uma) unidade evaporadora e 01 (uma) unidade condensadora. | E25: Serviço | F25: 339039-25 | G25: 600 | H25: =6+2 -> 8 | I25: =H25-SUM(K25:V25) -> 6 | J25: =IF(I25<0,"ATENÇÃO","OK") -> OK | K25: 2
C26: 23 | D26: Instalação completa de equipamento de ar-condicionado tipo "split" de 25.000 a 48.000 BTU/h incluindo até 3 metros de distância entre evaporadora e condensadora – Composto de 01 (uma) unidade evaporadora e 01 (uma) unidade condensadora. | E26: Serviço | F26: 339039-25 | G26: 815 | I26: =H26-SUM(K26:V26) -> 0 | J26: =IF(I26<0,"ATENÇÃO","OK") -> OK
C27: 24 | D27: Instalação completa de equipamento de ar-condicionado tipo "split" acima de 48.000 BTU/h incluindo até 3 metros de distância entre evaporadora e condensadora – Composto de 01 (uma) unidade evaporadora e 01 (uma) unidade condensadora. | E27: Serviço | F27: 339039-25 | G27: 1010 | I27: =H27-SUM(K27:V27) -> 0 | J27: =IF(I27<0,"ATENÇÃO","OK") -> OK
C28: 25 | D28: Metro adicional de linha para instalação de split até 24.000 BTU/h. | E28: Metro | F28: 339039-25 | G28: 55 | H28: 25 | I28: =H28-SUM(K28:V28) -> 25 | J28: =IF(I28<0,"ATENÇÃO","OK") -> OK
C29: 26 | D29: Metro adicional de linha para instalação de split de 25.000 a 48.000 BTU/h. | E29: Metro | F29: 339039-25 | G29: 63 | I29: =H29-SUM(K29:V29) -> 0 | J29: =IF(I29<0,"ATENÇÃO","OK") -> OK
C30: 27 | D30: Metro adicional de linha para instalação de split acima de 48.000 BTU/h. | E30: Metro | F30: 339039-25 | G30: 76 | I30: =H30-SUM(K30:V30) -> 0 | J30: =IF(I30<0,"ATENÇÃO","OK") -> OK
C31: 28 | D31: Desinstalação de equipamento de ar-condicionado. | E31: Serviço | F31: 339039-25 | G31: 302 | H31: =2 -> 2 | I31: =H31-SUM(K31:V31) -> 0 | J31: =IF(I31<0,"ATENÇÃO","OK") -> OK | K31: 2
A32: E&AR EQUIPAMENTOS DE REFRIGERAÇÃO EIRELI EPP | B32: 2 | C32: 29 | D32: Aparelho de ar condicionado tipo Split High Wall (para parede), ciclo somente frio, 220 V, capacidade frigorífica nominal de 12.000 btu’s somente frio, com controle remoto (individual) sem fio e filtro de ar lavável. Selo PROCEL “A”. | E32: Peça | F32: 449052-34 | G32: 1500 | I32: =H32-SUM(K32:V32) -> 0 | J32: =IF(I32<0,"ATENÇÃO","OK") -> OK
C33: 30 | D33: Aparelho de ar condicionado tipo Split High Wall, (para parede), ciclo somente frio, capacidade frigorífica nominal de 18.000 btu’s, 220 V, com controle remoto (individual) sem fio e filtro de ar lavável. | E33: Peça | F33: 449052-34 | G33: 2200 | I33: =H33-SUM(K33:V33) -> 0 | J33: =IF(I33<0,"ATENÇÃO","OK") -> OK
C34: 31 | D34: Aparelho de ar condicionado tipo Split Piso Teto, capacidade frigorífica nominal 24.000 BTU’s, ciclo somente frio, 220 V, com controle remoto (individual), sem fio e filtro de ar lavável. | E34: Peça | F34: 449052-34 | G34: 4150 | I34: =H34-SUM(K34:V34) -> 0 | J34: =IF(I34<0,"ATENÇÃO","OK") -> OK
C35: 32 | D35: Condicionador de Ar ti Split Piso Teto, ciclo somente frio, 55.000 a 60.000 BTU´s, com controle remoto (individual sem fio). Trifásico 380V, com pressotato de alta e baixa, rele contra inversão de fase. Selo PROCEL até "E". | E35: Peça | F35: 449052-34 | G35: 7525 | I35: =H35-SUM(K35:V35) -> 0 | J35: =IF(I35<0,"ATENÇÃO","OK") -> OK
C36: 33 | D36: Cortina de Ar. Dimensões aproximadas: (L X A XP): 150 x 23 x 22cm , podendo ter pequena variação de tamanho, dependendo da marca do produto. Monofásico, 220 Volts. Potência (c/v) mínimo de 1/5. Nível máximo de ruído (db): menor que 60db. Modos de operação: ventila. Velocidades (m/s) mínimo de 11. Vazão de ar: mínimo de 1300 m3/h. Temperatura somente ventilação. Recursos função automática. Saída de ar frontal e vertical. Entrada superior de ar. Direcionadores de ar vertical. Recirculação de ar (m3/m) maior que 25. Prazo de garantia de 01 ano. Item incluso: controle remoto. Cor branco. | E36: Peça | F36: 449052-34 | G36: 800 | I36: =H36-SUM(K36:V36) -> 0 | J36: =IF(I36<0,"ATENÇÃO","OK") -> OK
C37: 34 | D37: Instalação de Cortina de Ar do item 80. | E37: Serviço | F37: 339039-25 | G37: 200 | I37: =H37-SUM(K37:V37) -> 0 | J37: =IF(I37<0,"ATENÇÃO","OK") -> OK
C38: 35 | D38: Instalação completa de equipamento de ar-condicionado tipo "split" até 24.000 BTU/h incluindo até 3 metros de distância entre evaporadora e condensadora – Composto de 01 (uma) unidade evaporadora e 01 (uma) unidade condensadora. | E38: Serviço | F38: 339039-25 | G38: 550 | I38: =H38-SUM(K38:V38) -> 0 | J38: =IF(I38<0,"ATENÇÃO","OK") -> OK
C39: 36 | D39: Instalação completa de equipamento de ar-condicionado tipo "split" acima de 48.000 BTU/h incluindo até 3 metros de distância entre evaporadora e condensadora – Composto de 01 (uma) unidade evaporadora e 01 (uma) unidade condensadora. | E39: Serviço | F39: 339039-25 | G39: 900 | I39: =H39-SUM(K39:V39) -> 0 | J39: =IF(I39<0,"ATENÇÃO","OK") -> OK
C40: 37 | D40: Metro adicional de linha para instalação de split até 24.000 BTU/h. | E40: Metro | F40: 339039-25 | G40: 50 | I40: =H40-SUM(K40:V40) -> 0 | J40: =IF(I40<0,"ATENÇÃO","OK") -> OK
C41: 38 | D41: Metro adicional de linha para instalação de split acima de 48.000 BTU/h. | E41: Metro | F41: 339039-25 | G41: 70 | I41: =H41-SUM(K41:V41) -> 0 | J41: =IF(I41<0,"ATENÇÃO","OK") -> OK
C42: 39 | D42: Desinstalação de equipamento de ar-condicionado. | E42: Serviço | F42: 339039-25 | G42: 300 | I42: =H42-SUM(K42:V42) -> 0 | J42: =IF(I42<0,"ATENÇÃO","OK") -> OK

Sheet CEFID
A1: PROCESSO: 1063/2015/UDESC - REL | D1: OBJETO: AQUISIÇÃO E INSTALAÇÃO DE APARELHOS DE AR CONDICIONADO PARA A UDESC - RELANÇAMENTO | H1: VIGÊNCIA DA ATA: 04/03/2016 até 03/03/2017 | K1: AF/OS nº xxxx/2016 Qtde. DT | L1: AF/OS nº xxxx/2016 Qtde. DT | M1: AF/OS nº xxxx/2016 Qtde. DT | N1: AF/OS nº xxxx/2016 Qtde. DT | O1: AF/OS nº xxxx/2016 Qtde. DT | P1: AF/OS nº xxxx/2016 Qtde. DT | Q1: AF/OS nº xxxx/2016 Qtde. DT | R1: AF/OS nº xxxx/2016 Qtde. DT | S1: AF/OS nº xxxx/2016 Qtde. DT | T1: AF/OS nº xxxx/2016 Qtde. DT | U1: AF/OS nº xxxx/2016 Qtde. DT | V1: AF/OS nº xxxx/2016 Qtde. DT
A2: CENTRO PARTICIPANTE: CEFID
A3: FORNECEDOR | B3: LOTE | C3: ITEM | D3: PRODUTO - CARACTERÍSTICAS MÍNIMAS | E3: UNIDADE | F3: DETALHAMENTO | G3: Preço UNITÁRIO (R$) | H3: Qtde Registrada | I3: Saldo / Automático | J3: ALERTA | K3: ...../...../...... | L3: ...../...../...... | M3: ...../...../...... | N3: ...../...../...... | O3: ...../...../...... | P3: ...../...../...... | Q3: ...../...../...... | R3: ...../...../...... | S3: ...../...../...... | T3: ...../...../...... | U3: ...../...../...... | V3: ...../...../......
A4: E&AR EQUIPAMENTOS DE REFRIGERAÇÃO EIRELI EPP | B4: 1 | C4: 1 | D4: Aparelho de ar condicionado tipo Split High Wall (para parede), capacidade frigorífica nominal de 9.000 btu’s, 220 V, somente frio, com controle remoto (individual) sem fio e filtro de ar lavável. Selo PROCEL “A” . | E4: Peça | F4: 449052-34 | G4: 1480 | H4: 2 | I4: =H4-SUM(K4:V4) -> 2 | J4: =IF(I4<0,"ATENÇÃO","OK") -> OK
C5: 2 | D5: Aparelho de ar condicionado tipo Split High Wall (para parede), ciclo quente e frio: controle remoto sem fio, capacidade nominal de no mínimo 9.000 btus; capacidade de desumidificar o ambiente e filtro de ar lavável, tensão 220 Volts, frequência 60 Hz. Selo PROCEL “A”. | E5: Peça | F5: 449052-34 | G5: 1585 | I5: =H5-SUM(K5:V5) -> 0 | J5: =IF(I5<0,"ATENÇÃO","OK") -> OK
C6: 3 | D6: Aparelho de ar condicionado tipo Split High Wall (para parede), ciclo somente frio, 220 V, capacidade frigorífica nominal de 12.000 btu’s somente frio, com controle remoto (individual) sem fio e filtro de ar lavável. Selo PROCEL “A”. | E6: Peça | F6: 449052-34 | G6: 1595 | I6: =H6-SUM(K6:V6) -> 0 | J6: =IF(I6<0,"ATENÇÃO","OK") -> OK
C7: 4 | D7: Aparelho de ar condicionado tipo Split High Wall (para parede), ciclo quente e frio, capacidade frigorífica nominal de 12.000 btu’s, 220 V,com controle remoto (individual) sem fio e filtro de ar lavável. Selo PROCEL “A”. | E7: Peça | F7: 449052-34 | G7: 1685 | H7: 1 | I7: =H7-SUM(K7:V7) -> 1 | J7: =IF(I7<0,"ATENÇÃO","OK") -> OK
C8: 5 | D8: Aparelho de ar condicionado tipo Split High Wall, (para parede), ciclo somente frio, capacidade frigorífica nominal de 18.000 btu’s, 220 V, com controle remoto (individual) sem fio e filtro de ar lavável. | E8: Peça | F8: 449052-34 | G8: 2200 | H8: 1 | I8: =H8-SUM(K8:V8) -> 1 | J8: =IF(I8<0,"ATENÇÃO","OK") -> OK
C9: 6 | D9: Aparelho de ar condicionado tipo Split High Wall (para parede), ciclo quente e frio, capacidade frigorífica nominal de 18.000 btu’s, 220 V,com controle remoto (individual) sem fio e filtro de ar lavável. | E9: Peça | F9: 449052-34 | G9: 2455 | I9: =H9-SUM(K9:V9) -> 0 | J9: =IF(I9<0,"ATENÇÃO","OK") -> OK
C10: 7 | D10: Aparelho de ar condicionado tipo Split Cassete, ciclo FRIO: controle remoto sem fio, capacidade nominal de no mínimo 18.000 btus; tensão 220 Volts. | E10: Peça | F10: 449052-34 | G10: 4265 | H10: 2 | I10: =H10-SUM(K10:V10) -> 2 | J10: =IF(I10<0,"ATENÇÃO","OK") -> OK
C11: 8 | D11: Aparelho de ar condicionado tipo Split Piso Teto, capacidade frigorífica nominal 24.000 BTU’s, ciclo somente frio, 220 V, com controle remoto (individual), sem fio e filtro de ar lavável. | E11: Peça | F11: 449052-34 | G11: 4100 | I11: =H11-SUM(K11:V11) -> 0 | J11: =IF(I11<0,"ATENÇÃO","OK") -> OK
C12: 9 | D12: Aparelho de ar condicionado tipo Split High Wall (para parede), ciclo quente e frio, capacidade frigorífica nominal de 24.000 btu’s, 220 V, com controle remoto (individual) sem fio e filtro de ar lavável. | E12: Peça | F12: 449052-34 | G12: 2960 | I12: =H12-SUM(K12:V12) -> 0 | J12: =IF(I12<0,"ATENÇÃO","OK") -> OK
C13: 10 | D13: Aparelho de ar condicionado tipo Split Cassete, ciclo FRIO: controle remoto sem fio, capacidade nominal de no mínimo 24.000 btus; tensão 220 Volts. | E13: Peça | F13: 449052-34 | G13: 4985 | I13: =H13-SUM(K13:V13) -> 0 | J13: =IF(I13<0,"ATENÇÃO","OK") -> OK
C14: 11 | D14: Aparelho de ar condicionado tipo Split Piso Teto, ciclo somente frio, capacidade frigorífica nominal de 30.000 btu’s somente frio, 220 V, com controle remoto (individual) sem fio e filtro de ar lavável. | E14: Peça | F14: 449052-34 | G14: 4870 | I14: =H14-SUM(K14:V14) -> 0 | J14: =IF(I14<0,"ATENÇÃO","OK") -> OK
C15: 12 | D15: Aparelho de ar condicionado tipo Split High Wall (para parede), ciclo quente e frio, capacidade frigorífica nominal de 30.000 btu’s, 220 V, com controle remoto (individual) sem fio e filtro de ar lavável. | E15: Peça | F15: 449052-34 | G15: 4605 | I15: =H15-SUM(K15:V15) -> 0 | J15: =IF(I15<0,"ATENÇÃO","OK") -> OK
C16: 13 | D16: Condicionador de Ar tipo Split Piso Teto – de 36.000 BTU’s ciclo somente frio, com controle remoto (individual) sem fio. | E16: Peça | F16: 449052-34 | G16: 5575 | H16: 1 | I16: =H16-SUM(K16:V16) -> 1 | J16: =IF(I16<0,"ATENÇÃO","OK") -> OK
C17: 14 | D17: Condicionado de Ar tipo Split Piso Teto/Parede, capacidade frigorífica nominal de 36.000 btu’s, ciclos quente e frio, 220 V, com controle remoto sem fio e filtro de ar lavável. | E17: Peça | F17: 449052-34 | G17: 6005 | I17: =H17-SUM(K17:V17) -> 0 | J17: =IF(I17<0,"ATENÇÃO","OK") -> OK
C18: 15 | D18: Aparelho de ar condicionado tipo Split Cassete, ciclo FRIO: controle remoto sem fio, capacidade nominal de no mínimo 36.000 btus; tensão 220 Volts. | E18: Peça | F18: 449052-34 | G18: 7485 | I18: =H18-SUM(K18:V18) -> 0 | J18: =IF(I18<0,"ATENÇÃO","OK") -> OK
C19: 16 | D19: Condicionador de Ar tipo Split Piso Teto – de 48.000 BTU’s ciclo somente frio, com controle remoto (individual) sem fio e filtro de ar lavável. | E19: Peça | F19: 449052-34 | G19: 6820 | I19: =H19-SUM(K19:V19) -> 0 | J19: =IF(I19<0,"ATENÇÃO","OK") -> OK
C20: 17 | D20: Condicionador de Ar tipo Split Piso Teto, ciclo somente frio, 55.000 a 60.000 BTU´s, com controle remoto (individual sem fio). Trifásico 380V, com pressotato de alta e baixa, rele contra inversão de fase. Selo PROCEL até "E". | E20: Peça | F20: 449052-34 | G20: 7625 | H20: 4 | I20: =H20-SUM(K20:V20) -> 4 | J20: =IF(I20<0,"ATENÇÃO","OK") -> OK
C21: 18 | D21: Condicionador de Ar tipo Split Piso Teto/Parede – de 55.000 a 60.000 BTU’s ciclos quente e frio, com controle remoto - trifásico 380 V, com pressotato de alta e baixa, rele contra inversão de fase. Selo PROCEL até "E". | E21: Peça | F21: 449052-34 | G21: 8225 | I21: =H21-SUM(K21:V21) -> 0 | J21: =IF(I21<0,"ATENÇÃO","OK") -> OK
C22: 19 | D22: Aparelho de ar condicionado tipo Split Cassete, capacidade nominal de no mínimo 55.000 a 60.000 BTU’s ciclo frio, com controle remoto - trifásico 380 V, com pressotato de alta e baixa, rele contra inversão de fase. | E22: Peça | F22: 449052-34 | G22: 8700 | I22: =H22-SUM(K22:V22) -> 0 | J22: =IF(I22<0,"ATENÇÃO","OK") -> OK
C23: 20 | D23: Cortina de Ar. Dimensões aproximadas: (L X A XP): 150 x 23 x 22cm , podendo ter pequena variação de tamanho, dependendo da marca do produto. Monofásico, 220 Volts. Potência (c/v) mínimo de 1/5. Nível máximo de ruído (db): menor que 60db. Modos de operação: ventila. Velocidades (m/s) mínimo de 11. Vazão de ar: mínimo de 1300 m3/h. Temperatura somente ventilação. Recursos função automática. Saída de ar frontal e vertical. Entrada superior de ar. Direcionadores de ar vertical. Recirculação de ar (m3/m) maior que 25. Prazo de garantia de 01 ano. Item incluso: controle remoto. Cor branco. | E23: Peça | F23: 449052-34 | G23: 830 | H23: 2 | I23: =H23-SUM(K23:V23) -> 2 | J23: =IF(I23<0,"ATENÇÃO","OK") -> OK
C24: 21 | D24: Instalação de Cortina de Ar do item 54. | E24: Serviço | F24: 339039-25 | G24: 220 | H24: 2 | I24: =H24-SUM(K24:V24) -> 2 | J24: =IF(I24<0,"ATENÇÃO","OK") -> OK
C25: 22 | D25: Instalação completa de equipamento de ar-condicionado tipo "split" até 24.000 BTU/h incluindo até 3 metros de distância entre evaporadora e condensadora – Composto de 01 (uma) unidade evaporadora e 01 (uma) unidade condensadora. | E25: Serviço | F25: 339039-25 | G25: 600 | H25: 14 | I25: =H25-SUM(K25:V25) -> 14 | J25: =IF(I25<0,"ATENÇÃO","OK") -> OK
C26: 23 | D26: Instalação completa de equipamento de ar-condicionado tipo "split" de 25.000 a 48.000 BTU/h incluindo até 3 metros de distância entre evaporadora e condensadora – Composto de 01 (uma) unidade evaporadora e 01 (uma) unidade condensadora. | E26: Serviço | F26: 339039-25 | G26: 815 | H26: 4 | I26: =H26-SUM(K26:V26) -> 4 | J26: =IF(I26<0,"ATENÇÃO","OK") -> OK
C27: 24 | D27: Instalação completa de equipamento de ar-condicionado tipo "split" acima de 48.000 BTU/h incluindo até 3 metros de distância entre evaporadora e condensadora – Composto de 01 (uma) unidade evaporadora e 01 (uma) unidade condensadora. | E27: Serviço | F27: 339039-25 | G27: 1010 | H27: 9 | I27: =H27-SUM(K27:V27) -> 9 | J27: =IF(I27<0,"ATENÇÃO","OK") -> OK
C28: 25 | D28: Metro adicional de linha para instalação de split até 24.000 BTU/h. | E28: Metro | F28: 339039-25 | G28: 55 | H28: 100 | I28: =H28-SUM(K28:V28) -> 100 | J28: =IF(I28<0,"ATENÇÃO","OK") -> OK
C29: 26 | D29: Metro adicional de linha para instalação de split de 25.000 a 48.000 BTU/h. | E29: Metro | F29: 339039-25 | G29: 63 | H29: 50 | I29: =H29-SUM(K29:V29) -> 50 | J29: =IF(I29<0,"ATENÇÃO","OK") -> OK
C30: 27 | D30: Metro adicional de linha para instalação de split acima de 48.000 BTU/h. | E30: Metro | F30: 339039-25 | G30: 76 | H30: 100 | I30: =H30-SUM(K30:V30) -> 100 | J30: =IF(I30<0,"ATENÇÃO","OK") -> OK
C31: 28 | D31: Desinstalação de equipamento de ar-condicionado. | E31: Serviço | F31: 339039-25 | G31: 302 | H31: 5 | I31: =H31-SUM(K31:V31) -> 5 | J31: =IF(I31<0,"ATENÇÃO","OK") -> OK
A32: E&AR EQUIPAMENTOS DE REFRIGERAÇÃO EIRELI EPP | B32: 2 | C32: 29 | D32: Aparelho de ar condicionado tipo Split High Wall (para parede), ciclo somente frio, 220 V, capacidade frigorífica nominal de 12.000 btu’s somente frio, com controle remoto (individual) sem fio e filtro de ar lavável. Selo PROCEL “A”. | E32: Peça | F32: 449052-34 | G32: 1500 | I32: =H32-SUM(K32:V32) -> 0 | J32: =IF(I32<0,"ATENÇÃO","OK") -> OK
C33: 30 | D33: Aparelho de ar condicionado tipo Split High Wall, (para parede), ciclo somente frio, capacidade frigorífica nominal de 18.000 btu’s, 220 V, com controle remoto (individual) sem fio e filtro de ar lavável. | E33: Peça | F33: 449052-34 | G33: 2200 | I33: =H33-SUM(K33:V33) -> 0 | J33: =IF(I33<0,"ATENÇÃO","OK") -> OK
C34: 31 | D34: Aparelho de ar condicionado tipo Split Piso Teto, capacidade frigorífica nominal 24.000 BTU’s, ciclo somente frio, 220 V, com controle remoto (individual), sem fio e filtro de ar lavável. | E34: Peça | F34: 449052-34 | G34: 4150 | I34: =H34-SUM(K34:V34) -> 0 | J34: =IF(I34<0,"ATENÇÃO","OK") -> OK
C35: 32 | D35: Condicionador de Ar ti Split Piso Teto, ciclo somente frio, 55.000 a 60.000 BTU´s, com controle remoto (individual sem fio). Trifásico 380V, com pressotato de alta e baixa, rele contra inversão de fase. Selo PROCEL até "E". | E35: Peça | F35: 449052-34 | G35: 7525 | I35: =H35-SUM(K35:V35) -> 0 | J35: =IF(I35<0,"ATENÇÃO","OK") -> OK
C36: 33 | D36: Cortina de Ar. Dimensões aproximadas: (L X A XP): 150 x 23 x 22cm , podendo ter pequena variação de tamanho, dependendo da marca do produto. Monofásico, 220 Volts. Potência (c/v) mínimo de 1/5. Nível máximo de ruído (db): menor que 60db. Modos de operação: ventila. Velocidades (m/s) mínimo de 11. Vazão de ar: mínimo de 1300 m3/h. Temperatura somente ventilação. Recursos função automática. Saída de ar frontal e vertical. Entrada superior de ar. Direcionadores de ar vertical. Recirculação de ar (m3/m) maior que 25. Prazo de garantia de 01 ano. Item incluso: controle remoto. Cor branco. | E36: Peça | F36: 449052-34 | G36: 800 | I36: =H36-SUM(K36:V36) -> 0 | J36: =IF(I36<0,"ATENÇÃO","OK") -> OK
C37: 34 | D37: Instalação de Cortina de Ar do item 80. | E37: Serviço | F37: 339039-25 | G37: 200 | I37: =H37-SUM(K37:V37) -> 0 | J37: =IF(I37<0,"ATENÇÃO","OK") -> OK
C38: 35 | D38: Instalação completa de equipamento de ar-condicionado tipo "split" até 24.000 BTU/h incluindo até 3 metros de distância entre evaporadora e condensadora – Composto de 01 (uma) unidade evaporadora e 01 (uma) unidade condensadora. | E38: Serviço | F38: 339039-25 | G38: 550 | I38: =H38-SUM(K38:V38) -> 0 | J38: =IF(I38<0,"ATENÇÃO","OK") -> OK
C39: 36 | D39: Instalação completa de equipamento de ar-condicionado tipo "split" acima de 48.000 BTU/h incluindo até 3 metros de distância entre evaporadora e condensadora – Composto de 01 (uma) unidade evaporadora e 01 (uma) unidade condensadora. | E39: Serviço | F39: 339039-25 | G39: 900 | I39: =H39-SUM(K39:V39) -> 0 | J39: =IF(I39<0,"ATENÇÃO","OK") -> OK
C40: 37 | D40: Metro adicional de linha para instalação de split até 24.000 BTU/h. | E40: Metro | F40: 339039-25 | G40: 50 | I40: =H40-SUM(K40:V40) -> 0 | J40: =IF(I40<0,"ATENÇÃO","OK") -> OK
C41: 38 | D41: Metro adicional de linha para instalação de split acima de 48.000 BTU/h. | E41: Metro | F41: 339039-25 | G41: 70 | I41: =H41-SUM(K41:V41) -> 0 | J41: =IF(I41<0,"ATENÇÃO","OK") -> OK
C42: 39 | D42: Desinstalação de equipamento de ar-condicionado. | E42: Serviço | F42: 339039-25 | G42: 300 | I42: =H42-SUM(K42:V42) -> 0 | J42: =IF(I42<0,"ATENÇÃO","OK") -> OK

Sheet CERES
A1: PROCESSO: 1063/2015/UDESC - REL | D1: OBJETO: AQUISIÇÃO E INSTALAÇÃO DE APARELHOS DE AR CONDICIONADO PARA A UDESC - RELANÇAMENTO | H1: VIGÊNCIA DA ATA: 04/03/2016 até 03/03/2017 | K1: OS nº 652/2016 SGPe: 10033/2016 - CANCELADA | L1: AF nº 776/2016 SGPE: 10033/2016 | M1: AF/OS nº 950/2016 Proext | N1: AF/OS nº 1017/2016 Qtde. DT | O1: AF/OS nº xxxx/2016 Qtde. DT | P1: AF/OS nº xxxx/2016 Qtde. DT | Q1: AF/OS nº xxxx/2016 Qtde. DT | R1: AF/OS nº xxxx/2016 Qtde. DT | S1: AF/OS nº xxxx/2016 Qtde. DT | T1: AF/OS nº xxxx/2016 Qtde. DT | U1: AF/OS nº xxxx/2016 Qtde. DT | V1: AF/OS nº xxxx/2016 Qtde. DT
A2: CENTRO PARTICIPANTE: CERES
A3: FORNECEDOR | B3: LOTE | C3: ITEM | D3: PRODUTO - CARACTERÍSTICAS MÍNIMAS | E3: UNIDADE | F3: DETALHAMENTO | G3: Preço UNITÁRIO (R$) | H3: Qtde Registrada | I3: Saldo / Automático | J3: ALERTA | K3: 42536 | L3: 42565 | M3: 42604 | N3: 42615 | O3: ...../...../...... | P3: ...../...../...... | Q3: ...../...../...... | R3: ...../...../...... | S3: ...../...../...... | T3: ...../...../...... | U3: ...../...../...... | V3: ...../...../......
A4: E&AR EQUIPAMENTOS DE REFRIGERAÇÃO EIRELI EPP | B4: 1 | C4: 1 | D4: Aparelho de ar condicionado tipo Split High Wall (para parede), capacidade frigorífica nominal de 9.000 btu’s, 220 V, somente frio, com controle remoto (individual) sem fio e filtro de ar lavável. Selo PROCEL “A” . | E4: Peça | F4: 449052-34 | G4: 1480 | I4: =H4-SUM(K4:V4) -> 0 | J4: =IF(I4<0,"ATENÇÃO","OK") -> OK
C5: 2 | D5: Aparelho de ar condicionado tipo Split High Wall (para parede), ciclo quente e frio: controle remoto sem fio, capacidade nominal de no mínimo 9.000 btus; capacidade de desumidificar o ambiente e filtro de ar lavável, tensão 220 Volts, frequência 60 Hz. Selo PROCEL “A”. | E5: Peça | F5: 449052-34 | G5: 1585 | I5: =H5-SUM(K5:V5) -> 0 | J5: =IF(I5<0,"ATENÇÃO","OK") -> OK
C6: 3 | D6: Aparelho de ar condicionado tipo Split High Wall (para parede), ciclo somente frio, 220 V, capacidade frigorífica nominal de 12.000 btu’s somente frio, com controle remoto (individual) sem fio e filtro de ar lavável. Selo PROCEL “A”. | E6: Peça | F6: 449052-34 | G6: 1595 | H6: 2 | I6: =H6-SUM(K6:V6) -> 1 | J6: =IF(I6<0,"ATENÇÃO","OK") -> OK | M6: 1
C7: 4 | D7: Aparelho de ar condicionado tipo Split High Wall (para parede), ciclo quente e frio, capacidade frigorífica nominal de 12.000 btu’s, 220 V,com controle remoto (individual) sem fio e filtro de ar lavável. Selo PROCEL “A”. | E7: Peça | F7: 449052-34 | G7: 1685 | I7: =H7-SUM(K7:V7) -> 0 | J7: =IF(I7<0,"ATENÇÃO","OK") -> OK
C8: 5 | D8: Aparelho de ar condicionado tipo Split High Wall, (para parede), ciclo somente frio, capacidade frigorífica nominal de 18.000 btu’s, 220 V, com controle remoto (individual) sem fio e filtro de ar lavável. | E8: Peça | F8: 449052-34 | G8: 2200 | H8: 6 | I8: =H8-SUM(K8:V8) -> 6 | J8: =IF(I8<0,"ATENÇÃO","OK") -> OK
C9: 6 | D9: Aparelho de ar condicionado tipo Split High Wall (para parede), ciclo quente e frio, capacidade frigorífica nominal de 18.000 btu’s, 220 V,com controle remoto (individual) sem fio e filtro de ar lavável. | E9: Peça | F9: 449052-34 | G9: 2455 | I9: =H9-SUM(K9:V9) -> 0 | J9: =IF(I9<0,"ATENÇÃO","OK") -> OK
C10: 7 | D10: Aparelho de ar condicionado tipo Split Cassete, ciclo FRIO: controle remoto sem fio, capacidade nominal de no mínimo 18.000 btus; tensão 220 Volts. | E10: Peça | F10: 449052-34 | G10: 4265 | I10: =H10-SUM(K10:V10) -> 0 | J10: =IF(I10<0,"ATENÇÃO","OK") -> OK
C11: 8 | D11: Aparelho de ar condicionado tipo Split Piso Teto, capacidade frigorífica nominal 24.000 BTU’s, ciclo somente frio, 220 V, com controle remoto (individual), sem fio e filtro de ar lavável. | E11: Peça | F11: 449052-34 | G11: 4100 | I11: =H11-SUM(K11:V11) -> 0 | J11: =IF(I11<0,"ATENÇÃO","OK") -> OK
C12: 9 | D12: Aparelho de ar condicionado tipo Split High Wall (para parede), ciclo quente e frio, capacidade frigorífica nominal de 24.000 btu’s, 220 V, com controle remoto (individual) sem fio e filtro de ar lavável. | E12: Peça | F12: 449052-34 | G12: 2960 | I12: =H12-SUM(K12:V12) -> 0 | J12: =IF(I12<0,"ATENÇÃO","OK") -> OK
C13: 10 | D13: Aparelho de ar condicionado tipo Split Cassete, ciclo FRIO: controle remoto sem fio, capacidade nominal de no mínimo 24.000 btus; tensão 220 Volts. | E13: Peça | F13: 449052-34 | G13: 4985 | I13: =H13-SUM(K13:V13) -> 0 | J13: =IF(I13<0,"ATENÇÃO","OK") -> OK
C14: 11 | D14: Aparelho de ar condicionado tipo Split Piso Teto, ciclo somente frio, capacidade frigorífica nominal de 30.000 btu’s somente frio, 220 V, com controle remoto (individual) sem fio e filtro de ar lavável. | E14: Peça | F14: 449052-34 | G14: 4870 | I14: =H14-SUM(K14:V14) -> 0 | J14: =IF(I14<0,"ATENÇÃO","OK") -> OK
C15: 12 | D15: Aparelho de ar condicionado tipo Split High Wall (para parede), ciclo quente e frio, capacidade frigorífica nominal de 30.000 btu’s, 220 V, com controle remoto (individual) sem fio e filtro de ar lavável. | E15: Peça | F15: 449052-34 | G15: 4605 | H15: 8 | I15: =H15-SUM(K15:V15) -> 3 | J15: =IF(I15<0,"ATENÇÃO","OK") -> OK | L15: 5
C16: 13 | D16: Condicionador de Ar tipo Split Piso Teto – de 36.000 BTU’s ciclo somente frio, com controle remoto (individual) sem fio. | E16: Peça | F16: 449052-34 | G16: 5575 | I16: =H16-SUM(K16:V16) -> 0 | J16: =IF(I16<0,"ATENÇÃO","OK") -> OK
C17: 14 | D17: Condicionado de Ar tipo Split Piso Teto/Parede, capacidade frigorífica nominal de 36.000 btu’s, ciclos quente e frio, 220 V, com controle remoto sem fio e filtro de ar lavável. | E17: Peça | F17: 449052-34 | G17: 6005 | I17: =H17-SUM(K17:V17) -> 0 | J17: =IF(I17<0,"ATENÇÃO","OK") -> OK
C18: 15 | D18: Aparelho de ar condicionado tipo Split Cassete, ciclo FRIO: controle remoto sem fio, capacidade nominal de no mínimo 36.000 btus; tensão 220 Volts. | E18: Peça | F18: 449052-34 | G18: 7485 | I18: =H18-SUM(K18:V18) -> 0 | J18: =IF(I18<0,"ATENÇÃO","OK") -> OK
C19: 16 | D19: Condicionador de Ar tipo Split Piso Teto – de 48.000 BTU’s ciclo somente frio, com controle remoto (individual) sem fio e filtro de ar lavável. | E19: Peça | F19: 449052-34 | G19: 6820 | I19: =H19-SUM(K19:V19) -> 0 | J19: =IF(I19<0,"ATENÇÃO","OK") -> OK
C20: 17 | D20: Condicionador de Ar tipo Split Piso Teto, ciclo somente frio, 55.000 a 60.000 BTU´s, com controle remoto (individual sem fio). Trifásico 380V, com pressotato de alta e baixa, rele contra inversão de fase. Selo PROCEL até "E". | E20: Peça | F20: 449052-34 | G20: 7625 | I20: =H20-SUM(K20:V20) -> 0 | J20: =IF(I20<0,"ATENÇÃO","OK") -> OK
C21: 18 | D21: Condicionador de Ar tipo Split Piso Teto/Parede – de 55.000 a 60.000 BTU’s ciclos quente e frio, com controle remoto - trifásico 380 V, com pressotato de alta e baixa, rele contra inversão de fase. Selo PROCEL até "E". | E21: Peça | F21: 449052-34 | G21: 8225 | I21: =H21-SUM(K21:V21) -> 0 | J21: =IF(I21<0,"ATENÇÃO","OK") -> OK
C22: 19 | D22: Aparelho de ar condicionado tipo Split Cassete, capacidade nominal de no mínimo 55.000 a 60.000 BTU’s ciclo frio, com controle remoto - trifásico 380 V, com pressotato de alta e baixa, rele contra inversão de fase. | E22: Peça | F22: 449052-34 | G22: 8700 | I22: =H22-SUM(K22:V22) -> 0 | J22: =IF(I22<0,"ATENÇÃO","OK") -> OK
C23: 20 | D23: Cortina de Ar. Dimensões aproximadas: (L X A XP): 150 x 23 x 22cm , podendo ter pequena variação de tamanho, dependendo da marca do produto. Monofásico, 220 Volts. Potência (c/v) mínimo de 1/5. Nível máximo de ruído (db): menor que 60db. Modos de operação: ventila. Velocidades (m/s) mínimo de 11. Vazão de ar: mínimo de 1300 m3/h. Temperatura somente ventilação. Recursos função automática. Saída de ar frontal e vertical. Entrada superior de ar. Direcionadores de ar vertical. Recirculação de ar (m3/m) maior que 25. Prazo de garantia de 01 ano. Item incluso: controle remoto. Cor branco. | E23: Peça | F23: 449052-34 | G23: 830 | I23: =H23-SUM(K23:V23) -> 0 | J23: =IF(I23<0,"ATENÇÃO","OK") -> OK
C24: 21 | D24: Instalação de Cortina de Ar do item 54. | E24: Serviço | F24: 339039-25 | G24: 220 | I24: =H24-SUM(K24:V24) -> 0 | J24: =IF(I24<0,"ATENÇÃO","OK") -> OK
C25: 22 | D25: Instalação completa de equipamento de ar-condicionado tipo "split" até 24.000 BTU/h incluindo até 3 metros de distância entre evaporadora e condensadora – Composto de 01 (uma) unidade evaporadora e 01 (uma) unidade condensadora. | E25: Serviço | F25: 339039-25 | G25: 600 | H25: 16 | I25: =H25-SUM(K25:V25) -> 13 | J25: =IF(I25<0,"ATENÇÃO","OK") -> OK | N25: 3
C26: 23 | D26: Instalação completa de equipamento de ar-condicionado tipo "split" de 25.000 a 48.000 BTU/h incluindo até 3 metros de distância entre evaporadora e condensadora – Composto de 01 (uma) unidade evaporadora e 01 (uma) unidade condensadora. | E26: Serviço | F26: 339039-25 | G26: 815 | H26: 12 | I26: =H26-SUM(K26:V26) -> 7 | J26: =IF(I26<0,"ATENÇÃO","OK") -> OK | N26: 5
C27: 24 | D27: Instalação completa de equipamento de ar-condicionado tipo "split" acima de 48.000 BTU/h incluindo até 3 metros de distância entre evaporadora e condensadora – Composto de 01 (uma) unidade evaporadora e 01 (uma) unidade condensadora. | E27: Serviço | F27: 339039-25 | G27: 1010 | I27: =H27-SUM(K27:V27) -> 0 | J27: =IF(I27<0,"ATENÇÃO","OK") -> OK
C28: 25 | D28: Metro adicional de linha para instalação de split até 24.000 BTU/h. | E28: Metro | F28: 339039-25 | G28: 55 | H28: 16 | I28: =H28-SUM(K28:V28) -> 16 | J28: =IF(I28<0,"ATENÇÃO","OK") -> OK
C29: 26 | D29: Metro adicional de linha para instalação de split de 25.000 a 48.000 BTU/h. | E29: Metro | F29: 339039-25 | G29: 63 | H29: 12 | I29: =H29-SUM(K29:V29) -> 5 | J29: =IF(I29<0,"ATENÇÃO","OK") -> OK | N29: 7
C30: 27 | D30: Metro adicional de linha para instalação de split acima de 48.000 BTU/h. | E30: Metro | F30: 339039-25 | G30: 76 | I30: =H30-SUM(K30:V30) -> 0 | J30: =IF(I30<0,"ATENÇÃO","OK") -> OK
C31: 28 | D31: Desinstalação de equipamento de ar-condicionado. | E31: Serviço | F31: 339039-25 | G31: 302 | H31: 5 | I31: =H31-SUM(K31:V31) -> 4 | J31: =IF(I31<0,"ATENÇÃO","OK") -> OK | N31: 1
A32: E&AR EQUIPAMENTOS DE REFRIGERAÇÃO EIRELI EPP | B32: 2 | C32: 29 | D32: Aparelho de ar condicionado tipo Split High Wall (para parede), ciclo somente frio, 220 V, capacidade frigorífica nominal de 12.000 btu’s somente frio, com controle remoto (individual) sem fio e filtro de ar lavável. Selo PROCEL “A”. | E32: Peça | F32: 449052-34 | G32: 1500 | I32: =H32-SUM(K32:V32) -> 0 | J32: =IF(I32<0,"ATENÇÃO","OK") -> OK
C33: 30 | D33: Aparelho de ar condicionado tipo Split High Wall, (para parede), ciclo somente frio, capacidade frigorífica nominal de 18.000 btu’s, 220 V, com controle remoto (individual) sem fio e filtro de ar lavável. | E33: Peça | F33: 449052-34 | G33: 2200 | I33: =H33-SUM(K33:V33) -> 0 | J33: =IF(I33<0,"ATENÇÃO","OK") -> OK
C34: 31 | D34: Aparelho de ar condicionado tipo Split Piso Teto, capacidade frigorífica nominal 24.000 BTU’s, ciclo somente frio, 220 V, com controle remoto (individual), sem fio e filtro de ar lavável. | E34: Peça | F34: 449052-34 | G34: 4150 | I34: =H34-SUM(K34:V34) -> 0 | J34: =IF(I34<0,"ATENÇÃO","OK") -> OK
C35: 32 | D35: Condicionador de Ar ti Split Piso Teto, ciclo somente frio, 55.000 a 60.000 BTU´s, com controle remoto (individual sem fio). Trifásico 380V, com pressotato de alta e baixa, rele contra inversão de fase. Selo PROCEL até "E". | E35: Peça | F35: 449052-34 | G35: 7525 | I35: =H35-SUM(K35:V35) -> 0 | J35: =IF(I35<0,"ATENÇÃO","OK") -> OK
C36: 33 | D36: Cortina de Ar. Dimensões aproximadas: (L X A XP): 150 x 23 x 22cm , podendo ter pequena variação de tamanho, dependendo da marca do produto. Monofásico, 220 Volts. Potência (c/v) mínimo de 1/5. Nível máximo de ruído (db): menor que 60db. Modos de operação: ventila. Velocidades (m/s) mínimo de 11. Vazão de ar: mínimo de 1300 m3/h. Temperatura somente ventilação. Recursos função automática. Saída de ar frontal e vertical. Entrada superior de ar. Direcionadores de ar vertical. Recirculação de ar (m3/m) maior que 25. Prazo de garantia de 01 ano. Item incluso: controle remoto. Cor branco. | E36: Peça | F36: 449052-34 | G36: 800 | I36: =H36-SUM(K36:V36) -> 0 | J36: =IF(I36<0,"ATENÇÃO","OK") -> OK
C37: 34 | D37: Instalação de Cortina de Ar do item 80. | E37: Serviço | F37: 339039-25 | G37: 200 | I37: =H37-SUM(K37:V37) -> 0 | J37: =IF(I37<0,"ATENÇÃO","OK") -> OK
C38: 35 | D38: Instalação completa de equipamento de ar-condicionado tipo "split" até 24.000 BTU/h incluindo até 3 metros de distância entre evaporadora e condensadora – Composto de 01 (uma) unidade evaporadora e 01 (uma) unidade condensadora. | E38: Serviço | F38: 339039-25 | G38: 550 | I38: =H38-SUM(K38:V38) -> 0 | J38: =IF(I38<0,"ATENÇÃO","OK") -> OK
C39: 36 | D39: Instalação completa de equipamento de ar-condicionado tipo "split" acima de 48.000 BTU/h incluindo até 3 metros de distância entre evaporadora e condensadora – Composto de 01 (uma) unidade evaporadora e 01 (uma) unidade condensadora. | E39: Serviço | F39: 339039-25 | G39: 900 | I39: =H39-SUM(K39:V39) -> 0 | J39: =IF(I39<0,"ATENÇÃO","OK") -> OK
C40: 37 | D40: Metro adicional de linha para instalação de split até 24.000 BTU/h. | E40: Metro | F40: 339039-25 | G40: 50 | I40: =H40-SUM(K40:V40) -> 0 | J40: =IF(I40<0,"ATENÇÃO","OK") -> OK
C41: 38 | D41: Metro adicional de linha para instalação de split acima de 48.000 BTU/h. | E41: Metro | F41: 339039-25 | G41: 70 | I41: =H41-SUM(K41:V41) -> 0 | J41: =IF(I41<0,"ATENÇÃO","OK") -> OK
C42: 39 | D42: Desinstalação de equipamento de ar-condicionado. | E42: Serviço | F42: 339039-25 | G42: 300 | I42: =H42-SUM(K42:V42) -> 0 | J42: =IF(I42<0,"ATENÇÃO","OK") -> OK

Sheet CESFI
A1: PROCESSO: 1063/2015/UDESC - REL | D1: OBJETO: AQUISIÇÃO E INSTALAÇÃO DE APARELHOS DE AR CONDICIONADO PARA A UDESC - RELANÇAMENTO | H1: VIGÊNCIA DA ATA: 04/03/2016 até 03/03/2017 | K1: AF/OS nº 309/2016 Qtde. DT | L1: AF/OS nº xxxx/2016 Qtde. DT | M1: AF/OS nº xxxx/2016 Qtde. DT | N1: AF/OS nº xxxx/2016 Qtde. DT | O1: AF/OS nº xxxx/2016 Qtde. DT | P1: AF/OS nº xxxx/2016 Qtde. DT | Q1: AF/OS nº xxxx/2016 Qtde. DT | R1: AF/OS nº xxxx/2016 Qtde. DT | S1: AF/OS nº xxxx/2016 Qtde. DT | T1: AF/OS nº xxxx/2016 Qtde. DT | U1: AF/OS nº xxxx/2016 Qtde. DT | V1: AF/OS nº xxxx/2016 Qtde. DT
A2: CENTRO PARTICIPANTE: CESFI
A3: FORNECEDOR | B3: LOTE | C3: ITEM | D3: PRODUTO - CARACTERÍSTICAS MÍNIMAS | E3: UNIDADE | F3: DETALHAMENTO | G3: Preço UNITÁRIO (R$) | H3: Qtde Registrada | I3: Saldo / Automático | J3: ALERTA | K3: 42459 | L3: ...../...../...... | M3: ...../...../...... | N3: ...../...../...... | O3: ...../...../...... | P3: ...../...../...... | Q3: ...../...../...... | R3: ...../...../...... | S3: ...../...../...... | T3: ...../...../...... | U3: ...../...../...... | V3: ...../...../......
A4: E&AR EQUIPAMENTOS DE REFRIGERAÇÃO EIRELI EPP | B4: 1 | C4: 1 | D4: Aparelho de ar condicionado tipo Split High Wall (para parede), capacidade frigorífica nominal de 9.000 btu’s, 220 V, somente frio, com controle remoto (individual) sem fio e filtro de ar lavável. Selo PROCEL “A” . | E4: Peça | F4: 449052-34 | G4: 1480 | I4: =H4-SUM(K4:V4) -> 0 | J4: =IF(I4<0,"ATENÇÃO","OK") -> OK
C5: 2 | D5: Aparelho de ar condicionado tipo Split High Wall (para parede), ciclo quente e frio: controle remoto sem fio, capacidade nominal de no mínimo 9.000 btus; capacidade de desumidificar o ambiente e filtro de ar lavável, tensão 220 Volts, frequência 60 Hz. Selo PROCEL “A”. | E5: Peça | F5: 449052-34 | G5: 1585 | H5: 5 | I5: =H5-SUM(K5:V5) -> 4 | J5: =IF(I5<0,"ATENÇÃO","OK") -> OK | K5: 1
C6: 3 | D6: Aparelho de ar condicionado tipo Split High Wall (para parede), ciclo somente frio, 220 V, capacidade frigorífica nominal de 12.000 btu’s somente frio, com controle remoto (individual) sem fio e filtro de ar lavável. Selo PROCEL “A”. | E6: Peça | F6: 449052-34 | G6: 1595 | I6: =H6-SUM(K6:V6) -> 0 | J6: =IF(I6<0,"ATENÇÃO","OK") -> OK
C7: 4 | D7: Aparelho de ar condicionado tipo Split High Wall (para parede), ciclo quente e frio, capacidade frigorífica nominal de 12.000 btu’s, 220 V,com controle remoto (individual) sem fio e filtro de ar lavável. Selo PROCEL “A”. | E7: Peça | F7: 449052-34 | G7: 1685 | H7: 5 | I7: =H7-SUM(K7:V7) -> 4 | J7: =IF(I7<0,"ATENÇÃO","OK") -> OK | K7: 1
C8: 5 | D8: Aparelho de ar condicionado tipo Split High Wall, (para parede), ciclo somente frio, capacidade frigorífica nominal de 18.000 btu’s, 220 V, com controle remoto (individual) sem fio e filtro de ar lavável. | E8: Peça | F8: 449052-34 | G8: 2200 | I8: =H8-SUM(K8:V8) -> 0 | J8: =IF(I8<0,"ATENÇÃO","OK") -> OK
C9: 6 | D9: Aparelho de ar condicionado tipo Split High Wall (para parede), ciclo quente e frio, capacidade frigorífica nominal de 18.000 btu’s, 220 V,com controle remoto (individual) sem fio e filtro de ar lavável. | E9: Peça | F9: 449052-34 | G9: 2455 | H9: 5 | I9: =H9-SUM(K9:V9) -> 4 | J9: =IF(I9<0,"ATENÇÃO","OK") -> OK | K9: 1
C10: 7 | D10: Aparelho de ar condicionado tipo Split Cassete, ciclo FRIO: controle remoto sem fio, capacidade nominal de no mínimo 18.000 btus; tensão 220 Volts. | E10: Peça | F10: 449052-34 | G10: 4265 | I10: =H10-SUM(K10:V10) -> 0 | J10: =IF(I10<0,"ATENÇÃO","OK") -> OK
C11: 8 | D11: Aparelho de ar condicionado tipo Split Piso Teto, capacidade frigorífica nominal 24.000 BTU’s, ciclo somente frio, 220 V, com controle remoto (individual), sem fio e filtro de ar lavável. | E11: Peça | F11: 449052-34 | G11: 4100 | I11: =H11-SUM(K11:V11) -> 0 | J11: =IF(I11<0,"ATENÇÃO","OK") -> OK
C12: 9 | D12: Aparelho de ar condicionado tipo Split High Wall (para parede), ciclo quente e frio, capacidade frigorífica nominal de 24.000 btu’s, 220 V, com controle remoto (individual) sem fio e filtro de ar lavável. | E12: Peça | F12: 449052-34 | G12: 2960 | H12: 5 | I12: =H12-SUM(K12:V12) -> 5 | J12: =IF(I12<0,"ATENÇÃO","OK") -> OK
C13: 10 | D13: Aparelho de ar condicionado tipo Split Cassete, ciclo FRIO: controle remoto sem fio, capacidade nominal de no mínimo 24.000 btus; tensão 220 Volts. | E13: Peça | F13: 449052-34 | G13: 4985 | I13: =H13-SUM(K13:V13) -> 0 | J13: =IF(I13<0,"ATENÇÃO","OK") -> OK
C14: 11 | D14: Aparelho de ar condicionado tipo Split Piso Teto, ciclo somente frio, capacidade frigorífica nominal de 30.000 btu’s somente frio, 220 V, com controle remoto (individual) sem fio e filtro de ar lavável. | E14: Peça | F14: 449052-34 | G14: 4870 | I14: =H14-SUM(K14:V14) -> 0 | J14: =IF(I14<0,"ATENÇÃO","OK") -> OK
C15: 12 | D15: Aparelho de ar condicionado tipo Split High Wall (para parede), ciclo quente e frio, capacidade frigorífica nominal de 30.000 btu’s, 220 V, com controle remoto (individual) sem fio e filtro de ar lavável. | E15: Peça | F15: 449052-34 | G15: 4605 | H15: 5 | I15: =H15-SUM(K15:V15) -> 5 | J15: =IF(I15<0,"ATENÇÃO","OK") -> OK
C16: 13 | D16: Condicionador de Ar tipo Split Piso Teto – de 36.000 BTU’s ciclo somente frio, com controle remoto (individual) sem fio. | E16: Peça | F16: 449052-34 | G16: 5575 | I16: =H16-SUM(K16:V16) -> 0 | J16: =IF(I16<0,"ATENÇÃO","OK") -> OK
C17: 14 | D17: Condicionado de Ar tipo Split Piso Teto/Parede, capacidade frigorífica nominal de 36.000 btu’s, ciclos quente e frio, 220 V, com controle remoto sem fio e filtro de ar lavável. | E17: Peça | F17: 449052-34 | G17: 6005 | H17: 5 | I17: =H17-SUM(K17:V17) -> 5 | J17: =IF(I17<0,"ATENÇÃO","OK") -> OK
C18: 15 | D18: Aparelho de ar condicionado tipo Split Cassete, ciclo FRIO: controle remoto sem fio, capacidade nominal de no mínimo 36.000 btus; tensão 220 Volts. | E18: Peça | F18: 449052-34 | G18: 7485 | I18: =H18-SUM(K18:V18) -> 0 | J18: =IF(I18<0,"ATENÇÃO","OK") -> OK
C19: 16 | D19: Condicionador de Ar tipo Split Piso Teto – de 48.000 BTU’s ciclo somente frio, com controle remoto (individual) sem fio e filtro de ar lavável. | E19: Peça | F19: 449052-34 | G19: 6820 | I19: =H19-SUM(K19:V19) -> 0 | J19: =IF(I19<0,"ATENÇÃO","OK") -> OK
C20: 17 | D20: Condicionador de Ar tipo Split Piso Teto, ciclo somente frio, 55.000 a 60.000 BTU´s, com controle remoto (individual sem fio). Trifásico 380V, com pressotato de alta e baixa, rele contra inversão de fase. Selo PROCEL até "E". | E20: Peça | F20: 449052-34 | G20: 7625 | I20: =H20-SUM(K20:V20) -> 0 | J20: =IF(I20<0,"ATENÇÃO","OK") -> OK
C21: 18 | D21: Condicionador de Ar tipo Split Piso Teto/Parede – de 55.000 a 60.000 BTU’s ciclos quente e frio, com controle remoto - trifásico 380 V, com pressotato de alta e baixa, rele contra inversão de fase. Selo PROCEL até "E". | E21: Peça | F21: 449052-34 | G21: 8225 | H21: 5 | I21: =H21-SUM(K21:V21) -> 5 | J21: =IF(I21<0,"ATENÇÃO","OK") -> OK
C22: 19 | D22: Aparelho de ar condicionado tipo Split Cassete, capacidade nominal de no mínimo 55.000 a 60.000 BTU’s ciclo frio, com controle remoto - trifásico 380 V, com pressotato de alta e baixa, rele contra inversão de fase. | E22: Peça | F22: 449052-34 | G22: 8700 | I22: =H22-SUM(K22:V22) -> 0 | J22: =IF(I22<0,"ATENÇÃO","OK") -> OK
C23: 20 | D23: Cortina de Ar. Dimensões aproximadas: (L X A XP): 150 x 23 x 22cm , podendo ter pequena variação de tamanho, dependendo da marca do produto. Monofásico, 220 Volts. Potência (c/v) mínimo de 1/5. Nível máximo de ruído (db): menor que 60db. Modos de operação: ventila. Velocidades (m/s) mínimo de 11. Vazão de ar: mínimo de 1300 m3/h. Temperatura somente ventilação. Recursos função automática. Saída de ar frontal e vertical. Entrada superior de ar. Direcionadores de ar vertical. Recirculação de ar (m3/m) maior que 25. Prazo de garantia de 01 ano. Item incluso: controle remoto. Cor branco. | E23: Peça | F23: 449052-34 | G23: 830 | H23: 5 | I23: =H23-SUM(K23:V23) -> 5 | J23: =IF(I23<0,"ATENÇÃO","OK") -> OK
C24: 21 | D24: Instalação de Cortina de Ar do item 54. | E24: Serviço | F24: 339039-25 | G24: 220 | H24: 5 | I24: =H24-SUM(K24:V24) -> 5 | J24: =IF(I24<0,"ATENÇÃO","OK") -> OK
C25: 22 | D25: Instalação completa de equipamento de ar-condicionado tipo "split" até 24.000 BTU/h incluindo até 3 metros de distância entre evaporadora e condensadora – Composto de 01 (uma) unidade evaporadora e 01 (uma) unidade condensadora. | E25: Serviço | F25: 339039-25 | G25: 600 | H25: 35 | I25: =H25-SUM(K25:V25) -> 32 | J25: =IF(I25<0,"ATENÇÃO","OK") -> OK | K25: 3
C26: 23 | D26: Instalação completa de equipamento de ar-condicionado tipo "split" de 25.000 a 48.000 BTU/h incluindo até 3 metros de distância entre evaporadora e condensadora – Composto de 01 (uma) unidade evaporadora e 01 (uma) unidade condensadora. | E26: Serviço | F26: 339039-25 | G26: 815 | H26: 20 | I26: =H26-SUM(K26:V26) -> 20 | J26: =IF(I26<0,"ATENÇÃO","OK") -> OK
C27: 24 | D27: Instalação completa de equipamento de ar-condicionado tipo "split" acima de 48.000 BTU/h incluindo até 3 metros de distância entre evaporadora e condensadora – Composto de 01 (uma) unidade evaporadora e 01 (uma) unidade condensadora. | E27: Serviço | F27: 339039-25 | G27: 1010 | H27: 15 | I27: =H27-SUM(K27:V27) -> 15 | J27: =IF(I27<0,"ATENÇÃO","OK") -> OK
C28: 25 | D28: Metro adicional de linha para instalação de split até 24.000 BTU/h. | E28: Metro | F28: 339039-25 | G28: 55 | H28: 20 | I28: =H28-SUM(K28:V28) -> 20 | J28: =IF(I28<0,"ATENÇÃO","OK") -> OK
C29: 26 | D29: Metro adicional de linha para instalação de split de 25.000 a 48.000 BTU/h. | E29: Metro | F29: 339039-25 | G29: 63 | H29: 40 | I29: =H29-SUM(K29:V29) -> 40 | J29: =IF(I29<0,"ATENÇÃO","OK") -> OK
C30: 27 | D30: Metro adicional de linha para instalação de split acima de 48.000 BTU/h. | E30: Metro | F30: 339039-25 | G30: 76 | H30: 30 | I30: =H30-SUM(K30:V30) -> 30 | J30: =IF(I30<0,"ATENÇÃO","OK") -> OK
C31: 28 | D31: Desinstalação de equipamento de ar-condicionado. | E31: Serviço | F31: 339039-25 | G31: 302 | H31: 20 | I31: =H31-SUM(K31:V31) -> 20 | J31: =IF(I31<0,"ATENÇÃO","OK") -> OK
A32: E&AR EQUIPAMENTOS DE REFRIGERAÇÃO EIRELI EPP | B32: 2 | C32: 29 | D32: Aparelho de ar condicionado tipo Split High Wall (para parede), ciclo somente frio, 220 V, capacidade frigorífica nominal de 12.000 btu’s somente frio, com controle remoto (individual) sem fio e filtro de ar lavável. Selo PROCEL “A”. | E32: Peça | F32: 449052-34 | G32: 1500 | I32: =H32-SUM(K32:V32) -> 0 | J32: =IF(I32<0,"ATENÇÃO","OK") -> OK
C33: 30 | D33: Aparelho de ar condicionado tipo Split High Wall, (para parede), ciclo somente frio, capacidade frigorífica nominal de 18.000 btu’s, 220 V, com controle remoto (individual) sem fio e filtro de ar lavável. | E33: Peça | F33: 449052-34 | G33: 2200 | I33: =H33-SUM(K33:V33) -> 0 | J33: =IF(I33<0,"ATENÇÃO","OK") -> OK
C34: 31 | D34: Aparelho de ar condicionado tipo Split Piso Teto, capacidade frigorífica nominal 24.000 BTU’s, ciclo somente frio, 220 V, com controle remoto (individual), sem fio e filtro de ar lavável. | E34: Peça | F34: 449052-34 | G34: 4150 | I34: =H34-SUM(K34:V34) -> 0 | J34: =IF(I34<0,"ATENÇÃO","OK") -> OK
C35: 32 | D35: Condicionador de Ar ti Split Piso Teto, ciclo somente frio, 55.000 a 60.000 BTU´s, com controle remoto (individual sem fio). Trifásico 380V, com pressotato de alta e baixa, rele contra inversão de fase. Selo PROCEL até "E". | E35: Peça | F35: 449052-34 | G35: 7525 | I35: =H35-SUM(K35:V35) -> 0 | J35: =IF(I35<0,"ATENÇÃO","OK") -> OK
C36: 33 | D36: Cortina de Ar. Dimensões aproximadas: (L X A XP): 150 x 23 x 22cm , podendo ter pequena variação de tamanho, dependendo da marca do produto. Monofásico, 220 Volts. Potência (c/v) mínimo de 1/5. Nível máximo de ruído (db): menor que 60db. Modos de operação: ventila. Velocidades (m/s) mínimo de 11. Vazão de ar: mínimo de 1300 m3/h. Temperatura somente ventilação. Recursos função automática. Saída de ar frontal e vertical. Entrada superior de ar. Direcionadores de ar vertical. Recirculação de ar (m3/m) maior que 25. Prazo de garantia de 01 ano. Item incluso: controle remoto. Cor branco. | E36: Peça | F36: 449052-34 | G36: 800 | I36: =H36-SUM(K36:V36) -> 0 | J36: =IF(I36<0,"ATENÇÃO","OK") -> OK
C37: 34 | D37: Instalação de Cortina de Ar do item 80. | E37: Serviço | F37: 339039-25 | G37: 200 | I37: =H37-SUM(K37:V37) -> 0 | J37: =IF(I37<0,"ATENÇÃO","OK") -> OK
C38: 35 | D38: Instalação completa de equipamento de ar-condicionado tipo "split" até 24.000 BTU/h incluindo até 3 metros de distância entre evaporadora e condensadora – Composto de 01 (uma) unidade evaporadora e 01 (uma) unidade condensadora. | E38: Serviço | F38: 339039-25 | G38: 550 | I38: =H38-SUM(K38:V38) -> 0 | J38: =IF(I38<0,"ATENÇÃO","OK") -> OK
C39: 36 | D39: Instalação completa de equipamento de ar-condicionado tipo "split" acima de 48.000 BTU/h incluindo até 3 metros de distância entre evaporadora e condensadora – Composto de 01 (uma) unidade evaporadora e 01 (uma) unidade condensadora. | E39: Serviço | F39: 339039-25 | G39: 900 | I39: =H39-SUM(K39:V39) -> 0 | J39: =IF(I39<0,"ATENÇÃO","OK") -> OK
C40: 37 | D40: Metro adicional de linha para instalação de split até 24.000 BTU/h. | E40: Metro | F40: 339039-25 | G40: 50 | I40: =H40-SUM(K40:V40) -> 0 | J40: =IF(I40<0,"ATENÇÃO","OK") -> OK
C41: 38 | D41: Metro adicional de linha para instalação de split acima de 48.000 BTU/h. | E41: Metro | F41: 339039-25 | G41: 70 | I41: =H41-SUM(K41:V41) -> 0 | J41: =IF(I41<0,"ATENÇÃO","OK") -> OK
C42: 39 | D42: Desinstalação de equipamento de ar-condicionado. | E42: Serviço | F42: 339039-25 | G42: 300 | I42: =H42-SUM(K42:V42) -> 0 | J42: =IF(I42<0,"ATENÇÃO","OK") -> OK

Sheet CCT
A1: PROCESSO: 1063/2015/UDESC - REL | D1: OBJETO: AQUISIÇÃO E INSTALAÇÃO DE APARELHOS DE AR CONDICIONADO PARA A UDESC - RELANÇAMENTO | H1: VIGÊNCIA DA ATA: 04/03/2016 até 03/03/2017 | K1: AF/OS nº 937/2016 Qtde. DT | L1: AF/OS nº xxxx/2016 Qtde. DT | M1: AF/OS nº xxxx/2016 Qtde. DT | N1: AF/OS nº xxxx/2016 Qtde. DT | O1: AF/OS nº xxxx/2016 Qtde. DT | P1: AF/OS nº xxxx/2016 Qtde. DT | Q1: AF/OS nº xxxx/2016 Qtde. DT | R1: AF/OS nº xxxx/2016 Qtde. DT | S1: AF/OS nº xxxx/2016 Qtde. DT | T1: AF/OS nº xxxx/2016 Qtde. DT | U1: AF/OS nº xxxx/2016 Qtde. DT | V1: AF/OS nº xxxx/2016 Qtde. DT
A2: CENTRO PARTICIPANTE: CCT
A3: FORNECEDOR | B3: LOTE | C3: ITEM | D3: PRODUTO - CARACTERÍSTICAS MÍNIMAS | E3: UNIDADE | F3: DETALHAMENTO | G3: Preço UNITÁRIO (R$) | H3: Qtde Registrada | I3: Saldo / Automático | J3: ALERTA | K3: 42611 | L3: ...../...../...... | M3: ...../...../...... | N3: ...../...../...... | O3: ...../...../...... | P3: ...../...../...... | Q3: ...../...../...... | R3: ...../...../...... | S3: ...../...../...... | T3: ...../...../...... | U3: ...../...../...... | V3: ...../...../......
A4: E&AR EQUIPAMENTOS DE REFRIGERAÇÃO EIRELI EPP | B4: 1 | C4: 1 | D4: Aparelho de ar condicionado tipo Split High Wall (para parede), capacidade frigorífica nominal de 9.000 btu’s, 220 V, somente frio, com controle remoto (individual) sem fio e filtro de ar lavável. Selo PROCEL “A” . | E4: Peça | F4: 449052-34 | G4: 1480 | I4: =H4-SUM(K4:V4) -> 0 | J4: =IF(I4<0,"ATENÇÃO","OK") -> OK
C5: 2 | D5: Aparelho de ar condicionado tipo Split High Wall (para parede), ciclo quente e frio: controle remoto sem fio, capacidade nominal de no mínimo 9.000 btus; capacidade de desumidificar o ambiente e filtro de ar lavável, tensão 220 Volts, frequência 60 Hz. Selo PROCEL “A”. | E5: Peça | F5: 449052-34 | G5: 1585 | I5: =H5-SUM(K5:V5) -> 0 | J5: =IF(I5<0,"ATENÇÃO","OK") -> OK
C6: 3 | D6: Aparelho de ar condicionado tipo Split High Wall (para parede), ciclo somente frio, 220 V, capacidade frigorífica nominal de 12.000 btu’s somente frio, com controle remoto (individual) sem fio e filtro de ar lavável. Selo PROCEL “A”. | E6: Peça | F6: 449052-34 | G6: 1595 | I6: =H6-SUM(K6:V6) -> 0 | J6: =IF(I6<0,"ATENÇÃO","OK") -> OK
C7: 4 | D7: Aparelho de ar condicionado tipo Split High Wall (para parede), ciclo quente e frio, capacidade frigorífica nominal de 12.000 btu’s, 220 V,com controle remoto (individual) sem fio e filtro de ar lavável. Selo PROCEL “A”. | E7: Peça | F7: 449052-34 | G7: 1685 | I7: =H7-SUM(K7:V7) -> 0 | J7: =IF(I7<0,"ATENÇÃO","OK") -> OK
C8: 5 | D8: Aparelho de ar condicionado tipo Split High Wall, (para parede), ciclo somente frio, capacidade frigorífica nominal de 18.000 btu’s, 220 V, com controle remoto (individual) sem fio e filtro de ar lavável. | E8: Peça | F8: 449052-34 | G8: 2200 | I8: =H8-SUM(K8:V8) -> 0 | J8: =IF(I8<0,"ATENÇÃO","OK") -> OK
C9: 6 | D9: Aparelho de ar condicionado tipo Split High Wall (para parede), ciclo quente e frio, capacidade frigorífica nominal de 18.000 btu’s, 220 V,com controle remoto (individual) sem fio e filtro de ar lavável. | E9: Peça | F9: 449052-34 | G9: 2455 | I9: =H9-SUM(K9:V9) -> 0 | J9: =IF(I9<0,"ATENÇÃO","OK") -> OK
C10: 7 | D10: Aparelho de ar condicionado tipo Split Cassete, ciclo FRIO: controle remoto sem fio, capacidade nominal de no mínimo 18.000 btus; tensão 220 Volts. | E10: Peça | F10: 449052-34 | G10: 4265 | I10: =H10-SUM(K10:V10) -> 0 | J10: =IF(I10<0,"ATENÇÃO","OK") -> OK
C11: 8 | D11: Aparelho de ar condicionado tipo Split Piso Teto, capacidade frigorífica nominal 24.000 BTU’s, ciclo somente frio, 220 V, com controle remoto (individual), sem fio e filtro de ar lavável. | E11: Peça | F11: 449052-34 | G11: 4100 | I11: =H11-SUM(K11:V11) -> 0 | J11: =IF(I11<0,"ATENÇÃO","OK") -> OK
C12: 9 | D12: Aparelho de ar condicionado tipo Split High Wall (para parede), ciclo quente e frio, capacidade frigorífica nominal de 24.000 btu’s, 220 V, com controle remoto (individual) sem fio e filtro de ar lavável. | E12: Peça | F12: 449052-34 | G12: 2960 | I12: =H12-SUM(K12:V12) -> 0 | J12: =IF(I12<0,"ATENÇÃO","OK") -> OK
C13: 10 | D13: Aparelho de ar condicionado tipo Split Cassete, ciclo FRIO: controle remoto sem fio, capacidade nominal de no mínimo 24.000 btus; tensão 220 Volts. | E13: Peça | F13: 449052-34 | G13: 4985 | I13: =H13-SUM(K13:V13) -> 0 | J13: =IF(I13<0,"ATENÇÃO","OK") -> OK
C14: 11 | D14: Aparelho de ar condicionado tipo Split Piso Teto, ciclo somente frio, capacidade frigorífica nominal de 30.000 btu’s somente frio, 220 V, com controle remoto (individual) sem fio e filtro de ar lavável. | E14: Peça | F14: 449052-34 | G14: 4870 | I14: =H14-SUM(K14:V14) -> 0 | J14: =IF(I14<0,"ATENÇÃO","OK") -> OK
C15: 12 | D15: Aparelho de ar condicionado tipo Split High Wall (para parede), ciclo quente e frio, capacidade frigorífica nominal de 30.000 btu’s, 220 V, com controle remoto (individual) sem fio e filtro de ar lavável. | E15: Peça | F15: 449052-34 | G15: 4605 | I15: =H15-SUM(K15:V15) -> 0 | J15: =IF(I15<0,"ATENÇÃO","OK") -> OK
C16: 13 | D16: Condicionador de Ar tipo Split Piso Teto – de 36.000 BTU’s ciclo somente frio, com controle remoto (individual) sem fio. | E16: Peça | F16: 449052-34 | G16: 5575 | I16: =H16-SUM(K16:V16) -> 0 | J16: =IF(I16<0,"ATENÇÃO","OK") -> OK
... C31: 28 | D31: Desinstalação de equipamento de ar-condicionado. | E31: Serviço | F31: 339039-25 | G31: 302 | I31: =H31-SUM(K31:V31) -> 0 | J31: =IF(I31<0,"ATENÇÃO","OK") -> OK
A32: E&AR EQUIPAMENTOS DE REFRIGERAÇÃO EIRELI EPP | B32: 2 | C32: 29 | D32: Aparelho de ar condicionado tipo Split High Wall (para parede), ciclo somente frio, 220 V, capacidade frigorífica nominal de 12.000 btu’s somente frio, com controle remoto (individual) sem fio e filtro de ar lavável. Selo PROCEL “A”. | E32: Peça | F32: 449052-34 | G32: 1500 | H32: 15 | I32: =H32-SUM(K32:V32) -> 15 | J32: =IF(I32<0,"ATENÇÃO","OK") -> OK
C33: 30 | D33: Aparelho de ar condicionado tipo Split High Wall, (para parede), ciclo somente frio, capacidade frigorífica nominal de 18.000 btu’s, 220 V, com controle remoto (individual) sem fio e filtro de ar lavável. | E33: Peça | F33: 449052-34 | G33: 2200 | H33: 20 | I33: =H33-SUM(K33:V33) -> 20 | J33: =IF(I33<0,"ATENÇÃO","OK") -> OK
C34: 31 | D34: Aparelho de ar condicionado tipo Split Piso Teto, capacidade frigorífica nominal 24.000 BTU’s, ciclo somente frio, 220 V, com controle remoto (individual), sem fio e filtro de ar lavável. | E34: Peça | F34: 449052-34 | G34: 4150 | H34: 10 | I34: =H34-SUM(K34:V34) -> 9 | J34: =IF(I34<0,"ATENÇÃO","OK") -> OK | K34: 1
C35: 32 | D35: Condicionador de Ar ti Split Piso Teto, ciclo somente frio, 55.000 a 60.000 BTU´s, com controle remoto (individual sem fio). Trifásico 380V, com pressotato de alta e baixa, rele contra inversão de fase. Selo PROCEL até "E". | E35: Peça | F35: 449052-34 | G35: 7525 | H35: 2 | I35: =H35-SUM(K35:V35) -> 1 | J35: =IF(I35<0,"ATENÇÃO","OK") -> OK | K35: 1
C36: 33 | D36: Cortina de Ar. Dimensões aproximadas: (L X A XP): 150 x 23 x 22cm , podendo ter pequena variação de tamanho, dependendo da marca do produto. Monofásico, 220 Volts. Potência (c/v) mínimo de 1/5. Nível máximo de ruído (db): menor que 60db. Modos de operação: ventila. Velocidades (m/s) mínimo de 11. Vazão de ar: mínimo de 1300 m3/h. Temperatura somente ventilação. Recursos função automática. Saída de ar frontal e vertical. Entrada superior de ar. Direcionadores de ar vertical. Recirculação de ar (m3/m) maior que 25. Prazo de garantia de 01 ano. Item incluso: controle remoto. Cor branco. | E36: Peça | F36: 449052-34 | G36: 800 | H36: 4 | I36: =H36-SUM(K36:V36) -> 4 | J36: =IF(I36<0,"ATENÇÃO","OK") -> OK
C37: 34 | D37: Instalação de Cortina de Ar do item 80. | E37: Serviço | F37: 339039-25 | G37: 200 | H37: 4 | I37: =H37-SUM(K37:V37) -> 4 | J37: =IF(I37<0,"ATENÇÃO","OK") -> OK
C38: 35 | D38: Instalação completa de equipamento de ar-condicionado tipo "split" até 24.000 BTU/h incluindo até 3 metros de distância entre evaporadora e condensadora – Composto de 01 (uma) unidade evaporadora e 01 (uma) unidade condensadora. | E38: Serviço | F38: 339039-25 | G38: 550 | H38: 45 | I38: =H38-SUM(K38:V38) -> 45 | J38: =IF(I38<0,"ATENÇÃO","OK") -> OK
C39: 36 | D39: Instalação completa de equipamento de ar-condicionado tipo "split" acima de 48.000 BTU/h incluindo até 3 metros de distância entre evaporadora e condensadora – Composto de 01 (uma) unidade evaporadora e 01 (uma) unidade condensadora. | E39: Serviço | F39: 339039-25 | G39: 900 | H39: 2 | I39: =H39-SUM(K39:V39) -> 2 | J39: =IF(I39<0,"ATENÇÃO","OK") -> OK
C40: 37 | D40: Metro adicional de linha para instalação de split até 24.000 BTU/h. | E40: Metro | F40: 339039-25 | G40: 50 | I40: =H40-SUM(K40:V40) -> 0 | J40: =IF(I40<0,"ATENÇÃO","OK") -> OK
C41: 38 | D41: Metro adicional de linha para instalação de split acima de 48.000 BTU/h. | E41: Metro | F41: 339039-25 | G41: 70 | I41: =H41-SUM(K41:V41) -> 0 | J41: =IF(I41<0,"ATENÇÃO","OK") -> OK
C42: 39 | D42: Desinstalação de equipamento de ar-condicionado. | E42: Serviço | F42: 339039-25 | G42: 300 | I42: =H42-SUM(K42:V42) -> 0 | J42: =IF(I42<0,"ATENÇÃO","OK") -> OK

Sheet CEAVI
A1: PROCESSO: 1063/2015/UDESC - REL | D1: OBJETO: AQUISIÇÃO E INSTALAÇÃO DE APARELHOS DE AR CONDICIONADO PARA A UDESC - RELANÇAMENTO | H1: VIGÊNCIA DA ATA: 04/03/2016 até 03/03/2017 | K1: AF/OS nº xxxx/2016 Qtde. DT | L1: AF/OS nº xxxx/2016 Qtde. DT | M1: AF/OS nº xxxx/2016 Qtde. DT | N1: AF/OS nº xxxx/2016 Qtde. DT | O1: AF/OS nº xxxx/2016 Qtde. DT | P1: AF/OS nº xxxx/2016 Qtde. DT | Q1: AF/OS nº xxxx/2016 Qtde. DT | R1: AF/OS nº xxxx/2016 Qtde. DT | S1: AF/OS nº xxxx/2016 Qtde. DT | T1: AF/OS nº xxxx/2016 Qtde. DT | U1: AF/OS nº xxxx/2016 Qtde. DT | V1: AF/OS nº xxxx/2016 Qtde. DT
A2: CENTRO PARTICIPANTE: CEAVI
A3: FORNECEDOR | B3: LOTE | C3: ITEM | D3: PRODUTO - CARACTERÍSTICAS MÍNIMAS | E3: UNIDADE | F3: DETALHAMENTO | G3: Preço UNITÁRIO (R$) | H3: Qtde Registrada | I3: Saldo / Automático | J3: ALERTA | K3: ...../...../...... | L3: ...../...../...... | M3: ...../...../...... | N3: ...../...../...... | O3: ...../...../...... | P3: ...../...../...... | Q3: ...../...../...... | R3: ...../...../...... | S3: ...../...../...... | T3: ...../...../...... | U3: ...../...../...... | V3: ...../...../......
A4: E&AR EQUIPAMENTOS DE REFRIGERAÇÃO EIRELI EPP | B4: 1 | C4: 1 | D4: Aparelho de ar condicionado tipo Split High Wall (para parede), capacidade frigorífica nominal de 9.000 btu’s, 220 V, somente frio, com controle remoto (individual) sem fio e filtro de ar lavável. Selo PROCEL “A” . | E4: Peça | F4: 449052-34 | G4: 1480 | I4: =H4-SUM(K4:V4) -> 0 | J4: =IF(I4<0,"ATENÇÃO","OK") -> OK
C5: 2 | D5: Aparelho de ar condicionado tipo Split High Wall (para parede), ciclo quente e frio: controle remoto sem fio, capacidade nominal de no mínimo 9.000 btus; capacidade de desumidificar o ambiente e filtro de ar lavável, tensão 220 Volts, frequência 60 Hz. Selo PROCEL “A”. | E5: Peça | F5: 449052-34 | G5: 1585 | I5: =H5-SUM(K5:V5) -> 0 | J5: =IF(I5<0,"ATENÇÃO","OK") -> OK
C6: 3 | D6: Aparelho de ar condicionado tipo Split High Wall (para parede), ciclo somente frio, 220 V, capacidade frigorífica nominal de 12.000 btu’s somente frio, com controle remoto (individual) sem fio e filtro de ar lavável. Selo PROCEL “A”. | E6: Peça | F6: 449052-34 | G6: 1595 | I6: =H6-SUM(K6:V6) -> 0 | J6: =IF(I6<0,"ATENÇÃO","OK") -> OK
C7: 4 | D7: Aparelho de ar condicionado tipo Split High Wall (para parede), ciclo quente e frio, capacidade frigorífica nominal de 12.000 btu’s, 220 V,com controle remoto (individual) sem fio e filtro de ar lavável. Selo PROCEL “A”. | E7: Peça | F7: 449052-34 | G7: 1685 | I7: =H7-SUM(K7:V7) -> 0 | J7: =IF(I7<0,"ATENÇÃO","OK") -> OK
C8: 5 | D8: Aparelho de ar condicionado tipo Split High Wall, (para parede), ciclo somente frio, capacidade frigorífica nominal de 18.000 btu’s, 220 V, com controle remoto (individual) sem fio e filtro de ar lavável. | E8: Peça | F8: 449052-34 | G8: 2200 | I8: =H8-SUM(K8:V8) -> 0 | J8: =IF(I8<0,"ATENÇÃO","OK") -> OK
C9: 6 | D9: Aparelho de ar condicionado tipo Split High Wall (para parede), ciclo quente e frio, capacidade frigorífica nominal de 18.000 btu’s, 220 V,com controle remoto (individual) sem fio e filtro de ar lavável. | E9: Peça | F9: 449052-34 | G9: 2455 | I9: =H9-SUM(K9:V9) -> 0 | J9: =IF(I9<0,"ATENÇÃO","OK") -> OK
C10: 7 | D10: Aparelho de ar condicionado tipo Split Cassete, ciclo FRIO: controle remoto sem fio, capacidade nominal de no mínimo 18.000 btus; tensão 220 Volts. | E10: Peça | F10: 449052-34 | G10: 4265 | I10: =H10-SUM(K10:V10) -> 0 | J10: =IF(I10<0,"ATENÇÃO","OK") -> OK
C11: 8 | D11: Aparelho de ar condicionado tipo Split Piso Teto, capacidade frigorífica nominal 24.000 BTU’s, ciclo somente frio, 220 V, com controle remoto (individual), sem fio e filtro de ar lavável. | E11: Peça | F11: 449052-34 | G11: 4100 | I11: =H11-SUM(K11:V11) -> 0 | J11: =IF(I11<0,"ATENÇÃO","OK") -> OK
C12: 9 | D12: Aparelho de ar condicionado tipo Split High Wall (para parede), ciclo quente e frio, capacidade frigorífica nominal de 24.000 btu’s, 220 V, com controle remoto (individual) sem fio e filtro de ar lavável. | E12: Peça | F12: 449052-34 | G12: 2960 | I12: =H12-SUM(K12:V12) -> 0 | J12: =IF(I12<0,"ATENÇÃO","OK") -> OK
C13: 10 | D13: Aparelho de ar condicionado tipo Split Cassete, ciclo FRIO: controle remoto sem fio, capacidade nominal de no mínimo 24.000 btus; tensão 220 Volts. | E13: Peça | F13: 449052-34 | G13: 4985 | I13: =H13-SUM(K13:V13) -> 0 | J13: =IF(I13<0,"ATENÇÃO","OK") -> OK
C14: 11 | D14: Aparelho de ar condicionado tipo Split Piso Teto, ciclo somente frio, capacidade frigorífica nominal de 30.000 btu’s somente frio, 220 V, com controle remoto (individual) sem fio e filtro de ar lavável. | E14: Peça | F14: 449052-34 | G14: 4870 | I14: =H14-SUM(K14:V14) -> 0 | J14: =IF(I14<0,"ATENÇÃO","OK") -> OK
C15: 12 | D15: Aparelho de ar condicionado tipo Split High Wall (para parede), ciclo quente e frio, capacidade frigorífica nominal de 30.000 btu’s, 220 V, com controle remoto (individual) sem fio e filtro de ar lavável. | E15: Peça | F15: 449052-34 | G15: 4605 | I15: =H15-SUM(K15:V15) -> 0 | J15: =IF(I15<0,"ATENÇÃO","OK") -> OK
C16: 13 | D16: Condicionador de Ar tipo Split Piso Teto – de 36.000 BTU’s ciclo somente frio, com controle remoto (individual) sem fio. | E16: Peça | F16: 449052-34 | G16: 5575 | I16: =H16-SUM(K16:V16) -> 0 | J16: =IF(I16<0,"ATENÇÃO","OK") -> OK
... C31: 28 | D31: Desinstalação de equipamento de ar-condicionado. | E31: Serviço | F31: 339039-25 | G31: 302 | I31: =H31-SUM(K31:V31) -> 0 | J31: =IF(I31<0,"ATENÇÃO","OK") -> OK
A32: E&AR EQUIPAMENTOS DE REFRIGERAÇÃO EIRELI EPP | B32: 2 | C32: 29 | D32: Aparelho de ar condicionado tipo Split High Wall (para parede), ciclo somente frio, 220 V, capacidade frigorífica nominal de 12.000 btu’s somente frio, com controle remoto (individual) sem fio e filtro de ar lavável. Selo PROCEL “A”. | E32: Peça | F32: 449052-34 | G32: 1500 | H32: 20 | I32: =H32-SUM(K32:V32) -> 20 | J32: =IF(I32<0,"ATENÇÃO","OK") -> OK
C33: 30 | D33: Aparelho de ar condicionado tipo Split High Wall, (para parede), ciclo somente frio, capacidade frigorífica nominal de 18.000 btu’s, 220 V, com controle remoto (individual) sem fio e filtro de ar lavável. | E33: Peça | F33: 449052-34 | G33: 2200 | I33: =H33-SUM(K33:V33) -> 0 | J33: =IF(I33<0,"ATENÇÃO","OK") -> OK
C34: 31 | D34: Aparelho de ar condicionado tipo Split Piso Teto, capacidade frigorífica nominal 24.000 BTU’s, ciclo somente frio, 220 V, com controle remoto (individual), sem fio e filtro de ar lavável. | E34: Peça | F34: 449052-34 | G34: 4150 | H34: 20 | I34: =H34-SUM(K34:V34) -> 20 | J34: =IF(I34<0,"ATENÇÃO","OK") -> OK
C35: 32 | D35: Condicionador de Ar ti Split Piso Teto, ciclo somente frio, 55.000 a 60.000 BTU´s, com controle remoto (individual sem fio). Trifásico 380V, com pressotato de alta e baixa, rele contra inversão de fase. Selo PROCEL até "E". | E35: Peça | F35: 449052-34 | G35: 7525 | I35: =H35-SUM(K35:V35) -> 0 | J35: =IF(I35<0,"ATENÇÃO","OK") -> OK
C36: 33 | D36: Cortina de Ar. Dimensões aproximadas: (L X A XP): 150 x 23 x 22cm , podendo ter pequena variação de tamanho, dependendo da marca do produto. Monofásico, 220 Volts. Potência (c/v) mínimo de 1/5. Nível máximo de ruído (db): menor que 60db. Modos de operação: ventila. Velocidades (m/s) mínimo de 11. Vazão de ar: mínimo de 1300 m3/h. Temperatura somente ventilação. Recursos função automática. Saída de ar frontal e vertical. Entrada superior de ar. Direcionadores de ar vertical. Recirculação de ar (m3/m) maior que 25. Prazo de garantia de 01 ano. Item incluso: controle remoto. Cor branco. | E36: Peça | F36: 449052-34 | G36: 800 | I36: =H36-SUM(K36:V36) -> 0 | J36: =IF(I36<0,"ATENÇÃO","OK") -> OK
C37: 34 | D37: Instalação de Cortina de Ar do item 80. | E37: Serviço | F37: 339039-25 | G37: 200 | I37: =H37-SUM(K37:V37) -> 0 | J37: =IF(I37<0,"ATENÇÃO","OK") -> OK
C38: 35 | D38: Instalação completa de equipamento de ar-condicionado tipo "split" até 24.000 BTU/h incluindo até 3 metros de distância entre evaporadora e condensadora – Composto de 01 (uma) unidade evaporadora e 01 (uma) unidade condensadora. | E38: Serviço | F38: 339039-25 | G38: 550 | H38: 40 | I38: =H38-SUM(K38:V38) -> 40 | J38: =IF(I38<0,"ATENÇÃO","OK") -> OK
C39: 36 | D39: Instalação completa de equipamento de ar-condicionado tipo "split" acima de 48.000 BTU/h incluindo até 3 metros de distância entre evaporadora e condensadora – Composto de 01 (uma) unidade evaporadora e 01 (uma) unidade condensadora. | E39: Serviço | F39: 339039-25 | G39: 900 | H39: 16 | I39: =H39-SUM(K39:V39) -> 16 | J39: =IF(I39<0,"ATENÇÃO","OK") -> OK
C40: 37 | D40: Metro adicional de linha para instalação de split até 24.000 BTU/h. | E40: Metro | F40: 339039-25 | G40: 50 | H40: 80 | I40: =H40-SUM(K40:V40) -> 80 | J40: =IF(I40<0,"ATENÇÃO","OK") -> OK
C41: 38 | D41: Metro adicional de linha para instalação de split acima de 48.000 BTU/h. | E41: Metro | F41: 339039-25 | G41: 70 | H41: 200 | I41: =H41-SUM(K41:V41) -> 200 | J41: =IF(I41<0,"ATENÇÃO","OK") -> OK
C42: 39 | D42: Desinstalação de equipamento de ar-condicionado. | E42: Serviço | F42: 339039-25 | G42: 300 | H42: 30 | I42: =H42-SUM(K42:V42) -> 30 | J42: =IF(I42<0,"ATENÇÃO","OK") -> OK

Sheet GESTOR
A1: PROCESSO: 1063/2015/UDESC - REL | D1: OBJETO: AQUISIÇÃO E INSTALAÇÃO DE APARELHOS DE AR CONDICIONADO PARA A UDESC - RELANÇAMENTO | H1: VIGÊNCIA DA ATA: 04/03/2016 até 03/03/2017
A2: CENTRO PARTICIPANTE: GESTOR
A3: FORNECEDOR | B3: LOTE | C3: ITEM | D3: PRODUTO - CARACTERÍSTICAS MÍNIMAS | E3: UNIDADE | F3: DETALHAMENTO | G3: Preço UNITÁRIO (R$) | H3: Qtde Registrada | I3: Qtde Utilizada | J3: Saldo | K3: Valor Registrado | L3: Valor Utilizado
A4: E&AR EQUIPAMENTOS DE REFRIGERAÇÃO EIRELI EPP | B4: 1 | C4: 1 | D4: Aparelho de ar condicionado tipo Split High Wall (para parede), capacidade frigorífica nominal de 9.000 btu’s, 220 V, somente frio, com controle remoto (individual) sem fio e filtro de ar lavável. Selo PROCEL “A” . | E4: Peça | F4: 449052-34 | G4: 1480 | H4: =REITORIA!H4+MUSEU!H4+ESAG!H4+CEART!H4+FAED!H4+CEAD!H4+CEFID!H4+CERES!H4+CESFI!H4+CCT!H4+CEAVI!H4 -> 6 | I4: =(REITORIA!H4-REITORIA!I4)+(MUSEU!H4-MUSEU!I4)+(ESAG!H4-ESAG!I4)+(CEART!H4-CEART!I4)+(FAED!H4-FAED!I4)+(CEAD!H4-CEAD!I4)+(CEFID!H4-CEFID!I4)+(CERES!H4-CERES!I4)+(CESFI!H4-CESFI!I4)+(CCT!H4-CCT!I4)+(CEAVI!H4-CEAVI!I4) -> 0 | J4: =H4-I4 -> 6 | K4: =G4*H4 -> 8880 | L4: =G4*I4 -> 0
C5: 2 | D5: Aparelho de ar condicionado tipo Split High Wall (para parede), ciclo quente e frio: controle remoto sem fio, capacidade nominal de no mínimo 9.000 btus; capacidade de desumidificar o ambiente e filtro de ar lavável, tensão 220 Volts, frequência 60 Hz. Selo PROCEL “A”. | E5: Peça | F5: 449052-34 | G5: 1585 | H5: =REITORIA!H5+MUSEU!H5+ESAG!H5+CEART!H5+FAED!H5+CEAD!H5+CEFID!H5+CERES!H5+CESFI!H5+CCT!H5+CEAVI!H5 -> 7 | I5: =(REITORIA!H5-REITORIA!I5)+(MUSEU!H5-MUSEU!I5)+(ESAG!H5-ESAG!I5)+(CEART!H5-CEART!I5)+(FAED!H5-FAED!I5)+(CEAD!H5-CEAD!I5)+(CEFID!H5-CEFID!I5)+(CERES!H5-CERES!I5)+(CESFI!H5-CESFI!I5)+(CCT!H5-CCT!I5)+(CEAVI!H5-CEAVI!I5) -> 2 | J5: =H5-I5 -> 5 | K5: =G5*H5 -> 11095 | L5: =G5*I5 -> 3170
C6: 3 | D6: Aparelho de ar condicionado tipo Split High Wall (para parede), ciclo somente frio, 220 V, capacidade frigorífica nominal de 12.000 btu’s somente frio, com controle remoto (individual) sem fio e filtro de ar lavável. Selo PROCEL “A”. | E6: Peça | F6: 449052-34 | G6: 1595 | H6: =REITORIA!H6+MUSEU!H6+ESAG!H6+CEART!H6+FAED!H6+CEAD!H6+CEFID!H6+CERES!H6+CESFI!H6+CCT!H6+CEAVI!H6 -> 42 | I6: =(REITORIA!H6-REITORIA!I6)+(MUSEU!H6-MUSEU!I6)+(ESAG!H6-ESAG!I6)+(CEART!H6-CEART!I6)+(FAED!H6-FAED!I6)+(CEAD!H6-CEAD!I6)+(CEFID!H6-CEFID!I6)+(CERES!H6-CERES!I6)+(CESFI!H6-CESFI!I6)+(CCT!H6-CCT!I6)+(CEAVI!H6-CEAVI!I6) -> 1 | J6: =H6-I6 -> 41 | K6: =G6*H6 -> 66990 | L6: =G6*I6 -> 1595
C7: 4 | D7: Aparelho de ar condicionado tipo Split High Wall (para parede), ciclo quente e frio, capacidade frigorífica nominal de 12.000 btu’s, 220 V,com controle remoto (individual) sem fio e filtro de ar lavável. Selo PROCEL “A”. | E7: Peça | F7: 449052-34 | G7: 1685 | H7: =REITORIA!H7+MUSEU!H7+ESAG!H7+CEART!H7+FAED!H7+CEAD!H7+CEFID!H7+CERES!H7+CESFI!H7+CCT!H7+CEAVI!H7 -> 11 | I7: =(REITORIA!H7-REITORIA!I7)+(MUSEU!H7-MUSEU!I7)+(ESAG!H7-ESAG!I7)+(CEART!H7-CEART!I7)+(FAED!H7-FAED!I7)+(CEAD!H7-CEAD!I7)+(CEFID!H7-CEFID!I7)+(CERES!H7-CERES!I7)+(CESFI!H7-CESFI!I7)+(CCT!H7-CCT!I7)+(CEAVI!H7-CEAVI!I7) -> 2 | J7: =H7-I7 -> 9 | K7: =G7*H7 -> 18535 | L7: =G7*I7 -> 3370
C8: 5 | D8: Aparelho de ar condicionado tipo Split High Wall, (para parede), ciclo somente frio, capacidade frigorífica nominal de 18.000 btu’s, 220 V, com controle remoto (individual) sem fio e filtro de ar lavável. | E8: Peça | F8: 449052-34 | G8: 2200 | H8: =REITORIA!H8+MUSEU!H8+ESAG!H8+CEART!H8+FAED!H8+CEAD!H8+CEFID!H8+CERES!H8+CESFI!H8+CCT!H8+CEAVI!H8 -> 25 | I8: =(REITORIA!H8-REITORIA!I8)+(MUSEU!H8-MUSEU!I8)+(ESAG!H8-ESAG!I8)+(CEART!H8-CEART!I8)+(FAED!H8-FAED!I8)+(CEAD!H8-CEAD!I8)+(CEFID!H8-CEFID!I8)+(CERES!H8-CERES!I8)+(CESFI!H8-CESFI!I8)+(CCT!H8-CCT!I8)+(CEAVI!H8-CEAVI!I8) -> 2 | J8: =H8-I8 -> 23 | K8: =G8*H8 -> 55000 | L8: =G8*I8 -> 4400
C9: 6 | D9: Aparelho de ar condicionado tipo Split High Wall (para parede), ciclo quente e frio, capacidade frigorífica nominal de 18.000 btu’s, 220 V,com controle remoto (individual) sem fio e filtro de ar lavável. | E9: Peça | F9: 449052-34 | G9: 2455 | H9: =REITORIA!H9+MUSEU!H9+ESAG!H9+CEART!H9+FAED!H9+CEAD!H9+CEFID!H9+CERES!H9+CESFI!H9+CCT!H9+CEAVI!H9 -> 6 | I9: =(REITORIA!H9-REITORIA!I9)+(MUSEU!H9-MUSEU!I9)+(ESAG!H9-ESAG!I9)+(CEART!H9-CEART!I9)+(FAED!H9-FAED!I9)+(CEAD!H9-CEAD!I9)+(CEFID!H9-CEFID!I9)+(CERES!H9-CERES!I9)+(CESFI!H9-CESFI!I9)+(CCT!H9-CCT!I9)+(CEAVI!H9-CEAVI!I9) -> 1 | J9: =H9-I9 -> 5 | K9: =G9*H9 -> 14730 | L9: =G9*I9 -> 2455
C10: 7 | D10: Aparelho de ar condicionado tipo Split Cassete, ciclo FRIO: controle remoto sem fio, capacidade nominal de no mínimo 18.000 btus; tensão 220 Volts. | E10: Peça | F10: 449052-34 | G10: 4265 | H10: =REITORIA!H10+MUSEU!H10+ESAG!H10+CEART!H10+FAED!H10+CEAD!H10+CEFID!H10+CERES!H10+CESFI!H10+CCT!H10+CEAVI!H10 -> 2 | I10: =(REITORIA!H10-REITORIA!I10)+(MUSEU!H10-MUSEU!I10)+(ESAG!H10-ESAG!I10)+(CEART!H10-CEART!I10)+(FAED!H10-FAED!I10)+(CEAD!H10-CEAD!I10)+(CEFID!H10-CEFID!I10)+(CERES!H10-CERES!I10)+(CESFI!H10-CESFI!I10)+(CCT!H10-CCT!I10)+(CEAVI!H10-CEAVI!I10) -> 0 | J10: =H10-I10 -> 2 | K10: =G10*H10 -> 8530 | L10: =G10*I10 -> 0
C11: 8 | D11: Aparelho de ar condicionado tipo Split Piso Teto, capacidade frigorífica nominal 24.000 BTU’s, ciclo somente frio, 220 V, com controle remoto (individual), sem fio e filtro de ar lavável. | E11: Peça | F11: 449052-34 | G11: 4100 | H11: =REITORIA!H11+MUSEU!H11+ESAG!H11+CEART!H11+FAED!H11+CEAD!H11+CEFID!H11+CERES!H11+CESFI!H11+CCT!H11+CEAVI!H11 -> 13 | I11: =(REITORIA!H11-REITORIA!I11)+(MUSEU!H11-MUSEU!I11)+(ESAG!H11-ESAG!I11)+(CEART!H11-CEART!I11)+(FAED!H11-FAED!I11)+(CEAD!H11-CEAD!I11)+(CEFID!H11-CEFID!I11)+(CERES!H11-CERES!I11)+(CESFI!H11-CESFI!I11)+(CCT!H11-CCT!I11)+(CEAVI!H11-CEAVI!I11) -> 0 | J11: =H11-I11 -> 13 | K11: =G11*H11 -> 53300 | L11: =G11*I11 -> 0
C12: 9 | D12: Aparelho de ar condicionado tipo Split High Wall (para parede), ciclo quente e frio, capacidade frigorífica nominal de 24.000 btu’s, 220 V, com controle remoto (individual) sem fio e filtro de ar lavável. | E12: Peça | F12: 449052-34 | G12: 2960 | H12: =REITORIA!H12+MUSEU!H12+ESAG!H12+CEART!H12+FAED!H12+CEAD!H12+CEFID!H12+CERES!H12+CESFI!H12+CCT!H12+CEAVI!H12 -> 5 | I12: =(REITORIA!H12-REITORIA!I12)+(MUSEU!H12-MUSEU!I12)+(ESAG!H12-ESAG!I12)+(CEART!H12-CEART!I12)+(FAED!H12-FAED!I12)+(CEAD!H12-CEAD!I12)+(CEFID!H12-CEFID!I12)+(CERES!H12-CERES!I12)+(CESFI!H12-CESFI!I12)+(CCT!H12-CCT!I12)+(CEAVI!H12-CEAVI!I12) -> 0 | J12: =H12-I12 -> 5 | K12: =G12*H12 -> 14800 | L12: =G12*I12 -> 0
C13: 10 | D13: Aparelho de ar condicionado tipo Split Cassete, ciclo FRIO: controle remoto sem fio, capacidade nominal de no mínimo 24.000 btus; tensão 220 Volts. | E13: Peça | F13: 449052-34 | G13: 4985 | H13: =REITORIA!H13+MUSEU!H13+ESAG!H13+CEART!H13+FAED!H13+CEAD!H13+CEFID!H13+CERES!H13+CESFI!H13+CCT!H13+CEAVI!H13 -> 7 | I13: =(REITORIA!H13-REITORIA!I13)+(MUSEU!H13-MUSEU!I13)+(ESAG!H13-ESAG!I13)+(CEART!H13-CEART!I13)+(FAED!H13-FAED!I13)+(CEAD!H13-CEAD!I13)+(CEFID!H13-CEFID!I13)+(CERES!H13-CERES!I13)+(CESFI!H13-CESFI!I13)+(CCT!H13-CCT!I13)+(CEAVI!H13-CEAVI!I13) -> 0 | J13: =H13-I13 -> 7 | K13: =G13*H13 -> 34895 | L13: =G13*I13 -> 0
C14: 11 | D14: Aparelho de ar condicionado tipo Split Piso Teto, ciclo somente frio, capacidade frigorífica nominal de 30.000 btu’s somente frio, 220 V, com controle remoto (individual) sem fio e filtro de ar lavável. | E14: Peça | F14: 449052-34 | G14: 4870 | H14: =REITORIA!H14+MUSEU!H14+ESAG!H14+CEART!H14+FAED!H14+CEAD!H14+CEFID!H14+CERES!H14+CESFI!H14+CCT!H14+CEAVI!H14 -> 6 | I14: =(REITORIA!H14-REITORIA!I14)+(MUSEU!H14-MUSEU!I14)+(ESAG!H14-ESAG!I14)+(CEART!H14-CEART!I14)+(FAED!H14-FAED!I14)+(CEAD!H14-CEAD!I14)+(CEFID!H14-CEFID!I14)+(CERES!H14-CERES!I14)+(CESFI!H14-CESFI!I14)+(CCT!H14-CCT!I14)+(CEAVI!H14-CEAVI!I14) -> 0 | J14: =H14-I14 -> 6 | K14: =G14*H14 -> 29220 | L14: =G14*I14 -> 0
C15: 12 | D15: Aparelho de ar condicionado tipo Split High Wall (para parede), ciclo quente e frio, capacidade frigorífica nominal de 30.000 btu’s, 220 V, com controle remoto (individual) sem fio e filtro de ar lavável. | E15: Peça | F15: 449052-34 | G15: 4605 | H15: =REITORIA!H15+MUSEU!H15+ESAG!H15+CEART!H15+FAED!H15+CEAD!H15+CEFID!H15+CERES!H15+CESFI!H15+CCT!H15+CEAVI!H15 -> 13 | I15: =(REITORIA!H15-REITORIA!I15)+(MUSEU!H15-MUSEU!I15)+(ESAG!H15-ESAG!I15)+(CEART!H15-CEART!I15)+(FAED!H15-FAED!I15)+(CEAD!H15-CEAD!I15)+(CEFID!H15-CEFID!I15)+(CERES!H15-CERES!I15)+(CESFI!H15-CESFI!I15)+(CCT!H15-CCT!I15)+(CEAVI!H15-CEAVI!I15) -> 5 | J15: =H15-I15 -> 8 | K15: =G15*H15 -> 59865 | L15: =G15*I15 -> 23025
C16: 13 | D16: Condicionador de Ar tipo Split Piso Teto – de 36.000 BTU’s ciclo somente frio, com controle remoto (individual) sem fio. | E16: Peça | F16: 449052-34 | G16: 5575 | H16: =REITORIA!H16+MUSEU!H16+ESAG!H16+CEART!H16+FAED!H16+CEAD!H16+CEFID!H16+CERES!H16+CESFI!H16+CCT!H16+CEAVI!H16 -> 1 | I16: =(REITORIA!H16-REITORIA!I16)+(MUSEU!H16-MUSEU!I16)+(ESAG!H16-ESAG!I16)+(CEART!H16-CEART!I16)+(FAED!H16-FAED!I16)+(CEAD!H16-CEAD!I16)+(CEFID!H16-CEFID!I16)+(CERES!H16-CERES!I16)+(CESFI!H16-CESFI!I16)+(CCT!H16-CCT!I16)+(CEAVI!H16-CEAVI!I16) -> 0 | J16: =H16-I16 -> 1 | K16: =G16*H16 -> 5575 | L16: =G16*I16 -> 0
... C31: 28 | D31: Desinstalação de equipamento de ar-condicionado. | E31: Serviço | F31: 339039-25 | G31: 302 | H31: =REITORIA!H31+MUSEU!H31+ESAG!H31+CEART!H31+FAED!H31+CEAD!H31+CEFID!H31+CERES!H31+CESFI!H31+CCT!H31+CEAVI!H31 -> 166 | I31: =(REITORIA!H31-REITORIA!I31)+(MUSEU!H31-MUSEU!I31)+(ESAG!H31-ESAG!I31)+(CEART!H31-CEART!I31)+(FAED!H31-FAED!I31)+(CEAD!H31-CEAD!I31)+(CEFID!H31-CEFID!I31)+(CERES!H31-CERES!I31)+(CESFI!H31-CESFI!I31)+(CCT!H31-CCT!I31)+(CEAVI!H31-CEAVI!I31) -> 27 | J31: =H31-I31 -> 139 | K31: =G31*H31 -> 50132 | L31: =G31*I31 -> 8154
A32: E&AR EQUIPAMENTOS DE REFRIGERAÇÃO EIRELI EPP | B32: 2 | C32: 29 | D32: Aparelho de ar condicionado tipo Split High Wall (para parede), ciclo somente frio, 220 V, capacidade frigorífica nominal de 12.000 btu’s somente frio, com controle remoto (individual) sem fio e filtro de ar lavável. Selo PROCEL “A”. | E32: Peça | F32: 449052-34 | G32: 1500 | H32: =REITORIA!H32+MUSEU!H32+ESAG!H32+CEART!H32+FAED!H32+CEAD!H32+CEFID!H32+CERES!H32+CESFI!H32+CCT!H32+CEAVI!H32 -> 35 | I32: =(REITORIA!H32-REITORIA!I32)+(MUSEU!H32-MUSEU!I32)+(ESAG!H32-ESAG!I32)+(CEART!H32-CEART!I32)+(FAED!H32-FAED!I32)+(CEAD!H32-CEAD!I32)+(CEFID!H32-CEFID!I32)+(CERES!H32-CERES!I32)+(CESFI!H32-CESFI!I32)+(CCT!H32-CCT!I32)+(CEAVI!H32-CEAVI!I32) -> 0 | J32: =H32-I32 -> 35 | K32: =G32*H32 -> 52500 | L32: =G32*I32 -> 0
C33: 30 | D33: Aparelho de ar condicionado tipo Split High Wall, (para parede), ciclo somente frio, capacidade frigorífica nominal de 18.000 btu’s, 220 V, com controle remoto (individual) sem fio e filtro de ar lavável. | E33: Peça | F33: 449052-34 | G33: 2200 | H33: =REITORIA!H33+MUSEU!H33+ESAG!H33+CEART!H33+FAED!H33+CEAD!H33+CEFID!H33+CERES!H33+CESFI!H33+CCT!H33+CEAVI!H33 -> 20 | I33: =(REITORIA!H33-REITORIA!I33)+(MUSEU!H33-MUSEU!I33)+(ESAG!H33-ESAG!I33)+(CEART!H33-CEART!I33)+(FAED!H33-FAED!I33)+(CEAD!H33-CEAD!I33)+(CEFID!H33-CEFID!I33)+(CERES!H33-CERES!I33)+(CESFI!H33-CESFI!I33)+(CCT!H33-CCT!I33)+(CEAVI!H33-CEAVI!I33) -> 0 | J33: =H33-I33 -> 20 | K33: =G33*H33 -> 44000 | L33: =G33*I33 -> 0
C34: 31 | D34: Aparelho de ar condicionado tipo Split Piso Teto, capacidade frigorífica nominal 24.000 BTU’s, ciclo somente frio, 220 V, com controle remoto (individual), sem fio e filtro de ar lavável. | E34: Peça | F34: 449052-34 | G34: 4150 | H34: =REITORIA!H34+MUSEU!H34+ESAG!H34+CEART!H34+FAED!H34+CEAD!H34+CEFID!H34+CERES!H34+CESFI!H34+CCT!H34+CEAVI!H34 -> 30 | I34: =(REITORIA!H34-REITORIA!I34)+(MUSEU!H34-MUSEU!I34)+(ESAG!H34-ESAG!I34)+(CEART!H34-CEART!I34)+(FAED!H34-FAED!I34)+(CEAD!H34-CEAD!I34)+(CEFID!H34-CEFID!I34)+(CERES!H34-CERES!I34)+(CESFI!H34-CESFI!I34)+(CCT!H34-CCT!I34)+(CEAVI!H34-CEAVI!I34) -> 1 | J34: =H34-I34 -> 29 | K34: =G34*H34 -> 124500 | L34: =G34*I34 -> 4150
C35: 32 | D35: Condicionador de Ar ti Split Piso Teto, ciclo somente frio, 55.000 a 60.000 BTU´s, com controle remoto (individual sem fio). Trifásico 380V, com pressotato de alta e baixa, rele contra inversão de fase. Selo PROCEL até "E". | E35: Peça | F35: 449052-34 | G35: 7525 | H35: =REITORIA!H35+MUSEU!H35+ESAG!H35+CEART!H35+FAED!H35+CEAD!H35+CEFID!H35+CERES!H35+CESFI!H35+CCT!H35+CEAVI!H35 -> 2 | I35: =(REITORIA!H35-REITORIA!I35)+(MUSEU!H35-MUSEU!I35)+(ESAG!H35-ESAG!I35)+(CEART!H35-CEART!I35)+(FAED!H35-FAED!I35)+(CEAD!H35-CEAD!I35)+(CEFID!H35-CEFID!I35)+(CERES!H35-CERES!I35)+(CESFI!H35-CESFI!I35)+(CCT!H35-CCT!I35)+(CEAVI!H35-CEAVI!I35) -> 1 | J35: =H35-I35 -> 1 | K35: =G35*H35 -> 15050 | L35: =G35*I35 -> 7525
C36: 33 | D36: Cortina de Ar. Dimensões aproximadas: (L X A XP): 150 x 23 x 22cm , podendo ter pequena variação de tamanho, dependendo da marca do produto. Monofásico, 220 Volts. Potência (c/v) mínimo de 1/5. Nível máximo de ruído (db): menor que 60db. Modos de operação: ventila. Velocidades (m/s) mínimo de 11. Vazão de ar: mínimo de 1300 m3/h. Temperatura somente ventilação. Recursos função automática. Saída de ar frontal e vertical. Entrada superior de ar. Direcionadores de ar vertical. Recirculação de ar (m3/m) maior que 25. Prazo de garantia de 01 ano. Item incluso: controle remoto. Cor branco. | E36: Peça | F36: 449052-34 | G36: 800 | H36: =REITORIA!H36+MUSEU!H36+ESAG!H36+CEART!H36+FAED!H36+CEAD!H36+CEFID!H36+CERES!H36+CESFI!H36+CCT!H36+CEAVI!H36 -> 4 | I36: =(REITORIA!H36-REITORIA!I36)+(MUSEU!H36-MUSEU!I36)+(ESAG!H36-ESAG!I36)+(CEART!H36-CEART!I36)+(FAED!H36-FAED!I36)+(CEAD!H36-CEAD!I36)+(CEFID!H36-CEFID!I36)+(CERES!H36-CERES!I36)+(CESFI!H36-CESFI!I36)+(CCT!H36-CCT!I36)+(CEAVI!H36-CEAVI!I36) -> 0 | J36: =H36-I36 -> 4 | K36: =G36*H36 -> 3200 | L36: =G36*I36 -> 0
C37: 34 | D37: Instalação de Cortina de Ar do item 80. | E37: Serviço | F37: 339039-25 | G37: 200 | H37: =REITORIA!H37+MUSEU!H37+ESAG!H37+CEART!H37+FAED!H37+CEAD!H37+CEFID!H37+CERES!H37+CESFI!H37+CCT!H37+CEAVI!H37 -> 4 | I37: =(REITORIA!H37-REITORIA!I37)+(MUSEU!H37-MUSEU!I37)+(ESAG!H37-ESAG!I37)+(CEART!H37-CEART!I37)+(FAED!H37-FAED!I37)+(CEAD!H37-CEAD!I37)+(CEFID!H37-CEFID!I37)+(CERES!H37-CERES!I37)+(CESFI!H37-CESFI!I37)+(CCT!H37-CCT!I37)+(CEAVI!H37-CEAVI!I37) -> 0 | J37: =H37-I37 -> 4 | K37: =G37*H37 -> 800 | L37: =G37*I37 -> 0
C38: 35 | D38: Instalação completa de equipamento de ar-condicionado tipo "split" até 24.000 BTU/h incluindo até 3 metros de distância entre evaporadora e condensadora – Composto de 01 (uma) unidade evaporadora e 01 (uma) unidade condensadora. | E38: Serviço | F38: 339039-25 | G38: 550 | H38: =REITORIA!H38+MUSEU!H38+ESAG!H38+CEART!H38+FAED!H38+CEAD!H38+CEFID!H38+CERES!H38+CESFI!H38+CCT!H38+CEAVI!H38 -> 85 | I38: =(REITORIA!H38-REITORIA!I38)+(MUSEU!H38-MUSEU!I38)+(ESAG!H38-ESAG!I38)+(CEART!H38-CEART!I38)+(FAED!H38-FAED!I38)+(CEAD!H38-CEAD!I38)+(CEFID!H38-CEFID!I38)+(CERES!H38-CERES!I38)+(CESFI!H38-CESFI!I38)+(CCT!H38-CCT!I38)+(CEAVI!H38-CEAVI!I38) -> 0 | J38: =H38-I38 -> 85 | K38: =G38*H38 -> 46750 | L38: =G38*I38 -> 0
C39: 36 | D39: Instalação completa de equipamento de ar-condicionado tipo "split" acima de 48.000 BTU/h incluindo até 3 metros de distância entre evaporadora e condensadora – Composto de 01 (uma) unidade evaporadora e 01 (uma) unidade condensadora. | E39: Serviço | F39: 339039-25 | G39: 900 | H39: =REITORIA!H39+MUSEU!H39+ESAG!H39+CEART!H39+FAED!H39+CEAD!H39+CEFID!H39+CERES!H39+CESFI!H39+CCT!H39+CEAVI!H39 -> 18 | I39: =(REITORIA!H39-REITORIA!I39)+(MUSEU!H39-MUSEU!I39)+(ESAG!H39-ESAG!I39)+(CEART!H39-CEART!I39)+(FAED!H39-FAED!I39)+(CEAD!H39-CEAD!I39)+(CEFID!H39-CEFID!I39)+(CERES!H39-CERES!I39)+(CESFI!H39-CESFI!I39)+(CCT!H39-CCT!I39)+(CEAVI!H39-CEAVI!I39) -> 0 | J39: =H39-I39 -> 18 | K39: =G39*H39 -> 16200 | L39: =G39*I39 -> 0
C40: 37 | D40: Metro adicional de linha para instalação de split até 24.000 BTU/h. | E40: Metro | F40: 339039-25 | G40: 50 | H40: =REITORIA!H40+MUSEU!H40+ESAG!H40+CEART!H40+FAED!H40+CEAD!H40+CEFID!H40+CERES!H40+CESFI!H40+CCT!H40+CEAVI!H40 -> 80 | I40: =(REITORIA!H40-REITORIA!I40)+(MUSEU!H40-MUSEU!I40)+(ESAG!H40-ESAG!I40)+(CEART!H40-CEART!I40)+(FAED!H40-FAED!I40)+(CEAD!H40-CEAD!I40)+(CEFID!H40-CEFID!I40)+(CERES!H40-CERES!I40)+(CESFI!H40-CESFI!I40)+(CCT!H40-CCT!I40)+(CEAVI!H40-CEAVI!I40) -> 0 | J40: =H40-I40 -> 80 | K40: =G40*H40 -> 4000 | L40: =G40*I40 -> 0
C41: 38 | D41: Metro adicional de linha para instalação de split acima de 48.000 BTU/h. | E41: Metro | F41: 339039-25 | G41: 70 | H41: =REITORIA!H41+MUSEU!H41+ESAG!H41+CEART!H41+FAED!H41+CEAD!H41+CEFID!H41+CERES!H41+CESFI!H41+CCT!H41+CEAVI!H41 -> 200 | I41: =(REITORIA!H41-REITORIA!I41)+(MUSEU!H41-MUSEU!I41)+(ESAG!H41-ESAG!I41)+(CEART!H41-CEART!I41)+(FAED!H41-FAED!I41)+(CEAD!H41-CEAD!I41)+(CEFID!H41-CEFID!I41)+(CERES!H41-CERES!I41)+(CESFI!H41-CESFI!I41)+(CCT!H41-CCT!I41)+(CEAVI!H41-CEAVI!I41) -> 0 | J41: =H41-I41 -> 200 | K41: =G41*H41 -> 14000 | L41: =G41*I41 -> 0
C42: 39 | D42: Desinstalação de equipamento de ar-condicionado. | E42: Serviço | F42: 339039-25 | G42: 300 | H42: =REITORIA!H42+MUSEU!H42+ESAG!H42+CEART!H42+FAED!H42+CEAD!H42+CEFID!H42+CERES!H42+CESFI!H42+CCT!H42+CEAVI!H42 -> 30 | I42: =(REITORIA!H42-REITORIA!I42)+(MUSEU!H42-MUSEU!I42)+(ESAG!H42-ESAG!I42)+(CEART!H42-CEART!I42)+(FAED!H42-FAED!I42)+(CEAD!H42-CEAD!I42)+(CEFID!H42-CEFID!I42)+(CERES!H42-CERES!I42)+(CESFI!H42-CESFI!I42)+(CCT!H42-CCT!I42)+(CEAVI!H42-CEAVI!I42) -> 0 | J42: =H42-I42 -> 30 | K42: =G42*H42 -> 9000 | L42: =G42*I42 -> 0
K43: =SUM(K4:K42) -> 1507896 | L43: =SUM(L4:L42) -> 98851
H46: Pregão 1063/2015/UDESC - SRP
H47: AQUISIÇÃO E INSTALAÇÃO DE APARELHOS DE AR CONDICIONADO PARA A UDESC - RELANÇAMENTO
H48: VIGÊNCIA DA ATA: 04/03/2016 até 03/03/2017
H49: Valor Total da Ata com Aditivo | L49: =K43 -> 1507896
H50: Valor Utilizado | L50: =L43 -> 98851
H51: % Aditivos
H52: % Utilizado | L52: =L50/L49 -> 0.065555582
H53: Resumo Atualizado em Setembro/2016

Sheet Modelo Anexo II IN 002_2014
A1: ANEXO II – Instrução Normativa n.º 002/2014
A3: DECLARAÇÃO DE DISPONIBILIDADE DE QUANTITATIVO PARA EMISSÃO DE AUTORIZAÇÃO DE FORNECIMENTO/ORDEM DE SERVIÇO – SISTEMA DE REGISTRO DE PREÇOS/UDESC
A5: Processo CPA n.º XXXX/2014
A6: Pregão n.º XXXX/2014
A7: Objeto:
A8: Vigência da Ata de Registro de Preços: XX/XX/XXXX até XX/XX/XXXXX
A10: Declaro que o Centro XXXXXXX, participante da Ata de Registro de Preços proveniente do Pregão n.º XXXX/2014, possui saldo em seu quantitativo para a emissão da Autorização de Fornecimento/Ordem de Serviço n.º XXXX/2014, no valor de R$ X.XXX,XX, a ser firmada com a empresa XXXXXXX, restando ainda em sua cota para próximas contratações com o referido fornecedor os seguintes quantitativos:
A12: Lote | B12: Item | C12: Descrição Resumida | D12: Unidade | E12: Valor Unitário (R$) | F12: Saldo Quantitativo (antes da emissão desta AF/OS) | G12: Quantitativo da AF/OS | H12: Saldo Atualizado
A19: __________________, ____/_____/____
A20: Cidade Data
A24: _____________________________________________
A25: Diretor(a) de Administração
A26: (carimbo e assinatura)
