Workbook
Name CEPLAN: #REF!
Name CEPLAN: #REF!
Name diasuteis: #REF!
Name diasuteis: #REF!
Name Ferias: #REF!
Name Ferias: #REF!
Name RD: OFFSET(#REF!,(MATCH(SMALL(#REF!,ROW()-10),#REF!,0)-1),0)
Name RD: OFFSET(#REF!,(MATCH(SMALL(#REF!,ROW()-10),#REF!,0)-1),0)

Sheet REITORIA
A1: PROCESSO: 1063/2015/UDESC - REL | D1: OBJETO: AQUISIÇÃO E INSTALAÇÃO DE APARELHOS DE AR CONDICIONADO PARA A UDESC - RELANÇAMENTO | H1: VIGÊNCIA DA ATA: 04/03/2016 até 03/03/2017 | K1: AF nº 473/2016 Qtde. DT | L1: AF nº 621/2016 Qtde. DT | M1: AF nº 1020/2016 Qtde. DT | N1: AF/OS nº xxxx/2016 Qtde. DT | O1: AF/OS nº xxxx/2016 Qtde. DT | P1: AF/OS nº xxxx/2016 Qtde. DT | Q1: AF/OS nº xxxx/2016 Qtde. DT | R1: AF/OS nº xxxx/2016 Qtde. DT | S1: AF/OS nº xxxx/2016 Qtde. DT | T1: AF/OS nº xxxx/2016 Qtde. DT | U1: AF/OS nº xxxx/2016 Qtde. DT | V1: AF/OS nº xxxx/2016 Qtde. DT
A2: CENTRO PARTICIPANTE: REITORIA
A3: FORNECEDOR | B3: LOTE | C3: ITEM | D3: PRODUTO - CARACTERÍSTICAS MÍNIMAS | E3: UNIDADE | F3: DETALHAMENTO | G3: Preço UNITÁRIO (R$) | H3: Qtde Registrada | I3: Saldo / Automático | J3: ALERTA | K3: 42500 | L3: 42558 | M3: 42618 | N3: ...../...../...... | O3: ...../...../...... | P3: ...../...../...... | Q3: ...../...../...... | R3: ...../...../...... | S3: ...../...../...... | T3: ...../...../...... | U3: ...../...../...... | V3: ...../...../......
A4: E&AR EQUIPAMENTOS DE REFRIGERAÇÃO EIRELI EPP | B4: 1 | C4: 1 | D4: Aparelho de ar condicionado tipo Split High Wall (para parede), capacidade frigorífica nominal de 9.000 btu’s, 220 V, somente frio, com controle remoto (individual) sem fio e filtro de ar lavável. Selo PROCEL “A” . | E4: Peça | F4: 449052-34 | G4: 1480 | I4: =H4-SUM(K4:V4) -> 0 | J4: =IF(I4<0,"ATENÇÃO","OK") -> OK
C5: 2 | D5: Aparelho de ar condicionado tipo Split High Wall (para parede), ciclo quente e frio: controle remoto sem fio, capacidade nominal de no mínimo 9.000 btus; capacidade de desumidificar o ambiente e filtro de ar lavável, tensão 220 Volts, frequência 60 Hz. Selo PROCEL “A”. | E5: Peça | F5: 449052-34 | G5: 1585 | H5: 2 | I5: =H5-SUM(K5:V5) -> 1 | J5: =IF(I5<0,"ATENÇÃO","OK") -> OK | K5: 1
C6: 3 | D6: Aparelho de ar condicionado tipo Split High Wall (para parede), ciclo somente frio, 220 V, capacidade frigorífica nominal de 12.000 btu’s somente frio, com controle remoto (individual) sem fio e filtro de ar lavável. Selo PROCEL “A”. | E6: Peça | F6: 449052-34 | G6: 1595 | I6: =H6-SUM(K6:V6) -> 0 | J6: =IF(I6<0,"ATENÇÃO","OK") -> OK
C7: 4 | D7: Aparelho de ar condicionado tipo Split High Wall (para parede), ciclo quente e frio, capacidade frigorífica nominal de 12.000 btu’s, 220 V,com controle remoto (individual) sem fio e filtro de ar lavável. Selo PROCEL “A”. | E7: Peça | F7: 449052-34 | G7: 1685 | H7: 5 | I7: =H7-SUM(K7:V7) -> 4 | J7: =IF(I7<0,"ATENÇÃO","OK") -> OK | M7: 1
C8: 5 | D8: Aparelho de ar condicionado tipo Split High Wall, (para parede), ciclo somente frio, capacidade frigorífica nominal de 18.000 btu’s, 220 V, com controle remoto (individual) sem fio e filtro de ar lavável. | E8: Peça | F8: 449052-34 | G8: 2200 | I8: =H8-SUM(K8:V8) -> 0 | J8: =IF(I8<0,"ATENÇÃO","OK") -> OK
C9: 6 | D9: Aparelho de ar condicionado tipo Split High Wall (para parede), ciclo quente e frio, capacidade frigorífica nominal de 18.000 btu’s, 220 V,com controle remoto (individual) sem fio e filtro de ar lavável. | E9: Peça | F9: 449052-34 | G9: 2455 | H9: 1 | I9: =H9-SUM(K9:V9) -> 1 | J9: =IF(I9<0,"ATENÇÃO","OK") -> OK
C10: 7 | D10: Aparelho de ar condicionado tipo Split Cassete, ciclo FRIO: controle remoto sem fio, capacidade nominal de no mínimo 18.000 btus; tensão 220 Volts. | E10: Peça | F10: 449052-34 | G10: 4265 | I10: =H10-SUM(K10:V10) -> 0 | J10: =IF(I10<0,"ATENÇÃO","OK") -> OK
C11: 8 | D11: Aparelho de ar condicionado tipo Split Piso Teto, capacidade frigorífica nominal 24.000 BTU’s, ciclo somente frio, 220 V, com controle remoto (individual), sem fio e filtro de ar lavável. | E11: Peça | F11: 449052-34 | G11: 4100 | I11: =H11-SUM(K11:V11) -> 0 | J11: =IF(I11<0,"ATENÇÃO","OK") -> OK
C12: 9 | D12: Aparelho de ar condicionado tipo Split High Wall (para parede), ciclo quente e frio, capacidade frigorífica nominal de 24.000 btu’s, 220 V, com controle remoto (individual) sem fio e filtro de ar lavável. | E12: Peça | F12: 449052-34 | G12: 2960 | I12: =H12-SUM(K12:V12) -> 0 | J12: =IF(I12<0,"ATENÇÃO","OK") -> OK
C13: 10 | D13: Aparelho de ar condicionado tipo Split Cassete, ciclo FRIO: controle remoto sem fio, capacidade nominal de no mínimo 24.000 btus; tensão 220 Volts. | E13: Peça | F13: 449052-34 | G13: 4985 | H13: 7 | I13: =H13-SUM(K13:V13) -> 7 | J13: =IF(I13<0,"ATENÇÃO","OK") -> OK
C14: 11 | D14: Aparelho de ar condicionado tipo Split Piso Teto, ciclo somente frio, capacidade frigorífica nominal de 30.000 btu’s somente frio, 220 V, com controle remoto (individual) sem fio e filtro de ar lavável. | E14: Peça | F14: 449052-34 | G14: 4870 | I14: =H14-SUM(K14:V14) -> 0 | J14: =IF(I14<0,"ATENÇÃO","OK") -> OK
C15: 12 | D15: Aparelho de ar condicionado tipo Split High Wall (para parede), ciclo quente e frio, capacidade frigorífica nominal de 30.000 btu’s, 220 V, com controle remoto (individual) sem fio e filtro de ar lavável. | E15: Peça | F15: 449052-34 | G15: 4605 | I15: =H15-SUM(K15:V15) -> 0 | J15: =IF(I15<0,"ATENÇÃO","OK") -> OK
C16: 13 | D16: Condicionador de Ar tipo Split Piso Teto – de 36.000 BTU’s ciclo somente frio, com controle remoto (individual) sem fio. | E16: Peça | F16: 449052-34 | G16: 5575 | I16: =H16-SUM(K16:V16) -> 0 | J16: =IF(I16<0,"ATENÇÃO","OK") -> OK
C17: 14 | D17: Condicionado de Ar tipo Split Piso Teto/Parede, capacidade frigorífica nominal de 36.000 btu’s, ciclos quente e frio, 220 V, com controle remoto sem fio e filtro de ar lavável. | E17: Peça | F17: 449052-34 | G17: 6005 | I17: =H17-SUM(K17:V17) -> 0 | J17: =IF(I17<0,"ATENÇÃO","OK") -> OK
C18: 15 | D18: Aparelho de ar condicionado tipo Split Cassete, ciclo FRIO: controle remoto sem fio, capacidade nominal de no mínimo 36.000 btus; tensão 220 Volts. | E18: Peça | F18: 449052-34 | G18: 7485 | I18: =H18-SUM(K18:V18) -> 0 | J18: =IF(I18<0,"ATENÇÃO","OK") -> OK
C19: 16 | D19: Condicionador de Ar tipo Split Piso Teto – de 48.000 BTU’s ciclo somente frio, com controle remoto (individual) sem fio e filtro de ar lavável. | E19: Peça | F19: 449052-34 | G19: 6820 | I19: =H19-SUM(K19:V19) -> 0 | J19: =IF(I19<0,"ATENÇÃO","OK") -> OK
C20: 17 | D20: Condicionador de Ar tipo Split Piso Teto, ciclo somente frio, 55.000 a 60.000 BTU´s, com controle remoto (individual sem fio). Trifásico 380V, com pressotato de alta e baixa, rele contra inversão de fase. Selo PROCEL até "E". | E20: Peça | F20: 449052-34 | G20: 7625 | I20: =H20-SUM(K20:V20) -> 0 | J20: =IF(I20<0,"ATENÇÃO","OK") -> OK
C21: 18 | D21: Condicionador de Ar tipo Split Piso Teto/Parede – de 55.000 a 60.000 BTU’s ciclos quente e frio, com controle remoto - trifásico 380 V, com pressotato de alta e baixa, rele contra inversão de fase. Selo PROCEL até "E". | E21: Peça | F21: 449052-34 | G21: 8225 | I21: =H21-SUM(K21:V21) -> 0 | J21: =IF(I21<0,"ATENÇÃO","OK") -> OK
C22: 19 | D22: Aparelho de ar condicionado tipo Split Cassete, capacidade nominal de no mínimo 55.000 a 60.000 BTU’s ciclo frio, com controle remoto - trifásico 380 V, com pressotato de alta e baixa, rele contra inversão de fase. | E22: Peça | F22: 449052-34 | G22: 8700 | H22: 1 | I22: =H22-SUM(K22:V22) -> 1 | J22: =IF(I22<0,"ATENÇÃO","OK") -> OK
C23: 20 | D23: Cortina de Ar. Dimensões aproximadas: (L X A XP): 150 x 23 x 22cm , podendo ter pequena variação de tamanho, dependendo da marca do produto. Monofásico, 220 Volts. Potência (c/v) mínimo de 1/5. Nível máximo de ruído (db): menor que 60db. Modos de operação: ventila. Velocidades (m/s) mínimo de 11. Vazão de ar: mínimo de 1300 m3/h. Temperatura somente ventilação. Recursos função automática. Saída de ar frontal e vertical. Entrada superior de ar. Direcionadores de ar vertical. Recirculação de ar (m3/m) maior que 25. Prazo de garantia de 01 ano. Item incluso: controle remoto. Cor branco. | E23: Peça | F23: 449052-34 | G23: 830 | I23: =H23-SUM(K23:V23) -> 0 | J23: =IF(I23<0,"ATENÇÃO","OK") -> OK
C24: 21 | D24: Instalação de Cortina de Ar do item 54. | E24: Serviço | F24: 339039-25 | G24: 220 | I24: =H24-SUM(K24:V24) -> 0 | J24: =IF(I24<0,"ATENÇÃO","OK") -> OK
C25: 22 | D25: Instalação completa de equipamento de ar-condicionado tipo "split" até 24.000 BTU/h incluindo até 3 metros de distância entre evaporadora e condensadora – Composto de 01 (uma) unidade evaporadora e 01 (uma) unidade condensadora. | E25: Serviço | F25: 339039-25 | G25: 600 | H25: =37-2 -> 35 | I25: =H25-SUM(K25:V25) -> 28 | J25: =IF(I25<0,"ATENÇÃO","OK") -> OK | K25: 5 | L25: 2
C26: 23 | D26: Instalação completa de equipamento de ar-condicionado tipo "split" de 25.000 a 48.000 BTU/h incluindo até 3 metros de distância entre evaporadora e condensadora – Composto de 01 (uma) unidade evaporadora e 01 (uma) unidade condensadora. | E26: Serviço | F26: 339039-25 | G26: 815 | H26: 15 | I26: =H26-SUM(K26:V26) -> 12 | J26: =IF(I26<0,"ATENÇÃO","OK") -> OK | L26: 3
C27: 24 | D27: Instalação completa de equipamento de ar-condicionado tipo "split" acima de 48.000 BTU/h incluindo até 3 metros de distância entre evaporadora e condensadora – Composto de 01 (uma) unidade evaporadora e 01 (uma) unidade condensadora. | E27: Serviço | F27: 339039-25 | G27: 1010 | H27: 18 | I27: =H27-SUM(K27:V27) -> 11 | J27: =IF(I27<0,"ATENÇÃO","OK") -> OK | K27: 3 | L27: 4
C28: 25 | D28: Metro adicional de linha para instalação de split até 24.000 BTU/h. | E28: Metro | F28: 339039-25 | G28: 55 | H28: =694-3 -> 691 | I28: =H28-SUM(K28:V28) -> 676 | J28: =IF(I28<0,"ATENÇÃO","OK") -> OK | K28: 3 | L28: 12
C29: 26 | D29: Metro adicional de linha para instalação de split de 25.000 a 48.000 BTU/h. | E29: Metro | F29: 339039-25 | G29: 63 | H29: 180 | I29: =H29-SUM(K29:V29) -> 162 | J29: =IF(I29<0,"ATENÇÃO","OK") -> OK | L29: 18
C30: 27 | D30: Metro adicional de linha para instalação de split acima de 48.000 BTU/h. | E30: Metro | F30: 339039-25 | G30: 76 | H30: 253 | I30: =H30-SUM(K30:V30) -> 219 | J30: =IF(I30<0,"ATENÇÃO","OK") -> OK | K30: 10 | L30: 24
C31: 28 | D31: Desinstalação de equipamento de ar-condicionado. | E31: Serviço | F31: 339039-25 | G31: 302 | H31: =28-2-3 -> 23 | I31: =H31-SUM(K31:V31) -> 8 | J31: =IF(I31<0,"ATENÇÃO","OK") -> OK | K31: 6 | L31: 9
A32: E&AR EQUIPAMENTOS DE REFRIGERAÇÃO EIRELI EPP | B32: 2 | C32: 29 | D32: Aparelho de ar condicionado tipo Split High Wall (para parede), ciclo somente frio, 220 V, capacidade frigorífica nominal de 12.000 btu’s somente frio, com controle remoto (individual) sem fio e filtro de ar lavável. Selo PROCEL “A”. | E32: Peça | F32: 449052-34 | G32: 1500 | I32: =H32-SUM(K32:V32) -> 0 | J32: =IF(I32<0,"ATENÇÃO","OK") -> OK
C33: 30 | D33: Aparelho de ar condicionado tipo Split High Wall, (para parede), ciclo somente frio, capacidade frigorífica nominal de 18.000 btu’s, 220 V, com controle remoto (individual) sem fio e filtro de ar lavável. | E33: Peça | F33: 449052-34 | G33: 2200 | I33: =H33-SUM(K33:V33) -> 0 | J33: =IF(I33<0,"ATENÇÃO","OK") -> OK
C34: 31 | D34: Aparelho de ar condicionado tipo Split Piso Teto, capacidade frigorífica nominal 24.000 BTU’s, ciclo somente frio, 220 V, com controle remoto (individual), sem fio e filtro de ar lavável. | E34: Peça | F34: 449052-34 | G34: 4150 | I34: =H34-SUM(K34:V34) -> 0 | J34: =IF(I34<0,"ATENÇÃO","OK") -> OK
C35: 32 | D35: Condicionador de Ar ti Split Piso Teto, ciclo somente frio, 55.000 a 60.000 BTU´s, com controle remoto (individual sem fio). Trifásico 380V, com pressotato de alta e baixa, rele contra inversão de fase. Selo PROCEL até "E". | E35: Peça | F35: 449052-34 | G35: 7525 | I35: =H35-SUM(K35:V35) -> 0 | J35: =IF(I35<0,"ATENÇÃO","OK") -> OK
C36: 33 | D36: Cortina de Ar. Dimensões aproximadas: (L X A XP): 150 x 23 x 22cm , podendo ter pequena variação de tamanho, dependendo da marca do produto. Monofásico, 220 Volts. Potência (c/v) mínimo de 1/5. Nível máximo de ruído (db): menor que 60db. Modos de operação: ventila. Velocidades (m/s) mínimo de 11. Vazão de ar: mínimo de 1300 m3/h. Temperatura somente ventilação. Recursos função automática. Saída de ar frontal e vertical. Entrada superior de ar. Direcionadores de ar vertical. Recirculação de ar (m3/m) maior que 25. Prazo de garantia de 01 ano. Item incluso: controle remoto. Cor branco. | E36: Peça | F36: 449052-34 | G36: 800 | I36: =H36-SUM(K36:V36) -> 0 | J36: =IF(I36<0,"ATENÇÃO","OK") -> OK
C37: 34 | D37: Instalação de Cortina de Ar do item 80. | E37: Serviço | F37: 339039-25 | G37: 200 | I37: =H37-SUM(K37:V37) -> 0 | J37: =IF(I37<0,"ATENÇÃO","OK") -> OK
C38: 35 | D38: Instalação completa de equipamento de ar-condicionado tipo "split" até 24.000 BTU/h incluindo até 3 metros de distância entre evaporadora e condensadora – Composto de 01 (uma) unidade evaporadora e 01 (uma) unidade condensadora. | E38: Serviço | F38: 339039-25 | G38: 550 | I38: =H38-SUM(K38:V38) -> 0 | J38: =IF(I38<0,"ATENÇÃO","OK") -> OK
C39: 36 | D39: Instalação completa de equipamento de ar-condicionado tipo "split" acima de 48.000 BTU/h incluindo até 3 metros de distância entre evaporadora e condensadora – Composto de 01 (uma) unidade evaporadora e 01 (uma) unidade condensadora. | E39: Serviço | F39: 339039-25 | G39: 900 | I39: =H39-SUM(K39:V39) -> 0 | J39: =IF(I39<0,"ATENÇÃO","OK") -> OK
C40: 37 | D40: Metro adicional de linha para instalação de split até 24.000 BTU/h. | E40: Metro | F40: 339039-25 | G40: 50 | I40: =H40-SUM(K40:V40) -> 0 | J40: =IF(I40<0,"ATENÇÃO","OK") -> OK
...

Sheet MUSEU
A1: PROCESSO: 1063/2015/UDESC - REL | D1: OBJETO: AQUISIÇÃO E INSTALAÇÃO DE APARELHOS DE AR CONDICIONADO PARA A UDESC - RELANÇAMENTO | H1: VIGÊNCIA DA ATA: 04/03/2016 até 03/03/2017 | K1: AF nº 954/2016 Qtde. DT | L1: AF/OS nº xxxx/2016 Qtde. DT | M1: AF/OS nº xxxx/2016 Qtde. DT | N1: AF/OS nº xxxx/2016 Qtde. DT | O1: AF/OS nº xxxx/2016 Qtde. DT | P1: AF/OS nº xxxx/2016 Qtde. DT | Q1: AF/OS nº xxxx/2016 Qtde. DT | R1: AF/OS nº xxxx/2016 Qtde. DT | S1: AF/OS nº xxxx/2016 Qtde. DT | T1: AF/OS nº xxxx/2016 Qtde. DT | U1: AF/OS nº xxxx/2016 Qtde. DT | V1: AF/OS nº xxxx/2016 Qtde. DT
A2: CENTRO PARTICIPANTE: MUSEU
A3: FORNECEDOR | B3: LOTE | C3: ITEM | D3: PRODUTO - CARACTERÍSTICAS MÍNIMAS | E3: UNIDADE | F3: DETALHAMENTO | G3: Preço UNITÁRIO (R$) | H3: Qtde Registrada | I3: Saldo / Automático | J3: ALERTA | K3: 42604 | L3: ...../...../...... | M3: ...../...../...... | N3: ...../...../...... | O3: ...../...../...... | P3: ...../...../...... | Q3: ...../...../...... | R3: ...../...../...... | S3: ...../...../...... | T3: ...../...../...... | U3: ...../...../...... | V3: ...../...../......
A4: E&AR EQUIPAMENTOS DE REFRIGERAÇÃO EIRELI EPP | B4: 1 | C4: 1 | D4: Aparelho de ar condicionado tipo Split High Wall (para parede), capacidade frigorífica nominal de 9.000 btu’s, 220 V, somente frio, com controle remoto (individual) sem fio e filtro de ar lavável. Selo PROCEL “A” . | E4: Peça | F4: 449052-34 | G4: 1480 | I4: =H4-SUM(K4:V4) -> 0 | J4: =IF(I4<0,"ATENÇÃO","OK") -> OK
C5: 2 | D5: Aparelho de ar condicionado tipo Split High Wall (para parede), ciclo quente e frio: controle remoto sem fio, capacidade nominal de no mínimo 9.000 btus; capacidade de desumidificar o ambiente e filtro de ar lavável, tensão 220 Volts, frequência 60 Hz. Selo PROCEL “A”. | E5: Peça | F5: 449052-34 | G5: 1585 | I5: =H5-SUM(K5:V5) -> 0 | J5: =IF(I5<0,"ATENÇÃO","OK") -> OK
C6: 3 | D6: Aparelho de ar condicionado tipo Split High Wall (para parede), ciclo somente frio, 220 V, capacidade frigorífica nominal de 12.000 btu’s somente frio, com controle remoto (individual) sem fio e filtro de ar lavável. Selo PROCEL “A”. | E6: Peça | F6: 449052-34 | G6: 1595 | H6: 1 | I6: =H6-SUM(K6:V6) -> 1 | J6: =IF(I6<0,"ATENÇÃO","OK") -> OK
C7: 4 | D7: Aparelho de ar condicionado tipo Split High Wall (para parede), ciclo quente e frio, capacidade frigorífica nominal de 12.000 btu’s, 220 V,com controle remoto (individual) sem fio e filtro de ar lavável. Selo PROCEL “A”. | E7: Peça | F7: 449052-34 | G7: 1685 | I7: =H7-SUM(K7:V7) -> 0 | J7: =IF(I7<0,"ATENÇÃO","OK") -> OK
C8: 5 | D8: Aparelho de ar condicionado tipo Split High Wall, (para parede), ciclo somente frio, capacidade frigorífica nominal de 18.000 btu’s, 220 V, com controle remoto (individual) sem fio e filtro de ar lavável. | E8: Peça | F8: 449052-34 | G8: 2200 | I8: =H8-SUM(K8:V8) -> 0 | J8: =IF(I8<0,"ATENÇÃO","OK") -> OK
C9: 6 | D9: Aparelho de ar condicionado tipo Split High Wall (para parede), ciclo quente e frio, capacidade frigorífica nominal de 18.000 btu’s, 220 V,com controle remoto (individual) sem fio e filtro de ar lavável. | E9: Peça | F9: 449052-34 | G9: 2455 | I9: =H9-SUM(K9:V9) -> 0 | J9: =IF(I9<0,"ATENÇÃO","OK") -> OK
C10: 7 | D10: Aparelho de ar condicionado tipo Split Cassete, ciclo FRIO: controle remoto sem fio, capacidade nominal de no mínimo 18.000 btus; tensão 220 Volts. | E10: Peça | F10: 449052-34 | G10: 4265 | I10: =H10-SUM(K10:V10) -> 0 | J10: =IF(I10<0,"ATENÇÃO","OK") -> OK
C11: 8 | D11: Aparelho de ar condicionado tipo Split Piso Teto, capacidade frigorífica nominal 24.000 BTU’s, ciclo somente frio, 220 V, com controle remoto (individual), sem fio e filtro de ar lavável. | E11: Peça | F11: 449052-34 | G11: 4100 | I11: =H11-SUM(K11:V11) -> 0 | J11: =IF(I11<0,"ATENÇÃO","OK") -> OK
C12: 9 | D12: Aparelho de ar condicionado tipo Split High Wall (para parede), ciclo quente e frio, capacidade frigorífica nominal de 24.000 btu’s, 220 V, com controle remoto (individual) sem fio e filtro de ar lavável. | E12: Peça | F12: 449052-34 | G12: 2960 | I12: =H12-SUM(K12:V12) -> 0 | J12: =IF(I12<0,"ATENÇÃO","OK") -> OK
C13: 10 | D13: Aparelho de ar condicionado tipo Split Cassete, ciclo FRIO: controle remoto sem fio, capacidade nominal de no mínimo 24.000 btus; tensão 220 Volts. | E13: Peça | F13: 449052-34 | G13: 4985 | I13: =H13-SUM(K13:V13) -> 0 | J13: =IF(I13<0,"ATENÇÃO","OK") -> OK
C14: 11 | D14: Aparelho de ar condicionado tipo Split Piso Teto, ciclo somente frio, capacidade frigorífica nominal de 30.000 btu’s somente frio, 220 V, com controle remoto (individual) sem fio e filtro de ar lavável. | E14: Peça | F14: 449052-34 | G14: 4870 | I14: =H14-SUM(K14:V14) -> 0 | J14: =IF(I14<0,"ATENÇÃO","OK") -> OK
C15: 12 | D15: Aparelho de ar condicionado tipo Split High Wall (para parede), ciclo quente e frio, capacidade frigorífica nominal de 30.000 btu’s, 220 V, com controle remoto (individual) sem fio e filtro de ar lavável. | E15: Peça | F15: 449052-34 | G15: 4605 | I15: =H15-SUM(K15:V15) -> 0 | J15: =IF(I15<0,"ATENÇÃO","OK") -> OK
C16: 13 | D16: Condicionador de Ar tipo Split Piso Teto – de 36.000 BTU’s ciclo somente frio, com controle remoto (individual) sem fio. | E16: Peça | F16: 449052-34 | G16: 5575 | I16: =H16-SUM(K16:V16) -> 0 | J16: =IF(I16<0,"ATENÇÃO","OK") -> OK
C17: 14 | D17: Condicionado de Ar tipo Split Piso Teto/Parede, capacidade frigorífica nominal de 36.000 btu’s, ciclos quente e frio, 220 V, com controle remoto sem fio e filtro de ar lavável. | E17: Peça | F17: 449052-34 | G17: 6005 | I17: =H17-SUM(K17:V17) -> 0 | J17: =IF(I17<0,"ATENÇÃO","OK") -> OK
C18: 15 | D18: Aparelho de ar condicionado tipo Split Cassete, ciclo FRIO: controle remoto sem fio, capacidade nominal de no mínimo 36.000 btus; tensão 220 Volts. | E18: Peça | F18: 449052-34 | G18: 7485 | H18: 2 | I18: =H18-SUM(K18:V18) -> 2 | J18: =IF(I18<0,"ATENÇÃO","OK") -> OK
C19: 16 | D19: Condicionador de Ar tipo Split Piso Teto – de 48.000 BTU’s ciclo somente frio, com controle remoto (individual) sem fio e filtro de ar lavável. | E19: Peça | F19: 449052-34 | G19: 6820 | I19: =H19-SUM(K19:V19) -> 0 | J19: =IF(I19<0,"ATENÇÃO","OK") -> OK
C20: 17 | D20: Condicionador de Ar tipo Split Piso Teto, ciclo somente frio, 55.000 a 60.000 BTU´s, com controle remoto (individual sem fio). Trifásico 380V, com pressotato de alta e baixa, rele contra inversão de fase. Selo PROCEL até "E". | E20: Peça | F20: 449052-34 | G20: 7625 | I20: =H20-SUM(K20:V20) -> 0 | J20: =IF(I20<0,"ATENÇÃO","OK") -> OK
C21: 18 | D21: Condicionador de Ar tipo Split Piso Teto/Parede – de 55.000 a 60.000 BTU’s ciclos quente e frio, com controle remoto - trifásico 380 V, com pressotato de alta e baixa, rele contra inversão de fase. Selo PROCEL até "E". | E21: Peça | F21: 449052-34 | G21: 8225 | I21: =H21-SUM(K21:V21) -> 0 | J21: =IF(I21<0,"ATENÇÃO","OK") -> OK
C22: 19 | D22: Aparelho de ar condicionado tipo Split Cassete, capacidade nominal de no mínimo 55.000 a 60.000 BTU’s ciclo frio, com controle remoto - trifásico 380 V, com pressotato de alta e baixa, rele contra inversão de fase. | E22: Peça | F22: 449052-34 | G22: 8700 | H22: 2 | I22: =H22-SUM(K22:V22) -> 2 | J22: =IF(I22<0,"ATENÇÃO","OK") -> OK
C23: 20 | D23: Cortina de Ar. Dimensões aproximadas: (L X A XP): 150 x 23 x 22cm , podendo ter pequena variação de tamanho, dependendo da marca do produto. Monofásico, 220 Volts. Potência (c/v) mínimo de 1/5. Nível máximo de ruído (db): menor que 60db. Modos de operação: ventila. Velocidades (m/s) mínimo de 11. Vazão de ar: mínimo de 1300 m3/h. Temperatura somente ventilação. Recursos função automática. Saída de ar frontal e vertical. Entrada superior de ar. Direcionadores de ar vertical. Recirculação de ar (m3/m) maior que 25. Prazo de garantia de 01 ano. Item incluso: controle remoto. Cor branco. | E23: Peça | F23: 449052-34 | G23: 830 | H23: 2 | I23: =H23-SUM(K23:V23) -> 2 | J23: =IF(I23<0,"ATENÇÃO","OK") -> OK
C24: 21 | D24: Instalação de Cortina de Ar do item 54. | E24: Serviço | F24: 339039-25 | G24: 220 | H24: 2 | I24: =H24-SUM(K24:V24) -> 2 | J24: =IF(I24<0,"ATENÇÃO","OK") -> OK
C25: 22 | D25: Instalação completa de equipamento de ar-condicionado tipo "split" até 24.000 BTU/h incluindo até 3 metros de distância entre evaporadora e condensadora – Composto de 01 (uma) unidade evaporadora e 01 (uma) unidade condensadora. | E25: Serviço | F25: 339039-25 | G25: 600 | H25: 1 | I25: =H25-SUM(K25:V25) -> 0 | J25: =IF(I25<0,"ATENÇÃO","OK") -> OK | K25: 1
C26: 23 | D26: Instalação completa de equipamento de ar-condicionado tipo "split" de 25.000 a 48.000 BTU/h incluindo até 3 metros de distância entre evaporadora e condensadora – Composto de 01 (uma) unidade evaporadora e 01 (uma) unidade condensadora. | E26: Serviço | F26: 339039-25 | G26: 815 | H26: 2 | I26: =H26-SUM(K26:V26) -> 0 | J26: =IF(I26<0,"ATENÇÃO","OK") -> OK | K26: 2
C27: 24 | D27: Instalação completa de equipamento de ar-condicionado tipo "split" acima de 48.000 BTU/h incluindo até 3 metros de distância entre evaporadora e condensadora – Composto de 01 (uma) unidade evaporadora e 01 (uma) unidade condensadora. | E27: Serviço | F27: 339039-25 | G27: 1010 | H27: 2 | I27: =H27-SUM(K27:V27) -> 2 | J27: =IF(I27<0,"ATENÇÃO","OK") -> OK
C28: 25 | D28: Metro adicional de linha para instalação de split até 24.000 BTU/h. | E28: Metro | F28: 339039-25 | G28: 55 | H28: =5+3 -> 8 | I28: =H28-SUM(K28:V28) -> 0 | J28: =IF(I28<0,"ATENÇÃO","OK") -> OK | K28: 8
C29: 26 | D29: Metro adicional de linha para instalação de split de 25.000 a 48.000 BTU/h. | E29: Metro | F29: 339039-25 | G29: 63 | H29: 20 | I29: =H29-SUM(K29:V29) -> 4 | J29: =IF(I29<0,"ATENÇÃO","OK") -> OK | K29: 16
C30: 27 | D30: Metro adicional de linha para instalação de split acima de 48.000 BTU/h. | E30: Metro | F30: 339039-25 | G30: 76 | H30: 20 | I30: =H30-SUM(K30:V30) -> 20 | J30: =IF(I30<0,"ATENÇÃO","OK") -> OK
C31: 28 | D31: Desinstalação de equipamento de ar-condicionado. | E31: Serviço | F31: 339039-25 | G31: 302 | H31: 3 | I31: =H31-SUM(K31:V31) -> 0 | J31: =IF(I31<0,"ATENÇÃO","OK") -> OK | K31: 3
A32: E&AR EQUIPAMENTOS DE REFRIGERAÇÃO EIRELI EPP | B32: 2 | C32: 29 | D32: Aparelho de ar condicionado tipo Split High Wall (para parede), ciclo somente frio, 220 V, capacidade frigorífica nominal de 12.000 btu’s somente frio, com controle remoto (individual) sem fio e filtro de ar lavável. Selo PROCEL “A”. | E32: Peça | F32: 449052-34 | G32: 1500 | I32: =H32-SUM(K32:V32) -> 0 | J32: =IF(I32<0,"ATENÇÃO","OK") -> OK
C33: 30 | D33: Aparelho de ar condicionado tipo Split High Wall, (para parede), ciclo somente frio, capacidade frigorífica nominal de 18.000 btu’s, 220 V, com controle remoto (individual) sem fio e filtro de ar lavável. | E33: Peça | F33: 449052-34 | G33: 2200 | I33: =H33-SUM(K33:V33) -> 0 | J33: =IF(I33<0,"ATENÇÃO","OK") -> OK
C34: 31 | D34: Aparelho de ar condicionado tipo Split Piso Teto, capacidade frigorífica nominal 24.000 BTU’s, ciclo somente frio, 220 V, com controle remoto (individual), sem fio e filtro de ar lavável. | E34: Peça | F34: 449052-34 | G34: 4150 | I34: =H34-SUM(K34:V34) -> 0 | J34: =IF(I34<0,"ATENÇÃO","OK") -> OK
C35: 32 | D35: Condicionador de Ar ti Split Piso Teto, ciclo somente frio, 55.000 a 60.000 BTU´s, com controle remoto (individual sem fio). Trifásico 380V, com pressotato de alta e baixa, rele contra inversão de fase. Selo PROCEL até "E". | E35: Peça | F35: 449052-34 | G35: 7525 | I35: =H35-SUM(K35:V35) -> 0 | J35: =IF(I35<0,"ATENÇÃO","OK") -> OK
C36: 33 | D36: Cortina de Ar. Dimensões aproximadas: (L X A XP): 150 x 23 x 22cm , podendo ter pequena variação de tamanho, dependendo da marca do produto. Monofásico, 220 Volts. Potência (c/v) mínimo de 1/5. Nível máximo de ruído (db): menor que 60db. Modos de operação: ventila. Velocidades (m/s) mínimo de 11. Vazão de ar: mínimo de 1300 m3/h. Temperatura somente ventilação. Recursos função automática. Saída de ar frontal e vertical. Entrada superior de ar. Direcionadores de ar vertical. Recirculação de ar (m3/m) maior que 25. Prazo de garantia de 01 ano. Item incluso: controle remoto. Cor branco. | E36: Peça | F36: 449052-34 | G36: 800 | I36: =H36-SUM(K36:V36) -> 0 | J36: =IF(I36<0,"ATENÇÃO","OK") -> OK
C37: 34 | D37: Instalação de Cortina de Ar do item 80. | E37: Serviço | F37: 339039-25 | G37: 200 | I37: =H37-SUM(K37:V37) -> 0 | J37: =IF(I37<0,"ATENÇÃO","OK") -> OK
C38: 35 | D38: Instalação completa de equipamento de ar-condicionado tipo "split" até 24.000 BTU/h incluindo até 3 metros de distância entre evaporadora e condensadora – Composto de 01 (uma) unidade evaporadora e 01 (uma) unidade condensadora. | E38: Serviço | F38: 339039-25 | G38: 550 | I38: =H38-SUM(K38:V38) -> 0 | J38: =IF(I38<0,"ATENÇÃO","OK") -> OK
C39: 36 | D39: Instalação completa de equipamento de ar-condicionado tipo "split" acima de 48.000 BTU/h incluindo até 3 metros de distância entre evaporadora e condensadora – Composto de 01 (uma) unidade evaporadora e 01 (uma) unidade condensadora. | E39: Serviço | F39: 339039-25 | G39: 900 | I39: =H39-SUM(K39:V39) -> 0 | J39: =IF(I39<0,"ATENÇÃO","OK") -> OK
C40: 37 | D40: Metro adicional de linha para instalação de split até 24.000 BTU/h. | E40: Metro | F40: 339039-25 | G40: 50 | I40: =H40-SUM(K40:V40) -> 0 | J40: =IF(I40<0,"ATENÇÃO","OK") -> OK
...

Sheet ESAG
A1: PROCESSO: 1063/2015/UDESC - REL | D1: OBJETO: AQUISIÇÃO E INSTALAÇÃO DE APARELHOS DE AR CONDICIONADO PARA A UDESC - RELANÇAMENTO | H1: VIGÊNCIA DA ATA: 04/03/2016 até 03/03/2017 | K1: AF/OS nº xxxx/2016 Qtde. DT | L1: AF/OS nº xxxx/2016 Qtde. DT | M1: AF/OS nº xxxx/2016 Qtde. DT | N1: AF/OS nº xxxx/2016 Qtde. DT | O1: AF/OS nº xxxx/2016 Qtde. DT | P1: AF/OS nº xxxx/2016 Qtde. DT | Q1: AF/OS nº xxxx/2016 Qtde. DT | R1: AF/OS nº xxxx/2016 Qtde. DT | S1: AF/OS nº xxxx/2016 Qtde. DT | T1: AF/OS nº xxxx/2016 Qtde. DT | U1: AF/OS nº xxxx/2016 Qtde. DT | V1: AF/OS nº xxxx/2016 Qtde. DT
A2: CENTRO PARTICIPANTE: ESAG
A3: FORNECEDOR | B3: LOTE | C3: ITEM | D3: PRODUTO - CARACTERÍSTICAS MÍNIMAS | E3: UNIDADE | F3: DETALHAMENTO | G3: Preço UNITÁRIO (R$) | H3: Qtde Registrada | I3: Saldo / Automático | J3: ALERTA | K3: ...../...../...... | L3: ...../...../...... | M3: ...../...../...... | N3: ...../...../...... | O3: ...../...../...... | P3: ...../...../...... | Q3: ...../...../...... | R3: ...../...../...... | S3: ...../...../...... | T3: ...../...../...... | U3: ...../...../...... | V3: ...../...../......
A4: E&AR EQUIPAMENTOS DE REFRIGERAÇÃO EIRELI EPP | B4: 1 | C4: 1 | D4: Aparelho de ar condicionado tipo Split High Wall (para parede), capacidade frigorífica nominal de 9.000 btu’s, 220 V, somente frio, com controle remoto (individual) sem fio e filtro de ar lavável. Selo PROCEL “A” . | E4: Peça | F4: 449052-34 | G4: 1480 | I4: =H4-SUM(K4:V4) -> 0 | J4: =IF(I4<0,"ATENÇÃO","OK") -> OK
C5: 2 | D5: Aparelho de ar condicionado tipo Split High Wall (para parede), ciclo quente e frio: controle remoto sem fio, capacidade nominal de no mínimo 9.000 btus; capacidade de desumidificar o ambiente e filtro de ar lavável, tensão 220 Volts, frequência 60 Hz. Selo PROCEL “A”. | E5: Peça | F5: 449052-34 | G5: 1585 | I5: =H5-SUM(K5:V5) -> 0 | J5: =IF(I5<0,"ATENÇÃO","OK") -> OK
C6: 3 | D6: Aparelho de ar condicionado tipo Split High Wall (para parede), ciclo somente frio, 220 V, capacidade frigorífica nominal de 12.000 btu’s somente frio, com controle remoto (individual) sem fio e filtro de ar lavável. Selo PROCEL “A”. | E6: Peça | F6: 449052-34 | G6: 1595 | I6: =H6-SUM(K6:V6) -> 0 | J6: =IF(I6<0,"ATENÇÃO","OK") -> OK
C7: 4 | D7: Aparelho de ar condicionado tipo Split High Wall (para parede), ciclo quente e frio, capacidade frigorífica nominal de 12.000 btu’s, 220 V,com controle remoto (individual) sem fio e filtro de ar lavável. Selo PROCEL “A”. | E7: Peça | F7: 449052-34 | G7: 1685 | I7: =H7-SUM(K7:V7) -> 0 | J7: =IF(I7<0,"ATENÇÃO","OK") -> OK
C8: 5 | D8: Aparelho de ar condicionado tipo Split High Wall, (para parede), ciclo somente frio, capacidade frigorífica nominal de 18.000 btu’s, 220 V, com controle remoto (individual) sem fio e filtro de ar lavável. | E8: Peça | F8: 449052-34 | G8: 2200 | I8: =H8-SUM(K8:V8) -> 0 | J8: =IF(I8<0,"ATENÇÃO","OK") -> OK
C9: 6 | D9: Aparelho de ar condicionado tipo Split High Wall (para parede), ciclo quente e frio, capacidade frigorífica nominal de 18.000 btu’s, 220 V,com controle remoto (individual) sem fio e filtro de ar lavável. | E9: Peça | F9: 449052-34 | G9: 2455 | I9: =H9-SUM(K9:V9) -> 0 | J9: =IF(I9<0,"ATENÇÃO","OK") -> OK
C10: 7 | D10: Aparelho de ar condicionado tipo Split Cassete, ciclo FRIO: controle remoto sem fio, capacidade nominal de no mínimo 18.000 btus; tensão 220 Volts. | E10: Peça | F10: 449052-34 | G10: 4265 | I10: =H10-SUM(K10:V10) -> 0 | J10: =IF(I10<0,"ATENÇÃO","OK") -> OK
C11: 8 | D11: Aparelho de ar condicionado tipo Split Piso Teto, capacidade frigorífica nominal 24.000 BTU’s, ciclo somente frio, 220 V, com controle remoto (individual), sem fio e filtro de ar lavável. | E11: Peça | F11: 449052-34 | G11: 4100 | I11: =H11-SUM(K11:V11) -> 0 | J11: =IF(I11<0,"ATENÇÃO","OK") -> OK
C12: 9 | D12: Aparelho de ar condicionado tipo Split High Wall (para parede), ciclo quente e frio, capacidade frigorífica nominal de 24.000 btu’s, 220 V, com controle remoto (individual) sem fio e filtro de ar lavável. | E12: Peça | F12: 449052-34 | G12: 2960 | I12: =H12-SUM(K12:V12) -> 0 | J12: =IF(I12<0,"ATENÇÃO","OK") -> OK
C13: 10 | D13: Aparelho de ar condicionado tipo Split Cassete, ciclo FRIO: controle remoto sem fio, capacidade nominal de no mínimo 24.000 btus; tensão 220 Volts. | E13: Peça | F13: 449052-34 | G13: 4985 | I13: =H13-SUM(K13:V13) -> 0 | J13: =IF(I13<0,"ATENÇÃO","OK") -> OK
C14: 11 | D14: Aparelho de ar condicionado tipo Split Piso Teto, ciclo somente frio, capacidade frigorífica nominal de 30.000 btu’s somente frio, 220 V, com controle remoto (individual) sem fio e filtro de ar lavável. | E14: Peça | F14: 449052-34 | G14: 4870 | I14: =H14-SUM(K14:V14) -> 0 | J14: =IF(I14<0,"ATENÇÃO","OK") -> OK
C15: 12 | D15: Aparelho de ar condicionado tipo Split High Wall (para parede), ciclo quente e frio, capacidade frigorífica nominal de 30.000 btu’s, 220 V, com controle remoto (individual) sem fio e filtro de ar lavável. | E15: Peça | F15: 449052-34 | G15: 4605 | I15: =H15-SUM(K15:V15) -> 0 | J15: =IF(I15<0,"ATENÇÃO","OK") -> OK
C16: 13 | D16: Condicionador de Ar tipo Split Piso Teto – de 36.000 BTU’s ciclo somente frio, com controle remoto (individual) sem fio. | E16: Peça | F16: 449052-34 | G16: 5575 | I16: =H16-SUM(K16:V16) -> 0 | J16: =IF(I16<0,"ATENÇÃO","OK") -> OK
... C23: 20 | D23: Cortina de Ar. Dimensões aproximadas: (L X A XP): 150 x 23 x 22cm , podendo ter pequena variação de tamanho, dependendo da marca do produto. Monofásico, 220 Volts. Potência (c/v) mínimo de 1/5. Nível máximo de ruído (db): menor que 60db. Modos de operação: ventila. Velocidades (m/s) mínimo de 11. Vazão de ar: mínimo de 1300 m3/h. Temperatura somente ventilação. Recursos função automática. Saída de ar frontal e vertical. Entrada superior de ar. Direcionadores de ar vertical. Recirculação de ar (m3/m) maior que 25. Prazo de garantia de 01 ano. Item incluso: controle remoto. Cor branco. | E23: Peça | F23: 449052-34 | G23: 830 | I23: =H23-SUM(K23:V23) -> 0 | J23: =IF(I23<0,"ATENÇÃO","OK") -> OK
C24: 21 | D24: Instalação de Cortina de Ar do item 54. | E24: Serviço | F24: 339039-25 | G24: 220 | H24: 3 | I24: =H24-SUM(K24:V24) -> 3 | J24: =IF(I24<0,"ATENÇÃO","OK") -> OK
C25: 22 | D25: Instalação completa de equipamento de ar-condicionado tipo "split" até 24.000 BTU/h incluindo até 3 metros de distância entre evaporadora e condensadora – Composto de 01 (uma) unidade evaporadora e 01 (uma) unidade condensadora. | E25: Serviço | F25: 339039-25 | G25: 600 | H25: 10 | I25: =H25-SUM(K25:V25) -> 10 | J25: =IF(I25<0,"ATENÇÃO","OK") -> OK
C26: 23 | D26: Instalação completa de equipamento de ar-condicionado tipo "split" de 25.000 a 48.000 BTU/h incluindo até 3 metros de distância entre evaporadora e condensadora – Composto de 01 (uma) unidade evaporadora e 01 (uma) unidade condensadora. | E26: Serviço | F26: 339039-25 | G26: 815 | H26: 10 | I26: =H26-SUM(K26:V26) -> 10 | J26: =IF(I26<0,"ATENÇÃO","OK") -> OK
C27: 24 | D27: Instalação completa de equipamento de ar-condicionado tipo "split" acima de 48.000 BTU/h incluindo até 3 metros de distância entre evaporadora e condensadora – Composto de 01 (uma) unidade evaporadora e 01 (uma) unidade condensadora. | E27: Serviço | F27: 339039-25 | G27: 1010 | H27: 30 | I27: =H27-SUM(K27:V27) -> 30 | J27: =IF(I27<0,"ATENÇÃO","OK") -> OK
C28: 25 | D28: Metro adicional de linha para instalação de split até 24.000 BTU/h. | E28: Metro | F28: 339039-25 | G28: 55 | H28: 30 | I28: =H28-SUM(K28:V28) -> 30 | J28: =IF(I28<0,"ATENÇÃO","OK") -> OK
C29: 26 | D29: Metro adicional de linha para instalação de split de 25.000 a 48.000 BTU/h. | E29: Metro | F29: 339039-25 | G29: 63 | H29: 30 | I29: =H29-SUM(K29:V29) -> 30 | J29: =IF(I29<0,"ATENÇÃO","OK") -> OK
C30: 27 | D30: Metro adicional de linha para instalação de split acima de 48.000 BTU/h. | E30: Metro | F30: 339039-25 | G30: 76 | H30: 30 | I30: =H30-SUM(K30:V30) -> 30 | J30: =IF(I30<0,"ATENÇÃO","OK") -> OK
C31: 28 | D31: Desinstalação de equipamento de ar-condicionado. | E31: Serviço | F31: 339039-25 | G31: 302 | H31: 50 | I31: =H31-SUM(K31:V31) -> 50 | J31: =IF(I31<0,"ATENÇÃO","OK") -> OK
A32: E&AR EQUIPAMENTOS DE REFRIGERAÇÃO EIRELI EPP | B32: 2 | C32: 29 | D32: Aparelho de ar condicionado tipo Split High Wall (para parede), ciclo somente frio, 220 V, capacidade frigorífica nominal de 12.000 btu’s somente frio, com controle remoto (individual) sem fio e filtro de ar lavável. Selo PROCEL “A”. | E32: Peça | F32: 449052-34 | G32: 1500 | I32: =H32-SUM(K32:V32) -> 0 | J32: =IF(I32<0,"ATENÇÃO","OK") -> OK
C33: 30 | D33: Aparelho de ar condicionado tipo Split High Wall, (para parede), ciclo somente frio, capacidade frigorífica nominal de 18.000 btu’s, 220 V, com controle remoto (individual) sem fio e filtro de ar lavável. | E33: Peça | F33: 449052-34 | G33: 2200 | I33: =H33-SUM(K33:V33) -> 0 | J33: =IF(I33<0,"ATENÇÃO","OK") -> OK
C34: 31 | D34: Aparelho de ar condicionado tipo Split Piso Teto, capacidade frigorífica nominal 24.000 BTU’s, ciclo somente frio, 220 V, com controle remoto (individual), sem fio e filtro de ar lavável. | E34: Peça | F34: 449052-34 | G34: 4150 | I34: =H34-SUM(K34:V34) -> 0 | J34: =IF(I34<0,"ATENÇÃO","OK") -> OK
C35: 32 | D35: Condicionador de Ar ti Split Piso Teto, ciclo somente frio, 55.000 a 60.000 BTU´s, com controle remoto (individual sem fio). Trifásico 380V, com pressotato de alta e baixa, rele contra inversão de fase. Selo PROCEL até "E". | E35: Peça | F35: 449052-34 | G35: 7525 | I35: =H35-SUM(K35:V35) -> 0 | J35: =IF(I35<0,"ATENÇÃO","OK") -> OK
C36: 33 | D36: Cortina de Ar. Dimensões aproximadas: (L X A XP): 150 x 23 x 22cm , podendo ter pequena variação de tamanho, dependendo da marca do produto. Monofásico, 220 Volts. Potência (c/v) mínimo de 1/5. Nível máximo de ruído (db): menor que 60db. Modos de operação: ventila. Velocidades (m/s) mínimo de 11. Vazão de ar: mínimo de 1300 m3/h. Temperatura somente ventilação. Recursos função automática. Saída de ar frontal e vertical. Entrada superior de ar. Direcionadores de ar vertical. Recirculação de ar (m3/m) maior que 25. Prazo de garantia de 01 ano. Item incluso: controle remoto. Cor branco. | E36: Peça | F36: 449052-34 | G36: 800 | I36: =H36-SUM(K36:V36) -> 0 | J36: =IF(I36<0,"ATENÇÃO","OK") -> OK
C37: 34 | D37: Instalação de Cortina de Ar do item 80. | E37: Serviço | F37: 339039-25 | G37: 200 | I37: =H37-SUM(K37:V37) -> 0 | J37: =IF(I37<0,"ATENÇÃO","OK") -> OK
C38: 35 | D38: Instalação completa de equipamento de ar-condicionado tipo "split" até 24.000 BTU/h incluindo até 3 metros de distância entre evaporadora e condensadora – Composto de 01 (uma) unidade evaporadora e 01 (uma) unidade condensadora. | E38: Serviço | F38: 339039-25 | G38: 550 | I38: =H38-SUM(K38:V38) -> 0 | J38: =IF(I38<0,"ATENÇÃO","OK") -> OK
C39: 36 | D39: Instalação completa de equipamento de ar-condicionado tipo "split" acima de 48.000 BTU/h incluindo até 3 metros de distância entre evaporadora e condensadora – Composto de 01 (uma) unidade evaporadora e 01 (uma) unidade condensadora. | E39: Serviço | F39: 339039-25 | G39: 900 | I39: =H39-SUM(K39:V39) -> 0 | J39: =IF(I39<0,"ATENÇÃO","OK") -> OK
C40: 37 | D40: Metro adicional de linha para instalação de split até 24.000 BTU/h. | E40: Metro | F40: 339039-25 | G40: 50 | I40: =H40-SUM(K40:V40) -> 0 | J40: =IF(I40<0,"ATENÇÃO","OK") -> OK
C41: 38 | D41: Metro adicional de linha para instalação de split acima de 48.000 BTU/h. | E41: Metro | F41: 339039-25 | G41: 70 | I41: =H41-SUM(K41:V41) -> 0 | J41: =IF(I41<0,"ATENÇÃO","OK") -> OK
C42: 39 | D42: Desinstalação de equipamento de ar-condicionado. | E42: Serviço | F42: 339039-25 | G42: 300 | I42: =H42-SUM(K42:V42) -> 0 | J42: =IF(I42<0,"ATENÇÃO","OK") -> OK

Sheet CEART
A1: PROCESSO: 1063/2015/UDESC - REL | D1: OBJETO: AQUISIÇÃO E INSTALAÇÃO DE APARELHOS DE AR CONDICIONADO PARA A UDESC - RELANÇAMENTO | H1: VIGÊNCIA DA ATA: 04/03/2016 até 03/03/2017 | K1: AF/OS nº 935/2016 Qtde. DT | L1: AF/OS nº 936/2016 Qtde. DT | M1: AF/OS nº xxxx/2016 Qtde. DT | N1: AF/OS nº xxxx/2016 Qtde. DT | O1: AF/OS nº xxxx/2016 Qtde. DT | P1: AF/OS nº xxxx/2016 Qtde. DT | Q1: AF/OS nº xxxx/2016 Qtde. DT | R1: AF/OS nº xxxx/2016 Qtde. DT | S1: AF/OS nº xxxx/2016 Qtde. DT | T1: AF/OS nº xxxx/2016 Qtde. DT | U1: AF/OS nº xxxx/2016 Qtde. DT | V1: AF/OS nº xxxx/2016 Qtde. DT
A2: CENTRO PARTICIPANTE: CEART
A3: FORNECEDOR | B3: LOTE | C3: ITEM | D3: PRODUTO - CARACTERÍSTICAS MÍNIMAS | E3: UNIDADE | F3: DETALHAMENTO | G3: Preço UNITÁRIO (R$) | H3: Qtde Registrada | I3: Saldo / Automático | J3: ALERTA | K3: 42599 | L3: 42599 | M3: ...../...../...... | N3: ...../...../...... | O3: ...../...../...... | P3: ...../...../...... | Q3: ...../...../...... | R3: ...../...../...... | S3: ...../...../...... | T3: ...../...../...... | U3: ...../...../...... | V3: ...../...../......
A4: E&AR EQUIPAMENTOS DE REFRIGERAÇÃO EIRELI EPP | B4: 1 | C4: 1 | D4: Aparelho de ar condicionado tipo Split High Wall (para parede), capacidade frigorífica nominal de 9.000 btu’s, 220 V, somente frio, com controle remoto (individual) sem fio e filtro de ar lavável. Selo PROCEL “A” . | E4: Peça | F4: 449052-34 | G4: 1480 | I4: =H4-SUM(K4:V4) -> 0 | J4: =IF(I4<0,"ATENÇÃO","OK") -> OK
C5: 2 | D5: Aparelho de ar condicionado tipo Split High Wall (para parede), ciclo quente e frio: controle remoto sem fio, capacidade nominal de no mínimo 9.000 btus; capacidade de desumidificar o ambiente e filtro de ar lavável, tensão 220 Volts, frequência 60 Hz. Selo PROCEL “A”. | E5: Peça | F5: 449052-34 | G5: 1585 | I5: =H5-SUM(K5:V5) -> 0 | J5: =IF(I5<0,"ATENÇÃO","OK") -> OK
C6: 3 | D6: Aparelho de ar condicionado tipo Split High Wall (para parede), ciclo somente frio, 220 V, capacidade frigorífica nominal de 12.000 btu’s somente frio, com controle remoto (individual) sem fio e filtro de ar lavável. Selo PROCEL “A”. | E6: Peça | F6: 449052-34 | G6: 1595 | H6: 35 | I6: =H6-SUM(K6:V6) -> 35 | J6: =IF(I6<0,"ATENÇÃO","OK") -> OK
C7: 4 | D7: Aparelho de ar condicionado tipo Split High Wall (para parede), ciclo quente e frio, capacidade frigorífica nominal de 12.000 btu’s, 220 V,com controle remoto (individual) sem fio e filtro de ar lavável. Selo PROCEL “A”. | E7: Peça | F7: 449052-34 | G7: 1685 | I7: =H7-SUM(K7:V7) -> 0 | J7: =IF(I7<0,"ATENÇÃO","OK") -> OK
C8: 5 | D8: Aparelho de ar condicionado tipo Split High Wall, (para parede), ciclo somente frio, capacidade frigorífica nominal de 18.000 btu’s, 220 V, com controle remoto (individual) sem fio e filtro de ar lavável. | E8: Peça | F8: 449052-34 | G8: 2200 | H8: 10 | I8: =H8-SUM(K8:V8) -> 8 | J8: =IF(I8<0,"ATENÇÃO","OK") -> OK | K8: 2
C9: 6 | D9: Aparelho de ar condicionado tipo Split High Wall (para parede), ciclo quente e frio, capacidade frigorífica nominal de 18.000 btu’s, 220 V,com controle remoto (individual) sem fio e filtro de ar lavável. | E9: Peça | F9: 449052-34 | G9: 2455 | I9: =H9-SUM(K9:V9) -> 0 | J9: =IF(I9<0,"ATENÇÃO","OK") -> OK
C10: 7 | D10: Aparelho de ar condicionado tipo Split Cassete, ciclo FRIO: controle remoto sem fio, capacidade nominal de no mínimo 18.000 btus; tensão 220 Volts. | E10: Peça | F10: 449052-34 | G10: 4265 | I10: =H10-SUM(K10:V10) -> 0 | J10: =IF(I10<0,"ATENÇÃO","OK") -> OK
C11: 8 | D11: Aparelho de ar condicionado tipo Split Piso Teto, capacidade frigorífica nominal 24.000 BTU’s, ciclo somente frio, 220 V, com controle remoto (individual), sem fio e filtro de ar lavável. | E11: Peça | F11: 449052-34 | G11: 4100 | H11: 8 | I11: =H11-SUM(K11:V11) -> 8 | J11: =IF(I11<0,"ATENÇÃO","OK") -> OK
C12: 9 | D12: Aparelho de ar condicionado tipo Split High Wall (para parede), ciclo quente e frio, capacidade frigorífica nominal de 24.000 btu’s, 220 V, com controle remoto (individual) sem fio e filtro de ar lavável. | E12: Peça | F12: 449052-34 | G12: 2960 | I12: =H12-SUM(K12:V12) -> 0 | J12: =IF(I12<0,"ATENÇÃO","OK") -> OK
C13: 10 | D13: Aparelho de ar condicionado tipo Split Cassete, ciclo FRIO: controle remoto sem fio, capacidade nominal de no mínimo 24.000 btus; tensão 220 Volts. | E13: Peça | F13: 449052-34 | G13: 4985 | I13: =H13-SUM(K13:V13) -> 0 | J13: =IF(I13<0,"ATENÇÃO","OK") -> OK
C14: 11 | D14: Aparelho de ar condicionado tipo Split Piso Teto, ciclo somente frio, capacidade frigorífica nominal de 30.000 btu’s somente frio, 220 V, com controle remoto (individual) sem fio e filtro de ar lavável. | E14: Peça | F14: 449052-34 | G14: 4870 | H14: 6 | I14: =H14-SUM(K14:V14) -> 6 | J14: =IF(I14<0,"ATENÇÃO","OK") -> OK
C15: 12 | D15: Aparelho de ar condicionado tipo Split High Wall (para parede), ciclo quente e frio, capacidade frigorífica nominal de 30.000 btu’s, 220 V, com controle remoto (individual) sem fio e filtro de ar lavável. | E15: Peça | F15: 449052-34 | G15: 4605 | I15: =H15-SUM(K15:V15) -> 0 | J15: =IF(I15<0,"ATENÇÃO","OK") -> OK
C16: 13 | D16: Condicionador de Ar tipo Split Piso Teto – de 36.000 BTU’s ciclo somente frio, com controle remoto (individual) sem fio. | E16: Peça | F16: 449052-34 | G16: 5575 | I16: =H16-SUM(K16:V16) -> 0 | J16: =IF(I16<0,"ATENÇÃO","OK") -> OK
C17: 14 | D17: Condicionado de Ar tipo Split Piso Teto/Parede, capacidade frigorífica nominal de 36.000 btu’s, ciclos quente e frio, 220 V, com controle remoto sem fio e filtro de ar lavável. | E17: Peça | F17: 449052-34 | G17: 6005 | I17: =H17-SUM(K17:V17) -> 0 | J17: =IF(I17<0,"ATENÇÃO","OK") -> OK
C18: 15 | D18: Aparelho de ar condicionado tipo Split Cassete, ciclo FRIO: controle remoto sem fio, capacidade nominal de no mínimo 36.000 btus; tensão 220 Volts. | E18: Peça | F18: 449052-34 | G18: 7485 | I18: =H18-SUM(K18:V18) -> 0 | J18: =IF(I18<0,"ATENÇÃO","OK") -> OK
C19: 16 | D19: Condicionador de Ar tipo Split Piso Teto – de 48.000 BTU’s ciclo somente frio, com controle remoto (individual) sem fio e filtro de ar lavável. | E19: Peça | F19: 449052-34 | G19: 6820 | H19: 2 | I19: =H19-SUM(K19:V19) -> 2 | J19: =IF(I19<0,"ATENÇÃO","OK") -> OK
C20: 17 | D20: Condicionador de Ar tipo Split Piso Teto, ciclo somente frio, 55.000 a 60.000 BTU´s, com controle remoto (individual sem fio). Trifásico 380V, com pressotato de alta e baixa, rele contra inversão de fase. Selo PROCEL até "E". | E20: Peça | F20: 449052-34 | G20: 7625 | I20: =H20-SUM(K20:V20) -> 0 | J20: =IF(I20<0,"ATENÇÃO","OK") -> OK
C21: 18 | D21: Condicionador de Ar tipo Split Piso Teto/Parede – de 55.000 a 60.000 BTU’s ciclos quente e frio, com controle remoto - trifásico 380 V, com pressotato de alta e baixa, rele contra inversão de fase. Selo PROCEL até "E". | E21: Peça | F21: 449052-34 | G21: 8225 | I21: =H21-SUM(K21:V21) -> 0 | J21: =IF(I21<0,"ATENÇÃO","OK") -> OK
C22: 19 | D22: Aparelho de ar condicionado tipo Split Cassete, capacidade nominal de no mínimo 55.000 a 60.000 BTU’s ciclo frio, com controle remoto - trifásico 380 V, com pressotato de alta e baixa, rele contra inversão de fase. | E22: Peça | F22: 449052-34 | G22: 8700 | H22: 2 | I22: =H22-SUM(K22:V22) -> 2 | J22: =IF(I22<0,"ATENÇÃO","OK") -> OK
C23: 20 | D23: Cortina de Ar. Dimensões aproximadas: (L X A XP): 150 x 23 x 22cm , podendo ter pequena variação de tamanho, dependendo da marca do produto. Monofásico, 220 Volts. Potência (c/v) mínimo de 1/5. Nível máximo de ruído (db): menor que 60db. Modos de operação: ventila. Velocidades (m/s) mínimo de 11. Vazão de ar: mínimo de 1300 m3/h. Temperatura somente ventilação. Recursos função automática. Saída de ar frontal e vertical. Entrada superior de ar. Direcionadores de ar vertical. Recirculação de ar (m3/m) maior que 25. Prazo de garantia de 01 ano. Item incluso: controle remoto. Cor branco. | E23: Peça | F23: 449052-34 | G23: 830 | H23: 5 | I23: =H23-SUM(K23:V23) -> 5 | J23: =IF(I23<0,"ATENÇÃO","OK") -> OK
C24: 21 | D24: Instalação de Cortina de Ar do item 54. | E24: Serviço | F24: 339039-25 | G24: 220 | H24: 5 | I24: =H24-SUM(K24:V24) -> 5 | J24: =IF(I24<0,"ATENÇÃO","OK") -> OK
C25: 22 | D25: Instalação completa de equipamento de ar-condicionado tipo "split" até 24.000 BTU/h incluindo até 3 metros de distância entre evaporadora e condensadora – Composto de 01 (uma) unidade evaporadora e 01 (uma) unidade condensadora. | E25: Serviço | F25: 339039-25 | G25: 600 | H25: 58 | I25: =H25-SUM(K25:V25) -> 56 | J25: =IF(I25<0,"ATENÇÃO","OK") -> OK | L25: 2
C26: 23 | D26: Instalação completa de equipamento de ar-condicionado tipo "split" de 25.000 a 48.000 BTU/h incluindo até 3 metros de distância entre evaporadora e condensadora – Composto de 01 (uma) unidade evaporadora e 01 (uma) unidade condensadora. | E26: Serviço | F26: 339039-25 | G26: 815 | H26: 13 | I26: =H26-SUM(K26:V26) -> 13 | J26: =IF(I26<0,"ATENÇÃO","OK") -> OK
C27: 24 | D27: Instalação completa de equipamento de ar-condicionado tipo "split" acima de 48.000 BTU/h incluindo até 3 metros de distância entre evaporadora e condensadora – Composto de 01 (uma) unidade evaporadora e 01 (uma) unidade condensadora. | E27: Serviço | F27: 339039-25 | G27: 1010 | H27: 7 | I27: =H27-SUM(K27:V27) -> 7 | J27: =IF(I27<0,"ATENÇÃO","OK") -> OK
C28: 25 | D28: Metro adicional de linha para instalação de split até 24.000 BTU/h. | E28: Metro | F28: 339039-25 | G28: 55 | H28: 1100 | I28: =H28-SUM(K28:V28) -> 1100 | J28: =IF(I28<0,"ATENÇÃO","OK") -> OK
C29: 26 | D29: Metro adicional de linha para instalação de split de 25.000 a 48.000 BTU/h. | E29: Metro | F29: 339039-25 | G29: 63 | H29: 450 | I29: =H29-SUM(K29:V29) -> 450 | J29: =IF(I29<0,"ATENÇÃO","OK") -> OK
C30: 27 | D30: Metro adicional de linha para instalação de split acima de 48.000 BTU/h. | E30: Metro | F30: 339039-25 | G30: 76 | H30: 200 | I30: =H30-SUM(K30:V30) -> 200 | J30: =IF(I30<0,"ATENÇÃO","OK") -> OK
C31: 28 | D31: Desinstalação de equipamento de ar-condicionado. | E31: Serviço | F31: 339039-25 | G31: 302 | H31: 50 | I31: =H31-SUM(K31:V31) -> 50 | J31: =IF(I31<0,"ATENÇÃO","OK") -> OK
A32: E&AR EQUIPAMENTOS DE REFRIGERAÇÃO EIRELI EPP | B32: 2 | C32: 29 | D32: Aparelho de ar condicionado tipo Split High Wall (para parede), ciclo somente frio, 220 V, capacidade frigorífica nominal de 12.000 btu’s somente frio, com controle remoto (individual) sem fio e filtro de ar lavável. Selo PROCEL “A”. | E32: Peça | F32: 449052-34 | G32: 1500 | I32: =H32-SUM(K32:V32) -> 0 | J32: =IF(I32<0,"ATENÇÃO","OK") -> OK
C33: 30 | D33: Aparelho de ar condicionado tipo Split High Wall, (para parede), ciclo somente frio, capacidade frigorífica nominal de 18.000 btu’s, 220 V, com controle remoto (individual) sem fio e filtro de ar lavável. | E33: Peça | F33: 449052-34 | G33: 2200 | I33: =H33-SUM(K33:V33) -> 0 | J33: =IF(I33<0,"ATENÇÃO","OK") -> OK
C34: 31 | D34: Aparelho de ar condicionado tipo Split Piso Teto, capacidade frigorífica nominal 24.000 BTU’s, ciclo somente frio, 220 V, com controle remoto (individual), sem fio e filtro de ar lavável. | E34: Peça | F34: 449052-34 | G34: 4150 | I34: =H34-SUM(K34:V34) -> 0 | J34: =IF(I34<0,"ATENÇÃO","OK") -> OK
C35: 32 | D35: Condicionador de Ar ti Split Piso Teto, ciclo somente frio, 55.000 a 60.000 BTU´s, com controle remoto (individual sem fio). Trifásico 380V, com pressotato de alta e baixa, rele contra inversão de fase. Selo PROCEL até "E". | E35: Peça | F35: 449052-34 | G35: 7525 | I35: =H35-SUM(K35:V35) -> 0 | J35: =IF(I35<0,"ATENÇÃO","OK") -> OK
C36: 33 | D36: Cortina de Ar. Dimensões aproximadas: (L X A XP): 150 x 23 x 22cm , podendo ter pequena variação de tamanho, dependendo da marca do produto. Monofásico, 220 Volts. Potência (c/v) mínimo de 1/5. Nível máximo de ruído (db): menor que 60db. Modos de operação: ventila. Velocidades (m/s) mínimo de 11. Vazão de ar: mínimo de 1300 m3/h. Temperatura somente ventilação. Recursos função automática. Saída de ar frontal e vertical. Entrada superior de ar. Direcionadores de ar vertical. Recirculação de ar (m3/m) maior que 25. Prazo de garantia de 01 ano. Item incluso: controle remoto. Cor branco. | E36: Peça | F36: 449052-34 | G36: 800 | I36: =H36-SUM(K36:V36) -> 0 | J36: =IF(I36<0,"ATENÇÃO","OK") -> OK
C37: 34 | D37: Instalação de Cortina de Ar do item 80. | E37: Serviço | F37: 339039-25 | G37: 200 | I37: =H37-SUM(K37:V37) -> 0 | J37: =IF(I37<0,"ATENÇÃO","OK") -> OK
C38: 35 | D38: Instalação completa de equipamento de ar-condicionado tipo "split" até 24.000 BTU/h incluindo até 3 metros de distância entre evaporadora e condensadora – Composto de 01 (uma) unidade evaporadora e 01 (uma) unidade condensadora. | E38: Serviço | F38: 339039-25 | G38: 550 | I38: =H38-SUM(K38:V38) -> 0 | J38: =IF(I38<0,"ATENÇÃO","OK") -> OK
C39: 36 | D39: Instalação completa de equipamento de ar-condicionado tipo "split" acima de 48.000 BTU/h incluindo até 3 metros de distância entre evaporadora e condensadora – Composto de 01 (uma) unidade evaporadora e 01 (uma) unidade condensadora. | E39: Serviço | F39: 339039-25 | G39: 900 | I39: =H39-SUM(K39:V39) -> 0 | J39: =IF(I39<0,"ATENÇÃO","OK") -> OK
C40: 37 | D40: Metro adicional de linha para instalação de split até 24.000 BTU/h. | E40: Metro | F40: 339039-25 | G40: 50 | I40: =H40-SUM(K40:V40) -> 0 | J40: =IF(I40<0,"ATENÇÃO","OK") -> OK
...

Sheet FAED
A1: PROCESSO: 1063/2015/UDESC - REL | D1: OBJETO: AQUISIÇÃO E INSTALAÇÃO DE APARELHOS DE AR CONDICIONADO PARA A UDESC - RELANÇAMENTO | H1: VIGÊNCIA DA ATA: 04/03/2016 até 03/03/2017 | K1: AF/OS nº 268/2016 Qtde. DT | L1: AF/OS nº 341/2016 Qtde. DT | M1: AF/OS nº 838/2016 Qtde. DT | N1: AF/OS nº xxxx/2016 Qtde. DT | O1: AF/OS nº xxxx/2016 Qtde. DT | P1: AF/OS nº xxxx/2016 Qtde. DT | Q1: AF/OS nº xxxx/2016 Qtde. DT | R1: AF/OS nº xxxx/2016 Qtde. DT | S1: AF/OS nº xxxx/2016 Qtde. DT | T1: AF/OS nº xxxx/2016 Qtde. DT | U1: AF/OS nº xxxx/2016 Qtde. DT | V1: AF/OS nº xxxx/2016 Qtde. DT
A2: CENTRO PARTICIPANTE: FAED
A3: FORNECEDOR | B3: LOTE | C3: ITEM | D3: PRODUTO - CARACTERÍSTICAS MÍNIMAS | E3: UNIDADE | F3: DETALHAMENTO | G3: Preço UNITÁRIO (R$) | H3: Qtde Registrada | I3: Saldo / Automático | J3: ALERTA | K3: 42446 | L3: 42466 | M3: 42577 | N3: ...../...../...... | O3: ...../...../...... | P3: ...../...../...... | Q3: ...../...../...... | R3: ...../...../...... | S3: ...../...../...... | T3: ...../...../...... | U3: ...../...../...... | V3: ...../...../......
A4: E&AR EQUIPAMENTOS DE REFRIGERAÇÃO EIRELI EPP | B4: 1 | C4: 1 | D4: Aparelho de ar condicionado tipo Split High Wall (para parede), capacidade frigorífica nominal de 9.000 btu’s, 220 V, somente frio, com controle remoto (individual) sem fio e filtro de ar lavável. Selo PROCEL “A” . | E4: Peça | F4: 449052-34 | G4: 1480 | H4: 4 | I4: =H4-SUM(K4:V4) -> 4 | J4: =IF(I4<0,"ATENÇÃO","OK") -> OK
C5: 2 | D5: Aparelho de ar condicionado tipo Split High Wall (para parede), ciclo quente e frio: controle remoto sem fio, capacidade nominal de no mínimo 9.000 btus; capacidade de desumidificar o ambiente e filtro de ar lavável, tensão 220 Volts, frequência 60 Hz. Selo PROCEL “A”. | E5: Peça | F5: 449052-34 | G5: 1585 | I5: =H5-SUM(K5:V5) -> 0 | J5: =IF(I5<0,"ATENÇÃO","OK") -> OK
C6: 3 | D6: Aparelho de ar condicionado tipo Split High Wall (para parede), ciclo somente frio, 220 V, capacidade frigorífica nominal de 12.000 btu’s somente frio, com controle remoto (individual) sem fio e filtro de ar lavável. Selo PROCEL “A”. | E6: Peça | F6: 449052-34 | G6: 1595 | H6: 3 | I6: =H6-SUM(K6:V6) -> 3 | J6: =IF(I6<0,"ATENÇÃO","OK") -> OK
C7: 4 | D7: Aparelho de ar condicionado tipo Split High Wall (para parede), ciclo quente e frio, capacidade frigorífica nominal de 12.000 btu’s, 220 V,com controle remoto (individual) sem fio e filtro de ar lavável. Selo PROCEL “A”. | E7: Peça | F7: 449052-34 | G7: 1685 | I7: =H7-SUM(K7:V7) -> 0 | J7: =IF(I7<0,"ATENÇÃO","OK") -> OK
C8: 5 | D8: Aparelho de ar condicionado tipo Split High Wall, (para parede), ciclo somente frio, capacidade frigorífica nominal de 18.000 btu’s, 220 V, com controle remoto (individual) sem fio e filtro de ar lavável. | E8: Peça | F8: 449052-34 | G8: 2200 | H8: 3 | I8: =H8-SUM(K8:V8) -> 3 | J8: =IF(I8<0,"ATENÇÃO","OK") -> OK
C9: 6 | D9: Aparelho de ar condicionado tipo Split High Wall (para parede), ciclo quente e frio, capacidade frigorífica nominal de 18.000 btu’s, 220 V,com controle remoto (individual) sem fio e filtro de ar lavável. | E9: Peça | F9: 449052-34 | G9: 2455 | I9: =H9-SUM(K9:V9) -> 0 | J9: =IF(I9<0,"ATENÇÃO","OK") -> OK
C10: 7 | D10: Aparelho de ar condicionado tipo Split Cassete, ciclo FRIO: controle remoto sem fio, capacidade nominal de no mínimo 18.000 btus; tensão 220 Volts. | E10: Peça | F10: 449052-34 | G10: 4265 | I10: =H10-SUM(K10:V10) -> 0 | J10: =IF(I10<0,"ATENÇÃO","OK") -> OK
C11: 8 | D11: Aparelho de ar condicionado tipo Split Piso Teto, capacidade frigorífica nominal 24.000 BTU’s, ciclo somente frio, 220 V, com controle remoto (individual), sem fio e filtro de ar lavável. | E11: Peça | F11: 449052-34 | G11: 4100 | H11: 5 | I11: =H11-SUM(K11:V11) -> 5 | J11: =IF(I11<0,"ATENÇÃO","OK") -> OK
C12: 9 | D12: Aparelho de ar condicionado tipo Split High Wall (para parede), ciclo quente e frio, capacidade frigorífica nominal de 24.000 btu’s, 220 V, com controle remoto (individual) sem fio e filtro de ar lavável. | E12: Peça | F12: 449052-34 | G12: 2960 | I12: =H12-SUM(K12:V12) -> 0 | J12: =IF(I12<0,"ATENÇÃO","OK") -> OK
C13: 10 | D13: Aparelho de ar condicionado tipo Split Cassete, ciclo FRIO: controle remoto sem fio, capacidade nominal de no mínimo 24.000 btus; tensão 220 Volts. | E13: Peça | F13: 449052-34 | G13: 4985 | I13: =H13-SUM(K13:V13) -> 0 | J13: =IF(I13<0,"ATENÇÃO","OK") -> OK
C14: 11 | D14: Aparelho de ar condicionado tipo Split Piso Teto, ciclo somente frio, capacidade frigorífica nominal de 30.000 btu’s somente frio, 220 V, com controle remoto (individual) sem fio e filtro de ar lavável. | E14: Peça | F14: 449052-34 | G14: 4870 | I14: =H14-SUM(K14:V14) -> 0 | J14: =IF(I14<0,"ATENÇÃO","OK") -> OK
C15: 12 | D15: Aparelho de ar condicionado tipo Split High Wall (para parede), ciclo quente e frio, capacidade frigorífica nominal de 30.000 btu’s, 220 V, com controle remoto (individual) sem fio e filtro de ar lavável. | E15: Peça | F15: 449052-34 | G15: 4605 | I15: =H15-SUM(K15:V15) -> 0 | J15: =IF(I15<0,"ATENÇÃO","OK") -> OK
C16: 13 | D16: Condicionador de Ar tipo Split Piso Teto – de 36.000 BTU’s ciclo somente frio, com controle remoto (individual) sem fio. | E16: Peça | F16: 449052-34 | G16: 5575 | I16: =H16-SUM(K16:V16) -> 0 | J16: =IF(I16<0,"ATENÇÃO","OK") -> OK
C17: 14 | D17: Condicionado de Ar tipo Split Piso Teto/Parede, capacidade frigorífica nominal de 36.000 btu’s, ciclos quente e frio, 220 V, com controle remoto sem fio e filtro de ar lavável. | E17: Peça | F17: 449052-34 | G17: 6005 | I17: =H17-SUM(K17:V17) -> 0 | J17: =IF(I17<0,"ATENÇÃO","OK") -> OK
C18: 15 | D18: Aparelho de ar condicionado tipo Split Cassete, ciclo FRIO: controle remoto sem fio, capacidade nominal de no mínimo 36.000 btus; tensão 220 Volts. | E18: Peça | F18: 449052-34 | G18: 7485 | I18: =H18-SUM(K18:V18) -> 0 | J18: =IF(I18<0,"ATENÇÃO","OK") -> OK
C19: 16 | D19: Condicionador de Ar tipo Split Piso Teto – de 48.000 BTU’s ciclo somente frio, com controle remoto (individual) sem fio e filtro de ar lavável. | E19: Peça | F19: 449052-34 | G19: 6820 | H19: 5 | I19: =H19-SUM(K19:V19) -> 5 | J19: =IF(I19<0,"ATENÇÃO","OK") -> OK
C20: 17 | D20: Condicionador de Ar tipo Split Piso Teto, ciclo somente frio, 55.000 a 60.000 BTU´s, com controle remoto (individual sem fio). Trifásico 380V, com pressotato de alta e baixa, rele contra inversão de fase. Selo PROCEL até "E". | E20: Peça | F20: 449052-34 | G20: 7625 | I20: =H20-SUM(K20:V20) -> 0 | J20: =IF(I20<0,"ATENÇÃO","OK") -> OK
C21: 18 | D21: Condicionador de Ar tipo Split Piso Teto/Parede – de 55.000 a 60.000 BTU’s ciclos quente e frio, com controle remoto - trifásico 380 V, com pressotato de alta e baixa, rele contra inversão de fase. Selo PROCEL até "E". | E21: Peça | F21: 449052-34 | G21: 8225 | I21: =H21-SUM(K21:V21) -> 0 | J21: =IF(I21<0,"ATENÇÃO","OK") -> OK
C22: 19 | D22: Aparelho de ar condicionado tipo Split Cassete, capacidade nominal de no mínimo 55.000 a 60.000 BTU’s ciclo frio, com controle remoto - trifásico 380 V, com pressotato de alta e baixa, rele contra inversão de fase. | E22: Peça | F22: 449052-34 | G22: 8700 | H22: 4 | I22: =H22-SUM(K22:V22) -> 4 | J22: =IF(I22<0,"ATENÇÃO","OK") -> OK
C23: 20 | D23: Cortina de Ar. Dimensões aproximadas: (L X A XP): 150 x 23 x 22cm , podendo ter pequena variação de tamanho, dependendo da marca do produto. Monofásico, 220 Volts. Potência (c/v) mínimo de 1/5. Nível máximo de ruído (db): menor que 60db. Modos de operação: ventila. Velocidades (m/s) mínimo de 11. Vazão de ar: mínimo de 1300 m3/h. Temperatura somente ventilação. Recursos função automática. Saída de ar frontal e vertical. Entrada superior de ar. Direcionadores de ar vertical. Recirculação de ar (m3/m) maior que 25. Prazo de garantia de 01 ano. Item incluso: controle remoto. Cor branco. | E23: Peça | F23: 449052-34 | G23: 830 | I23: =H23-SUM(K23:V23) -> 0 | J23: =IF(I23<0,"ATENÇÃO","OK") -> OK
C24: 21 | D24: Instalação de Cortina de Ar do item 54. | E24: Serviço | F24: 339039-25 | G24: 220 | I24: =H24-SUM(K24:V24) -> 0 | J24: =IF(I24<0,"ATENÇÃO","OK") -> OK
