Workbook
Name diasuteis: #REF!
Name diasuteis: #REF!
Name diasuteis: #REF!
Name diasuteis: #REF!
Name Ferias: #REF!
Name Ferias: #REF!
Name Ferias: #REF!
Name RD: OFFSET(#REF!,(MATCH(SMALL(#REF!,ROW()-10),#REF!,0)-1),0)
Name RD: OFFSET(#REF!,(MATCH(SMALL(#REF!,ROW()-10),#REF!,0)-1),0)
Name RD: OFFSET(#REF!,(MATCH(SMALL(#REF!,ROW()-10),#REF!,0)-1),0)

Sheet Fiscais
B3: CCT | C3: Márcia Maria Pauleti Demathe
B4: CEAVI | C4: Edier de Souza Rosa
B5: Reitoria | C5: Sandra Makowiecky
C6: Alex O. M. Fabrin
C7: Paulo Roberto Santhias
C8: Luciana Dornbusch Lopes
C9: Debora Pontes Esteves Barbosa
C10: Matheus A. F. Fidelis
C11: Elaine Cristina Casagrande Zanette
C12: Jairo Wensing
C13: Sheila Gerber Peres
C14: Claudia Maria Messores
B15: CEAD | C15: Andre Correa Abreu
B16: ESAG | C16: Aroldo Schambeck
B17: CEART | C17: Andrea Oriques Santos
B18: CEFID | C18: Roger Correa Espindola
B19: CESFI | C19: Saulo Pacheco Junior
B20: CEO | C20: Vanessa de Marco Canton
C21: Elisangela Argenta
C22: Julcemar Kessler
C23: Weber Robazzi
B24: CERES | C24: Mariely Orlandi M. Serafim
B25: CEPLAN | C25: Flavio Marcello Strelow

Sheet Reitoria
A1: PROCESSO: 0855/2014/UDESC | D1: OBJETO: Aquisição de mobiliário padronizado para a UDESC | G1: VIGÊNCIA DA ATA: 11/03/2015 até 10/03/2016 | J1: AF nº 533/2015 Qtde. DT | K1: AF nº 539/2015 Qtde. DT | L1: AF nº 602/2015 Qtde. DT | M1: AF nº 604/2015 Qtde. DT | N1: AF nº 908/2015 Qtde. DT | O1: AF nº 910/2015 Qtde. DT | P1: AF nº 1056/2015 Qtde. DT | Q1: AF nº 1116/2015 Qtde. DT | R1: AF nº 1115/2015 Qtde. DT | S1: AF nº 1468/2015 Qtde. DT | T1: AF nº 1671/2015 Qtde. DT | U1: AF nº 1837/2015 Qtde. DT | V1: AF nº 0196/2016 Qtde. DT | W1: AF nº 0197/2016 Qtde. DT
A2: CENTRO PARTICIPANTE: Reitoria
A3: FORNECEDOR | B3: LOTE | C3: ITEM | D3: PRODUTO - CARACTERÍSTICAS MÍNIMAS | E3: ELEMENTO | F3: Preço UNITÁRIO (R$) | G3: Qtde Registrada | H3: Saldo / Automático | I3: ALERTA | J3: 42117 | K3: 42117 | L3: 42124 | M3: 42124 | N3: 42163 | O3: 42163 | P3: 42180 | Q3: 42187 | R3: 42187 | S3: 42234 | T3: 42264 | U3: 42282 | V3: 42437 | W3: 42437
A4: GM Ind e Com Varejista de Móveis Ltda ME | B4: 1 | C4: 1 | D4: ARMÁRIO ALTO - conforme especificação em edital | E4: 449052.42 | F4: 350 | G4: 12 | H4: =G4-(SUM(J4:W4)) -> 2 | I4: =IF(H4<0,"ATENÇÃO","OK") -> OK | J4: 0 | K4: 0 | L4: 0 | M4: 9 | N4: 0 | O4: 0 | P4: 0 | Q4: 0 | R4: 0 | S4: 1 | T4: 0 | U4: 0 | V4: 0 | W4: 0
C5: 2 | D5: ARMÁRIO BAIXO - conforme especificação em edital | E5: 449052.42 | F5: 230 | H5: =G5-(SUM(J5:W5)) -> 0 | I5: =IF(H5<0,"ATENÇÃO","OK") -> OK | J5: 0 | K5: 0 | L5: 0 | M5: 0 | N5: 0 | O5: 0 | P5: 0 | Q5: 0 | R5: 0 | S5: 0 | T5: 0 | U5: 0 | V5: 0 | W5: 0
C6: 3 | D6: ARMÁRIO MÉDIO - conforme especificação em edital | E6: 449052.42 | F6: 290 | G6: 6 | H6: =G6-(SUM(J6:W6)) -> 5 | I6: =IF(H6<0,"ATENÇÃO","OK") -> OK | J6: 0 | K6: 1 | L6: 0 | M6: 0 | N6: 0 | O6: 0 | P6: 0 | Q6: 0 | R6: 0 | S6: 0 | T6: 0 | U6: 0 | V6: 0 | W6: 0
A7: GM Ind e Com Varejista de Móveis Ltda ME | B7: 2 | C7: 4 | D7: CADEIRA FIXA COM PRANCHETA - conforme especificação em edital | E7: 449052.42 | F7: 244 | H7: =G7-(SUM(J7:W7)) -> 0 | I7: =IF(H7<0,"ATENÇÃO","OK") -> OK | J7: 0 | K7: 0 | L7: 0 | M7: 0 | N7: 0 | O7: 0 | P7: 0 | Q7: 0 | R7: 0 | S7: 0 | T7: 0 | U7: 0 | V7: 0 | W7: 0
A8: MM São Jose Ltda ME | B8: 3 | C8: 5 | D8: CADEIRA FIXA SEM BRAÇO - conforme especificação em edital | E8: 449052.42 | F8: 110 | G8: 27 | H8: =G8-(SUM(J8:W8)) -> 21 | I8: =IF(H8<0,"ATENÇÃO","OK") -> OK | J8: 0 | K8: 0 | L8: 0 | M8: 0 | N8: 0 | O8: 1 | P8: 0 | Q8: 5 | R8: 0 | S8: 0 | T8: 0 | U8: 0 | V8: 0 | W8: 0
A9: Akon Ltda ME | B9: 4 | C9: 6 | D9: CADEIRA TIPO SECRETÁRIA - conforme especificação em edital | E9: 449052.42 | F9: 252.95 | G9: =66-4 -> 62 | H9: =G9-(SUM(J9:W9)) -> 29 | I9: =IF(H9<0,"ATENÇÃO","OK") -> OK | J9: 2 | K9: 0 | L9: 1 | M9: 0 | N9: 2 | O9: 0 | P9: 5 | Q9: 0 | R9: 3 | S9: 0 | T9: 6 | U9: 2 | V9: 12
A10: Infrutífero | B10: 5 | C10: 7 | D10: CADEIRA TIPO PRESIDENTE - conforme especificação em edital | E10: 449052.42 | J10: 0 | K10: 0 | L10: 0 | M10: 0 | N10: 0 | O10: 0 | P10: 0 | Q10: 0 | R10: 0 | S10: 0 | T10: 0 | U10: 0 | V10: 0 | W10: 0
A11: Akon Ltda ME | B11: 6 | C11: 8 | D11: ESTAÇÃO DE TRABALHO EM L - conforme especificação em edital | E11: 449052.42 | F11: 375 | G11: 18 | H11: =G11-(SUM(J11:W11)) -> 4 | I11: =IF(H11<0,"ATENÇÃO","OK") -> OK | J11: 2 | K11: 0 | L11: 9 | M11: 0 | N11: 0 | O11: 0 | P11: 0 | Q11: 0 | R11: 0 | S11: 0 | T11: 0 | U11: 0 | V11: 3
C12: 9 | D12: MESA DE REUNIÃO REDONDA - conforme especificação em edital | E12: 449052.42 | F12: 205 | G12: 2 | H12: =G12-(SUM(J12:W12)) -> 0 | I12: =IF(H12<0,"ATENÇÃO","OK") -> OK | J12: 0 | K12: 0 | L12: 2 | M12: 0 | N12: 0 | O12: 0 | P12: 0 | Q12: 0 | R12: 0 | S12: 0 | T12: 0 | U12: 0 | V12: 0 | W12: 0
A13: GM Ind e Com Varejista de Móveis Ltda ME | B13: 7 | C13: 10 | D13: GAVETEIRO VOLANTE 03 GAVETAS - conforme especificação em edital | E13: 449052.42 | F13: 236.85 | G13: =2+2 -> 4 | H13: =G13-(SUM(J13:W13)) -> 0 | I13: =IF(H13<0,"ATENÇÃO","OK") -> OK | J13: 0 | K13: 4 | L13: 0 | M13: 0 | N13: 0 | O13: 0 | P13: 0 | Q13: 0 | R13: 0 | S13: 0 | T13: 0 | U13: 0 | V13: 0 | W13: 0
C14: 11 | D14: GAVETEIRO VOLANTE 04 GAVETAS - conforme especificação em edital | E14: 449052.42 | F14: 236.85 | G14: 16 | H14: =G14-(SUM(J14:W14)) -> 4 | I14: =IF(H14<0,"ATENÇÃO","OK") -> OK | J14: 0 | K14: 0 | L14: 0 | M14: 12 | N14: 0 | O14: 0 | P14: 0 | Q14: 0 | R14: 0 | S14: 0 | T14: 0 | U14: 0 | V14: 0 | W14: 0
A15: Cancelado | B15: 8 | C15: 12 | D15: MESA DE ESTUDO - conforme especificação em edital | E15: 449052.42 | J15: 0 | K15: 0 | L15: 0 | M15: 0 | N15: 0 | O15: 0 | P15: 0 | Q15: 0 | R15: 0 | S15: 0 | T15: 0 | U15: 0 | V15: 0 | W15: 0
A16: GM Ind e Com Varejista de Móveis Ltda ME | B16: 9 | C16: 13 | D16: MESA RETANGULAR - conforme especificação em edital | E16: 449052.42 | F16: 198 | G16: 3 | H16: =G16-(SUM(J16:W16)) -> 0 | I16: =IF(H16<0,"ATENÇÃO","OK") -> OK | J16: 0 | K16: 0 | L16: 0 | M16: 0 | N16: 0 | O16: 0 | P16: 0 | Q16: 0 | R16: 0 | S16: 0 | T16: 0 | U16: 0 | V16: 0 | W16: 3
A17: Nelita Gomes Farias EPP | B17: 10 | C17: 14 | D17: LONGARINA DE ESPERA - conforme especificação em edital | E17: 449052.42 | F17: 701.95 | H17: =G17-(SUM(J17:W17)) -> 0 | I17: =IF(H17<0,"ATENÇÃO","OK") -> OK | J17: 0 | K17: 0 | L17: 0 | M17: 0 | N17: 0 | O17: 0 | P17: 0 | Q17: 0 | R17: 0 | S17: 0 | T17: 0 | U17: 0 | V17: 0 | W17: 0
A18: GM Ind e Com Varejista de Móveis Ltda ME | B18: 11 | C18: 15 | D18: SUPORTE PARA BANDEIRA - conforme especificação em edital | E18: 449052.42 | F18: 340 | G18: 5 | H18: =G18-(SUM(J18:W18)) -> 5 | I18: =IF(H18<0,"ATENÇÃO","OK") -> OK | J18: 0 | K18: 0 | L18: 0 | M18: 0 | N18: 0 | O18: 0 | P18: 0 | Q18: 0 | R18: 0 | S18: 0 | T18: 0 | U18: 0 | V18: 0 | W18: 0
D20: *Prazo de entrega e pagamento conforme edital

Sheet Museu
A1: PROCESSO: 0855/2014/UDESC | D1: OBJETO: Aquisição de mobiliário padronizado para a UDESC | G1: VIGÊNCIA DA ATA: 11/03/2015 até 10/03/2016 | J1: AF nº 433/2015 Qtde. DT | K1: AF nº 436/2015 Qtde. DT | L1: AF nº 437/2015 Qtde. DT | M1: AF nº 1380/2015 Qtde. DT | N1: AF nº 1670/2015 Qtde. DT | O1: AF/OS nº xxxx/2014 Qtde. DT | P1: AF/OS nº xxxx/2014 Qtde. DT | Q1: AF/OS nº xxxx/2014 Qtde. DT | R1: AF/OS nº xxxx/2014 Qtde. DT | S1: AF/OS nº xxxx/2014 Qtde. DT | T1: AF/OS nº xxxx/2014 Qtde. DT | U1: AF/OS nº xxxx/2014 Qtde. DT
A2: CENTRO PARTICIPANTE: Museu
A3: FORNECEDOR | B3: LOTE | C3: ITEM | D3: PRODUTO - CARACTERÍSTICAS MÍNIMAS | E3: ELEMENTO | F3: Preço UNITÁRIO (R$) | G3: Qtde Registrada | H3: Saldo / Automático | I3: ALERTA | J3: 42103 | K3: 42104 | L3: 42104 | M3: 42222 | N3: 42264 | O3: ...../...../...... | P3: ...../...../...... | Q3: ...../...../...... | R3: ...../...../...... | S3: ...../...../...... | T3: ...../...../...... | U3: ...../...../......
A4: GM Ind e Com Varejista de Móveis Ltda ME | B4: 1 | C4: 1 | D4: ARMÁRIO ALTO - conforme especificação em edital | E4: 449052.42 | F4: 350 | G4: 10 | H4: =G4-(SUM(J4:U4)) -> 0 | I4: =IF(H4<0,"ATENÇÃO","OK") -> OK | J4: 0 | K4: 10 | L4: 0 | M4: 0 | N4: 0 | O4: 0 | P4: 0 | Q4: 0 | R4: 0 | S4: 0 | T4: 0 | U4: 0
C5: 2 | D5: ARMÁRIO BAIXO - conforme especificação em edital | E5: 449052.42 | F5: 230 | G5: 8 | H5: =G5-(SUM(J5:U5)) -> 0 | I5: =IF(H5<0,"ATENÇÃO","OK") -> OK | J5: 0 | K5: 8 | L5: 0 | M5: 0 | N5: 0 | O5: 0 | P5: 0 | Q5: 0 | R5: 0 | S5: 0 | T5: 0 | U5: 0
C6: 3 | D6: ARMÁRIO MÉDIO - conforme especificação em edital | E6: 449052.42 | F6: 290 | G6: 4 | H6: =G6-(SUM(J6:U6)) -> 0 | I6: =IF(H6<0,"ATENÇÃO","OK") -> OK | J6: 0 | K6: 4 | L6: 0 | M6: 0 | N6: 0 | O6: 0 | P6: 0 | Q6: 0 | R6: 0 | S6: 0 | T6: 0 | U6: 0
A7: GM Ind e Com Varejista de Móveis Ltda ME | B7: 2 | C7: 4 | D7: CADEIRA FIXA COM PRANCHETA - conforme especificação em edital | E7: 449052.42 | F7: 244 | H7: =G7-(SUM(J7:U7)) -> 0 | I7: =IF(H7<0,"ATENÇÃO","OK") -> OK | J7: 0 | K7: 0 | L7: 0 | M7: 0 | N7: 0 | O7: 0 | P7: 0 | Q7: 0 | R7: 0 | S7: 0 | T7: 0 | U7: 0
A8: MM São Jose Ltda ME | B8: 3 | C8: 5 | D8: CADEIRA FIXA SEM BRAÇO - conforme especificação em edital | E8: 449052.42 | F8: 110 | G8: =40+6+6 -> 52 | H8: =G8-(SUM(J8:U8)) -> 6 | I8: =IF(H8<0,"ATENÇÃO","OK") -> OK | J8: 0 | K8: 0 | L8: 40 | M8: 0 | N8: 6 | O8: 0 | P8: 0 | Q8: 0 | R8: 0 | S8: 0 | T8: 0 | U8: 0
A9: Akon Ltda ME | B9: 4 | C9: 6 | D9: CADEIRA TIPO SECRETÁRIA - conforme especificação em edital | E9: 449052.42 | F9: 252.95 | G9: =12+4 -> 16 | H9: =G9-(SUM(J9:U9)) -> 0 | I9: =IF(H9<0,"ATENÇÃO","OK") -> OK | J9: 12 | K9: 0 | L9: 0 | M9: 4 | N9: 0 | O9: 0 | P9: 0 | Q9: 0 | R9: 0 | S9: 0 | T9: 0 | U9: 0
A10: Infrutífero | B10: 5 | C10: 7 | D10: CADEIRA TIPO PRESIDENTE - conforme especificação em edital | E10: 449052.42 | J10: 0 | K10: 0 | L10: 0 | M10: 0 | N10: 0 | O10: 0 | P10: 0 | Q10: 0 | R10: 0 | S10: 0 | T10: 0 | U10: 0
A11: Akon Ltda ME | B11: 6 | C11: 8 | D11: ESTAÇÃO DE TRABALHO EM L - conforme especificação em edital | E11: 449052.42 | F11: 375 | G11: 8 | H11: =G11-(SUM(J11:U11)) -> 0 | I11: =IF(H11<0,"ATENÇÃO","OK") -> OK | J11: 8 | K11: 0 | L11: 0 | M11: 0 | N11: 0 | O11: 0 | P11: 0 | Q11: 0 | R11: 0 | S11: 0 | T11: 0 | U11: 0
C12: 9 | D12: MESA DE REUNIÃO REDONDA - conforme especificação em edital | E12: 449052.42 | F12: 205 | G12: 6 | H12: =G12-(SUM(J12:U12)) -> 0 | I12: =IF(H12<0,"ATENÇÃO","OK") -> OK | J12: 6 | K12: 0 | L12: 0 | M12: 0 | N12: 0 | O12: 0 | P12: 0 | Q12: 0 | R12: 0 | S12: 0 | T12: 0 | U12: 0
A13: GM Ind e Com Varejista de Móveis Ltda ME | B13: 7 | C13: 10 | D13: GAVETEIRO VOLANTE 03 GAVETAS - conforme especificação em edital | E13: 449052.42 | F13: 236.85 | H13: =G13-(SUM(J13:U13)) -> 0 | I13: =IF(H13<0,"ATENÇÃO","OK") -> OK | J13: 0 | K13: 0 | L13: 0 | M13: 0 | N13: 0 | O13: 0 | P13: 0 | Q13: 0 | R13: 0 | S13: 0 | T13: 0 | U13: 0
C14: 11 | D14: GAVETEIRO VOLANTE 04 GAVETAS - conforme especificação em edital | E14: 449052.42 | F14: 236.85 | G14: 17 | H14: =G14-(SUM(J14:U14)) -> 0 | I14: =IF(H14<0,"ATENÇÃO","OK") -> OK | J14: 0 | K14: 17 | L14: 0 | M14: 0 | N14: 0 | O14: 0 | P14: 0 | Q14: 0 | R14: 0 | S14: 0 | T14: 0 | U14: 0
A15: Cancelado | B15: 8 | C15: 12 | D15: MESA DE ESTUDO - conforme especificação em edital | E15: 449052.42 | J15: 0 | K15: 0 | L15: 0 | M15: 0 | N15: 0 | O15: 0 | P15: 0 | Q15: 0 | R15: 0 | S15: 0 | T15: 0 | U15: 0
A16: GM Ind e Com Varejista de Móveis Ltda ME | B16: 9 | C16: 13 | D16: MESA RETANGULAR - conforme especificação em edital | E16: 449052.42 | F16: 198 | H16: =G16-(SUM(J16:U16)) -> 0 | I16: =IF(H16<0,"ATENÇÃO","OK") -> OK | J16: 0 | K16: 0 | L16: 0 | M16: 0 | N16: 0 | O16: 0 | P16: 0 | Q16: 0 | R16: 0 | S16: 0 | T16: 0 | U16: 0
A17: Nelita Gomes Farias EPP | B17: 10 | C17: 14 | D17: LONGARINA DE ESPERA - conforme especificação em edital | E17: 449052.42 | F17: 701.95 | H17: =G17-(SUM(J17:U17)) -> 0 | I17: =IF(H17<0,"ATENÇÃO","OK") -> OK | J17: 0 | K17: 0 | L17: 0 | M17: 0 | N17: 0 | O17: 0 | P17: 0 | Q17: 0 | R17: 0 | S17: 0 | T17: 0 | U17: 0
A18: GM Ind e Com Varejista de Móveis Ltda ME | B18: 11 | C18: 15 | D18: SUPORTE PARA BANDEIRA - conforme especificação em edital | E18: 449052.42 | F18: 340 | G18: 2 | H18: =G18-(SUM(J18:U18)) -> 0 | I18: =IF(H18<0,"ATENÇÃO","OK") -> OK | J18: 0 | K18: 2 | L18: 0 | M18: 0 | N18: 0 | O18: 0 | P18: 0 | Q18: 0 | R18: 0 | S18: 0 | T18: 0 | U18: 0
D20: *Prazo de entrega e pagamento conforme edital

Sheet ESAG
A1: PROCESSO: 0855/2014/UDESC | D1: OBJETO: Aquisição de mobiliário padronizado para a UDESC | G1: VIGÊNCIA DA ATA: 11/03/2015 até 10/03/2016 | J1: AF/OS nº 1606/2015 Qtde. DT | K1: AF/OS nº 208/2016 Qtde. DT | L1: AF/OS nº xxxx/2014 Qtde. DT | M1: AF/OS nº xxxx/2014 Qtde. DT | N1: AF/OS nº xxxx/2014 Qtde. DT | O1: AF/OS nº xxxx/2014 Qtde. DT | P1: AF/OS nº xxxx/2014 Qtde. DT | Q1: AF/OS nº xxxx/2014 Qtde. DT | R1: AF/OS nº xxxx/2014 Qtde. DT | S1: AF/OS nº xxxx/2014 Qtde. DT | T1: AF/OS nº xxxx/2014 Qtde. DT | U1: AF/OS nº xxxx/2014 Qtde. DT
A2: CENTRO PARTICIPANTE: ESAG
A3: FORNECEDOR | B3: LOTE | C3: ITEM | D3: PRODUTO - CARACTERÍSTICAS MÍNIMAS | E3: ELEMENTO | F3: Preço UNITÁRIO (R$) | G3: Qtde Registrada | H3: Saldo / Automático | I3: ALERTA | J3: ...../...../...... | K3: ...../...../...... | L3: ...../...../...... | M3: ...../...../...... | N3: ...../...../...... | O3: ...../...../...... | P3: ...../...../...... | Q3: ...../...../...... | R3: ...../...../...... | S3: ...../...../...... | T3: ...../...../...... | U3: ...../...../......
A4: GM Ind e Com Varejista de Móveis Ltda ME | B4: 1 | C4: 1 | D4: ARMÁRIO ALTO - conforme especificação em edital | E4: 449052.42 | F4: 350 | G4: 88 | H4: =G4-(SUM(J4:U4)) -> 88 | I4: =IF(H4<0,"ATENÇÃO","OK") -> OK | J4: 0 | L4: 0 | M4: 0 | N4: 0 | O4: 0 | P4: 0 | Q4: 0 | R4: 0 | S4: 0 | T4: 0 | U4: 0
C5: 2 | D5: ARMÁRIO BAIXO - conforme especificação em edital | E5: 449052.42 | F5: 230 | G5: 50 | H5: =G5-(SUM(J5:U5)) -> 50 | I5: =IF(H5<0,"ATENÇÃO","OK") -> OK | J5: 0 | L5: 0 | M5: 0 | N5: 0 | O5: 0 | P5: 0 | Q5: 0 | R5: 0 | S5: 0 | T5: 0 | U5: 0
C6: 3 | D6: ARMÁRIO MÉDIO - conforme especificação em edital | E6: 449052.42 | F6: 290 | H6: =G6-(SUM(J6:U6)) -> 0 | I6: =IF(H6<0,"ATENÇÃO","OK") -> OK | J6: 0 | L6: 0 | M6: 0 | N6: 0 | O6: 0 | P6: 0 | Q6: 0 | R6: 0 | S6: 0 | T6: 0 | U6: 0
A7: GM Ind e Com Varejista de Móveis Ltda ME | B7: 2 | C7: 4 | D7: CADEIRA FIXA COM PRANCHETA - conforme especificação em edital | E7: 449052.42 | F7: 244 | H7: =G7-(SUM(J7:U7)) -> 0 | I7: =IF(H7<0,"ATENÇÃO","OK") -> OK | J7: 0 | L7: 0 | M7: 0 | N7: 0 | O7: 0 | P7: 0 | Q7: 0 | R7: 0 | S7: 0 | T7: 0 | U7: 0
A8: MM São Jose Ltda ME | B8: 3 | C8: 5 | D8: CADEIRA FIXA SEM BRAÇO - conforme especificação em edital | E8: 449052.42 | F8: 110 | G8: 1235 | H8: =G8-(SUM(J8:U8)) -> 0 | I8: =IF(H8<0,"ATENÇÃO","OK") -> OK | J8: 0 | K8: 1235 | L8: 0 | M8: 0 | N8: 0 | O8: 0 | P8: 0 | Q8: 0 | R8: 0 | S8: 0 | T8: 0 | U8: 0
A9: Akon Ltda ME | B9: 4 | C9: 6 | D9: CADEIRA TIPO SECRETÁRIA - conforme especificação em edital | E9: 449052.42 | F9: 252.95 | G9: 146 | H9: =G9-(SUM(J9:U9)) -> 146 | I9: =IF(H9<0,"ATENÇÃO","OK") -> OK | J9: 0 | L9: 0 | M9: 0 | N9: 0 | O9: 0 | P9: 0 | Q9: 0 | R9: 0 | S9: 0 | T9: 0 | U9: 0
A10: Infrutífero | B10: 5 | C10: 7 | D10: CADEIRA TIPO PRESIDENTE - conforme especificação em edital | E10: 449052.42 | J10: 0 | L10: 0 | M10: 0 | N10: 0 | O10: 0 | P10: 0 | Q10: 0 | R10: 0 | S10: 0 | T10: 0 | U10: 0
A11: Akon Ltda ME | B11: 6 | C11: 8 | D11: ESTAÇÃO DE TRABALHO EM L - conforme especificação em edital | E11: 449052.42 | F11: 375 | G11: 124 | H11: =G11-(SUM(J11:U11)) -> 124 | I11: =IF(H11<0,"ATENÇÃO","OK") -> OK | J11: 0 | L11: 0 | M11: 0 | N11: 0 | O11: 0 | P11: 0 | Q11: 0 | R11: 0 | S11: 0 | T11: 0 | U11: 0
C12: 9 | D12: MESA DE REUNIÃO REDONDA - conforme especificação em edital | E12: 449052.42 | F12: 205 | G12: 24 | H12: =G12-(SUM(J12:U12)) -> 24 | I12: =IF(H12<0,"ATENÇÃO","OK") -> OK | J12: 0 | L12: 0 | M12: 0 | N12: 0 | O12: 0 | P12: 0 | Q12: 0 | R12: 0 | S12: 0 | T12: 0 | U12: 0
A13: GM Ind e Com Varejista de Móveis Ltda ME | B13: 7 | C13: 10 | D13: GAVETEIRO VOLANTE 03 GAVETAS - conforme especificação em edital | E13: 449052.42 | F13: 236.85 | G13: =146-2 -> 144 | H13: =G13-(SUM(J13:U13)) -> 144 | I13: =IF(H13<0,"ATENÇÃO","OK") -> OK | J13: 0 | L13: 0 | M13: 0 | N13: 0 | O13: 0 | P13: 0 | Q13: 0 | R13: 0 | S13: 0 | T13: 0 | U13: 0
C14: 11 | D14: GAVETEIRO VOLANTE 04 GAVETAS - conforme especificação em edital | E14: 449052.42 | F14: 236.85 | H14: =G14-(SUM(J14:U14)) -> 0 | I14: =IF(H14<0,"ATENÇÃO","OK") -> OK | J14: 0 | L14: 0 | M14: 0 | N14: 0 | O14: 0 | P14: 0 | Q14: 0 | R14: 0 | S14: 0 | T14: 0 | U14: 0
A15: Cancelado | B15: 8 | C15: 12 | D15: MESA DE ESTUDO - conforme especificação em edital | E15: 449052.42 | J15: 0 | L15: 0 | M15: 0 | N15: 0 | O15: 0 | P15: 0 | Q15: 0 | R15: 0 | S15: 0 | T15: 0 | U15: 0
A16: GM Ind e Com Varejista de Móveis Ltda ME | B16: 9 | C16: 13 | D16: MESA RETANGULAR - conforme especificação em edital | E16: 449052.42 | F16: 198 | H16: =G16-(SUM(J16:U16)) -> 0 | I16: =IF(H16<0,"ATENÇÃO","OK") -> OK | J16: 0 | L16: 0 | M16: 0 | N16: 0 | O16: 0 | P16: 0 | Q16: 0 | R16: 0 | S16: 0 | T16: 0 | U16: 0
A17: Nelita Gomes Farias EPP | B17: 10 | C17: 14 | D17: LONGARINA DE ESPERA - conforme especificação em edital | E17: 449052.42 | F17: 701.95 | G17: 20 | H17: =G17-(SUM(J17:U17)) -> 0 | I17: =IF(H17<0,"ATENÇÃO","OK") -> OK | J17: 20 | L17: 0 | M17: 0 | N17: 0 | O17: 0 | P17: 0 | Q17: 0 | R17: 0 | S17: 0 | T17: 0 | U17: 0
A18: GM Ind e Com Varejista de Móveis Ltda ME | B18: 11 | C18: 15 | D18: SUPORTE PARA BANDEIRA - conforme especificação em edital | E18: 449052.42 | F18: 340 | H18: =G18-(SUM(J18:U18)) -> 0 | I18: =IF(H18<0,"ATENÇÃO","OK") -> OK | J18: 0 | L18: 0 | M18: 0 | N18: 0 | O18: 0 | P18: 0 | Q18: 0 | R18: 0 | S18: 0 | T18: 0 | U18: 0
D20: *Prazo de entrega e pagamento conforme edital

Sheet CEART
A1: PROCESSO: 0855/2014/UDESC | D1: OBJETO: Aquisição de mobiliário padronizado para a UDESC | G1: VIGÊNCIA DA ATA: 11/03/2015 até 10/03/2016 | J1: AF613/2015 MODA Qtde. DT | K1: AF614/2015 DG Qtde. DT | L1: AF615/2015 DG Qtde. DT | M1: AF 9522015 | N1: AF1912/2015 | O1: AF2079/2015 | P1: AF/OS nº xxxx/2014 Qtde. DT | Q1: AF/OS nº xxxx/2014 Qtde. DT | R1: AF/OS nº xxxx/2014 Qtde. DT | S1: AF/OS nº xxxx/2014 Qtde. DT
A2: CENTRO PARTICIPANTE: CEART
A3: FORNECEDOR | B3: LOTE | C3: ITEM | D3: PRODUTO - CARACTERÍSTICAS MÍNIMAS | E3: ELEMENTO | F3: Preço UNITÁRIO (R$) | G3: Qtde Registrada | H3: Saldo / Automático | I3: ALERTA | J3: 42128 | K3: 42128 | L3: 42128 | M3: 42167 | N3: 42290 | O3: 42312 | P3: ...../...../...... | Q3: ...../...../...... | R3: ...../...../...... | S3: ...../...../......
A4: GM Ind e Com Varejista de Móveis Ltda ME | B4: 1 | C4: 1 | D4: ARMÁRIO ALTO - conforme especificação em edital | E4: 449052.42 | F4: 350 | G4: =40-10 -> 30 | H4: =G4-(SUM(J4:S4)) -> 25 | I4: =IF(H4<0,"ATENÇÃO","OK") -> OK | J4: 1 | K4: 2 | L4: 0 | M4: 2 | N4: 0 | O4: 0 | P4: 0 | Q4: 0 | R4: 0 | S4: 0
C5: 2 | D5: ARMÁRIO BAIXO - conforme especificação em edital | E5: 449052.42 | F5: 230 | G5: 35 | H5: =G5-(SUM(J5:S5)) -> 35 | I5: =IF(H5<0,"ATENÇÃO","OK") -> OK | J5: 0 | K5: 0 | L5: 0 | M5: 0 | N5: 0 | O5: 0 | P5: 0 | Q5: 0 | R5: 0 | S5: 0
C6: 3 | D6: ARMÁRIO MÉDIO - conforme especificação em edital | E6: 449052.42 | F6: 290 | G6: 15 | H6: =G6-(SUM(J6:S6)) -> 12 | I6: =IF(H6<0,"ATENÇÃO","OK") -> OK | J6: 0 | K6: 3 | L6: 0 | M6: 0 | N6: 0 | O6: 0 | P6: 0 | Q6: 0 | R6: 0 | S6: 0
A7: GM Ind e Com Varejista de Móveis Ltda ME | B7: 2 | C7: 4 | D7: CADEIRA FIXA COM PRANCHETA - conforme especificação em edital | E7: 449052.42 | F7: 244 | H7: =G7-(SUM(J7:S7)) -> 0 | I7: =IF(H7<0,"ATENÇÃO","OK") -> OK | J7: 0 | K7: 0 | L7: 0 | M7: 0 | N7: 0 | O7: 0 | P7: 0 | Q7: 0 | R7: 0 | S7: 0
A8: MM São Jose Ltda ME | B8: 3 | C8: 5 | D8: CADEIRA FIXA SEM BRAÇO - conforme especificação em edital | E8: 449052.42 | F8: 110 | G8: =350-6-45 -> 299 | H8: =G8-(SUM(J8:S8)) -> 299 | I8: =IF(H8<0,"ATENÇÃO","OK") -> OK | J8: 0 | K8: 0 | L8: 0 | M8: 0 | N8: 0 | O8: 0 | P8: 0 | Q8: 0 | R8: 0 | S8: 0
A9: Akon Ltda ME | B9: 4 | C9: 6 | D9: CADEIRA TIPO SECRETÁRIA - conforme especificação em edital | E9: 449052.42 | F9: 252.95 | G9: 200 | H9: =G9-(SUM(J9:S9)) -> 95 | I9: =IF(H9<0,"ATENÇÃO","OK") -> OK | J9: 0 | K9: 0 | L9: 98 | M9: 0 | N9: 7 | O9: 0 | P9: 0 | Q9: 0 | R9: 0 | S9: 0
A10: Infrutífero | B10: 5 | C10: 7 | D10: CADEIRA TIPO PRESIDENTE - conforme especificação em edital | E10: 449052.42 | J10: 0 | K10: 0 | L10: 0 | M10: 0 | N10: 0 | O10: 0 | P10: 0 | Q10: 0 | R10: 0 | S10: 0
A11: Akon Ltda ME | B11: 6 | C11: 8 | D11: ESTAÇÃO DE TRABALHO EM L - conforme especificação em edital | E11: 449052.42 | F11: 375 | G11: 25 | H11: =G11-(SUM(J11:S11)) -> 20 | I11: =IF(H11<0,"ATENÇÃO","OK") -> OK | J11: 0 | K11: 0 | L11: 0 | M11: 0 | N11: 5 | O11: 0 | P11: 0 | Q11: 0 | R11: 0 | S11: 0
C12: 9 | D12: MESA DE REUNIÃO REDONDA - conforme especificação em edital | E12: 449052.42 | F12: 205 | G12: 15 | H12: =G12-(SUM(J12:S12)) -> 15 | I12: =IF(H12<0,"ATENÇÃO","OK") -> OK | J12: 0 | K12: 0 | L12: 0 | M12: 0 | N12: 0 | O12: 0 | P12: 0 | Q12: 0 | R12: 0 | S12: 0
A13: GM Ind e Com Varejista de Móveis Ltda ME | B13: 7 | C13: 10 | D13: GAVETEIRO VOLANTE 03 GAVETAS - conforme especificação em edital | E13: 449052.42 | F13: 236.85 | G13: 15 | H13: =G13-(SUM(J13:S13)) -> 13 | I13: =IF(H13<0,"ATENÇÃO","OK") -> OK | J13: 0 | K13: 2 | L13: 0 | M13: 0 | N13: 0 | O13: 0 | P13: 0 | Q13: 0 | R13: 0 | S13: 0
C14: 11 | D14: GAVETEIRO VOLANTE 04 GAVETAS - conforme especificação em edital | E14: 449052.42 | F14: 236.85 | G14: 25 | H14: =G14-(SUM(J14:S14)) -> 20 | I14: =IF(H14<0,"ATENÇÃO","OK") -> OK | J14: 0 | K14: 1 | L14: 0 | M14: 0 | N14: 0 | O14: 4 | P14: 0 | Q14: 0 | R14: 0 | S14: 0
A15: Cancelado | B15: 8 | C15: 12 | D15: MESA DE ESTUDO - conforme especificação em edital | E15: 449052.42 | J15: 0 | K15: 0 | L15: 0 | M15: 0 | N15: 0 | O15: 0 | P15: 0 | Q15: 0 | R15: 0 | S15: 0
A16: GM Ind e Com Varejista de Móveis Ltda ME | B16: 9 | C16: 13 | D16: MESA RETANGULAR - conforme especificação em edital | E16: 449052.42 | F16: 198 | H16: =G16-(SUM(J16:S16)) -> 0 | I16: =IF(H16<0,"ATENÇÃO","OK") -> OK | J16: 0 | K16: 0 | L16: 0 | M16: 0 | N16: 0 | O16: 0 | P16: 0 | Q16: 0 | R16: 0 | S16: 0
A17: Nelita Gomes Farias EPP | B17: 10 | C17: 14 | D17: LONGARINA DE ESPERA - conforme especificação em edital | E17: 449052.42 | F17: 701.95 | H17: =G17-(SUM(J17:S17)) -> 0 | I17: =IF(H17<0,"ATENÇÃO","OK") -> OK | J17: 0 | K17: 0 | L17: 0 | M17: 0 | N17: 0 | O17: 0 | P17: 0 | Q17: 0 | R17: 0 | S17: 0
A18: GM Ind e Com Varejista de Móveis Ltda ME | B18: 11 | C18: 15 | D18: SUPORTE PARA BANDEIRA - conforme especificação em edital | E18: 449052.42 | F18: 340 | G18: 1 | H18: =G18-(SUM(J18:S18)) -> 1 | I18: =IF(H18<0,"ATENÇÃO","OK") -> OK | J18: 0 | K18: 0 | L18: 0 | M18: 0 | N18: 0 | O18: 0 | P18: 0 | Q18: 0 | R18: 0 | S18: 0
D20: *Prazo de entrega e pagamento conforme edital

Sheet FAED
A1: PROCESSO: 0855/2014/UDESC | D1: OBJETO: Aquisição de mobiliário padronizado para a UDESC | G1: VIGÊNCIA DA ATA: 11/03/2015 até 10/03/2016 | J1: AF/OS nº 712/2015 Qtde. DT | K1: AF/OS nº xxxx/2014 Qtde. DT | L1: AF/OS nº xxxx/2014 Qtde. DT | M1: AF/OS nº xxxx/2014 Qtde. DT | N1: AF/OS nº xxxx/2014 Qtde. DT | O1: AF/OS nº xxxx/2014 Qtde. DT | P1: AF/OS nº xxxx/2014 Qtde. DT | Q1: AF/OS nº xxxx/2014 Qtde. DT | R1: AF/OS nº xxxx/2014 Qtde. DT | S1: AF/OS nº xxxx/2014 Qtde. DT | T1: AF/OS nº xxxx/2014 Qtde. DT | U1: AF/OS nº xxxx/2014 Qtde. DT
A2: CENTRO PARTICIPANTE: FAED
A3: FORNECEDOR | B3: LOTE | C3: ITEM | D3: PRODUTO - CARACTERÍSTICAS MÍNIMAS | E3: ELEMENTO | F3: Preço UNITÁRIO (R$) | G3: Qtde Registrada | H3: Saldo / Automático | I3: ALERTA | J3: 42135 | K3: ...../...../...... | L3: ...../...../...... | M3: ...../...../...... | N3: ...../...../...... | O3: ...../...../...... | P3: ...../...../...... | Q3: ...../...../...... | R3: ...../...../...... | S3: ...../...../...... | T3: ...../...../...... | U3: ...../...../......
A4: GM Ind e Com Varejista de Móveis Ltda ME | B4: 1 | C4: 1 | D4: ARMÁRIO ALTO - conforme especificação em edital | E4: 449052.42 | F4: 350 | G4: 6 | H4: =G4-(SUM(J4:U4)) -> 6 | I4: =IF(H4<0,"ATENÇÃO","OK") -> OK | J4: 0 | K4: 0 | L4: 0 | M4: 0 | N4: 0 | O4: 0 | P4: 0 | Q4: 0 | R4: 0 | S4: 0 | T4: 0 | U4: 0
C5: 2 | D5: ARMÁRIO BAIXO - conforme especificação em edital | E5: 449052.42 | F5: 230 | G5: 10 | H5: =G5-(SUM(J5:U5)) -> 10 | I5: =IF(H5<0,"ATENÇÃO","OK") -> OK | J5: 0 | K5: 0 | L5: 0 | M5: 0 | N5: 0 | O5: 0 | P5: 0 | Q5: 0 | R5: 0 | S5: 0 | T5: 0 | U5: 0
C6: 3 | D6: ARMÁRIO MÉDIO - conforme especificação em edital | E6: 449052.42 | F6: 290 | G6: 3 | H6: =G6-(SUM(J6:U6)) -> 3 | I6: =IF(H6<0,"ATENÇÃO","OK") -> OK | J6: 0 | K6: 0 | L6: 0 | M6: 0 | N6: 0 | O6: 0 | P6: 0 | Q6: 0 | R6: 0 | S6: 0 | T6: 0 | U6: 0
A7: GM Ind e Com Varejista de Móveis Ltda ME | B7: 2 | C7: 4 | D7: CADEIRA FIXA COM PRANCHETA - conforme especificação em edital | E7: 449052.42 | F7: 244 | G7: 20 | H7: =G7-(SUM(J7:U7)) -> 20 | I7: =IF(H7<0,"ATENÇÃO","OK") -> OK | J7: 0 | K7: 0 | L7: 0 | M7: 0 | N7: 0 | O7: 0 | P7: 0 | Q7: 0 | R7: 0 | S7: 0 | T7: 0 | U7: 0
A8: MM São Jose Ltda ME | B8: 3 | C8: 5 | D8: CADEIRA FIXA SEM BRAÇO - conforme especificação em edital | E8: 449052.42 | F8: 110 | G8: 100 | H8: =G8-(SUM(J8:U8)) -> 100 | I8: =IF(H8<0,"ATENÇÃO","OK") -> OK | J8: 0 | K8: 0 | L8: 0 | M8: 0 | N8: 0 | O8: 0 | P8: 0 | Q8: 0 | R8: 0 | S8: 0 | T8: 0 | U8: 0
A9: Akon Ltda ME | B9: 4 | C9: 6 | D9: CADEIRA TIPO SECRETÁRIA - conforme especificação em edital | E9: 449052.42 | F9: 252.95 | G9: 60 | H9: =G9-(SUM(J9:U9)) -> 0 | I9: =IF(H9<0,"ATENÇÃO","OK") -> OK | J9: 60 | K9: 0 | L9: 0 | M9: 0 | N9: 0 | O9: 0 | P9: 0 | Q9: 0 | R9: 0 | S9: 0 | T9: 0 | U9: 0
A10: Infrutífero | B10: 5 | C10: 7 | D10: CADEIRA TIPO PRESIDENTE - conforme especificação em edital | E10: 449052.42 | J10: 0 | K10: 0 | L10: 0 | M10: 0 | N10: 0 | O10: 0 | P10: 0 | Q10: 0 | R10: 0 | S10: 0 | T10: 0 | U10: 0
A11: Akon Ltda ME | B11: 6 | C11: 8 | D11: ESTAÇÃO DE TRABALHO EM L - conforme especificação em edital | E11: 449052.42 | F11: 375 | G11: 8 | H11: =G11-(SUM(J11:U11)) -> 8 | I11: =IF(H11<0,"ATENÇÃO","OK") -> OK | J11: 0 | K11: 0 | L11: 0 | M11: 0 | N11: 0 | O11: 0 | P11: 0 | Q11: 0 | R11: 0 | S11: 0 | T11: 0 | U11: 0
C12: 9 | D12: MESA DE REUNIÃO REDONDA - conforme especificação em edital | E12: 449052.42 | F12: 205 | G12: 4 | H12: =G12-(SUM(J12:U12)) -> 4 | I12: =IF(H12<0,"ATENÇÃO","OK") -> OK | J12: 0 | K12: 0 | L12: 0 | M12: 0 | N12: 0 | O12: 0 | P12: 0 | Q12: 0 | R12: 0 | S12: 0 | T12: 0 | U12: 0
A13: GM Ind e Com Varejista de Móveis Ltda ME | B13: 7 | C13: 10 | D13: GAVETEIRO VOLANTE 03 GAVETAS - conforme especificação em edital | E13: 449052.42 | F13: 236.85 | G13: 8 | H13: =G13-(SUM(J13:U13)) -> 8 | I13: =IF(H13<0,"ATENÇÃO","OK") -> OK | J13: 0 | K13: 0 | L13: 0 | M13: 0 | N13: 0 | O13: 0 | P13: 0 | Q13: 0 | R13: 0 | S13: 0 | T13: 0 | U13: 0
C14: 11 | D14: GAVETEIRO VOLANTE 04 GAVETAS - conforme especificação em edital | E14: 449052.42 | F14: 236.85 | G14: 8 | H14: =G14-(SUM(J14:U14)) -> 8 | I14: =IF(H14<0,"ATENÇÃO","OK") -> OK | J14: 0 | K14: 0 | L14: 0 | M14: 0 | N14: 0 | O14: 0 | P14: 0 | Q14: 0 | R14: 0 | S14: 0 | T14: 0 | U14: 0
A15: Cancelado | B15: 8 | C15: 12 | D15: MESA DE ESTUDO - conforme especificação em edital | E15: 449052.42 | J15: 0 | K15: 0 | L15: 0 | M15: 0 | N15: 0 | O15: 0 | P15: 0 | Q15: 0 | R15: 0 | S15: 0 | T15: 0 | U15: 0
A16: GM Ind e Com Varejista de Móveis Ltda ME | B16: 9 | C16: 13 | D16: MESA RETANGULAR - conforme especificação em edital | E16: 449052.42 | F16: 198 | H16: =G16-(SUM(J16:U16)) -> 0 | I16: =IF(H16<0,"ATENÇÃO","OK") -> OK | J16: 0 | K16: 0 | L16: 0 | M16: 0 | N16: 0 | O16: 0 | P16: 0 | Q16: 0 | R16: 0 | S16: 0 | T16: 0 | U16: 0
A17: Nelita Gomes Farias EPP | B17: 10 | C17: 14 | D17: LONGARINA DE ESPERA - conforme especificação em edital | E17: 449052.42 | F17: 701.95 | H17: =G17-(SUM(J17:U17)) -> 0 | I17: =IF(H17<0,"ATENÇÃO","OK") -> OK | J17: 0 | K17: 0 | L17: 0 | M17: 0 | N17: 0 | O17: 0 | P17: 0 | Q17: 0 | R17: 0 | S17: 0 | T17: 0 | U17: 0
A18: GM Ind e Com Varejista de Móveis Ltda ME | B18: 11 | C18: 15 | D18: SUPORTE PARA BANDEIRA - conforme especificação em edital | E18: 449052.42 | F18: 340 | G18: 2 | H18: =G18-(SUM(J18:U18)) -> 2 | I18: =IF(H18<0,"ATENÇÃO","OK") -> OK | J18: 0 | K18: 0 | L18: 0 | M18: 0 | N18: 0 | O18: 0 | P18: 0 | Q18: 0 | R18: 0 | S18: 0 | T18: 0 | U18: 0
D20: *Prazo de entrega e pagamento conforme edital

Sheet CEAD
A1: PROCESSO: 0855/2014/UDESC | D1: OBJETO: Aquisição de mobiliário padronizado para a UDESC | G1: VIGÊNCIA DA ATA: 11/03/2015 até 10/03/2016 | J1: AF/OS nº 1089/2015 Qtde. DT | K1: AF/OS nº 1091/2015 Qtde. DT | L1: AF/OS nº 1092/2015 Qtde. DT | M1: AF/OS nº 1440/2015 Qtde. DT | N1: AF/OS nº 1441/2015 Qtde. DT | O1: AF/OS nº 1443/2015 Qtde. DT | P1: AF/OS nº 1445/2015 Qtde. DT | Q1: AF/OS nº 1907/2015 Qtde. DT | R1: AF/OS nº 1908/2015 Qtde. DT | S1: AF/OS nº xxxx/2014 Qtde. DT | T1: AF/OS nº xxxx/2014 Qtde. DT | U1: AF/OS nº xxxx/2014 Qtde. DT
A2: CENTRO PARTICIPANTE: CEAD
A3: FORNECEDOR | B3: LOTE | C3: ITEM | D3: PRODUTO - CARACTERÍSTICAS MÍNIMAS | E3: ELEMENTO | F3: Preço UNITÁRIO (R$) | G3: Qtde Registrada | H3: Saldo / Automático | I3: ALERTA | J3: 42185 | K3: 42185 | L3: 42185 | M3: 42229 | N3: 42229 | O3: 42229 | P3: 42229 | Q3: 42290 | R3: 42290 | S3: ...../...../...... | T3: ...../...../...... | U3: ...../...../......
A4: GM Ind e Com Varejista de Móveis Ltda ME | B4: 1 | C4: 1 | D4: ARMÁRIO ALTO - conforme especificação em edital | E4: 449052.42 | F4: 350 | G4: =8+4 -> 12 | H4: =G4-(SUM(J4:U4)) -> 5 | I4: =IF(H4<0,"ATENÇÃO","OK") -> OK | J4: 3 | K4: 0 | L4: 0 | M4: 4 | N4: 0 | O4: 0 | P4: 0 | Q4: 0 | R4: 0 | S4: 0 | T4: 0 | U4: 0
C5: 2 | D5: ARMÁRIO BAIXO - conforme especificação em edital | E5: 449052.42 | F5: 230 | G5: =8+2 -> 10 | H5: =G5-(SUM(J5:U5)) -> 7 | I5: =IF(H5<0,"ATENÇÃO","OK") -> OK | J5: 1 | K5: 0 | L5: 0 | M5: 2 | N5: 0 | O5: 0 | P5: 0 | Q5: 0 | R5: 0 | S5: 0 | T5: 0 | U5: 0
C6: 3 | D6: ARMÁRIO MÉDIO - conforme especificação em edital | E6: 449052.42 | F6: 290 | G6: =8+3 -> 11 | H6: =G6-(SUM(J6:U6)) -> 4 | I6: =IF(H6<0,"ATENÇÃO","OK") -> OK | J6: 4 | K6: 0 | L6: 0 | M6: 3 | N6: 0 | O6: 0 | P6: 0 | Q6: 0 | R6: 0 | S6: 0 | T6: 0 | U6: 0
A7: GM Ind e Com Varejista de Móveis Ltda ME | B7: 2 | C7: 4 | D7: CADEIRA FIXA COM PRANCHETA - conforme especificação em edital | E7: 449052.42 | F7: 244 | G7: =20+150 -> 170 | H7: =G7-(SUM(J7:U7)) -> 20 | I7: =IF(H7<0,"ATENÇÃO","OK") -> OK | J7: 0 | K7: 0 | L7: 0 | M7: 150 | N7: 0 | O7: 0 | P7: 0 | Q7: 0 | R7: 0 | S7: 0 | T7: 0 | U7: 0
A8: MM São Jose Ltda ME | B8: 3 | C8: 5 | D8: CADEIRA FIXA SEM BRAÇO - conforme especificação em edital | E8: 449052.42 | F8: 110 | G8: =60+45 -> 105 | H8: =G8-(SUM(J8:U8)) -> 52 | I8: =IF(H8<0,"ATENÇÃO","OK") -> OK | J8: 0 | K8: 8 | L8: 0 | M8: 0 | N8: 0 | O8: 45 | P8: 0 | Q8: 0 | R8: 0 | S8: 0 | T8: 0 | U8: 0
A9: Akon Ltda ME | B9: 4 | C9: 6 | D9: CADEIRA TIPO SECRETÁRIA - conforme especificação em edital | E9: 449052.42 | F9: 252.95 | G9: =50+10 -> 60 | H9: =G9-(SUM(J9:U9)) -> 18 | I9: =IF(H9<0,"ATENÇÃO","OK") -> OK | K9: 0 | L9: 26 | M9: 0 | N9: 10 | O9: 0 | P9: 0 | Q9: 0 | R9: 6 | S9: 0 | T9: 0 | U9: 0
A10: Infrutífero | B10: 5 | C10: 7 | D10: CADEIRA TIPO PRESIDENTE - conforme especificação em edital | E10: 449052.42 | J10: 0 | K10: 0 | L10: 0 | N10: 0 | O10: 0 | P10: 0 | Q10: 0 | R10: 0 | S10: 0 | T10: 0 | U10: 0
A11: Akon Ltda ME | B11: 6 | C11: 8 | D11: ESTAÇÃO DE TRABALHO EM L - conforme especificação em edital | E11: 449052.42 | F11: 375 | G11: =12+2 -> 14 | H11: =G11-(SUM(J11:U11)) -> 3 | I11: =IF(H11<0,"ATENÇÃO","OK") -> OK | J11: 0 | K11: 0 | L11: 8 | M11: 0 | N11: 2 | O11: 0 | P11: 0 | Q11: 0 | R11: 1 | S11: 0 | T11: 0 | U11: 0
C12: 9 | D12: MESA DE REUNIÃO REDONDA - conforme especificação em edital | E12: 449052.42 | F12: 205 | G12: =2+7 -> 9 | H12: =G12-(SUM(J12:U12)) -> 2 | I12: =IF(H12<0,"ATENÇÃO","OK") -> OK | J12: 0 | K12: 0 | L12: 0 | M12: 0 | N12: 7 | O12: 0 | P12: 0 | Q12: 0 | R12: 0 | S12: 0 | T12: 0 | U12: 0
A13: GM Ind e Com Varejista de Móveis Ltda ME | B13: 7 | C13: 10 | D13: GAVETEIRO VOLANTE 03 GAVETAS - conforme especificação em edital | E13: 449052.42 | F13: 236.85 | G13: =12+1 -> 13 | H13: =G13-(SUM(J13:U13)) -> 3 | I13: =IF(H13<0,"ATENÇÃO","OK") -> OK | J13: 2 | K13: 0 | L13: 0 | M13: 1 | N13: 0 | O13: 0 | P13: 0 | Q13: 7 | R13: 0 | S13: 0 | T13: 0 | U13: 0
C14: 11 | D14: GAVETEIRO VOLANTE 04 GAVETAS - conforme especificação em edital | E14: 449052.42 | F14: 236.85 | G14: =12+3 -> 15 | H14: =G14-(SUM(J14:U14)) -> 12 | I14: =IF(H14<0,"ATENÇÃO","OK") -> OK | J14: 0 | K14: 0 | L14: 0 | M14: 3 | N14: 0 | O14: 0 | P14: 0 | Q14: 0 | R14: 0 | S14: 0 | T14: 0 | U14: 0
A15: Cancelado | B15: 8 | C15: 12 | D15: MESA DE ESTUDO - conforme especificação em edital | E15: 449052.42 | J15: 0 | K15: 0 | L15: 0 | N15: 0 | O15: 0 | P15: 0 | Q15: 0 | R15: 0 | S15: 0 | T15: 0 | U15: 0
A16: GM Ind e Com Varejista de Móveis Ltda ME | B16: 9 | C16: 13 | D16: MESA RETANGULAR - conforme especificação em edital | E16: 449052.42 | F16: 198 | H16: =G16-(SUM(J16:U16)) -> 0 | I16: =IF(H16<0,"ATENÇÃO","OK") -> OK | J16: 0 | K16: 0 | L16: 0 | M16: 0 | N16: 0 | O16: 0 | P16: 0 | Q16: 0 | R16: 0 | S16: 0 | T16: 0 | U16: 0
A17: Nelita Gomes Farias EPP | B17: 10 | C17: 14 | D17: LONGARINA DE ESPERA - conforme especificação em edital | E17: 449052.42 | F17: 701.95 | G17: 5 | H17: =G17-(SUM(J17:U17)) -> 0 | I17: =IF(H17<0,"ATENÇÃO","OK") -> OK | J17: 0 | K17: 0 | L17: 0 | M17: 0 | N17: 0 | O17: 0 | P17: 5 | Q17: 0 | R17: 0 | S17: 0 | T17: 0 | U17: 0
A18: GM Ind e Com Varejista de Móveis Ltda ME | B18: 11 | C18: 15 | D18: SUPORTE PARA BANDEIRA - conforme especificação em edital | E18: 449052.42 | F18: 340 | G18: =1+2 -> 3 | H18: =G18-(SUM(J18:U18)) -> 0 | I18: =IF(H18<0,"ATENÇÃO","OK") -> OK | J18: 1 | K18: 0 | L18: 0 | M18: 2 | N18: 0 | O18: 0 | P18: 0 | Q18: 0 | R18: 0 | S18: 0 | T18: 0 | U18: 0
D20: *Prazo de entrega e pagamento conforme edital

Sheet CEFID
A1: PROCESSO: 0855/2014/UDESC | D1: OBJETO: Aquisição de mobiliário padronizado para a UDESC | G1: VIGÊNCIA DA ATA: 11/03/2015 até 10/03/2016 | J1: AF/OS nº 1305/2015 Qtde. DT | K1: AF/OS nº xxxx/2014 Qtde. DT | L1: AF/OS nº xxxx/2014 Qtde. DT | M1: AF/OS nº xxxx/2014 Qtde. DT | N1: AF/OS nº xxxx/2014 Qtde. DT | O1: AF/OS nº xxxx/2014 Qtde. DT | P1: AF/OS nº xxxx/2014 Qtde. DT | Q1: AF/OS nº xxxx/2014 Qtde. DT | R1: AF/OS nº xxxx/2014 Qtde. DT | S1: AF/OS nº xxxx/2014 Qtde. DT | T1: AF/OS nº xxxx/2014 Qtde. DT | U1: AF/OS nº xxxx/2014 Qtde. DT
A2: CENTRO PARTICIPANTE: CEFID
A3: FORNECEDOR | B3: LOTE | C3: ITEM | D3: PRODUTO - CARACTERÍSTICAS MÍNIMAS | E3: ELEMENTO | F3: Preço UNITÁRIO (R$) | G3: Qtde Registrada | H3: Saldo / Automático | I3: ALERTA | J3: 42215 | K3: ...../...../...... | L3: ...../...../...... | M3: ...../...../...... | N3: ...../...../...... | O3: ...../...../...... | P3: ...../...../...... | Q3: ...../...../...... | R3: ...../...../...... | S3: ...../...../...... | T3: ...../...../...... | U3: ...../...../......
A4: GM Ind e Com Varejista de Móveis Ltda ME | B4: 1 | C4: 1 | D4: ARMÁRIO ALTO - conforme especificação em edital | E4: 449052.42 | F4: 350 | G4: =5-5 -> 0 | H4: =G4-(SUM(J4:U4)) -> 0 | I4: =IF(H4<0,"ATENÇÃO","OK") -> OK | J4: 0 | K4: 0 | L4: 0 | M4: 0 | N4: 0 | O4: 0 | P4: 0 | Q4: 0 | R4: 0 | S4: 0 | T4: 0 | U4: 0
C5: 2 | D5: ARMÁRIO BAIXO - conforme especificação em edital | E5: 449052.42 | F5: 230 | G5: 2 | H5: =G5-(SUM(J5:U5)) -> 2 | I5: =IF(H5<0,"ATENÇÃO","OK") -> OK | J5: 0 | K5: 0 | L5: 0 | M5: 0 | N5: 0 | O5: 0 | P5: 0 | Q5: 0 | R5: 0 | S5: 0 | T5: 0 | U5: 0
C6: 3 | D6: ARMÁRIO MÉDIO - conforme especificação em edital | E6: 449052.42 | F6: 290 | G6: 2 | H6: =G6-(SUM(J6:U6)) -> 2 | I6: =IF(H6<0,"ATENÇÃO","OK") -> OK | J6: 0 | K6: 0 | L6: 0 | M6: 0 | N6: 0 | O6: 0 | P6: 0 | Q6: 0 | R6: 0 | S6: 0 | T6: 0 | U6: 0
A7: GM Ind e Com Varejista de Móveis Ltda ME | B7: 2 | C7: 4 | D7: CADEIRA FIXA COM PRANCHETA - conforme especificação em edital | E7: 449052.42 | F7: 244 | H7: =G7-(SUM(J7:U7)) -> 0 | I7: =IF(H7<0,"ATENÇÃO","OK") -> OK | J7: 0 | K7: 0 | L7: 0 | M7: 0 | N7: 0 | O7: 0 | P7: 0 | Q7: 0 | R7: 0 | S7: 0 | T7: 0 | U7: 0
A8: MM São Jose Ltda ME | B8: 3 | C8: 5 | D8: CADEIRA FIXA SEM BRAÇO - conforme especificação em edital | E8: 449052.42 | F8: 110 | G8: 200 | H8: =G8-(SUM(J8:U8)) -> 80 | I8: =IF(H8<0,"ATENÇÃO","OK") -> OK | J8: 120 | K8: 0 | L8: 0 | M8: 0 | N8: 0 | O8: 0 | P8: 0 | Q8: 0 | R8: 0 | S8: 0 | T8: 0 | U8: 0
A9: Akon Ltda ME | B9: 4 | C9: 6 | D9: CADEIRA TIPO SECRETÁRIA - conforme especificação em edital | E9: 449052.42 | F9: 252.95 | G9: 100 | H9: =G9-(SUM(J9:U9)) -> 100 | I9: =IF(H9<0,"ATENÇÃO","OK") -> OK | K9: 0 | L9: 0 | M9: 0 | N9: 0 | O9: 0 | P9: 0 | Q9: 0 | R9: 0 | S9: 0 | T9: 0 | U9: 0
A10: Infrutífero | B10: 5 | C10: 7 | D10: CADEIRA TIPO PRESIDENTE - conforme especificação em edital | E10: 449052.42 | J10: 0 | K10: 0 | L10: 0 | M10: 0 | N10: 0 | O10: 0 | P10: 0 | Q10: 0 | R10: 0 | S10: 0 | T10: 0 | U10: 0
A11: Akon Ltda ME | B11: 6 | C11: 8 | D11: ESTAÇÃO DE TRABALHO EM L - conforme especificação em edital | E11: 449052.42 | F11: 375 | H11: =G11-(SUM(J11:U11)) -> 0 | I11: =IF(H11<0,"ATENÇÃO","OK") -> OK | J11: 0 | K11: 0 | L11: 0 | M11: 0 | N11: 0 | O11: 0 | P11: 0 | Q11: 0 | R11: 0 | S11: 0 | T11: 0 | U11: 0
C12: 9 | D12: MESA DE REUNIÃO REDONDA - conforme especificação em edital | E12: 449052.42 | F12: 205 | H12: =G12-(SUM(J12:U12)) -> 0 | I12: =IF(H12<0,"ATENÇÃO","OK") -> OK | J12: 0 | K12: 0 | L12: 0 | M12: 0 | N12: 0 | O12: 0 | P12: 0 | Q12: 0 | R12: 0 | S12: 0 | T12: 0 | U12: 0
A13: GM Ind e Com Varejista de Móveis Ltda ME | B13: 7 | C13: 10 | D13: GAVETEIRO VOLANTE 03 GAVETAS - conforme especificação em edital | E13: 449052.42 | F13: 236.85 | G13: 5 | H13: =G13-(SUM(J13:U13)) -> 5 | I13: =IF(H13<0,"ATENÇÃO","OK") -> OK | J13: 0 | K13: 0 | L13: 0 | M13: 0 | N13: 0 | O13: 0 | P13: 0 | Q13: 0 | R13: 0 | S13: 0 | T13: 0 | U13: 0
C14: 11 | D14: GAVETEIRO VOLANTE 04 GAVETAS - conforme especificação em edital | E14: 449052.42 | F14: 236.85 | G14: 5 | H14: =G14-(SUM(J14:U14)) -> 5 | I14: =IF(H14<0,"ATENÇÃO","OK") -> OK | J14: 0 | K14: 0 | L14: 0 | M14: 0 | N14: 0 | O14: 0 | P14: 0 | Q14: 0 | R14: 0 | S14: 0 | T14: 0 | U14: 0
A15: Cancelado | B15: 8 | C15: 12 | D15: MESA DE ESTUDO - conforme especificação em edital | E15: 449052.42 | J15: 0 | K15: 0 | L15: 0 | M15: 0 | N15: 0 | O15: 0 | P15: 0 | Q15: 0 | R15: 0 | S15: 0 | T15: 0 | U15: 0
A16: GM Ind e Com Varejista de Móveis Ltda ME | B16: 9 | C16: 13 | D16: MESA RETANGULAR - conforme especificação em edital | E16: 449052.42 | F16: 198 | H16: =G16-(SUM(J16:U16)) -> 0 | I16: =IF(H16<0,"ATENÇÃO","OK") -> OK | J16: 0 | K16: 0 | L16: 0 | M16: 0 | N16: 0 | O16: 0 | P16: 0 | Q16: 0 | R16: 0 | S16: 0 | T16: 0 | U16: 0
A17: Nelita Gomes Farias EPP | B17: 10 | C17: 14 | D17: LONGARINA DE ESPERA - conforme especificação em edital | E17: 449052.42 | F17: 701.95 | H17: =G17-(SUM(J17:U17)) -> 0 | I17: =IF(H17<0,"ATENÇÃO","OK") -> OK | J17: 0 | K17: 0 | L17: 0 | M17: 0 | N17: 0 | O17: 0 | P17: 0 | Q17: 0 | R17: 0 | S17: 0 | T17: 0 | U17: 0
A18: GM Ind e Com Varejista de Móveis Ltda ME | B18: 11 | C18: 15 | D18: SUPORTE PARA BANDEIRA - conforme especificação em edital | E18: 449052.42 | F18: 340 | G18: 1 | H18: =G18-(SUM(J18:U18)) -> 1 | I18: =IF(H18<0,"ATENÇÃO","OK") -> OK | J18: 0 | K18: 0 | L18: 0 | M18: 0 | N18: 0 | O18: 0 | P18: 0 | Q18: 0 | R18: 0 | S18: 0 | T18: 0 | U18: 0
D20: *Prazo de entrega e pagamento conforme edital

Sheet CERES
A1: PROCESSO: 0855/2014/UDESC | D1: OBJETO: Aquisição de mobiliário padronizado para a UDESC | G1: VIGÊNCIA DA ATA: 11/03/2015 até 10/03/2016 | J1: AF/OS nº xxxx/2014 Qtde. DT | K1: AF/OS nº xxxx/2014 Qtde. DT | L1: AF/OS nº xxxx/2014 Qtde. DT | M1: AF/OS nº xxxx/2014 Qtde. DT | N1: AF/OS nº xxxx/2014 Qtde. DT | O1: AF/OS nº xxxx/2014 Qtde. DT | P1: AF/OS nº xxxx/2014 Qtde. DT | Q1: AF/OS nº xxxx/2014 Qtde. DT | R1: AF/OS nº xxxx/2014 Qtde. DT | S1: AF/OS nº xxxx/2014 Qtde. DT | T1: AF/OS nº xxxx/2014 Qtde. DT | U1: AF/OS nº xxxx/2014 Qtde. DT
A2: CENTRO PARTICIPANTE: CERES
A3: FORNECEDOR | B3: LOTE | C3: ITEM | D3: PRODUTO - CARACTERÍSTICAS MÍNIMAS | E3: ELEMENTO | F3: Preço UNITÁRIO (R$) | G3: Qtde Registrada | H3: Saldo / Automático | I3: ALERTA | J3: ...../...../...... | K3: ...../...../...... | L3: ...../...../...... | M3: ...../...../...... | N3: ...../...../...... | O3: ...../...../...... | P3: ...../...../...... | Q3: ...../...../...... | R3: ...../...../...... | S3: ...../...../...... | T3: ...../...../...... | U3: ...../...../......
A4: GM Ind e Com Varejista de Móveis Ltda ME | B4: 1 | C4: 1 | D4: ARMÁRIO ALTO - conforme especificação em edital | E4: 449052.42 | F4: 350 | H4: =G4-(SUM(J4:U4)) -> 0 | I4: =IF(H4<0,"ATENÇÃO","OK") -> OK | J4: 0 | K4: 0 | L4: 0 | M4: 0 | N4: 0 | O4: 0 | P4: 0 | Q4: 0 | R4: 0 | S4: 0 | T4: 0 | U4: 0
C5: 2 | D5: ARMÁRIO BAIXO - conforme especificação em edital | E5: 449052.42 | F5: 230 | H5: =G5-(SUM(J5:U5)) -> 0 | I5: =IF(H5<0,"ATENÇÃO","OK") -> OK | J5: 0 | K5: 0 | L5: 0 | M5: 0 | N5: 0 | O5: 0 | P5: 0 | Q5: 0 | R5: 0 | S5: 0 | T5: 0 | U5: 0
C6: 3 | D6: ARMÁRIO MÉDIO - conforme especificação em edital | E6: 449052.42 | F6: 290 | H6: =G6-(SUM(J6:U6)) -> 0 | I6: =IF(H6<0,"ATENÇÃO","OK") -> OK | J6: 0 | K6: 0 | L6: 0 | M6: 0 | N6: 0 | O6: 0 | P6: 0 | Q6: 0 | R6: 0 | S6: 0 | T6: 0 | U6: 0
A7: GM Ind e Com Varejista de Móveis Ltda ME | B7: 2 | C7: 4 | D7: CADEIRA FIXA COM PRANCHETA - conforme especificação em edital | E7: 449052.42 | F7: 244 | H7: =G7-(SUM(J7:U7)) -> 0 | I7: =IF(H7<0,"ATENÇÃO","OK") -> OK | J7: 0 | K7: 0 | L7: 0 | M7: 0 | N7: 0 | O7: 0 | P7: 0 | Q7: 0 | R7: 0 | S7: 0 | T7: 0 | U7: 0
A8: MM São Jose Ltda ME | B8: 3 | C8: 5 | D8: CADEIRA FIXA SEM BRAÇO - conforme especificação em edital | E8: 449052.42 | F8: 110 | H8: =G8-(SUM(J8:U8)) -> 0 | I8: =IF(H8<0,"ATENÇÃO","OK") -> OK | J8: 0 | K8: 0 | L8: 0 | M8: 0 | N8: 0 | O8: 0 | P8: 0 | Q8: 0 | R8: 0 | S8: 0 | T8: 0 | U8: 0
A9: Akon Ltda ME | B9: 4 | C9: 6 | D9: CADEIRA TIPO SECRETÁRIA - conforme especificação em edital | E9: 449052.42 | F9: 252.95 | H9: =G9-(SUM(J9:U9)) -> 0 | I9: =IF(H9<0,"ATENÇÃO","OK") -> OK | J9: 0 | K9: 0 | L9: 0 | M9: 0 | N9: 0 | O9: 0 | P9: 0 | Q9: 0 | R9: 0 | S9: 0 | T9: 0 | U9: 0
A10: Infrutífero | B10: 5 | C10: 7 | D10: CADEIRA TIPO PRESIDENTE - conforme especificação em edital | E10: 449052.42 | J10: 0 | K10: 0 | L10: 0 | M10: 0 | N10: 0 | O10: 0 | P10: 0 | Q10: 0 | R10: 0 | S10: 0 | T10: 0 | U10: 0
A11: Akon Ltda ME | B11: 6 | C11: 8 | D11: ESTAÇÃO DE TRABALHO EM L - conforme especificação em edital | E11: 449052.42 | F11: 375 | H11: =G11-(SUM(J11:U11)) -> 0 | I11: =IF(H11<0,"ATENÇÃO","OK") -> OK | J11: 0 | K11: 0 | L11: 0 | M11: 0 | N11: 0 | O11: 0 | P11: 0 | Q11: 0 | R11: 0 | S11: 0 | T11: 0 | U11: 0
C12: 9 | D12: MESA DE REUNIÃO REDONDA - conforme especificação em edital | E12: 449052.42 | F12: 205 | H12: =G12-(SUM(J12:U12)) -> 0 | I12: =IF(H12<0,"ATENÇÃO","OK") -> OK | J12: 0 | K12: 0 | L12: 0 | M12: 0 | N12: 0 | O12: 0 | P12: 0 | Q12: 0 | R12: 0 | S12: 0 | T12: 0 | U12: 0
A13: GM Ind e Com Varejista de Móveis Ltda ME | B13: 7 | C13: 10 | D13: GAVETEIRO VOLANTE 03 GAVETAS - conforme especificação em edital | E13: 449052.42 | F13: 236.85 | H13: =G13-(SUM(J13:U13)) -> 0 | I13: =IF(H13<0,"ATENÇÃO","OK") -> OK | J13: 0 | K13: 0 | L13: 0 | M13: 0 | N13: 0 | O13: 0 | P13: 0 | Q13: 0 | R13: 0 | S13: 0 | T13: 0 | U13: 0
C14: 11 | D14: GAVETEIRO VOLANTE 04 GAVETAS - conforme especificação em edital | E14: 449052.42 | F14: 236.85 | H14: =G14-(SUM(J14:U14)) -> 0 | I14: =IF(H14<0,"ATENÇÃO","OK") -> OK | J14: 0 | K14: 0 | L14: 0 | M14: 0 | N14: 0 | O14: 0 | P14: 0 | Q14: 0 | R14: 0 | S14: 0 | T14: 0 | U14: 0
A15: Cancelado | B15: 8 | C15: 12 | D15: MESA DE ESTUDO - conforme especificação em edital | E15: 449052.42 | J15: 0 | K15: 0 | L15: 0 | M15: 0 | N15: 0 | O15: 0 | P15: 0 | Q15: 0 | R15: 0 | S15: 0 | T15: 0 | U15: 0
A16: GM Ind e Com Varejista de Móveis Ltda ME | B16: 9 | C16: 13 | D16: MESA RETANGULAR - conforme especificação em edital | E16: 449052.42 | F16: 198 | H16: =G16-(SUM(J16:U16)) -> 0 | I16: =IF(H16<0,"ATENÇÃO","OK") -> OK | J16: 0 | K16: 0 | L16: 0 | M16: 0 | N16: 0 | O16: 0 | P16: 0 | Q16: 0 | R16: 0 | S16: 0 | T16: 0 | U16: 0
A17: Nelita Gomes Farias EPP | B17: 10 | C17: 14 | D17: LONGARINA DE ESPERA - conforme especificação em edital | E17: 449052.42 | F17: 701.95 | H17: =G17-(SUM(J17:U17)) -> 0 | I17: =IF(H17<0,"ATENÇÃO","OK") -> OK | J17: 0 | K17: 0 | L17: 0 | M17: 0 | N17: 0 | O17: 0 | P17: 0 | Q17: 0 | R17: 0 | S17: 0 | T17: 0 | U17: 0
A18: GM Ind e Com Varejista de Móveis Ltda ME | B18: 11 | C18: 15 | D18: SUPORTE PARA BANDEIRA - conforme especificação em edital | E18: 449052.42 | F18: 340 | G18: 1 | H18: =G18-(SUM(J18:U18)) -> 1 | I18: =IF(H18<0,"ATENÇÃO","OK") -> OK | J18: 0 | K18: 0 | L18: 0 | M18: 0 | N18: 0 | O18: 0 | P18: 0 | Q18: 0 | R18: 0 | S18: 0 | T18: 0 | U18: 0
D20: *Prazo de entrega e pagamento conforme edital

Sheet CESFI
A1: PROCESSO: 0855/2014/UDESC | D1: OBJETO: Aquisição de mobiliário padronizado para a UDESC | G1: VIGÊNCIA DA ATA: 11/03/2015 até 10/03/2016 | J1: AF nº 571/2015 Qtde. DT | K1: AF nº 627/2015 Qtde. DT | L1: AF nº 570/2015 Qtde. DT | M1: AF/OS nº xxxx/2014 Qtde. DT | N1: AF/OS nº xxxx/2014 Qtde. DT | O1: AF/OS nº xxxx/2014 Qtde. DT | P1: AF/OS nº xxxx/2014 Qtde. DT | Q1: AF/OS nº xxxx/2014 Qtde. DT | R1: AF/OS nº xxxx/2014 Qtde. DT | S1: AF/OS nº xxxx/2014 Qtde. DT | T1: AF/OS nº xxxx/2014 Qtde. DT | U1: AF/OS nº xxxx/2014 Qtde. DT
A2: CENTRO PARTICIPANTE: CESFI
A3: FORNECEDOR | B3: LOTE | C3: ITEM | D3: PRODUTO - CARACTERÍSTICAS MÍNIMAS | E3: ELEMENTO | F3: Preço UNITÁRIO (R$) | G3: Qtde Registrada | H3: Saldo / Automático | I3: ALERTA | J3: 42123 | K3: 42129 | L3: 42123 | M3: ...../...../...... | N3: ...../...../...... | O3: ...../...../...... | P3: ...../...../...... | Q3: ...../...../...... | R3: ...../...../...... | S3: ...../...../...... | T3: ...../...../...... | U3: ...../...../......
A4: GM Ind e Com Varejista de Móveis Ltda ME | B4: 1 | C4: 1 | D4: ARMÁRIO ALTO - conforme especificação em edital | E4: 449052.42 | F4: 350 | G4: 8 | H4: =G4-(SUM(J4:U4)) -> 0 | I4: =IF(H4<0,"ATENÇÃO","OK") -> OK | J4: 8 | K4: 0 | L4: 0 | M4: 0 | N4: 0 | O4: 0 | P4: 0 | Q4: 0 | R4: 0 | S4: 0 | T4: 0 | U4: 0
C5: 2 | D5: ARMÁRIO BAIXO - conforme especificação em edital | E5: 449052.42 | F5: 230 | G5: 10 | H5: =G5-(SUM(J5:U5)) -> 0 | I5: =IF(H5<0,"ATENÇÃO","OK") -> OK | J5: 10 | K5: 0 | L5: 0 | M5: 0 | N5: 0 | O5: 0 | P5: 0 | Q5: 0 | R5: 0 | S5: 0 | T5: 0 | U5: 0
C6: 3 | D6: ARMÁRIO MÉDIO - conforme especificação em edital | E6: 449052.42 | F6: 290 | H6: =G6-(SUM(J6:U6)) -> 0 | I6: =IF(H6<0,"ATENÇÃO","OK") -> OK | J6: 0 | K6: 0 | L6: 0 | M6: 0 | N6: 0 | O6: 0 | P6: 0 | Q6: 0 | R6: 0 | S6: 0 | T6: 0 | U6: 0
A7: GM Ind e Com Varejista de Móveis Ltda ME | B7: 2 | C7: 4 | D7: CADEIRA FIXA COM PRANCHETA - conforme especificação em edital | E7: 449052.42 | F7: 244 | H7: =G7-(SUM(J7:U7)) -> 0 | I7: =IF(H7<0,"ATENÇÃO","OK") -> OK | J7: 0 | K7: 0 | L7: 0 | M7: 0 | N7: 0 | O7: 0 | P7: 0 | Q7: 0 | R7: 0 | S7: 0 | T7: 0 | U7: 0
A8: MM São Jose Ltda ME | B8: 3 | C8: 5 | D8: CADEIRA FIXA SEM BRAÇO - conforme especificação em edital | E8: 449052.42 | F8: 110 | G8: 30 | H8: =G8-(SUM(J8:U8)) -> 0 | I8: =IF(H8<0,"ATENÇÃO","OK") -> OK | J8: 0 | K8: 0 | L8: 30 | M8: 0 | N8: 0 | O8: 0 | P8: 0 | Q8: 0 | R8: 0 | S8: 0 | T8: 0 | U8: 0
A9: Akon Ltda ME | B9: 4 | C9: 6 | D9: CADEIRA TIPO SECRETÁRIA - conforme especificação em edital | E9: 449052.42 | F9: 252.95 | G9: 10 | H9: =G9-(SUM(J9:U9)) -> 5 | I9: =IF(H9<0,"ATENÇÃO","OK") -> OK | J9: 0 | K9: 5 | L9: 0 | M9: 0 | N9: 0 | O9: 0 | P9: 0 | Q9: 0 | R9: 0 | S9: 0 | T9: 0 | U9: 0
A10: Infrutífero | B10: 5 | C10: 7 | D10: CADEIRA TIPO PRESIDENTE - conforme especificação em edital | E10: 449052.42 | J10: 0 | K10: 0 | L10: 0 | M10: 0 | N10: 0 | O10: 0 | P10: 0 | Q10: 0 | R10: 0 | S10: 0 | T10: 0 | U10: 0
A11: Akon Ltda ME | B11: 6 | C11: 8 | D11: ESTAÇÃO DE TRABALHO EM L - conforme especificação em edital | E11: 449052.42 | F11: 375 | G11: 10 | H11: =G11-(SUM(J11:U11)) -> 5 | I11: =IF(H11<0,"ATENÇÃO","OK") -> OK | J11: 0 | K11: 5 | L11: 0 | M11: 0 | N11: 0 | O11: 0 | P11: 0 | Q11: 0 | R11: 0 | S11: 0 | T11: 0 | U11: 0
C12: 9 | D12: MESA DE REUNIÃO REDONDA - conforme especificação em edital | E12: 449052.42 | F12: 205 | G12: 5 | H12: =G12-(SUM(J12:U12)) -> 3 | I12: =IF(H12<0,"ATENÇÃO","OK") -> OK | J12: 0 | K12: 2 | L12: 0 | M12: 0 | N12: 0 | O12: 0 | P12: 0 | Q12: 0 | R12: 0 | S12: 0 | T12: 0 | U12: 0
A13: GM Ind e Com Varejista de Móveis Ltda ME | B13: 7 | C13: 10 | D13: GAVETEIRO VOLANTE 03 GAVETAS - conforme especificação em edital | E13: 449052.42 | F13: 236.85 | G13: 10 | H13: =G13-(SUM(J13:U13)) -> 0 | I13: =IF(H13<0,"ATENÇÃO","OK") -> OK | J13: 10 | K13: 0 | L13: 0 | M13: 0 | N13: 0 | O13: 0 | P13: 0 | Q13: 0 | R13: 0 | S13: 0 | T13: 0 | U13: 0
C14: 11 | D14: GAVETEIRO VOLANTE 04 GAVETAS - conforme especificação em edital | E14: 449052.42 | F14: 236.85 | G14: 5 | H14: =G14-(SUM(J14:U14)) -> 0 | I14: =IF(H14<0,"ATENÇÃO","OK") -> OK | J14: 5 | K14: 0 | L14: 0 | M14: 0 | N14: 0 | O14: 0 | P14: 0 | Q14: 0 | R14: 0 | S14: 0 | T14: 0 | U14: 0
A15: Cancelado | B15: 8 | C15: 12 | D15: MESA DE ESTUDO - conforme especificação em edital | E15: 449052.42 | J15: 0 | K15: 0 | L15: 0 | M15: 0 | N15: 0 | O15: 0 | P15: 0 | Q15: 0 | R15: 0 | S15: 0 | T15: 0 | U15: 0
A16: GM Ind e Com Varejista de Móveis Ltda ME | B16: 9 | C16: 13 | D16: MESA RETANGULAR - conforme especificação em edital | E16: 449052.42 | F16: 198 | H16: =G16-(SUM(J16:U16)) -> 0 | I16: =IF(H16<0,"ATENÇÃO","OK") -> OK | J16: 0 | K16: 0 | L16: 0 | M16: 0 | N16: 0 | O16: 0 | P16: 0 | Q16: 0 | R16: 0 | S16: 0 | T16: 0 | U16: 0
A17: Nelita Gomes Farias EPP | B17: 10 | C17: 14 | D17: LONGARINA DE ESPERA - conforme especificação em edital | E17: 449052.42 | F17: 701.95 | H17: =G17-(SUM(J17:U17)) -> 0 | I17: =IF(H17<0,"ATENÇÃO","OK") -> OK | J17: 0 | K17: 0 | L17: 0 | M17: 0 | N17: 0 | O17: 0 | P17: 0 | Q17: 0 | R17: 0 | S17: 0 | T17: 0 | U17: 0
A18: GM Ind e Com Varejista de Móveis Ltda ME | B18: 11 | C18: 15 | D18: SUPORTE PARA BANDEIRA - conforme especificação em edital | E18: 449052.42 | F18: 340 | G18: 1 | H18: =G18-(SUM(J18:U18)) -> 1 | I18: =IF(H18<0,"ATENÇÃO","OK") -> OK | J18: 0 | K18: 0 | L18: 0 | M18: 0 | N18: 0 | O18: 0 | P18: 0 | Q18: 0 | R18: 0 | S18: 0 | T18: 0 | U18: 0
D20: *Prazo de entrega e pagamento conforme edital

Sheet CCT
A1: PROCESSO: 0855/2014/UDESC | D1: OBJETO: Aquisição de mobiliário padronizado para a UDESC | G1: VIGÊNCIA DA ATA: 11/03/2015 até 10/03/2016 | J1: AF/OS nº 1452/2015 Qtde. DT | K1: AF/OS nº 1453/2015 Qtde. DT | L1: AF/OS nº 1454/2015 Qtde. DT | M1: AF/OS nº 1491/2015 Qtde. DT | N1: AF/OS nº 1492/2015 Qtde. DT | O1: AF/OS nº 1493/2015 Qtde. DT | P1: AF/OS nº 1633/2015 Qtde. DT | Q1: AF/OS nº 1634/2015 Qtde. DT | R1: AF/OS nº 1860/2015 Qtde. DT | S1: AF/OS nº 2134/2015 Qtde. DT | T1: AF/OS nº 2135/2015 Qtde. DT | U1: AF/OS nº 2136/2015 Qtde. DT
A2: CENTRO PARTICIPANTE: CCT
A3: FORNECEDOR | B3: LOTE | C3: ITEM | D3: PRODUTO - CARACTERÍSTICAS MÍNIMAS | E3: ELEMENTO | F3: Preço UNITÁRIO (R$) | G3: Qtde Registrada | H3: Saldo / Automático | I3: ALERTA | J3: 42233 | K3: 42233 | L3: 42233 | M3: 42237 | N3: 42237 | O3: 42237 | P3: 42258 | Q3: 42258 | R3: 42284 | S3: 42309 | T3: 42309 | U3: 42309
A4: GM Ind e Com Varejista de Móveis Ltda ME | B4: 1 | C4: 1 | D4: ARMÁRIO ALTO - conforme especificação em edital | E4: 449052.42 | F4: 350 | G4: =60+10 -> 70 | H4: =G4-(SUM(J4:U4)) -> 0 | I4: =IF(H4<0,"ATENÇÃO","OK") -> OK | J4: 0 | K4: 0 | L4: 0 | M4: 0 | N4: 0 | O4: 0 | P4: 20 | Q4: 0 | R4: 1 | S4: 49 | T4: 0 | U4: 0
C5: 2 | D5: ARMÁRIO BAIXO - conforme especificação em edital | E5: 449052.42 | F5: 230 | G5: 26 | H5: =G5-(SUM(J5:U5)) -> 14 | I5: =IF(H5<0,"ATENÇÃO","OK") -> OK | J5: 0 | K5: 0 | L5: 0 | M5: 0 | N5: 0 | O5: 0 | P5: 5 | Q5: 0 | R5: 0 | S5: 7 | T5: 0 | U5: 0
C6: 3 | D6: ARMÁRIO MÉDIO - conforme especificação em edital | E6: 449052.42 | F6: 290 | G6: 4 | H6: =G6-(SUM(J6:U6)) -> 0 | I6: =IF(H6<0,"ATENÇÃO","OK") -> OK | J6: 0 | K6: 0 | L6: 0 | M6: 0 | N6: 0 | O6: 0 | P6: 3 | Q6: 0 | R6: 0 | S6: 1 | T6: 0 | U6: 0
A7: GM Ind e Com Varejista de Móveis Ltda ME | B7: 2 | C7: 4 | D7: CADEIRA FIXA COM PRANCHETA - conforme especificação em edital | E7: 449052.42 | F7: 244 | G7: =14+34 -> 48 | H7: =G7-(SUM(J7:U7)) -> 3 | I7: =IF(H7<0,"ATENÇÃO","OK") -> OK | J7: 40 | K7: 0 | L7: 0 | M7: 5 | N7: 0 | O7: 0 | P7: 0 | Q7: 0 | R7: 0 | S7: 0 | T7: 0 | U7: 0
A8: MM São Jose Ltda ME | B8: 3 | C8: 5 | D8: CADEIRA FIXA SEM BRAÇO - conforme especificação em edital | E8: 449052.42 | F8: 110 | G8: =400+45 -> 445 | H8: =G8-(SUM(J8:U8)) -> 5 | I8: =IF(H8<0,"ATENÇÃO","OK") -> OK | J8: 0 | K8: 350 | L8: 0 | M8: 0 | N8: 8 | O8: 0 | P8: 0 | Q8: 0 | R8: 0 | S8: 0 | T8: 82 | U8: 0
A9: Akon Ltda ME | B9: 4 | C9: 6 | D9: CADEIRA TIPO SECRETÁRIA - conforme especificação em edital | E9: 449052.42 | F9: 252.95 | G9: 140 | H9: =G9-(SUM(J9:U9)) -> 27 | I9: =IF(H9<0,"ATENÇÃO","OK") -> OK | J9: 0 | K9: 0 | L9: 90 | M9: 0 | N9: 0 | O9: 0 | P9: 0 | Q9: 0 | R9: 0 | S9: 0 | T9: 0 | U9: 23
A10: Infrutífero | B10: 5 | C10: 7 | D10: CADEIRA TIPO PRESIDENTE - conforme especificação em edital | E10: 449052.42 | J10: 0 | K10: 0 | L10: 0 | M10: 0 | N10: 0 | O10: 0 | P10: 0 | Q10: 0 | R10: 0 | S10: 0 | T10: 0 | U10: 0
A11: Akon Ltda ME | B11: 6 | C11: 8 | D11: ESTAÇÃO DE TRABALHO EM L - conforme especificação em edital | E11: 449052.42 | F11: 375 | G11: 50 | H11: =G11-(SUM(J11:U11)) -> 14 | I11: =IF(H11<0,"ATENÇÃO","OK") -> OK | J11: 0 | K11: 0 | L11: 0 | M11: 0 | N11: 0 | O11: 1 | P11: 0 | Q11: 20 | R11: 0 | S11: 0 | T11: 0 | U11: 15
C12: 9 | D12: MESA DE REUNIÃO REDONDA - conforme especificação em edital | E12: 449052.42 | F12: 205 | G12: 12 | H12: =G12-(SUM(J12:U12)) -> 0 | I12: =IF(H12<0,"ATENÇÃO","OK") -> OK | J12: 0 | K12: 0 | L12: 0 | M12: 0 | N12: 0 | O12: 0 | P12: 0 | Q12: 0 | R12: 0 | S12: 0 | T12: 0 | U12: 12
A13: GM Ind e Com Varejista de Móveis Ltda ME | B13: 7 | C13: 10 | D13: GAVETEIRO VOLANTE 03 GAVETAS - conforme especificação em edital | E13: 449052.42 | F13: 236.85 | G13: 22 | H13: =G13-(SUM(J13:U13)) -> 16 | I13: =IF(H13<0,"ATENÇÃO","OK") -> OK | J13: 0 | K13: 0 | L13: 0 | M13: 0 | N13: 0 | O13: 0 | P13: 5 | Q13: 0 | R13: 0 | S13: 1 | T13: 0 | U13: 0
C14: 11 | D14: GAVETEIRO VOLANTE 04 GAVETAS - conforme especificação em edital | E14: 449052.42 | F14: 236.85 | G14: 28 | H14: =G14-(SUM(J14:U14)) -> 12 | I14: =IF(H14<0,"ATENÇÃO","OK") -> OK | J14: 0 | K14: 0 | L14: 0 | M14: 0 | N14: 0 | O14: 0 | P14: 10 | Q14: 0 | R14: 0 | S14: 6 | T14: 0 | U14: 0
A15: Cancelado | B15: 8 | C15: 12 | D15: MESA DE ESTUDO - conforme especificação em edital | E15: 449052.42 | J15: 0 | K15: 0 | L15: 0 | M15: 0 | N15: 0 | O15: 0 | P15: 0 | Q15: 0 | R15: 0 | S15: 0 | T15: 0 | U15: 0
A16: GM Ind e Com Varejista de Móveis Ltda ME | B16: 9 | C16: 13 | D16: MESA RETANGULAR - conforme especificação em edital | E16: 449052.42 | F16: 198 | H16: =G16-(SUM(J16:U16)) -> 0 | I16: =IF(H16<0,"ATENÇÃO","OK") -> OK | J16: 0 | K16: 0 | L16: 0 | M16: 0 | N16: 0 | O16: 0 | P16: 0 | Q16: 0 | R16: 0 | S16: 0 | T16: 0 | U16: 0
A17: Nelita Gomes Farias EPP | B17: 10 | C17: 14 | D17: LONGARINA DE ESPERA - conforme especificação em edital | E17: 449052.42 | F17: 701.95 | H17: =G17-(SUM(J17:U17)) -> 0 | I17: =IF(H17<0,"ATENÇÃO","OK") -> OK | J17: 0 | K17: 0 | L17: 0 | M17: 0 | N17: 0 | O17: 0 | P17: 0 | Q17: 0 | R17: 0 | S17: 0 | T17: 0 | U17: 0
A18: GM Ind e Com Varejista de Móveis Ltda ME | B18: 11 | C18: 15 | D18: SUPORTE PARA BANDEIRA - conforme especificação em edital | E18: 449052.42 | F18: 340 | G18: 3 | H18: =G18-(SUM(J18:U18)) -> 3 | I18: =IF(H18<0,"ATENÇÃO","OK") -> OK | J18: 0 | K18: 0 | L18: 0 | M18: 0 | N18: 0 | O18: 0 | P18: 0 | Q18: 0 | R18: 0 | S18: 0 | T18: 0 | U18: 0
D20: *Prazo de entrega e pagamento conforme edital

Sheet CEPLAN
A1: PROCESSO: 0855/2014/UDESC | D1: OBJETO: Aquisição de mobiliário padronizado para a UDESC | G1: VIGÊNCIA DA ATA: 11/03/2015 até 10/03/2016 | J1: AF/OS nº 735/2015 Qtde. DT | K1: AF/OS nº 737/2015 Qtde. DT | L1: AF/OS nº 1632/2015 Qtde. DT | M1: AF/OS nº 1635/2015 Qtde. DT | N1: AF/OS nº 1955/2015 Qtde. DT | O1: AF/OS nº 1958/2015 Qtde. DT | P1: AF/OS nº 1957/2015 Qtde. DT | Q1: AF/OS nº 1959/2015 Qtde. DT | R1: AF/OS nº 1960/2015 Qtde. DT | S1: AF/OS nº xxxx/2014 Qtde. DT | T1: AF/OS nº xxxx/2014 Qtde. DT | U1: AF/OS nº xxxx/2014 Qtde. DT
A2: CENTRO PARTICIPANTE: CEPLAN
A3: FORNECEDOR | B3: LOTE | C3: ITEM | D3: PRODUTO - CARACTERÍSTICAS MÍNIMAS | E3: ELEMENTO | F3: Preço UNITÁRIO (R$) | G3: Qtde Registrada | H3: Saldo / Automático | I3: ALERTA | J3: ...../...../...... | K3: ...../...../...... | L3: ...../...../...... | M3: ...../...../...... | N3: ...../...../...... | O3: ...../...../...... | P3: ...../...../...... | Q3: ...../...../...... | R3: ...../...../...... | S3: ...../...../...... | T3: ...../...../...... | U3: ...../...../......
A4: GM Ind e Com Varejista de Móveis Ltda ME | B4: 1 | C4: 1 | D4: ARMÁRIO ALTO - conforme especificação em edital | E4: 449052.42 | F4: 350 | G4: 10 | H4: =G4-(SUM(J4:U4)) -> 0 | I4: =IF(H4<0,"ATENÇÃO","OK") -> OK | J4: 0 | K4: 0 | L4: 2 | M4: 0 | N4: 5 | O4: 0 | P4: 0 | Q4: 3 | R4: 0 | S4: 0 | T4: 0 | U4: 0
C5: 2 | D5: ARMÁRIO BAIXO - conforme especificação em edital | E5: 449052.42 | F5: 230 | G5: 10 | H5: =G5-(SUM(J5:U5)) -> 0 | I5: =IF(H5<0,"ATENÇÃO","OK") -> OK | J5: 0 | K5: 0 | L5: 0 | M5: 0 | N5: 10 | O5: 0 | P5: 0 | Q5: 0 | R5: 0 | S5: 0 | T5: 0 | U5: 0
C6: 3 | D6: ARMÁRIO MÉDIO - conforme especificação em edital | E6: 449052.42 | F6: 290 | G6: 10 | H6: =G6-(SUM(J6:U6)) -> 0 | I6: =IF(H6<0,"ATENÇÃO","OK") -> OK | J6: 0 | K6: 0 | L6: 0 | M6: 0 | N6: 10 | O6: 0 | P6: 0 | Q6: 0 | R6: 0 | S6: 0 | T6: 0 | U6: 0
A7: GM Ind e Com Varejista de Móveis Ltda ME | B7: 2 | C7: 4 | D7: CADEIRA FIXA COM PRANCHETA - conforme especificação em edital | E7: 449052.42 | F7: 244 | G7: 120 | H7: =G7-(SUM(J7:U7)) -> 0 | I7: =IF(H7<0,"ATENÇÃO","OK") -> OK | J7: 0 | K7: 0 | L7: 0 | M7: 0 | N7: 120 | O7: 0 | P7: 0 | Q7: 0 | R7: 0 | S7: 0 | T7: 0 | U7: 0
A8: MM São Jose Ltda ME | B8: 3 | C8: 5 | D8: CADEIRA FIXA SEM BRAÇO - conforme especificação em edital | E8: 449052.42 | F8: 110 | G8: 350 | H8: =G8-(SUM(J8:U8)) -> 0 | I8: =IF(H8<0,"ATENÇÃO","OK") -> OK | J8: 50 | K8: 0 | L8: 0 | M8: 0 | N8: 0 | O8: 300 | P8: 0 | Q8: 0 | R8: 0 | S8: 0 | T8: 0 | U8: 0
A9: Akon Ltda ME | B9: 4 | C9: 6 | D9: CADEIRA TIPO SECRETÁRIA - conforme especificação em edital | E9: 449052.42 | F9: 252.95 | G9: 50 | H9: =G9-(SUM(J9:U9)) -> 0 | I9: =IF(H9<0,"ATENÇÃO","OK") -> OK | J9: 0 | K9: 0 | L9: 0 | M9: 6 | N9: 0 | O9: 0 | P9: 38 | Q9: 0 | R9: 6 | S9: 0 | T9: 0 | U9: 0
A10: Infrutífero | B10: 5 | C10: 7 | D10: CADEIRA TIPO PRESIDENTE - conforme especificação em edital | E10: 449052.42 | J10: 0 | K10: 0 | L10: 0 | M10: 0 | N10: 0 | O10: 0 | P10: 0 | Q10: 0 | R10: 0 | S10: 0 | T10: 0 | U10: 0
A11: Akon Ltda ME | B11: 6 | C11: 8 | D11: ESTAÇÃO DE TRABALHO EM L - conforme especificação em edital | E11: 449052.42 | F11: 375 | G11: 8 | H11: =G11-(SUM(J11:U11)) -> 2 | I11: =IF(H11<0,"ATENÇÃO","OK") -> OK | J11: 0 | K11: 0 | L11: 0 | M11: 3 | N11: 0 | O11: 0 | P11: 3 | Q11: 0 | R11: 0 | S11: 0 | T11: 0 | U11: 0
C12: 9 | D12: MESA DE REUNIÃO REDONDA - conforme especificação em edital | E12: 449052.42 | F12: 205 | G12: 4 | H12: =G12-(SUM(J12:U12)) -> 0 | I12: =IF(H12<0,"ATENÇÃO","OK") -> OK | J12: 0 | K12: 0 | L12: 0 | M12: 1 | N12: 0 | O12: 0 | P12: 3 | Q12: 0 | R12: 0 | S12: 0 | T12: 0 | U12: 0
A13: GM Ind e Com Varejista de Móveis Ltda ME | B13: 7 | C13: 10 | D13: GAVETEIRO VOLANTE 03 GAVETAS - conforme especificação em edital | E13: 449052.42 | F13: 236.85 | G13: 10 | H13: =G13-(SUM(J13:U13)) -> 0 | I13: =IF(H13<0,"ATENÇÃO","OK") -> OK | J13: 0 | K13: 0 | L13: 0 | M13: 0 | N13: 10 | O13: 0 | P13: 0 | Q13: 0 | R13: 0 | S13: 0 | T13: 0 | U13: 0
C14: 11 | D14: GAVETEIRO VOLANTE 04 GAVETAS - conforme especificação em edital | E14: 449052.42 | F14: 236.85 | G14: 10 | H14: =G14-(SUM(J14:U14)) -> 0 | I14: =IF(H14<0,"ATENÇÃO","OK") -> OK | J14: 0 | K14: 0 | L14: 1 | M14: 0 | N14: 6 | O14: 0 | P14: 0 | Q14: 3 | R14: 0 | S14: 0 | T14: 0 | U14: 0
A15: Cancelado | B15: 8 | C15: 12 | D15: MESA DE ESTUDO - conforme especificação em edital | E15: 449052.42 | J15: 0 | K15: 0 | L15: 0 | M15: 0 | N15: 0 | O15: 0 | P15: 0 | Q15: 0 | R15: 0 | S15: 0 | T15: 0 | U15: 0
A16: GM Ind e Com Varejista de Móveis Ltda ME | B16: 9 | C16: 13 | D16: MESA RETANGULAR - conforme especificação em edital | E16: 449052.42 | F16: 198 | H16: =G16-(SUM(J16:U16)) -> 0 | I16: =IF(H16<0,"ATENÇÃO","OK") -> OK | J16: 0 | K16: 0 | L16: 0 | M16: 0 | N16: 0 | O16: 0 | P16: 0 | Q16: 0 | R16: 0 | S16: 0 | T16: 0 | U16: 0
A17: Nelita Gomes Farias EPP | B17: 10 | C17: 14 | D17: LONGARINA DE ESPERA - conforme especificação em edital | E17: 449052.42 | F17: 701.95 | H17: =G17-(SUM(J17:U17)) -> 0 | I17: =IF(H17<0,"ATENÇÃO","OK") -> OK | J17: 0 | K17: 0 | L17: 0 | M17: 0 | N17: 0 | O17: 0 | P17: 0 | Q17: 0 | R17: 0 | S17: 0 | T17: 0 | U17: 0
A18: GM Ind e Com Varejista de Móveis Ltda ME | B18: 11 | C18: 15 | D18: SUPORTE PARA BANDEIRA - conforme especificação em edital | E18: 449052.42 | F18: 340 | G18: 5 | H18: =G18-(SUM(J18:U18)) -> 2 | I18: =IF(H18<0,"ATENÇÃO","OK") -> OK | J18: 0 | K18: 3 | L18: 0 | M18: 0 | N18: 0 | O18: 0 | P18: 0 | Q18: 0 | R18: 0 | S18: 0 | T18: 0 | U18: 0
D20: *Prazo de entrega e pagamento conforme edital

Sheet CEO
A1: PROCESSO: 0855/2014/UDESC | D1: OBJETO: Aquisição de mobiliário padronizado para a UDESC | G1: VIGÊNCIA DA ATA: 11/03/2015 até 10/03/2016 | J1: AF/OS nº 470/2015 Qtde. DT | K1: AF/OS nº 473/2015 Qtde. DT | L1: AF/OS nº 519/2015 Qtde. DT | M1: AF/OS nº 1980/2015 Qtde. DT- AKON | N1: AF/OS nº 2016/2015 Qtde. DT MM São José | O1: AF/OS nº 2049/2015 Qtde. DT GM | P1: AF/OS nº xxxx/2014 Qtde. DT | Q1: AF/OS nº xxxx/2014 Qtde. DT | R1: AF/OS nº xxxx/2014 Qtde. DT | S1: AF/OS nº xxxx/2014 Qtde. DT | T1: AF/OS nº xxxx/2014 Qtde. DT
A2: CENTRO PARTICIPANTE: CEO
A3: FORNECEDOR | B3: LOTE | C3: ITEM | D3: PRODUTO - CARACTERÍSTICAS MÍNIMAS | E3: ELEMENTO | F3: Preço UNITÁRIO (R$) | G3: Qtde Registrada | H3: Saldo / Automático | I3: ALERTA | J3: 42121 | K3: 42121 | L3: 42121 | M3: 42303 | N3: 42305 | O3: 42313 | P3: ...../...../...... | Q3: ...../...../...... | R3: ...../...../...... | S3: ...../...../...... | T3: ...../...../......
A4: GM Ind e Com Varejista de Móveis Ltda ME | B4: 1 | C4: 1 | D4: ARMÁRIO ALTO - conforme especificação em edital | E4: 449052.42 | F4: 350 | G4: =29+5 -> 34 | H4: =G4-(SUM(J4:T4)) -> 5 | I4: =IF(H4<0,"ATENÇÃO","OK") -> OK | J4: 0 | K4: 29 | L4: 0 | M4: 0 | N4: 0 | O4: 0 | P4: 0 | Q4: 0 | R4: 0 | S4: 0 | T4: 0
C5: 2 | D5: ARMÁRIO BAIXO - conforme especificação em edital | E5: 449052.42 | F5: 230 | G5: 9 | H5: =G5-(SUM(J5:T5)) -> 0 | I5: =IF(H5<0,"ATENÇÃO","OK") -> OK | J5: 0 | K5: 2 | L5: 0 | M5: 0 | N5: 0 | O5: 7 | P5: 0 | Q5: 0 | R5: 0 | S5: 0 | T5: 0
C6: 3 | D6: ARMÁRIO MÉDIO - conforme especificação em edital | E6: 449052.42 | F6: 290 | G6: 9 | H6: =G6-(SUM(J6:T6)) -> 0 | I6: =IF(H6<0,"ATENÇÃO","OK") -> OK | J6: 0 | K6: 5 | L6: 0 | M6: 0 | N6: 0 | O6: 4 | P6: 0 | Q6: 0 | R6: 0 | S6: 0 | T6: 0
A7: GM Ind e Com Varejista de Móveis Ltda ME | B7: 2 | C7: 4 | D7: CADEIRA FIXA COM PRANCHETA - conforme especificação em edital | E7: 449052.42 | F7: 244 | G7: 300 | H7: =G7-(SUM(J7:T7)) -> 99 | I7: =IF(H7<0,"ATENÇÃO","OK") -> OK | J7: 0 | K7: 100 | L7: 0 | M7: 0 | N7: 0 | O7: 101 | P7: 0 | Q7: 0 | R7: 0 | S7: 0 | T7: 0
A8: MM São Jose Ltda ME | B8: 3 | C8: 5 | D8: CADEIRA FIXA SEM BRAÇO - conforme especificação em edital | E8: 449052.42 | F8: 110 | G8: =210-6 -> 204 | H8: =G8-(SUM(J8:T8)) -> 108 | I8: =IF(H8<0,"ATENÇÃO","OK") -> OK | J8: 37 | K8: 0 | L8: 0 | M8: 0 | N8: 59 | O8: 0 | P8: 0 | Q8: 0 | R8: 0 | S8: 0 | T8: 0
A9: Akon Ltda ME | B9: 4 | C9: 6 | D9: CADEIRA TIPO SECRETÁRIA - conforme especificação em edital | E9: 449052.42 | F9: 252.95 | G9: 37 | H9: =G9-(SUM(J9:T9)) -> 0 | I9: =IF(H9<0,"ATENÇÃO","OK") -> OK | J9: 0 | K9: 0 | L9: 26 | M9: 11 | N9: 0 | O9: 0 | P9: 0 | Q9: 0 | R9: 0 | S9: 0 | T9: 0
A10: Infrutífero | B10: 5 | C10: 7 | D10: CADEIRA TIPO PRESIDENTE - conforme especificação em edital | E10: 449052.42 | J10: 0 | K10: 0 | L10: 0 | M10: 0 | N10: 0 | O10: 0 | P10: 0 | Q10: 0 | R10: 0 | S10: 0 | T10: 0
A11: Akon Ltda ME | B11: 6 | C11: 8 | D11: ESTAÇÃO DE TRABALHO EM L - conforme especificação em edital | E11: 449052.42 | F11: 375 | G11: =27+10 -> 37 | H11: =G11-(SUM(J11:T11)) -> 0 | I11: =IF(H11<0,"ATENÇÃO","OK") -> OK | J11: 0 | K11: 0 | L11: 27 | M11: 10 | N11: 0 | O11: 0 | P11: 0 | Q11: 0 | R11: 0 | S11: 0 | T11: 0
C12: 9 | D12: MESA DE REUNIÃO REDONDA - conforme especificação em edital | E12: 449052.42 | F12: 205 | G12: 21 | H12: =G12-(SUM(J12:T12)) -> 0 | I12: =IF(H12<0,"ATENÇÃO","OK") -> OK | J12: 0 | K12: 0 | L12: 15 | M12: 6 | N12: 0 | O12: 0 | P12: 0 | Q12: 0 | R12: 0 | S12: 0 | T12: 0
A13: GM Ind e Com Varejista de Móveis Ltda ME | B13: 7 | C13: 10 | D13: GAVETEIRO VOLANTE 03 GAVETAS - conforme especificação em edital | E13: 449052.42 | F13: 236.85 | G13: 1 | H13: =G13-(SUM(J13:T13)) -> 0 | I13: =IF(H13<0,"ATENÇÃO","OK") -> OK | J13: 0 | K13: 1 | L13: 0 | M13: 0 | N13: 0 | O13: 0 | P13: 0 | Q13: 0 | R13: 0 | S13: 0 | T13: 0
C14: 11 | D14: GAVETEIRO VOLANTE 04 GAVETAS - conforme especificação em edital | E14: 449052.42 | F14: 236.85 | G14: 9 | H14: =G14-(SUM(J14:T14)) -> 0 | I14: =IF(H14<0,"ATENÇÃO","OK") -> OK | J14: 0 | K14: 9 | L14: 0 | M14: 0 | N14: 0 | O14: 0 | P14: 0 | Q14: 0 | R14: 0 | S14: 0 | T14: 0
A15: Cancelado | B15: 8 | C15: 12 | D15: MESA DE ESTUDO - conforme especificação em edital | E15: 449052.42 | J15: 0 | K15: 0 | L15: 0 | M15: 0 | N15: 0 | O15: 0 | P15: 0 | Q15: 0 | R15: 0 | S15: 0 | T15: 0
A16: GM Ind e Com Varejista de Móveis Ltda ME | B16: 9 | C16: 13 | D16: MESA RETANGULAR - conforme especificação em edital | E16: 449052.42 | F16: 198 | H16: =G16-(SUM(J16:T16)) -> 0 | I16: =IF(H16<0,"ATENÇÃO","OK") -> OK | J16: 0 | K16: 0 | L16: 0 | M16: 0 | N16: 0 | O16: 0 | P16: 0 | Q16: 0 | R16: 0 | S16: 0 | T16: 0
A17: Nelita Gomes Farias EPP | B17: 10 | C17: 14 | D17: LONGARINA DE ESPERA - conforme especificação em edital | E17: 449052.42 | F17: 701.95 | H17: =G17-(SUM(J17:T17)) -> 0 | I17: =IF(H17<0,"ATENÇÃO","OK") -> OK | J17: 0 | K17: 0 | L17: 0 | M17: 0 | N17: 0 | O17: 0 | P17: 0 | Q17: 0 | R17: 0 | S17: 0 | T17: 0
A18: GM Ind e Com Varejista de Móveis Ltda ME | B18: 11 | C18: 15 | D18: SUPORTE PARA BANDEIRA - conforme especificação em edital | E18: 449052.42 | F18: 340 | G18: 2 | H18: =G18-(SUM(J18:T18)) -> 2 | I18: =IF(H18<0,"ATENÇÃO","OK") -> OK | J18: 0 | K18: 0 | L18: 0 | M18: 0 | N18: 0 | O18: 0 | P18: 0 | Q18: 0 | R18: 0 | S18: 0 | T18: 0
D20: *Prazo de entrega e pagamento conforme edital

Sheet CEAVI
A1: PROCESSO: 0855/2014/UDESC | D1: OBJETO: Aquisição de mobiliário padronizado para a UDESC | G1: VIGÊNCIA DA ATA: 11/03/2015 até 10/03/2016 | J1: AF/OS nº 534/2015 Qtde. DT | K1: AF/OS nº 755/2015 Qtde. DT | L1: AF/OS nº 771/2015 Qtde. DT | M1: AF/OS nº 1405/2015 Qtde. DT | N1: AF/OS nº 1423/2014 Qtde. DT | O1: AF/OS nº xxxx/2014 Qtde. DT | P1: AF/OS nº xxxx/2014 Qtde. DT | Q1: AF/OS nº xxxx/2014 Qtde. DT | R1: AF/OS nº xxxx/2014 Qtde. DT
A2: CENTRO PARTICIPANTE: CEAVI
A3: FORNECEDOR | B3: LOTE | C3: ITEM | D3: PRODUTO - CARACTERÍSTICAS MÍNIMAS | E3: ELEMENTO | F3: Preço UNITÁRIO (R$) | G3: Qtde Registrada | H3: Saldo / Automático | I3: ALERTA | J3: 42117 | K3: 42145 | L3: 42145 | M3: 42234 | N3: ...../...../...... | O3: ...../...../...... | P3: ...../...../...... | Q3: ...../...../...... | R3: ...../...../......
A4: GM Ind e Com Varejista de Móveis Ltda ME | B4: 1 | C4: 1 | D4: ARMÁRIO ALTO - conforme especificação em edital | E4: 449052.42 | F4: 350 | G4: 30 | H4: =G4-(SUM(J4:R4)) -> 4 | I4: =IF(H4<0,"ATENÇÃO","OK") -> OK | J4: 0 | K4: 16 | L4: 0 | M4: 0 | N4: 10 | O4: 0 | P4: 0 | Q4: 0 | R4: 0
C5: 2 | D5: ARMÁRIO BAIXO - conforme especificação em edital | E5: 449052.42 | F5: 230 | G5: 30 | H5: =G5-(SUM(J5:R5)) -> 25 | I5: =IF(H5<0,"ATENÇÃO","OK") -> OK | J5: 0 | K5: 1 | L5: 0 | M5: 0 | N5: 4 | O5: 0 | P5: 0 | Q5: 0 | R5: 0
C6: 3 | D6: ARMÁRIO MÉDIO - conforme especificação em edital | E6: 449052.42 | F6: 290 | G6: 30 | H6: =G6-(SUM(J6:R6)) -> 30 | I6: =IF(H6<0,"ATENÇÃO","OK") -> OK | J6: 0 | K6: 0 | L6: 0 | M6: 0 | N6: 0 | O6: 0 | P6: 0 | Q6: 0 | R6: 0
A7: GM Ind e Com Varejista de Móveis Ltda ME | B7: 2 | C7: 4 | D7: CADEIRA FIXA COM PRANCHETA - conforme especificação em edital | E7: 449052.42 | F7: 244 | G7: =600-12-34 -> 554 | H7: =G7-(SUM(J7:R7)) -> 554 | I7: =IF(H7<0,"ATENÇÃO","OK") -> OK | J7: 0 | K7: 0 | L7: 0 | M7: 0 | N7: 0 | O7: 0 | P7: 0 | Q7: 0 | R7: 0
A8: MM São Jose Ltda ME | B8: 3 | C8: 5 | D8: CADEIRA FIXA SEM BRAÇO - conforme especificação em edital | E8: 449052.42 | F8: 110 | G8: 500 | H8: =G8-(SUM(J8:R8)) -> 410 | I8: =IF(H8<0,"ATENÇÃO","OK") -> OK | J8: 0 | K8: 0 | L8: 0 | M8: 90 | N8: 0 | O8: 0 | P8: 0 | Q8: 0 | R8: 0
A9: Akon Ltda ME | B9: 4 | C9: 6 | D9: CADEIRA TIPO SECRETÁRIA - conforme especificação em edital | E9: 449052.42 | F9: 252.95 | G9: 60 | H9: =G9-(SUM(J9:R9)) -> 0 | I9: =IF(H9<0,"ATENÇÃO","OK") -> OK | J9: 60 | K9: 0 | L9: 0 | M9: 0 | N9: 0 | O9: 0 | P9: 0 | Q9: 0 | R9: 0
A10: Infrutífero | B10: 5 | C10: 7 | D10: CADEIRA TIPO PRESIDENTE - conforme especificação em edital | E10: 449052.42 | J10: 0 | K10: 0 | L10: 0 | M10: 0 | N10: 0 | O10: 0 | P10: 0 | Q10: 0 | R10: 0
A11: Akon Ltda ME | B11: 6 | C11: 8 | D11: ESTAÇÃO DE TRABALHO EM L - conforme especificação em edital | E11: 449052.42 | F11: 375 | G11: =30-10 -> 20 | H11: =G11-(SUM(J11:R11)) -> 19 | I11: =IF(H11<0,"ATENÇÃO","OK") -> OK | J11: 0 | K11: 0 | L11: 1 | M11: 0 | N11: 0 | O11: 0 | P11: 0 | Q11: 0 | R11: 0
C12: 9 | D12: MESA DE REUNIÃO REDONDA - conforme especificação em edital | E12: 449052.42 | F12: 205 | G12: 5 | H12: =G12-(SUM(J12:R12)) -> 4 | I12: =IF(H12<0,"ATENÇÃO","OK") -> OK | J12: 1 | K12: 0 | L12: 0 | M12: 0 | N12: 0 | O12: 0 | P12: 0 | Q12: 0 | R12: 0
A13: GM Ind e Com Varejista de Móveis Ltda ME | B13: 7 | C13: 10 | D13: GAVETEIRO VOLANTE 03 GAVETAS - conforme especificação em edital | E13: 449052.42 | F13: 236.85 | G13: 30 | H13: =G13-(SUM(J13:R13)) -> 25 | I13: =IF(H13<0,"ATENÇÃO","OK") -> OK | J13: 0 | K13: 1 | L13: 0 | M13: 0 | N13: 4 | O13: 0 | P13: 0 | Q13: 0 | R13: 0
C14: 11 | D14: GAVETEIRO VOLANTE 04 GAVETAS - conforme especificação em edital | E14: 449052.42 | F14: 236.85 | G14: 30 | H14: =G14-(SUM(J14:R14)) -> 0 | I14: =IF(H14<0,"ATENÇÃO","OK") -> OK | J14: 0 | K14: 20 | L14: 0 | M14: 0 | N14: 10 | O14: 0 | P14: 0 | Q14: 0 | R14: 0
A15: Cancelado | B15: 8 | C15: 12 | D15: MESA DE ESTUDO - conforme especificação em edital | E15: 449052.42 | J15: 0 | K15: 0 | L15: 0 | M15: 0 | N15: 0 | O15: 0 | P15: 0 | Q15: 0 | R15: 0
A16: GM Ind e Com Varejista de Móveis Ltda ME | B16: 9 | C16: 13 | D16: MESA RETANGULAR - conforme especificação em edital | E16: 449052.42 | F16: 198 | H16: =G16-(SUM(J16:R16)) -> 0 | I16: =IF(H16<0,"ATENÇÃO","OK") -> OK | J16: 0 | K16: 0 | L16: 0 | M16: 0 | N16: 0 | O16: 0 | P16: 0 | Q16: 0 | R16: 0
A17: Nelita Gomes Farias EPP | B17: 10 | C17: 14 | D17: LONGARINA DE ESPERA - conforme especificação em edital | E17: 449052.42 | F17: 701.95 | H17: =G17-(SUM(J17:R17)) -> 0 | I17: =IF(H17<0,"ATENÇÃO","OK") -> OK | J17: 0 | K17: 0 | L17: 0 | M17: 0 | N17: 0 | O17: 0 | P17: 0 | Q17: 0 | R17: 0
A18: GM Ind e Com Varejista de Móveis Ltda ME | B18: 11 | C18: 15 | D18: SUPORTE PARA BANDEIRA - conforme especificação em edital | E18: 449052.42 | F18: 340 | G18: 5 | H18: =G18-(SUM(J18:R18)) -> 5 | I18: =IF(H18<0,"ATENÇÃO","OK") -> OK | J18: 0 | K18: 0 | L18: 0 | M18: 0 | N18: 0 | O18: 0 | P18: 0 | Q18: 0 | R18: 0
D20: *Prazo de entrega e pagamento conforme edital

Sheet CAV
A1: PROCESSO: 0855/2014/UDESC | D1: OBJETO: Aquisição de mobiliário padronizado para a UDESC | G1: VIGÊNCIA DA ATA: 11/03/2015 até 10/03/2016 | J1: AF/OS nº xxxx/2014 Qtde. DT | K1: AF/OS nº xxxx/2014 Qtde. DT | L1: AF/OS nº xxxx/2014 Qtde. DT | M1: AF/OS nº xxxx/2014 Qtde. DT | N1: AF/OS nº xxxx/2014 Qtde. DT | O1: AF/OS nº xxxx/2014 Qtde. DT | P1: AF/OS nº xxxx/2014 Qtde. DT | Q1: AF/OS nº xxxx/2014 Qtde. DT | R1: AF/OS nº xxxx/2014 Qtde. DT | S1: AF/OS nº xxxx/2014 Qtde. DT | T1: AF/OS nº xxxx/2014 Qtde. DT | U1: AF/OS nº xxxx/2014 Qtde. DT
A2: CENTRO PARTICIPANTE: CAV
A3: FORNECEDOR | B3: LOTE | C3: ITEM | D3: PRODUTO - CARACTERÍSTICAS MÍNIMAS | E3: ELEMENTO | F3: Preço UNITÁRIO (R$) | G3: Qtde Registrada | H3: Saldo / Automático | I3: ALERTA | J3: ...../...../...... | K3: ...../...../...... | L3: ...../...../...... | M3: ...../...../...... | N3: ...../...../...... | O3: ...../...../...... | P3: ...../...../...... | Q3: ...../...../...... | R3: ...../...../...... | S3: ...../...../...... | T3: ...../...../...... | U3: ...../...../......
A4: GM Ind e Com Varejista de Móveis Ltda ME | B4: 1 | C4: 1 | D4: ARMÁRIO ALTO - conforme especificação em edital | E4: 449052.42 | F4: 350 | H4: =G4-(SUM(J4:U4)) -> 0 | I4: =IF(H4<0,"ATENÇÃO","OK") -> OK | J4: 0 | K4: 0 | L4: 0 | M4: 0 | N4: 0 | O4: 0 | P4: 0 | Q4: 0 | R4: 0 | S4: 0 | T4: 0 | U4: 0
C5: 2 | D5: ARMÁRIO BAIXO - conforme especificação em edital | E5: 449052.42 | F5: 230 | H5: =G5-(SUM(J5:U5)) -> 0 | I5: =IF(H5<0,"ATENÇÃO","OK") -> OK | J5: 0 | K5: 0 | L5: 0 | M5: 0 | N5: 0 | O5: 0 | P5: 0 | Q5: 0 | R5: 0 | S5: 0 | T5: 0 | U5: 0
C6: 3 | D6: ARMÁRIO MÉDIO - conforme especificação em edital | E6: 449052.42 | F6: 290 | H6: =G6-(SUM(J6:U6)) -> 0 | I6: =IF(H6<0,"ATENÇÃO","OK") -> OK | J6: 0 | K6: 0 | L6: 0 | M6: 0 | N6: 0 | O6: 0 | P6: 0 | Q6: 0 | R6: 0 | S6: 0 | T6: 0 | U6: 0
A7: GM Ind e Com Varejista de Móveis Ltda ME | B7: 2 | C7: 4 | D7: CADEIRA FIXA COM PRANCHETA - conforme especificação em edital | E7: 449052.42 | F7: 244 | G7: 12 | H7: =G7-(SUM(J7:U7)) -> 12 | I7: =IF(H7<0,"ATENÇÃO","OK") -> OK | J7: 0 | K7: 0 | L7: 0 | M7: 0 | N7: 0 | O7: 0 | P7: 0 | Q7: 0 | R7: 0 | S7: 0 | T7: 0 | U7: 0
A8: MM São Jose Ltda ME | B8: 3 | C8: 5 | D8: CADEIRA FIXA SEM BRAÇO - conforme especificação em edital | E8: 449052.42 | F8: 110 | H8: =G8-(SUM(J8:U8)) -> 0 | I8: =IF(H8<0,"ATENÇÃO","OK") -> OK | J8: 0 | K8: 0 | L8: 0 | M8: 0 | N8: 0 | O8: 0 | P8: 0 | Q8: 0 | R8: 0 | S8: 0 | T8: 0 | U8: 0
A9: Akon Ltda ME | B9: 4 | C9: 6 | D9: CADEIRA TIPO SECRETÁRIA - conforme especificação em edital | E9: 449052.42 | F9: 252.95 | H9: =G9-(SUM(J9:U9)) -> 0 | I9: =IF(H9<0,"ATENÇÃO","OK") -> OK | J9: 0 | K9: 0 | L9: 0 | M9: 0 | N9: 0 | O9: 0 | P9: 0 | Q9: 0 | R9: 0 | S9: 0 | T9: 0 | U9: 0
A10: Infrutífero | B10: 5 | C10: 7 | D10: CADEIRA TIPO PRESIDENTE - conforme especificação em edital | E10: 449052.42 | J10: 0 | K10: 0 | L10: 0 | M10: 0 | N10: 0 | O10: 0 | P10: 0 | Q10: 0 | R10: 0 | S10: 0 | T10: 0 | U10: 0
A11: Akon Ltda ME | B11: 6 | C11: 8 | D11: ESTAÇÃO DE TRABALHO EM L - conforme especificação em edital | E11: 449052.42 | F11: 375 | H11: =G11-(SUM(J11:U11)) -> 0 | I11: =IF(H11<0,"ATENÇÃO","OK") -> OK | J11: 0 | K11: 0 | L11: 0 | M11: 0 | N11: 0 | O11: 0 | P11: 0 | Q11: 0 | R11: 0 | S11: 0 | T11: 0 | U11: 0
C12: 9 | D12: MESA DE REUNIÃO REDONDA - conforme especificação em edital | E12: 449052.42 | F12: 205 | H12: =G12-(SUM(J12:U12)) -> 0 | I12: =IF(H12<0,"ATENÇÃO","OK") -> OK | J12: 0 | K12: 0 | L12: 0 | M12: 0 | N12: 0 | O12: 0 | P12: 0 | Q12: 0 | R12: 0 | S12: 0 | T12: 0 | U12: 0
A13: GM Ind e Com Varejista de Móveis Ltda ME | B13: 7 | C13: 10 | D13: GAVETEIRO VOLANTE 03 GAVETAS - conforme especificação em edital | E13: 449052.42 | F13: 236.85 | H13: =G13-(SUM(J13:U13)) -> 0 | I13: =IF(H13<0,"ATENÇÃO","OK") -> OK | J13: 0 | K13: 0 | L13: 0 | M13: 0 | N13: 0 | O13: 0 | P13: 0 | Q13: 0 | R13: 0 | S13: 0 | T13: 0 | U13: 0
C14: 11 | D14: GAVETEIRO VOLANTE 04 GAVETAS - conforme especificação em edital | E14: 449052.42 | F14: 236.85 | H14: =G14-(SUM(J14:U14)) -> 0 | I14: =IF(H14<0,"ATENÇÃO","OK") -> OK | J14: 0 | K14: 0 | L14: 0 | M14: 0 | N14: 0 | O14: 0 | P14: 0 | Q14: 0 | R14: 0 | S14: 0 | T14: 0 | U14: 0
A15: Cancelado | B15: 8 | C15: 12 | D15: MESA DE ESTUDO - conforme especificação em edital | E15: 449052.42 | J15: 0 | K15: 0 | L15: 0 | M15: 0 | N15: 0 | O15: 0 | P15: 0 | Q15: 0 | R15: 0 | S15: 0 | T15: 0 | U15: 0
A16: GM Ind e Com Varejista de Móveis Ltda ME | B16: 9 | C16: 13 | D16: MESA RETANGULAR - conforme especificação em edital | E16: 449052.42 | F16: 198 | H16: =G16-(SUM(J16:U16)) -> 0 | I16: =IF(H16<0,"ATENÇÃO","OK") -> OK | J16: 0 | K16: 0 | L16: 0 | M16: 0 | N16: 0 | O16: 0 | P16: 0 | Q16: 0 | R16: 0 | S16: 0 | T16: 0 | U16: 0
A17: Nelita Gomes Farias EPP | B17: 10 | C17: 14 | D17: LONGARINA DE ESPERA - conforme especificação em edital | E17: 449052.42 | F17: 701.95 | H17: =G17-(SUM(J17:U17)) -> 0 | I17: =IF(H17<0,"ATENÇÃO","OK") -> OK | J17: 0 | K17: 0 | L17: 0 | M17: 0 | N17: 0 | O17: 0 | P17: 0 | Q17: 0 | R17: 0 | S17: 0 | T17: 0 | U17: 0
A18: GM Ind e Com Varejista de Móveis Ltda ME | B18: 11 | C18: 15 | D18: SUPORTE PARA BANDEIRA - conforme especificação em edital | E18: 449052.42 | F18: 340 | H18: =G18-(SUM(J18:U18)) -> 0 | I18: =IF(H18<0,"ATENÇÃO","OK") -> OK | J18: 0 | K18: 0 | L18: 0 | M18: 0 | N18: 0 | O18: 0 | P18: 0 | Q18: 0 | R18: 0 | S18: 0 | T18: 0 | U18: 0
D20: *Prazo de entrega e pagamento conforme edital

Sheet GESTOR
A1: PROCESSO: 0855/2014/UDESC | D1: OBJETO: Aquisição de mobiliário padronizado para a UDESC | G1: VIGÊNCIA DA ATA: 11/03/2015 até 10/03/2016
A2: CENTRO PARTICIPANTE: TODOS (Exceto CAV)
A3: FORNECEDOR | B3: LOTE | C3: ITEM | D3: PRODUTO - CARACTERÍSTICAS MÍNIMAS | E3: ELEMENTO | F3: Preço UNITÁRIO (R$) | G3: Qtde Registrada | H3: Quantidade Utilizada | I3: SALDO | J3: Valor Total Registrado | K3: Valor Total Utilizado | L3: 1º Termo Aditivo | O3: 2º Termo Aditivo | R3: 3º Termo Aditivo | U3: 4º Termo Aditivo
A4: GM Ind e Com Varejista de Móveis Ltda ME | B4: 1 | C4: 1 | D4: ARMÁRIO ALTO - conforme especificação em edital | E4: 449052.42 | F4: 350 | G4: =Reitoria!G4+Museu!G4+ESAG!G4+CEART!G4+FAED!G4+CEAD!G4+CEFID!G4+CERES!G4+CESFI!G4+CCT!G4+CEPLAN!G4+CEO!G4+CEAVI!G4+CAV!G4 -> 310 | H4: =(Reitoria!G4-Reitoria!H4)+(Museu!G4-Museu!H4)+(ESAG!G4-ESAG!H4)+(CEART!G4-CEART!H4)+(FAED!G4-FAED!H4)+(CEAD!G4-CEAD!H4)+(CEFID!G4-CEFID!H4)+(CERES!G4-CERES!H4)+(CESFI!G4-CESFI!H4)+(CCT!G4-CCT!H4)+(CEPLAN!G4-CEPLAN!H4)+(CEO!G4-CEO!H4)+(CEAVI!G4-CEAVI!H4) -> 175 | I4: =G4-H4 -> 135 | J4: =F4*G4 -> 108500 | K4: =F4*H4 -> 61250 | L4: 4 | M4: =L4*F4 -> 1400 | N4: =L4/G4 -> 0.012903226
C5: 2 | D5: ARMÁRIO BAIXO - conforme especificação em edital | E5: 449052.42 | F5: 230 | G5: =Reitoria!G5+Museu!G5+ESAG!G5+CEART!G5+FAED!G5+CEAD!G5+CEFID!G5+CERES!G5+CESFI!G5+CCT!G5+CEPLAN!G5+CEO!G5+CEAVI!G5+CAV!G5 -> 200 | H5: =(Reitoria!G5-Reitoria!H5)+(Museu!G5-Museu!H5)+(ESAG!G5-ESAG!H5)+(CEART!G5-CEART!H5)+(FAED!G5-FAED!H5)+(CEAD!G5-CEAD!H5)+(CEFID!G5-CEFID!H5)+(CERES!G5-CERES!H5)+(CESFI!G5-CESFI!H5)+(CCT!G5-CCT!H5)+(CEPLAN!G5-CEPLAN!H5)+(CEO!G5-CEO!H5)+(CEAVI!G5-CEAVI!H5) -> 57 | I5: =G5-H5 -> 143 | J5: =F5*G5 -> 46000 | K5: =F5*H5 -> 13110 | L5: 2 | M5: =L5*F5 -> 460 | N5: =L5/G5 -> 0.01
C6: 3 | D6: ARMÁRIO MÉDIO - conforme especificação em edital | E6: 449052.42 | F6: 290 | G6: =Reitoria!G6+Museu!G6+ESAG!G6+CEART!G6+FAED!G6+CEAD!G6+CEFID!G6+CERES!G6+CESFI!G6+CCT!G6+CEPLAN!G6+CEO!G6+CEAVI!G6+CAV!G6 -> 94 | H6: =(Reitoria!G6-Reitoria!H6)+(Museu!G6-Museu!H6)+(ESAG!G6-ESAG!H6)+(CEART!G6-CEART!H6)+(FAED!G6-FAED!H6)+(CEAD!G6-CEAD!H6)+(CEFID!G6-CEFID!H6)+(CERES!G6-CERES!H6)+(CESFI!G6-CESFI!H6)+(CCT!G6-CCT!H6)+(CEPLAN!G6-CEPLAN!H6)+(CEO!G6-CEO!H6)+(CEAVI!G6-CEAVI!H6) -> 38 | I6: =G6-H6 -> 56 | J6: =F6*G6 -> 27260 | K6: =F6*H6 -> 11020 | L6: 3 | M6: =L6*F6 -> 870 | N6: =L6/G6 -> 0.031914894
A7: GM Ind e Com Varejista de Móveis Ltda ME | B7: 2 | C7: 4 | D7: CADEIRA FIXA COM PRANCHETA - conforme especificação em edital | E7: 449052.42 | F7: 244 | G7: =Reitoria!G7+Museu!G7+ESAG!G7+CEART!G7+FAED!G7+CEAD!G7+CEFID!G7+CERES!G7+CESFI!G7+CCT!G7+CEPLAN!G7+CEO!G7+CEAVI!G7+CAV!G7 -> 1224 | H7: =(Reitoria!G7-Reitoria!H7)+(Museu!G7-Museu!H7)+(ESAG!G7-ESAG!H7)+(CEART!G7-CEART!H7)+(FAED!G7-FAED!H7)+(CEAD!G7-CEAD!H7)+(CEFID!G7-CEFID!H7)+(CERES!G7-CERES!H7)+(CESFI!G7-CESFI!H7)+(CCT!G7-CCT!H7)+(CEPLAN!G7-CEPLAN!H7)+(CEO!G7-CEO!H7)+(CEAVI!G7-CEAVI!H7) -> 516 | I7: =G7-H7 -> 708 | J7: =F7*G7 -> 298656 | K7: =F7*H7 -> 125904 | L7: 150 | M7: =L7*F7 -> 36600 | N7: =L7/G7 -> 0.12254902
A8: MM São Jose Ltda ME | B8: 3 | C8: 5 | D8: CADEIRA FIXA SEM BRAÇO - conforme especificação em edital | E8: 449052.42 | F8: 110 | G8: =Reitoria!G8+Museu!G8+ESAG!G8+CEART!G8+FAED!G8+CEAD!G8+CEFID!G8+CERES!G8+CESFI!G8+CCT!G8+CEPLAN!G8+CEO!G8+CEAVI!G8+CAV!G8 -> 3547 | H8: =(Reitoria!G8-Reitoria!H8)+(Museu!G8-Museu!H8)+(ESAG!G8-ESAG!H8)+(CEART!G8-CEART!H8)+(FAED!G8-FAED!H8)+(CEAD!G8-CEAD!H8)+(CEFID!G8-CEFID!H8)+(CERES!G8-CERES!H8)+(CESFI!G8-CESFI!H8)+(CCT!G8-CCT!H8)+(CEPLAN!G8-CEPLAN!H8)+(CEO!G8-CEO!H8)+(CEAVI!G8-CEAVI!H8) -> 2466 | I8: =G8-H8 -> 1081 | J8: =F8*G8 -> 390170 | K8: =F8*H8 -> 271260 | O8: 45 | P8: =O8*F8 -> 4950 | Q8: =O8/G8 -> 0.012686778
A9: Akon Ltda ME | B9: 4 | C9: 6 | D9: CADEIRA TIPO SECRETÁRIA - conforme especificação em edital | E9: 449052.42 | F9: 252.95 | G9: =Reitoria!G9+Museu!G9+ESAG!G9+CEART!G9+FAED!G9+CEAD!G9+CEFID!G9+CERES!G9+CESFI!G9+CCT!G9+CEPLAN!G9+CEO!G9+CEAVI!G9+CAV!G9 -> 941 | H9: =(Reitoria!G9-Reitoria!H9)+(Museu!G9-Museu!H9)+(ESAG!G9-ESAG!H9)+(CEART!G9-CEART!H9)+(FAED!G9-FAED!H9)+(CEAD!G9-CEAD!H9)+(CEFID!G9-CEFID!H9)+(CERES!G9-CERES!H9)+(CESFI!G9-CESFI!H9)+(CCT!G9-CCT!H9)+(CEPLAN!G9-CEPLAN!H9)+(CEO!G9-CEO!H9)+(CEAVI!G9-CEAVI!H9) -> 521 | I9: =G9-H9 -> 420 | J9: =F9*G9 -> 238025.95 | K9: =F9*H9 -> 131786.95 | R9: 10 | S9: =R9*F9 -> 2529.5 | T9: =R9/G9 -> 0.010626993
A10: Infrutífero | B10: 5 | C10: 7 | D10: CADEIRA TIPO PRESIDENTE - conforme especificação em edital | E10: 449052.42 | G10: =Reitoria!G10+Museu!G10+ESAG!G10+CEART!G10+FAED!G10+CEAD!G10+CEFID!G10+CERES!G10+CESFI!G10+CCT!G10+CEPLAN!G10+CEO!G10+CEAVI!G10+CAV!G10 -> 0
A11: Akon Ltda ME | B11: 6 | C11: 8 | D11: ESTAÇÃO DE TRABALHO EM L - conforme especificação em edital | E11: 449052.42 | F11: 375 | G11: =Reitoria!G11+Museu!G11+ESAG!G11+CEART!G11+FAED!G11+CEAD!G11+CEFID!G11+CERES!G11+CESFI!G11+CCT!G11+CEPLAN!G11+CEO!G11+CEAVI!G11+CAV!G11 -> 322 | H11: =(Reitoria!G11-Reitoria!H11)+(Museu!G11-Museu!H11)+(ESAG!G11-ESAG!H11)+(CEART!G11-CEART!H11)+(FAED!G11-FAED!H11)+(CEAD!G11-CEAD!H11)+(CEFID!G11-CEFID!H11)+(CERES!G11-CERES!H11)+(CESFI!G11-CESFI!H11)+(CCT!G11-CCT!H11)+(CEPLAN!G11-CEPLAN!H11)+(CEO!G11-CEO!H11)+(CEAVI!G11-CEAVI!H11) -> 123 | I11: =G11-H11 -> 199 | J11: =F11*G11 -> 120750 | K11: =F11*H11 -> 46125 | R11: 2 | S11: =R11*F11 -> 750 | T11: =R11/G11 -> 0.0062111801
C12: 9 | D12: MESA DE REUNIÃO REDONDA - conforme especificação em edital | E12: 449052.42 | F12: 205 | G12: =Reitoria!G12+Museu!G12+ESAG!G12+CEART!G12+FAED!G12+CEAD!G12+CEFID!G12+CERES!G12+CESFI!G12+CCT!G12+CEPLAN!G12+CEO!G12+CEAVI!G12+CAV!G12 -> 107 | H12: =(Reitoria!G12-Reitoria!H12)+(Museu!G12-Museu!H12)+(ESAG!G12-ESAG!H12)+(CEART!G12-CEART!H12)+(FAED!G12-FAED!H12)+(CEAD!G12-CEAD!H12)+(CEFID!G12-CEFID!H12)+(CERES!G12-CERES!H12)+(CESFI!G12-CESFI!H12)+(CCT!G12-CCT!H12)+(CEPLAN!G12-CEPLAN!H12)+(CEO!G12-CEO!H12)+(CEAVI!G12-CEAVI!H12) -> 55 | I12: =G12-H12 -> 52 | J12: =F12*G12 -> 21935 | K12: =F12*H12 -> 11275 | R12: 7 | S12: =R12*F12 -> 1435 | T12: =R12/G12 -> 0.065420561
A13: GM Ind e Com Varejista de Móveis Ltda ME | B13: 7 | C13: 10 | D13: GAVETEIRO VOLANTE 03 GAVETAS - conforme especificação em edital | E13: 449052.42 | F13: 236.85 | G13: =Reitoria!G13+Museu!G13+ESAG!G13+CEART!G13+FAED!G13+CEAD!G13+CEFID!G13+CERES!G13+CESFI!G13+CCT!G13+CEPLAN!G13+CEO!G13+CEAVI!G13+CAV!G13 -> 262 | H13: =(Reitoria!G13-Reitoria!H13)+(Museu!G13-Museu!H13)+(ESAG!G13-ESAG!H13)+(CEART!G13-CEART!H13)+(FAED!G13-FAED!H13)+(CEAD!G13-CEAD!H13)+(CEFID!G13-CEFID!H13)+(CERES!G13-CERES!H13)+(CESFI!G13-CESFI!H13)+(CCT!G13-CCT!H13)+(CEPLAN!G13-CEPLAN!H13)+(CEO!G13-CEO!H13)+(CEAVI!G13-CEAVI!H13) -> 48 | I13: =G13-H13 -> 214 | J13: =F13*G13 -> 62054.7 | K13: =F13*H13 -> 11368.8 | L13: 1 | M13: =L13*F13 -> 236.85 | N13: =L13/G13 -> 0.0038167939
C14: 11 | D14: GAVETEIRO VOLANTE 04 GAVETAS - conforme especificação em edital | E14: 449052.42 | F14: 236.85 | G14: =Reitoria!G14+Museu!G14+ESAG!G14+CEART!G14+FAED!G14+CEAD!G14+CEFID!G14+CERES!G14+CESFI!G14+CCT!G14+CEPLAN!G14+CEO!G14+CEAVI!G14+CAV!G14 -> 168 | H14: =(Reitoria!G14-Reitoria!H14)+(Museu!G14-Museu!H14)+(ESAG!G14-ESAG!H14)+(CEART!G14-CEART!H14)+(FAED!G14-FAED!H14)+(CEAD!G14-CEAD!H14)+(CEFID!G14-CEFID!H14)+(CERES!G14-CERES!H14)+(CESFI!G14-CESFI!H14)+(CCT!G14-CCT!H14)+(CEPLAN!G14-CEPLAN!H14)+(CEO!G14-CEO!H14)+(CEAVI!G14-CEAVI!H14) -> 107 | I14: =G14-H14 -> 61 | J14: =F14*G14 -> 39790.8 | K14: =F14*H14 -> 25342.95 | L14: 3 | M14: =L14*F14 -> 710.55 | N14: =L14/G14 -> 0.017857143
A15: Cancelado | B15: 8 | C15: 12 | D15: MESA DE ESTUDO - conforme especificação em edital | E15: 449052.42 | G15: =Reitoria!G15+Museu!G15+ESAG!G15+CEART!G15+FAED!G15+CEAD!G15+CEFID!G15+CERES!G15+CESFI!G15+CCT!G15+CEPLAN!G15+CEO!G15+CEAVI!G15+CAV!G15 -> 0
A16: GM Ind e Com Varejista de Móveis Ltda ME | B16: 9 | C16: 13 | D16: MESA RETANGULAR - conforme especificação em edital | E16: 449052.42 | F16: 198 | G16: =Reitoria!G16+Museu!G16+ESAG!G16+CEART!G16+FAED!G16+CEAD!G16+CEFID!G16+CERES!G16+CESFI!G16+CCT!G16+CEPLAN!G16+CEO!G16+CEAVI!G16+CAV!G16 -> 3 | H16: =(Reitoria!G16-Reitoria!H16)+(Museu!G16-Museu!H16)+(ESAG!G16-ESAG!H16)+(CEART!G16-CEART!H16)+(FAED!G16-FAED!H16)+(CEAD!G16-CEAD!H16)+(CEFID!G16-CEFID!H16)+(CERES!G16-CERES!H16)+(CESFI!G16-CESFI!H16)+(CCT!G16-CCT!H16)+(CEPLAN!G16-CEPLAN!H16)+(CEO!G16-CEO!H16)+(CEAVI!G16-CEAVI!H16) -> 3 | I16: =G16-H16 -> 0 | J16: =F16*G16 -> 594 | K16: =F16*H16 -> 594
A17: Nelita Gomes Farias EPP | B17: 10 | C17: 14 | D17: LONGARINA DE ESPERA - conforme especificação em edital | E17: 449052.42 | F17: 701.95 | G17: =Reitoria!G17+Museu!G17+ESAG!G17+CEART!G17+FAED!G17+CEAD!G17+CEFID!G17+CERES!G17+CESFI!G17+CCT!G17+CEPLAN!G17+CEO!G17+CEAVI!G17+CAV!G17 -> 25 | H17: =(Reitoria!G17-Reitoria!H17)+(Museu!G17-Museu!H17)+(ESAG!G17-ESAG!H17)+(CEART!G17-CEART!H17)+(FAED!G17-FAED!H17)+(CEAD!G17-CEAD!H17)+(CEFID!G17-CEFID!H17)+(CERES!G17-CERES!H17)+(CESFI!G17-CESFI!H17)+(CCT!G17-CCT!H17)+(CEPLAN!G17-CEPLAN!H17)+(CEO!G17-CEO!H17)+(CEAVI!G17-CEAVI!H17) -> 25 | I17: =G17-H17 -> 0 | J17: =F17*G17 -> 17548.75 | K17: =F17*H17 -> 17548.75 | U17: 5 | V17: =U17*F17 -> 3509.75 | W17: =U17/G17 -> 0.2
A18: GM Ind e Com Varejista de Móveis Ltda ME | B18: 11 | C18: 15 | D18: SUPORTE PARA BANDEIRA - conforme especificação em edital | E18: 449052.42 | F18: 340 | G18: =Reitoria!G18+Museu!G18+ESAG!G18+CEART!G18+FAED!G18+CEAD!G18+CEFID!G18+CERES!G18+CESFI!G18+CCT!G18+CEPLAN!G18+CEO!G18+CEAVI!G18+CAV!G18 -> 31 | H18: =(Reitoria!G18-Reitoria!H18)+(Museu!G18-Museu!H18)+(ESAG!G18-ESAG!H18)+(CEART!G18-CEART!H18)+(FAED!G18-FAED!H18)+(CEAD!G18-CEAD!H18)+(CEFID!G18-CEFID!H18)+(CERES!G18-CERES!H18)+(CESFI!G18-CESFI!H18)+(CCT!G18-CCT!H18)+(CEPLAN!G18-CEPLAN!H18)+(CEO!G18-CEO!H18)+(CEAVI!G18-CEAVI!H18) -> 8 | I18: =G18-H18 -> 23 | J18: =F18*G18 -> 10540 | K18: =F18*H18 -> 2720 | L18: 2 | M18: =L18*F18 -> 680 | N18: =L18/G18 -> 0.064516129
J19: =SUM(J4:J18) -> 1381825.2 | K19: =SUM(K4:K18) -> 729305.45 | M19: =SUM(M4:M18) -> 40957.4 | P19: =SUM(P8:P18) -> 4950 | S19: =SUM(S9:S18) -> 4714.5 | V19: =SUM(V17:V18) -> 3509.75
D20: *Prazo de entrega e pagamento conforme edital
G21: Pregão 0855/2014/UDESC - SRP
G22: Aquisição de mobiliário padronizado para a UDESC
G23: Vigência da Ata: 11/03/2015 até 10/03/2016
G24: Valor Total da Ata com Aditivo | K24: =J19 -> 1381825.2
G25: Valor Utilizado | K25: =K19 -> 729305.45
G26: % Aditivos
G27: % Utilizado | K27: =K25/K24 -> 0.52778416
G28: Resumo Atualizado em Abril/2016

Sheet Modelo Anexo II IN 002_2014
A1: ANEXO II – Instrução Normativa n.º 002/2014
A3: DECLARAÇÃO DE DISPONIBILIDADE DE QUANTITATIVO PARA EMISSÃO DE AUTORIZAÇÃO DE FORNECIMENTO/ORDEM DE SERVIÇO – SISTEMA DE REGISTRO DE PREÇOS/UDESC
A5: Processo CPA n.º XXXX/2014
A6: Pregão n.º XXXX/2014
A7: Objeto:
A8: Vigência da Ata de Registro de Preços: XX/XX/XXXX até XX/XX/XXXXX
A10: Declaro que o Centro XXXXXXX, participante da Ata de Registro de Preços proveniente do Pregão n.º XXXX/2014, possui saldo em seu quantitativo para a emissão da Autorização de Fornecimento/Ordem de Serviço n.º XXXX/2014, no valor de R$ X.XXX,XX, a ser firmada com a empresa XXXXXXX, restando ainda em sua cota para próximas contratações com o referido fornecedor os seguintes quantitativos:
A12: Lote | B12: Item | C12: Descrição Resumida | D12: Unidade | E12: Valor Unitário (R$) | F12: Saldo Quantitativo (antes da emissão desta AF/OS) | G12: Quantitativo da AF/OS | H12: Saldo Atualizado
A19: __________________, ____/_____/____
A20: Cidade Data
A24: _____________________________________________
A25: Diretor(a) de Administração
A26: (carimbo e assinatura)
