Workbook
Name diasuteis: #REF!
Name diasuteis: #REF!
Name diasuteis: #REF!
Name diasuteis: #REF!
Name Ferias: #REF!
Name Ferias: #REF!
Name Ferias: #REF!
Name RD: OFFSET(#REF!,(MATCH(SMALL(#REF!,ROW()-10),#REF!,0)-1),0)
Name RD: OFFSET(#REF!,(MATCH(SMALL(#REF!,ROW()-10),#REF!,0)-1),0)
Name RD: OFFSET(#REF!,(MATCH(SMALL(#REF!,ROW()-10),#REF!,0)-1),0)

Sheet Fiscais
B3: CCT | C3: Márcia Maria Pauleti Demathe
B4: CEAVI | C4: Edier de Souza Rosa
B5: Reitoria | C5: Sandra Makowiecky
C6: Alex O. M. Fabrin
C7: Paulo Roberto Santhias
C8: Luciana Dornbusch Lopes
C9: Debora Pontes Esteves Barbosa
C10: Matheus A. F. Fidelis
C11: Elaine Cristina Casagrande Zanette
C12: Jairo Wensing
C13: Sheila Gerber Peres
C14: Claudia Maria Messores
B15: CEAD | C15: Andre Correa Abreu
B16: ESAG | C16: Aroldo Schambeck
B17: CEART | C17: Andrea Oriques Santos
B18: CEFID | C18: Roger Correa Espindola
B19: CESFI | C19: Saulo Pacheco Junior
B20: CEO | C20: Vanessa de Marco Canton
C21: Elisangela Argenta
C22: Julcemar Kessler
C23: Weber Robazzi
B24: CERES | C24: Mariely Orlandi M. Serafim
B25: CEPLAN | C25: Flavio Marcello Strelow

Sheet Reitoria
A1: PROCESSO: 0855/2014/UDESC | D1: OBJETO: Aquisição de mobiliário padronizado para a UDESC | G1: VIGÊNCIA DA ATA: 11/03/2015 até 10/03/2016 | J1: AF nº 533/2015 Qtde. DT | K1: AF nº 539/2015 Qtde. DT | L1: AF nº 602/2015 Qtde. DT | M1: AF nº 604/2015 Qtde. DT | N1: AF nº 908/2015 Qtde. DT | O1: AF nº 910/2015 Qtde. DT | P1: AF nº 1056/2015 Qtde. DT | Q1: AF nº 1116/2015 Qtde. DT | R1: AF nº 1115/2015 Qtde. DT | S1: AF nº 1468/2015 Qtde. DT | T1: AF nº 1671/2015 Qtde. DT | U1: AF nº 1837/2015 Qtde. DT | V1: AF nº 0196/2016 Qtde. DT | W1: AF nº 0197/2016 Qtde. DT
A2: CENTRO PARTICIPANTE: Reitoria
A3: FORNECEDOR | B3: LOTE | C3: ITEM | D3: PRODUTO - CARACTERÍSTICAS MÍNIMAS | E3: ELEMENTO | F3: Preço UNITÁRIO (R$) | G3: Qtde Registrada | H3: Saldo / Automático | I3: ALERTA | J3: 42117 | K3: 42117 | L3: 42124 | M3: 42124 | N3: 42163 | O3: 42163 | P3: 42180 | Q3: 42187 | R3: 42187 | S3: 42234 | T3: 42264 | U3: 42282 | V3: 42437 | W3: 42437
A4: GM Ind e Com Varejista de Móveis Ltda ME | B4: 1 | C4: 1 | D4: ARMÁRIO ALTO - conforme especificação em edital | E4: 449052.42 | F4: 350 | G4: 12 | H4: =G4-(SUM(J4:W4)) -> 2 | I4: =IF(H4<0,"ATENÇÃO","OK") -> OK | J4: 0 | K4: 0 | L4: 0 | M4: 9 | N4: 0 | O4: 0 | P4: 0 | Q4: 0 | R4: 0 | S4: 1 | T4: 0 | U4: 0 | V4: 0 | W4: 0
C5: 2 | D5: ARMÁRIO BAIXO - conforme especificação em edital | E5: 449052.42 | F5: 230 | H5: =G5-(SUM(J5:W5)) -> 0 | I5: =IF(H5<0,"ATENÇÃO","OK") -> OK | J5: 0 | K5: 0 | L5: 0 | M5: 0 | N5: 0 | O5: 0 | P5: 0 | Q5: 0 | R5: 0 | S5: 0 | T5: 0 | U5: 0 | V5: 0 | W5: 0
C6: 3 | D6: ARMÁRIO MÉDIO - conforme especificação em edital | E6: 449052.42 | F6: 290 | G6: 6 | H6: =G6-(SUM(J6:W6)) -> 5 | I6: =IF(H6<0,"ATENÇÃO","OK") -> OK | J6: 0 | K6: 1 | L6: 0 | M6: 0 | N6: 0 | O6: 0 | P6: 0 | Q6: 0 | R6: 0 | S6: 0 | T6: 0 | U6: 0 | V6: 0 | W6: 0
A7: GM Ind e Com Varejista de Móveis Ltda ME | B7: 2 | C7: 4 | D7: CADEIRA FIXA COM PRANCHETA - conforme especificação em edital | E7: 449052.42 | F7: 244 | H7: =G7-(SUM(J7:W7)) -> 0 | I7: =IF(H7<0,"ATENÇÃO","OK") -> OK | J7: 0 | K7: 0 | L7: 0 | M7: 0 | N7: 0 | O7: 0 | P7: 0 | Q7: 0 | R7: 0 | S7: 0 | T7: 0 | U7: 0 | V7: 0 | W7: 0
A8: MM São Jose Ltda ME | B8: 3 | C8: 5 | D8: CADEIRA FIXA SEM BRAÇO - conforme especificação em edital | E8: 449052.42 | F8: 110 | G8: 27 | H8: =G8-(SUM(J8:W8)) -> 21 | I8: =IF(H8<0,"ATENÇÃO","OK") -> OK | J8: 0 | K8: 0 | L8: 0 | M8: 0 | N8: 0 | O8: 1 | P8: 0 | Q8: 5 | R8: 0 | S8: 0 | T8: 0 | U8: 0 | V8: 0 | W8: 0
A9: Akon Ltda ME | B9: 4 | C9: 6 | D9: CADEIRA TIPO SECRETÁRIA - conforme especificação em edital | E9: 449052.42 | F9: 252.95 | G9: =66-4 -> 62 | H9: =G9-(SUM(J9:W9)) -> 29 | I9: =IF(H9<0,"ATENÇÃO","OK") -> OK | J9: 2 | K9: 0 | L9: 1 | M9: 0 | N9: 2 | O9: 0 | P9: 5 | Q9: 0 | R9: 3 | S9: 0 | T9: 6 | U9: 2 | V9: 12
A10: Infrutífero | B10: 5 | C10: 7 | D10: CADEIRA TIPO PRESIDENTE - conforme especificação em edital | E10: 449052.42 | J10: 0 | K10: 0 | L10: 0 | M10: 0 | N10: 0 | O10: 0 | P10: 0 | Q10: 0 | R10: 0 | S10: 0 | T10: 0 | U10: 0 | V10: 0 | W10: 0
A11: Akon Ltda ME | B11: 6 | C11: 8 | D11: ESTAÇÃO DE TRABALHO EM L - conforme especificação em edital | E11: 449052.42 | F11: 375 | G11: 18 | H11: =G11-(SUM(J11:W11)) -> 4 | I11: =IF(H11<0,"ATENÇÃO","OK") -> OK | J11: 2 | K11: 0 | L11: 9 | M11: 0 | N11: 0 | O11: 0 | P11: 0 | Q11: 0 | R11: 0 | S11: 0 | T11: 0 | U11: 0 | V11: 3
C12: 9 | D12: MESA DE REUNIÃO REDONDA - conforme especificação em edital | E12: 449052.42 | F12: 205 | G12: 2 | H12: =G12-(SUM(J12:W12)) -> 0 | I12: =IF(H12<0,"ATENÇÃO","OK") -> OK | J12: 0 | K12: 0 | L12: 2 | M12: 0 | N12: 0 | O12: 0 | P12: 0 | Q12: 0 | R12: 0 | S12: 0 | T12: 0 | U12: 0 | V12: 0 | W12: 0
A13: GM Ind e Com Varejista de Móveis Ltda ME | B13: 7 | C13: 10 | D13: GAVETEIRO VOLANTE 03 GAVETAS - conforme especificação em edital | E13: 449052.42 | F13: 236.85 | G13: =2+2 -> 4 | H13: =G13-(SUM(J13:W13)) -> 0 | I13: =IF(H13<0,"ATENÇÃO","OK") -> OK | J13: 0 | K13: 4 | L13: 0 | M13: 0 | N13: 0 | O13: 0 | P13: 0 | Q13: 0 | R13: 0 | S13: 0 | T13: 0 | U13: 0 | V13: 0 | W13: 0
C14: 11 | D14: GAVETEIRO VOLANTE 04 GAVETAS - conforme especificação em edital | E14: 449052.42 | F14: 236.85 | G14: 16 | H14: =G14-(SUM(J14:W14)) -> 4 | I14: =IF(H14<0,"ATENÇÃO","OK") -> OK | J14: 0 | K14: 0 | L14: 0 | M14: 12 | N14: 0 | O14: 0 | P14: 0 | Q14: 0 | R14: 0 | S14: 0 | T14: 0 | U14: 0 | V14: 0 | W14: 0
A15: Cancelado | B15: 8 | C15: 12 | D15: MESA DE ESTUDO - conforme especificação em edital | E15: 449052.42 | J15: 0 | K15: 0 | L15: 0 | M15: 0 | N15: 0 | O15: 0 | P15: 0 | Q15: 0 | R15: 0 | S15: 0 | T15: 0 | U15: 0 | V15: 0 | W15: 0
A16: GM Ind e Com Varejista de Móveis Ltda ME | B16: 9 | C16: 13 | D16: MESA RETANGULAR - conforme especificação em edital | E16: 449052.42 | F16: 198 | G16: 3 | H16: =G16-(SUM(J16:W16)) -> 0 | I16: =IF(H16<0,"ATENÇÃO","OK") -> OK | J16: 0 | K16: 0 | L16: 0 | M16: 0 | N16: 0 | O16: 0 | P16: 0 | Q16: 0 | R16: 0 | S16: 0 | T16: 0 | U16: 0 | V16: 0 | W16: 3
A17: Nelita Gomes Farias EPP | B17: 10 | C17: 14 | D17: LONGARINA DE ESPERA - conforme especificação em edital | E17: 449052.42 | F17: 701.95 | H17: =G17-(SUM(J17:W17)) -> 0 | I17: =IF(H17<0,"ATENÇÃO","OK") -> OK | J17: 0 | K17: 0 | L17: 0 | M17: 0 | N17: 0 | O17: 0 | P17: 0 | Q17: 0 | R17: 0 | S17: 0 | T17: 0 | U17: 0 | V17: 0 | W17: 0
A18: GM Ind e Com Varejista de Móveis Ltda ME | B18: 11 | C18: 15 | D18: SUPORTE PARA BANDEIRA - conforme especificação em edital | E18: 449052.42 | F18: 340 | G18: 5 | H18: =G18-(SUM(J18:W18)) -> 5 | I18: =IF(H18<0,"ATENÇÃO","OK") -> OK | J18: 0 | K18: 0 | L18: 0 | M18: 0 | N18: 0 | O18: 0 | P18: 0 | Q18: 0 | R18: 0 | S18: 0 | T18: 0 | U18: 0 | V18: 0 | W18: 0
D20: *Prazo de entrega e pagamento conforme edital

Sheet Museu
A1: PROCESSO: 0855/2014/UDESC | D1: OBJETO: Aquisição de mobiliário padronizado para a UDESC | G1: VIGÊNCIA DA ATA: 11/03/2015 até 10/03/2016 | J1: AF nº 433/2015 Qtde. DT | K1: AF nº 436/2015 Qtde. DT | L1: AF nº 437/2015 Qtde. DT | M1: AF nº 1380/2015 Qtde. DT | N1: AF nº 1670/2015 Qtde. DT | O1: AF/OS nº xxxx/2014 Qtde. DT | P1: AF/OS nº xxxx/2014 Qtde. DT | Q1: AF/OS nº xxxx/2014 Qtde. DT | R1: AF/OS nº xxxx/2014 Qtde. DT | S1: AF/OS nº xxxx/2014 Qtde. DT | T1: AF/OS nº xxxx/2014 Qtde. DT | U1: AF/OS nº xxxx/2014 Qtde. DT
A2: CENTRO PARTICIPANTE: Museu
A3: FORNECEDOR | B3: LOTE | C3: ITEM | D3: PRODUTO - CARACTERÍSTICAS MÍNIMAS | E3: ELEMENTO | F3: Preço UNITÁRIO (R$) | G3: Qtde Registrada | H3: Saldo / Automático | I3: ALERTA | J3: 42103 | K3: 42104 | L3: 42104 | M3: 42222 | N3: 42264 | O3: ...../...../...... | P3: ...../...../...... | Q3: ...../...../...... | R3: ...../...../...... | S3: ...../...../...... | T3: ...../...../...... | U3: ...../...../......
A4: GM Ind e Com Varejista de Móveis Ltda ME | B4: 1 | C4: 1 | D4: ARMÁRIO ALTO - conforme especificação em edital | E4: 449052.42 | F4: 350 | G4: 10 | H4: =G4-(SUM(J4:U4)) -> 0 | I4: =IF(H4<0,"ATENÇÃO","OK") -> OK | J4: 0 | K4: 10 | L4: 0 | M4: 0 | N4: 0 | O4: 0 | P4: 0 | Q4: 0 | R4: 0 | S4: 0 | T4: 0 | U4: 0
C5: 2 | D5: ARMÁRIO BAIXO - conforme especificação em edital | E5: 449052.42 | F5: 230 | G5: 8 | H5: =G5-(SUM(J5:U5)) -> 0 | I5: =IF(H5<0,"ATENÇÃO","OK") -> OK | J5: 0 | K5: 8 | L5: 0 | M5: 0 | N5: 0 | O5: 0 | P5: 0 | Q5: 0 | R5: 0 | S5: 0 | T5: 0 | U5: 0
C6: 3 | D6: ARMÁRIO MÉDIO - conforme especificação em edital | E6: 449052.42 | F6: 290 | G6: 4 | H6: =G6-(SUM(J6:U6)) -> 0 | I6: =IF(H6<0,"ATENÇÃO","OK") -> OK | J6: 0 | K6: 4 | L6: 0 | M6: 0 | N6: 0 | O6: 0 | P6: 0 | Q6: 0 | R6: 0 | S6: 0 | T6: 0 | U6: 0
A7: GM Ind e Com Varejista de Móveis Ltda ME | B7: 2 | C7: 4 | D7: CADEIRA FIXA COM PRANCHETA - conforme especificação em edital | E7: 449052.42 | F7: 244 | H7: =G7-(SUM(J7:U7)) -> 0 | I7: =IF(H7<0,"ATENÇÃO","OK") -> OK | J7: 0 | K7: 0 | L7: 0 | M7: 0 | N7: 0 | O7: 0 | P7: 0 | Q7: 0 | R7: 0 | S7: 0 | T7: 0 | U7: 0
A8: MM São Jose Ltda ME | B8: 3 | C8: 5 | D8: CADEIRA FIXA SEM BRAÇO - conforme especificação em edital | E8: 449052.42 | F8: 110 | G8: =40+6+6 -> 52 | H8: =G8-(SUM(J8:U8)) -> 6 | I8: =IF(H8<0,"ATENÇÃO","OK") -> OK | J8: 0 | K8: 0 | L8: 40 | M8: 0 | N8: 6 | O8: 0 | P8: 0 | Q8: 0 | R8: 0 | S8: 0 | T8: 0 | U8: 0
A9: Akon Ltda ME | B9: 4 | C9: 6 | D9: CADEIRA TIPO SECRETÁRIA - conforme especificação em edital | E9: 449052.42 | F9: 252.95 | G9: =12+4 -> 16 | H9: =G9-(SUM(J9:U9)) -> 0 | I9: =IF(H9<0,"ATENÇÃO","OK") -> OK | J9: 12 | K9: 0 | L9: 0 | M9: 4 | N9: 0 | O9: 0 | P9: 0 | Q9: 0 | R9: 0 | S9: 0 | T9: 0 | U9: 0
A10: Infrutífero | B10: 5 | C10: 7 | D10: CADEIRA TIPO PRESIDENTE - conforme especificação em edital | E10: 449052.42 | J10: 0 | K10: 0 | L10: 0 | M10: 0 | N10: 0 | O10: 0 | P10: 0 | Q10: 0 | R10: 0 | S10: 0 | T10: 0 | U10: 0
A11: Akon Ltda ME | B11: 6 | C11: 8 | D11: ESTAÇÃO DE TRABALHO EM L - conforme especificação em edital | E11: 449052.42 | F11: 375 | G11: 8 | H11: =G11-(SUM(J11:U11)) -> 0 | I11: =IF(H11<0,"ATENÇÃO","OK") -> OK | J11: 8 | K11: 0 | L11: 0 | M11: 0 | N11: 0 | O11: 0 | P11: 0 | Q11: 0 | R11: 0 | S11: 0 | T11: 0 | U11: 0
C12: 9 | D12: MESA DE REUNIÃO REDONDA - conforme especificação em edital | E12: 449052.42 | F12: 205 | G12: 6 | H12: =G12-(SUM(J12:U12)) -> 0 | I12: =IF(H12<0,"ATENÇÃO","OK") -> OK | J12: 6 | K12: 0 | L12: 0 | M12: 0 | N12: 0 | O12: 0 | P12: 0 | Q12: 0 | R12: 0 | S12: 0 | T12: 0 | U12: 0
A13: GM Ind e Com Varejista de Móveis Ltda ME | B13: 7 | C13: 10 | D13: GAVETEIRO VOLANTE 03 GAVETAS - conforme especificação em edital | E13: 449052.42 | F13: 236.85 | H13: =G13-(SUM(J13:U13)) -> 0 | I13: =IF(H13<0,"ATENÇÃO","OK") -> OK | J13: 0 | K13: 0 | L13: 0 | M13: 0 | N13: 0 | O13: 0 | P13: 0 | Q13: 0 | R13: 0 | S13: 0 | T13: 0 | U13: 0
C14: 11 | D14: GAVETEIRO VOLANTE 04 GAVETAS - conforme especificação em edital | E14: 449052.42 | F14: 236.85 | G14: 17 | H14: =G14-(SUM(J14:U14)) -> 0 | I14: =IF(H14<0,"ATENÇÃO","OK") -> OK | J14: 0 | K14: 17 | L14: 0 | M14: 0 | N14: 0 | O14: 0 | P14: 0 | Q14: 0 | R14: 0 | S14: 0 | T14: 0 | U14: 0
A15: Cancelado | B15: 8 | C15: 12 | D15: MESA DE ESTUDO - conforme especificação em edital | E15: 449052.42 | J15: 0 | K15: 0 | L15: 0 | M15: 0 | N15: 0 | O15: 0 | P15: 0 | Q15: 0 | R15: 0 | S15: 0 | T15: 0 | U15: 0
A16: GM Ind e Com Varejista de Móveis Ltda ME | B16: 9 | C16: 13 | D16: MESA RETANGULAR - conforme especificação em edital | E16: 449052.42 | F16: 198 | H16: =G16-(SUM(J16:U16)) -> 0 | I16: =IF(H16<0,"ATENÇÃO","OK") -> OK | J16: 0 | K16: 0 | L16: 0 | M16: 0 | N16: 0 | O16: 0 | P16: 0 | Q16: 0 | R16: 0 | S16: 0 | T16: 0 | U16: 0
A17: Nelita Gomes Farias EPP | B17: 10 | C17: 14 | D17: LONGARINA DE ESPERA - conforme especificação em edital | E17: 449052.42 | F17: 701.95 | H17: =G17-(SUM(J17:U17)) -> 0 | I17: =IF(H17<0,"ATENÇÃO","OK") -> OK | J17: 0 | K17: 0 | L17: 0 | M17: 0 | N17: 0 | O17: 0 | P17: 0 | Q17: 0 | R17: 0 | S17: 0 | T17: 0 | U17: 0
A18: GM Ind e Com Varejista de Móveis Ltda ME | B18: 11 | C18: 15 | D18: SUPORTE PARA BANDEIRA - conforme especificação em edital | E18: 449052.42 | F18: 340 | G18: 2 | H18: =G18-(SUM(J18:U18)) -> 0 | I18: =IF(H18<0,"ATENÇÃO","OK") -> OK | J18: 0 | K18: 2 | L18: 0 | M18: 0 | N18: 0 | O18: 0 | P18: 0 | Q18: 0 | R18: 0 | S18: 0 | T18: 0 | U18: 0
D20: *Prazo de entrega e pagamento conforme edital

Sheet ESAG
A1: PROCESSO: 0855/2014/UDESC | D1: OBJETO: Aquisição de mobiliário padronizado para a UDESC | G1: VIGÊNCIA DA ATA: 11/03/2015 até 10/03/2016 | J1: AF/OS nº 1606/2015 Qtde. DT | K1: AF/OS nº 208/2016 Qtde. DT | L1: AF/OS nº xxxx/2014 Qtde. DT | M1: AF/OS nº xxxx/2014 Qtde. DT | N1: AF/OS nº xxxx/2014 Qtde. DT | O1: AF/OS nº xxxx/2014 Qtde. DT | P1: AF/OS nº xxxx/2014 Qtde. DT | Q1: AF/OS nº xxxx/2014 Qtde. DT | R1: AF/OS nº xxxx/2014 Qtde. DT | S1: AF/OS nº xxxx/2014 Qtde. DT | T1: AF/OS nº xxxx/2014 Qtde. DT | U1: AF/OS nº xxxx/2014 Qtde. DT
A2: CENTRO PARTICIPANTE: ESAG
A3: FORNECEDOR | B3: LOTE | C3: ITEM | D3: PRODUTO - CARACTERÍSTICAS MÍNIMAS | E3: ELEMENTO | F3: Preço UNITÁRIO (R$) | G3: Qtde Registrada | H3: Saldo / Automático | I3: ALERTA | J3: ...../...../...... | K3: ...../...../...... | L3: ...../...../...... | M3: ...../...../...... | N3: ...../...../...... | O3: ...../...../...... | P3: ...../...../...... | Q3: ...../...../...... | R3: ...../...../...... | S3: ...../...../...... | T3: ...../...../...... | U3: ...../...../......
A4: GM Ind e Com Varejista de Móveis Ltda ME | B4: 1 | C4: 1 | D4: ARMÁRIO ALTO - conforme especificação em edital | E4: 449052.42 | F4: 350 | G4: 88 | H4: =G4-(SUM(J4:U4)) -> 88 | I4: =IF(H4<0,"ATENÇÃO","OK") -> OK | J4: 0 | L4: 0 | M4: 0 | N4: 0 | O4: 0 | P4: 0 | Q4: 0 | R4: 0 | S4: 0 | T4: 0 | U4: 0
C5: 2 | D5: ARMÁRIO BAIXO - conforme especificação em edital | E5: 449052.42 | F5: 230 | G5: 50 | H5: =G5-(SUM(J5:U5)) -> 50 | I5: =IF(H5<0,"ATENÇÃO","OK") -> OK | J5: 0 | L5: 0 | M5: 0 | N5: 0 | O5: 0 | P5: 0 | Q5: 0 | R5: 0 | S5: 0 | T5: 0 | U5: 0
C6: 3 | D6: ARMÁRIO MÉDIO - conforme especificação em edital | E6: 449052.42 | F6: 290 | H6: =G6-(SUM(J6:U6)) -> 0 | I6: =IF(H6<0,"ATENÇÃO","OK") -> OK | J6: 0 | L6: 0 | M6: 0 | N6: 0 | O6: 0 | P6: 0 | Q6: 0 | R6: 0 | S6: 0 | T6: 0 | U6: 0
A7: GM Ind e Com Varejista de Móveis Ltda ME | B7: 2 | C7: 4 | D7: CADEIRA FIXA COM PRANCHETA - conforme especificação em edital | E7: 449052.42 | F7: 244 | H7: =G7-(SUM(J7:U7)) -> 0 | I7: =IF(H7<0,"ATENÇÃO","OK") -> OK | J7: 0 | L7: 0 | M7: 0 | N7: 0 | O7: 0 | P7: 0 | Q7: 0 | R7: 0 | S7: 0 | T7: 0 | U7: 0
A8: MM São Jose Ltda ME | B8: 3 | C8: 5 | D8: CADEIRA FIXA SEM BRAÇO - conforme especificação em edital | E8: 449052.42 | F8: 110 | G8: 1235 | H8: =G8-(SUM(J8:U8)) -> 0 | I8: =IF(H8<0,"ATENÇÃO","OK") -> OK | J8: 0 | K8: 1235 | L8: 0 | M8: 0 | N8: 0 | O8: 0 | P8: 0 | Q8: 0 | R8: 0 | S8: 0 | T8: 0 | U8: 0
A9: Akon Ltda ME | B9: 4 | C9: 6 | D9: CADEIRA TIPO SECRETÁRIA - conforme especificação em edital | E9: 449052.42 | F9: 252.95 | G9: 146 | H9: =G9-(SUM(J9:U9)) -> 146 | I9: =IF(H9<0,"ATENÇÃO","OK") -> OK | J9: 0 | L9: 0 | M9: 0 | N9: 0 | O9: 0 | P9: 0 | Q9: 0 | R9: 0 | S9: 0 | T9: 0 | U9: 0
A10: Infrutífero | B10: 5 | C10: 7 | D10: CADEIRA TIPO PRESIDENTE - conforme especificação em edital | E10: 449052.42 | J10: 0 | L10: 0 | M10: 0 | N10: 0 | O10: 0 | P10: 0 | Q10: 0 | R10: 0 | S10: 0 | T10: 0 | U10: 0
A11: Akon Ltda ME | B11: 6 | C11: 8 | D11: ESTAÇÃO DE TRABALHO EM L - conforme especificação em edital | E11: 449052.42 | F11: 375 | G11: 124 | H11: =G11-(SUM(J11:U11)) -> 124 | I11: =IF(H11<0,"ATENÇÃO","OK") -> OK | J11: 0 | L11: 0 | M11: 0 | N11: 0 | O11: 0 | P11: 0 | Q11: 0 | R11: 0 | S11: 0 | T11: 0 | U11: 0
C12: 9 | D12: MESA DE REUNIÃO REDONDA - conforme especificação em edital | E12: 449052.42 | F12: 205 | G12: 24 | H12: =G12-(SUM(J12:U12)) -> 24 | I12: =IF(H12<0,"ATENÇÃO","OK") -> OK | J12: 0 | L12: 0 | M12: 0 | N12: 0 | O12: 0 | P12: 0 | Q12: 0 | R12: 0 | S12: 0 | T12: 0 | U12: 0
A13: GM Ind e Com Varejista de Móveis Ltda ME | B13: 7 | C13: 10 | D13: GAVETEIRO VOLANTE 03 GAVETAS - conforme especificação em edital | E13: 449052.42 | F13: 236.85 | G13: =146-2 -> 144 | H13: =G13-(SUM(J13:U13)) -> 144 | I13: =IF(H13<0,"ATENÇÃO","OK") -> OK | J13: 0 | L13: 0 | M13: 0 | N13: 0 | O13: 0 | P13: 0 | Q13: 0 | R13: 0 | S13: 0 | T13: 0 | U13: 0
C14: 11 | D14: GAVETEIRO VOLANTE 04 GAVETAS - conforme especificação em edital | E14: 449052.42 | F14: 236.85 | H14: =G14-(SUM(J14:U14)) -> 0 | I14: =IF(H14<0,"ATENÇÃO","OK") -> OK | J14: 0 | L14: 0 | M14: 0 | N14: 0 | O14: 0 | P14: 0 | Q14: 0 | R14: 0 | S14: 0 | T14: 0 | U14: 0
A15: Cancelado | B15: 8 | C15: 12 | D15: MESA DE ESTUDO - conforme especificação em edital | E15: 449052.42 | J15: 0 | L15: 0 | M15: 0 | N15: 0 | O15: 0 | P15: 0 | Q15: 0 | R15: 0 | S15: 0 | T15: 0 | U15: 0
A16: GM Ind e Com Varejista de Móveis Ltda ME | B16: 9 | C16: 13 | D16: MESA RETANGULAR - conforme especificação em edital | E16: 449052.42 | F16: 198 | H16: =G16-(SUM(J16:U16)) -> 0 | I16: =IF(H16<0,"ATENÇÃO","OK") -> OK | J16: 0 | L16: 0 | M16: 0 | N16: 0 | O16: 0 | P16: 0 | Q16: 0 | R16: 0 | S16: 0 | T16: 0 | U16: 0
A17: Nelita Gomes Farias EPP | B17: 10 | C17: 14 | D17: LONGARINA DE ESPERA - conforme especificação em edital | E17: 449052.42 | F17: 701.95 | G17: 20 | H17: =G17-(SUM(J17:U17)) -> 0 | I17: =IF(H17<0,"ATENÇÃO","OK") -> OK | J17: 20 | L17: 0 | M17: 0 | N17: 0 | O17: 0 | P17: 0 | Q17: 0 | R17: 0 | S17: 0 | T17: 0 | U17: 0
A18: GM Ind e Com Varejista de Móveis Ltda ME | B18: 11 | C18: 15 | D18: SUPORTE PARA BANDEIRA - conforme especificação em edital | E18: 449052.42 | F18: 340 | H18: =G18-(SUM(J18:U18)) -> 0 | I18: =IF(H18<0,"ATENÇÃO","OK") -> OK | J18: 0 | L18: 0 | M18: 0 | N18: 0 | O18: 0 | P18: 0 | Q18: 0 | R18: 0 | S18: 0 | T18: 0 | U18: 0
D20: *Prazo de entrega e pagamento conforme edital

Sheet CEART
A1: PROCESSO: 0855/2014/UDESC | D1: OBJETO: Aquisição de mobiliário padronizado para a UDESC | G1: VIGÊNCIA DA ATA: 11/03/2015 até 10/03/2016 | J1: AF613/2015 MODA Qtde. DT | K1: AF614/2015 DG Qtde. DT | L1: AF615/2015 DG Qtde. DT | M1: AF 9522015 | N1: AF1912/2015 | O1: AF2079/2015 | P1: AF/OS nº xxxx/2014 Qtde. DT | Q1: AF/OS nº xxxx/2014 Qtde. DT | R1: AF/OS nº xxxx/2014 Qtde. DT | S1: AF/OS nº xxxx/2014 Qtde. DT
A2: CENTRO PARTICIPANTE: CEART
A3: FORNECEDOR | B3: LOTE | C3: ITEM | D3: PRODUTO - CARACTERÍSTICAS MÍNIMAS | E3: ELEMENTO | F3: Preço UNITÁRIO (R$) | G3: Qtde Registrada | H3: Saldo / Automático | I3: ALERTA | J3: 42128 | K3: 42128 | L3: 42128 | M3: 42167 | N3: 42290 | O3: 42312 | P3: ...../...../...... | Q3: ...../...../...... | R3: ...../...../...... | S3: ...../...../......
A4: GM Ind e Com Varejista de Móveis Ltda ME | B4: 1 | C4: 1 | D4: ARMÁRIO ALTO - conforme especificação em edital | E4: 449052.42 | F4: 350 | G4: =40-10 -> 30 | H4: =G4-(SUM(J4:S4)) -> 25 | I4: =IF(H4<0,"ATENÇÃO","OK") -> OK | J4: 1 | K4: 2 | L4: 0 | M4: 2 | N4: 0 | O4: 0 | P4: 0 | Q4: 0 | R4: 0 | S4: 0
C5: 2 | D5: ARMÁRIO BAIXO - conforme especificação em edital | E5: 449052.42 | F5: 230 | G5: 35 | H5: =G5-(SUM(J5:S5)) -> 35 | I5: =IF(H5<0,"ATENÇÃO","OK") -> OK | J5: 0 | K5: 0 | L5: 0 | M5: 0 | N5: 0 | O5: 0 | P5: 0 | Q5: 0 | R5: 0 | S5: 0
C6: 3 | D6: ARMÁRIO MÉDIO - conforme especificação em edital | E6: 449052.42 | F6: 290 | G6: 15 | H6: =G6-(SUM(J6:S6)) -> 12 | I6: =IF(H6<0,"ATENÇÃO","OK") -> OK | J6: 0 | K6: 3 | L6: 0 | M6: 0 | N6: 0 | O6: 0 | P6: 0 | Q6: 0 | R6: 0 | S6: 0
A7: GM Ind e Com Varejista de Móveis Ltda ME | B7: 2 | C7: 4 | D7: CADEIRA FIXA COM PRANCHETA - conforme especificação em edital | E7: 449052.42 | F7: 244 | H7: =G7-(SUM(J7:S7)) -> 0 | I7: =IF(H7<0,"ATENÇÃO","OK") -> OK | J7: 0 | K7: 0 | L7: 0 | M7: 0 | N7: 0 | O7: 0 | P7: 0 | Q7: 0 | R7: 0 | S7: 0
A8: MM São Jose Ltda ME | B8: 3 | C8: 5 | D8: CADEIRA FIXA SEM BRAÇO - conforme especificação em edital | E8: 449052.42 | F8: 110 | G8: =350-6-45 -> 299 | H8: =G8-(SUM(J8:S8)) -> 299 | I8: =IF(H8<0,"ATENÇÃO","OK") -> OK | J8: 0 | K8: 0 | L8: 0 | M8: 0 | N8: 0 | O8: 0 | P8: 0 | Q8: 0 | R8: 0 | S8: 0
A9: Akon Ltda ME | B9: 4 | C9: 6 | D9: CADEIRA TIPO SECRETÁRIA - conforme especificação em edital | E9: 449052.42 | F9: 252.95 | G9: 200 | H9: =G9-(SUM(J9:S9)) -> 95 | I9: =IF(H9<0,"ATENÇÃO","OK") -> OK | J9: 0 | K9: 0 | L9: 98 | M9: 0 | N9: 7 | O9: 0 | P9: 0 | Q9: 0 | R9: 0 | S9: 0
A10: Infrutífero | B10: 5 | C10: 7 | D10: CADEIRA TIPO PRESIDENTE - conforme especificação em edital | E10: 449052.42 | J10: 0 | K10: 0 | L10: 0 | M10: 0 | N10: 0 | O10: 0 | P10: 0 | Q10: 0 | R10: 0 | S10: 0
A11: Akon Ltda ME | B11: 6 | C11: 8 | D11: ESTAÇÃO DE TRABALHO EM L - conforme especificação em edital | E11: 449052.42 | F11: 375 | G11: 25 | H11: =G11-(SUM(J11:S11)) -> 20 | I11: =IF(H11<0,"ATENÇÃO","OK") -> OK | J11: 0 | K11: 0 | L11: 0 | M11: 0 | N11: 5 | O11: 0 | P11: 0 | Q11: 0 | R11: 0 | S11: 0
C12: 9 | D12: MESA DE REUNIÃO REDONDA - conforme especificação em edital | E12: 449052.42 | F12: 205 | G12: 15 | H12: =G12-(SUM(J12:S12)) -> 15 | I12: =IF(H12<0,"ATENÇÃO","OK") -> OK | J12: 0 | K12: 0 | L12: 0 | M12: 0 | N12: 0 | O12: 0 | P12: 0 | Q12: 0 | R12: 0 | S12: 0
A13: GM Ind e Com Varejista de Móveis Ltda ME | B13: 7 | C13: 10 | D13: GAVETEIRO VOLANTE 03 GAVETAS - conforme especificação em edital | E13: 449052.42 | F13: 236.85 | G13: 15 | H13: =G13-(SUM(J13:S13)) -> 13 | I13: =IF(H13<0,"ATENÇÃO","OK") -> OK | J13: 0 | K13: 2 | L13: 0 | M13: 0 | N13: 0 | O13: 0 | P13: 0 | Q13: 0 | R13: 0 | S13: 0
C14: 11 | D14: GAVETEIRO VOLANTE 04 GAVETAS - conforme especificação em edital | E14: 449052.42 | F14: 236.85 | G14: 25 | H14: =G14-(SUM(J14:S14)) -> 20 | I14: =IF(H14<0,"ATENÇÃO","OK") -> OK | J14: 0 | K14: 1 | L14: 0 | M14: 0 | N14: 0 | O14: 4 | P14: 0 | Q14: 0 | R14: 0 | S14: 0
A15: Cancelado | B15: 8 | C15: 12 | D15: MESA DE ESTUDO - conforme especificação em edital | E15: 449052.42 | J15: 0 | K15: 0 | L15: 0 | M15: 0 | N15: 0 | O15: 0 | P15: 0 | Q15: 0 | R15: 0 | S15: 0
A16: GM Ind e Com Varejista de Móveis Ltda ME | B16: 9 | C16: 13 | D16: MESA RETANGULAR - conforme especificação em edital | E16: 449052.42 | F16: 198 | H16: =G16-(SUM(J16:S16)) -> 0 | I16: =IF(H16<0,"ATENÇÃO","OK") -> OK | J16: 0 | K16: 0 | L16: 0 | M16: 0 | N16: 0 | O16: 0 | P16: 0 | Q16: 0 | R16: 0 | S16: 0
A17: Nelita Gomes Farias EPP | B17: 10 | C17: 14 | D17: LONGARINA DE ESPERA - conforme especificação em edital | E17: 449052.42 | F17: 701.95 | H17: =G17-(SUM(J17:S17)) -> 0 | I17: =IF(H17<0,"ATENÇÃO","OK") -> OK | J17: 0 | K17: 0 | L17: 0 | M17: 0 | N17: 0 | O17: 0 | P17: 0 | Q17: 0 | R17: 0 | S17: 0
A18: GM Ind e Com Varejista de Móveis Ltda ME | B18: 11 | C18: 15 | D18: SUPORTE PARA BANDEIRA - conforme especificação em edital | E18: 449052.42 | F18: 340 | G18: 1 | H18: =G18-(SUM(J18:S18)) -> 1 | I18: =IF(H18<0,"ATENÇÃO","OK") -> OK | J18: 0 | K18: 0 | L18: 0 | M18: 0 | N18: 0 | O18: 0 | P18: 0 | Q18: 0 | R18: 0 | S18: 0
D20: *Prazo de entrega e pagamento conforme edital

Sheet FAED
A1: PROCESSO: 0855/2014/UDESC | D1: OBJETO: Aquisição de mobiliário padronizado para a UDESC | G1: VIGÊNCIA DA ATA: 11/03/2015 até 10/03/2016 | J1: AF/OS nº 712/2015 Qtde. DT | K1: AF/OS nº xxxx/2014 Qtde. DT | L1: AF/OS nº xxxx/2014 Qtde. DT | M1: AF/OS nº xxxx/2014 Qtde. DT | N1: AF/OS nº xxxx/2014 Qtde. DT | O1: AF/OS nº xxxx/2014 Qtde. DT | P1: AF/OS nº xxxx/2014 Qtde. DT | Q1: AF/OS nº xxxx/2014 Qtde. DT | R1: AF/OS nº xxxx/2014 Qtde. DT | S1: AF/OS nº xxxx/2014 Qtde. DT | T1: AF/OS nº xxxx/2014 Qtde. DT | U1: AF/OS nº xxxx/2014 Qtde. DT
A2: CENTRO PARTICIPANTE: FAED
A3: FORNECEDOR | B3: LOTE | C3: ITEM | D3: PRODUTO - CARACTERÍSTICAS MÍNIMAS | E3: ELEMENTO | F3: Preço UNITÁRIO (R$) | G3: Qtde Registrada | H3: Saldo / Automático | I3: ALERTA | J3: 42135 | K3: ...../...../...... | L3: ...../...../...... | M3: ...../...../...... | N3: ...../...../...... | O3: ...../...../...... | P3: ...../...../...... | Q3: ...../...../...... | R3: ...../...../...... | S3: ...../...../...... | T3: ...../...../...... | U3: ...../...../......
A4: GM Ind e Com Varejista de Móveis Ltda ME | B4: 1 | C4: 1 | D4: ARMÁRIO ALTO - conforme especificação em edital | E4: 449052.42 | F4: 350 | G4: 6 | H4: =G4-(SUM(J4:U4)) -> 6 | I4: =IF(H4<0,"ATENÇÃO","OK") -> OK | J4: 0 | K4: 0 | L4: 0 | M4: 0 | N4: 0 | O4: 0 | P4: 0 | Q4: 0 | R4: 0 | S4: 0 | T4: 0 | U4: 0
C5: 2 | D5: ARMÁRIO BAIXO - conforme especificação em edital | E5: 449052.42 | F5: 230 | G5: 10 | H5: =G5-(SUM(J5:U5)) -> 10 | I5: =IF(H5<0,"ATENÇÃO","OK") -> OK | J5: 0 | K5: 0 | L5: 0 | M5: 0 | N5: 0 | O5: 0 | P5: 0 | Q5: 0 | R5: 0 | S5: 0 | T5: 0 | U5: 0
C6: 3 | D6: ARMÁRIO MÉDIO - conforme especificação em edital | E6: 449052.42 | F6: 290 | G6: 3 | H6: =G6-(SUM(J6:U6)) -> 3 | I6: =IF(H6<0,"ATENÇÃO","OK") -> OK | J6: 0 | K6: 0 | L6: 0 | M6: 0 | N6: 0 | O6: 0 | P6: 0 | Q6: 0 | R6: 0 | S6: 0 | T6: 0 | U6: 0
A7: GM Ind e Com Varejista de Móveis Ltda ME | B7: 2 | C7: 4 | D7: CADEIRA FIXA COM PRANCHETA - conforme especificação em edital | E7: 449052.42 | F7: 244 | G7: 20 | H7: =G7-(SUM(J7:U7)) -> 20 | I7: =IF(H7<0,"ATENÇÃO","OK") -> OK | J7: 0 | K7: 0 | L7: 0 | M7: 0 | N7: 0 | O7: 0 | P7: 0 | Q7: 0 | R7: 0 | S7: 0 | T7: 0 | U7: 0
A8: MM São Jose Ltda ME | B8: 3 | C8: 5 | D8: CADEIRA FIXA SEM BRAÇO - conforme especificação em edital | E8: 449052.42 | F8: 110 | G8: 100 | H8: =G8-(SUM(J8:U8)) -> 100 | I8: =IF(H8<0,"ATENÇÃO","OK") -> OK | J8: 0 | K8: 0 | L8: 0 | M8: 0 | N8: 0 | O8: 0 | P8: 0 | Q8: 0 | R8: 0 | S8: 0 | T8: 0 | U8: 0
A9: Akon Ltda ME | B9: 4 | C9: 6 | D9: CADEIRA TIPO SECRETÁRIA - conforme especificação em edital | E9: 449052.42 | F9: 252.95 | G9: 60 | H9: =G9-(SUM(J9:U9)) -> 0 | I9: =IF(H9<0,"ATENÇÃO","OK") -> OK | J9: 60 | K9: 0 | L9: 0 | M9: 0 | N9: 0 | O9: 0 | P9: 0 | Q9: 0 | R9: 0 | S9: 0 | T9: 0 | U9: 0
A10: Infrutífero | B10: 5 | C10: 7 | D10: CADEIRA TIPO PRESIDENTE - conforme especificação em edital | E10: 449052.42 | J10: 0 | K10: 0 | L10: 0 | M10: 0 | N10: 0 | O10: 0 | P10: 0 | Q10: 0 | R10: 0 | S10: 0 | T10: 0 | U10: 0
A11: Akon Ltda ME | B11: 6 | C11: 8 | D11: ESTAÇÃO DE TRABALHO EM L - conforme especificação em edital | E11: 449052.42 | F11: 375 | G11: 8 | H11: =G11-(SUM(J11:U11)) -> 8 | I11: =IF(H11<0,"ATENÇÃO","OK") -> OK | J11: 0 | K11: 0 | L11: 0 | M11: 0 | N11: 0 | O11: 0 | P11: 0 | Q11: 0 | R11: 0 | S11: 0 | T11: 0 | U11: 0
C12: 9 | D12: MESA DE REUNIÃO REDONDA - conforme especificação em edital | E12: 449052.42 | F12: 205 | G12: 4 | H12: =G12-(SUM(J12:U12)) -> 4 | I12: =IF(H12<0,"ATENÇÃO","OK") -> OK | J12: 0 | K12: 0 | L12: 0 | M12: 0 | N12: 0 | O12: 0 | P12: 0 | Q12: 0 | R12: 0 | S12: 0 | T12: 0 | U12: 0
A13: GM Ind e Com Varejista de Móveis Ltda ME | B13: 7 | C13: 10 | D13: GAVETEIRO VOLANTE 03 GAVETAS - conforme especificação em edital | E13: 449052.42 | F13: 236.85 | G13: 8 | H13: =G13-(SUM(J13:U13)) -> 8 | I13: =IF(H13<0,"ATENÇÃO","OK") -> OK | J13: 0 | K13: 0 | L13: 0 | M13: 0 | N13: 0 | O13: 0 | P13: 0 | Q13: 0 | R13: 0 | S13: 0 | T13: 0 | U13: 0
C14: 11 | D14: GAVETEIRO VOLANTE 04 GAVETAS - conforme especificação em edital | E14: 449052.42 | F14: 236.85 | G14: 8 | H14: =G14-(SUM(J14:U14)) -> 8 | I14: =IF(H14<0,"ATENÇÃO","OK") -> OK | J14: 0 | K14: 0 | L14: 0 | M14: 0 | N14: 0 | O14: 0 | P14: 0 | Q14: 0 | R14: 0 | S14: 0 | T14: 0 | U14: 0
A15: Cancelado | B15: 8 | C15: 12 | D15: MESA DE ESTUDO - conforme especificação em edital | E15: 449052.42 | J15: 0 | K15: 0 | L15: 0 | M15: 0 | N15: 0 | O15: 0 | P15: 0 | Q15: 0 | R15: 0 | S15: 0 | T15: 0 | U15: 0
A16: GM Ind e Com Varejista de Móveis Ltda ME | B16: 9 | C16: 13 | D16: MESA RETANGULAR - conforme especificação em edital | E16: 449052.42 | F16: 198 | H16: =G16-(SUM(J16:U16)) -> 0 | I16: =IF(H16<0,"ATENÇÃO","OK") -> OK | J16: 0 | K16: 0 | L16: 0 | M16: 0 | N16: 0 | O16: 0 | P16: 0 | Q16: 0 | R16: 0 | S16: 0 | T16: 0 | U16: 0
A17: Nelita Gomes Farias EPP | B17: 10 | C17: 14 | D17: LONGARINA DE ESPERA - conforme especificação em edital | E17: 449052.42 | F17: 701.95 | H17: =G17-(SUM(J17:U17)) -> 0 | I17: =IF(H17<0,"ATENÇÃO","OK") -> OK | J17: 0 | K17: 0 | L17: 0 | M17: 0 | N17: 0 | O17: 0 | P17: 0 | Q17: 0 | R17: 0 | S17: 0 | T17: 0 | U17: 0
A18: GM Ind e Com Varejista de Móveis Ltda ME | B18: 11 | C18: 15 | D18: SUPORTE PARA BANDEIRA - conforme especificação em edital | E18: 449052.42 | F18: 340 | G18: 2 | H18: =G18-(SUM(J18:U18)) -> 2 | I18: =IF(H18<0,"ATENÇÃO","OK") -> OK | J18: 0 | K18: 0 | L18: 0 | M18: 0 | N18: 0 | O18: 0 | P18: 0 | Q18: 0 | R18: 0 | S18: 0 | T18: 0 | U18: 0
D20: *Prazo de entrega e pagamento conforme edital

Sheet CEAD
A1: PROCESSO: 0855/2014/UDESC | D1: OBJETO: Aquisição de mobiliário padronizado para a UDESC | G1: VIGÊNCIA DA ATA: 11/03/2015 até 10/03/2016 | J1: AF/OS nº 1089/2015 Qtde. DT | K1: AF/OS nº 1091/2015 Qtde. DT | L1: AF/OS nº 1092/2015 Qtde. DT | M1: AF/OS nº 1440/2015 Qtde. DT | N1: AF/OS nº 1441/2015 Qtde. DT | O1: AF/OS nº 1443/2015 Qtde. DT | P1: AF/OS nº 1445/2015 Qtde. DT | Q1: AF/OS nº 1907/2015 Qtde. DT | R1: AF/OS nº 1908/2015 Qtde. DT | S1: AF/OS nº xxxx/2014 Qtde. DT | T1: AF/OS nº xxxx/2014 Qtde. DT | U1: AF/OS nº xxxx/2014 Qtde. DT
A2: CENTRO PARTICIPANTE: CEAD
A3: FORNECEDOR | B3: LOTE | C3: ITEM | D3: PRODUTO - CARACTERÍSTICAS MÍNIMAS | E3: ELEMENTO | F3: Preço UNITÁRIO (R$) | G3: Qtde Registrada | H3: Saldo / Automático | I3: ALERTA | J3: 42185 | K3: 42185 | L3: 42185 | M3: 42229 | N3: 42229 | O3: 42229 | P3: 42229 | Q3: 42290 | R3: 42290 | S3: ...../...../...... | T3: ...../...../...... | U3: ...../...../......
A4: GM Ind e Com Varejista de Móveis Ltda ME | B4: 1 | C4: 1 | D4: ARMÁRIO ALTO - conforme especificação em edital | E4: 449052.42 | F4: 350 | G4: =8+4 -> 12 | H4: =G4-(SUM(J4:U4)) -> 5 | I4: =IF(H4<0,"ATENÇÃO","OK") -> OK | J4: 3 | K4: 0 | L4: 0 | M4: 4 | N4: 0 | O4: 0 | P4: 0 | Q4: 0 | R4: 0 | S4: 0 | T4: 0 | U4: 0
C5: 2 | D5: ARMÁRIO BAIXO - conforme especificação em edital | E5: 449052.42 | F5: 230 | G5: =8+2 -> 10 | H5: =G5-(SUM(J5:U5)) -> 7 | I5: =IF(H5<0,"ATENÇÃO","OK") -> OK | J5: 1 | K5: 0 | L5: 0 | M5: 2 | N5: 0 | O5: 0 | P5: 0 | Q5: 0 | R5: 0 | S5: 0 | T5: 0 | U5: 0
C6: 3 | D6: ARMÁRIO MÉDIO - conforme especificação em edital | E6: 449052.42 | F6: 290 | G6: =8+3 -> 11 | H6: =G6-(SUM(J6:U6)) -> 4 | I6: =IF(H6<0,"ATENÇÃO","OK") -> OK | J6: 4 | K6: 0 | L6: 0 | M6: 3 | N6: 0 | O6: 0 | P6: 0 | Q6: 0 | R6: 0 | S6: 0 | T6: 0 | U6: 0
A7: GM Ind e Com Varejista de Móveis Ltda ME | B7: 2 | C7: 4 | D7: CADEIRA FIXA COM PRANCHETA - conforme especificação em edital | E7: 449052.42 | F7: 244 | G7: =20+150 -> 170 | H7: =G7-(SUM(J7:U7)) -> 20 | I7: =IF(H7<0,"ATENÇÃO","OK") -> OK | J7: 0 | K7: 0 | L7: 0 | M7: 150 | N7: 0 | O7: 0 | P7: 0 | Q7: 0 | R7: 0 | S7: 0 | T7: 0 | U7: 0
A8: MM São Jose Ltda ME | B8: 3 | C8: 5 | D8: CADEIRA FIXA SEM BRAÇO - conforme especificação em edital | E8: 449052.42 | F8: 110 | G8: =60+45 -> 105 | H8: =G8-(SUM(J8:U8)) -> 52 | I8: =IF(H8<0,"ATENÇÃO","OK") -> OK | J8: 0 | K8: 8 | L8: 0 | M8: 0 | N8: 0 | O8: 45 | P8: 0 | Q8: 0 | R8: 0 | S8: 0 | T8: 0 | U8: 0
A9: Akon Ltda ME | B9: 4 | C9: 6 | D9: CADEIRA TIPO SECRETÁRIA - conforme especificação em edital | E9: 449052.42 | F9: 252.95 | G9: =50+10 -> 60 | H9: =G9-(SUM(J9:U9)) -> 18 | I9: =IF(H9<0,"ATENÇÃO","OK") -> OK | K9: 0 | L9: 26 | M9: 0 | N9: 10 | O9: 0 | P9: 0 | Q9: 0 | R9: 6 | S9: 0 | T9: 0 | U9: 0
A10: Infrutífero | B10: 5 | C10: 7 | D10: CADEIRA TIPO PRESIDENTE - conforme especificação em edital | E10: 449052.42 | J10: 0 | K10: 0 | L10: 0 | N10: 0 | O10: 0 | P10: 0 | Q10: 0 | R10: 0 | S10: 0 | T10: 0 | U10: 0
A11: Akon Ltda ME | B11: 6 | C11: 8 | D11: ESTAÇÃO DE TRABALHO EM L - conforme especificação em edital | E11: 449052.42 | F11: 375 | G11: =12+2 -> 14 | H11: =G11-(SUM(J11:U11)) -> 3 | I11: =IF(H11<0,"ATENÇÃO","OK") -> OK | J11: 0 | K11: 0 | L11: 8 | M11: 0 | N11: 2 | O11: 0 | P11: 0 | Q11: 0 | R11: 1 | S11: 0 | T11: 0 | U11: 0
C12: 9 | D12: MESA DE REUNIÃO REDONDA - conforme especificação em edital | E12: 449052.42 | F12: 205 | G12: =2+7 -> 9 | H12: =G12-(SUM(J12:U12)) -> 2 | I12: =IF(H12<0,"ATENÇÃO","OK") -> OK | J12: 0 | K12: 0 | L12: 0 | M12: 0 | N12: 7 | O12: 0 | P12: 0 | Q12: 0 | R12: 0 | S12: 0 | T12: 0 | U12: 0
A13: GM Ind e Com Varejista de Móveis Ltda ME | B13: 7 | C13: 10 | D13: GAVETEIRO VOLANTE 03 GAVETAS - conforme especificação em edital | E13: 449052.42 | F13: 236.85 | G13: =12+1 -> 13 | H13: =G13-(SUM(J13:U13)) -> 3 | I13: =IF(H13<0,"ATENÇÃO","OK") -> OK | J13: 2 | K13: 0 | L13: 0 | M13: 1 | N13: 0 | O13: 0 | P13: 0 | Q13: 7 | R13: 0 | S13: 0 | T13: 0 | U13: 0
C14: 11 | D14: GAVETEIRO VOLANTE 04 GAVETAS - conforme especificação em edital | E14: 449052.42 | F14: 236.85 | G14: =12+3 -> 15 | H14: =G14-(SUM(J14:U14)) -> 12 | I14: =IF(H14<0,"ATENÇÃO","OK") -> OK | J14: 0 | K14: 0 | L14: 0 | M14: 3 | N14: 0 | O14: 0 | P14: 0 | Q14: 0 | R14: 0 | S14: 0 | T14: 0 | U14: 0
A15: Cancelado | B15: 8 | C15: 12 | D15: MESA DE ESTUDO - conforme especificação em edital | E15: 449052.42 | J15: 0 | K15: 0 | L15: 0 | N15: 0 | O15: 0 | P15: 0 | Q15: 0 | R15: 0 | S15: 0 | T15: 0 | U15: 0
A16: GM Ind e Com Varejista de Móveis Ltda ME | B16: 9 | C16: 13 | D16: MESA RETANGULAR - conforme especificação em edital | E16: 449052.42 | F16: 198 | H16: =G16-(SUM(J16:U16)) -> 0 | I16: =IF(H16<0,"ATENÇÃO","OK") -> OK | J16: 0 | K16: 0 | L16: 0 | M16: 0 | N16: 0 | O16: 0 | P16: 0 | Q16: 0 | R16: 0 | S16: 0 | T16: 0 | U16: 0
A17: Nelita Gomes Farias EPP | B17: 10 | C17: 14 | D17: LONGARINA DE ESPERA - conforme especificação em edital | E17: 449052.42 | F17: 701.95 | G17: 5 | H17: =G17-(SUM(J17:U17)) -> 0 | I17: =IF(H17<0,"ATENÇÃO","OK") -> OK | J17: 0 | K17: 0 | L17: 0 | M17: 0 | N17: 0 | O17: 0 | P17: 5 | Q17: 0 | R17: 0 | S17: 0 | T17: 0 | U17: 0
A18: GM Ind e Com Varejista de Móveis Ltda ME | B18: 11 | C18: 15 | D18: SUPORTE PARA BANDEIRA - conforme especificação em edital | E18: 449052.42 | F18: 340 | G18: =1+2 -> 3 | H18: =G18-(SUM(J18:U18)) -> 0 | I18: =IF(H18<0,"ATENÇÃO","OK") -> OK | J18: 1 | K18: 0 | L18: 0 | M18: 2 | N18: 0 | O18: 0 | P18: 0 | Q18: 0 | R18: 0 | S18: 0 | T18: 0 | U18: 0
D20: *Prazo de entrega e pagamento conforme edital

Sheet CEFID
A1: PROCESSO: 0855/2014/UDESC | D1: OBJETO: Aquisição de mobiliário padronizado para a UDESC | G1: VIGÊNCIA DA ATA: 11/03/2015 até 10/03/2016 | J1: AF/OS nº 1305/2015 Qtde. DT | K1: AF/OS nº xxxx/2014 Qtde. DT | L1: AF/OS nº xxxx/2014 Qtde. DT | M1: AF/OS nº xxxx/2014 Qtde. DT | N1: AF/OS nº xxxx/2014 Qtde. DT | O1: AF/OS nº xxxx/2014 Qtde. DT | P1: AF/OS nº xxxx/2014 Qtde. DT | Q1: AF/OS nº xxxx/2014 Qtde. DT | R1: AF/OS nº xxxx/2014 Qtde. DT | S1: AF/OS nº xxxx/2014 Qtde. DT | T1: AF/OS nº xxxx/2014 Qtde. DT | U1: AF/OS nº xxxx/2014 Qtde. DT
A2: CENTRO PARTICIPANTE: CEFID
A3: FORNECEDOR | B3: LOTE | C3: ITEM | D3: PRODUTO - CARACTERÍSTICAS MÍNIMAS | E3: ELEMENTO | F3: Preço UNITÁRIO (R$) | G3: Qtde Registrada | H3: Saldo / Automático | I3: ALERTA | J3: 42215 | K3: ...../...../...... | L3: ...../...../...... | M3: ...../...../...... | N3: ...../...../...... | O3: ...../...../...... | P3: ...../...../...... | Q3: ...../...../...... | R3: ...../...../...... | S3: ...../...../...... | T3: ...../...../...... | U3: ...../...../......
A4: GM Ind e Com Varejista de Móveis Ltda ME | B4: 1 | C4: 1 | D4: ARMÁRIO ALTO - conforme especificação em edital | E4: 449052.42 | F4: 350 | G4: =5-5 -> 0 | H4: =G4-(SUM(J4:U4)) -> 0 | I4: =IF(H4<0,"ATENÇÃO","OK") -> OK | J4: 0 | K4: 0 | L4: 0 | M4: 0 | N4: 0 | O4: 0 | P4: 0 | Q4: 0 | R4: 0 | S4: 0 | T4: 0 | U4: 0
C5: 2 | D5: ARMÁRIO BAIXO - conforme especificação em edital | E5: 449052.42 | F5: 230 | G5: 2 | H5: =G5-(SUM(J5:U5)) -> 2 | I5: =IF(H5<0,"ATENÇÃO","OK") -> OK | J5: 0 | K5: 0 | L5: 0 | M5: 0 | N5: 0 | O5: 0 | P5: 0 | Q5: 0 | R5: 0 | S5: 0 | T5: 0 | U5: 0
C6: 3 | D6: ARMÁRIO MÉDIO - conforme especificação em edital | E6: 449052.42 | F6: 290 | G6: 2 | H6: =G6-(SUM(J6:U6)) -> 2 | I6: =IF(H6<0,"ATENÇÃO","OK") -> OK | J6: 0 | K6: 0 | L6: 0 | M6: 0 | N6: 0 | O6: 0 | P6: 0 | Q6: 0 | R6: 0 | S6: 0 | T6: 0 | U6: 0
A7: GM Ind e Com Varejista de Móveis Ltda ME | B7: 2 | C7: 4 | D7: CADEIRA FIXA COM PRANCHETA - conforme especificação em edital | E7: 449052.42 | F7: 244 | H7: =G7-(SUM(J7:U7)) -> 0 | I7: =IF(H7<0,"ATENÇÃO","OK") -> OK | J7: 0 | K7: 0 | L7: 0 | M7: 0 | N7: 0 | O7: 0 | P7: 0 | Q7: 0 | R7: 0 | S7: 0 | T7: 0 | U7: 0
A8: MM São Jose Ltda ME | B8: 3 | C8: 5 | D8: CADEIRA FIXA SEM BRAÇO - conforme especificação em edital | E8: 449052.42 | F8: 110 | G8: 200 | H8: =G8-(SUM(J8:U8)) -> 80 | I8: =IF(H8<0,"ATENÇÃO","OK") -> OK | J8: 120 | K8: 0 | L8: 0 | M8: 0 | N8: 0 | O8: 0 | P8: 0 | Q8: 0 | R8: 0 | S8: 0 | T8: 0 | U8: 0
A9: Akon Ltda ME | B9: 4 | C9: 6 | D9: CADEIRA TIPO SECRETÁRIA - conforme especificação em edital | E9: 449052.42 | F9: 252.95 | G9: 100 | H9: =G9-(SUM(J9:U9)) -> 100 | I9: =IF(H9<0,"ATENÇÃO","OK") -> OK | K9: 0 | L9: 0 | M9: 0 | N9: 0 | O9: 0 | P9: 0 | Q9: 0 | R9: 0 | S9: 0 | T9: 0 | U9: 0
A10: Infrutífero | B10: 5 | C10: 7 | D10: CADEIRA TIPO PRESIDENTE - conforme especificação em edital | E10: 449052.42 | J10: 0 | K10: 0 | L10: 0 | M10: 0 | N10: 0 | O10: 0 | P10: 0 | Q10: 0 | R10: 0 | S10: 0 | T10: 0 | U10: 0
A11: Akon Ltda ME | B11: 6 | C11: 8 | D11: ESTAÇÃO DE TRABALHO EM L - conforme especificação em edital | E11: 449052.42 | F11: 375 | H11: =G11-(SUM(J11:U11)) -> 0 | I11: =IF(H11<0,"ATENÇÃO","OK") -> OK | J11: 0 | K11: 0 | L11: 0 | M11: 0 | N11: 0 | O11: 0 | P11: 0 | Q11: 0 | R11: 0 | S11: 0 | T11: 0 | U11: 0
C12: 9 | D12: MESA DE REUNIÃO REDONDA - conforme especificação em edital | E12: 449052.42 | F12: 205 | H12: =G12-(SUM(J12:U12)) -> 0 | I12: =IF(H12<0,"ATENÇÃO","OK") -> OK | J12: 0 | K12: 0 | L12: 0 | M12: 0 | N12: 0 | O12: 0 | P12: 0 | Q12: 0 | R12: 0 | S12: 0 | T12: 0 | U12: 0
A13: GM Ind e Com Varejista de Móveis Ltda ME | B13: 7 | C13: 10 | D13: GAVETEIRO VOLANTE 03 GAVETAS - conforme especificação em edital | E13: 449052.42 | F13: 236.85 | G13: 5 | H13: =G13-(SUM(J13:U13)) -> 5 | I13: =IF(H13<0,"ATENÇÃO","OK") -> OK | J13: 0 | K13: 0 | L13: 0 | M13: 0 | N13: 0 | O13: 0 | P13: 0 | Q13: 0 | R13: 0 | S13: 0 | T13: 0 | U13: 0
C14: 11 | D14: GAVETEIRO VOLANTE 04 GAVETAS - conforme especificação em edital | E14: 449052.42 | F14: 236.85 | G14: 5 | H14: =G14-(SUM(J14:U14)) -> 5 | I14: =IF(H14<0,"ATENÇÃO","OK") -> OK | J14: 0 | K14: 0 | L14: 0 | M14: 0 | N14: 0 | O14: 0 | P14: 0 | Q14: 0 | R14: 0 | S14: 0 | T14: 0 | U14: 0
A15: Cancelado | B15: 8 | C15: 12 | D15: MESA DE ESTUDO - conforme especificação em edital | E15: 449052.42 | J15: 0 | K15: 0 | L15: 0 | M15: 0 | N15: 0 | O15: 0 | P15: 0 | Q15: 0 | R15: 0 | S15: 0 | T15: 0 | U15: 0
A16: GM Ind e Com Varejista de Móveis Ltda ME | B16: 9 | C16: 13 | D16: MESA RETANGULAR - conforme especificação em edital | E16: 449052.42 | F16: 198 | H16: =G16-(SUM(J16:U16)) -> 0 | I16: =IF(H16<0,"ATENÇÃO","OK") -> OK | J16: 0 | K16: 0 | L16: 0 | M16: 0 | N16: 0 | O16: 0 | P16: 0 | Q16: 0 | R16: 0 | S16: 0 | T16: 0 | U16: 0
A17: Nelita Gomes Farias EPP | B17: 10 | C17: 14 | D17: LONGARINA DE ESPERA - conforme especificação em edital | E17: 449052.42 | F17: 701.95 | H17: =G17-(SUM(J17:U17)) -> 0 | I17: =IF(H17<0,"ATENÇÃO","OK") -> OK | J17: 0 | K17: 0 | L17: 0 | M17: 0 | N17: 0 | O17: 0 | P17: 0 | Q17: 0 | R17: 0 | S17: 0 | T17: 0 | U17: 0
A18: GM Ind e Com Varejista de Móveis Ltda ME | B18: 11 | C18: 15 | D18: SUPORTE PARA BANDEIRA - conforme especificação em edital | E18: 449052.42 | F18: 340 | G18: 1 | H18: =G18-(SUM(J18:U18)) -> 1 | I18: =IF(H18<0,"ATENÇÃO","OK") -> OK | J18: 0 | K18: 0 | L18: 0 | M18: 0 | N18: 0 | O18: 0 | P18: 0 | Q18: 0 | R18: 0 | S18: 0 | T18: 0 | U18: 0
D20: *Prazo de entrega e pagamento conforme edital

Sheet CERES
A1: PROCESSO: 0855/2014/UDESC | D1: OBJETO: Aquisição de mobiliário padronizado para a UDESC | G1: VIGÊNCIA DA ATA: 11/03/2015 até 10/03/2016 | J1: AF/OS nº xxxx/2014 Qtde. DT | K1: AF/OS nº xxxx/2014 Qtde. DT | L1: AF/OS nº xxxx/2014 Qtde. DT | M1: AF/OS nº xxxx/2014 Qtde. DT | N1: AF/OS nº xxxx/2014 Qtde. DT | O1: AF/OS nº xxxx/2014 Qtde. DT | P1: AF/OS nº xxxx/2014 Qtde. DT | Q1: AF/OS nº xxxx/2014 Qtde. DT | R1: AF/OS nº xxxx/2014 Qtde. DT | S1: AF/OS nº xxxx/2014 Qtde. DT | T1: AF/OS nº xxxx/2014 Qtde. DT | U1: AF/OS nº xxxx/2014 Qtde. DT
A2: CENTRO PARTICIPANTE: CERES
A3: FORNECEDOR | B3: LOTE | C3: ITEM | D3: PRODUTO - CARACTERÍSTICAS MÍNIMAS | E3: ELEMENTO | F3: Preço UNITÁRIO (R$) | G3: Qtde Registrada | H3: Saldo / Automático | I3: ALERTA | J3: ...../...../...... | K3: ...../...../...... | L3: ...../...../...... | M3: ...../...../...... | N3: ...../...../...... | O3: ...../...../...... | P3: ...../...../...... | Q3: ...../...../...... | R3: ...../...../...... | S3: ...../...../...... | T3: ...../...../...... | U3: ...../...../......
A4: GM Ind e Com Varejista de Móveis Ltda ME | B4: 1 | C4: 1 | D4: ARMÁRIO ALTO - conforme especificação em edital | E4: 449052.42 | F4: 350 | H4: =G4-(SUM(J4:U4)) -> 0 | I4: =IF(H4<0,"ATENÇÃO","OK") -> OK | J4: 0 | K4: 0 | L4: 0 | M4: 0 | N4: 0 | O4: 0 | P4: 0 | Q4: 0 | R4: 0 | S4: 0 | T4: 0 | U4: 0
C5: 2 | D5: ARMÁRIO BAIXO - conforme especificação em edital | E5: 449052.42 | F5: 230 | H5: =G5-(SUM(J5:U5)) -> 0 | I5: =IF(H5<0,"ATENÇÃO","OK") -> OK | J5: 0 | K5: 0 | L5: 0 | M5: 0 | N5: 0 | O5: 0 | P5: 0 | Q5: 0 | R5: 0 | S5: 0 | T5: 0 | U5: 0
C6: 3 | D6: ARMÁRIO MÉDIO - conforme especificação em edital | E6: 449052.42 | F6: 290 | H6: =G6-(SUM(J6:U6)) -> 0 | I6: =IF(H6<0,"ATENÇÃO","OK") -> OK | J6: 0 | K6: 0 | L6: 0 | M6: 0 | N6: 0 | O6: 0 | P6: 0 | Q6: 0 | R6: 0 | S6: 0 | T6: 0 | U6: 0
A7: GM Ind e Com Varejista de Móveis Ltda ME | B7: 2 | C7: 4 | D7: CADEIRA FIXA COM PRANCHETA - conforme especificação em edital | E7: 449052.42 | F7: 244 | H7: =G7-(SUM(J7:U7)) -> 0 | I7: =IF(H7<0,"ATENÇÃO","OK") -> OK | J7: 0 | K7: 0 | L7: 0 | M7: 0 | N7: 0 | O7: 0 | P7: 0 | Q7: 0 | R7: 0 | S7: 0 | T7: 0 | U7: 0
A8: MM São Jose Ltda ME | B8: 3 | C8: 5 | D8: CADEIRA FIXA SEM BRAÇO - conforme especificação em edital | E8: 449052.42 | F8: 110 | H8: =G8-(SUM(J8:U8)) -> 0 | I8: =IF(H8<0,"ATENÇÃO","OK") -> OK | J8: 0 | K8: 0 | L8: 0 | M8: 0 | N8: 0 | O8: 0 | P8: 0 | Q8: 0 | R8: 0 | S8: 0 | T8: 0 | U8: 0
A9: Akon Ltda ME | B9: 4 | C9: 6 | D9: CADEIRA TIPO SECRETÁRIA - conforme especificação em edital | E9: 449052.42 | F9: 252.95 | H9: =G9-(SUM(J9:U9)) -> 0 | I9: =IF(H9<0,"ATENÇÃO","OK") -> OK | J9: 0 | K9: 0 | L9: 0 | M9: 0 | N9: 0 | O9: 0 | P9: 0 | Q9: 0 | R9: 0 | S9: 0 | T9: 0 | U9: 0
A10: Infrutífero | B10: 5 | C10: 7 | D10: CADEIRA TIPO PRESIDENTE - conforme especificação em edital | E10: 449052.42 | J10: 0 | K10: 0 | L10: 0 | M10: 0 | N10: 0 | O10: 0 | P10: 0 | Q10: 0 | R10: 0 | S10: 0 | T10: 0 | U10: 0
A11: Akon Ltda ME | B11: 6 | C11: 8 | D11: ESTAÇÃO DE TRABALHO EM L - conforme especificação em edital | E11: 449052.42 | F11: 375 | H11: =G11-(SUM(J11:U11)) -> 0 | I11: =IF(H11<0,"ATENÇÃO","OK") -> OK | J11: 0 | K11: 0 | L11: 0 | M11: 0 | N11: 0 | O11: 0 | P11: 0 | Q11: 0 | R11: 0 | S11: 0 | T11: 0 | U11: 0
C12: 9 | D12: MESA DE REUNIÃO REDONDA - conforme especificação em edital | E12: 449052.42 | F12: 205 | H12: =G12-(SUM(J12:U12)) -> 0 | I12: =IF(H12<0,"ATENÇÃO","OK") -> OK | J12: 0 | K12: 0 | L12: 0 | M12: 0 | N12: 0 | O12: 0 | P12: 0 | Q12: 0 | R12: 0 | S12: 0 | T12: 0 | U12: 0
A13: GM Ind e Com Varejista de Móveis Ltda ME | B13: 7 | C13: 10 | D13: GAVETEIRO VOLANTE 03 GAVETAS - conforme especificação em edital | E13: 449052.42 | F13: 236.85 | H13: =G13-(SUM(J13:U13)) -> 0 | I13: =IF(H13<0,"ATENÇÃO","OK") -> OK | J13: 0 | K13: 0 | L13: 0 | M13: 0 | N13: 0 | O13: 0 | P13: 0 | Q13: 0 | R13: 0 | S13: 0 | T13: 0 | U13: 0
C14: 11 | D14: GAVETEIRO VOLANTE 04 GAVETAS - conforme especificação em edital | E14: 449052.42 | F14: 236.85 | H14: =G14-(SUM(J14:U14)) -> 0 | I14: =IF(H14<0,"ATENÇÃO","OK") -> OK | J14: 0 | K14: 0 | L14: 0 | M14: 0 | N14: 0 | O14: 0 | P14: 0 | Q14: 0 | R14: 0 | S14: 0 | T14: 0 | U14: 0
A15: Cancelado | B15: 8 | C15: 12 | D15: MESA DE ESTUDO - conforme especificação em edital | E15: 449052.42 | J15: 0 | K15: 0 | L15: 0 | M15: 0 | N15: 0 | O15: 0 | P15: 0 | Q15: 0 | R15: 0 | S15: 0 | T15: 0 | U15: 0
A16: GM Ind e Com Varejista de Móveis Ltda ME | B16: 9 | C16: 13 | D16: MESA RETANGULAR - conforme especificação em edital | E16: 449052.42 | F16: 198 | H16: =G16-(SUM(J16:U16)) -> 0 | I16: =IF(H16<0,"ATENÇÃO","OK") -> OK | J16: 0 | K16: 0 | L16: 0 | M16: 0 | N16: 0 | O16: 0 | P16: 0 | Q16: 0 | R16: 0 | S16: 0 | T16: 0 | U16: 0
A17: Nelita Gomes Farias EPP | B17: 10 | C17: 14 | D17: LONGARINA DE ESPERA - conforme especificação em edital | E17: 449052.42 | F17: 701.95 | H17: =G17-(SUM(J17:U17)) -> 0 | I17: =IF(H17<0,"ATENÇÃO","OK") -> OK | J17: 0 | K17: 0 | L17: 0 | M17: 0 | N17: 0 | O17: 0 | P17: 0 | Q17: 0 | R17: 0 | S17: 0 | T17: 0 | U17: 0
A18: GM Ind e Com Varejista de Móveis Ltda ME | B18: 11 | C18: 15 | D18: SUPORTE PARA BANDEIRA - conforme especificação em edital | E18: 449052.42 | F18: 340 | G18: 1 | H18: =G18-(SUM(J18:U18)) -> 1 | I18: =IF(H18<0,"ATENÇÃO","OK") -> OK | J18: 0 | K18: 0 | L18: 0 | M18: 0 | N18: 0 | O18: 0 | P18: 0 | Q18: 0 | R18: 0 | S18: 0 | T18: 0 | U18: 0
D20: *Prazo de entrega e pagamento conforme edital

Sheet CESFI
A1: PROCESSO: 0855/2014/UDESC | D1: OBJETO: Aquisição de mobiliário padronizado para a UDESC | G1: VIGÊNCIA DA ATA: 11/03/2015 até 10/03/2016 | J1: AF nº 571/2015 Qtde. DT | K1: AF nº 627/2015 Qtde. DT | L1: AF nº 570/2015 Qtde. DT | M1: AF/OS nº xxxx/2014 Qtde. DT | N1: AF/OS nº xxxx/2014 Qtde. DT | O1: AF/OS nº xxxx/2014 Qtde. DT | P1: AF/OS nº xxxx/2014 Qtde. DT | Q1: AF/OS nº xxxx/2014 Qtde. DT | R1: AF/OS nº xxxx/2014 Qtde. DT | S1: AF/OS nº xxxx/2014 Qtde. DT | T1: AF/OS nº xxxx/2014 Qtde. DT | U1: AF/OS nº xxxx/2014 Qtde. DT
A2: CENTRO PARTICIPANTE: CESFI
A3: FORNECEDOR | B3: LOTE | C3: ITEM | D3: PRODUTO - CARACTERÍSTICAS MÍNIMAS | E3: ELEMENTO | F3: Preço UNITÁRIO (R$) | G3: Qtde Registrada | H3: Saldo / Automático | I3: ALERTA | J3: 42123 | K3: 42129 | L3: 42123 | M3: ...../...../...... | N3: ...../...../...... | O3: ...../...../...... | P3: ...../...../...... | Q3: ...../...../...... | R3: ...../...../...... | S3: ...../...../...... | T3: ...../...../...... | U3: ...../...../......
A4: GM Ind e Com Varejista de Móveis Ltda ME | B4: 1 | C4: 1 | D4: ARMÁRIO ALTO - conforme especificação em edital | E4: 449052.42 | F4: 350 | G4: 8 | H4: =G4-(SUM(J4:U4)) -> 0 | I4: =IF(H4<0,"ATENÇÃO","OK") -> OK | J4: 8 | K4: 0 | L4: 0 | M4: 0 | N4: 0 | O4: 0 | P4: 0 | Q4: 0 | R4: 0 | S4: 0 | T4: 0 | U4: 0
C5: 2 | D5: ARMÁRIO BAIXO - conforme especificação em edital | E5: 449052.42 | F5: 230 | G5: 10 | H5: =G5-(SUM(J5:U5)) -> 0 | I5: =IF(H5<0,"ATENÇÃO","OK") -> OK | J5: 10 | K5: 0 | L5: 0 | M5: 0 | N5: 0 | O5: 0 | P5: 0 | Q5: 0 | R5: 0 | S5: 0 | T5: 0 | U5: 0
C6: 3 | D6: ARMÁRIO MÉDIO - conforme especificação em edital | E6: 449052.42 | F6: 290 | H6: =G6-(SUM(J6:U6)) -> 0 | I6: =IF(H6<0,"ATENÇÃO","OK") -> OK | J6: 0 | K6: 0 | L6: 0 | M6: 0 | N6: 0 | O6: 0 | P6: 0 | Q6: 0 | R6: 0 | S6: 0 | T6: 0 | U6: 0
A7: GM Ind e Com Varejista de Móveis Ltda ME | B7: 2 | C7: 4 | D7: CADEIRA FIXA COM PRANCHETA - conforme especificação em edital | E7: 449052.42 | F7: 244 | H7: =G7-(SUM(J7:U7)) -> 0 | I7: =IF(H7<0,"ATENÇÃO","OK") -> OK | J7: 0 | K7: 0 | L7: 0 | M7: 0 | N7: 0 | O7: 0 | P7: 0 | Q7: 0 | R7: 0 | S7: 0 | T7: 0 | U7: 0
A8: MM São Jose Ltda ME | B8: 3 | C8: 5 | D8: CADEIRA FIXA SEM BRAÇO - conforme especificação em edital | E8: 449052.42 | F8: 110 | G8: 30 | H8: =G8-(SUM(J8:U8)) -> 0 | I8: =IF(H8<0,"ATENÇÃO","OK") -> OK | J8: 0 | K8: 0 | L8: 30 | M8: 0 | N8: 0 | O8: 0 | P8: 0 | Q8: 0 | R8: 0 | S8: 0 | T8: 0 | U8: 0
A9: Akon Ltda ME | B9: 4 | C9: 6 | D9: CADEIRA TIPO SECRETÁRIA - conforme especificação em edital | E9: 449052.42 | F9: 252.95 | G9: 10 | H9: =G9-(SUM(J9:U9)) -> 5 | I9: =IF(H9<0,"ATENÇÃO","OK") -> OK | J9: 0 | K9: 5 | L9: 0 | M9: 0 | N9: 0 | O9: 0 | P9: 0 | Q9: 0 | R9: 0 | S9: 0 | T9: 0 | U9: 0
A10: Infrutífero | B10: 5 | C10: 7 | D10: CADEIRA TIPO PRESIDENTE - conforme especificação em edital | E10: 449052.42 | J10: 0 | K10: 0 | L10: 0 | M10: 0 | N10: 0 | O10: 0 | P10: 0 | Q10: 0 | R10: 0 | S10: 0 | T10: 0 | U10: 0
A11: Akon Ltda ME | B11: 6 | C11: 8 | D11: ESTAÇÃO DE TRABALHO EM L - conforme especificação em edital | E11: 449052.42 | F11: 375 | G11: 10 | H11: =G11-(SUM(J11:U11)) -> 5 | I11: =IF(H11<0,"ATENÇÃO","OK") -> OK | J11: 0 | K11: 5 | L11: 0 | M11: 0 | N11: 0 | O11: 0 | P11: 0 | Q11: 0 | R11: 0 | S11: 0 | T11: 0 | U11: 0
C12: 9 | D12: MESA DE REUNIÃO REDONDA - conforme especificação em edital | E12: 449052.42 | F12: 205 | G12: 5 | H12: =G12-(SUM(J12:U12)) -> 3 | I12: =IF(H12<0,"ATENÇÃO","OK") -> OK | J12: 0 | K12: 2 | L12: 0 | M12: 0 | N12: 0 | O12: 0 | P12: 0 | Q12: 0 | R12: 0 | S12: 0 | T12: 0 | U12: 0
A13: GM Ind e Com Varejista de Móveis Ltda ME | B13: 7 | C13: 10 | D13: GAVETEIRO VOLANTE 03 GAVETAS - conforme especificação em edital | E13: 449052.42 | F13: 236.85 | G13: 10 | H13: =G13-(SUM(J13:U13)) -> 0 | I13: =IF(H13<0,"ATENÇÃO","OK") -> OK | J13: 10 | K13: 0 | L13: 0 | M13: 0 | N13: 0 | O13: 0 | P13: 0 | Q13: 0 | R13: 0 | S13: 0 | T13: 0 | U13: 0
C14: 11 | D14: GAVETEIRO VOLANTE 04 GAVETAS - conforme especificação em edital | E14: 449052.42 | F14: 236.85 | G14: 5 | H14: =G14-(SUM(J14:U14)) -> 0 | I14: =IF(H14<0,"ATENÇÃO","OK") -> OK | J14: 5 | K14: 0 | L14: 0 | M14: 0 | N14: 0 | O14: 0 | P14: 0 | Q14: 0 | R14: 0 | S14: 0 | T14: 0 | U14: 0
A15: Cancelado | B15: 8 | C15: 12 | D15: MESA DE ESTUDO - conforme especificação em edital | E15: 449052.42 | J15: 0 | K15: 0 | L15: 0 | M15: 0 | N15: 0 | O15: 0 | P15: 0 | Q15: 0 | R15: 0 | S15: 0 | T15: 0 | U15: 0
A16: GM Ind e Com Varejista de Móveis Ltda ME | B16: 9 | C16: 13 | D16: MESA RETANGULAR - conforme especificação em edital | E16: 449052.42 | F16: 198 | H16: =G16-(SUM(J16:U16)) -> 0 | I16: =IF(H16<0,"ATENÇÃO","OK") -> OK | J16: 0 | K16: 0 | L16: 0 | M16: 0 | N16: 0 | O16: 0 | P16: 0 | Q16: 0 | R16: 0 | S16: 0 | T16: 0 | U16: 0
A17: Nelita Gomes Farias EPP | B17: 10 | C17: 14 | D17: LONGARINA DE ESPERA - conforme especificação em edital | E17: 449052.42 | F17: 701.95 | H17: =G17-(SUM(J17:U17)) -> 0 | I17: =IF(H17<0,"ATENÇÃO","OK") -> OK | J17: 0 | K17: 0 | L17: 0 | M17: 0 | N17: 0 | O17: 0 | P17: 0 | Q17: 0 | R17: 0 | S17: 0 | T17: 0 | U17: 0
A18: GM Ind e Com Varejista de Móveis Ltda ME | B18: 11 | C18: 15 | D18: SUPORTE PARA BANDEIRA - conforme especificação em edital | E18: 449052.42 | F18: 340 | G18: 1 | H18: =G18-(SUM(J18:U18)) -> 1 | I18: =IF(H18<0,"ATENÇÃO","OK") -> OK | J18: 0 | K18: 0 | L18: 0 | M18: 0 | N18: 0 | O18: 0 | P18: 0 | Q18: 0 | R18: 0 | S18: 0 | T18: 0 | U18: 0
D20: *Prazo de entrega e pagamento conforme edital

Sheet CCT
A1: PROCESSO: 0855/2014/UDESC | D1: OBJETO: Aquisição de mobiliário padronizado para a UDESC | G1: VIGÊNCIA DA ATA: 11/03/2015 até 10/03/2016 | J1: AF/OS nº 1452/2015 Qtde. DT | K1: AF/OS nº 1453/2015 Qtde. DT | L1: AF/OS nº 1454/2015 Qtde. DT | M1: AF/OS nº 1491/2015 Qtde. DT | N1: AF/OS nº 1492/2015 Qtde. DT | O1: AF/OS nº 1493/2015 Qtde. DT | P1: AF/OS nº 1633/2015 Qtde. DT | Q1: AF/OS nº 1634/2015 Qtde. DT | R1: AF/OS nº 1860/2015 Qtde. DT | S1: AF/OS nº 2134/2015 Qtde. DT | T1: AF/OS nº 2135/2015 Qtde. DT | U1: AF/OS nº 2136/2015 Qtde. DT
A2: CENTRO PARTICIPANTE: CCT
A3: FORNECEDOR | B3: LOTE | C3: ITEM | D3: PRODUTO - CARACTERÍSTICAS MÍNIMAS | E3: ELEMENTO | F3: Preço UNITÁRIO (R$) | G3: Qtde Registrada | H3: Saldo / Automático | I3: ALERTA | J3: 42233 | K3: 42233 | L3: 42233 | M3: 42237 | N3: 42237 | O3: 42237 | P3: 42258 | Q3: 42258 | R3: 42284 | S3: 42309 | T3: 42309 | U3: 42309
A4: GM Ind e Com Varejista de Móveis Ltda ME | B4: 1 | C4: 1 | D4: ARMÁRIO ALTO - conforme especificação em edital | E4: 449052.42 | F4: 350 | G4: =60+10 -> 70 | H4: =G4-(SUM(J4:U4)) -> 0 | I4: =IF(H4<0,"ATENÇÃO","OK") -> OK | J4: 0 | K4: 0 | L4: 0 | M4: 0 | N4: 0 | O4: 0 | P4: 20 | Q4: 0 | R4: 1 | S4: 49 | T4: 0 | U4: 0
C5: 2 | D5: ARMÁRIO BAIXO - conforme especificação em edital | E5: 449052.42 | F5: 230 | G5: 26 | H5: =G5-(SUM(J5:U5)) -> 14 | I5: =IF(H5<0,"ATENÇÃO","OK") -> OK | J5: 0 | K5: 0 | L5: 0 | M5: 0 | N5: 0 | O5: 0 | P5: 5 | Q5: 0 | R5: 0 | S5: 7 | T5: 0 | U5: 0
C6: 3 | D6: ARMÁRIO MÉDIO - conforme especificação em edital | E6: 449052.42 | F6: 290 | G6: 4 | H6: =G6-(SUM(J6:U6)) -> 0 | I6: =IF(H6<0,"ATENÇÃO","OK") -> OK | J6: 0 | K6: 0 | L6: 0 | M6: 0 | N6: 0 | O6: 0 | P6: 3 | Q6: 0 | R6: 0 | S6: 1 | T6: 0 | U6: 0
A7: GM Ind e Com Varejista de Móveis Ltda ME | B7: 2 | C7: 4 | D7: CADEIRA FIXA COM PRANCHETA - conforme especificação em edital | E7: 449052.42 | F7: 244 | G7: =14+34 -> 48 | H7: =G7-(SUM(J7:U7)) -> 3 | I7: =IF(H7<0,"ATENÇÃO","OK") -> OK | J7: 40 | K7: 0 | L7: 0 | M7: 5 | N7: 0 | O7: 0 | P7: 0 | Q7: 0 | R7: 0 | S7: 0 | T7: 0 | U7: 0
A8: MM São Jose Ltda ME | B8: 3 | C8: 5 | D8: CADEIRA FIXA SEM BRAÇO - conforme especificação em edital | E8: 449052.42 | F8: 110 | G8: =400+45 -> 445 | H8: =G8-(SUM(J8:U8)) -> 5 | I8: =IF(H8<0,"ATENÇÃO","OK") -> OK | J8: 0 | K8: 350 | L8: 0 | M8: 0 | N8: 8 | O8: 0 | P8: 0 | Q8: 0 | R8: 0 | S8: 0 | T8: 82 | U8: 0
A9: Akon Ltda ME | B9: 4 | C9: 6 | D9: CADEIRA TIPO SECRETÁRIA - conforme especificação em edital | E9: 449052.42 | F9: 252.95 | G9: 140 | H9: =G9-(SUM(J9:U9)) -> 27 | I9: =IF(H9<0,"ATENÇÃO","OK") -> OK | J9: 0 | K9: 0 | L9: 90 | M9: 0 | N9: 0 | O9: 0 | P9: 0 | Q9: 0 | R9: 0 | S9: 0 | T9: 0 | U9: 23
A10: Infrutífero | B10: 5 | C10: 7 | D10: CADEIRA TIPO PRESIDENTE - conforme especificação em edital | E10: 449052.42 | J10: 0 | K10: 0 | L10: 0 | M10: 0 | N10: 0 | O10: 0 | P10: 0 | Q10: 0 | R10: 0 | S10: 0 | T10: 0 | U10: 0
A11: Akon Ltda ME | B11: 6 | C11: 8 | D11: ESTAÇÃO DE TRABALHO EM L - conforme especificação em edital | E11: 449052.42 | F11: 375 | G11: 50 | H11: =G11-(SUM(J11:U11)) -> 14 | I11: =IF(H11<0,"ATENÇÃO","OK") -> OK | J11: 0 | K11: 0 | L11: 0 | M11: 0 | N11: 0 | O11: 1 | P11: 0 | Q11: 20 | R11: 0 | S11: 0 | T11: 0 | U11: 15
C12: 9 | D12: MESA DE REUNIÃO REDONDA - conforme especificação em edital | E12: 449052.42 | F12: 205 | G12: 12 | H12: =G12-(SUM(J12:U12)) -> 0 | I12: =IF(H12<0,"ATENÇÃO","OK") -> OK | J12: 0 | K12: 0 | L12: 0 | M12: 0 | N12: 0 | O12: 0 | P12: 0 | Q12: 0 | R12: 0 | S12: 0 | T12: 0 | U12: 12
A13: GM Ind e Com Varejista de Móveis Ltda ME | B13: 7 | C13: 10 | D13: GAVETEIRO VOLANTE 03 GAVETAS - conforme especificação em edital | E13: 449052.42 | F13: 236.85 | G13: 22 | H13: =G13-(SUM(J13:U13)) -> 16 | I13: =IF(H13<0,"ATENÇÃO","OK") -> OK | J13: 0 | K13: 0 | L13: 0 | M13: 0 | N13: 0 | O13: 0 | P13: 5 | Q13: 0 | R13: 0 | S13: 1 | T13: 0 | U13: 0
C14: 11 | D14: GAVETEIRO VOLANTE 04 GAVETAS - conforme especificação em edital | E14: 449052.42 | F14: 236.85 | G14: 28 | H14: =G14-(SUM(J14:U14)) -> 12 | I14: =IF(H14<0,"ATENÇÃO","OK") -> OK | J14: 0 | K14: 0 | L14: 0 | M14: 0 | N14: 0 | O14: 0 | P14: 10 | Q14: 0 | R14: 0 | S14: 6 | T14: 0 | U14: 0
A15: Cancelado | B15: 8 | C15: 12 | D15: MESA DE ESTUDO - conforme especificação em edital | E15: 449052.42 | J15: 0 | K15: 0 | L15: 0 | M15: 0 | N15: 0 | O15: 0 | P15: 0 | Q15: 0 | R15: 0 | S15: 0 | T15: 0 | U15: 0
A16: GM Ind e Com Varejista de Móveis Ltda ME | B16: 9 | C16: 13 | D16: MESA RETANGULAR - conforme especificação em edital | E16: 449052.42 | F16: 198 | H16: =G16-(SUM(J16:U16)) -> 0 | I16: =IF(H16<0,"ATENÇÃO","OK") -> OK | J16: 0 | K16: 0 | L16: 0 | M16: 0 | N16: 0 | O16: 0 | P16: 0 | Q16: 0 | R16: 0 | S16: 0 | T16: 0 | U16: 0
A17: Nelita Gomes Farias EPP | B17: 10 | C17: 14 | D17: LONGARINA DE ESPERA - conforme especificação em edital | E17: 449052.42 | F17: 701.95 | H17: =G17-(SUM(J17:U17)) -> 0 | I17: =IF(H17<0,"ATENÇÃO","OK") -> OK | J17: 0 | K17: 0 | L17: 0 | M17: 0 | N17: 0 | O17: 0 | P17: 0 | Q17: 0 | R17: 0 | S17: 0 | T17: 0 | U17: 0
A18: GM Ind e Com Varejista de Móveis Ltda ME | B18: 11 | C18: 15 | D18: SUPORTE PARA BANDEIRA - conforme especificação em edital | E18: 449052.42 | F18: 340 | G18: 3 | H18: =G18-(SUM(J18:U18)) -> 3 | I18: =IF(H18<0,"ATENÇÃO","OK") -> OK | J18: 0 | K18: 0 | L18: 0 | M18: 0 | N18: 0 | O18: 0 | P18: 0 | Q18: 0 | R18: 0 | S18: 0 | T18: 0 | U18: 0
D20: *Prazo de entrega e pagamento conforme edital

Sheet CEPLAN
A1: PROCESSO: 0855/2014/UDESC | D1: OBJETO: Aquisição de mobiliário padronizado para a UDESC | G1: VIGÊNCIA DA ATA: 11/03/2015 até 10/03/2016 | J1: AF/OS nº 735/2015 Qtde. DT | K1: AF/OS nº 737/2015 Qtde. DT | L1: AF/OS nº 1632/2015 Qtde. DT | M1: AF/OS nº 1635/2015 Qtde. DT | N1: AF/OS nº 1955/2015 Qtde. DT | O1: AF/OS nº 1958/2015 Qtde. DT | P1: AF/OS nº 1957/2015 Qtde. DT | Q1: AF/OS nº 1959/2015 Qtde. DT | R1: AF/OS nº 1960/2015 Qtde. DT | S1: AF/OS nº xxxx/2014 Qtde. DT | T1: AF/OS nº xxxx/2014 Qtde. DT | U1: AF/OS nº xxxx/2014 Qtde. DT
A2: CENTRO PARTICIPANTE: CEPLAN
A3: FORNECEDOR | B3: LOTE | C3: ITEM | D3: PRODUTO - CARACTERÍSTICAS MÍNIMAS | E3: ELEMENTO | F3: Preço UNITÁRIO (R$) | G3: Qtde Registrada | H3: Saldo / Automático | I3: ALERTA | J3: ...../...../...... | K3: ...../...../...... | L3: ...../...../...... | M3: ...../...../...... | N3: ...../...../...... | O3: ...../...../...... | P3: ...../...../...... | Q3: ...../...../...... | R3: ...../...../...... | S3: ...../...../...... | T3: ...../...../...... | U3: ...../...../......
A4: GM Ind e Com Varejista de Móveis Ltda ME | B4: 1 | C4: 1 | D4: ARMÁRIO ALTO - conforme especificação em edital | E4: 449052.42 | F4: 350 | G4: 10 | H4: =G4-(SUM(J4:U4)) -> 0 | I4: =IF(H4<0,"ATENÇÃO","OK") -> OK | J4: 0 | K4: 0 | L4: 2 | M4: 0 | N4: 5 | O4: 0 | P4: 0 | Q4: 3 | R4: 0 | S4: 0 | T4: 0 | U4: 0
C5: 2 | D5: ARMÁRIO BAIXO - conforme especificação em edital | E5: 449052.42 | F5: 230 | G5: 10 | H5: =G5-(SUM(J5:U5)) -> 0 | I5: =IF(H5<0,"ATENÇÃO","OK") -> OK | J5: 0 | K5: 0 | L5: 0 | M5: 0 | N5: 10 | O5: 0 | P5: 0 | Q5: 0 | R5: 0 | S5: 0 | T5: 0 | U5: 0
C6: 3 | D6: ARMÁRIO MÉDIO - conforme especificação em edital | E6: 449052.42 | F6: 290 | G6: 10 | H6: =G6-(SUM(J6:U6)) -> 0 | I6: =IF(H6<0,"ATENÇÃO","OK") -> OK | J6: 0 | K6: 0 | L6: 0 | M6: 0 | N6: 10 | O6: 0 | P6: 0 | Q6: 0 | R6: 0 | S6: 0 | T6: 0 | U6: 0
A7: GM Ind e Com Varejista de Móveis Ltda ME | B7: 2 | C7: 4 | D7: CADEIRA FIXA COM PRANCHETA - conforme especificação em edital | E7: 449052.42 | F7: 244 | G7: 120 | H7: =G7-(SUM(J7:U7)) -> 0 | I7: =IF(H7<0,"ATENÇÃO","OK") -> OK | J7: 0 | K7: 0 | L7: 0 | M7: 0 | N7: 120 | O7: 0 | P7: 0 | Q7: 0 | R7: 0 | S7: 0 | T7: 0 | U7: 0
A8: MM São Jose Ltda ME | B8: 3 | C8: 5 | D8: CADEIRA FIXA SEM BRAÇO - conforme especificação em edital | E8: 449052.42 | F8: 110 | G8: 350 | H8: =G8-(SUM(J8:U8)) -> 0 | I8: =IF(H8<0,"ATENÇÃO","OK") -> OK | J8: 50 | K8: 0 | L8: 0 | M8: 0 | N8: 0 | O8: 300 | P8: 0 | Q8: 0 | R8: 0 | S8: 0 | T8: 0 | U8: 0
A9: Akon Ltda ME | B9: 4 | C9: 6 | D9: CADEIRA TIPO SECRETÁRIA - conforme especificação em edital | E9: 449052.42 | F9: 252.95 | G9: 50 | H9: =G9-(SUM(J9:U9)) -> 0 | I9: =IF(H9<0,"ATENÇÃO","OK") -> OK | J9: 0 | K9: 0 | L9: 0 | M9: 6 | N9: 0 | O9: 0 | P9: 38 | Q9: 0 | R9: 6 | S9: 0 | T9: 0 | U9: 0
A10: Infrutífero | B10: 5 | C10: 7 | D10: CADEIRA TIPO PRESIDENTE - conforme especificação em edital | E10: 449052.42 | J10: 0 | K10: 0 | L10: 0 | M10: 0 | N10: 0 | O10: 0 | P10: 0 | Q10: 0 | R10: 0 | S10: 0 | T10: 0 | U10: 0
A11: Akon Ltda ME | B11: 6 | C11: 8 | D11: ESTAÇÃO DE TRABALHO EM L - conforme especificação em edital | E11: 449052.42 | F11: 375 | G11: 8 | H11: =G11-(SUM(J11:U11)) -> 2 | I11: =IF(H11<0,"ATENÇÃO","OK") -> OK | J11: 0 | K11: 0 | L11: 0 | M11: 3 | N11: 0 | O11: 0 | P11: 3 | Q11: 0 | R11: 0 | S11: 0 | T11: 0 | U11: 0
C12: 9 | D12: MESA DE REUNIÃO REDONDA - conforme especificação em edital | E12: 449052.42 | F12: 205 | G12: 4 | H12: =G12-(SUM(J12:U12)) -> 0 | I12: =IF(H12<0,"ATENÇÃO","OK") -> OK | J12: 0 | K12: 0 | L12: 0 | M12: 1 | N12: 0 | O12: 0 | P12: 3 | Q12: 0 | R12: 0 | S12: 0 | T12: 0 | U12: 0
A13: GM Ind e Com Varejista de Móveis Ltda ME | B13: 7 | C13: 10 | D13: GAVETEIRO VOLANTE 03 GAVETAS - conforme especificação em edital | E13: 449052.42 | F13: 236.85 | G13: 10 | H13: =G13-(SUM(J13:U13)) -> 0 | I13: =IF(H13<0,"ATENÇÃO","OK") -> OK | J13: 0 | K13: 0 | L13: 0 | M13: 0 | N13: 10 | O13: 0 | P13: 0 | Q13: 0 | R13: 0 | S13: 0 | T13: 0 | U13: 0
