Workbook
Name CEPLAN: #REF!
Name CEPLAN: #REF!
Name CEPLAN: #REF!
Name diasuteis: #REF!
Name diasuteis: #REF!
Name diasuteis: #REF!
Name diasuteis: #REF!
Name diasuteis: #REF!
Name diasuteis: #REF!
Name diasuteis: #REF!
Name Ferias: #REF!
Name Ferias: #REF!
Name Ferias: #REF!
Name Ferias: #REF!
Name Ferias: #REF!
Name Ferias: #REF!
Name Ferias: #REF!
Name RD: OFFSET(#REF!,(MATCH(SMALL(#REF!,ROW()-10),#REF!,0)-1),0)
Name RD: OFFSET(#REF!,(MATCH(SMALL(#REF!,ROW()-10),#REF!,0)-1),0)
Name RD: OFFSET(#REF!,(MATCH(SMALL(#REF!,ROW()-10),#REF!,0)-1),0)
Name RD: OFFSET(#REF!,(MATCH(SMALL(#REF!,ROW()-10),#REF!,0)-1),0)
Name RD: OFFSET(#REF!,(MATCH(SMALL(#REF!,ROW()-10),#REF!,0)-1),0)
Name RD: OFFSET(#REF!,(MATCH(SMALL(#REF!,ROW()-10),#REF!,0)-1),0)
Name RD: OFFSET(#REF!,(MATCH(SMALL(#REF!,ROW()-10),#REF!,0)-1),0)

Sheet REITORIA
A1: PROCESSO: 0759/2015/UDESC/Relançamento | D1: OBJETO: AQUISIÇÃO DE PEÇAS INCORPORÁVEIS AO COMPUTADOR PARA A UDESC - Relançamento | H1: VIGÊNCIA DA ATA: 29/01/2016 até 28/01/2017 | K1: AF/OS nº xxxx/2016 Qtde. DT | L1: AF/OS nº xxxx/2016 Qtde. DT | M1: AF/OS nº xxxx/2016 Qtde. DT | N1: AF/OS nº xxxx/2016 Qtde. DT | O1: AF/OS nº xxxx/2016 Qtde. DT | P1: AF/OS nº xxxx/2016 Qtde. DT | Q1: AF/OS nº xxxx/2016 Qtde. DT | R1: AF/OS nº xxxx/2016 Qtde. DT | S1: AF/OS nº xxxx/2016 Qtde. DT | T1: AF/OS nº xxxx/2016 Qtde. DT | U1: AF/OS nº xxxx/2016 Qtde. DT | V1: AF/OS nº xxxx/2016 Qtde. DT
A2: CENTRO PARTICIPANTE: REITORIA
A3: FORNECEDOR | B3: LOTE | C3: ITEM | D3: PRODUTO - CARACTERÍSTICAS MÍNIMAS | E3: UNIDADE | F3: DETALHAMENTO | G3: Preço UNITÁRIO (R$) | H3: Qtde Registrada | I3: Saldo / Automático | J3: ALERTA | K3: ...../...../...... | L3: ...../...../...... | M3: ...../...../...... | N3: ...../...../...... | O3: ...../...../...... | P3: ...../...../...... | Q3: ...../...../...... | R3: ...../...../...... | S3: ...../...../...... | T3: ...../...../...... | U3: ...../...../...... | V3: ...../...../......
A4: HARLEY DE AGUIAR JUNIOR EIRELI EPP | B4: 13 | C4: 34 | D4: Placa mãe Lenovo Socket LGA775 ou compatível FRU-PartNumber 64Y3055 | E4: Peça | F4: 339030.17 | G4: 984 | I4: =H4-(SUM(K4:V4)) -> 0 | J4: =IF(I4<0,"ATENÇÃO","OK") -> OK | K4: 0 | L4: 0 | M4: 0 | N4: 0 | O4: 0 | P4: 0 | Q4: 0 | R4: 0 | S4: 0 | T4: 0 | U4: 0 | V4: 0
C5: 35 | D5: Placa-mãe Lenovo L-A780 ou compatível (socket AM2) p/ computadores Lenovo Thinkcentre A62-7057 | E5: Peça | F5: 339030.17 | G5: 985 | I5: =H5-(SUM(K5:V5)) -> 0 | J5: =IF(I5<0,"ATENÇÃO","OK") -> OK | K5: 0 | L5: 0 | M5: 0 | N5: 0 | O5: 0 | P5: 0 | Q5: 0 | R5: 0 | S5: 0 | T5: 0 | U5: 0 | V5: 0
A6: BEE2B INFORMÁTICA LTDA ME | B6: 16 | C6: 40 | D6: Caixas de Som com subwoofer integrado e duas caixas de som, com potência mínima de 600W PMPO, entrada com conector padrão mini-jack e RCA (ou adaptador RCA para mini-jack), tensão de alimentação de 220v. | E6: Peça | F6: 339030.17 | G6: 148.88 | I6: =H6-(SUM(K6:V6)) -> 0 | J6: =IF(I6<0,"ATENÇÃO","OK") -> OK | K6: 0 | L6: 0 | M6: 0 | N6: 0 | O6: 0 | P6: 0 | Q6: 0 | R6: 0 | S6: 0 | T6: 0 | U6: 0 | V6: 0
C7: 41 | D7: Caixas de Som com 2 canais estéreos amplificados, controle de volume, botão liga/desliga, saída para fone de ouvido estéreo, LED indicador de liga e desliga, 2 w RMS e alimentação 220v (sem uso de transformador externo). | E7: Peça | F7: 339030.17 | G7: 69.45 | I7: =H7-(SUM(K7:V7)) -> 0 | J7: =IF(I7<0,"ATENÇÃO","OK") -> OK | K7: 0 | L7: 0 | M7: 0 | N7: 0 | O7: 0 | P7: 0 | Q7: 0 | R7: 0 | S7: 0 | T7: 0 | U7: 0 | V7: 0
C8: 42 | D8: Caixa de Som, 1 Subwoofer, 2 caixas Satélites, Potência de saída: 30W RMS, botão iluminado quando ligado, controle de volume, auto Bivolt, dimensões aproximadas: +/- 10 a 15% (Larg x Alt x Prof) 16 x 20 x 20 | E8: Peça | F8: 339030.17 | G8: 287.83 | I8: =H8-(SUM(K8:V8)) -> 0 | J8: =IF(I8<0,"ATENÇÃO","OK") -> OK | K8: 0 | L8: 0 | M8: 0 | N8: 0 | O8: 0 | P8: 0 | Q8: 0 | R8: 0 | S8: 0 | T8: 0 | U8: 0 | V8: 0
A9: MARCELO WEINRICH EPP | B9: 17 | C9: 43 | D9: Fone de ouvido profissional, - Sensibilidade: 98 dB (SPL/mW); - Faixa de frequência: de 10 até 30.000 Hz; - Impedância: 32 Ohms; - Potência Máxima: 300 mW; - Cabo: 2,5 m com conector P2 e adaptador P10 | E9: Peça | F9: 339030.17 | G9: 164.66 | I9: =H9-(SUM(K9:V9)) -> 0 | J9: =IF(I9<0,"ATENÇÃO","OK") -> OK | K9: 0 | L9: 0 | M9: 0 | N9: 0 | O9: 0 | P9: 0 | Q9: 0 | R9: 0 | S9: 0 | T9: 0 | U9: 0 | V9: 0
C10: 44 | D10: Headset (fones de ouvido com microfone): Escala de frequência 20 a 20000Hz. Sensibilidade 105dB/mW. Impedância 32Ohms. Potência máxima: 100 mW. Tamanho do cabo 1,60m (mínimo). Outras características: fones almofadados e revestidos de borracha. | E10: Peça | F10: 339030.17 | G10: 53 | I10: =H10-(SUM(K10:V10)) -> 0 | J10: =IF(I10<0,"ATENÇÃO","OK") -> OK | K10: 0 | L10: 0 | M10: 0 | N10: 0 | O10: 0 | P10: 0 | Q10: 0 | R10: 0 | S10: 0 | T10: 0 | U10: 0 | V10: 0
A11: MARCELO WEINRICH EPP | B11: 19 | C11: 46 | D11: Bateria Lítio 3V CR | E11: Peça | F11: 339030.17 | G11: 1.99 | H11: 24 | I11: =H11-(SUM(K11:V11)) -> 24 | J11: =IF(I11<0,"ATENÇÃO","OK") -> OK | K11: 0 | L11: 0 | M11: 0 | N11: 0 | O11: 0 | P11: 0 | Q11: 0 | R11: 0 | S11: 0 | T11: 0 | U11: 0 | V11: 0
A12: BEE2B INFORMÁTICA LTDA ME | B12: 21 | C12: 51 | D12: Adaptador / Conversor p/ tomadas no novo padrão brasileiro NBR-14136, aceitando plugue macho dois pinos chatos, padrão NEMA, 15A-250V~, plugue macho dois pinos chatos + terra, 15A-250V~, plugue macho dois pinos redondos, 10A-250V~, plugue macho dois pinos redondos + terra, 10A-250V~ | E12: Peça | F12: 339030.26 | G12: 14.9 | H12: 16 | I12: =H12-(SUM(K12:V12)) -> 16 | J12: =IF(I12<0,"ATENÇÃO","OK") -> OK | K12: 0 | L12: 0 | M12: 0 | N12: 0 | O12: 0 | P12: 0 | Q12: 0 | R12: 0 | S12: 0 | T12: 0 | U12: 0 | V12: 0
C13: 52 | D13: Adaptador / Conversor p/ tomadas no padrão antigo (dois pinos chatos + terra), aceitando plugue do padrão atual brasileiro NBR-14136 | E13: Peça | F13: 339030.26 | G13: 19.9 | H13: 16 | I13: =H13-(SUM(K13:V13)) -> 16 | J13: =IF(I13<0,"ATENÇÃO","OK") -> OK | K13: 0 | L13: 0 | M13: 0 | N13: 0 | O13: 0 | P13: 0 | Q13: 0 | R13: 0 | S13: 0 | T13: 0 | U13: 0 | V13: 0
C14: 53 | D14: Filtro de linha com 05 tomadas que aceite o plugue do padrão atual brasileiro NBR-14136, com fusível, chave liga/desliga, indicador luminoso e funcionamento, 220V. | E14: Peça | F14: 339030.26 | G14: 29.9 | H14: 24 | I14: =H14-(SUM(K14:V14)) -> 24 | J14: =IF(I14<0,"ATENÇÃO","OK") -> OK | K14: 0 | L14: 0 | M14: 0 | N14: 0 | O14: 0 | P14: 0 | Q14: 0 | R14: 0 | S14: 0 | T14: 0 | U14: 0 | V14: 0
A15: BEE2B INFORMÁTICA LTDA ME | B15: 22 | C15: 54 | D15: Apresentador sem fio com função de emulação de mouse com um apontador eletrônico (laser) para total controle de apresentação (avançar e retroceder transparências, além de abrir e fechar documentos e aplicativos), com um alcance mínimo de 6 metros através de conexão com o PC pela porta USB. | E15: Peça | F15: 449052.35 | G15: 132.23 | H15: 8 | I15: =H15-(SUM(K15:V15)) -> 8 | J15: =IF(I15<0,"ATENÇÃO","OK") -> OK | K15: 0 | L15: 0 | M15: 0 | N15: 0 | O15: 0 | P15: 0 | Q15: 0 | R15: 0 | S15: 0 | T15: 0 | U15: 0 | V15: 0
A16: HARLEY DE AGUIAR JUNIOR EIRELI EPP | B16: 23 | C16: 55 | D16: LEITOR PARA CÓDIGO, DE BARRAS, Leitor Código Barras para porta Usb, com cabo. Velocidade 100 leituras/segundo, Peso 120 g (±10 g), Dimensões 81 mm x 63.5mm e 179 mm e Interfaces USB e Teclado. Características Técnicas: Fonte de luz LED Vermelho 632 nm, Sensor Linear CCD, Ângulo de leitura Lateral ± 25° (±5°) e Frontal 10°~40° (±5°), Profundidade do campo 60 mm, Processador C8051, Resistência a queda 1,5 m. Cabo padrão 1,5 m (±5 cm). Características Ambientais: Temperatura de operação 0ºC a 50ºC, Luz ambiente Lâmpada Fluorescente 5000 Lux Max. / Luz Solar 1500 Lux Max. Características Elétricas: Tensão de entrada + 5V +/- 5% Operação 120 mA (USB) Códigos lidos All UPC/EAN/JAN, EAN128 Code, Code 39, Code 39 Full ASCII, Code32 / Italian Pharmacy, Code 128, CODABAR/NW7, Interleave 25, Industrial 25, Matrix 25, MSI/PLESSEY, Telepen, Code 93, Code 11, China Postage, Code 26, LCD25 e GS1 DataBar Códigos pré-programados All UPC/EAN/JAN, EAN128 Code, Code 39, Code 128, CODABAR/NW7, Interleave 25. Garantia de um ano | E16: Peça | F16: 449052.35 | G16: 207 | I16: =H16-(SUM(K16:V16)) -> 0 | J16: =IF(I16<0,"ATENÇÃO","OK") -> OK | K16: 0 | L16: 0 | M16: 0 | N16: 0 | O16: 0 | P16: 0 | Q16: 0 | R16: 0 | S16: 0 | T16: 0 | U16: 0 | V16: 0
C17: 56 | D17: Leitores de código de barras, conexão usb: Elemento foto detetor: CCD (Charge Coupled Device) de 2048 elementos; Fonte de luz: LEDs, luz vermelha, 660 nm; Velocidade de leitura: 100 varreduras por segundo; Contraste mínimo de impressão dos códigos: 45%; Profundidade de campo: de 0 a 20 mm; Largura da janela de leitura: 82 mm; Largura mínima dos elementos dos códigos (resolução): 0,1 mm; Rejeição à luz ambiente: 1.500 Lux; Padrões de códigos de barras lidos: EAN, UPC, 39, 128, 93, 2 de 5 intercalado; Indicadores de leituras bem sucedidas: Visual (Led) e Sonoro (Beep); Programação: Através do manual ou através do seu Exclusivo programa utilitário; Atualização de Firmware: Por software, pelo próprio usuário; Tensão de alimentação: 5 Vcc +/- 10%; Consumo máximo: 120 mA; Temperatura de operação: de 0 a 50º C; Temperatura de armazenagem: de -10 a 60º C; Umidade tolerável: de 5% até 95% não condensado; Material do corpo: ABS de alto impacto, nas versões bege ou preto; Resistência a quedas: 1,00 metro sobre superfície de concreto; Dimensões físicas (máximas): 180 x 83 x 30 mm; Cabo para conexão USB | F17: 449052.35 | G17: 176 | H17: 6 | I17: =H17-(SUM(K17:V17)) -> 6 | J17: =IF(I17<0,"ATENÇÃO","OK") -> OK | K17: 0 | L17: 0 | M17: 0 | N17: 0 | O17: 0 | P17: 0 | Q17: 0 | R17: 0 | S17: 0 | T17: 0 | U17: 0 | V17: 0
C18: 57 | D18: Leitor de código de barras Laser - Fonte de luz Diodo de luz visível de no mínimo 650 nm + 10 nm, Potência do Laser aproximado de 0,96 mW (pico), Profundidade de campo de 0 a 203 mm para códigos de barras de 13 mils, Largura de campo mínimas de 64 mm na face e 249 mm a 203 mm de distância, velocidade de varredura mínima de 72 + 2 varreduras por segundo (bidirecional), padrão de varredura de uma linha, barra mínima de leitura de 5 mils, ativação por infravermelho, longa distância: 0 a 279 mm, curta distância: 0 a 102 mm. Capacidade de decodificação: Auto-discrimina todos os padrões. Interfaceamento RS232C, Teclado PC/AT, Teclado Stand Alone, OCIA, IBM 468X/469X. Contraste 35% mínimo de reflectância. Número de caracteres a ser lido até 80 caracteres Roll, Pitch, Yaw 42º, 68º, 52º . Sinal sonoro 7 tons ou sem sinal. Indicador luminoso Verde: laser ligado, pronto para ler - Vermelho: Boa leitura - Amarelo: (somente o MS9540) = CodeGate ativo. Tensão de entrada de 5 VDC + 0,25 V Potência em operação de aproximadamente 825 mW, Potência em repouso de 600 mW Transformador para DC classe 2; 5.2 VDC @ 650 mA. Classe do laser: CDRH: Classe II; EN60825-1:1994/A11:1996 Classe 1 EMC FCC Classe B. Garantia de fábica de no mínimo 3 anos. | E18: Peça | F18: 449052.35 | G18: 393 | I18: =H18-(SUM(K18:V18)) -> 0 | J18: =IF(I18<0,"ATENÇÃO","OK") -> OK | K18: 0 | L18: 0 | M18: 0 | N18: 0 | O18: 0 | P18: 0 | Q18: 0 | R18: 0 | S18: 0 | T18: 0 | U18: 0 | V18: 0
A19: MARCELO WEINRICH EPP | B19: 25 | C19: 59 | D19: ESTABILIZADOR DE TENSAO, POTENCIA NOMINAL: 1000VA, Tensão de Entrada bivolt (115/220V); Tensão de saída: 115V; Potência nominal: 1000VA; Potência contínua: 1000W; Microprocessado; Filtro de linha integrado; Regulação true RMS; Gabinete em Metal e/ou ABS antichamas; Sinalização visual via led indicado modo de operação da rede; Chave liga/desliga frontal embutida; Mínimo 5 tomadas saída padrão NBR 14136; Cabo de força de entrada padrão NBR 14136 com no mínimo 60cm de comprimento; Proteção de curto circuito; Proteção de surtos de tensão; Proteção sub/sobretensão de rede com desligamento e rearme automático; Proteção de sobre aquecimento; Proteção sobrecarga; Porta fusível externo com uma unidade reserva; Atender a norma NBR 14.373:2006; 3 anos de garantia no mínimo | E19: Peça | F19: 449052.30 | G19: 328.31 | H19: 8 | I19: =H19-(SUM(K19:V19)) -> 8 | J19: =IF(I19<0,"ATENÇÃO","OK") -> OK | K19: 0 | L19: 0 | M19: 0 | N19: 0 | O19: 0 | P19: 0 | Q19: 0 | R19: 0 | S19: 0 | T19: 0 | U19: 0 | V19: 0
C20: 60 | D20: TRANSFORMADOR ESTABILIZADOR DE TENSAO, COM 220/110VOLTS, PADRÃO DGOV - Diretoria de Governança Eletrônica (Órgão da Secretaria de Estado da Administração do Governo Estadual). Padronização conforme o art. 15, inc. I, da Lei Federal 8.666/1993.Potência de saída 600 W; Tensão de entrada de 110VAC ±15 % e 220VAC ±15 %, monofásica, fase/neutro/terra; Frequência de entrada 60 Hz ±5%; Tensão de saída senoidal 220VAC ±6 %, monofásica, fase/neutro/terra; Frequência de saída 60 Hz ± 0,05%; Rendimento de 90%; Fator de potência de saída 0,90; Indicadores de nível de energia; Proteção contra curto circuito, subtensão, sobretensão; Ruído acústico a um metro de distância, menor que 75db (DIN 45635); Gabinete plastico anti-chamas; 4 tomadas de saída padrão NBR141362002; Homologação INMETRO. CONDIÇÔES GERAIS: a) Garantia de hardware do tipo on-site de 3 anos, realizada por empresa autorizada oficialmente pelo fabricante, com tempo de solução em até cinco dias; b) Anexar documentação técnica detalhada oficial do fabricante; c) Indicação no site do fabricante do produto proposto. | E20: Peça | F20: 449052.30 | G20: 269.55 | I20: =H20-(SUM(K20:V20)) -> 0 | J20: =IF(I20<0,"ATENÇÃO","OK") -> OK | K20: 0 | L20: 0 | M20: 0 | N20: 0 | O20: 0 | P20: 0 | Q20: 0 | R20: 0 | S20: 0 | T20: 0 | U20: 0 | V20: 0
C21: 61 | D21: Nobreak 220 volts que suporte CPU, Projetor 283 w e caixa de som 150 w, com autonomia em torno de uma hora e trinta minutos, recarga automática das baterias, mesmo com o nobreak desligado, leds coloridos no painel frontal para indicar as condições de funcionamento do nobreak (modo rede, modo inversor/bateria, final de autonomia, entre outras), alarme audiovisual para sinalizar eventos como queda de rede e fim do tempo de autonomia, entre outros, garantia de, no mínimo, 12 meses, realizada por empresa autorizada oficialmente pelo fabricante, com tempo de solução em até cinco dias e assistência técnica na região, anexar documentação técnica detalhada oficial do fabricante e indicação no site do fabricante do produto proposto. | E21: Peça | F21: 449052.30 | G21: 3286.96 | I21: =H21-(SUM(K21:V21)) -> 0 | J21: =IF(I21<0,"ATENÇÃO","OK") -> OK | K21: 0 | L21: 0 | M21: 0 | N21: 0 | O21: 0 | P21: 0 | Q21: 0 | R21: 0 | S21: 0 | T21: 0 | U21: 0 | V21: 0
A22: BEE2B INFORMÁTICA LTDA ME | B22: 28 | C22: 64 | D22: Fonte de alimentação ATX 2.0 entrada AC com chaveamento automático (110V e 220V), mínimo 300W compatível com Computador Compaq 6005 Pro Microtower PC | E22: Peça | F22: 339030.17 | G22: 301 | I22: =H22-(SUM(K22:V22)) -> 0 | J22: =IF(I22<0,"ATENÇÃO","OK") -> OK | K22: 0 | L22: 0 | M22: 0 | N22: 0 | O22: 0 | P22: 0 | Q22: 0 | R22: 0 | S22: 0 | T22: 0 | U22: 0 | V22: 0
C23: 65 | D23: Processador Phenon II X4 compatível com Placa Mãe HP 531966-001 503335-001 | E23: Peça | F23: 339030.17 | G23: 627.66 | I23: =H23-(SUM(K23:V23)) -> 0 | J23: =IF(I23<0,"ATENÇÃO","OK") -> OK | K23: 0 | L23: 0 | M23: 0 | N23: 0 | O23: 0 | P23: 0 | Q23: 0 | R23: 0 | S23: 0 | T23: 0 | U23: 0 | V23: 0
C24: 66 | D24: Placa Mãe HP 531966-001 503335-001 ou modelo mais novo compatível com HP 6005 Pro Microtower com processador AMD | E24: Peça | F24: 339030.17 | G24: 435.66 | I24: =H24-(SUM(K24:V24)) -> 0 | J24: =IF(I24<0,"ATENÇÃO","OK") -> OK | K24: 0 | L24: 0 | M24: 0 | N24: 0 | O24: 0 | P24: 0 | Q24: 0 | R24: 0 | S24: 0 | T24: 0 | U24: 0 | V24: 0
A25: MARCELO WEINRICH EPP | B25: 29 | C25: 67 | D25: Drive gravador CD/DVD 12x/48X. Interface, SATA, tipo interno. Cor: preto fosco. Velocidade de gravação DVD-R 24x, DVD-R DL 8x, CD-RW 6x. | E25: Peça | F25: 339030.17 | G25: 75 | I25: =H25-(SUM(K25:V25)) -> 0 | J25: =IF(I25<0,"ATENÇÃO","OK") -> OK | K25: 0 | L25: 0 | M25: 0 | N25: 0 | O25: 0 | P25: 0 | Q25: 0 | R25: 0 | S25: 0 | T25: 0 | U25: 0 | V25: 0
A26: MARCELO WEINRICH EPP | B26: 30 | C26: 68 | D26: Adaptador USB Wireless. Taxa de transmissão de até 300 Mbps, faixa de frequencia 2,4 GHz, padrões wirless IEEE 802.11b, g, n. Segurança wirless WEP de 64/128 bit. WPA-PSK, WPA WPA 2, Antena interna. | E26: Peça | F26: 339030.17 | G26: 66 | I26: =H26-(SUM(K26:V26)) -> 0 | J26: =IF(I26<0,"ATENÇÃO","OK") -> OK | K26: 0 | L26: 0 | M26: 0 | N26: 0 | O26: 0 | P26: 0 | Q26: 0 | R26: 0 | S26: 0 | T26: 0 | U26: 0 | V26: 0
A27: HARLEY DE AGUIAR JUNIOR EIRELI EPP | B27: 33 | C27: 71 | D27: Fonte Redundante Kit 750W para servidor HP Proliant ML350 G6 | E27: Peça | F27: 339030.17 | G27: 2730 | I27: =H27-(SUM(K27:V27)) -> 0 | J27: =IF(I27<0,"ATENÇÃO","OK") -> OK | K27: 0 | L27: 0 | M27: 0 | N27: 0 | O27: 0 | P27: 0 | Q27: 0 | R27: 0 | S27: 0 | T27: 0 | U27: 0 | V27: 0
A28: HARLEY DE AGUIAR JUNIOR EIRELI EPP | B28: 37 | C28: 75 | D28: Processador Intel XEON E5504 2.0GHz para servidor HP Proliant ML350 G6 | E28: Peça | F28: 339030.17 | G28: 3595 | I28: =H28-(SUM(K28:V28)) -> 0 | J28: =IF(I28<0,"ATENÇÃO","OK") -> OK | K28: 0 | L28: 0 | M28: 0 | N28: 0 | O28: 0 | P28: 0 | Q28: 0 | R28: 0 | S28: 0 | T28: 0 | U28: 0 | V28: 0
A29: ZOOM TECNOLOGIA LTDA | B29: 39 | C29: 77 | D29: Disco Rígido 3TB NL-SAS 7.2K RPM PN: 02359092 Marca: Huawei. Deverá apresentar declaração do fabricante comprovando compatibilidade do disco rígido com o Storage OceanStor S2600T. Deve ser instalado, por um técnico certificado do fabricante (anexar comprovação), no Storage OceanStor S2600T da FAED e disponibilizado seu espaço de armazenamento no servidor de arquivos. | E29: Peça | F29: 339030.17 | G29: 6780.3 | I29: =H29-(SUM(K29:V29)) -> 0 | J29: =IF(I29<0,"ATENÇÃO","OK") -> OK | K29: 0 | L29: 0 | M29: 0 | N29: 0 | O29: 0 | P29: 0 | Q29: 0 | R29: 0 | S29: 0 | T29: 0 | U29: 0 | V29: 0
D31: Lotes 9 e 10 - Infrutíferos
D32: Lotes 24, 26, 27, 35, 36 e 38 - Desertos
D33: Prazos de entrega e pagamento conforme Termo de Referência

Sheet ESAG
A1: PROCESSO: 0759/2015/UDESC/Relançamento | D1: OBJETO: AQUISIÇÃO DE PEÇAS INCORPORÁVEIS AO COMPUTADOR PARA A UDESC - Relançamento | H1: VIGÊNCIA DA ATA: 29/01/2016 até 28/01/2017 | K1: AF/OS nº xxxx/2016 Qtde. DT | L1: AF/OS nº xxxx/2016 Qtde. DT | M1: AF/OS nº xxxx/2016 Qtde. DT | N1: AF/OS nº xxxx/2016 Qtde. DT | O1: AF/OS nº xxxx/2016 Qtde. DT | P1: AF/OS nº xxxx/2016 Qtde. DT | Q1: AF/OS nº xxxx/2016 Qtde. DT | R1: AF/OS nº xxxx/2016 Qtde. DT | S1: AF/OS nº xxxx/2016 Qtde. DT | T1: AF/OS nº xxxx/2016 Qtde. DT | U1: AF/OS nº xxxx/2016 Qtde. DT | V1: AF/OS nº xxxx/2016 Qtde. DT
A2: CENTRO PARTICIPANTE: ESAG
A3: FORNECEDOR | B3: LOTE | C3: ITEM | D3: PRODUTO - CARACTERÍSTICAS MÍNIMAS | E3: UNIDADE | F3: DETALHAMENTO | G3: Preço UNITÁRIO (R$) | H3: Qtde Registrada | I3: Saldo / Automático | J3: ALERTA | K3: ...../...../...... | L3: ...../...../...... | M3: ...../...../...... | N3: ...../...../...... | O3: ...../...../...... | P3: ...../...../...... | Q3: ...../...../...... | R3: ...../...../...... | S3: ...../...../...... | T3: ...../...../...... | U3: ...../...../...... | V3: ...../...../......
A4: HARLEY DE AGUIAR JUNIOR EIRELI EPP | B4: 13 | C4: 34 | D4: Placa mãe Lenovo Socket LGA775 ou compatível FRU-PartNumber 64Y3055 | E4: Peça | F4: 339030.17 | G4: 984 | I4: =H4-(SUM(K4:V4)) -> 0 | J4: =IF(I4<0,"ATENÇÃO","OK") -> OK | K4: 0 | L4: 0 | M4: 0 | N4: 0 | O4: 0 | P4: 0 | Q4: 0 | R4: 0 | S4: 0 | T4: 0 | U4: 0 | V4: 0
C5: 35 | D5: Placa-mãe Lenovo L-A780 ou compatível (socket AM2) p/ computadores Lenovo Thinkcentre A62-7057 | E5: Peça | F5: 339030.17 | G5: 985 | I5: =H5-(SUM(K5:V5)) -> 0 | J5: =IF(I5<0,"ATENÇÃO","OK") -> OK | K5: 0 | L5: 0 | M5: 0 | N5: 0 | O5: 0 | P5: 0 | Q5: 0 | R5: 0 | S5: 0 | T5: 0 | U5: 0 | V5: 0
A6: BEE2B INFORMÁTICA LTDA ME | B6: 16 | C6: 40 | D6: Caixas de Som com subwoofer integrado e duas caixas de som, com potência mínima de 600W PMPO, entrada com conector padrão mini-jack e RCA (ou adaptador RCA para mini-jack), tensão de alimentação de 220v. | E6: Peça | F6: 339030.17 | G6: 148.88 | I6: =H6-(SUM(K6:V6)) -> 0 | J6: =IF(I6<0,"ATENÇÃO","OK") -> OK | K6: 0 | L6: 0 | M6: 0 | N6: 0 | O6: 0 | P6: 0 | Q6: 0 | R6: 0 | S6: 0 | T6: 0 | U6: 0 | V6: 0
C7: 41 | D7: Caixas de Som com 2 canais estéreos amplificados, controle de volume, botão liga/desliga, saída para fone de ouvido estéreo, LED indicador de liga e desliga, 2 w RMS e alimentação 220v (sem uso de transformador externo). | E7: Peça | F7: 339030.17 | G7: 69.45 | I7: =H7-(SUM(K7:V7)) -> 0 | J7: =IF(I7<0,"ATENÇÃO","OK") -> OK | K7: 0 | L7: 0 | M7: 0 | N7: 0 | O7: 0 | P7: 0 | Q7: 0 | R7: 0 | S7: 0 | T7: 0 | U7: 0 | V7: 0
C8: 42 | D8: Caixa de Som, 1 Subwoofer, 2 caixas Satélites, Potência de saída: 30W RMS, botão iluminado quando ligado, controle de volume, auto Bivolt, dimensões aproximadas: +/- 10 a 15% (Larg x Alt x Prof) 16 x 20 x 20 | E8: Peça | F8: 339030.17 | G8: 287.83 | I8: =H8-(SUM(K8:V8)) -> 0 | J8: =IF(I8<0,"ATENÇÃO","OK") -> OK | K8: 0 | L8: 0 | M8: 0 | N8: 0 | O8: 0 | P8: 0 | Q8: 0 | R8: 0 | S8: 0 | T8: 0 | U8: 0 | V8: 0
A9: MARCELO WEINRICH EPP | B9: 17 | C9: 43 | D9: Fone de ouvido profissional, - Sensibilidade: 98 dB (SPL/mW); - Faixa de frequência: de 10 até 30.000 Hz; - Impedância: 32 Ohms; - Potência Máxima: 300 mW; - Cabo: 2,5 m com conector P2 e adaptador P10 | E9: Peça | F9: 339030.17 | G9: 164.66 | I9: =H9-(SUM(K9:V9)) -> 0 | J9: =IF(I9<0,"ATENÇÃO","OK") -> OK | K9: 0 | L9: 0 | M9: 0 | N9: 0 | O9: 0 | P9: 0 | Q9: 0 | R9: 0 | S9: 0 | T9: 0 | U9: 0 | V9: 0
C10: 44 | D10: Headset (fones de ouvido com microfone): Escala de frequência 20 a 20000Hz. Sensibilidade 105dB/mW. Impedância 32Ohms. Potência máxima: 100 mW. Tamanho do cabo 1,60m (mínimo). Outras características: fones almofadados e revestidos de borracha. | E10: Peça | F10: 339030.17 | G10: 53 | I10: =H10-(SUM(K10:V10)) -> 0 | J10: =IF(I10<0,"ATENÇÃO","OK") -> OK | K10: 0 | L10: 0 | M10: 0 | N10: 0 | O10: 0 | P10: 0 | Q10: 0 | R10: 0 | S10: 0 | T10: 0 | U10: 0 | V10: 0
A11: MARCELO WEINRICH EPP | B11: 19 | C11: 46 | D11: Bateria Lítio 3V CR | E11: Peça | F11: 339030.17 | G11: 1.99 | I11: =H11-(SUM(K11:V11)) -> 0 | J11: =IF(I11<0,"ATENÇÃO","OK") -> OK | K11: 0 | L11: 0 | M11: 0 | N11: 0 | O11: 0 | P11: 0 | Q11: 0 | R11: 0 | S11: 0 | T11: 0 | U11: 0 | V11: 0
A12: BEE2B INFORMÁTICA LTDA ME | B12: 21 | C12: 51 | D12: Adaptador / Conversor p/ tomadas no novo padrão brasileiro NBR-14136, aceitando plugue macho dois pinos chatos, padrão NEMA, 15A-250V~, plugue macho dois pinos chatos + terra, 15A-250V~, plugue macho dois pinos redondos, 10A-250V~, plugue macho dois pinos redondos + terra, 10A-250V~ | E12: Peça | F12: 339030.26 | G12: 14.9 | I12: =H12-(SUM(K12:V12)) -> 0 | J12: =IF(I12<0,"ATENÇÃO","OK") -> OK | K12: 0 | L12: 0 | M12: 0 | N12: 0 | O12: 0 | P12: 0 | Q12: 0 | R12: 0 | S12: 0 | T12: 0 | U12: 0 | V12: 0
C13: 52 | D13: Adaptador / Conversor p/ tomadas no padrão antigo (dois pinos chatos + terra), aceitando plugue do padrão atual brasileiro NBR-14136 | E13: Peça | F13: 339030.26 | G13: 19.9 | I13: =H13-(SUM(K13:V13)) -> 0 | J13: =IF(I13<0,"ATENÇÃO","OK") -> OK | K13: 0 | L13: 0 | M13: 0 | N13: 0 | O13: 0 | P13: 0 | Q13: 0 | R13: 0 | S13: 0 | T13: 0 | U13: 0 | V13: 0
C14: 53 | D14: Filtro de linha com 05 tomadas que aceite o plugue do padrão atual brasileiro NBR-14136, com fusível, chave liga/desliga, indicador luminoso e funcionamento, 220V. | E14: Peça | F14: 339030.26 | G14: 29.9 | H14: 20 | I14: =H14-(SUM(K14:V14)) -> 20 | J14: =IF(I14<0,"ATENÇÃO","OK") -> OK | K14: 0 | L14: 0 | M14: 0 | N14: 0 | O14: 0 | P14: 0 | Q14: 0 | R14: 0 | S14: 0 | T14: 0 | U14: 0 | V14: 0
A15: BEE2B INFORMÁTICA LTDA ME | B15: 22 | C15: 54 | D15: Apresentador sem fio com função de emulação de mouse com um apontador eletrônico (laser) para total controle de apresentação (avançar e retroceder transparências, além de abrir e fechar documentos e aplicativos), com um alcance mínimo de 6 metros através de conexão com o PC pela porta USB. | E15: Peça | F15: 449052.35 | G15: 132.23 | I15: =H15-(SUM(K15:V15)) -> 0 | J15: =IF(I15<0,"ATENÇÃO","OK") -> OK | K15: 0 | L15: 0 | M15: 0 | N15: 0 | O15: 0 | P15: 0 | Q15: 0 | R15: 0 | S15: 0 | T15: 0 | U15: 0 | V15: 0
A16: HARLEY DE AGUIAR JUNIOR EIRELI EPP | B16: 23 | C16: 55 | D16: LEITOR PARA CÓDIGO, DE BARRAS, Leitor Código Barras para porta Usb, com cabo. Velocidade 100 leituras/segundo, Peso 120 g (±10 g), Dimensões 81 mm x 63.5mm e 179 mm e Interfaces USB e Teclado. Características Técnicas: Fonte de luz LED Vermelho 632 nm, Sensor Linear CCD, Ângulo de leitura Lateral ± 25° (±5°) e Frontal 10°~40° (±5°), Profundidade do campo 60 mm, Processador C8051, Resistência a queda 1,5 m. Cabo padrão 1,5 m (±5 cm). Características Ambientais: Temperatura de operação 0ºC a 50ºC, Luz ambiente Lâmpada Fluorescente 5000 Lux Max. / Luz Solar 1500 Lux Max. Características Elétricas: Tensão de entrada + 5V +/- 5% Operação 120 mA (USB) Códigos lidos All UPC/EAN/JAN, EAN128 Code, Code 39, Code 39 Full ASCII, Code32 / Italian Pharmacy, Code 128, CODABAR/NW7, Interleave 25, Industrial 25, Matrix 25, MSI/PLESSEY, Telepen, Code 93, Code 11, China Postage, Code 26, LCD25 e GS1 DataBar Códigos pré-programados All UPC/EAN/JAN, EAN128 Code, Code 39, Code 128, CODABAR/NW7, Interleave 25. Garantia de um ano | E16: Peça | F16: 449052.35 | G16: 207 | I16: =H16-(SUM(K16:V16)) -> 0 | J16: =IF(I16<0,"ATENÇÃO","OK") -> OK | K16: 0 | L16: 0 | M16: 0 | N16: 0 | O16: 0 | P16: 0 | Q16: 0 | R16: 0 | S16: 0 | T16: 0 | U16: 0 | V16: 0
C17: 56 | D17: Leitores de código de barras, conexão usb: Elemento foto detetor: CCD (Charge Coupled Device) de 2048 elementos; Fonte de luz: LEDs, luz vermelha, 660 nm; Velocidade de leitura: 100 varreduras por segundo; Contraste mínimo de impressão dos códigos: 45%; Profundidade de campo: de 0 a 20 mm; Largura da janela de leitura: 82 mm; Largura mínima dos elementos dos códigos (resolução): 0,1 mm; Rejeição à luz ambiente: 1.500 Lux; Padrões de códigos de barras lidos: EAN, UPC, 39, 128, 93, 2 de 5 intercalado; Indicadores de leituras bem sucedidas: Visual (Led) e Sonoro (Beep); Programação: Através do manual ou através do seu Exclusivo programa utilitário; Atualização de Firmware: Por software, pelo próprio usuário; Tensão de alimentação: 5 Vcc +/- 10%; Consumo máximo: 120 mA; Temperatura de operação: de 0 a 50º C; Temperatura de armazenagem: de -10 a 60º C; Umidade tolerável: de 5% até 95% não condensado; Material do corpo: ABS de alto impacto, nas versões bege ou preto; Resistência a quedas: 1,00 metro sobre superfície de concreto; Dimensões físicas (máximas): 180 x 83 x 30 mm; Cabo para conexão USB | F17: 449052.35 | G17: 176 | I17: =H17-(SUM(K17:V17)) -> 0 | J17: =IF(I17<0,"ATENÇÃO","OK") -> OK | K17: 0 | L17: 0 | M17: 0 | N17: 0 | O17: 0 | P17: 0 | Q17: 0 | R17: 0 | S17: 0 | T17: 0 | U17: 0 | V17: 0
C18: 57 | D18: Leitor de código de barras Laser - Fonte de luz Diodo de luz visível de no mínimo 650 nm + 10 nm, Potência do Laser aproximado de 0,96 mW (pico), Profundidade de campo de 0 a 203 mm para códigos de barras de 13 mils, Largura de campo mínimas de 64 mm na face e 249 mm a 203 mm de distância, velocidade de varredura mínima de 72 + 2 varreduras por segundo (bidirecional), padrão de varredura de uma linha, barra mínima de leitura de 5 mils, ativação por infravermelho, longa distância: 0 a 279 mm, curta distância: 0 a 102 mm. Capacidade de decodificação: Auto-discrimina todos os padrões. Interfaceamento RS232C, Teclado PC/AT, Teclado Stand Alone, OCIA, IBM 468X/469X. Contraste 35% mínimo de reflectância. Número de caracteres a ser lido até 80 caracteres Roll, Pitch, Yaw 42º, 68º, 52º . Sinal sonoro 7 tons ou sem sinal. Indicador luminoso Verde: laser ligado, pronto para ler - Vermelho: Boa leitura - Amarelo: (somente o MS9540) = CodeGate ativo. Tensão de entrada de 5 VDC + 0,25 V Potência em operação de aproximadamente 825 mW, Potência em repouso de 600 mW Transformador para DC classe 2; 5.2 VDC @ 650 mA. Classe do laser: CDRH: Classe II; EN60825-1:1994/A11:1996 Classe 1 EMC FCC Classe B. Garantia de fábica de no mínimo 3 anos. | E18: Peça | F18: 449052.35 | G18: 393 | I18: =H18-(SUM(K18:V18)) -> 0 | J18: =IF(I18<0,"ATENÇÃO","OK") -> OK | K18: 0 | L18: 0 | M18: 0 | N18: 0 | O18: 0 | P18: 0 | Q18: 0 | R18: 0 | S18: 0 | T18: 0 | U18: 0 | V18: 0
A19: MARCELO WEINRICH EPP | B19: 25 | C19: 59 | D19: ESTABILIZADOR DE TENSAO, POTENCIA NOMINAL: 1000VA, Tensão de Entrada bivolt (115/220V); Tensão de saída: 115V; Potência nominal: 1000VA; Potência contínua: 1000W; Microprocessado; Filtro de linha integrado; Regulação true RMS; Gabinete em Metal e/ou ABS antichamas; Sinalização visual via led indicado modo de operação da rede; Chave liga/desliga frontal embutida; Mínimo 5 tomadas saída padrão NBR 14136; Cabo de força de entrada padrão NBR 14136 com no mínimo 60cm de comprimento; Proteção de curto circuito; Proteção de surtos de tensão; Proteção sub/sobretensão de rede com desligamento e rearme automático; Proteção de sobre aquecimento; Proteção sobrecarga; Porta fusível externo com uma unidade reserva; Atender a norma NBR 14.373:2006; 3 anos de garantia no mínimo | E19: Peça | F19: 449052.30 | G19: 328.31 | I19: =H19-(SUM(K19:V19)) -> 0 | J19: =IF(I19<0,"ATENÇÃO","OK") -> OK | K19: 0 | L19: 0 | M19: 0 | N19: 0 | O19: 0 | P19: 0 | Q19: 0 | R19: 0 | S19: 0 | T19: 0 | U19: 0 | V19: 0
C20: 60 | D20: TRANSFORMADOR ESTABILIZADOR DE TENSAO, COM 220/110VOLTS, PADRÃO DGOV - Diretoria de Governança Eletrônica (Órgão da Secretaria de Estado da Administração do Governo Estadual). Padronização conforme o art. 15, inc. I, da Lei Federal 8.666/1993.Potência de saída 600 W; Tensão de entrada de 110VAC ±15 % e 220VAC ±15 %, monofásica, fase/neutro/terra; Frequência de entrada 60 Hz ±5%; Tensão de saída senoidal 220VAC ±6 %, monofásica, fase/neutro/terra; Frequência de saída 60 Hz ± 0,05%; Rendimento de 90%; Fator de potência de saída 0,90; Indicadores de nível de energia; Proteção contra curto circuito, subtensão, sobretensão; Ruído acústico a um metro de distância, menor que 75db (DIN 45635); Gabinete plastico anti-chamas; 4 tomadas de saída padrão NBR141362002; Homologação INMETRO. CONDIÇÔES GERAIS: a) Garantia de hardware do tipo on-site de 3 anos, realizada por empresa autorizada oficialmente pelo fabricante, com tempo de solução em até cinco dias; b) Anexar documentação técnica detalhada oficial do fabricante; c) Indicação no site do fabricante do produto proposto. | E20: Peça | F20: 449052.30 | G20: 269.55 | I20: =H20-(SUM(K20:V20)) -> 0 | J20: =IF(I20<0,"ATENÇÃO","OK") -> OK | K20: 0 | L20: 0 | M20: 0 | N20: 0 | O20: 0 | P20: 0 | Q20: 0 | R20: 0 | S20: 0 | T20: 0 | U20: 0 | V20: 0
C21: 61 | D21: Nobreak 220 volts que suporte CPU, Projetor 283 w e caixa de som 150 w, com autonomia em torno de uma hora e trinta minutos, recarga automática das baterias, mesmo com o nobreak desligado, leds coloridos no painel frontal para indicar as condições de funcionamento do nobreak (modo rede, modo inversor/bateria, final de autonomia, entre outras), alarme audiovisual para sinalizar eventos como queda de rede e fim do tempo de autonomia, entre outros, garantia de, no mínimo, 12 meses, realizada por empresa autorizada oficialmente pelo fabricante, com tempo de solução em até cinco dias e assistência técnica na região, anexar documentação técnica detalhada oficial do fabricante e indicação no site do fabricante do produto proposto. | E21: Peça | F21: 449052.30 | G21: 3286.96 | I21: =H21-(SUM(K21:V21)) -> 0 | J21: =IF(I21<0,"ATENÇÃO","OK") -> OK | K21: 0 | L21: 0 | M21: 0 | N21: 0 | O21: 0 | P21: 0 | Q21: 0 | R21: 0 | S21: 0 | T21: 0 | U21: 0 | V21: 0
A22: BEE2B INFORMÁTICA LTDA ME | B22: 28 | C22: 64 | D22: Fonte de alimentação ATX 2.0 entrada AC com chaveamento automático (110V e 220V), mínimo 300W compatível com Computador Compaq 6005 Pro Microtower PC | E22: Peça | F22: 339030.17 | G22: 301 | I22: =H22-(SUM(K22:V22)) -> 0 | J22: =IF(I22<0,"ATENÇÃO","OK") -> OK | K22: 0 | L22: 0 | M22: 0 | N22: 0 | O22: 0 | P22: 0 | Q22: 0 | R22: 0 | S22: 0 | T22: 0 | U22: 0 | V22: 0
C23: 65 | D23: Processador Phenon II X4 compatível com Placa Mãe HP 531966-001 503335-001 | E23: Peça | F23: 339030.17 | G23: 627.66 | I23: =H23-(SUM(K23:V23)) -> 0 | J23: =IF(I23<0,"ATENÇÃO","OK") -> OK | K23: 0 | L23: 0 | M23: 0 | N23: 0 | O23: 0 | P23: 0 | Q23: 0 | R23: 0 | S23: 0 | T23: 0 | U23: 0 | V23: 0
C24: 66 | D24: Placa Mãe HP 531966-001 503335-001 ou modelo mais novo compatível com HP 6005 Pro Microtower com processador AMD | E24: Peça | F24: 339030.17 | G24: 435.66 | I24: =H24-(SUM(K24:V24)) -> 0 | J24: =IF(I24<0,"ATENÇÃO","OK") -> OK | K24: 0 | L24: 0 | M24: 0 | N24: 0 | O24: 0 | P24: 0 | Q24: 0 | R24: 0 | S24: 0 | T24: 0 | U24: 0 | V24: 0
A25: MARCELO WEINRICH EPP | B25: 29 | C25: 67 | D25: Drive gravador CD/DVD 12x/48X. Interface, SATA, tipo interno. Cor: preto fosco. Velocidade de gravação DVD-R 24x, DVD-R DL 8x, CD-RW 6x. | E25: Peça | F25: 339030.17 | G25: 75 | I25: =H25-(SUM(K25:V25)) -> 0 | J25: =IF(I25<0,"ATENÇÃO","OK") -> OK | K25: 0 | L25: 0 | M25: 0 | N25: 0 | O25: 0 | P25: 0 | Q25: 0 | R25: 0 | S25: 0 | T25: 0 | U25: 0 | V25: 0
A26: MARCELO WEINRICH EPP | B26: 30 | C26: 68 | D26: Adaptador USB Wireless. Taxa de transmissão de até 300 Mbps, faixa de frequencia 2,4 GHz, padrões wirless IEEE 802.11b, g, n. Segurança wirless WEP de 64/128 bit. WPA-PSK, WPA WPA 2, Antena interna. | E26: Peça | F26: 339030.17 | G26: 66 | I26: =H26-(SUM(K26:V26)) -> 0 | J26: =IF(I26<0,"ATENÇÃO","OK") -> OK | K26: 0 | L26: 0 | M26: 0 | N26: 0 | O26: 0 | P26: 0 | Q26: 0 | R26: 0 | S26: 0 | T26: 0 | U26: 0 | V26: 0
A27: HARLEY DE AGUIAR JUNIOR EIRELI EPP | B27: 33 | C27: 71 | D27: Fonte Redundante Kit 750W para servidor HP Proliant ML350 G6 | E27: Peça | F27: 339030.17 | G27: 2730 | I27: =H27-(SUM(K27:V27)) -> 0 | J27: =IF(I27<0,"ATENÇÃO","OK") -> OK | K27: 0 | L27: 0 | M27: 0 | N27: 0 | O27: 0 | P27: 0 | Q27: 0 | R27: 0 | S27: 0 | T27: 0 | U27: 0 | V27: 0
A28: HARLEY DE AGUIAR JUNIOR EIRELI EPP | B28: 37 | C28: 75 | D28: Processador Intel XEON E5504 2.0GHz para servidor HP Proliant ML350 G6 | E28: Peça | F28: 339030.17 | G28: 3595 | I28: =H28-(SUM(K28:V28)) -> 0 | J28: =IF(I28<0,"ATENÇÃO","OK") -> OK | K28: 0 | L28: 0 | M28: 0 | N28: 0 | O28: 0 | P28: 0 | Q28: 0 | R28: 0 | S28: 0 | T28: 0 | U28: 0 | V28: 0
A29: ZOOM TECNOLOGIA LTDA | B29: 39 | C29: 77 | D29: Disco Rígido 3TB NL-SAS 7.2K RPM PN: 02359092 Marca: Huawei. Deverá apresentar declaração do fabricante comprovando compatibilidade do disco rígido com o Storage OceanStor S2600T. Deve ser instalado, por um técnico certificado do fabricante (anexar comprovação), no Storage OceanStor S2600T da FAED e disponibilizado seu espaço de armazenamento no servidor de arquivos. | E29: Peça | F29: 339030.17 | G29: 6780.3 | I29: =H29-(SUM(K29:V29)) -> 0 | J29: =IF(I29<0,"ATENÇÃO","OK") -> OK | K29: 0 | L29: 0 | M29: 0 | N29: 0 | O29: 0 | P29: 0 | Q29: 0 | R29: 0 | S29: 0 | T29: 0 | U29: 0 | V29: 0
D31: Lotes 9 e 10 - Infrutíferos
D32: Lotes 24, 26, 27, 35, 36 e 38 - Desertos
D33: Prazos de entrega e pagamento conforme Termo de Referência

Sheet CEART
A1: PROCESSO: 0759/2015/UDESC/Relançamento | D1: OBJETO: AQUISIÇÃO DE PEÇAS INCORPORÁVEIS AO COMPUTADOR PARA A UDESC - Relançamento | H1: VIGÊNCIA DA ATA: 29/01/2016 até 28/01/2017 | K1: AF/OS nº xxxx/2016 Qtde. DT | L1: AF/OS nº xxxx/2016 Qtde. DT | M1: AF/OS nº xxxx/2016 Qtde. DT | N1: AF/OS nº xxxx/2016 Qtde. DT | O1: AF/OS nº xxxx/2016 Qtde. DT | P1: AF/OS nº xxxx/2016 Qtde. DT | Q1: AF/OS nº xxxx/2016 Qtde. DT | R1: AF/OS nº xxxx/2016 Qtde. DT | S1: AF/OS nº xxxx/2016 Qtde. DT | T1: AF/OS nº xxxx/2016 Qtde. DT | U1: AF/OS nº xxxx/2016 Qtde. DT | V1: AF/OS nº xxxx/2016 Qtde. DT
A2: CENTRO PARTICIPANTE: CEART
A3: FORNECEDOR | B3: LOTE | C3: ITEM | D3: PRODUTO - CARACTERÍSTICAS MÍNIMAS | E3: UNIDADE | F3: DETALHAMENTO | G3: Preço UNITÁRIO (R$) | H3: Qtde Registrada | I3: Saldo / Automático | J3: ALERTA | K3: ...../...../...... | L3: ...../...../...... | M3: ...../...../...... | N3: ...../...../...... | O3: ...../...../...... | P3: ...../...../...... | Q3: ...../...../...... | R3: ...../...../...... | S3: ...../...../...... | T3: ...../...../...... | U3: ...../...../...... | V3: ...../...../......
A4: HARLEY DE AGUIAR JUNIOR EIRELI EPP | B4: 13 | C4: 34 | D4: Placa mãe Lenovo Socket LGA775 ou compatível FRU-PartNumber 64Y3055 | E4: Peça | F4: 339030.17 | G4: 984 | I4: =H4-(SUM(K4:V4)) -> 0 | J4: =IF(I4<0,"ATENÇÃO","OK") -> OK | K4: 0 | L4: 0 | M4: 0 | N4: 0 | O4: 0 | P4: 0 | Q4: 0 | R4: 0 | S4: 0 | T4: 0 | U4: 0 | V4: 0
C5: 35 | D5: Placa-mãe Lenovo L-A780 ou compatível (socket AM2) p/ computadores Lenovo Thinkcentre A62-7057 | E5: Peça | F5: 339030.17 | G5: 985 | I5: =H5-(SUM(K5:V5)) -> 0 | J5: =IF(I5<0,"ATENÇÃO","OK") -> OK | K5: 0 | L5: 0 | M5: 0 | N5: 0 | O5: 0 | P5: 0 | Q5: 0 | R5: 0 | S5: 0 | T5: 0 | U5: 0 | V5: 0
A6: BEE2B INFORMÁTICA LTDA ME | B6: 16 | C6: 40 | D6: Caixas de Som com subwoofer integrado e duas caixas de som, com potência mínima de 600W PMPO, entrada com conector padrão mini-jack e RCA (ou adaptador RCA para mini-jack), tensão de alimentação de 220v. | E6: Peça | F6: 339030.17 | G6: 148.88 | I6: =H6-(SUM(K6:V6)) -> 0 | J6: =IF(I6<0,"ATENÇÃO","OK") -> OK | K6: 0 | L6: 0 | M6: 0 | N6: 0 | O6: 0 | P6: 0 | Q6: 0 | R6: 0 | S6: 0 | T6: 0 | U6: 0 | V6: 0
C7: 41 | D7: Caixas de Som com 2 canais estéreos amplificados, controle de volume, botão liga/desliga, saída para fone de ouvido estéreo, LED indicador de liga e desliga, 2 w RMS e alimentação 220v (sem uso de transformador externo). | E7: Peça | F7: 339030.17 | G7: 69.45 | H7: 2 | I7: =H7-(SUM(K7:V7)) -> 2 | J7: =IF(I7<0,"ATENÇÃO","OK") -> OK | K7: 0 | L7: 0 | M7: 0 | N7: 0 | O7: 0 | P7: 0 | Q7: 0 | R7: 0 | S7: 0 | T7: 0 | U7: 0 | V7: 0
C8: 42 | D8: Caixa de Som, 1 Subwoofer, 2 caixas Satélites, Potência de saída: 30W RMS, botão iluminado quando ligado, controle de volume, auto Bivolt, dimensões aproximadas: +/- 10 a 15% (Larg x Alt x Prof) 16 x 20 x 20 | E8: Peça | F8: 339030.17 | G8: 287.83 | H8: 40 | I8: =H8-(SUM(K8:V8)) -> 40 | J8: =IF(I8<0,"ATENÇÃO","OK") -> OK | K8: 0 | L8: 0 | M8: 0 | N8: 0 | O8: 0 | P8: 0 | Q8: 0 | R8: 0 | S8: 0 | T8: 0 | U8: 0 | V8: 0
A9: MARCELO WEINRICH EPP | B9: 17 | C9: 43 | D9: Fone de ouvido profissional, - Sensibilidade: 98 dB (SPL/mW); - Faixa de frequência: de 10 até 30.000 Hz; - Impedância: 32 Ohms; - Potência Máxima: 300 mW; - Cabo: 2,5 m com conector P2 e adaptador P10 | E9: Peça | F9: 339030.17 | G9: 164.66 | I9: =H9-(SUM(K9:V9)) -> 0 | J9: =IF(I9<0,"ATENÇÃO","OK") -> OK | K9: 0 | L9: 0 | M9: 0 | N9: 0 | O9: 0 | P9: 0 | Q9: 0 | R9: 0 | S9: 0 | T9: 0 | U9: 0 | V9: 0
C10: 44 | D10: Headset (fones de ouvido com microfone): Escala de frequência 20 a 20000Hz. Sensibilidade 105dB/mW. Impedância 32Ohms. Potência máxima: 100 mW. Tamanho do cabo 1,60m (mínimo). Outras características: fones almofadados e revestidos de borracha. | E10: Peça | F10: 339030.17 | G10: 53 | I10: =H10-(SUM(K10:V10)) -> 0 | J10: =IF(I10<0,"ATENÇÃO","OK") -> OK | K10: 0 | L10: 0 | M10: 0 | N10: 0 | O10: 0 | P10: 0 | Q10: 0 | R10: 0 | S10: 0 | T10: 0 | U10: 0 | V10: 0
A11: MARCELO WEINRICH EPP | B11: 19 | C11: 46 | D11: Bateria Lítio 3V CR | E11: Peça | F11: 339030.17 | G11: 1.99 | I11: =H11-(SUM(K11:V11)) -> 0 | J11: =IF(I11<0,"ATENÇÃO","OK") -> OK | K11: 0 | L11: 0 | M11: 0 | N11: 0 | O11: 0 | P11: 0 | Q11: 0 | R11: 0 | S11: 0 | T11: 0 | U11: 0 | V11: 0
A12: BEE2B INFORMÁTICA LTDA ME | B12: 21 | C12: 51 | D12: Adaptador / Conversor p/ tomadas no novo padrão brasileiro NBR-14136, aceitando plugue macho dois pinos chatos, padrão NEMA, 15A-250V~, plugue macho dois pinos chatos + terra, 15A-250V~, plugue macho dois pinos redondos, 10A-250V~, plugue macho dois pinos redondos + terra, 10A-250V~ | E12: Peça | F12: 339030.26 | G12: 14.9 | H12: 5 | I12: =H12-(SUM(K12:V12)) -> 5 | J12: =IF(I12<0,"ATENÇÃO","OK") -> OK | K12: 0 | L12: 0 | M12: 0 | N12: 0 | O12: 0 | P12: 0 | Q12: 0 | R12: 0 | S12: 0 | T12: 0 | U12: 0 | V12: 0
C13: 52 | D13: Adaptador / Conversor p/ tomadas no padrão antigo (dois pinos chatos + terra), aceitando plugue do padrão atual brasileiro NBR-14136 | E13: Peça | F13: 339030.26 | G13: 19.9 | I13: =H13-(SUM(K13:V13)) -> 0 | J13: =IF(I13<0,"ATENÇÃO","OK") -> OK | K13: 0 | L13: 0 | M13: 0 | N13: 0 | O13: 0 | P13: 0 | Q13: 0 | R13: 0 | S13: 0 | T13: 0 | U13: 0 | V13: 0
C14: 53 | D14: Filtro de linha com 05 tomadas que aceite o plugue do padrão atual brasileiro NBR-14136, com fusível, chave liga/desliga, indicador luminoso e funcionamento, 220V. | E14: Peça | F14: 339030.26 | G14: 29.9 | H14: 2 | I14: =H14-(SUM(K14:V14)) -> 2 | J14: =IF(I14<0,"ATENÇÃO","OK") -> OK | K14: 0 | L14: 0 | M14: 0 | N14: 0 | O14: 0 | P14: 0 | Q14: 0 | R14: 0 | S14: 0 | T14: 0 | U14: 0 | V14: 0
A15: BEE2B INFORMÁTICA LTDA ME | B15: 22 | C15: 54 | D15: Apresentador sem fio com função de emulação de mouse com um apontador eletrônico (laser) para total controle de apresentação (avançar e retroceder transparências, além de abrir e fechar documentos e aplicativos), com um alcance mínimo de 6 metros através de conexão com o PC pela porta USB. | E15: Peça | F15: 449052.35 | G15: 132.23 | I15: =H15-(SUM(K15:V15)) -> 0 | J15: =IF(I15<0,"ATENÇÃO","OK") -> OK | K15: 0 | L15: 0 | M15: 0 | N15: 0 | O15: 0 | P15: 0 | Q15: 0 | R15: 0 | S15: 0 | T15: 0 | U15: 0 | V15: 0
A16: HARLEY DE AGUIAR JUNIOR EIRELI EPP | B16: 23 | C16: 55 | D16: LEITOR PARA CÓDIGO, DE BARRAS, Leitor Código Barras para porta Usb, com cabo. Velocidade 100 leituras/segundo, Peso 120 g (±10 g), Dimensões 81 mm x 63.5mm e 179 mm e Interfaces USB e Teclado. Características Técnicas: Fonte de luz LED Vermelho 632 nm, Sensor Linear CCD, Ângulo de leitura Lateral ± 25° (±5°) e Frontal 10°~40° (±5°), Profundidade do campo 60 mm, Processador C8051, Resistência a queda 1,5 m. Cabo padrão 1,5 m (±5 cm). Características Ambientais: Temperatura de operação 0ºC a 50ºC, Luz ambiente Lâmpada Fluorescente 5000 Lux Max. / Luz Solar 1500 Lux Max. Características Elétricas: Tensão de entrada + 5V +/- 5% Operação 120 mA (USB) Códigos lidos All UPC/EAN/JAN, EAN128 Code, Code 39, Code 39 Full ASCII, Code32 / Italian Pharmacy, Code 128, CODABAR/NW7, Interleave 25, Industrial 25, Matrix 25, MSI/PLESSEY, Telepen, Code 93, Code 11, China Postage, Code 26, LCD25 e GS1 DataBar Códigos pré-programados All UPC/EAN/JAN, EAN128 Code, Code 39, Code 128, CODABAR/NW7, Interleave 25. Garantia de um ano | E16: Peça | F16: 449052.35 | G16: 207 | I16: =H16-(SUM(K16:V16)) -> 0 | J16: =IF(I16<0,"ATENÇÃO","OK") -> OK | K16: 0 | L16: 0 | M16: 0 | N16: 0 | O16: 0 | P16: 0 | Q16: 0 | R16: 0 | S16: 0 | T16: 0 | U16: 0 | V16: 0
C17: 56 | D17: Leitores de código de barras, conexão usb: Elemento foto detetor: CCD (Charge Coupled Device) de 2048 elementos; Fonte de luz: LEDs, luz vermelha, 660 nm; Velocidade de leitura: 100 varreduras por segundo; Contraste mínimo de impressão dos códigos: 45%; Profundidade de campo: de 0 a 20 mm; Largura da janela de leitura: 82 mm; Largura mínima dos elementos dos códigos (resolução): 0,1 mm; Rejeição à luz ambiente: 1.500 Lux; Padrões de códigos de barras lidos: EAN, UPC, 39, 128, 93, 2 de 5 intercalado; Indicadores de leituras bem sucedidas: Visual (Led) e Sonoro (Beep); Programação: Através do manual ou através do seu Exclusivo programa utilitário; Atualização de Firmware: Por software, pelo próprio usuário; Tensão de alimentação: 5 Vcc +/- 10%; Consumo máximo: 120 mA; Temperatura de operação: de 0 a 50º C; Temperatura de armazenagem: de -10 a 60º C; Umidade tolerável: de 5% até 95% não condensado; Material do corpo: ABS de alto impacto, nas versões bege ou preto; Resistência a quedas: 1,00 metro sobre superfície de concreto; Dimensões físicas (máximas): 180 x 83 x 30 mm; Cabo para conexão USB | F17: 449052.35 | G17: 176 | I17: =H17-(SUM(K17:V17)) -> 0 | J17: =IF(I17<0,"ATENÇÃO","OK") -> OK | K17: 0 | L17: 0 | M17: 0 | N17: 0 | O17: 0 | P17: 0 | Q17: 0 | R17: 0 | S17: 0 | T17: 0 | U17: 0 | V17: 0
C18: 57 | D18: Leitor de código de barras Laser - Fonte de luz Diodo de luz visível de no mínimo 650 nm + 10 nm, Potência do Laser aproximado de 0,96 mW (pico), Profundidade de campo de 0 a 203 mm para códigos de barras de 13 mils, Largura de campo mínimas de 64 mm na face e 249 mm a 203 mm de distância, velocidade de varredura mínima de 72 + 2 varreduras por segundo (bidirecional), padrão de varredura de uma linha, barra mínima de leitura de 5 mils, ativação por infravermelho, longa distância: 0 a 279 mm, curta distância: 0 a 102 mm. Capacidade de decodificação: Auto-discrimina todos os padrões. Interfaceamento RS232C, Teclado PC/AT, Teclado Stand Alone, OCIA, IBM 468X/469X. Contraste 35% mínimo de reflectância. Número de caracteres a ser lido até 80 caracteres Roll, Pitch, Yaw 42º, 68º, 52º . Sinal sonoro 7 tons ou sem sinal. Indicador luminoso Verde: laser ligado, pronto para ler - Vermelho: Boa leitura - Amarelo: (somente o MS9540) = CodeGate ativo. Tensão de entrada de 5 VDC + 0,25 V Potência em operação de aproximadamente 825 mW, Potência em repouso de 600 mW Transformador para DC classe 2; 5.2 VDC @ 650 mA. Classe do laser: CDRH: Classe II; EN60825-1:1994/A11:1996 Classe 1 EMC FCC Classe B. Garantia de fábica de no mínimo 3 anos. | E18: Peça | F18: 449052.35 | G18: 393 | I18: =H18-(SUM(K18:V18)) -> 0 | J18: =IF(I18<0,"ATENÇÃO","OK") -> OK | K18: 0 | L18: 0 | M18: 0 | N18: 0 | O18: 0 | P18: 0 | Q18: 0 | R18: 0 | S18: 0 | T18: 0 | U18: 0 | V18: 0
A19: MARCELO WEINRICH EPP | B19: 25 | C19: 59 | D19: ESTABILIZADOR DE TENSAO, POTENCIA NOMINAL: 1000VA, Tensão de Entrada bivolt (115/220V); Tensão de saída: 115V; Potência nominal: 1000VA; Potência contínua: 1000W; Microprocessado; Filtro de linha integrado; Regulação true RMS; Gabinete em Metal e/ou ABS antichamas; Sinalização visual via led indicado modo de operação da rede; Chave liga/desliga frontal embutida; Mínimo 5 tomadas saída padrão NBR 14136; Cabo de força de entrada padrão NBR 14136 com no mínimo 60cm de comprimento; Proteção de curto circuito; Proteção de surtos de tensão; Proteção sub/sobretensão de rede com desligamento e rearme automático; Proteção de sobre aquecimento; Proteção sobrecarga; Porta fusível externo com uma unidade reserva; Atender a norma NBR 14.373:2006; 3 anos de garantia no mínimo | E19: Peça | F19: 449052.30 | G19: 328.31 | H19: 5 | I19: =H19-(SUM(K19:V19)) -> 5 | J19: =IF(I19<0,"ATENÇÃO","OK") -> OK | K19: 0 | L19: 0 | M19: 0 | N19: 0 | O19: 0 | P19: 0 | Q19: 0 | R19: 0 | S19: 0 | T19: 0 | U19: 0 | V19: 0
C20: 60 | D20: TRANSFORMADOR ESTABILIZADOR DE TENSAO, COM 220/110VOLTS, PADRÃO DGOV - Diretoria de Governança Eletrônica (Órgão da Secretaria de Estado da Administração do Governo Estadual). Padronização conforme o art. 15, inc. I, da Lei Federal 8.666/1993.Potência de saída 600 W; Tensão de entrada de 110VAC ±15 % e 220VAC ±15 %, monofásica, fase/neutro/terra; Frequência de entrada 60 Hz ±5%; Tensão de saída senoidal 220VAC ±6 %, monofásica, fase/neutro/terra; Frequência de saída 60 Hz ± 0,05%; Rendimento de 90%; Fator de potência de saída 0,90; Indicadores de nível de energia; Proteção contra curto circuito, subtensão, sobretensão; Ruído acústico a um metro de distância, menor que 75db (DIN 45635); Gabinete plastico anti-chamas; 4 tomadas de saída padrão NBR141362002; Homologação INMETRO. CONDIÇÔES GERAIS: a) Garantia de hardware do tipo on-site de 3 anos, realizada por empresa autorizada oficialmente pelo fabricante, com tempo de solução em até cinco dias; b) Anexar documentação técnica detalhada oficial do fabricante; c) Indicação no site do fabricante do produto proposto. | E20: Peça | F20: 449052.30 | G20: 269.55 | I20: =H20-(SUM(K20:V20)) -> 0 | J20: =IF(I20<0,"ATENÇÃO","OK") -> OK | K20: 0 | L20: 0 | M20: 0 | N20: 0 | O20: 0 | P20: 0 | Q20: 0 | R20: 0 | S20: 0 | T20: 0 | U20: 0 | V20: 0
C21: 61 | D21: Nobreak 220 volts que suporte CPU, Projetor 283 w e caixa de som 150 w, com autonomia em torno de uma hora e trinta minutos, recarga automática das baterias, mesmo com o nobreak desligado, leds coloridos no painel frontal para indicar as condições de funcionamento do nobreak (modo rede, modo inversor/bateria, final de autonomia, entre outras), alarme audiovisual para sinalizar eventos como queda de rede e fim do tempo de autonomia, entre outros, garantia de, no mínimo, 12 meses, realizada por empresa autorizada oficialmente pelo fabricante, com tempo de solução em até cinco dias e assistência técnica na região, anexar documentação técnica detalhada oficial do fabricante e indicação no site do fabricante do produto proposto. | E21: Peça | F21: 449052.30 | G21: 3286.96 | H21: 1 | I21: =H21-(SUM(K21:V21)) -> 1 | J21: =IF(I21<0,"ATENÇÃO","OK") -> OK | K21: 0 | L21: 0 | M21: 0 | N21: 0 | O21: 0 | P21: 0 | Q21: 0 | R21: 0 | S21: 0 | T21: 0 | U21: 0 | V21: 0
A22: BEE2B INFORMÁTICA LTDA ME | B22: 28 | C22: 64 | D22: Fonte de alimentação ATX 2.0 entrada AC com chaveamento automático (110V e 220V), mínimo 300W compatível com Computador Compaq 6005 Pro Microtower PC | E22: Peça | F22: 339030.17 | G22: 301 | I22: =H22-(SUM(K22:V22)) -> 0 | J22: =IF(I22<0,"ATENÇÃO","OK") -> OK | K22: 0 | L22: 0 | M22: 0 | N22: 0 | O22: 0 | P22: 0 | Q22: 0 | R22: 0 | S22: 0 | T22: 0 | U22: 0 | V22: 0
C23: 65 | D23: Processador Phenon II X4 compatível com Placa Mãe HP 531966-001 503335-001 | E23: Peça | F23: 339030.17 | G23: 627.66 | I23: =H23-(SUM(K23:V23)) -> 0 | J23: =IF(I23<0,"ATENÇÃO","OK") -> OK | K23: 0 | L23: 0 | M23: 0 | N23: 0 | O23: 0 | P23: 0 | Q23: 0 | R23: 0 | S23: 0 | T23: 0 | U23: 0 | V23: 0
C24: 66 | D24: Placa Mãe HP 531966-001 503335-001 ou modelo mais novo compatível com HP 6005 Pro Microtower com processador AMD | E24: Peça | F24: 339030.17 | G24: 435.66 | I24: =H24-(SUM(K24:V24)) -> 0 | J24: =IF(I24<0,"ATENÇÃO","OK") -> OK | K24: 0 | L24: 0 | M24: 0 | N24: 0 | O24: 0 | P24: 0 | Q24: 0 | R24: 0 | S24: 0 | T24: 0 | U24: 0 | V24: 0
A25: MARCELO WEINRICH EPP | B25: 29 | C25: 67 | D25: Drive gravador CD/DVD 12x/48X. Interface, SATA, tipo interno. Cor: preto fosco. Velocidade de gravação DVD-R 24x, DVD-R DL 8x, CD-RW 6x. | E25: Peça | F25: 339030.17 | G25: 75 | I25: =H25-(SUM(K25:V25)) -> 0 | J25: =IF(I25<0,"ATENÇÃO","OK") -> OK | K25: 0 | L25: 0 | M25: 0 | N25: 0 | O25: 0 | P25: 0 | Q25: 0 | R25: 0 | S25: 0 | T25: 0 | U25: 0 | V25: 0
A26: MARCELO WEINRICH EPP | B26: 30 | C26: 68 | D26: Adaptador USB Wireless. Taxa de transmissão de até 300 Mbps, faixa de frequencia 2,4 GHz, padrões wirless IEEE 802.11b, g, n. Segurança wirless WEP de 64/128 bit. WPA-PSK, WPA WPA 2, Antena interna. | E26: Peça | F26: 339030.17 | G26: 66 | I26: =H26-(SUM(K26:V26)) -> 0 | J26: =IF(I26<0,"ATENÇÃO","OK") -> OK | K26: 0 | L26: 0 | M26: 0 | N26: 0 | O26: 0 | P26: 0 | Q26: 0 | R26: 0 | S26: 0 | T26: 0 | U26: 0 | V26: 0
A27: HARLEY DE AGUIAR JUNIOR EIRELI EPP | B27: 33 | C27: 71 | D27: Fonte Redundante Kit 750W para servidor HP Proliant ML350 G6 | E27: Peça | F27: 339030.17 | G27: 2730 | I27: =H27-(SUM(K27:V27)) -> 0 | J27: =IF(I27<0,"ATENÇÃO","OK") -> OK | K27: 0 | L27: 0 | M27: 0 | N27: 0 | O27: 0 | P27: 0 | Q27: 0 | R27: 0 | S27: 0 | T27: 0 | U27: 0 | V27: 0
A28: HARLEY DE AGUIAR JUNIOR EIRELI EPP | B28: 37 | C28: 75 | D28: Processador Intel XEON E5504 2.0GHz para servidor HP Proliant ML350 G6 | E28: Peça | F28: 339030.17 | G28: 3595 | I28: =H28-(SUM(K28:V28)) -> 0 | J28: =IF(I28<0,"ATENÇÃO","OK") -> OK | K28: 0 | L28: 0 | M28: 0 | N28: 0 | O28: 0 | P28: 0 | Q28: 0 | R28: 0 | S28: 0 | T28: 0 | U28: 0 | V28: 0
A29: ZOOM TECNOLOGIA LTDA | B29: 39 | C29: 77 | D29: Disco Rígido 3TB NL-SAS 7.2K RPM PN: 02359092 Marca: Huawei. Deverá apresentar declaração do fabricante comprovando compatibilidade do disco rígido com o Storage OceanStor S2600T. Deve ser instalado, por um técnico certificado do fabricante (anexar comprovação), no Storage OceanStor S2600T da FAED e disponibilizado seu espaço de armazenamento no servidor de arquivos. | E29: Peça | F29: 339030.17 | G29: 6780.3 | I29: =H29-(SUM(K29:V29)) -> 0 | J29: =IF(I29<0,"ATENÇÃO","OK") -> OK | K29: 0 | L29: 0 | M29: 0 | N29: 0 | O29: 0 | P29: 0 | Q29: 0 | R29: 0 | S29: 0 | T29: 0 | U29: 0 | V29: 0
D31: Lotes 9 e 10 - Infrutíferos
D32: Lotes 24, 26, 27, 35, 36 e 38 - Desertos
D33: Prazos de entrega e pagamento conforme Termo de Referência

Sheet FAED
A1: PROCESSO: 0759/2015/UDESC/Relançamento | D1: OBJETO: AQUISIÇÃO DE PEÇAS INCORPORÁVEIS AO COMPUTADOR PARA A UDESC - Relançamento | H1: VIGÊNCIA DA ATA: 29/01/2016 até 28/01/2017 | K1: AF/OS nº xxxx/2016 Qtde. DT | L1: AF/OS nº xxxx/2016 Qtde. DT | M1: AF/OS nº xxxx/2016 Qtde. DT | N1: AF/OS nº xxxx/2016 Qtde. DT | O1: AF/OS nº xxxx/2016 Qtde. DT | P1: AF/OS nº xxxx/2016 Qtde. DT | Q1: AF/OS nº xxxx/2016 Qtde. DT | R1: AF/OS nº xxxx/2016 Qtde. DT | S1: AF/OS nº xxxx/2016 Qtde. DT | T1: AF/OS nº xxxx/2016 Qtde. DT | U1: AF/OS nº xxxx/2016 Qtde. DT | V1: AF/OS nº xxxx/2016 Qtde. DT
A2: CENTRO PARTICIPANTE: FAED
A3: FORNECEDOR | B3: LOTE | C3: ITEM | D3: PRODUTO - CARACTERÍSTICAS MÍNIMAS | E3: UNIDADE | F3: DETALHAMENTO | G3: Preço UNITÁRIO (R$) | H3: Qtde Registrada | I3: Saldo / Automático | J3: ALERTA | K3: ...../...../...... | L3: ...../...../...... | M3: ...../...../...... | N3: ...../...../...... | O3: ...../...../...... | P3: ...../...../...... | Q3: ...../...../...... | R3: ...../...../...... | S3: ...../...../...... | T3: ...../...../...... | U3: ...../...../...... | V3: ...../...../......
A4: HARLEY DE AGUIAR JUNIOR EIRELI EPP | B4: 13 | C4: 34 | D4: Placa mãe Lenovo Socket LGA775 ou compatível FRU-PartNumber 64Y3055 | E4: Peça | F4: 339030.17 | G4: 984 | I4: =H4-(SUM(K4:V4)) -> 0 | J4: =IF(I4<0,"ATENÇÃO","OK") -> OK | K4: 0 | L4: 0 | M4: 0 | N4: 0 | O4: 0 | P4: 0 | Q4: 0 | R4: 0 | S4: 0 | T4: 0 | U4: 0 | V4: 0
C5: 35 | D5: Placa-mãe Lenovo L-A780 ou compatível (socket AM2) p/ computadores Lenovo Thinkcentre A62-7057 | E5: Peça | F5: 339030.17 | G5: 985 | I5: =H5-(SUM(K5:V5)) -> 0 | J5: =IF(I5<0,"ATENÇÃO","OK") -> OK | K5: 0 | L5: 0 | M5: 0 | N5: 0 | O5: 0 | P5: 0 | Q5: 0 | R5: 0 | S5: 0 | T5: 0 | U5: 0 | V5: 0
A6: BEE2B INFORMÁTICA LTDA ME | B6: 16 | C6: 40 | D6: Caixas de Som com subwoofer integrado e duas caixas de som, com potência mínima de 600W PMPO, entrada com conector padrão mini-jack e RCA (ou adaptador RCA para mini-jack), tensão de alimentação de 220v. | E6: Peça | F6: 339030.17 | G6: 148.88 | I6: =H6-(SUM(K6:V6)) -> 0 | J6: =IF(I6<0,"ATENÇÃO","OK") -> OK | K6: 0 | L6: 0 | M6: 0 | N6: 0 | O6: 0 | P6: 0 | Q6: 0 | R6: 0 | S6: 0 | T6: 0 | U6: 0 | V6: 0
C7: 41 | D7: Caixas de Som com 2 canais estéreos amplificados, controle de volume, botão liga/desliga, saída para fone de ouvido estéreo, LED indicador de liga e desliga, 2 w RMS e alimentação 220v (sem uso de transformador externo). | E7: Peça | F7: 339030.17 | G7: 69.45 | I7: =H7-(SUM(K7:V7)) -> 0 | J7: =IF(I7<0,"ATENÇÃO","OK") -> OK | K7: 0 | L7: 0 | M7: 0 | N7: 0 | O7: 0 | P7: 0 | Q7: 0 | R7: 0 | S7: 0 | T7: 0 | U7: 0 | V7: 0
C8: 42 | D8: Caixa de Som, 1 Subwoofer, 2 caixas Satélites, Potência de saída: 30W RMS, botão iluminado quando ligado, controle de volume, auto Bivolt, dimensões aproximadas: +/- 10 a 15% (Larg x Alt x Prof) 16 x 20 x 20 | E8: Peça | F8: 339030.17 | G8: 287.83 | I8: =H8-(SUM(K8:V8)) -> 0 | J8: =IF(I8<0,"ATENÇÃO","OK") -> OK | K8: 0 | L8: 0 | M8: 0 | N8: 0 | O8: 0 | P8: 0 | Q8: 0 | R8: 0 | S8: 0 | T8: 0 | U8: 0 | V8: 0
A9: MARCELO WEINRICH EPP | B9: 17 | C9: 43 | D9: Fone de ouvido profissional, - Sensibilidade: 98 dB (SPL/mW); - Faixa de frequência: de 10 até 30.000 Hz; - Impedância: 32 Ohms; - Potência Máxima: 300 mW; - Cabo: 2,5 m com conector P2 e adaptador P10 | E9: Peça | F9: 339030.17 | G9: 164.66 | I9: =H9-(SUM(K9:V9)) -> 0 | J9: =IF(I9<0,"ATENÇÃO","OK") -> OK | K9: 0 | L9: 0 | M9: 0 | N9: 0 | O9: 0 | P9: 0 | Q9: 0 | R9: 0 | S9: 0 | T9: 0 | U9: 0 | V9: 0
C10: 44 | D10: Headset (fones de ouvido com microfone): Escala de frequência 20 a 20000Hz. Sensibilidade 105dB/mW. Impedância 32Ohms. Potência máxima: 100 mW. Tamanho do cabo 1,60m (mínimo). Outras características: fones almofadados e revestidos de borracha. | E10: Peça | F10: 339030.17 | G10: 53 | I10: =H10-(SUM(K10:V10)) -> 0 | J10: =IF(I10<0,"ATENÇÃO","OK") -> OK | K10: 0 | L10: 0 | M10: 0 | N10: 0 | O10: 0 | P10: 0 | Q10: 0 | R10: 0 | S10: 0 | T10: 0 | U10: 0 | V10: 0
A11: MARCELO WEINRICH EPP | B11: 19 | C11: 46 | D11: Bateria Lítio 3V CR | E11: Peça | F11: 339030.17 | G11: 1.99 | I11: =H11-(SUM(K11:V11)) -> 0 | J11: =IF(I11<0,"ATENÇÃO","OK") -> OK | K11: 0 | L11: 0 | M11: 0 | N11: 0 | O11: 0 | P11: 0 | Q11: 0 | R11: 0 | S11: 0 | T11: 0 | U11: 0 | V11: 0
A12: BEE2B INFORMÁTICA LTDA ME | B12: 21 | C12: 51 | D12: Adaptador / Conversor p/ tomadas no novo padrão brasileiro NBR-14136, aceitando plugue macho dois pinos chatos, padrão NEMA, 15A-250V~, plugue macho dois pinos chatos + terra, 15A-250V~, plugue macho dois pinos redondos, 10A-250V~, plugue macho dois pinos redondos + terra, 10A-250V~ | E12: Peça | F12: 339030.26 | G12: 14.9 | H12: 20 | I12: =H12-(SUM(K12:V12)) -> 20 | J12: =IF(I12<0,"ATENÇÃO","OK") -> OK | K12: 0 | L12: 0 | M12: 0 | N12: 0 | O12: 0 | P12: 0 | Q12: 0 | R12: 0 | S12: 0 | T12: 0 | U12: 0 | V12: 0
C13: 52 | D13: Adaptador / Conversor p/ tomadas no padrão antigo (dois pinos chatos + terra), aceitando plugue do padrão atual brasileiro NBR-14136 | E13: Peça | F13: 339030.26 | G13: 19.9 | H13: 20 | I13: =H13-(SUM(K13:V13)) -> 20 | J13: =IF(I13<0,"ATENÇÃO","OK") -> OK | K13: 0 | L13: 0 | M13: 0 | N13: 0 | O13: 0 | P13: 0 | Q13: 0 | R13: 0 | S13: 0 | T13: 0 | U13: 0 | V13: 0
C14: 53 | D14: Filtro de linha com 05 tomadas que aceite o plugue do padrão atual brasileiro NBR-14136, com fusível, chave liga/desliga, indicador luminoso e funcionamento, 220V. | E14: Peça | F14: 339030.26 | G14: 29.9 | H14: 20 | I14: =H14-(SUM(K14:V14)) -> 20 | J14: =IF(I14<0,"ATENÇÃO","OK") -> OK | K14: 0 | L14: 0 | M14: 0 | N14: 0 | O14: 0 | P14: 0 | Q14: 0 | R14: 0 | S14: 0 | T14: 0 | U14: 0 | V14: 0
A15: BEE2B INFORMÁTICA LTDA ME | B15: 22 | C15: 54 | D15: Apresentador sem fio com função de emulação de mouse com um apontador eletrônico (laser) para total controle de apresentação (avançar e retroceder transparências, além de abrir e fechar documentos e aplicativos), com um alcance mínimo de 6 metros através de conexão com o PC pela porta USB. | E15: Peça | F15: 449052.35 | G15: 132.23 | I15: =H15-(SUM(K15:V15)) -> 0 | J15: =IF(I15<0,"ATENÇÃO","OK") -> OK | K15: 0 | L15: 0 | M15: 0 | N15: 0 | O15: 0 | P15: 0 | Q15: 0 | R15: 0 | S15: 0 | T15: 0 | U15: 0 | V15: 0
A16: HARLEY DE AGUIAR JUNIOR EIRELI EPP | B16: 23 | C16: 55 | D16: LEITOR PARA CÓDIGO, DE BARRAS, Leitor Código Barras para porta Usb, com cabo. Velocidade 100 leituras/segundo, Peso 120 g (±10 g), Dimensões 81 mm x 63.5mm e 179 mm e Interfaces USB e Teclado. Características Técnicas: Fonte de luz LED Vermelho 632 nm, Sensor Linear CCD, Ângulo de leitura Lateral ± 25° (±5°) e Frontal 10°~40° (±5°), Profundidade do campo 60 mm, Processador C8051, Resistência a queda 1,5 m. Cabo padrão 1,5 m (±5 cm). Características Ambientais: Temperatura de operação 0ºC a 50ºC, Luz ambiente Lâmpada Fluorescente 5000 Lux Max. / Luz Solar 1500 Lux Max. Características Elétricas: Tensão de entrada + 5V +/- 5% Operação 120 mA (USB) Códigos lidos All UPC/EAN/JAN, EAN128 Code, Code 39, Code 39 Full ASCII, Code32 / Italian Pharmacy, Code 128, CODABAR/NW7, Interleave 25, Industrial 25, Matrix 25, MSI/PLESSEY, Telepen, Code 93, Code 11, China Postage, Code 26, LCD25 e GS1 DataBar Códigos pré-programados All UPC/EAN/JAN, EAN128 Code, Code 39, Code 128, CODABAR/NW7, Interleave 25. Garantia de um ano | E16: Peça | F16: 449052.35 | G16: 207 | I16: =H16-(SUM(K16:V16)) -> 0 | J16: =IF(I16<0,"ATENÇÃO","OK") -> OK | K16: 0 | L16: 0 | M16: 0 | N16: 0 | O16: 0 | P16: 0 | Q16: 0 | R16: 0 | S16: 0 | T16: 0 | U16: 0 | V16: 0
