Workbook
Name CEPLAN: #REF!
Name CEPLAN: #REF!
Name CEPLAN: #REF!
Name diasuteis: #REF!
Name diasuteis: #REF!
Name diasuteis: #REF!
Name diasuteis: #REF!
Name diasuteis: #REF!
Name diasuteis: #REF!
Name diasuteis: #REF!
Name Ferias: #REF!
Name Ferias: #REF!
Name Ferias: #REF!
Name Ferias: #REF!
Name Ferias: #REF!
Name Ferias: #REF!
Name Ferias: #REF!
Name RD: OFFSET(#REF!,(MATCH(SMALL(#REF!,ROW()-10),#REF!,0)-1),0)
Name RD: OFFSET(#REF!,(MATCH(SMALL(#REF!,ROW()-10),#REF!,0)-1),0)
Name RD: OFFSET(#REF!,(MATCH(SMALL(#REF!,ROW()-10),#REF!,0)-1),0)
Name RD: OFFSET(#REF!,(MATCH(SMALL(#REF!,ROW()-10),#REF!,0)-1),0)
Name RD: OFFSET(#REF!,(MATCH(SMALL(#REF!,ROW()-10),#REF!,0)-1),0)
Name RD: OFFSET(#REF!,(MATCH(SMALL(#REF!,ROW()-10),#REF!,0)-1),0)
Name RD: OFFSET(#REF!,(MATCH(SMALL(#REF!,ROW()-10),#REF!,0)-1),0)

Sheet REITORIA
A1: PROCESSO: 0759/2015/UDESC | D1: OBJETO: AQUISIÇÃO DE PEÇAS INCORPORÁVEIS AO COMPUTADOR PARA A UDESC | I1: VIGÊNCIA DA ATA: 21/09/2015 até 20/09/2016 | L1: AF/OS nº xxxx/2015 Qtde. DT | M1: AF/OS nº xxxx/2015 Qtde. DT | N1: AF/OS nº xxxx/2015 Qtde. DT | O1: AF/OS nº xxxx/2015 Qtde. DT | P1: AF/OS nº xxxx/2015 Qtde. DT | Q1: AF/OS nº xxxx/2015 Qtde. DT | R1: AF/OS nº xxxx/2015 Qtde. DT | S1: AF/OS nº xxxx/2015 Qtde. DT | T1: AF/OS nº xxxx/2015 Qtde. DT | U1: AF/OS nº xxxx/2015 Qtde. DT | V1: AF/OS nº xxxx/2015 Qtde. DT | W1: AF/OS nº xxxx/2015 Qtde. DT
A2: CENTRO PARTICIPANTE: REITORIA
A3: FORNECEDOR | B3: LOTE | C3: ITEM | D3: PRODUTO - CARACTERÍSTICAS MÍNIMAS | E3: UNIDADE | F3: MARCA | G3: DETALHAMENTO | H3: Preço UNITÁRIO (R$) | I3: Qtde Registrada | J3: Saldo / Automático | K3: ALERTA | L3: ...../...../...... | M3: ...../...../...... | N3: ...../...../...... | O3: ...../...../...... | P3: ...../...../...... | Q3: ...../...../...... | R3: ...../...../...... | S3: ...../...../...... | T3: ...../...../...... | U3: ...../...../...... | V3: ...../...../...... | W3: ...../...../......
A4: RICARL DISTRIBUIDORA EIRELI ME | B4: 1 | C4: 1 | D4: Conjunto de 4 pilhas recarregáveis do tipo NiMH, tamanho AA de 2700 mAh. | E4: Peça | F4: ELGIM | G4: 339030.26 | H4: 42.01 | I4: 4 | J4: =I4-(SUM(L4:W4)) -> 4 | K4: =IF(J4<0,"ATENÇÃO","OK") -> OK | L4: 0 | M4: 0 | N4: 0 | O4: 0 | P4: 0 | Q4: 0 | R4: 0 | S4: 0 | T4: 0 | U4: 0 | V4: 0 | W4: 0
C5: 2 | D5: Conjunto de 4 pilhas recarregáveis do tipo NiMH, tamanho AAA. | E5: Peça | F5: ELGIM | G5: 339030.26 | H5: 18.62 | I5: 4 | J5: =I5-(SUM(L5:W5)) -> 4 | K5: =IF(J5<0,"ATENÇÃO","OK") -> OK | L5: 0 | M5: 0 | N5: 0 | O5: 0 | P5: 0 | Q5: 0 | R5: 0 | S5: 0 | T5: 0 | U5: 0 | V5: 0 | W5: 0
C6: 3 | D6: Carregador Rápido de Baterias AA e AAA, Carga total em 3h, potência de Carga 2100 mAh | E6: Peça | F6: SONY | G6: 339030.26 | H6: 95 | J6: =I6-(SUM(L6:W6)) -> 0 | K6: =IF(J6<0,"ATENÇÃO","OK") -> OK | L6: 0 | M6: 0 | N6: 0 | O6: 0 | P6: 0 | Q6: 0 | R6: 0 | S6: 0 | T6: 0 | U6: 0 | V6: 0 | W6: 0
A7: FABRICIO SONCINI EQPTOS DE INFORMÁTICA ME | B7: 2 | C7: 4 | D7: HD SATA II - capacidade 500 Gb, 7200 RPM, 3.0 Gb/s com tecnologia S.M.A.R.T. Com cabos de força e comunicação. | E7: Peça | F7: SEAGATE | G7: 339030.17 | H7: 250 | J7: =I7-(SUM(L7:W7)) -> 0 | K7: =IF(J7<0,"ATENÇÃO","OK") -> OK | L7: 0 | M7: 0 | N7: 0 | O7: 0 | P7: 0 | Q7: 0 | R7: 0 | S7: 0 | T7: 0 | U7: 0 | V7: 0 | W7: 0
C8: 5 | D8: HD SATA II - capacidade 1 Tb, 7200 RPM, 3.0 Gb/s com tecnologia S.M.A.R.T. Com cabos de força e comunicação. | E8: Peça | F8: SEAGATE | G8: 339030.17 | H8: 360.08 | I8: 4 | J8: =I8-(SUM(L8:W8)) -> 4 | K8: =IF(J8<0,"ATENÇÃO","OK") -> OK | L8: 0 | M8: 0 | N8: 0 | O8: 0 | P8: 0 | Q8: 0 | R8: 0 | S8: 0 | T8: 0 | U8: 0 | V8: 0 | W8: 0
C9: 6 | D9: HD SATA II - capacidade 2 Tb, 7200 RPM, 3.0 Gb/s com tecnologia S.M.A.R.T. Com cabos de força e comunicação. | E9: Peça | F9: SEAGATE | G9: 339030.17 | H9: 558 | I9: 4 | J9: =I9-(SUM(L9:W9)) -> 4 | K9: =IF(J9<0,"ATENÇÃO","OK") -> OK | L9: 0 | M9: 0 | N9: 0 | O9: 0 | P9: 0 | Q9: 0 | R9: 0 | S9: 0 | T9: 0 | U9: 0 | V9: 0 | W9: 0
A10: BEE2B INFORMÁTICA LTDA ME | B10: 3 | C10: 7 | D10: HD Externo de 500 Gb com interface USB 3.0, alimentação via USB, LED indicativo de funcionamento, taxa de transferência de 480 Mbps, incluso cabo de conexão USB. | E10: Peça | F10: WD | G10: 449052.35 | H10: 326.43 | J10: =I10-(SUM(L10:W10)) -> 0 | K10: =IF(J10<0,"ATENÇÃO","OK") -> OK | L10: 0 | M10: 0 | N10: 0 | O10: 0 | P10: 0 | Q10: 0 | R10: 0 | S10: 0 | T10: 0 | U10: 0 | V10: 0 | W10: 0
C11: 8 | D11: HD Externo de 1 Tb com interface USB 3.0, alimentação via USB, LED indicativo de funcionamento, taxa de transferência de 480 Mbps, incluso cabo de conexão USB. | E11: Peça | F11: SEAGATE | G11: 449052.35 | H11: 414.2 | I11: 4 | J11: =I11-(SUM(L11:W11)) -> 4 | K11: =IF(J11<0,"ATENÇÃO","OK") -> OK | L11: 0 | M11: 0 | N11: 0 | O11: 0 | P11: 0 | Q11: 0 | R11: 0 | S11: 0 | T11: 0 | U11: 0 | V11: 0 | W11: 0
C12: 9 | D12: HD Externo de 2 Tb com interface USB 3.0, alimentação via USB, LED indicativo de funcionamento, taxa de transferência de 480 Mbps, incluso cabo de conexão USB. | E12: Peça | F12: TOSHIBA | G12: 449052.35 | H12: 552.83 | I12: 4 | J12: =I12-(SUM(L12:W12)) -> 4 | K12: =IF(J12<0,"ATENÇÃO","OK") -> OK | L12: 0 | M12: 0 | N12: 0 | O12: 0 | P12: 0 | Q12: 0 | R12: 0 | S12: 0 | T12: 0 | U12: 0 | V12: 0 | W12: 0
A13: RICARL DISTRIBUIDORA EIRELI ME | B13: 4 | C13: 10 | D13: Pen Drive 64 Gb USB 3.0 | E13: Peça | F13: SANDISK | G13: 339030.17 | H13: 189.3 | I13: 12 | J13: =I13-(SUM(L13:W13)) -> 12 | K13: =IF(J13<0,"ATENÇÃO","OK") -> OK | L13: 0 | M13: 0 | N13: 0 | O13: 0 | P13: 0 | Q13: 0 | R13: 0 | S13: 0 | T13: 0 | U13: 0 | V13: 0 | W13: 0
C14: 11 | D14: Pen Drive 32 Gb USB 3.0 | E14: Peça | F14: SANDISK | G14: 339030.17 | H14: 105 | I14: 12 | J14: =I14-(SUM(L14:W14)) -> 12 | K14: =IF(J14<0,"ATENÇÃO","OK") -> OK | L14: 0 | M14: 0 | N14: 0 | O14: 0 | P14: 0 | Q14: 0 | R14: 0 | S14: 0 | T14: 0 | U14: 0 | V14: 0 | W14: 0
C15: 12 | D15: Pen Drive 16 Gb USB 3.0 | E15: Peça | F15: SANDISK | G15: 339030.17 | H15: 68 | J15: =I15-(SUM(L15:W15)) -> 0 | K15: =IF(J15<0,"ATENÇÃO","OK") -> OK | L15: 0 | M15: 0 | N15: 0 | O15: 0 | P15: 0 | Q15: 0 | R15: 0 | S15: 0 | T15: 0 | U15: 0 | V15: 0 | W15: 0
A16: FABRICIO SONCINI EQPTOS DE INFORMÁTICA ME | B16: 5 | C16: 13 | D16: Pente de Memória 4 Gb DDR3-1066 | E16: Peça | F16: MARKVISION | G16: 339030.17 | H16: 197.64 | I16: 8 | J16: =I16-(SUM(L16:W16)) -> 8 | K16: =IF(J16<0,"ATENÇÃO","OK") -> OK | L16: 0 | M16: 0 | N16: 0 | O16: 0 | P16: 0 | Q16: 0 | R16: 0 | S16: 0 | T16: 0 | U16: 0 | V16: 0 | W16: 0
C17: 14 | D17: Pente de Memória 4 Gb DDR2-800 | E17: Peça | F17: KINGSTON | G17: 339030.17 | H17: 269 | I17: 8 | J17: =I17-(SUM(L17:W17)) -> 8 | K17: =IF(J17<0,"ATENÇÃO","OK") -> OK | L17: 0 | M17: 0 | N17: 0 | O17: 0 | P17: 0 | Q17: 0 | R17: 0 | S17: 0 | T17: 0 | U17: 0 | V17: 0 | W17: 0
C18: 15 | D18: Pente de Memória 2 Gb DDR2-667 | E18: Peça | F18: KINGSTON | G18: 339030.17 | H18: 133.11 | J18: =I18-(SUM(L18:W18)) -> 0 | K18: =IF(J18<0,"ATENÇÃO","OK") -> OK | L18: 0 | M18: 0 | N18: 0 | O18: 0 | P18: 0 | Q18: 0 | R18: 0 | S18: 0 | T18: 0 | U18: 0 | V18: 0 | W18: 0
A19: BEE2B INFORMÁTICA LTDA ME | B19: 6 | C19: 16 | D19: Processador AMD Athlon 64 X2 2.6 Ghz (5000B / Socket AM2) | E19: Peça | F19: ATHLON | G19: 339030.17 | H19: 435.95 | J19: =I19-(SUM(L19:W19)) -> 0 | K19: =IF(J19<0,"ATENÇÃO","OK") -> OK | L19: 0 | M19: 0 | N19: 0 | O19: 0 | P19: 0 | Q19: 0 | R19: 0 | S19: 0 | T19: 0 | U19: 0 | V19: 0 | W19: 0
C20: 17 | D20: Processador Intel Core 2 Duo 3 Ghz ou superior compatível com o socket LGA775 | E20: Peça | F20: INTEL | G20: 339030.17 | H20: 486.86 | J20: =I20-(SUM(L20:W20)) -> 0 | K20: =IF(J20<0,"ATENÇÃO","OK") -> OK | L20: 0 | M20: 0 | N20: 0 | O20: 0 | P20: 0 | Q20: 0 | R20: 0 | S20: 0 | T20: 0 | U20: 0 | V20: 0 | W20: 0
A21: MM COMÉRCIO DE EQPTOS LTDA ME | B21: 7 | C21: 18 | D21: Apoio de punho (teclado) ergonômico em gel. | E21: Peça | F21: PISC | G21: 339030.17 | H21: 41.09 | J21: =I21-(SUM(L21:W21)) -> 0 | K21: =IF(J21<0,"ATENÇÃO","OK") -> OK | L21: 0 | M21: 0 | N21: 0 | O21: 0 | P21: 0 | Q21: 0 | R21: 0 | S21: 0 | T21: 0 | U21: 0 | V21: 0 | W21: 0
C22: 19 | D22: Mouse pad com apoio ergonômico de gel | E22: Peça | F22: PISC | G22: 339030.17 | H22: 25.92 | J22: =I22-(SUM(L22:W22)) -> 0 | K22: =IF(J22<0,"ATENÇÃO","OK") -> OK | L22: 0 | M22: 0 | N22: 0 | O22: 0 | P22: 0 | Q22: 0 | R22: 0 | S22: 0 | T22: 0 | U22: 0 | V22: 0 | W22: 0
A23: BEE2B INFORMÁTICA LTDA ME | B23: 8 | C23: 20 | D23: Mouse Wireless com Apontador Laser ( Mouse Laser Bluetooth, Apresentador de Slides, Apontador Laser e Controle Remoto de Multimídia), com botão Ligar/Desligar, conexão Bluetooth de 2.4 Ghz, com estojo. | E23: Peça | F23: MICROSOFT | G23: 339030.17 | H23: 180 | I23: 12 | J23: =I23-(SUM(L23:W23)) -> 12 | K23: =IF(J23<0,"ATENÇÃO","OK") -> OK | L23: 0 | M23: 0 | N23: 0 | O23: 0 | P23: 0 | Q23: 0 | R23: 0 | S23: 0 | T23: 0 | U23: 0 | V23: 0 | W23: 0
C24: 21 | D24: Mouse USB preto (óptico 3 botões net scroll), (não o optomecânico) | E24: Peça | F24: LEADER TECH | G24: 339030.17 | H24: 15.5 | I24: 16 | J24: =I24-(SUM(L24:W24)) -> 16 | K24: =IF(J24<0,"ATENÇÃO","OK") -> OK | L24: 0 | M24: 0 | N24: 0 | O24: 0 | P24: 0 | Q24: 0 | R24: 0 | S24: 0 | T24: 0 | U24: 0 | V24: 0 | W24: 0
C25: 22 | D25: Teclado Wireless, padrão ABNT II Português; teclas com funções internet e multimídia; botão de rolagem no teclado (scroll); teclas de atalho para a função office; 256 endereços de Ids por canal; tecnologia RF (rádio frequência) amplo ângulo de transmissão de sinal; com apoio para pulso, previne L.E.R. | E25: Peça | F25: MULTILASER | G25: 339030.17 | H25: 152 | I25: 12 | J25: =I25-(SUM(L25:W25)) -> 12 | K25: =IF(J25<0,"ATENÇÃO","OK") -> OK | L25: 0 | M25: 0 | N25: 0 | O25: 0 | P25: 0 | Q25: 0 | R25: 0 | S25: 0 | T25: 0 | U25: 0 | V25: 0 | W25: 0
C26: 23 | D26: Teclado USB preto Padrão ABNT2 | E26: Peça | F26: MULTILASER | G26: 339030.17 | H26: 27 | I26: 16 | J26: =I26-(SUM(L26:W26)) -> 16 | K26: =IF(J26<0,"ATENÇÃO","OK") -> OK | L26: 0 | M26: 0 | N26: 0 | O26: 0 | P26: 0 | Q26: 0 | R26: 0 | S26: 0 | T26: 0 | U26: 0 | V26: 0 | W26: 0
A27: Infrutífero | B27: 9 | C27: 24 | D27: Mini-teclado numérico USB para PC, interface USB, cor preto, Comprimento do cabo de 1,80 m ou mais, dimensões 110/75/10 mm (Prof/Larg/Alt), fonte de alimentação PC / via USB, compatibilidade com Windows 2000 Windows 98 (SE) Windows ME Windows XP e com teclas de zero a 9 | E27: Peça | G27: 339030.17
C28: 25 | D28: Teclado PIN para senha 12 teclas com conexão para teclado, com display. | E28: Peça | G28: 339030.17
C29: 26 | D29: Teclado PIN: Mini-teclado numérico USB para desktops e notebooks. Função numérica e matemática com as quatro principais operações. Teclado formato slim com teclas e base finas. Tecla backspace para correção e Enter. | E29: Peça | G29: 339030.17
A30: Deserto | B30: 10 | C30: 27 | D30: Placa de Som PCI-e Creative Sound Blaster Audigy Rx, Processador de áudio: Creative E-MU, Relação Sinal para ruído (SNR): 106dB, Opções de conectividade (principais), Headphone Saída: 1 x 3.5mm jack compartilhada com Saída Frontal, Saída de linha: 1 x 3.5mm jack (Saída Frontal) 1 x 3.5mm jack (Rear / Side R) 1 x 3.5mm jack (C / Sub / Side L), Entrada de linha: 1 x 3,5 mm jack, Entrada de microfone: 2 x 3,5 mm jack, Saída ótica: 1 x TOSLINK, Amplificador dos fones de ouvido: Até 600 Ohms | E30: Peça | G30: 339030.17
A31: PERFORM TECNOLOGIA EIRELI EPP | B31: 11 | C31: 28 | D31: Placa de Rede 10/100/1000 PCI | E31: Peça | F31: INTELBRAS | G31: 339030.17 | H31: 65 | J31: =I31-(SUM(L31:W31)) -> 0 | K31: =IF(J31<0,"ATENÇÃO","OK") -> OK | L31: 0 | M31: 0 | N31: 0 | O31: 0 | P31: 0 | Q31: 0 | R31: 0 | S31: 0 | T31: 0 | U31: 0 | V31: 0 | W31: 0
C32: 29 | D32: Placa de Rede 10/100/1000 PCI-e | E32: Peça | F32: INTELBRAS | G32: 339030.17 | H32: 84.7 | J32: =I32-(SUM(L32:W32)) -> 0 | K32: =IF(J32<0,"ATENÇÃO","OK") -> OK | L32: 0 | M32: 0 | N32: 0 | O32: 0 | P32: 0 | Q32: 0 | R32: 0 | S32: 0 | T32: 0 | U32: 0 | V32: 0 | W32: 0
C33: 30 | D33: Placa de Rede Wireless, PCI-e, com antena externa, compativel com sinal 2,4 Ghz | E33: Peça | F33: INTELBRAS | G33: 339030.17 | H33: 75 | J33: =I33-(SUM(L33:W33)) -> 0 | K33: =IF(J33<0,"ATENÇÃO","OK") -> OK | L33: 0 | M33: 0 | N33: 0 | O33: 0 | P33: 0 | Q33: 0 | R33: 0 | S33: 0 | T33: 0 | U33: 0 | V33: 0 | W33: 0
A34: PERFORM TECNOLOGIA EIRELI EPP | B34: 12 | C34: 31 | D34: Placa de Vídeo PCI express 512 Mb | E34: Peça | F34: POWER COLOR | G34: 339030.17 | H34: 180 | J34: =I34-(SUM(L34:W34)) -> 0 | K34: =IF(J34<0,"ATENÇÃO","OK") -> OK | L34: 0 | M34: 0 | N34: 0 | O34: 0 | P34: 0 | Q34: 0 | R34: 0 | S34: 0 | T34: 0 | U34: 0 | V34: 0 | W34: 0
C35: 32 | D35: Placa de Vídeo 1 Gb Vga/Dvi/Hdmi (pricipalmente com HDMI) | E35: Peça | F35: POWER COLOR | G35: 339030.17 | H35: 150 | J35: =I35-(SUM(L35:W35)) -> 0 | K35: =IF(J35<0,"ATENÇÃO","OK") -> OK | L35: 0 | M35: 0 | N35: 0 | O35: 0 | P35: 0 | Q35: 0 | R35: 0 | S35: 0 | T35: 0 | U35: 0 | V35: 0 | W35: 0
C36: 33 | D36: Placa de Vídeo 2 Gb 256 bits Dual Dvi PCI-e | E36: Peça | F36: GIGABYTE | G36: 339030.17 | H36: 1232.25 | J36: =I36-(SUM(L36:W36)) -> 0 | K36: =IF(J36<0,"ATENÇÃO","OK") -> OK | L36: 0 | M36: 0 | N36: 0 | O36: 0 | P36: 0 | Q36: 0 | R36: 0 | S36: 0 | T36: 0 | U36: 0 | V36: 0 | W36: 0
A37: Deserto | B37: 13 | C37: 34 | D37: Placa mãe Lenovo Socket LGA775 ou compatível FRU-PartNumber 64Y3055 | E37: Peça | G37: 339030.17
C38: 35 | D38: Placa-mãe Lenovo L-A780 ou compatível (socket AM2) p/ computadores Lenovo Thinkcentre A62-7057 | E38: Peça | G38: 339030.17
A39: MM COMÉRCIO DE EQPTOS LTDA ME | B39: 14 | C39: 36 | D39: Spray para limpeza de contatos elétricos e componentes eletrônicos. Embalagem de 300 ml. | E39: Peça | F39: ORBI | G39: 339030.17 | H39: 28.69 | I39: 20 | J39: =I39-(SUM(L39:W39)) -> 20 | K39: =IF(J39<0,"ATENÇÃO","OK") -> OK | L39: 0 | M39: 0 | N39: 0 | O39: 0 | P39: 0 | Q39: 0 | R39: 0 | S39: 0 | T39: 0 | U39: 0 | V39: 0 | W39: 0
C40: 37 | D40: Pasta térmica: Condutividade térmica (Wmk) 1,2 Wmk (norma técnica ISSO 8301:1991). Ponto de gota inexistente. | E40: Peça | F40: TEKBOND | G40: 339030.17 | H40: 14.8 | J40: =I40-(SUM(L40:W40)) -> 0 | K40: =IF(J40<0,"ATENÇÃO","OK") -> OK | L40: 0 | M40: 0 | N40: 0 | O40: 0 | P40: 0 | Q40: 0 | R40: 0 | S40: 0 | T40: 0 | U40: 0 | V40: 0 | W40: 0
...

Sheet ESAG
A1: PROCESSO: 0759/2015/UDESC | D1: OBJETO: AQUISIÇÃO DE PEÇAS INCORPORÁVEIS AO COMPUTADOR PARA A UDESC | I1: VIGÊNCIA DA ATA: 21/09/2015 até 20/09/2016 | L1: AF/OS nº 2115/2015 Qtde. DT | M1: AF/OS nº xxxx/2015 Qtde. DT | N1: AF/OS nº xxxx/2015 Qtde. DT | O1: AF/OS nº xxxx/2015 Qtde. DT | P1: AF/OS nº xxxx/2015 Qtde. DT | Q1: AF/OS nº xxxx/2015 Qtde. DT | R1: AF/OS nº xxxx/2015 Qtde. DT | S1: AF/OS nº xxxx/2015 Qtde. DT | T1: AF/OS nº xxxx/2015 Qtde. DT | U1: AF/OS nº xxxx/2015 Qtde. DT | V1: AF/OS nº xxxx/2015 Qtde. DT | W1: AF/OS nº xxxx/2015 Qtde. DT
A2: CENTRO PARTICIPANTE: ESAG
A3: FORNECEDOR | B3: LOTE | C3: ITEM | D3: PRODUTO - CARACTERÍSTICAS MÍNIMAS | E3: UNIDADE | F3: MARCA | G3: DETALHAMENTO | H3: Preço UNITÁRIO (R$) | I3: Qtde Registrada | J3: Saldo / Automático | K3: ALERTA | L3: ...../...../...... | M3: ...../...../...... | N3: ...../...../...... | O3: ...../...../...... | P3: ...../...../...... | Q3: ...../...../...... | R3: ...../...../...... | S3: ...../...../...... | T3: ...../...../...... | U3: ...../...../...... | V3: ...../...../...... | W3: ...../...../......
A4: RICARL DISTRIBUIDORA EIRELI ME | B4: 1 | C4: 1 | D4: Conjunto de 4 pilhas recarregáveis do tipo NiMH, tamanho AA de 2700 mAh. | E4: Peça | F4: ELGIM | G4: 339030.26 | H4: 42.01 | J4: =I4-(SUM(L4:W4)) -> 0 | K4: =IF(J4<0,"ATENÇÃO","OK") -> OK | M4: 0 | N4: 0 | O4: 0 | P4: 0 | Q4: 0 | R4: 0 | S4: 0 | T4: 0 | U4: 0 | V4: 0 | W4: 0
C5: 2 | D5: Conjunto de 4 pilhas recarregáveis do tipo NiMH, tamanho AAA. | E5: Peça | F5: ELGIM | G5: 339030.26 | H5: 18.62 | J5: =I5-(SUM(L5:W5)) -> 0 | K5: =IF(J5<0,"ATENÇÃO","OK") -> OK | M5: 0 | N5: 0 | O5: 0 | P5: 0 | Q5: 0 | R5: 0 | S5: 0 | T5: 0 | U5: 0 | V5: 0 | W5: 0
C6: 3 | D6: Carregador Rápido de Baterias AA e AAA, Carga total em 3h, potência de Carga 2100 mAh | E6: Peça | F6: SONY | G6: 339030.26 | H6: 95 | J6: =I6-(SUM(L6:W6)) -> 0 | K6: =IF(J6<0,"ATENÇÃO","OK") -> OK | M6: 0 | N6: 0 | O6: 0 | P6: 0 | Q6: 0 | R6: 0 | S6: 0 | T6: 0 | U6: 0 | V6: 0 | W6: 0
A7: FABRICIO SONCINI EQPTOS DE INFORMÁTICA ME | B7: 2 | C7: 4 | D7: HD SATA II - capacidade 500 Gb, 7200 RPM, 3.0 Gb/s com tecnologia S.M.A.R.T. Com cabos de força e comunicação. | E7: Peça | F7: SEAGATE | G7: 339030.17 | H7: 250 | I7: 2 | J7: =I7-(SUM(L7:W7)) -> 2 | K7: =IF(J7<0,"ATENÇÃO","OK") -> OK | M7: 0 | N7: 0 | O7: 0 | P7: 0 | Q7: 0 | R7: 0 | S7: 0 | T7: 0 | U7: 0 | V7: 0 | W7: 0
C8: 5 | D8: HD SATA II - capacidade 1 Tb, 7200 RPM, 3.0 Gb/s com tecnologia S.M.A.R.T. Com cabos de força e comunicação. | E8: Peça | F8: SEAGATE | G8: 339030.17 | H8: 360.08 | J8: =I8-(SUM(L8:W8)) -> 0 | K8: =IF(J8<0,"ATENÇÃO","OK") -> OK | M8: 0 | N8: 0 | O8: 0 | P8: 0 | Q8: 0 | R8: 0 | S8: 0 | T8: 0 | U8: 0 | V8: 0 | W8: 0
C9: 6 | D9: HD SATA II - capacidade 2 Tb, 7200 RPM, 3.0 Gb/s com tecnologia S.M.A.R.T. Com cabos de força e comunicação. | E9: Peça | F9: SEAGATE | G9: 339030.17 | H9: 558 | J9: =I9-(SUM(L9:W9)) -> 0 | K9: =IF(J9<0,"ATENÇÃO","OK") -> OK | M9: 0 | N9: 0 | O9: 0 | P9: 0 | Q9: 0 | R9: 0 | S9: 0 | T9: 0 | U9: 0 | V9: 0 | W9: 0
A10: BEE2B INFORMÁTICA LTDA ME | B10: 3 | C10: 7 | D10: HD Externo de 500 Gb com interface USB 3.0, alimentação via USB, LED indicativo de funcionamento, taxa de transferência de 480 Mbps, incluso cabo de conexão USB. | E10: Peça | F10: WD | G10: 449052.35 | H10: 326.43 | J10: =I10-(SUM(L10:W10)) -> 0 | K10: =IF(J10<0,"ATENÇÃO","OK") -> OK | M10: 0 | N10: 0 | O10: 0 | P10: 0 | Q10: 0 | R10: 0 | S10: 0 | T10: 0 | U10: 0 | V10: 0 | W10: 0
C11: 8 | D11: HD Externo de 1 Tb com interface USB 3.0, alimentação via USB, LED indicativo de funcionamento, taxa de transferência de 480 Mbps, incluso cabo de conexão USB. | E11: Peça | F11: SEAGATE | G11: 449052.35 | H11: 414.2 | I11: 3 | J11: =I11-(SUM(L11:W11)) -> 3 | K11: =IF(J11<0,"ATENÇÃO","OK") -> OK | M11: 0 | N11: 0 | O11: 0 | P11: 0 | Q11: 0 | R11: 0 | S11: 0 | T11: 0 | U11: 0 | V11: 0 | W11: 0
C12: 9 | D12: HD Externo de 2 Tb com interface USB 3.0, alimentação via USB, LED indicativo de funcionamento, taxa de transferência de 480 Mbps, incluso cabo de conexão USB. | E12: Peça | F12: TOSHIBA | G12: 449052.35 | H12: 552.83 | I12: 1 | J12: =I12-(SUM(L12:W12)) -> 1 | K12: =IF(J12<0,"ATENÇÃO","OK") -> OK | M12: 0 | N12: 0 | O12: 0 | P12: 0 | Q12: 0 | R12: 0 | S12: 0 | T12: 0 | U12: 0 | V12: 0 | W12: 0
A13: RICARL DISTRIBUIDORA EIRELI ME | B13: 4 | C13: 10 | D13: Pen Drive 64 Gb USB 3.0 | E13: Peça | F13: SANDISK | G13: 339030.17 | H13: 189.3 | I13: 3 | J13: =I13-(SUM(L13:W13)) -> 3 | K13: =IF(J13<0,"ATENÇÃO","OK") -> OK | M13: 0 | N13: 0 | O13: 0 | P13: 0 | Q13: 0 | R13: 0 | S13: 0 | T13: 0 | U13: 0 | V13: 0 | W13: 0
C14: 11 | D14: Pen Drive 32 Gb USB 3.0 | E14: Peça | F14: SANDISK | G14: 339030.17 | H14: 105 | I14: 5 | J14: =I14-(SUM(L14:W14)) -> 5 | K14: =IF(J14<0,"ATENÇÃO","OK") -> OK | M14: 0 | N14: 0 | O14: 0 | P14: 0 | Q14: 0 | R14: 0 | S14: 0 | T14: 0 | U14: 0 | V14: 0 | W14: 0
C15: 12 | D15: Pen Drive 16 Gb USB 3.0 | E15: Peça | F15: SANDISK | G15: 339030.17 | H15: 68 | I15: 30 | J15: =I15-(SUM(L15:W15)) -> 30 | K15: =IF(J15<0,"ATENÇÃO","OK") -> OK | M15: 0 | N15: 0 | O15: 0 | P15: 0 | Q15: 0 | R15: 0 | S15: 0 | T15: 0 | U15: 0 | V15: 0 | W15: 0
A16: FABRICIO SONCINI EQPTOS DE INFORMÁTICA ME | B16: 5 | C16: 13 | D16: Pente de Memória 4 Gb DDR3-1066 | E16: Peça | F16: MARKVISION | G16: 339030.17 | H16: 197.64 | J16: =I16-(SUM(L16:W16)) -> 0 | K16: =IF(J16<0,"ATENÇÃO","OK") -> OK | M16: 0 | N16: 0 | O16: 0 | P16: 0 | Q16: 0 | R16: 0 | S16: 0 | T16: 0 | U16: 0 | V16: 0 | W16: 0
C17: 14 | D17: Pente de Memória 4 Gb DDR2-800 | E17: Peça | F17: KINGSTON | G17: 339030.17 | H17: 269 | J17: =I17-(SUM(L17:W17)) -> 0 | K17: =IF(J17<0,"ATENÇÃO","OK") -> OK | M17: 0 | N17: 0 | O17: 0 | P17: 0 | Q17: 0 | R17: 0 | S17: 0 | T17: 0 | U17: 0 | V17: 0 | W17: 0
C18: 15 | D18: Pente de Memória 2 Gb DDR2-667 | E18: Peça | F18: KINGSTON | G18: 339030.17 | H18: 133.11 | J18: =I18-(SUM(L18:W18)) -> 0 | K18: =IF(J18<0,"ATENÇÃO","OK") -> OK | M18: 0 | N18: 0 | O18: 0 | P18: 0 | Q18: 0 | R18: 0 | S18: 0 | T18: 0 | U18: 0 | V18: 0 | W18: 0
A19: BEE2B INFORMÁTICA LTDA ME | B19: 6 | C19: 16 | D19: Processador AMD Athlon 64 X2 2.6 Ghz (5000B / Socket AM2) | E19: Peça | F19: ATHLON | G19: 339030.17 | H19: 435.95 | J19: =I19-(SUM(L19:W19)) -> 0 | K19: =IF(J19<0,"ATENÇÃO","OK") -> OK | M19: 0 | N19: 0 | O19: 0 | P19: 0 | Q19: 0 | R19: 0 | S19: 0 | T19: 0 | U19: 0 | V19: 0 | W19: 0
C20: 17 | D20: Processador Intel Core 2 Duo 3 Ghz ou superior compatível com o socket LGA775 | E20: Peça | F20: INTEL | G20: 339030.17 | H20: 486.86 | J20: =I20-(SUM(L20:W20)) -> 0 | K20: =IF(J20<0,"ATENÇÃO","OK") -> OK | M20: 0 | N20: 0 | O20: 0 | P20: 0 | Q20: 0 | R20: 0 | S20: 0 | T20: 0 | U20: 0 | V20: 0 | W20: 0
A21: MM COMÉRCIO DE EQPTOS LTDA ME | B21: 7 | C21: 18 | D21: Apoio de punho (teclado) ergonômico em gel. | E21: Peça | F21: PISC | G21: 339030.17 | H21: 41.09 | I21: 20 | J21: =I21-(SUM(L21:W21)) -> 20 | K21: =IF(J21<0,"ATENÇÃO","OK") -> OK | M21: 0 | N21: 0 | O21: 0 | P21: 0 | Q21: 0 | R21: 0 | S21: 0 | T21: 0 | U21: 0 | V21: 0 | W21: 0
C22: 19 | D22: Mouse pad com apoio ergonômico de gel | E22: Peça | F22: PISC | G22: 339030.17 | H22: 25.92 | I22: 30 | J22: =I22-(SUM(L22:W22)) -> 30 | K22: =IF(J22<0,"ATENÇÃO","OK") -> OK | M22: 0 | N22: 0 | O22: 0 | P22: 0 | Q22: 0 | R22: 0 | S22: 0 | T22: 0 | U22: 0 | V22: 0 | W22: 0
A23: BEE2B INFORMÁTICA LTDA ME | B23: 8 | C23: 20 | D23: Mouse Wireless com Apontador Laser ( Mouse Laser Bluetooth, Apresentador de Slides, Apontador Laser e Controle Remoto de Multimídia), com botão Ligar/Desligar, conexão Bluetooth de 2.4 Ghz, com estojo. | E23: Peça | F23: MICROSOFT | G23: 339030.17 | H23: 180 | J23: =I23-(SUM(L23:W23)) -> 0 | K23: =IF(J23<0,"ATENÇÃO","OK") -> OK | M23: 0 | N23: 0 | O23: 0 | P23: 0 | Q23: 0 | R23: 0 | S23: 0 | T23: 0 | U23: 0 | V23: 0 | W23: 0
C24: 21 | D24: Mouse USB preto (óptico 3 botões net scroll), (não o optomecânico) | E24: Peça | F24: LEADER TECH | G24: 339030.17 | H24: 15.5 | J24: =I24-(SUM(L24:W24)) -> 0 | K24: =IF(J24<0,"ATENÇÃO","OK") -> OK | M24: 0 | N24: 0 | O24: 0 | P24: 0 | Q24: 0 | R24: 0 | S24: 0 | T24: 0 | U24: 0 | V24: 0 | W24: 0
C25: 22 | D25: Teclado Wireless, padrão ABNT II Português; teclas com funções internet e multimídia; botão de rolagem no teclado (scroll); teclas de atalho para a função office; 256 endereços de Ids por canal; tecnologia RF (rádio frequência) amplo ângulo de transmissão de sinal; com apoio para pulso, previne L.E.R. | E25: Peça | F25: MULTILASER | G25: 339030.17 | H25: 152 | J25: =I25-(SUM(L25:W25)) -> 0 | K25: =IF(J25<0,"ATENÇÃO","OK") -> OK | M25: 0 | N25: 0 | O25: 0 | P25: 0 | Q25: 0 | R25: 0 | S25: 0 | T25: 0 | U25: 0 | V25: 0 | W25: 0
C26: 23 | D26: Teclado USB preto Padrão ABNT2 | E26: Peça | F26: MULTILASER | G26: 339030.17 | H26: 27 | I26: 20 | J26: =I26-(SUM(L26:W26)) -> 20 | K26: =IF(J26<0,"ATENÇÃO","OK") -> OK | M26: 0 | N26: 0 | O26: 0 | P26: 0 | Q26: 0 | R26: 0 | S26: 0 | T26: 0 | U26: 0 | V26: 0 | W26: 0
A27: Infrutífero | B27: 9 | C27: 24 | D27: Mini-teclado numérico USB para PC, interface USB, cor preto, Comprimento do cabo de 1,80 m ou mais, dimensões 110/75/10 mm (Prof/Larg/Alt), fonte de alimentação PC / via USB, compatibilidade com Windows 2000 Windows 98 (SE) Windows ME Windows XP e com teclas de zero a 9 | E27: Peça | G27: 339030.17
C28: 25 | D28: Teclado PIN para senha 12 teclas com conexão para teclado, com display. | E28: Peça | G28: 339030.17
C29: 26 | D29: Teclado PIN: Mini-teclado numérico USB para desktops e notebooks. Função numérica e matemática com as quatro principais operações. Teclado formato slim com teclas e base finas. Tecla backspace para correção e Enter. | E29: Peça | G29: 339030.17
A30: Deserto | B30: 10 | C30: 27 | D30: Placa de Som PCI-e Creative Sound Blaster Audigy Rx, Processador de áudio: Creative E-MU, Relação Sinal para ruído (SNR): 106dB, Opções de conectividade (principais), Headphone Saída: 1 x 3.5mm jack compartilhada com Saída Frontal, Saída de linha: 1 x 3.5mm jack (Saída Frontal) 1 x 3.5mm jack (Rear / Side R) 1 x 3.5mm jack (C / Sub / Side L), Entrada de linha: 1 x 3,5 mm jack, Entrada de microfone: 2 x 3,5 mm jack, Saída ótica: 1 x TOSLINK, Amplificador dos fones de ouvido: Até 600 Ohms | E30: Peça | G30: 339030.17
A31: PERFORM TECNOLOGIA EIRELI EPP | B31: 11 | C31: 28 | D31: Placa de Rede 10/100/1000 PCI | E31: Peça | F31: INTELBRAS | G31: 339030.17 | H31: 65 | J31: =I31-(SUM(L31:W31)) -> 0 | K31: =IF(J31<0,"ATENÇÃO","OK") -> OK | M31: 0 | N31: 0 | O31: 0 | P31: 0 | Q31: 0 | R31: 0 | S31: 0 | T31: 0 | U31: 0 | V31: 0 | W31: 0
C32: 29 | D32: Placa de Rede 10/100/1000 PCI-e | E32: Peça | F32: INTELBRAS | G32: 339030.17 | H32: 84.7 | J32: =I32-(SUM(L32:W32)) -> 0 | K32: =IF(J32<0,"ATENÇÃO","OK") -> OK | M32: 0 | N32: 0 | O32: 0 | P32: 0 | Q32: 0 | R32: 0 | S32: 0 | T32: 0 | U32: 0 | V32: 0 | W32: 0
C33: 30 | D33: Placa de Rede Wireless, PCI-e, com antena externa, compativel com sinal 2,4 Ghz | E33: Peça | F33: INTELBRAS | G33: 339030.17 | H33: 75 | J33: =I33-(SUM(L33:W33)) -> 0 | K33: =IF(J33<0,"ATENÇÃO","OK") -> OK | M33: 0 | N33: 0 | O33: 0 | P33: 0 | Q33: 0 | R33: 0 | S33: 0 | T33: 0 | U33: 0 | V33: 0 | W33: 0
A34: PERFORM TECNOLOGIA EIRELI EPP | B34: 12 | C34: 31 | D34: Placa de Vídeo PCI express 512 Mb | E34: Peça | F34: POWER COLOR | G34: 339030.17 | H34: 180 | J34: =I34-(SUM(L34:W34)) -> 0 | K34: =IF(J34<0,"ATENÇÃO","OK") -> OK | M34: 0 | N34: 0 | O34: 0 | P34: 0 | Q34: 0 | R34: 0 | S34: 0 | T34: 0 | U34: 0 | V34: 0 | W34: 0
C35: 32 | D35: Placa de Vídeo 1 Gb Vga/Dvi/Hdmi (pricipalmente com HDMI) | E35: Peça | F35: POWER COLOR | G35: 339030.17 | H35: 150 | I35: 3 | J35: =I35-(SUM(L35:W35)) -> 3 | K35: =IF(J35<0,"ATENÇÃO","OK") -> OK | M35: 0 | N35: 0 | O35: 0 | P35: 0 | Q35: 0 | R35: 0 | S35: 0 | T35: 0 | U35: 0 | V35: 0 | W35: 0
C36: 33 | D36: Placa de Vídeo 2 Gb 256 bits Dual Dvi PCI-e | E36: Peça | F36: GIGABYTE | G36: 339030.17 | H36: 1232.25 | I36: 2 | J36: =I36-(SUM(L36:W36)) -> 2 | K36: =IF(J36<0,"ATENÇÃO","OK") -> OK | M36: 0 | N36: 0 | O36: 0 | P36: 0 | Q36: 0 | R36: 0 | S36: 0 | T36: 0 | U36: 0 | V36: 0 | W36: 0
A37: Deserto | B37: 13 | C37: 34 | D37: Placa mãe Lenovo Socket LGA775 ou compatível FRU-PartNumber 64Y3055 | E37: Peça | G37: 339030.17
C38: 35 | D38: Placa-mãe Lenovo L-A780 ou compatível (socket AM2) p/ computadores Lenovo Thinkcentre A62-7057 | E38: Peça | G38: 339030.17
A39: MM COMÉRCIO DE EQPTOS LTDA ME | B39: 14 | C39: 36 | D39: Spray para limpeza de contatos elétricos e componentes eletrônicos. Embalagem de 300 ml. | E39: Peça | F39: ORBI | G39: 339030.17 | H39: 28.69 | J39: =I39-(SUM(L39:W39)) -> 0 | K39: =IF(J39<0,"ATENÇÃO","OK") -> OK | M39: 0 | N39: 0 | O39: 0 | P39: 0 | Q39: 0 | R39: 0 | S39: 0 | T39: 0 | U39: 0 | V39: 0 | W39: 0
C40: 37 | D40: Pasta térmica: Condutividade térmica (Wmk) 1,2 Wmk (norma técnica ISSO 8301:1991). Ponto de gota inexistente. | E40: Peça | F40: TEKBOND | G40: 339030.17 | H40: 14.8 | J40: =I40-(SUM(L40:W40)) -> 0 | K40: =IF(J40<0,"ATENÇÃO","OK") -> OK | M40: 0 | N40: 0 | O40: 0 | P40: 0 | Q40: 0 | R40: 0 | S40: 0 | T40: 0 | U40: 0 | V40: 0 | W40: 0
...

Sheet CEART
A1: PROCESSO: 0759/2015/UDESC | D1: OBJETO: AQUISIÇÃO DE PEÇAS INCORPORÁVEIS AO COMPUTADOR PARA A UDESC | I1: VIGÊNCIA DA ATA: 21/09/2015 até 20/09/2016 | L1: AF07/2016 | M1: AF 08/2016 | N1: AF/OS nº xxxx/2015 Qtde. DT | O1: AF/OS nº xxxx/2015 Qtde. DT | P1: AF/OS nº xxxx/2015 Qtde. DT | Q1: AF/OS nº xxxx/2015 Qtde. DT | R1: AF/OS nº xxxx/2015 Qtde. DT | S1: AF/OS nº xxxx/2015 Qtde. DT | T1: AF/OS nº xxxx/2015 Qtde. DT | U1: AF/OS nº xxxx/2015 Qtde. DT | V1: AF/OS nº xxxx/2015 Qtde. DT | W1: AF/OS nº xxxx/2015 Qtde. DT
A2: CENTRO PARTICIPANTE: CEART
A3: FORNECEDOR | B3: LOTE | C3: ITEM | D3: PRODUTO - CARACTERÍSTICAS MÍNIMAS | E3: UNIDADE | F3: MARCA | G3: DETALHAMENTO | H3: Preço UNITÁRIO (R$) | I3: Qtde Registrada | J3: Saldo / Automático | K3: ALERTA | L3: 42377 | M3: 42377 | N3: ...../...../...... | O3: ...../...../...... | P3: ...../...../...... | Q3: ...../...../...... | R3: ...../...../...... | S3: ...../...../...... | T3: ...../...../...... | U3: ...../...../...... | V3: ...../...../...... | W3: ...../...../......
A4: RICARL DISTRIBUIDORA EIRELI ME | B4: 1 | C4: 1 | D4: Conjunto de 4 pilhas recarregáveis do tipo NiMH, tamanho AA de 2700 mAh. | E4: Peça | F4: ELGIM | G4: 339030.26 | H4: 42.01 | I4: 12 | J4: =I4-(SUM(L4:W4)) -> 12 | K4: =IF(J4<0,"ATENÇÃO","OK") -> OK | L4: 0 | M4: 0 | N4: 0 | O4: 0 | P4: 0 | Q4: 0 | R4: 0 | S4: 0 | T4: 0 | U4: 0 | V4: 0 | W4: 0
C5: 2 | D5: Conjunto de 4 pilhas recarregáveis do tipo NiMH, tamanho AAA. | E5: Peça | F5: ELGIM | G5: 339030.26 | H5: 18.62 | J5: =I5-(SUM(L5:W5)) -> 0 | K5: =IF(J5<0,"ATENÇÃO","OK") -> OK | L5: 0 | M5: 0 | N5: 0 | O5: 0 | P5: 0 | Q5: 0 | R5: 0 | S5: 0 | T5: 0 | U5: 0 | V5: 0 | W5: 0
C6: 3 | D6: Carregador Rápido de Baterias AA e AAA, Carga total em 3h, potência de Carga 2100 mAh | E6: Peça | F6: SONY | G6: 339030.26 | H6: 95 | J6: =I6-(SUM(L6:W6)) -> 0 | K6: =IF(J6<0,"ATENÇÃO","OK") -> OK | L6: 0 | M6: 0 | N6: 0 | O6: 0 | P6: 0 | Q6: 0 | R6: 0 | S6: 0 | T6: 0 | U6: 0 | V6: 0 | W6: 0
A7: FABRICIO SONCINI EQPTOS DE INFORMÁTICA ME | B7: 2 | C7: 4 | D7: HD SATA II - capacidade 500 Gb, 7200 RPM, 3.0 Gb/s com tecnologia S.M.A.R.T. Com cabos de força e comunicação. | E7: Peça | F7: SEAGATE | G7: 339030.17 | H7: 250 | J7: =I7-(SUM(L7:W7)) -> 0 | K7: =IF(J7<0,"ATENÇÃO","OK") -> OK | L7: 0 | M7: 0 | N7: 0 | O7: 0 | P7: 0 | Q7: 0 | R7: 0 | S7: 0 | T7: 0 | U7: 0 | V7: 0 | W7: 0
C8: 5 | D8: HD SATA II - capacidade 1 Tb, 7200 RPM, 3.0 Gb/s com tecnologia S.M.A.R.T. Com cabos de força e comunicação. | E8: Peça | F8: SEAGATE | G8: 339030.17 | H8: 360.08 | J8: =I8-(SUM(L8:W8)) -> 0 | K8: =IF(J8<0,"ATENÇÃO","OK") -> OK | L8: 0 | M8: 0 | N8: 0 | O8: 0 | P8: 0 | Q8: 0 | R8: 0 | S8: 0 | T8: 0 | U8: 0 | V8: 0 | W8: 0
C9: 6 | D9: HD SATA II - capacidade 2 Tb, 7200 RPM, 3.0 Gb/s com tecnologia S.M.A.R.T. Com cabos de força e comunicação. | E9: Peça | F9: SEAGATE | G9: 339030.17 | H9: 558 | J9: =I9-(SUM(L9:W9)) -> 0 | K9: =IF(J9<0,"ATENÇÃO","OK") -> OK | L9: 0 | M9: 0 | N9: 0 | O9: 0 | P9: 0 | Q9: 0 | R9: 0 | S9: 0 | T9: 0 | U9: 0 | V9: 0 | W9: 0
A10: BEE2B INFORMÁTICA LTDA ME | B10: 3 | C10: 7 | D10: HD Externo de 500 Gb com interface USB 3.0, alimentação via USB, LED indicativo de funcionamento, taxa de transferência de 480 Mbps, incluso cabo de conexão USB. | E10: Peça | F10: WD | G10: 449052.35 | H10: 326.43 | J10: =I10-(SUM(L10:W10)) -> 0 | K10: =IF(J10<0,"ATENÇÃO","OK") -> OK | L10: 0 | M10: 0 | N10: 0 | O10: 0 | P10: 0 | Q10: 0 | R10: 0 | S10: 0 | T10: 0 | U10: 0 | V10: 0 | W10: 0
C11: 8 | D11: HD Externo de 1 Tb com interface USB 3.0, alimentação via USB, LED indicativo de funcionamento, taxa de transferência de 480 Mbps, incluso cabo de conexão USB. | E11: Peça | F11: SEAGATE | G11: 449052.35 | H11: 414.2 | I11: 5 | J11: =I11-(SUM(L11:W11)) -> 3 | K11: =IF(J11<0,"ATENÇÃO","OK") -> OK | L11: 2 | M11: 0 | N11: 0 | O11: 0 | P11: 0 | Q11: 0 | R11: 0 | S11: 0 | T11: 0 | U11: 0 | V11: 0 | W11: 0
C12: 9 | D12: HD Externo de 2 Tb com interface USB 3.0, alimentação via USB, LED indicativo de funcionamento, taxa de transferência de 480 Mbps, incluso cabo de conexão USB. | E12: Peça | F12: TOSHIBA | G12: 449052.35 | H12: 552.83 | J12: =I12-(SUM(L12:W12)) -> 0 | K12: =IF(J12<0,"ATENÇÃO","OK") -> OK | L12: 0 | M12: 0 | N12: 0 | O12: 0 | P12: 0 | Q12: 0 | R12: 0 | S12: 0 | T12: 0 | U12: 0 | V12: 0 | W12: 0
A13: RICARL DISTRIBUIDORA EIRELI ME | B13: 4 | C13: 10 | D13: Pen Drive 64 Gb USB 3.0 | E13: Peça | F13: SANDISK | G13: 339030.17 | H13: 189.3 | I13: 4 | J13: =I13-(SUM(L13:W13)) -> 4 | K13: =IF(J13<0,"ATENÇÃO","OK") -> OK | L13: 0 | M13: 0 | N13: 0 | O13: 0 | P13: 0 | Q13: 0 | R13: 0 | S13: 0 | T13: 0 | U13: 0 | V13: 0 | W13: 0
C14: 11 | D14: Pen Drive 32 Gb USB 3.0 | E14: Peça | F14: SANDISK | G14: 339030.17 | H14: 105 | I14: 10 | J14: =I14-(SUM(L14:W14)) -> 10 | K14: =IF(J14<0,"ATENÇÃO","OK") -> OK | L14: 0 | M14: 0 | N14: 0 | O14: 0 | P14: 0 | Q14: 0 | R14: 0 | S14: 0 | T14: 0 | U14: 0 | V14: 0 | W14: 0
C15: 12 | D15: Pen Drive 16 Gb USB 3.0 | E15: Peça | F15: SANDISK | G15: 339030.17 | H15: 68 | I15: 1 | J15: =I15-(SUM(L15:W15)) -> 1 | K15: =IF(J15<0,"ATENÇÃO","OK") -> OK | L15: 0 | M15: 0 | N15: 0 | O15: 0 | P15: 0 | Q15: 0 | R15: 0 | S15: 0 | T15: 0 | U15: 0 | V15: 0 | W15: 0
A16: FABRICIO SONCINI EQPTOS DE INFORMÁTICA ME | B16: 5 | C16: 13 | D16: Pente de Memória 4 Gb DDR3-1066 | E16: Peça | F16: MARKVISION | G16: 339030.17 | H16: 197.64 | J16: =I16-(SUM(L16:W16)) -> 0 | K16: =IF(J16<0,"ATENÇÃO","OK") -> OK | L16: 0 | M16: 0 | N16: 0 | O16: 0 | P16: 0 | Q16: 0 | R16: 0 | S16: 0 | T16: 0 | U16: 0 | V16: 0 | W16: 0
C17: 14 | D17: Pente de Memória 4 Gb DDR2-800 | E17: Peça | F17: KINGSTON | G17: 339030.17 | H17: 269 | J17: =I17-(SUM(L17:W17)) -> 0 | K17: =IF(J17<0,"ATENÇÃO","OK") -> OK | L17: 0 | M17: 0 | N17: 0 | O17: 0 | P17: 0 | Q17: 0 | R17: 0 | S17: 0 | T17: 0 | U17: 0 | V17: 0 | W17: 0
C18: 15 | D18: Pente de Memória 2 Gb DDR2-667 | E18: Peça | F18: KINGSTON | G18: 339030.17 | H18: 133.11 | J18: =I18-(SUM(L18:W18)) -> 0 | K18: =IF(J18<0,"ATENÇÃO","OK") -> OK | L18: 0 | M18: 0 | N18: 0 | O18: 0 | P18: 0 | Q18: 0 | R18: 0 | S18: 0 | T18: 0 | U18: 0 | V18: 0 | W18: 0
A19: BEE2B INFORMÁTICA LTDA ME | B19: 6 | C19: 16 | D19: Processador AMD Athlon 64 X2 2.6 Ghz (5000B / Socket AM2) | E19: Peça | F19: ATHLON | G19: 339030.17 | H19: 435.95 | J19: =I19-(SUM(L19:W19)) -> 0 | K19: =IF(J19<0,"ATENÇÃO","OK") -> OK | L19: 0 | M19: 0 | N19: 0 | O19: 0 | P19: 0 | Q19: 0 | R19: 0 | S19: 0 | T19: 0 | U19: 0 | V19: 0 | W19: 0
C20: 17 | D20: Processador Intel Core 2 Duo 3 Ghz ou superior compatível com o socket LGA775 | E20: Peça | F20: INTEL | G20: 339030.17 | H20: 486.86 | J20: =I20-(SUM(L20:W20)) -> 0 | K20: =IF(J20<0,"ATENÇÃO","OK") -> OK | L20: 0 | M20: 0 | N20: 0 | O20: 0 | P20: 0 | Q20: 0 | R20: 0 | S20: 0 | T20: 0 | U20: 0 | V20: 0 | W20: 0
A21: MM COMÉRCIO DE EQPTOS LTDA ME | B21: 7 | C21: 18 | D21: Apoio de punho (teclado) ergonômico em gel. | E21: Peça | F21: PISC | G21: 339030.17 | H21: 41.09 | J21: =I21-(SUM(L21:W21)) -> 0 | K21: =IF(J21<0,"ATENÇÃO","OK") -> OK | L21: 0 | M21: 0 | N21: 0 | O21: 0 | P21: 0 | Q21: 0 | R21: 0 | S21: 0 | T21: 0 | U21: 0 | V21: 0 | W21: 0
C22: 19 | D22: Mouse pad com apoio ergonômico de gel | E22: Peça | F22: PISC | G22: 339030.17 | H22: 25.92 | I22: 10 | J22: =I22-(SUM(L22:W22)) -> 10 | K22: =IF(J22<0,"ATENÇÃO","OK") -> OK | L22: 0 | M22: 0 | N22: 0 | O22: 0 | P22: 0 | Q22: 0 | R22: 0 | S22: 0 | T22: 0 | U22: 0 | V22: 0 | W22: 0
A23: BEE2B INFORMÁTICA LTDA ME | B23: 8 | C23: 20 | D23: Mouse Wireless com Apontador Laser ( Mouse Laser Bluetooth, Apresentador de Slides, Apontador Laser e Controle Remoto de Multimídia), com botão Ligar/Desligar, conexão Bluetooth de 2.4 Ghz, com estojo. | E23: Peça | F23: MICROSOFT | G23: 339030.17 | H23: 180 | I23: 3 | J23: =I23-(SUM(L23:W23)) -> 3 | K23: =IF(J23<0,"ATENÇÃO","OK") -> OK | L23: 0 | M23: 0 | N23: 0 | O23: 0 | P23: 0 | Q23: 0 | R23: 0 | S23: 0 | T23: 0 | U23: 0 | V23: 0 | W23: 0
C24: 21 | D24: Mouse USB preto (óptico 3 botões net scroll), (não o optomecânico) | E24: Peça | F24: LEADER TECH | G24: 339030.17 | H24: 15.5 | I24: 2 | J24: =I24-(SUM(L24:W24)) -> 2 | K24: =IF(J24<0,"ATENÇÃO","OK") -> OK | L24: 0 | M24: 0 | N24: 0 | O24: 0 | P24: 0 | Q24: 0 | R24: 0 | S24: 0 | T24: 0 | U24: 0 | V24: 0 | W24: 0
C25: 22 | D25: Teclado Wireless, padrão ABNT II Português; teclas com funções internet e multimídia; botão de rolagem no teclado (scroll); teclas de atalho para a função office; 256 endereços de Ids por canal; tecnologia RF (rádio frequência) amplo ângulo de transmissão de sinal; com apoio para pulso, previne L.E.R. | E25: Peça | F25: MULTILASER | G25: 339030.17 | H25: 152 | I25: 2 | J25: =I25-(SUM(L25:W25)) -> 2 | K25: =IF(J25<0,"ATENÇÃO","OK") -> OK | L25: 0 | M25: 0 | N25: 0 | O25: 0 | P25: 0 | Q25: 0 | R25: 0 | S25: 0 | T25: 0 | U25: 0 | V25: 0 | W25: 0
C26: 23 | D26: Teclado USB preto Padrão ABNT2 | E26: Peça | F26: MULTILASER | G26: 339030.17 | H26: 27 | J26: =I26-(SUM(L26:W26)) -> 0 | K26: =IF(J26<0,"ATENÇÃO","OK") -> OK | L26: 0 | M26: 0 | N26: 0 | O26: 0 | P26: 0 | Q26: 0 | R26: 0 | S26: 0 | T26: 0 | U26: 0 | V26: 0 | W26: 0
A27: Infrutífero | B27: 9 | C27: 24 | D27: Mini-teclado numérico USB para PC, interface USB, cor preto, Comprimento do cabo de 1,80 m ou mais, dimensões 110/75/10 mm (Prof/Larg/Alt), fonte de alimentação PC / via USB, compatibilidade com Windows 2000 Windows 98 (SE) Windows ME Windows XP e com teclas de zero a 9 | E27: Peça | G27: 339030.17
C28: 25 | D28: Teclado PIN para senha 12 teclas com conexão para teclado, com display. | E28: Peça | G28: 339030.17
C29: 26 | D29: Teclado PIN: Mini-teclado numérico USB para desktops e notebooks. Função numérica e matemática com as quatro principais operações. Teclado formato slim com teclas e base finas. Tecla backspace para correção e Enter. | E29: Peça | G29: 339030.17
A30: Deserto | B30: 10 | C30: 27 | D30: Placa de Som PCI-e Creative Sound Blaster Audigy Rx, Processador de áudio: Creative E-MU, Relação Sinal para ruído (SNR): 106dB, Opções de conectividade (principais), Headphone Saída: 1 x 3.5mm jack compartilhada com Saída Frontal, Saída de linha: 1 x 3.5mm jack (Saída Frontal) 1 x 3.5mm jack (Rear / Side R) 1 x 3.5mm jack (C / Sub / Side L), Entrada de linha: 1 x 3,5 mm jack, Entrada de microfone: 2 x 3,5 mm jack, Saída ótica: 1 x TOSLINK, Amplificador dos fones de ouvido: Até 600 Ohms | E30: Peça | G30: 339030.17
A31: PERFORM TECNOLOGIA EIRELI EPP | B31: 11 | C31: 28 | D31: Placa de Rede 10/100/1000 PCI | E31: Peça | F31: INTELBRAS | G31: 339030.17 | H31: 65 | J31: =I31-(SUM(L31:W31)) -> 0 | K31: =IF(J31<0,"ATENÇÃO","OK") -> OK | L31: 0 | M31: 0 | N31: 0 | O31: 0 | P31: 0 | Q31: 0 | R31: 0 | S31: 0 | T31: 0 | U31: 0 | V31: 0 | W31: 0
C32: 29 | D32: Placa de Rede 10/100/1000 PCI-e | E32: Peça | F32: INTELBRAS | G32: 339030.17 | H32: 84.7 | J32: =I32-(SUM(L32:W32)) -> 0 | K32: =IF(J32<0,"ATENÇÃO","OK") -> OK | L32: 0 | M32: 0 | N32: 0 | O32: 0 | P32: 0 | Q32: 0 | R32: 0 | S32: 0 | T32: 0 | U32: 0 | V32: 0 | W32: 0
C33: 30 | D33: Placa de Rede Wireless, PCI-e, com antena externa, compativel com sinal 2,4 Ghz | E33: Peça | F33: INTELBRAS | G33: 339030.17 | H33: 75 | J33: =I33-(SUM(L33:W33)) -> 0 | K33: =IF(J33<0,"ATENÇÃO","OK") -> OK | L33: 0 | M33: 0 | N33: 0 | O33: 0 | P33: 0 | Q33: 0 | R33: 0 | S33: 0 | T33: 0 | U33: 0 | V33: 0 | W33: 0
A34: PERFORM TECNOLOGIA EIRELI EPP | B34: 12 | C34: 31 | D34: Placa de Vídeo PCI express 512 Mb | E34: Peça | F34: POWER COLOR | G34: 339030.17 | H34: 180 | J34: =I34-(SUM(L34:W34)) -> 0 | K34: =IF(J34<0,"ATENÇÃO","OK") -> OK | L34: 0 | M34: 0 | N34: 0 | O34: 0 | P34: 0 | Q34: 0 | R34: 0 | S34: 0 | T34: 0 | U34: 0 | V34: 0 | W34: 0
C35: 32 | D35: Placa de Vídeo 1 Gb Vga/Dvi/Hdmi (pricipalmente com HDMI) | E35: Peça | F35: POWER COLOR | G35: 339030.17 | H35: 150 | J35: =I35-(SUM(L35:W35)) -> 0 | K35: =IF(J35<0,"ATENÇÃO","OK") -> OK | L35: 0 | M35: 0 | N35: 0 | O35: 0 | P35: 0 | Q35: 0 | R35: 0 | S35: 0 | T35: 0 | U35: 0 | V35: 0 | W35: 0
C36: 33 | D36: Placa de Vídeo 2 Gb 256 bits Dual Dvi PCI-e | E36: Peça | F36: GIGABYTE | G36: 339030.17 | H36: 1232.25 | J36: =I36-(SUM(L36:W36)) -> 0 | K36: =IF(J36<0,"ATENÇÃO","OK") -> OK | L36: 0 | M36: 0 | N36: 0 | O36: 0 | P36: 0 | Q36: 0 | R36: 0 | S36: 0 | T36: 0 | U36: 0 | V36: 0 | W36: 0
A37: Deserto | B37: 13 | C37: 34 | D37: Placa mãe Lenovo Socket LGA775 ou compatível FRU-PartNumber 64Y3055 | E37: Peça | G37: 339030.17
C38: 35 | D38: Placa-mãe Lenovo L-A780 ou compatível (socket AM2) p/ computadores Lenovo Thinkcentre A62-7057 | E38: Peça | G38: 339030.17
A39: MM COMÉRCIO DE EQPTOS LTDA ME | B39: 14 | C39: 36 | D39: Spray para limpeza de contatos elétricos e componentes eletrônicos. Embalagem de 300 ml. | E39: Peça | F39: ORBI | G39: 339030.17 | H39: 28.69 | J39: =I39-(SUM(L39:W39)) -> 0 | K39: =IF(J39<0,"ATENÇÃO","OK") -> OK | L39: 0 | M39: 0 | N39: 0 | O39: 0 | P39: 0 | Q39: 0 | R39: 0 | S39: 0 | T39: 0 | U39: 0 | V39: 0 | W39: 0
C40: 37 | D40: Pasta térmica: Condutividade térmica (Wmk) 1,2 Wmk (norma técnica ISSO 8301:1991). Ponto de gota inexistente. | E40: Peça | F40: TEKBOND | G40: 339030.17 | H40: 14.8 | J40: =I40-(SUM(L40:W40)) -> 0 | K40: =IF(J40<0,"ATENÇÃO","OK") -> OK | L40: 0 | M40: 0 | N40: 0 | O40: 0 | P40: 0 | Q40: 0 | R40: 0 | S40: 0 | T40: 0 | U40: 0 | V40: 0 | W40: 0
...

Sheet FAED
A1: PROCESSO: 0759/2015/UDESC | D1: OBJETO: AQUISIÇÃO DE PEÇAS INCORPORÁVEIS AO COMPUTADOR PARA A UDESC | I1: VIGÊNCIA DA ATA: 21/09/2015 até 20/09/2016 | L1: AF/OS nº xxxx/2015 Qtde. DT | M1: AF/OS nº xxxx/2015 Qtde. DT | N1: AF/OS nº xxxx/2015 Qtde. DT | O1: AF/OS nº xxxx/2015 Qtde. DT | P1: AF/OS nº xxxx/2015 Qtde. DT | Q1: AF/OS nº xxxx/2015 Qtde. DT | R1: AF/OS nº xxxx/2015 Qtde. DT | S1: AF/OS nº xxxx/2015 Qtde. DT | T1: AF/OS nº xxxx/2015 Qtde. DT | U1: AF/OS nº xxxx/2015 Qtde. DT | V1: AF/OS nº xxxx/2015 Qtde. DT | W1: AF/OS nº xxxx/2015 Qtde. DT
A2: CENTRO PARTICIPANTE: FAED
A3: FORNECEDOR | B3: LOTE | C3: ITEM | D3: PRODUTO - CARACTERÍSTICAS MÍNIMAS | E3: UNIDADE | F3: MARCA | G3: DETALHAMENTO | H3: Preço UNITÁRIO (R$) | I3: Qtde Registrada | J3: Saldo / Automático | K3: ALERTA | L3: ...../...../...... | M3: ...../...../...... | N3: ...../...../...... | O3: ...../...../...... | P3: ...../...../...... | Q3: ...../...../...... | R3: ...../...../...... | S3: ...../...../...... | T3: ...../...../...... | U3: ...../...../...... | V3: ...../...../...... | W3: ...../...../......
A4: RICARL DISTRIBUIDORA EIRELI ME | B4: 1 | C4: 1 | D4: Conjunto de 4 pilhas recarregáveis do tipo NiMH, tamanho AA de 2700 mAh. | E4: Peça | F4: ELGIM | G4: 339030.26 | H4: 42.01 | J4: =I4-(SUM(L4:W4)) -> 0 | K4: =IF(J4<0,"ATENÇÃO","OK") -> OK | L4: 0 | M4: 0 | N4: 0 | O4: 0 | P4: 0 | Q4: 0 | R4: 0 | S4: 0 | T4: 0 | U4: 0 | V4: 0 | W4: 0
C5: 2 | D5: Conjunto de 4 pilhas recarregáveis do tipo NiMH, tamanho AAA. | E5: Peça | F5: ELGIM | G5: 339030.26 | H5: 18.62 | J5: =I5-(SUM(L5:W5)) -> 0 | K5: =IF(J5<0,"ATENÇÃO","OK") -> OK | L5: 0 | M5: 0 | N5: 0 | O5: 0 | P5: 0 | Q5: 0 | R5: 0 | S5: 0 | T5: 0 | U5: 0 | V5: 0 | W5: 0
C6: 3 | D6: Carregador Rápido de Baterias AA e AAA, Carga total em 3h, potência de Carga 2100 mAh | E6: Peça | F6: SONY | G6: 339030.26 | H6: 95 | J6: =I6-(SUM(L6:W6)) -> 0 | K6: =IF(J6<0,"ATENÇÃO","OK") -> OK | L6: 0 | M6: 0 | N6: 0 | O6: 0 | P6: 0 | Q6: 0 | R6: 0 | S6: 0 | T6: 0 | U6: 0 | V6: 0 | W6: 0
A7: FABRICIO SONCINI EQPTOS DE INFORMÁTICA ME | B7: 2 | C7: 4 | D7: HD SATA II - capacidade 500 Gb, 7200 RPM, 3.0 Gb/s com tecnologia S.M.A.R.T. Com cabos de força e comunicação. | E7: Peça | F7: SEAGATE | G7: 339030.17 | H7: 250 | J7: =I7-(SUM(L7:W7)) -> 0 | K7: =IF(J7<0,"ATENÇÃO","OK") -> OK | L7: 0 | M7: 0 | N7: 0 | O7: 0 | P7: 0 | Q7: 0 | R7: 0 | S7: 0 | T7: 0 | U7: 0 | V7: 0 | W7: 0
C8: 5 | D8: HD SATA II - capacidade 1 Tb, 7200 RPM, 3.0 Gb/s com tecnologia S.M.A.R.T. Com cabos de força e comunicação. | E8: Peça | F8: SEAGATE | G8: 339030.17 | H8: 360.08 | I8: 2 | J8: =I8-(SUM(L8:W8)) -> 2 | K8: =IF(J8<0,"ATENÇÃO","OK") -> OK | L8: 0 | M8: 0 | N8: 0 | O8: 0 | P8: 0 | Q8: 0 | R8: 0 | S8: 0 | T8: 0 | U8: 0 | V8: 0 | W8: 0
C9: 6 | D9: HD SATA II - capacidade 2 Tb, 7200 RPM, 3.0 Gb/s com tecnologia S.M.A.R.T. Com cabos de força e comunicação. | E9: Peça | F9: SEAGATE | G9: 339030.17 | H9: 558 | J9: =I9-(SUM(L9:W9)) -> 0 | K9: =IF(J9<0,"ATENÇÃO","OK") -> OK | L9: 0 | M9: 0 | N9: 0 | O9: 0 | P9: 0 | Q9: 0 | R9: 0 | S9: 0 | T9: 0 | U9: 0 | V9: 0 | W9: 0
A10: BEE2B INFORMÁTICA LTDA ME | B10: 3 | C10: 7 | D10: HD Externo de 500 Gb com interface USB 3.0, alimentação via USB, LED indicativo de funcionamento, taxa de transferência de 480 Mbps, incluso cabo de conexão USB. | E10: Peça | F10: WD | G10: 449052.35 | H10: 326.43 | J10: =I10-(SUM(L10:W10)) -> 0 | K10: =IF(J10<0,"ATENÇÃO","OK") -> OK | L10: 0 | M10: 0 | N10: 0 | O10: 0 | P10: 0 | Q10: 0 | R10: 0 | S10: 0 | T10: 0 | U10: 0 | V10: 0 | W10: 0
C11: 8 | D11: HD Externo de 1 Tb com interface USB 3.0, alimentação via USB, LED indicativo de funcionamento, taxa de transferência de 480 Mbps, incluso cabo de conexão USB. | E11: Peça | F11: SEAGATE | G11: 449052.35 | H11: 414.2 | J11: =I11-(SUM(L11:W11)) -> 0 | K11: =IF(J11<0,"ATENÇÃO","OK") -> OK | L11: 0 | M11: 0 | N11: 0 | O11: 0 | P11: 0 | Q11: 0 | R11: 0 | S11: 0 | T11: 0 | U11: 0 | V11: 0 | W11: 0
C12: 9 | D12: HD Externo de 2 Tb com interface USB 3.0, alimentação via USB, LED indicativo de funcionamento, taxa de transferência de 480 Mbps, incluso cabo de conexão USB. | E12: Peça | F12: TOSHIBA | G12: 449052.35 | H12: 552.83 | J12: =I12-(SUM(L12:W12)) -> 0 | K12: =IF(J12<0,"ATENÇÃO","OK") -> OK | L12: 0 | M12: 0 | N12: 0 | O12: 0 | P12: 0 | Q12: 0 | R12: 0 | S12: 0 | T12: 0 | U12: 0 | V12: 0 | W12: 0
A13: RICARL DISTRIBUIDORA EIRELI ME | B13: 4 | C13: 10 | D13: Pen Drive 64 Gb USB 3.0 | E13: Peça | F13: SANDISK | G13: 339030.17 | H13: 189.3 | I13: 2 | J13: =I13-(SUM(L13:W13)) -> 2 | K13: =IF(J13<0,"ATENÇÃO","OK") -> OK | L13: 0 | M13: 0 | N13: 0 | O13: 0 | P13: 0 | Q13: 0 | R13: 0 | S13: 0 | T13: 0 | U13: 0 | V13: 0 | W13: 0
C14: 11 | D14: Pen Drive 32 Gb USB 3.0 | E14: Peça | F14: SANDISK | G14: 339030.17 | H14: 105 | J14: =I14-(SUM(L14:W14)) -> 0 | K14: =IF(J14<0,"ATENÇÃO","OK") -> OK | L14: 0 | M14: 0 | N14: 0 | O14: 0 | P14: 0 | Q14: 0 | R14: 0 | S14: 0 | T14: 0 | U14: 0 | V14: 0 | W14: 0
C15: 12 | D15: Pen Drive 16 Gb USB 3.0 | E15: Peça | F15: SANDISK | G15: 339030.17 | H15: 68 | J15: =I15-(SUM(L15:W15)) -> 0 | K15: =IF(J15<0,"ATENÇÃO","OK") -> OK | L15: 0 | M15: 0 | N15: 0 | O15: 0 | P15: 0 | Q15: 0 | R15: 0 | S15: 0 | T15: 0 | U15: 0 | V15: 0 | W15: 0
A16: FABRICIO SONCINI EQPTOS DE INFORMÁTICA ME | B16: 5 | C16: 13 | D16: Pente de Memória 4 Gb DDR3-1066 | E16: Peça | F16: MARKVISION | G16: 339030.17 | H16: 197.64 | I16: 5 | J16: =I16-(SUM(L16:W16)) -> 5 | K16: =IF(J16<0,"ATENÇÃO","OK") -> OK | L16: 0 | M16: 0 | N16: 0 | O16: 0 | P16: 0 | Q16: 0 | R16: 0 | S16: 0 | T16: 0 | U16: 0 | V16: 0 | W16: 0
C17: 14 | D17: Pente de Memória 4 Gb DDR2-800 | E17: Peça | F17: KINGSTON | G17: 339030.17 | H17: 269 | J17: =I17-(SUM(L17:W17)) -> 0 | K17: =IF(J17<0,"ATENÇÃO","OK") -> OK | L17: 0 | M17: 0 | N17: 0 | O17: 0 | P17: 0 | Q17: 0 | R17: 0 | S17: 0 | T17: 0 | U17: 0 | V17: 0 | W17: 0
C18: 15 | D18: Pente de Memória 2 Gb DDR2-667 | E18: Peça | F18: KINGSTON | G18: 339030.17 | H18: 133.11 | J18: =I18-(SUM(L18:W18)) -> 0 | K18: =IF(J18<0,"ATENÇÃO","OK") -> OK | L18: 0 | M18: 0 | N18: 0 | O18: 0 | P18: 0 | Q18: 0 | R18: 0 | S18: 0 | T18: 0 | U18: 0 | V18: 0 | W18: 0
A19: BEE2B INFORMÁTICA LTDA ME | B19: 6 | C19: 16 | D19: Processador AMD Athlon 64 X2 2.6 Ghz (5000B / Socket AM2) | E19: Peça | F19: ATHLON | G19: 339030.17 | H19: 435.95 | J19: =I19-(SUM(L19:W19)) -> 0 | K19: =IF(J19<0,"ATENÇÃO","OK") -> OK | L19: 0 | M19: 0 | N19: 0 | O19: 0 | P19: 0 | Q19: 0 | R19: 0 | S19: 0 | T19: 0 | U19: 0 | V19: 0 | W19: 0
C20: 17 | D20: Processador Intel Core 2 Duo 3 Ghz ou superior compatível com o socket LGA775 | E20: Peça | F20: INTEL | G20: 339030.17 | H20: 486.86 | J20: =I20-(SUM(L20:W20)) -> 0 | K20: =IF(J20<0,"ATENÇÃO","OK") -> OK | L20: 0 | M20: 0 | N20: 0 | O20: 0 | P20: 0 | Q20: 0 | R20: 0 | S20: 0 | T20: 0 | U20: 0 | V20: 0 | W20: 0
A21: MM COMÉRCIO DE EQPTOS LTDA ME | B21: 7 | C21: 18 | D21: Apoio de punho (teclado) ergonômico em gel. | E21: Peça | F21: PISC | G21: 339030.17 | H21: 41.09 | J21: =I21-(SUM(L21:W21)) -> 0 | K21: =IF(J21<0,"ATENÇÃO","OK") -> OK | L21: 0 | M21: 0 | N21: 0 | O21: 0 | P21: 0 | Q21: 0 | R21: 0 | S21: 0 | T21: 0 | U21: 0 | V21: 0 | W21: 0
C22: 19 | D22: Mouse pad com apoio ergonômico de gel | E22: Peça | F22: PISC | G22: 339030.17 | H22: 25.92 | I22: 40 | J22: =I22-(SUM(L22:W22)) -> 40 | K22: =IF(J22<0,"ATENÇÃO","OK") -> OK | L22: 0 | M22: 0 | N22: 0 | O22: 0 | P22: 0 | Q22: 0 | R22: 0 | S22: 0 | T22: 0 | U22: 0 | V22: 0 | W22: 0
A23: BEE2B INFORMÁTICA LTDA ME | B23: 8 | C23: 20 | D23: Mouse Wireless com Apontador Laser ( Mouse Laser Bluetooth, Apresentador de Slides, Apontador Laser e Controle Remoto de Multimídia), com botão Ligar/Desligar, conexão Bluetooth de 2.4 Ghz, com estojo. | E23: Peça | F23: MICROSOFT | G23: 339030.17 | H23: 180 | J23: =I23-(SUM(L23:W23)) -> 0 | K23: =IF(J23<0,"ATENÇÃO","OK") -> OK | L23: 0 | M23: 0 | N23: 0 | O23: 0 | P23: 0 | Q23: 0 | R23: 0 | S23: 0 | T23: 0 | U23: 0 | V23: 0 | W23: 0
C24: 21 | D24: Mouse USB preto (óptico 3 botões net scroll), (não o optomecânico) | E24: Peça | F24: LEADER TECH | G24: 339030.17 | H24: 15.5 | J24: =I24-(SUM(L24:W24)) -> 0 | K24: =IF(J24<0,"ATENÇÃO","OK") -> OK | L24: 0 | M24: 0 | N24: 0 | O24: 0 | P24: 0 | Q24: 0 | R24: 0 | S24: 0 | T24: 0 | U24: 0 | V24: 0 | W24: 0
C25: 22 | D25: Teclado Wireless, padrão ABNT II Português; teclas com funções internet e multimídia; botão de rolagem no teclado (scroll); teclas de atalho para a função office; 256 endereços de Ids por canal; tecnologia RF (rádio frequência) amplo ângulo de transmissão de sinal; com apoio para pulso, previne L.E.R. | E25: Peça | F25: MULTILASER | G25: 339030.17 | H25: 152 | J25: =I25-(SUM(L25:W25)) -> 0 | K25: =IF(J25<0,"ATENÇÃO","OK") -> OK | L25: 0 | M25: 0 | N25: 0 | O25: 0 | P25: 0 | Q25: 0 | R25: 0 | S25: 0 | T25: 0 | U25: 0 | V25: 0 | W25: 0
C26: 23 | D26: Teclado USB preto Padrão ABNT2 | E26: Peça | F26: MULTILASER | G26: 339030.17 | H26: 27 | I26: 15 | J26: =I26-(SUM(L26:W26)) -> 15 | K26: =IF(J26<0,"ATENÇÃO","OK") -> OK | L26: 0 | M26: 0 | N26: 0 | O26: 0 | P26: 0 | Q26: 0 | R26: 0 | S26: 0 | T26: 0 | U26: 0 | V26: 0 | W26: 0
A27: Infrutífero | B27: 9 | C27: 24 | D27: Mini-teclado numérico USB para PC, interface USB, cor preto, Comprimento do cabo de 1,80 m ou mais, dimensões 110/75/10 mm (Prof/Larg/Alt), fonte de alimentação PC / via USB, compatibilidade com Windows 2000 Windows 98 (SE) Windows ME Windows XP e com teclas de zero a 9 | E27: Peça | G27: 339030.17
C28: 25 | D28: Teclado PIN para senha 12 teclas com conexão para teclado, com display. | E28: Peça | G28: 339030.17
C29: 26 | D29: Teclado PIN: Mini-teclado numérico USB para desktops e notebooks. Função numérica e matemática com as quatro principais operações. Teclado formato slim com teclas e base finas. Tecla backspace para correção e Enter. | E29: Peça | G29: 339030.17
A30: Deserto | B30: 10 | C30: 27 | D30: Placa de Som PCI-e Creative Sound Blaster Audigy Rx, Processador de áudio: Creative E-MU, Relação Sinal para ruído (SNR): 106dB, Opções de conectividade (principais), Headphone Saída: 1 x 3.5mm jack compartilhada com Saída Frontal, Saída de linha: 1 x 3.5mm jack (Saída Frontal) 1 x 3.5mm jack (Rear / Side R) 1 x 3.5mm jack (C / Sub / Side L), Entrada de linha: 1 x 3,5 mm jack, Entrada de microfone: 2 x 3,5 mm jack, Saída ótica: 1 x TOSLINK, Amplificador dos fones de ouvido: Até 600 Ohms | E30: Peça | G30: 339030.17
A31: PERFORM TECNOLOGIA EIRELI EPP | B31: 11 | C31: 28 | D31: Placa de Rede 10/100/1000 PCI | E31: Peça | F31: INTELBRAS | G31: 339030.17 | H31: 65 | J31: =I31-(SUM(L31:W31)) -> 0 | K31: =IF(J31<0,"ATENÇÃO","OK") -> OK | L31: 0 | M31: 0 | N31: 0 | O31: 0 | P31: 0 | Q31: 0 | R31: 0 | S31: 0 | T31: 0 | U31: 0 | V31: 0 | W31: 0
C32: 29 | D32: Placa de Rede 10/100/1000 PCI-e | E32: Peça | F32: INTELBRAS | G32: 339030.17 | H32: 84.7 | J32: =I32-(SUM(L32:W32)) -> 0 | K32: =IF(J32<0,"ATENÇÃO","OK") -> OK | L32: 0 | M32: 0 | N32: 0 | O32: 0 | P32: 0 | Q32: 0 | R32: 0 | S32: 0 | T32: 0 | U32: 0 | V32: 0 | W32: 0
C33: 30 | D33: Placa de Rede Wireless, PCI-e, com antena externa, compativel com sinal 2,4 Ghz | E33: Peça | F33: INTELBRAS | G33: 339030.17 | H33: 75 | J33: =I33-(SUM(L33:W33)) -> 0 | K33: =IF(J33<0,"ATENÇÃO","OK") -> OK | L33: 0 | M33: 0 | N33: 0 | O33: 0 | P33: 0 | Q33: 0 | R33: 0 | S33: 0 | T33: 0 | U33: 0 | V33: 0 | W33: 0
A34: PERFORM TECNOLOGIA EIRELI EPP | B34: 12 | C34: 31 | D34: Placa de Vídeo PCI express 512 Mb | E34: Peça | F34: POWER COLOR | G34: 339030.17 | H34: 180 | J34: =I34-(SUM(L34:W34)) -> 0 | K34: =IF(J34<0,"ATENÇÃO","OK") -> OK | L34: 0 | M34: 0 | N34: 0 | O34: 0 | P34: 0 | Q34: 0 | R34: 0 | S34: 0 | T34: 0 | U34: 0 | V34: 0 | W34: 0
C35: 32 | D35: Placa de Vídeo 1 Gb Vga/Dvi/Hdmi (pricipalmente com HDMI) | E35: Peça | F35: POWER COLOR | G35: 339030.17 | H35: 150 | J35: =I35-(SUM(L35:W35)) -> 0 | K35: =IF(J35<0,"ATENÇÃO","OK") -> OK | L35: 0 | M35: 0 | N35: 0 | O35: 0 | P35: 0 | Q35: 0 | R35: 0 | S35: 0 | T35: 0 | U35: 0 | V35: 0 | W35: 0
C36: 33 | D36: Placa de Vídeo 2 Gb 256 bits Dual Dvi PCI-e | E36: Peça | F36: GIGABYTE | G36: 339030.17 | H36: 1232.25 | J36: =I36-(SUM(L36:W36)) -> 0 | K36: =IF(J36<0,"ATENÇÃO","OK") -> OK | L36: 0 | M36: 0 | N36: 0 | O36: 0 | P36: 0 | Q36: 0 | R36: 0 | S36: 0 | T36: 0 | U36: 0 | V36: 0 | W36: 0
A37: Deserto | B37: 13 | C37: 34 | D37: Placa mãe Lenovo Socket LGA775 ou compatível FRU-PartNumber 64Y3055 | E37: Peça | G37: 339030.17
C38: 35 | D38: Placa-mãe Lenovo L-A780 ou compatível (socket AM2) p/ computadores Lenovo Thinkcentre A62-7057 | E38: Peça | G38: 339030.17
A39: MM COMÉRCIO DE EQPTOS LTDA ME | B39: 14 | C39: 36 | D39: Spray para limpeza de contatos elétricos e componentes eletrônicos. Embalagem de 300 ml. | E39: Peça | F39: ORBI | G39: 339030.17 | H39: 28.69 | J39: =I39-(SUM(L39:W39)) -> 0 | K39: =IF(J39<0,"ATENÇÃO","OK") -> OK | L39: 0 | M39: 0 | N39: 0 | O39: 0 | P39: 0 | Q39: 0 | R39: 0 | S39: 0 | T39: 0 | U39: 0 | V39: 0 | W39: 0
C40: 37 | D40: Pasta térmica: Condutividade térmica (Wmk) 1,2 Wmk (norma técnica ISSO 8301:1991). Ponto de gota inexistente. | E40: Peça | F40: TEKBOND | G40: 339030.17 | H40: 14.8 | J40: =I40-(SUM(L40:W40)) -> 0 | K40: =IF(J40<0,"ATENÇÃO","OK") -> OK | L40: 0 | M40: 0 | N40: 0 | O40: 0 | P40: 0 | Q40: 0 | R40: 0 | S40: 0 | T40: 0 | U40: 0 | V40: 0 | W40: 0
...

Sheet CEAD
A1: PROCESSO: 0759/2015/UDESC | D1: OBJETO: AQUISIÇÃO DE PEÇAS INCORPORÁVEIS AO COMPUTADOR PARA A UDESC | I1: VIGÊNCIA DA ATA: 21/09/2015 até 20/09/2016 | L1: AF/OS nº 2074/2015 Qtde. DT | M1: AF/OS nº 2104/2015 Qtde. DT | N1: AF/OS nº 2188/2015 Qtde. DT | O1: AF/OS nº 2193/2015 Qtde. DT | P1: AF/OS nº 2196/2015 Qtde. DT | Q1: AF/OS nº xxxx/2015 Qtde. DT | R1: AF/OS nº xxxx/2015 Qtde. DT | S1: AF/OS nº xxxx/2015 Qtde. DT | T1: AF/OS nº xxxx/2015 Qtde. DT | U1: AF/OS nº xxxx/2015 Qtde. DT | V1: AF/OS nº xxxx/2015 Qtde. DT | W1: AF/OS nº xxxx/2015 Qtde. DT
A2: CENTRO PARTICIPANTE: CEAD
A3: FORNECEDOR | B3: LOTE | C3: ITEM | D3: PRODUTO - CARACTERÍSTICAS MÍNIMAS | E3: UNIDADE | F3: MARCA | G3: DETALHAMENTO | H3: Preço UNITÁRIO (R$) | I3: Qtde Registrada | J3: Saldo / Automático | K3: ALERTA | L3: 42312 | M3: 42313 | N3: 42325 | O3: 42325 | P3: 42325 | Q3: ...../...../...... | R3: ...../...../...... | S3: ...../...../...... | T3: ...../...../...... | U3: ...../...../...... | V3: ...../...../...... | W3: ...../...../......
A4: RICARL DISTRIBUIDORA EIRELI ME | B4: 1 | C4: 1 | D4: Conjunto de 4 pilhas recarregáveis do tipo NiMH, tamanho AA de 2700 mAh. | E4: Peça | F4: ELGIM | G4: 339030.26 | H4: 42.01 | I4: 2 | J4: =I4-(SUM(L4:W4)) -> 0 | K4: =IF(J4<0,"ATENÇÃO","OK") -> OK | L4: 0 | M4: 0 | N4: 0 | O4: 2 | P4: 0 | Q4: 0 | R4: 0 | S4: 0 | T4: 0 | U4: 0 | V4: 0 | W4: 0
C5: 2 | D5: Conjunto de 4 pilhas recarregáveis do tipo NiMH, tamanho AAA. | E5: Peça | F5: ELGIM | G5: 339030.26 | H5: 18.62 | I5: 2 | J5: =I5-(SUM(L5:W5)) -> 0 | K5: =IF(J5<0,"ATENÇÃO","OK") -> OK | L5: 0 | M5: 0 | N5: 0 | O5: 2 | P5: 0 | Q5: 0 | R5: 0 | S5: 0 | T5: 0 | U5: 0 | V5: 0 | W5: 0
C6: 3 | D6: Carregador Rápido de Baterias AA e AAA, Carga total em 3h, potência de Carga 2100 mAh | E6: Peça | F6: SONY | G6: 339030.26 | H6: 95 | J6: =I6-(SUM(L6:W6)) -> 0 | K6: =IF(J6<0,"ATENÇÃO","OK") -> OK | L6: 0 | M6: 0 | N6: 0 | O6: 0 | P6: 0 | Q6: 0 | R6: 0 | S6: 0 | T6: 0 | U6: 0 | V6: 0 | W6: 0
A7: FABRICIO SONCINI EQPTOS DE INFORMÁTICA ME | B7: 2 | C7: 4 | D7: HD SATA II - capacidade 500 Gb, 7200 RPM, 3.0 Gb/s com tecnologia S.M.A.R.T. Com cabos de força e comunicação. | E7: Peça | F7: SEAGATE | G7: 339030.17 | H7: 250 | J7: =I7-(SUM(L7:W7)) -> 0 | K7: =IF(J7<0,"ATENÇÃO","OK") -> OK | L7: 0 | M7: 0 | N7: 0 | O7: 0 | P7: 0 | Q7: 0 | R7: 0 | S7: 0 | T7: 0 | U7: 0 | V7: 0 | W7: 0
C8: 5 | D8: HD SATA II - capacidade 1 Tb, 7200 RPM, 3.0 Gb/s com tecnologia S.M.A.R.T. Com cabos de força e comunicação. | E8: Peça | F8: SEAGATE | G8: 339030.17 | H8: 360.08 | J8: =I8-(SUM(L8:W8)) -> 0 | K8: =IF(J8<0,"ATENÇÃO","OK") -> OK | L8: 0 | M8: 0 | N8: 0 | O8: 0 | P8: 0 | Q8: 0 | R8: 0 | S8: 0 | T8: 0 | U8: 0 | V8: 0 | W8: 0
C9: 6 | D9: HD SATA II - capacidade 2 Tb, 7200 RPM, 3.0 Gb/s com tecnologia S.M.A.R.T. Com cabos de força e comunicação. | E9: Peça | F9: SEAGATE | G9: 339030.17 | H9: 558 | J9: =I9-(SUM(L9:W9)) -> 0 | K9: =IF(J9<0,"ATENÇÃO","OK") -> OK | L9: 0 | M9: 0 | N9: 0 | O9: 0 | P9: 0 | Q9: 0 | R9: 0 | S9: 0 | T9: 0 | U9: 0 | V9: 0 | W9: 0
A10: BEE2B INFORMÁTICA LTDA ME | B10: 3 | C10: 7 | D10: HD Externo de 500 Gb com interface USB 3.0, alimentação via USB, LED indicativo de funcionamento, taxa de transferência de 480 Mbps, incluso cabo de conexão USB. | E10: Peça | F10: WD | G10: 449052.35 | H10: 326.43 | J10: =I10-(SUM(L10:W10)) -> 0 | K10: =IF(J10<0,"ATENÇÃO","OK") -> OK | L10: 0 | M10: 0 | N10: 0 | O10: 0 | P10: 0 | Q10: 0 | R10: 0 | S10: 0 | T10: 0 | U10: 0 | V10: 0 | W10: 0
C11: 8 | D11: HD Externo de 1 Tb com interface USB 3.0, alimentação via USB, LED indicativo de funcionamento, taxa de transferência de 480 Mbps, incluso cabo de conexão USB. | E11: Peça | F11: SEAGATE | G11: 449052.35 | H11: 414.2 | I11: 1 | J11: =I11-(SUM(L11:W11)) -> 0 | K11: =IF(J11<0,"ATENÇÃO","OK") -> OK | L11: 0 | M11: 0 | N11: 0 | O11: 0 | P11: 1 | Q11: 0 | R11: 0 | S11: 0 | T11: 0 | U11: 0 | V11: 0 | W11: 0
C12: 9 | D12: HD Externo de 2 Tb com interface USB 3.0, alimentação via USB, LED indicativo de funcionamento, taxa de transferência de 480 Mbps, incluso cabo de conexão USB. | E12: Peça | F12: TOSHIBA | G12: 449052.35 | H12: 552.83 | I12: 1 | J12: =I12-(SUM(L12:W12)) -> 0 | K12: =IF(J12<0,"ATENÇÃO","OK") -> OK | L12: 0 | M12: 0 | N12: 0 | O12: 0 | P12: 1 | Q12: 0 | R12: 0 | S12: 0 | T12: 0 | U12: 0 | V12: 0 | W12: 0
A13: RICARL DISTRIBUIDORA EIRELI ME | B13: 4 | C13: 10 | D13: Pen Drive 64 Gb USB 3.0 | E13: Peça | F13: SANDISK | G13: 339030.17 | H13: 189.3 | I13: 2 | J13: =I13-(SUM(L13:W13)) -> 0 | K13: =IF(J13<0,"ATENÇÃO","OK") -> OK | L13: 0 | M13: 0 | N13: 0 | O13: 2 | P13: 0 | Q13: 0 | R13: 0 | S13: 0 | T13: 0 | U13: 0 | V13: 0 | W13: 0
C14: 11 | D14: Pen Drive 32 Gb USB 3.0 | E14: Peça | F14: SANDISK | G14: 339030.17 | H14: 105 | J14: =I14-(SUM(L14:W14)) -> 0 | K14: =IF(J14<0,"ATENÇÃO","OK") -> OK | L14: 0 | M14: 0 | N14: 0 | O14: 0 | P14: 0 | Q14: 0 | R14: 0 | S14: 0 | T14: 0 | U14: 0 | V14: 0 | W14: 0
C15: 12 | D15: Pen Drive 16 Gb USB 3.0 | E15: Peça | F15: SANDISK | G15: 339030.17 | H15: 68 | I15: 30 | J15: =I15-(SUM(L15:W15)) -> 20 | K15: =IF(J15<0,"ATENÇÃO","OK") -> OK | L15: 0 | M15: 0 | N15: 0 | O15: 10 | P15: 0 | Q15: 0 | R15: 0 | S15: 0 | T15: 0 | U15: 0 | V15: 0 | W15: 0
A16: FABRICIO SONCINI EQPTOS DE INFORMÁTICA ME | B16: 5 | C16: 13 | D16: Pente de Memória 4 Gb DDR3-1066 | E16: Peça | F16: MARKVISION | G16: 339030.17 | H16: 197.64 | J16: =I16-(SUM(L16:W16)) -> 0 | K16: =IF(J16<0,"ATENÇÃO","OK") -> OK | L16: 0 | M16: 0 | N16: 0 | O16: 0 | P16: 0 | Q16: 0 | R16: 0 | S16: 0 | T16: 0 | U16: 0 | V16: 0 | W16: 0
C17: 14 | D17: Pente de Memória 4 Gb DDR2-800 | E17: Peça | F17: KINGSTON | G17: 339030.17 | H17: 269 | J17: =I17-(SUM(L17:W17)) -> 0 | K17: =IF(J17<0,"ATENÇÃO","OK") -> OK | L17: 0 | M17: 0 | N17: 0 | O17: 0 | P17: 0 | Q17: 0 | R17: 0 | S17: 0 | T17: 0 | U17: 0 | V17: 0 | W17: 0
