Workbook
Name diasuteis: #REF!
Name diasuteis: #REF!
Name Ferias: #REF!
Name Ferias: #REF!
Name RD: OFFSET(#REF!,(MATCH(SMALL(#REF!,ROW()-10),#REF!,0)-1),0)
Name RD: OFFSET(#REF!,(MATCH(SMALL(#REF!,ROW()-10),#REF!,0)-1),0)

Sheet REITORIA_SEMS
A1: PROCESSO: 0757/2015/UDESC | D1: OBJETO: Aquisição de divisórias, vidros, cortinas e similares – Campus I, CERES, CESFI e CEAVI | I1: VIGÊNCIA DA ATA: 20/07/2015 até 19/07/2016 | L1: AF nº 1401/2015 Qtde. DT | M1: AF nº 1495/2015 Qtde. DT | N1: AF nº 1510/2015 Qtde. DT | O1: AF/OS nº 1511/2015 Qtde. DT | P1: AF nº 1704/2015 Qtde. DT | Q1: AF/OS nº xxxx/2015 Qtde. DT | R1: AF/OS nº xxxx/2015 Qtde. DT | S1: AF/OS nº xxxx/2015 Qtde. DT | T1: AF/OS nº xxxx/2015 Qtde. DT | U1: AF/OS nº xxxx/2015 Qtde. DT | V1: AF/OS nº xxxx/2015 Qtde. DT | W1: AF/OS nº xxxx/2015 Qtde. DT
A2: CENTRO PARTICIPANTE: REITORIA/SEMS
A3: FORNECEDOR | B3: LOTE | C3: ITEM | D3: PRODUTO - CARACTERÍSTICAS MÍNIMAS | E3: UNIDADE | F3: MARCA | G3: DETALHAMENTO | H3: Preço UNITÁRIO (R$) | I3: Qtde Registrada | J3: Saldo / Automático | K3: ALERTA | L3: 42226 | M3: 42237 | N3: 42241 | O3: 42241 | P3: 42269 | Q3: ...../...../...... | R3: ...../...../...... | S3: ...../...../...... | T3: ...../...../...... | U3: ...../...../...... | V3: ...../...../...... | W3: ...../...../......
A4: TECNOART COMERCIO E SERVIÇOS LTDA ME | B4: 1 | C4: 1 | D4: Espelho 6mm (lapidado). Instalado. | E4: m² | F4: CEBRACE | G4: 339030.24 | H4: 199.3 | I4: 18 | J4: =I4-(SUM(L4:W4)) -> 18 | K4: =IF(J4<0,"ATENÇÃO","OK") -> OK | L4: 0 | M4: 0 | N4: 0 | O4: 0 | P4: 0 | Q4: 0 | R4: 0 | S4: 0 | T4: 0 | U4: 0 | V4: 0 | W4: 0
C5: 2 | D5: Vidro mini-boreal incolor, 3mm. Instalado. | E5: m² | F5: CEBRACE | G5: 339030.24 | H5: 30 | I5: 25 | J5: =I5-(SUM(L5:W5)) -> 25 | K5: =IF(J5<0,"ATENÇÃO","OK") -> OK | L5: 0 | M5: 0 | N5: 0 | O5: 0 | P5: 0 | Q5: 0 | R5: 0 | S5: 0 | T5: 0 | U5: 0 | V5: 0 | W5: 0
A6: MILANI COMERCIO E DISTRIBUIÇÃO LTDA EPP | B6: 2 | C6: 3 | D6: Fornecimento de divisórias em painéis com espessura de 35mm, cor a definir; com miolo em colméia em kraft de alta gramatura e estrutura em aço galvanizado com pintura em epóxi-poliester pó. na cor. Colocação programada e cor do painel a escolher. Instalada. | E6: m² | F6: Eucatex | G6: 339030.24 | H6: 67 | I6: 170 | J6: =I6-(SUM(L6:W6)) -> 170 | K6: =IF(J6<0,"ATENÇÃO","OK") -> OK | L6: 0 | M6: 0 | N6: 0 | O6: 0 | P6: 0 | Q6: 0 | R6: 0 | S6: 0 | T6: 0 | U6: 0 | V6: 0 | W6: 0
C7: 4 | D7: Forro em PVC, espessura 8mm, largura 200mm, com estrutura em aço galvanizado. Cor a definir. Instalado. | E7: m² | F7: Tecnoperfil | G7: 339030.24 | H7: 35 | I7: 700 | J7: =I7-(SUM(L7:W7)) -> 0 | K7: =IF(J7<0,"ATENÇÃO","OK") -> OK | L7: 700 | M7: 0 | N7: 0 | O7: 0 | P7: 0 | Q7: 0 | R7: 0 | S7: 0 | T7: 0 | U7: 0 | V7: 0 | W7: 0
C8: 5 | D8: Fornecimento e instalação de vidro liso 3mm, incolor. | E8: m² | F8: Cebrace | G8: 339030.24 | H8: 68 | J8: =I8-(SUM(L8:W8)) -> 0 | K8: =IF(J8<0,"ATENÇÃO","OK") -> OK | L8: 0 | M8: 0 | N8: 0 | O8: 0 | P8: 0 | Q8: 0 | R8: 0 | S8: 0 | T8: 0 | U8: 0 | V8: 0 | W8: 0
C9: 6 | D9: Fornecimento e instalação de vidro liso 4mm, incolor. | E9: m² | F9: Cebrace | G9: 339030.24 | H9: 88 | I9: 80 | J9: =I9-(SUM(L9:W9)) -> 62 | K9: =IF(J9<0,"ATENÇÃO","OK") -> OK | L9: 0 | M9: 18 | N9: 0 | O9: 0 | P9: 0 | Q9: 0 | R9: 0 | S9: 0 | T9: 0 | U9: 0 | V9: 0 | W9: 0
C10: 7 | D10: Fornecimento e instalação de vidro liso 5mm, incolor. | E10: m² | F10: Cebrace | G10: 339030.24 | H10: 110 | I10: 80 | J10: =I10-(SUM(L10:W10)) -> 55 | K10: =IF(J10<0,"ATENÇÃO","OK") -> OK | L10: 0 | M10: 25 | N10: 0 | O10: 0 | P10: 0 | Q10: 0 | R10: 0 | S10: 0 | T10: 0 | U10: 0 | V10: 0 | W10: 0
C11: 8 | D11: Porta de abrir eixo vertical, 90X210cm em painéis divisórias, cor a definir. Com miolo em colméia e estrutura em aço com pintura em epóxi na cor preta (ou bege), completa (com maçaneta, chave e dobradiças). Compatíveis com as divisórias existentes. Instalada. | E11: pç | F11: Eucatex | G11: 339030.24 | H11: 185 | I11: 25 | J11: =I11-(SUM(L11:W11)) -> 25 | K11: =IF(J11<0,"ATENÇÃO","OK") -> OK | L11: 0 | M11: 0 | N11: 0 | O11: 0 | P11: 0 | Q11: 0 | R11: 0 | S11: 0 | T11: 0 | U11: 0 | V11: 0 | W11: 0
C12: 9 | D12: Porta de madeira angelim tipo pedra, semi-oca, lisa, para ser instalada em divisória acústica drywall e alvenaria, com revestimento interno de fibra de lã de vidro ou rocha, para isolamento acústico. Tamanho 80cm de larguraX2,10m de altura, espessura da porta 3,5cm. Tamanho da forra 9cm. Inclui forra, maçaneta e todos os acessórios necessários para a sua instalação. Cor natural, pronta para pintura. Instalada. | E12: pç | F12: Reitz | G12: 339030.24 | H12: 860 | I12: 18 | J12: =I12-(SUM(L12:W12)) -> 11 | K12: =IF(J12<0,"ATENÇÃO","OK") -> OK | L12: 0 | M12: 2 | N12: 0 | O12: 0 | P12: 5 | Q12: 0 | R12: 0 | S12: 0 | T12: 0 | U12: 0 | V12: 0 | W12: 0
C13: 10 | D13: Divisória acústica com paredes de gesso acartonado, drywall, em estrutura metálica e revestida internamente com fibra de lã de vidro para isolamento acústico. Espessura total da parede 90mm. Remover a anterior e instalar a nova. Incluir todos os acessórios necessários a sua instalação e pintura. Marca de referência: Placocenter. Instalada. | E13: m² | F13: Placo | G13: 339030.24 | H13: 91.55 | I13: 150 | J13: =I13-(SUM(L13:W13)) -> 0 | K13: =IF(J13<0,"ATENÇÃO","OK") -> OK | L13: 0 | M13: 60 | N13: 0 | O13: 0 | P13: 90 | Q13: 0 | R13: 0 | S13: 0 | T13: 0 | U13: 0 | V13: 0 | W13: 0
C14: 11 | D14: Forro acústico constituído de fibra lã de vidro, revestido na face aparente com PVC, com 20mm de espessura total e 80kg/m³ de densidade. Placas de 1250mmx625mm. 35m² com superfície enrugada e 525m² com superfície lisa. Remover o forro anterior e instalar o novo. Inclui todos os acessórios necessários para a sua instalação. Modelo de referência: Forrovid Boreal Isover. Instalado. | E14: m² | F14: Isover | G14: 339030.24 | H14: 64 | I14: 280 | J14: =I14-(SUM(L14:W14)) -> 280 | K14: =IF(J14<0,"ATENÇÃO","OK") -> OK | L14: 0 | M14: 0 | N14: 0 | O14: 0 | P14: 0 | Q14: 0 | R14: 0 | S14: 0 | T14: 0 | U14: 0 | V14: 0 | W14: 0
C15: 12 | D15: DIVISÓRIAS, ESPESSURA DE 35MM, Fornecimento de paredes divisórias em painéis de 35mm, com miolo tipo colméia em kraft de alta gramatura, estrutura em aço galvanizado, com pintura epóxi-poliester pó. Módulo com vidro de espessura mínima de 4mm. Painel com altura (pé direito) de 2110mm e bandeira em vidro de 790mm (total de pé direito 2900mm). Colocação programada e cor do painel a escolher. INSTALADO | E15: m² | F15: Eucatex | G15: 339030.24 | H15: 109 | J15: =I15-(SUM(L15:W15)) -> 0 | K15: =IF(J15<0,"ATENÇÃO","OK") -> OK | L15: 0 | M15: 0 | N15: 0 | O15: 0 | P15: 0 | Q15: 0 | R15: 0 | S15: 0 | T15: 0 | U15: 0 | V15: 0 | W15: 0
C16: 13 | D16: Porta para divisórias em painéis de espessura 35mm, com miolo tipo colméia em kraft de alta gramatura, estrutura em aço galvanizado, com pintura epóxi-poliester pó. Colocação programada e cor a escolher. Medidas da porta: 0,80x2,10m. INSTALADA | E16: peça | F16: Eucatex | G16: 339030.24 | H16: 209.9 | J16: =I16-(SUM(L16:W16)) -> 0 | K16: =IF(J16<0,"ATENÇÃO","OK") -> OK | L16: 0 | M16: 0 | N16: 0 | O16: 0 | P16: 0 | Q16: 0 | R16: 0 | S16: 0 | T16: 0 | U16: 0 | V16: 0 | W16: 0
C17: 14 | D17: Divisória acústica com paredes de gesso acartonado, drywall, em estrutura metálica e revestida internamente com fibra de lã de vidro para isolamento acústico, com rodapé e rodateto em perfil de alumínio revestido nas faces com vedante de espuma de PVC autocolante. Espessura total da parede 102mm. Vidros duplos de 6mm, normais ou laminados, com estrutura periférica em alumínio que permita a montagem de persianas em seu interior. Os vidros deverão ser apoiados em batentes de PVC para evitar vibrações. Incluir todos os acessórios necessários a sua instalação e pintura. Marca de referência: Placocenter. Instalada. | E17: m² | F17: Placo | G17: 339030.24 | H17: 240 | J17: =I17-(SUM(L17:W17)) -> 0 | K17: =IF(J17<0,"ATENÇÃO","OK") -> OK | L17: 0 | M17: 0 | N17: 0 | O17: 0 | P17: 0 | Q17: 0 | R17: 0 | S17: 0 | T17: 0 | U17: 0 | V17: 0 | W17: 0
C18: 15 | D18: Serviço de desmontagem de divisórias em painéis com espessura de 35 mm, miolo em colméia, estrutura em aço ou alumínio. | E18: m² | F18: 0 | G18: 339039.16 | H18: 6.5 | I18: 220 | J18: =I18-(SUM(L18:W18)) -> 220 | K18: =IF(J18<0,"ATENÇÃO","OK") -> OK | L18: 0 | M18: 0 | N18: 0 | O18: 0 | P18: 0 | Q18: 0 | R18: 0 | S18: 0 | T18: 0 | U18: 0 | V18: 0 | W18: 0
C19: 16 | D19: Serviço de montagem de divisórias em painéis com espessura de 35 mm, miolo em colméia, estrutura em aço ou alumínio. | E19: m² | F19: 0 | G19: 339039.16 | H19: 15 | I19: 120 | J19: =I19-(SUM(L19:W19)) -> 120 | K19: =IF(J19<0,"ATENÇÃO","OK") -> OK | L19: 0 | M19: 0 | N19: 0 | O19: 0 | P19: 0 | Q19: 0 | R19: 0 | S19: 0 | T19: 0 | U19: 0 | V19: 0 | W19: 0
A20: RENATA ALCOFORADO LACERDA DA SILVA ME | B20: 3 | C20: 17 | D20: Película profissional refletiva para redução de temperatura e de incidência dos raios UV. Instalada. | E20: m² | F20: Nextfil | G20: 339030.24 | H20: 35 | I20: 120 | J20: =I20-(SUM(L20:W20)) -> 95 | K20: =IF(J20<0,"ATENÇÃO","OK") -> OK | L20: 0 | M20: 0 | N20: 0 | O20: 25 | P20: 0 | Q20: 0 | R20: 0 | S20: 0 | T20: 0 | U20: 0 | V20: 0 | W20: 0
A21: ANTONIO CARLOS RIBEIRO PERSIANAS EPP | B21: 4 | C21: 18 | D21: Persiana vertical em tecido resinado RAMI natural com blackout em faixas de no mínimo 9cm, guias para abrir e fechar e mudança de posição (controle de entrada de luz) cor a definir, instalada. (para cálculos da cotação utilizar altura média de 1,60m). | E21: m² | F21: Quevedo | G21: 339030.24 | H21: 66 | I21: 25 | J21: =I21-(SUM(L21:W21)) -> 25 | K21: =IF(J21<0,"ATENÇÃO","OK") -> OK | L21: 0 | M21: 0 | N21: 0 | O21: 0 | P21: 0 | Q21: 0 | R21: 0 | S21: 0 | T21: 0 | U21: 0 | V21: 0 | W21: 0
C22: 19 | D22: Persiana vertical em tecido resinado RAMI natural - em faixas de no mín. 9 cm, guias para abrir e fechar e mudança de posição (controle a entrada de luz). Cor a definir. Instalada. (para cálculos da cotação utilizar altura média de 1,60m). | E22: m² | F22: Quevedo | G22: 339030.24 | H22: 49.3 | I22: 110 | J22: =I22-(SUM(L22:W22)) -> 110 | K22: =IF(J22<0,"ATENÇÃO","OK") -> OK | L22: 0 | M22: 0 | N22: 0 | O22: 0 | P22: 0 | Q22: 0 | R22: 0 | S22: 0 | T22: 0 | U22: 0 | V22: 0 | W22: 0
C23: 20 | D23: Persiana horizontal de alumínio com lâminas de 50mm, não-perfurada, que permita ser utilizada por meio de um cordão e haste. Completa, inclui todos os acessórios necessários para a sua instalação e funcionamento. Modelo de referência: Haste e Cordão/Luxaflex. instalada. | E23: m² | F23: Quevedo | G23: 339030.24 | H23: 113 | I23: 25 | J23: =I23-(SUM(L23:W23)) -> 25 | K23: =IF(J23<0,"ATENÇÃO","OK") -> OK | L23: 0 | M23: 0 | N23: 0 | O23: 0 | P23: 0 | Q23: 0 | R23: 0 | S23: 0 | T23: 0 | U23: 0 | V23: 0 | W23: 0
C24: 21 | D24: Persiana horizontal de alumínio com lâminas de 50mm, modelo blackout, sem furos, que permita ser utilizada por meio de um cordão e haste. Completa, inclui todos os acessórios necessários para a sua instalação e funcionamento. Modelo de referência: Haste e Cordão/Luxaflex. instalada. | E24: m² | F24: Quevedo | G24: 339030.24 | H24: 113 | I24: 25 | J24: =I24-(SUM(L24:W24)) -> 25 | K24: =IF(J24<0,"ATENÇÃO","OK") -> OK | L24: 0 | M24: 0 | N24: 0 | O24: 0 | P24: 0 | Q24: 0 | R24: 0 | S24: 0 | T24: 0 | U24: 0 | V24: 0 | W24: 0
C25: 22 | D25: Persiana tipo tela plana de tecido filtra sol com 1% de abertura (tecido usado em persianas), tecido composto por fibra de vidro e PVC, cor branco, lavável, costurada com velcro de 2,5cm em todas as bordas, a fixação nas janelas será com velcro do lado oposto ao costurado na persiana tipo tela. Cada tela deverá possuir as seguintes medidas: 53cm x 138cm Observação: O velcro deverá ser costurado nas extremidades do tecido (nos quatro lados) e a outra face do velcro deverá ser colada na madeira (nos quatro lados). | E25: peça | F25: Quevedo | G25: 339030.24 | H25: 85 | J25: =I25-(SUM(L25:W25)) -> 0 | K25: =IF(J25<0,"ATENÇÃO","OK") -> OK | L25: 0 | M25: 0 | N25: 0 | O25: 0 | P25: 0 | Q25: 0 | R25: 0 | S25: 0 | T25: 0 | U25: 0 | V25: 0 | W25: 0
C26: 23 | D26: Persiana tipo tela de tecido filtrasol, 1% de abertura (tecido usado em persianas), tecido composto por fibra de vidro e PVC, cor branco, lavável, costurada com velcro de 2,5cm em todas as bordas, a fixação nas janelas será com velcro do lado oposto ao costurado na persiana tipo tela. Cada tela deverá possuir as seguintes medidas: 54cm x 32cm Observação: O velcro deverá ser costurado nas extremidades do tecido (nos quatro lados) e a outra face do velcro deverá ser colada na madeira (nos quatro lados). | E26: peça | F26: Quevedo | G26: 339030.24 | H26: 41 | J26: =I26-(SUM(L26:W26)) -> 0 | K26: =IF(J26<0,"ATENÇÃO","OK") -> OK | L26: 0 | M26: 0 | N26: 0 | O26: 0 | P26: 0 | Q26: 0 | R26: 0 | S26: 0 | T26: 0 | U26: 0 | V26: 0 | W26: 0
C27: 24 | D27: Serviço de reparo de Persiana vertical em tecido resinado RAMI natural - em faixas de no mín. 9 cm, guias para abrir e fechar e mudança de posição (controle a entrada de luz). Cor a definir. Instalada. (para cálculos da cotação utilizar altura média de 1,60m), com fornecimento de presilhas, correntes de regulagens e pá de fixação inferior, equivalemente a m2 e cortina | E27: m² | F27: Quevedo | G27: 339039.16 | H27: 20 | J27: =I27-(SUM(L27:W27)) -> 0 | K27: =IF(J27<0,"ATENÇÃO","OK") -> OK | L27: 0 | M27: 0 | N27: 0 | O27: 0 | P27: 0 | Q27: 0 | R27: 0 | S27: 0 | T27: 0 | U27: 0 | V27: 0 | W27: 0
A28: TECNOART COMERCIO E SERVIÇOS LTDA ME | B28: 5 | C28: 25 | D28: Piso cerâmico PEI-5 60x60cm, padrão A, anti-derrapante. para uso externo. anti-derrapante.de 60x60cm. Superfície acetinada. Inclui todos os materiais necessário a sua instalação. Marca de referência: Eliane. Modelo de referência: Etna crema. Instalado. | E28: m² | F28: ELIANE REF. ETNA CREMA | G28: 339030.24 | H28: 86.96 | J28: =I28-(SUM(L28:W28)) -> 0 | K28: =IF(J28<0,"ATENÇÃO","OK") -> OK | L28: 0 | M28: 0 | N28: 0 | O28: 0 | P28: 0 | Q28: 0 | R28: 0 | S28: 0 | T28: 0 | U28: 0 | V28: 0 | W28: 0
C29: 26 | D29: Piso cerâmico PEI-5 30x30cm, padrão A, anti-derrapante. Para uso interno. Inclui todos os materiais necessário a sua instalação, cor a definir. Instalado. | E29: m² | F29: ILHA BELA | G29: 339030.24 | H29: 68.2 | I29: 80 | J29: =I29-(SUM(L29:W29)) -> 80 | K29: =IF(J29<0,"ATENÇÃO","OK") -> OK | L29: 0 | M29: 0 | N29: 0 | O29: 0 | P29: 0 | Q29: 0 | R29: 0 | S29: 0 | T29: 0 | U29: 0 | V29: 0 | W29: 0
C30: 27 | D30: Piso cerâmico PEI-5 45x45cm, padrão A, anti-derrapante. Para uso interno. Inclui todos os materiais necessário a sua instalação, cor a definir. Instalado. | E30: m² | F30: ANGELGRES | G30: 339030.24 | H30: 68.2 | I30: 80 | J30: =I30-(SUM(L30:W30)) -> 80 | K30: =IF(J30<0,"ATENÇÃO","OK") -> OK | L30: 0 | M30: 0 | N30: 0 | O30: 0 | P30: 0 | Q30: 0 | R30: 0 | S30: 0 | T30: 0 | U30: 0 | V30: 0 | W30: 0
A31: MARIA HELENA COMERCIO DE MOVEIS EIRELI ME | B31: 6 | C31: 28 | D31: Soleira de granito, com 25mm de espessura, com dente de quebra-gota. Cor branca ou cinza andorinha. Instalada. | F31: Marmoraria Mila | G31: 339030.24 | H31: 458 | I31: 30 | J31: =I31-(SUM(L31:W31)) -> 30 | K31: =IF(J31<0,"ATENÇÃO","OK") -> OK | L31: 0 | M31: 0 | N31: 0 | O31: 0 | P31: 0 | Q31: 0 | R31: 0 | S31: 0 | T31: 0 | U31: 0 | V31: 0 | W31: 0
A32: TECNOART COMERCIO E SERVIÇOS LTDA ME | B32: 7 | C32: 29 | D32: Cortina em tecido Gorgurão, cor a definir, com aproximadamente 4m de largura, 2m de altura, com pregas "macho" (totalizando 12m de tecido), com trilho suiço duplo colocado. | E32: peça | F32: TECNOART | G32: 339030.24 | H32: 920 | J32: =I32-(SUM(L32:W32)) -> 0 | K32: =IF(J32<0,"ATENÇÃO","OK") -> OK | L32: 0 | M32: 0 | N32: 0 | O32: 0 | P32: 0 | Q32: 0 | R32: 0 | S32: 0 | T32: 0 | U32: 0 | V32: 0 | W32: 0
C33: 30 | D33: Cortina em tecido Gorgurão, cor a definir, com aproximadamente 4,65m de largura, 2m de altura, com pregas "macho" (totalizando 98m de tecido), com trilho suiço duplo colocado. Com Blecaute de tecido poliester, cor a definir, com 4,65m largura, e 2m de altura (totalizando 98m de tecido), colocado. | E33: peça | F33: TECNOART | G33: 339030.24 | H33: 1670 | J33: =I33-(SUM(L33:W33)) -> 0 | K33: =IF(J33<0,"ATENÇÃO","OK") -> OK | L33: 0 | M33: 0 | N33: 0 | O33: 0 | P33: 0 | Q33: 0 | R33: 0 | S33: 0 | T33: 0 | U33: 0 | V33: 0 | W33: 0
C34: 31 | D34: Cortina em tecido Gorgurão, cor a definir, com aproximadamente 3,30m de largura, 2m de altura, com pregas "macho" (totalizando 20m de tecido), com trilho suiço duplo colocado. Com Blecaute de tecido poliester, cor a definir, com 3,30m largura, e 2m de altura (totalizando 20m de tecido), colocado. | E34: peça | F34: TECNOART | G34: 339030.24 | H34: 1178 | J34: =I34-(SUM(L34:W34)) -> 0 | K34: =IF(J34<0,"ATENÇÃO","OK") -> OK | L34: 0 | M34: 0 | N34: 0 | O34: 0 | P34: 0 | Q34: 0 | R34: 0 | S34: 0 | T34: 0 | U34: 0 | V34: 0 | W34: 0
A35: MARIA HELENA COMERCIO DE MOVEIS EIRELI ME | B35: 8 | C35: 32 | D35: Porta de aluminio para banheiros. Na cor branca, com forra, fechadura (par de chaves), folha veneziana vedada, grapas para instalação, entrega instalada. Tamanho aproximado de 1,90x1m (podendo sofrer variações de até 5cm para mais ou para menos - verificar antes da instalação) | E35: peça | F35: Stylo Alumínio | G35: 339030.24 | H35: 977 | J35: =I35-(SUM(L35:W35)) -> 0 | K35: =IF(J35<0,"ATENÇÃO","OK") -> OK | L35: 0 | M35: 0 | N35: 0 | O35: 0 | P35: 0 | Q35: 0 | R35: 0 | S35: 0 | T35: 0 | U35: 0 | V35: 0 | W35: 0
C36: 33 | D36: Porta de aluminio para banheiros. Na cor branca, com forra, fechadura (par de chaves), folha veneziana vedada, grapas para instalação, entrega instalada. Tamanho aproximado de 1,90x,065m (podendo sofrer variações de até 5cm para mais ou para menos - verificar antes da instalação) | E36: peça | F36: Stylo Alumínio | G36: 339030.24 | H36: 840 | J36: =I36-(SUM(L36:W36)) -> 0 | K36: =IF(J36<0,"ATENÇÃO","OK") -> OK | L36: 0 | M36: 0 | N36: 0 | O36: 0 | P36: 0 | Q36: 0 | R36: 0 | S36: 0 | T36: 0 | U36: 0 | V36: 0 | W36: 0
C37: 34 | D37: Porta de aluminio para banheiros. Na cor branca, com forra, fechadura (par de chaves), folha veneziana vedada, grapas para instalação, entrega instalada. Tamanho aproximado de 1,1x0,95m (podendo sofrer variações de até 5cm para mais ou para menos - verificar antes da instalação) | E37: peça | F37: Stylo Alumínio | G37: 339030.24 | H37: 699 | J37: =I37-(SUM(L37:W37)) -> 0 | K37: =IF(J37<0,"ATENÇÃO","OK") -> OK | L37: 0 | M37: 0 | N37: 0 | O37: 0 | P37: 0 | Q37: 0 | R37: 0 | S37: 0 | T37: 0 | U37: 0 | V37: 0 | W37: 0
C38: 35 | D38: Porta de aluminio para banheiros. Na cor branca, com forra, fechadura (par de chaves), folha veneziana vedada, grapas para instalação, entrega instalada. Tamanho aproximado de 2,10x80m (podendo sofrer variações de até 5cm para mais ou para menos - verificar antes da instalação) | E38: peça | F38: Stylo Alumínio | G38: 339030.24 | H38: 890 | J38: =I38-(SUM(L38:W38)) -> 0 | K38: =IF(J38<0,"ATENÇÃO","OK") -> OK | L38: 0 | M38: 0 | N38: 0 | O38: 0 | P38: 0 | Q38: 0 | R38: 0 | S38: 0 | T38: 0 | U38: 0 | V38: 0 | W38: 0
A39: TECNOART COMERCIO E SERVIÇOS LTDA ME | B39: 9 | C39: 36 | D39: Porta de vidro de 10mm com mola área e braço de parada. Colocadas. Metragem 2,10x0,98m (podendo sofrer variações de até 5cm para mais ou pra menos - verificar antes da instalação) | E39: peça | F39: TECNOART | G39: 339030.24 | H39: 1300 | J39: =I39-(SUM(L39:W39)) -> 0 | K39: =IF(J39<0,"ATENÇÃO","OK") -> OK | L39: 0 | M39: 0 | N39: 0 | O39: 0 | P39: 0 | Q39: 0 | R39: 0 | S39: 0 | T39: 0 | U39: 0 | V39: 0 | W39: 0
C40: 37 | D40: Porta de vidro de 10mm com mola área e braço de parada. Colocadas. Metragem 2,10x0,70m (podendo sofrer variações de até 5cm para mais ou pra menos - verificar antes da instalação) | E40: peça | F40: TECNOART | G40: 339030.24 | H40: 1100 | J40: =I40-(SUM(L40:W40)) -> 0 | K40: =IF(J40<0,"ATENÇÃO","OK") -> OK | L40: 0 | M40: 0 | N40: 0 | O40: 0 | P40: 0 | Q40: 0 | R40: 0 | S40: 0 | T40: 0 | U40: 0 | V40: 0 | W40: 0
C41: 38 | D41: Porta de abrir em vidro temperado, tipo blindex, transparente/incolor. Medindo 900 x 2200 x 10 mm. Dobradiças, fechadura e maçaneta/Puxador em alumínio branco. Inclui todos os materiais necessários para a sua instalação. INSTALADA | E41: peça | F41: TECNOART | G41: 339030.24 | H41: 660 | J41: =I41-(SUM(L41:W41)) -> 0 | K41: =IF(J41<0,"ATENÇÃO","OK") -> OK | L41: 0 | M41: 0 | N41: 0 | O41: 0 | P41: 0 | Q41: 0 | R41: 0 | S41: 0 | T41: 0 | U41: 0 | V41: 0 | W41: 0
C42: 39 | D42: Janela em vidro temperado tipo blindex, transparente/incolor. Medida total 2500 x 5200 x 10 mm, sendo fixo a parte superior 1000 x 5200 mm e as partes laterais 1300 x 1500 mm de cada lado e janelas de correr no centro com 1300 x 1500 mm. Dobradiças, fechaduras e puxadores em alumínio branco. Incluindo todos os materiais necessários para a instalação. INSTALADA. | E42: peça | F42: TECNOART | G42: 339030.24 | H42: 3945 | J42: =I42-(SUM(L42:W42)) -> 0 | K42: =IF(J42<0,"ATENÇÃO","OK") -> OK | L42: 0 | M42: 0 | N42: 0 | O42: 0 | P42: 0 | Q42: 0 | R42: 0 | S42: 0 | T42: 0 | U42: 0 | V42: 0 | W42: 0
C43: 40 | D43: Janela em vidro temperado tipo blindex, transparente/incolor. Medida total 2300 x 1200 x 10 mm, sendo fixo a parte inferior 1150 x 1200 mm e a parte superior de abrir, medindo 1150 x 1200 mm. Dobradiças, fechaduras e puxadores em alumínio branco. Retirada do vidro existente. Incluindo todos os materiais necessários para a instalação. INSTALADA. | E43: peça | F43: TECNOART | G43: 339030.24 | H43: 859.37 | J43: =I43-(SUM(L43:W43)) -> 0 | K43: =IF(J43<0,"ATENÇÃO","OK") -> OK | L43: 0 | M43: 0 | N43: 0 | O43: 0 | P43: 0 | Q43: 0 | R43: 0 | S43: 0 | T43: 0 | U43: 0 | V43: 0 | W43: 0
A44: MARIA HELENA COMERCIO DE MOVEIS EIRELI ME | B44: 10 | C44: 41 | D44: Fornecimento de divisória tipo painel móvel dupla face, oco, aberto na parte superior, confeccionado com placas de MDF (Médium Density Fiberboard) resistente a umidade e água, selo verde, com espessura 15mm, na cor branco diamante, da marca Masisa ou similar, as dimensões serão 1,35m x 1,80m x 0,20cm, conforme desenho. O interior deve ser preenchido com 8 (oito) réguas estruturais de MDF de 15mm, coladas em toda sua extensão, nas mesmas medidas das laterais, de um lado a outro do painel, para evitar deformidades. A parte inferior deverá ser fechada com placa de MDF de 15mm e na base deverão ser fixados 6 (seis) rodízios em metal, com dispositivo giratório 360 graus, roda de borracha preta, cinza escuro ou similar, com capacidade até 60kg, com dispositivo de trava em 6 (seis) rodízios fixados nas extremidades, marca Vonder ou similar. Os rodízios deverão ser testados depois de fixados a fim de verificar os rolamentos e dispositivos de trava. Não serão aceitas placas que apresentem deformidades em razão da fabricação, estocagem, limpeza ou outro aspecto visual de correção, nem serão aceitos rodízios com defeito ou deformidade que a fiscalização julgue procedente. No sentido da largura, na parte superior aberta, deverão ser fixados, internamente, dois suportes de varão e dois varões de alumínio de 3mm de espessura. | E44: peça | F44: Maria Helena | G44: 339030.24 | H44: 1290 | J44: =I44-(SUM(L44:W44)) -> 0 | K44: =IF(J44<0,"ATENÇÃO","OK") -> OK | L44: 0 | M44: 0 | N44: 0 | O44: 0 | P44: 0 | Q44: 0 | R44: 0 | S44: 0 | T44: 0 | U44: 0 | V44: 0 | W44: 0
A45: TECNOART COMERCIO E SERVIÇOS LTDA ME | B45: 11 | C45: 42 | D45: Fornecimento de divisória tipo painel móvel que deverão ser executados em alumínio, moldura tubular retangular, medindo aproximadamente 2,5cm X 5,0cm, acabamento decorativo usando processo de anodização na cor preto fosco. Os perfis que fecham o interior da estrutura do painel são de alumínio, tubular redondo, com dimensão de (aproximadamente) 2,0cm de diâmetro, com acabamento decorativo usando processo de anodização cor preto fosco. Cada painel deverá vir acompanhado de uma barra de alumínio (tubo redondo), com diâmetro de 3,5cm e acabamento decorativo usando processo de anodização cor preto fosco, que permitirão a fixação entre os painéis com pino, fornecidos para possibilitar a utilização destes painéis unidos em forma de biombo. Estes pinos devem ser pivotantes da marca Acoplac ou similar e executados em material resistente de polipropileno, nylon ou similar. Cada painel deverá possuir 4 (quatro) pinos. Cada painel deverá possuir duas sapatas niveladoras de 20mm, que servirão de pé. Estes pés deverão ser reguláveis com bucha. Os parafusos da estrutura dos painéis devem ser de aço inox. As medidas estão estabelecidas no desenho anexo que ilustra como o painel deve ser executado. | E45: peça | F45: TECNOART | G45: 339030.24 | H45: 925 | J45: =I45-(SUM(L45:W45)) -> 0 | K45: =IF(J45<0,"ATENÇÃO","OK") -> OK | L45: 0 | M45: 0 | N45: 0 | O45: 0 | P45: 0 | Q45: 0 | R45: 0 | S45: 0 | T45: 0 | U45: 0 | V45: 0 | W45: 0
A46: DESERTO | B46: 12 | C46: 43 | D46: Tapete cerdas médias 2,5x2,5 m. Antiderrapante. Lavável. Cor e estampa à definir. Marca de referência: São Carlos. | E46: peça | F46: 0 | G46: 339030.24 | H46: 0 | J46: =I46-(SUM(L46:W46)) -> 0 | K46: =IF(J46<0,"ATENÇÃO","OK") -> OK | L46: 0 | M46: 0 | N46: 0 | O46: 0 | P46: 0 | Q46: 0 | R46: 0 | S46: 0 | T46: 0 | U46: 0 | V46: 0 | W46: 0
A47: TECNOART COMERCIO E SERVIÇOS LTDA ME | B47: 13 | C47: 44 | D47: Toldo modelo meia lua, medidas: 6m comprimento x 3,20m largura x 3m altura. Material estrutural: tubos de aço galvanizado, metalon barras de 9cm, com pintura smallpox vermelha, com soldagem tipo MIG em toda a estrutura. Cobertura em policarbonato alveolar de 6mm na cor vermelha. Metalon barras na cobertura de 5cm. A fixação das chapas em policarbonato nas estruturas deverão ser feitas em parafuso auto-brocante e calafetadas com silicone, quando necessário, em todo o perímetro. Incluindo todos os materiais para a instalação. INSTALADO | E47: peça | F47: TECNOART | G47: 339030.24 | H47: 8700 | J47: =I47-(SUM(L47:W47)) -> 0 | K47: =IF(J47<0,"ATENÇÃO","OK") -> OK | L47: 0 | M47: 0 | N47: 0 | O47: 0 | P47: 0 | Q47: 0 | R47: 0 | S47: 0 | T47: 0 | U47: 0 | V47: 0 | W47: 0
A48: GEOMA CONSTRUÇÕES EIRELI EPP | B48: 14 | C48: 45 | D48: Serviço de retirada de piso, construção de novo piso, regularização e preparação para instalação de novos pisos. Destinar o respectivo entulho da substituição do piso. | E48: m² | F48: 0 | G48: 339039.16 | H48: 150 | J48: =I48-(SUM(L48:W48)) -> 0 | K48: =IF(J48<0,"ATENÇÃO","OK") -> OK | L48: 0 | M48: 0 | N48: 0 | O48: 0 | P48: 0 | Q48: 0 | R48: 0 | S48: 0 | T48: 0 | U48: 0 | V48: 0 | W48: 0
C49: 46 | D49: Serviço de lixação, revitalização e clareamento do piso feito em pedra ardózia bruta. Incluindo revestimento e impermeabiliozação do pios após lixar e topdos os materiais necessários para realização do serviço. | E49: m² | F49: 0 | G49: 339039.16 | H49: 60 | J49: =I49-(SUM(L49:W49)) -> 0 | K49: =IF(J49<0,"ATENÇÃO","OK") -> OK | L49: 0 | M49: 0 | N49: 0 | O49: 0 | P49: 0 | Q49: 0 | R49: 0 | S49: 0 | T49: 0 | U49: 0 | V49: 0 | W49: 0
A50: MARIA HELENA COMERCIO DE MOVEIS EIRELI ME | B50: 15 | C50: 47 | D50: Piso laminado vinílico, placas decorativas com estampagem digital de madeira com capa de uso de 0,5mm (modelo a definir); placas de aproximadamente 0,41x0,41m; espessura de 3mm a 5mm; resistente a abrasão e químicos classe T; resistente a uso interno e a cadeiras com rodízio; alta durabilidade; certificado da norma brasileira NBR 8660-classe2A; garantia mínima de 15 anos; com acessórios e serviço de instalação; regularização de contrapiso e acabamento inclusos; densidade ótica de fumaça (toxidade em caso de incêndio) menor que 450dm (norma ASTME 662); absorção de som ao impacto norma ASTME 989-06 = 10 decibéis; identação residual igual ou menor a 0,1mm; estabilidade dimensional EN 434 igual ou menor que 0,13mm. INSTALADO. | E50: m² | F50: Duraflor | G50: 339030.24 | H50: 109.84 | I50: 388 | J50: =I50-(SUM(L50:W50)) -> 0 | K50: =IF(J50<0,"ATENÇÃO","OK") -> OK | L50: 0 | M50: 0 | N50: 388 | O50: 0 | P50: 0 | Q50: 0 | R50: 0 | S50: 0 | T50: 0 | U50: 0 | V50: 0 | W50: 0
M51: =SUM(H9*M9+H10*M10+H12*M12+H13*M13) -> 11547 | N51: =SUM(H50*N50) -> 42617.92 | O51: =SUM(H20*O20) -> 875
D52: *Prazos de entrega e pagamento conforme termo de referência

Sheet REITORIA_PROAD
A1: PROCESSO: 0757/2015/UDESC | D1: OBJETO: Aquisição de divisórias, vidros, cortinas e similares – Campus I, CERES, CESFI e CEAVI | I1: VIGÊNCIA DA ATA: 20/07/2015 até 19/07/2016 | L1: AF/OS nº xxxx/2015 Qtde. DT | M1: AF/OS nº xxxx/2015 Qtde. DT | N1: AF/OS nº xxxx/2015 Qtde. DT | O1: AF/OS nº xxxx/2015 Qtde. DT | P1: AF/OS nº xxxx/2015 Qtde. DT | Q1: AF/OS nº xxxx/2015 Qtde. DT | R1: AF/OS nº xxxx/2015 Qtde. DT | S1: AF/OS nº xxxx/2015 Qtde. DT | T1: AF/OS nº xxxx/2015 Qtde. DT | U1: AF/OS nº xxxx/2015 Qtde. DT | V1: AF/OS nº xxxx/2015 Qtde. DT | W1: AF/OS nº xxxx/2015 Qtde. DT
A2: CENTRO PARTICIPANTE: REITORIA/PROAD
A3: FORNECEDOR | B3: LOTE | C3: ITEM | D3: PRODUTO - CARACTERÍSTICAS MÍNIMAS | E3: UNIDADE | F3: MARCA | G3: DETALHAMENTO | H3: Preço UNITÁRIO (R$) | I3: Qtde Registrada | J3: Saldo / Automático | K3: ALERTA | L3: ...../...../...... | M3: ...../...../...... | N3: ...../...../...... | O3: ...../...../...... | P3: ...../...../...... | Q3: ...../...../...... | R3: ...../...../...... | S3: ...../...../...... | T3: ...../...../...... | U3: ...../...../...... | V3: ...../...../...... | W3: ...../...../......
A4: TECNOART COMERCIO E SERVIÇOS LTDA ME | B4: 1 | C4: 1 | D4: Espelho 6mm (lapidado). Instalado. | E4: m² | F4: CEBRACE | G4: 339030.24 | H4: 199.3 | J4: =I4-(SUM(L4:W4)) -> 0 | K4: =IF(J4<0,"ATENÇÃO","OK") -> OK | L4: 0 | M4: 0 | N4: 0 | O4: 0 | P4: 0 | Q4: 0 | R4: 0 | S4: 0 | T4: 0 | U4: 0 | V4: 0 | W4: 0
C5: 2 | D5: Vidro mini-boreal incolor, 3mm. Instalado. | E5: m² | F5: CEBRACE | G5: 339030.24 | H5: 30 | J5: =I5-(SUM(L5:W5)) -> 0 | K5: =IF(J5<0,"ATENÇÃO","OK") -> OK | L5: 0 | M5: 0 | N5: 0 | O5: 0 | P5: 0 | Q5: 0 | R5: 0 | S5: 0 | T5: 0 | U5: 0 | V5: 0 | W5: 0
A6: MILANI COMERCIO E DISTRIBUIÇÃO LTDA EPP | B6: 2 | C6: 3 | D6: Fornecimento de divisórias em painéis com espessura de 35mm, cor a definir; com miolo em colméia em kraft de alta gramatura e estrutura em aço galvanizado com pintura em epóxi-poliester pó. na cor. Colocação programada e cor do painel a escolher. Instalada. | E6: m² | F6: Eucatex | G6: 339030.24 | H6: 67 | J6: =I6-(SUM(L6:W6)) -> 0 | K6: =IF(J6<0,"ATENÇÃO","OK") -> OK | L6: 0 | M6: 0 | N6: 0 | O6: 0 | P6: 0 | Q6: 0 | R6: 0 | S6: 0 | T6: 0 | U6: 0 | V6: 0 | W6: 0
C7: 4 | D7: Forro em PVC, espessura 8mm, largura 200mm, com estrutura em aço galvanizado. Cor a definir. Instalado. | E7: m² | F7: Tecnoperfil | G7: 339030.24 | H7: 35 | J7: =I7-(SUM(L7:W7)) -> 0 | K7: =IF(J7<0,"ATENÇÃO","OK") -> OK | L7: 0 | M7: 0 | N7: 0 | O7: 0 | P7: 0 | Q7: 0 | R7: 0 | S7: 0 | T7: 0 | U7: 0 | V7: 0 | W7: 0
C8: 5 | D8: Fornecimento e instalação de vidro liso 3mm, incolor. | E8: m² | F8: Cebrace | G8: 339030.24 | H8: 68 | I8: 20 | J8: =I8-(SUM(L8:W8)) -> 20 | K8: =IF(J8<0,"ATENÇÃO","OK") -> OK | L8: 0 | M8: 0 | N8: 0 | O8: 0 | P8: 0 | Q8: 0 | R8: 0 | S8: 0 | T8: 0 | U8: 0 | V8: 0 | W8: 0
C9: 6 | D9: Fornecimento e instalação de vidro liso 4mm, incolor. | E9: m² | F9: Cebrace | G9: 339030.24 | H9: 88 | I9: 20 | J9: =I9-(SUM(L9:W9)) -> 20 | K9: =IF(J9<0,"ATENÇÃO","OK") -> OK | L9: 0 | M9: 0 | N9: 0 | O9: 0 | P9: 0 | Q9: 0 | R9: 0 | S9: 0 | T9: 0 | U9: 0 | V9: 0 | W9: 0
C10: 7 | D10: Fornecimento e instalação de vidro liso 5mm, incolor. | E10: m² | F10: Cebrace | G10: 339030.24 | H10: 110 | I10: 20 | J10: =I10-(SUM(L10:W10)) -> 20 | K10: =IF(J10<0,"ATENÇÃO","OK") -> OK | L10: 0 | M10: 0 | N10: 0 | O10: 0 | P10: 0 | Q10: 0 | R10: 0 | S10: 0 | T10: 0 | U10: 0 | V10: 0 | W10: 0
C11: 8 | D11: Porta de abrir eixo vertical, 90X210cm em painéis divisórias, cor a definir. Com miolo em colméia e estrutura em aço com pintura em epóxi na cor preta (ou bege), completa (com maçaneta, chave e dobradiças). Compatíveis com as divisórias existentes. Instalada. | E11: pç | F11: Eucatex | G11: 339030.24 | H11: 185 | J11: =I11-(SUM(L11:W11)) -> 0 | K11: =IF(J11<0,"ATENÇÃO","OK") -> OK | L11: 0 | M11: 0 | N11: 0 | O11: 0 | P11: 0 | Q11: 0 | R11: 0 | S11: 0 | T11: 0 | U11: 0 | V11: 0 | W11: 0
C12: 9 | D12: Porta de madeira angelim tipo pedra, semi-oca, lisa, para ser instalada em divisória acústica drywall e alvenaria, com revestimento interno de fibra de lã de vidro ou rocha, para isolamento acústico. Tamanho 80cm de larguraX2,10m de altura, espessura da porta 3,5cm. Tamanho da forra 9cm. Inclui forra, maçaneta e todos os acessórios necessários para a sua instalação. Cor natural, pronta para pintura. Instalada. | E12: pç | F12: Reitz | G12: 339030.24 | H12: 860 | J12: =I12-(SUM(L12:W12)) -> 0 | K12: =IF(J12<0,"ATENÇÃO","OK") -> OK | L12: 0 | M12: 0 | N12: 0 | O12: 0 | P12: 0 | Q12: 0 | R12: 0 | S12: 0 | T12: 0 | U12: 0 | V12: 0 | W12: 0
C13: 10 | D13: Divisória acústica com paredes de gesso acartonado, drywall, em estrutura metálica e revestida internamente com fibra de lã de vidro para isolamento acústico. Espessura total da parede 90mm. Remover a anterior e instalar a nova. Incluir todos os acessórios necessários a sua instalação e pintura. Marca de referência: Placocenter. Instalada. | E13: m² | F13: Placo | G13: 339030.24 | H13: 91.55 | I13: 120 | J13: =I13-(SUM(L13:W13)) -> 120 | K13: =IF(J13<0,"ATENÇÃO","OK") -> OK | L13: 0 | M13: 0 | N13: 0 | O13: 0 | P13: 0 | Q13: 0 | R13: 0 | S13: 0 | T13: 0 | U13: 0 | V13: 0 | W13: 0
C14: 11 | D14: Forro acústico constituído de fibra lã de vidro, revestido na face aparente com PVC, com 20mm de espessura total e 80kg/m³ de densidade. Placas de 1250mmx625mm. 35m² com superfície enrugada e 525m² com superfície lisa. Remover o forro anterior e instalar o novo. Inclui todos os acessórios necessários para a sua instalação. Modelo de referência: Forrovid Boreal Isover. Instalado. | E14: m² | F14: Isover | G14: 339030.24 | H14: 64 | J14: =I14-(SUM(L14:W14)) -> 0 | K14: =IF(J14<0,"ATENÇÃO","OK") -> OK | L14: 0 | M14: 0 | N14: 0 | O14: 0 | P14: 0 | Q14: 0 | R14: 0 | S14: 0 | T14: 0 | U14: 0 | V14: 0 | W14: 0
C15: 12 | D15: DIVISÓRIAS, ESPESSURA DE 35MM, Fornecimento de paredes divisórias em painéis de 35mm, com miolo tipo colméia em kraft de alta gramatura, estrutura em aço galvanizado, com pintura epóxi-poliester pó. Módulo com vidro de espessura mínima de 4mm. Painel com altura (pé direito) de 2110mm e bandeira em vidro de 790mm (total de pé direito 2900mm). Colocação programada e cor do painel a escolher. INSTALADO | E15: m² | F15: Eucatex | G15: 339030.24 | H15: 109 | J15: =I15-(SUM(L15:W15)) -> 0 | K15: =IF(J15<0,"ATENÇÃO","OK") -> OK | L15: 0 | M15: 0 | N15: 0 | O15: 0 | P15: 0 | Q15: 0 | R15: 0 | S15: 0 | T15: 0 | U15: 0 | V15: 0 | W15: 0
C16: 13 | D16: Porta para divisórias em painéis de espessura 35mm, com miolo tipo colméia em kraft de alta gramatura, estrutura em aço galvanizado, com pintura epóxi-poliester pó. Colocação programada e cor a escolher. Medidas da porta: 0,80x2,10m. INSTALADA | E16: peça | F16: Eucatex | G16: 339030.24 | H16: 209.9 | J16: =I16-(SUM(L16:W16)) -> 0 | K16: =IF(J16<0,"ATENÇÃO","OK") -> OK | L16: 0 | M16: 0 | N16: 0 | O16: 0 | P16: 0 | Q16: 0 | R16: 0 | S16: 0 | T16: 0 | U16: 0 | V16: 0 | W16: 0
C17: 14 | D17: Divisória acústica com paredes de gesso acartonado, drywall, em estrutura metálica e revestida internamente com fibra de lã de vidro para isolamento acústico, com rodapé e rodateto em perfil de alumínio revestido nas faces com vedante de espuma de PVC autocolante. Espessura total da parede 102mm. Vidros duplos de 6mm, normais ou laminados, com estrutura periférica em alumínio que permita a montagem de persianas em seu interior. Os vidros deverão ser apoiados em batentes de PVC para evitar vibrações. Incluir todos os acessórios necessários a sua instalação e pintura. Marca de referência: Placocenter. Instalada. | E17: m² | F17: Placo | G17: 339030.24 | H17: 240 | J17: =I17-(SUM(L17:W17)) -> 0 | K17: =IF(J17<0,"ATENÇÃO","OK") -> OK | L17: 0 | M17: 0 | N17: 0 | O17: 0 | P17: 0 | Q17: 0 | R17: 0 | S17: 0 | T17: 0 | U17: 0 | V17: 0 | W17: 0
C18: 15 | D18: Serviço de desmontagem de divisórias em painéis com espessura de 35 mm, miolo em colméia, estrutura em aço ou alumínio. | E18: m² | F18: 0 | G18: 339039.16 | H18: 6.5 | J18: =I18-(SUM(L18:W18)) -> 0 | K18: =IF(J18<0,"ATENÇÃO","OK") -> OK | L18: 0 | M18: 0 | N18: 0 | O18: 0 | P18: 0 | Q18: 0 | R18: 0 | S18: 0 | T18: 0 | U18: 0 | V18: 0 | W18: 0
C19: 16 | D19: Serviço de montagem de divisórias em painéis com espessura de 35 mm, miolo em colméia, estrutura em aço ou alumínio. | E19: m² | F19: 0 | G19: 339039.16 | H19: 15 | J19: =I19-(SUM(L19:W19)) -> 0 | K19: =IF(J19<0,"ATENÇÃO","OK") -> OK | L19: 0 | M19: 0 | N19: 0 | O19: 0 | P19: 0 | Q19: 0 | R19: 0 | S19: 0 | T19: 0 | U19: 0 | V19: 0 | W19: 0
A20: RENATA ALCOFORADO LACERDA DA SILVA ME | B20: 3 | C20: 17 | D20: Película profissional refletiva para redução de temperatura e de incidência dos raios UV. Instalada. | E20: m² | F20: Nextfil | G20: 339030.24 | H20: 35 | J20: =I20-(SUM(L20:W20)) -> 0 | K20: =IF(J20<0,"ATENÇÃO","OK") -> OK | L20: 0 | M20: 0 | N20: 0 | O20: 0 | P20: 0 | Q20: 0 | R20: 0 | S20: 0 | T20: 0 | U20: 0 | V20: 0 | W20: 0
A21: ANTONIO CARLOS RIBEIRO PERSIANAS EPP | B21: 4 | C21: 18 | D21: Persiana vertical em tecido resinado RAMI natural com blackout em faixas de no mínimo 9cm, guias para abrir e fechar e mudança de posição (controle de entrada de luz) cor a definir, instalada. (para cálculos da cotação utilizar altura média de 1,60m). | E21: m² | F21: Quevedo | G21: 339030.24 | H21: 66 | I21: 3 | J21: =I21-(SUM(L21:W21)) -> 3 | K21: =IF(J21<0,"ATENÇÃO","OK") -> OK | L21: 0 | M21: 0 | N21: 0 | O21: 0 | P21: 0 | Q21: 0 | R21: 0 | S21: 0 | T21: 0 | U21: 0 | V21: 0 | W21: 0
C22: 19 | D22: Persiana vertical em tecido resinado RAMI natural - em faixas de no mín. 9 cm, guias para abrir e fechar e mudança de posição (controle a entrada de luz). Cor a definir. Instalada. (para cálculos da cotação utilizar altura média de 1,60m). | E22: m² | F22: Quevedo | G22: 339030.24 | H22: 49.3 | J22: =I22-(SUM(L22:W22)) -> 0 | K22: =IF(J22<0,"ATENÇÃO","OK") -> OK | L22: 0 | M22: 0 | N22: 0 | O22: 0 | P22: 0 | Q22: 0 | R22: 0 | S22: 0 | T22: 0 | U22: 0 | V22: 0 | W22: 0
C23: 20 | D23: Persiana horizontal de alumínio com lâminas de 50mm, não-perfurada, que permita ser utilizada por meio de um cordão e haste. Completa, inclui todos os acessórios necessários para a sua instalação e funcionamento. Modelo de referência: Haste e Cordão/Luxaflex. instalada. | E23: m² | F23: Quevedo | G23: 339030.24 | H23: 113 | J23: =I23-(SUM(L23:W23)) -> 0 | K23: =IF(J23<0,"ATENÇÃO","OK") -> OK | L23: 0 | M23: 0 | N23: 0 | O23: 0 | P23: 0 | Q23: 0 | R23: 0 | S23: 0 | T23: 0 | U23: 0 | V23: 0 | W23: 0
C24: 21 | D24: Persiana horizontal de alumínio com lâminas de 50mm, modelo blackout, sem furos, que permita ser utilizada por meio de um cordão e haste. Completa, inclui todos os acessórios necessários para a sua instalação e funcionamento. Modelo de referência: Haste e Cordão/Luxaflex. instalada. | E24: m² | F24: Quevedo | G24: 339030.24 | H24: 113 | J24: =I24-(SUM(L24:W24)) -> 0 | K24: =IF(J24<0,"ATENÇÃO","OK") -> OK | L24: 0 | M24: 0 | N24: 0 | O24: 0 | P24: 0 | Q24: 0 | R24: 0 | S24: 0 | T24: 0 | U24: 0 | V24: 0 | W24: 0
C25: 22 | D25: Persiana tipo tela plana de tecido filtra sol com 1% de abertura (tecido usado em persianas), tecido composto por fibra de vidro e PVC, cor branco, lavável, costurada com velcro de 2,5cm em todas as bordas, a fixação nas janelas será com velcro do lado oposto ao costurado na persiana tipo tela. Cada tela deverá possuir as seguintes medidas: 53cm x 138cm Observação: O velcro deverá ser costurado nas extremidades do tecido (nos quatro lados) e a outra face do velcro deverá ser colada na madeira (nos quatro lados). | E25: peça | F25: Quevedo | G25: 339030.24 | H25: 85 | J25: =I25-(SUM(L25:W25)) -> 0 | K25: =IF(J25<0,"ATENÇÃO","OK") -> OK | L25: 0 | M25: 0 | N25: 0 | O25: 0 | P25: 0 | Q25: 0 | R25: 0 | S25: 0 | T25: 0 | U25: 0 | V25: 0 | W25: 0
C26: 23 | D26: Persiana tipo tela de tecido filtrasol, 1% de abertura (tecido usado em persianas), tecido composto por fibra de vidro e PVC, cor branco, lavável, costurada com velcro de 2,5cm em todas as bordas, a fixação nas janelas será com velcro do lado oposto ao costurado na persiana tipo tela. Cada tela deverá possuir as seguintes medidas: 54cm x 32cm Observação: O velcro deverá ser costurado nas extremidades do tecido (nos quatro lados) e a outra face do velcro deverá ser colada na madeira (nos quatro lados). | E26: peça | F26: Quevedo | G26: 339030.24 | H26: 41 | J26: =I26-(SUM(L26:W26)) -> 0 | K26: =IF(J26<0,"ATENÇÃO","OK") -> OK | L26: 0 | M26: 0 | N26: 0 | O26: 0 | P26: 0 | Q26: 0 | R26: 0 | S26: 0 | T26: 0 | U26: 0 | V26: 0 | W26: 0
C27: 24 | D27: Serviço de reparo de Persiana vertical em tecido resinado RAMI natural - em faixas de no mín. 9 cm, guias para abrir e fechar e mudança de posição (controle a entrada de luz). Cor a definir. Instalada. (para cálculos da cotação utilizar altura média de 1,60m), com fornecimento de presilhas, correntes de regulagens e pá de fixação inferior, equivalemente a m2 e cortina | E27: m² | F27: Quevedo | G27: 339039.16 | H27: 20 | J27: =I27-(SUM(L27:W27)) -> 0 | K27: =IF(J27<0,"ATENÇÃO","OK") -> OK | L27: 0 | M27: 0 | N27: 0 | O27: 0 | P27: 0 | Q27: 0 | R27: 0 | S27: 0 | T27: 0 | U27: 0 | V27: 0 | W27: 0
A28: TECNOART COMERCIO E SERVIÇOS LTDA ME | B28: 5 | C28: 25 | D28: Piso cerâmico PEI-5 60x60cm, padrão A, anti-derrapante. para uso externo. anti-derrapante.de 60x60cm. Superfície acetinada. Inclui todos os materiais necessário a sua instalação. Marca de referência: Eliane. Modelo de referência: Etna crema. Instalado. | E28: m² | F28: ELIANE REF. ETNA CREMA | G28: 339030.24 | H28: 86.96 | J28: =I28-(SUM(L28:W28)) -> 0 | K28: =IF(J28<0,"ATENÇÃO","OK") -> OK | L28: 0 | M28: 0 | N28: 0 | O28: 0 | P28: 0 | Q28: 0 | R28: 0 | S28: 0 | T28: 0 | U28: 0 | V28: 0 | W28: 0
C29: 26 | D29: Piso cerâmico PEI-5 30x30cm, padrão A, anti-derrapante. Para uso interno. Inclui todos os materiais necessário a sua instalação, cor a definir. Instalado. | E29: m² | F29: ILHA BELA | G29: 339030.24 | H29: 68.2 | J29: =I29-(SUM(L29:W29)) -> 0 | K29: =IF(J29<0,"ATENÇÃO","OK") -> OK | L29: 0 | M29: 0 | N29: 0 | O29: 0 | P29: 0 | Q29: 0 | R29: 0 | S29: 0 | T29: 0 | U29: 0 | V29: 0 | W29: 0
C30: 27 | D30: Piso cerâmico PEI-5 45x45cm, padrão A, anti-derrapante. Para uso interno. Inclui todos os materiais necessário a sua instalação, cor a definir. Instalado. | E30: m² | F30: ANGELGRES | G30: 339030.24 | H30: 68.2 | J30: =I30-(SUM(L30:W30)) -> 0 | K30: =IF(J30<0,"ATENÇÃO","OK") -> OK | L30: 0 | M30: 0 | N30: 0 | O30: 0 | P30: 0 | Q30: 0 | R30: 0 | S30: 0 | T30: 0 | U30: 0 | V30: 0 | W30: 0
A31: MARIA HELENA COMERCIO DE MOVEIS EIRELI ME | B31: 6 | C31: 28 | D31: Soleira de granito, com 25mm de espessura, com dente de quebra-gota. Cor branca ou cinza andorinha. Instalada. | F31: Marmoraria Mila | G31: 339030.24 | H31: 458 | J31: =I31-(SUM(L31:W31)) -> 0 | K31: =IF(J31<0,"ATENÇÃO","OK") -> OK | L31: 0 | M31: 0 | N31: 0 | O31: 0 | P31: 0 | Q31: 0 | R31: 0 | S31: 0 | T31: 0 | U31: 0 | V31: 0 | W31: 0
A32: TECNOART COMERCIO E SERVIÇOS LTDA ME | B32: 7 | C32: 29 | D32: Cortina em tecido Gorgurão, cor a definir, com aproximadamente 4m de largura, 2m de altura, com pregas "macho" (totalizando 12m de tecido), com trilho suiço duplo colocado. | E32: peça | F32: TECNOART | G32: 339030.24 | H32: 920 | J32: =I32-(SUM(L32:W32)) -> 0 | K32: =IF(J32<0,"ATENÇÃO","OK") -> OK | L32: 0 | M32: 0 | N32: 0 | O32: 0 | P32: 0 | Q32: 0 | R32: 0 | S32: 0 | T32: 0 | U32: 0 | V32: 0 | W32: 0
C33: 30 | D33: Cortina em tecido Gorgurão, cor a definir, com aproximadamente 4,65m de largura, 2m de altura, com pregas "macho" (totalizando 98m de tecido), com trilho suiço duplo colocado. Com Blecaute de tecido poliester, cor a definir, com 4,65m largura, e 2m de altura (totalizando 98m de tecido), colocado. | E33: peça | F33: TECNOART | G33: 339030.24 | H33: 1670 | J33: =I33-(SUM(L33:W33)) -> 0 | K33: =IF(J33<0,"ATENÇÃO","OK") -> OK | L33: 0 | M33: 0 | N33: 0 | O33: 0 | P33: 0 | Q33: 0 | R33: 0 | S33: 0 | T33: 0 | U33: 0 | V33: 0 | W33: 0
C34: 31 | D34: Cortina em tecido Gorgurão, cor a definir, com aproximadamente 3,30m de largura, 2m de altura, com pregas "macho" (totalizando 20m de tecido), com trilho suiço duplo colocado. Com Blecaute de tecido poliester, cor a definir, com 3,30m largura, e 2m de altura (totalizando 20m de tecido), colocado. | E34: peça | F34: TECNOART | G34: 339030.24 | H34: 1178 | J34: =I34-(SUM(L34:W34)) -> 0 | K34: =IF(J34<0,"ATENÇÃO","OK") -> OK | L34: 0 | M34: 0 | N34: 0 | O34: 0 | P34: 0 | Q34: 0 | R34: 0 | S34: 0 | T34: 0 | U34: 0 | V34: 0 | W34: 0
A35: MARIA HELENA COMERCIO DE MOVEIS EIRELI ME | B35: 8 | C35: 32 | D35: Porta de aluminio para banheiros. Na cor branca, com forra, fechadura (par de chaves), folha veneziana vedada, grapas para instalação, entrega instalada. Tamanho aproximado de 1,90x1m (podendo sofrer variações de até 5cm para mais ou para menos - verificar antes da instalação) | E35: peça | F35: Stylo Alumínio | G35: 339030.24 | H35: 977 | J35: =I35-(SUM(L35:W35)) -> 0 | K35: =IF(J35<0,"ATENÇÃO","OK") -> OK | L35: 0 | M35: 0 | N35: 0 | O35: 0 | P35: 0 | Q35: 0 | R35: 0 | S35: 0 | T35: 0 | U35: 0 | V35: 0 | W35: 0
C36: 33 | D36: Porta de aluminio para banheiros. Na cor branca, com forra, fechadura (par de chaves), folha veneziana vedada, grapas para instalação, entrega instalada. Tamanho aproximado de 1,90x,065m (podendo sofrer variações de até 5cm para mais ou para menos - verificar antes da instalação) | E36: peça | F36: Stylo Alumínio | G36: 339030.24 | H36: 840 | J36: =I36-(SUM(L36:W36)) -> 0 | K36: =IF(J36<0,"ATENÇÃO","OK") -> OK | L36: 0 | M36: 0 | N36: 0 | O36: 0 | P36: 0 | Q36: 0 | R36: 0 | S36: 0 | T36: 0 | U36: 0 | V36: 0 | W36: 0
C37: 34 | D37: Porta de aluminio para banheiros. Na cor branca, com forra, fechadura (par de chaves), folha veneziana vedada, grapas para instalação, entrega instalada. Tamanho aproximado de 1,1x0,95m (podendo sofrer variações de até 5cm para mais ou para menos - verificar antes da instalação) | E37: peça | F37: Stylo Alumínio | G37: 339030.24 | H37: 699 | J37: =I37-(SUM(L37:W37)) -> 0 | K37: =IF(J37<0,"ATENÇÃO","OK") -> OK | L37: 0 | M37: 0 | N37: 0 | O37: 0 | P37: 0 | Q37: 0 | R37: 0 | S37: 0 | T37: 0 | U37: 0 | V37: 0 | W37: 0
C38: 35 | D38: Porta de aluminio para banheiros. Na cor branca, com forra, fechadura (par de chaves), folha veneziana vedada, grapas para instalação, entrega instalada. Tamanho aproximado de 2,10x80m (podendo sofrer variações de até 5cm para mais ou para menos - verificar antes da instalação) | E38: peça | F38: Stylo Alumínio | G38: 339030.24 | H38: 890 | J38: =I38-(SUM(L38:W38)) -> 0 | K38: =IF(J38<0,"ATENÇÃO","OK") -> OK | L38: 0 | M38: 0 | N38: 0 | O38: 0 | P38: 0 | Q38: 0 | R38: 0 | S38: 0 | T38: 0 | U38: 0 | V38: 0 | W38: 0
A39: TECNOART COMERCIO E SERVIÇOS LTDA ME | B39: 9 | C39: 36 | D39: Porta de vidro de 10mm com mola área e braço de parada. Colocadas. Metragem 2,10x0,98m (podendo sofrer variações de até 5cm para mais ou pra menos - verificar antes da instalação) | E39: peça | F39: TECNOART | G39: 339030.24 | H39: 1300 | J39: =I39-(SUM(L39:W39)) -> 0 | K39: =IF(J39<0,"ATENÇÃO","OK") -> OK | L39: 0 | M39: 0 | N39: 0 | O39: 0 | P39: 0 | Q39: 0 | R39: 0 | S39: 0 | T39: 0 | U39: 0 | V39: 0 | W39: 0
C40: 37 | D40: Porta de vidro de 10mm com mola área e braço de parada. Colocadas. Metragem 2,10x0,70m (podendo sofrer variações de até 5cm para mais ou pra menos - verificar antes da instalação) | E40: peça | F40: TECNOART | G40: 339030.24 | H40: 1100 | J40: =I40-(SUM(L40:W40)) -> 0 | K40: =IF(J40<0,"ATENÇÃO","OK") -> OK | L40: 0 | M40: 0 | N40: 0 | O40: 0 | P40: 0 | Q40: 0 | R40: 0 | S40: 0 | T40: 0 | U40: 0 | V40: 0 | W40: 0
C41: 38 | D41: Porta de abrir em vidro temperado, tipo blindex, transparente/incolor. Medindo 900 x 2200 x 10 mm. Dobradiças, fechadura e maçaneta/Puxador em alumínio branco. Inclui todos os materiais necessários para a sua instalação. INSTALADA | E41: peça | F41: TECNOART | G41: 339030.24 | H41: 660 | J41: =I41-(SUM(L41:W41)) -> 0 | K41: =IF(J41<0,"ATENÇÃO","OK") -> OK | L41: 0 | M41: 0 | N41: 0 | O41: 0 | P41: 0 | Q41: 0 | R41: 0 | S41: 0 | T41: 0 | U41: 0 | V41: 0 | W41: 0
C42: 39 | D42: Janela em vidro temperado tipo blindex, transparente/incolor. Medida total 2500 x 5200 x 10 mm, sendo fixo a parte superior 1000 x 5200 mm e as partes laterais 1300 x 1500 mm de cada lado e janelas de correr no centro com 1300 x 1500 mm. Dobradiças, fechaduras e puxadores em alumínio branco. Incluindo todos os materiais necessários para a instalação. INSTALADA. | E42: peça | F42: TECNOART | G42: 339030.24 | H42: 3945 | J42: =I42-(SUM(L42:W42)) -> 0 | K42: =IF(J42<0,"ATENÇÃO","OK") -> OK | L42: 0 | M42: 0 | N42: 0 | O42: 0 | P42: 0 | Q42: 0 | R42: 0 | S42: 0 | T42: 0 | U42: 0 | V42: 0 | W42: 0
C43: 40 | D43: Janela em vidro temperado tipo blindex, transparente/incolor. Medida total 2300 x 1200 x 10 mm, sendo fixo a parte inferior 1150 x 1200 mm e a parte superior de abrir, medindo 1150 x 1200 mm. Dobradiças, fechaduras e puxadores em alumínio branco. Retirada do vidro existente. Incluindo todos os materiais necessários para a instalação. INSTALADA. | E43: peça | F43: TECNOART | G43: 339030.24 | H43: 859.37 | J43: =I43-(SUM(L43:W43)) -> 0 | K43: =IF(J43<0,"ATENÇÃO","OK") -> OK | L43: 0 | M43: 0 | N43: 0 | O43: 0 | P43: 0 | Q43: 0 | R43: 0 | S43: 0 | T43: 0 | U43: 0 | V43: 0 | W43: 0
A44: MARIA HELENA COMERCIO DE MOVEIS EIRELI ME | B44: 10 | C44: 41 | D44: Fornecimento de divisória tipo painel móvel dupla face, oco, aberto na parte superior, confeccionado com placas de MDF (Médium Density Fiberboard) resistente a umidade e água, selo verde, com espessura 15mm, na cor branco diamante, da marca Masisa ou similar, as dimensões serão 1,35m x 1,80m x 0,20cm, conforme desenho. O interior deve ser preenchido com 8 (oito) réguas estruturais de MDF de 15mm, coladas em toda sua extensão, nas mesmas medidas das laterais, de um lado a outro do painel, para evitar deformidades. A parte inferior deverá ser fechada com placa de MDF de 15mm e na base deverão ser fixados 6 (seis) rodízios em metal, com dispositivo giratório 360 graus, roda de borracha preta, cinza escuro ou similar, com capacidade até 60kg, com dispositivo de trava em 6 (seis) rodízios fixados nas extremidades, marca Vonder ou similar. Os rodízios deverão ser testados depois de fixados a fim de verificar os rolamentos e dispositivos de trava. Não serão aceitas placas que apresentem deformidades em razão da fabricação, estocagem, limpeza ou outro aspecto visual de correção, nem serão aceitos rodízios com defeito ou deformidade que a fiscalização julgue procedente. No sentido da largura, na parte superior aberta, deverão ser fixados, internamente, dois suportes de varão e dois varões de alumínio de 3mm de espessura. | E44: peça | F44: Maria Helena | G44: 339030.24 | H44: 1290 | J44: =I44-(SUM(L44:W44)) -> 0 | K44: =IF(J44<0,"ATENÇÃO","OK") -> OK | L44: 0 | M44: 0 | N44: 0 | O44: 0 | P44: 0 | Q44: 0 | R44: 0 | S44: 0 | T44: 0 | U44: 0 | V44: 0 | W44: 0
A45: TECNOART COMERCIO E SERVIÇOS LTDA ME | B45: 11 | C45: 42 | D45: Fornecimento de divisória tipo painel móvel que deverão ser executados em alumínio, moldura tubular retangular, medindo aproximadamente 2,5cm X 5,0cm, acabamento decorativo usando processo de anodização na cor preto fosco. Os perfis que fecham o interior da estrutura do painel são de alumínio, tubular redondo, com dimensão de (aproximadamente) 2,0cm de diâmetro, com acabamento decorativo usando processo de anodização cor preto fosco. Cada painel deverá vir acompanhado de uma barra de alumínio (tubo redondo), com diâmetro de 3,5cm e acabamento decorativo usando processo de anodização cor preto fosco, que permitirão a fixação entre os painéis com pino, fornecidos para possibilitar a utilização destes painéis unidos em forma de biombo. Estes pinos devem ser pivotantes da marca Acoplac ou similar e executados em material resistente de polipropileno, nylon ou similar. Cada painel deverá possuir 4 (quatro) pinos. Cada painel deverá possuir duas sapatas niveladoras de 20mm, que servirão de pé. Estes pés deverão ser reguláveis com bucha. Os parafusos da estrutura dos painéis devem ser de aço inox. As medidas estão estabelecidas no desenho anexo que ilustra como o painel deve ser executado. | E45: peça | F45: TECNOART | G45: 339030.24 | H45: 925 | J45: =I45-(SUM(L45:W45)) -> 0 | K45: =IF(J45<0,"ATENÇÃO","OK") -> OK | L45: 0 | M45: 0 | N45: 0 | O45: 0 | P45: 0 | Q45: 0 | R45: 0 | S45: 0 | T45: 0 | U45: 0 | V45: 0 | W45: 0
A46: DESERTO | B46: 12 | C46: 43 | D46: Tapete cerdas médias 2,5x2,5 m. Antiderrapante. Lavável. Cor e estampa à definir. Marca de referência: São Carlos. | E46: peça | F46: 0 | G46: 339030.24 | H46: 0 | J46: =I46-(SUM(L46:W46)) -> 0 | K46: =IF(J46<0,"ATENÇÃO","OK") -> OK | L46: 0 | M46: 0 | N46: 0 | O46: 0 | P46: 0 | Q46: 0 | R46: 0 | S46: 0 | T46: 0 | U46: 0 | V46: 0 | W46: 0
A47: TECNOART COMERCIO E SERVIÇOS LTDA ME | B47: 13 | C47: 44 | D47: Toldo modelo meia lua, medidas: 6m comprimento x 3,20m largura x 3m altura. Material estrutural: tubos de aço galvanizado, metalon barras de 9cm, com pintura smallpox vermelha, com soldagem tipo MIG em toda a estrutura. Cobertura em policarbonato alveolar de 6mm na cor vermelha. Metalon barras na cobertura de 5cm. A fixação das chapas em policarbonato nas estruturas deverão ser feitas em parafuso auto-brocante e calafetadas com silicone, quando necessário, em todo o perímetro. Incluindo todos os materiais para a instalação. INSTALADO | E47: peça | F47: TECNOART | G47: 339030.24 | H47: 8700 | J47: =I47-(SUM(L47:W47)) -> 0 | K47: =IF(J47<0,"ATENÇÃO","OK") -> OK | L47: 0 | M47: 0 | N47: 0 | O47: 0 | P47: 0 | Q47: 0 | R47: 0 | S47: 0 | T47: 0 | U47: 0 | V47: 0 | W47: 0
A48: GEOMA CONSTRUÇÕES EIRELI EPP | B48: 14 | C48: 45 | D48: Serviço de retirada de piso, construção de novo piso, regularização e preparação para instalação de novos pisos. Destinar o respectivo entulho da substituição do piso. | E48: m² | F48: 0 | G48: 339039.16 | H48: 150 | J48: =I48-(SUM(L48:W48)) -> 0 | K48: =IF(J48<0,"ATENÇÃO","OK") -> OK | L48: 0 | M48: 0 | N48: 0 | O48: 0 | P48: 0 | Q48: 0 | R48: 0 | S48: 0 | T48: 0 | U48: 0 | V48: 0 | W48: 0
C49: 46 | D49: Serviço de lixação, revitalização e clareamento do piso feito em pedra ardózia bruta. Incluindo revestimento e impermeabiliozação do pios após lixar e topdos os materiais necessários para realização do serviço. | E49: m² | F49: 0 | G49: 339039.16 | H49: 60 | J49: =I49-(SUM(L49:W49)) -> 0 | K49: =IF(J49<0,"ATENÇÃO","OK") -> OK | L49: 0 | M49: 0 | N49: 0 | O49: 0 | P49: 0 | Q49: 0 | R49: 0 | S49: 0 | T49: 0 | U49: 0 | V49: 0 | W49: 0
A50: MARIA HELENA COMERCIO DE MOVEIS EIRELI ME | B50: 15 | C50: 47 | D50: Piso laminado vinílico, placas decorativas com estampagem digital de madeira com capa de uso de 0,5mm (modelo a definir); placas de aproximadamente 0,41x0,41m; espessura de 3mm a 5mm; resistente a abrasão e químicos classe T; resistente a uso interno e a cadeiras com rodízio; alta durabilidade; certificado da norma brasileira NBR 8660-classe2A; garantia mínima de 15 anos; com acessórios e serviço de instalação; regularização de contrapiso e acabamento inclusos; densidade ótica de fumaça (toxidade em caso de incêndio) menor que 450dm (norma ASTME 662); absorção de som ao impacto norma ASTME 989-06 = 10 decibéis; identação residual igual ou menor a 0,1mm; estabilidade dimensional EN 434 igual ou menor que 0,13mm. INSTALADO. | E50: m² | F50: Duraflor | G50: 339030.24 | H50: 109.84 | J50: =I50-(SUM(L50:W50)) -> 0 | K50: =IF(J50<0,"ATENÇÃO","OK") -> OK | L50: 0 | M50: 0 | N50: 0 | O50: 0 | P50: 0 | Q50: 0 | R50: 0 | S50: 0 | T50: 0 | U50: 0 | V50: 0 | W50: 0
D52: *Prazos de entrega e pagamento conforme termo de referência

Sheet MUSEU
A1: PROCESSO: 0757/2015/UDESC | D1: OBJETO: Aquisição de divisórias, vidros, cortinas e similares – Campus I, CERES, CESFI e CEAVI | I1: VIGÊNCIA DA ATA: 20/07/2015 até 19/07/2016 | L1: AF nº 1397/2015 Qtde. DT | M1: AF nº 1399/2015 Qtde. DT | N1: AF nº 1408/2015 Qtde. DT | O1: AF/OS nº xxxx/2015 Qtde. DT | P1: AF/OS nº xxxx/2015 Qtde. DT | Q1: AF/OS nº xxxx/2015 Qtde. DT | R1: AF/OS nº xxxx/2015 Qtde. DT | S1: AF/OS nº xxxx/2015 Qtde. DT | T1: AF/OS nº xxxx/2015 Qtde. DT | U1: AF/OS nº xxxx/2015 Qtde. DT | V1: AF/OS nº xxxx/2015 Qtde. DT | W1: AF/OS nº xxxx/2015 Qtde. DT
A2: CENTRO PARTICIPANTE: MUSEU
A3: FORNECEDOR | B3: LOTE | C3: ITEM | D3: PRODUTO - CARACTERÍSTICAS MÍNIMAS | E3: UNIDADE | F3: MARCA | G3: DETALHAMENTO | H3: Preço UNITÁRIO (R$) | I3: Qtde Registrada | J3: Saldo / Automático | K3: ALERTA | L3: 42226 | M3: 42226 | N3: 42227 | O3: 42299 | P3: ...../...../...... | Q3: ...../...../...... | R3: ...../...../...... | S3: ...../...../...... | T3: ...../...../...... | U3: ...../...../...... | V3: ...../...../...... | W3: ...../...../......
A4: TECNOART COMERCIO E SERVIÇOS LTDA ME | B4: 1 | C4: 1 | D4: Espelho 6mm (lapidado). Instalado. | E4: m² | F4: CEBRACE | G4: 339030.24 | H4: 199.3 | J4: =I4-(SUM(L4:W4)) -> 0 | K4: =IF(J4<0,"ATENÇÃO","OK") -> OK | L4: 0 | M4: 0 | N4: 0 | O4: 0 | P4: 0 | Q4: 0 | R4: 0 | S4: 0 | T4: 0 | U4: 0 | V4: 0 | W4: 0
C5: 2 | D5: Vidro mini-boreal incolor, 3mm. Instalado. | E5: m² | F5: CEBRACE | G5: 339030.24 | H5: 30 | J5: =I5-(SUM(L5:W5)) -> 0 | K5: =IF(J5<0,"ATENÇÃO","OK") -> OK | L5: 0 | M5: 0 | N5: 0 | O5: 0 | P5: 0 | Q5: 0 | R5: 0 | S5: 0 | T5: 0 | U5: 0 | V5: 0 | W5: 0
A6: MILANI COMERCIO E DISTRIBUIÇÃO LTDA EPP | B6: 2 | C6: 3 | D6: Fornecimento de divisórias em painéis com espessura de 35mm, cor a definir; com miolo em colméia em kraft de alta gramatura e estrutura em aço galvanizado com pintura em epóxi-poliester pó. na cor. Colocação programada e cor do painel a escolher. Instalada. | E6: m² | F6: Eucatex | G6: 339030.24 | H6: 67 | J6: =I6-(SUM(L6:W6)) -> 0 | K6: =IF(J6<0,"ATENÇÃO","OK") -> OK | L6: 0 | M6: 0 | N6: 0 | O6: 0 | P6: 0 | Q6: 0 | R6: 0 | S6: 0 | T6: 0 | U6: 0 | V6: 0 | W6: 0
C7: 4 | D7: Forro em PVC, espessura 8mm, largura 200mm, com estrutura em aço galvanizado. Cor a definir. Instalado. | E7: m² | F7: Tecnoperfil | G7: 339030.24 | H7: 35 | J7: =I7-(SUM(L7:W7)) -> 0 | K7: =IF(J7<0,"ATENÇÃO","OK") -> OK | L7: 0 | M7: 0 | N7: 0 | O7: 0 | P7: 0 | Q7: 0 | R7: 0 | S7: 0 | T7: 0 | U7: 0 | V7: 0 | W7: 0
C8: 5 | D8: Fornecimento e instalação de vidro liso 3mm, incolor. | E8: m² | F8: Cebrace | G8: 339030.24 | H8: 68 | J8: =I8-(SUM(L8:W8)) -> 0 | K8: =IF(J8<0,"ATENÇÃO","OK") -> OK | L8: 0 | M8: 0 | N8: 0 | O8: 0 | P8: 0 | Q8: 0 | R8: 0 | S8: 0 | T8: 0 | U8: 0 | V8: 0 | W8: 0
C9: 6 | D9: Fornecimento e instalação de vidro liso 4mm, incolor. | E9: m² | F9: Cebrace | G9: 339030.24 | H9: 88 | I9: 10 | J9: =I9-(SUM(L9:W9)) -> 10 | K9: =IF(J9<0,"ATENÇÃO","OK") -> OK | L9: 0 | M9: 0 | N9: 0 | O9: 0 | P9: 0 | Q9: 0 | R9: 0 | S9: 0 | T9: 0 | U9: 0 | V9: 0 | W9: 0
C10: 7 | D10: Fornecimento e instalação de vidro liso 5mm, incolor. | E10: m² | F10: Cebrace | G10: 339030.24 | H10: 110 | J10: =I10-(SUM(L10:W10)) -> 0 | K10: =IF(J10<0,"ATENÇÃO","OK") -> OK | L10: 0 | M10: 0 | N10: 0 | O10: 0 | P10: 0 | Q10: 0 | R10: 0 | S10: 0 | T10: 0 | U10: 0 | V10: 0 | W10: 0
C11: 8 | D11: Porta de abrir eixo vertical, 90X210cm em painéis divisórias, cor a definir. Com miolo em colméia e estrutura em aço com pintura em epóxi na cor preta (ou bege), completa (com maçaneta, chave e dobradiças). Compatíveis com as divisórias existentes. Instalada. | E11: pç | F11: Eucatex | G11: 339030.24 | H11: 185 | J11: =I11-(SUM(L11:W11)) -> 0 | K11: =IF(J11<0,"ATENÇÃO","OK") -> OK | L11: 0 | M11: 0 | N11: 0 | O11: 0 | P11: 0 | Q11: 0 | R11: 0 | S11: 0 | T11: 0 | U11: 0 | V11: 0 | W11: 0
C12: 9 | D12: Porta de madeira angelim tipo pedra, semi-oca, lisa, para ser instalada em divisória acústica drywall e alvenaria, com revestimento interno de fibra de lã de vidro ou rocha, para isolamento acústico. Tamanho 80cm de larguraX2,10m de altura, espessura da porta 3,5cm. Tamanho da forra 9cm. Inclui forra, maçaneta e todos os acessórios necessários para a sua instalação. Cor natural, pronta para pintura. Instalada. | E12: pç | F12: Reitz | G12: 339030.24 | H12: 860 | J12: =I12-(SUM(L12:W12)) -> 0 | K12: =IF(J12<0,"ATENÇÃO","OK") -> OK | L12: 0 | M12: 0 | N12: 0 | O12: 0 | P12: 0 | Q12: 0 | R12: 0 | S12: 0 | T12: 0 | U12: 0 | V12: 0 | W12: 0
C13: 10 | D13: Divisória acústica com paredes de gesso acartonado, drywall, em estrutura metálica e revestida internamente com fibra de lã de vidro para isolamento acústico. Espessura total da parede 90mm. Remover a anterior e instalar a nova. Incluir todos os acessórios necessários a sua instalação e pintura. Marca de referência: Placocenter. Instalada. | E13: m² | F13: Placo | G13: 339030.24 | H13: 91.55 | J13: =I13-(SUM(L13:W13)) -> 0 | K13: =IF(J13<0,"ATENÇÃO","OK") -> OK | L13: 0 | M13: 0 | N13: 0 | O13: 0 | P13: 0 | Q13: 0 | R13: 0 | S13: 0 | T13: 0 | U13: 0 | V13: 0 | W13: 0
C14: 11 | D14: Forro acústico constituído de fibra lã de vidro, revestido na face aparente com PVC, com 20mm de espessura total e 80kg/m³ de densidade. Placas de 1250mmx625mm. 35m² com superfície enrugada e 525m² com superfície lisa. Remover o forro anterior e instalar o novo. Inclui todos os acessórios necessários para a sua instalação. Modelo de referência: Forrovid Boreal Isover. Instalado. | E14: m² | F14: Isover | G14: 339030.24 | H14: 64 | J14: =I14-(SUM(L14:W14)) -> 0 | K14: =IF(J14<0,"ATENÇÃO","OK") -> OK | L14: 0 | M14: 0 | N14: 0 | O14: 0 | P14: 0 | Q14: 0 | R14: 0 | S14: 0 | T14: 0 | U14: 0 | V14: 0 | W14: 0
C15: 12 | D15: DIVISÓRIAS, ESPESSURA DE 35MM, Fornecimento de paredes divisórias em painéis de 35mm, com miolo tipo colméia em kraft de alta gramatura, estrutura em aço galvanizado, com pintura epóxi-poliester pó. Módulo com vidro de espessura mínima de 4mm. Painel com altura (pé direito) de 2110mm e bandeira em vidro de 790mm (total de pé direito 2900mm). Colocação programada e cor do painel a escolher. INSTALADO | E15: m² | F15: Eucatex | G15: 339030.24 | H15: 109 | J15: =I15-(SUM(L15:W15)) -> 0 | K15: =IF(J15<0,"ATENÇÃO","OK") -> OK | L15: 0 | M15: 0 | N15: 0 | O15: 0 | P15: 0 | Q15: 0 | R15: 0 | S15: 0 | T15: 0 | U15: 0 | V15: 0 | W15: 0
C16: 13 | D16: Porta para divisórias em painéis de espessura 35mm, com miolo tipo colméia em kraft de alta gramatura, estrutura em aço galvanizado, com pintura epóxi-poliester pó. Colocação programada e cor a escolher. Medidas da porta: 0,80x2,10m. INSTALADA | E16: peça | F16: Eucatex | G16: 339030.24 | H16: 209.9 | J16: =I16-(SUM(L16:W16)) -> 0 | K16: =IF(J16<0,"ATENÇÃO","OK") -> OK | L16: 0 | M16: 0 | N16: 0 | O16: 0 | P16: 0 | Q16: 0 | R16: 0 | S16: 0 | T16: 0 | U16: 0 | V16: 0 | W16: 0
C17: 14 | D17: Divisória acústica com paredes de gesso acartonado, drywall, em estrutura metálica e revestida internamente com fibra de lã de vidro para isolamento acústico, com rodapé e rodateto em perfil de alumínio revestido nas faces com vedante de espuma de PVC autocolante. Espessura total da parede 102mm. Vidros duplos de 6mm, normais ou laminados, com estrutura periférica em alumínio que permita a montagem de persianas em seu interior. Os vidros deverão ser apoiados em batentes de PVC para evitar vibrações. Incluir todos os acessórios necessários a sua instalação e pintura. Marca de referência: Placocenter. Instalada. | E17: m² | F17: Placo | G17: 339030.24 | H17: 240 | J17: =I17-(SUM(L17:W17)) -> 0 | K17: =IF(J17<0,"ATENÇÃO","OK") -> OK | L17: 0 | M17: 0 | N17: 0 | O17: 0 | P17: 0 | Q17: 0 | R17: 0 | S17: 0 | T17: 0 | U17: 0 | V17: 0 | W17: 0
C18: 15 | D18: Serviço de desmontagem de divisórias em painéis com espessura de 35 mm, miolo em colméia, estrutura em aço ou alumínio. | E18: m² | F18: 0 | G18: 339039.16 | H18: 6.5 | J18: =I18-(SUM(L18:W18)) -> 0 | K18: =IF(J18<0,"ATENÇÃO","OK") -> OK | L18: 0 | M18: 0 | N18: 0 | O18: 0 | P18: 0 | Q18: 0 | R18: 0 | S18: 0 | T18: 0 | U18: 0 | V18: 0 | W18: 0
C19: 16 | D19: Serviço de montagem de divisórias em painéis com espessura de 35 mm, miolo em colméia, estrutura em aço ou alumínio. | E19: m² | F19: 0 | G19: 339039.16 | H19: 15 | J19: =I19-(SUM(L19:W19)) -> 0 | K19: =IF(J19<0,"ATENÇÃO","OK") -> OK | L19: 0 | M19: 0 | N19: 0 | O19: 0 | P19: 0 | Q19: 0 | R19: 0 | S19: 0 | T19: 0 | U19: 0 | V19: 0 | W19: 0
A20: RENATA ALCOFORADO LACERDA DA SILVA ME | B20: 3 | C20: 17 | D20: Película profissional refletiva para redução de temperatura e de incidência dos raios UV. Instalada. | E20: m² | F20: Nextfil | G20: 339030.24 | H20: 35 | J20: =I20-(SUM(L20:W20)) -> 0 | K20: =IF(J20<0,"ATENÇÃO","OK") -> OK | L20: 0 | M20: 0 | N20: 0 | O20: 0 | P20: 0 | Q20: 0 | R20: 0 | S20: 0 | T20: 0 | U20: 0 | V20: 0 | W20: 0
A21: ANTONIO CARLOS RIBEIRO PERSIANAS EPP | B21: 4 | C21: 18 | D21: Persiana vertical em tecido resinado RAMI natural com blackout em faixas de no mínimo 9cm, guias para abrir e fechar e mudança de posição (controle de entrada de luz) cor a definir, instalada. (para cálculos da cotação utilizar altura média de 1,60m). | E21: m² | F21: Quevedo | G21: 339030.24 | H21: 66 | J21: =I21-(SUM(L21:W21)) -> 0 | K21: =IF(J21<0,"ATENÇÃO","OK") -> OK | L21: 0 | M21: 0 | N21: 0 | O21: 0 | P21: 0 | Q21: 0 | R21: 0 | S21: 0 | T21: 0 | U21: 0 | V21: 0 | W21: 0
C22: 19 | D22: Persiana vertical em tecido resinado RAMI natural - em faixas de no mín. 9 cm, guias para abrir e fechar e mudança de posição (controle a entrada de luz). Cor a definir. Instalada. (para cálculos da cotação utilizar altura média de 1,60m). | E22: m² | F22: Quevedo | G22: 339030.24 | H22: 49.3 | J22: =I22-(SUM(L22:W22)) -> 0 | K22: =IF(J22<0,"ATENÇÃO","OK") -> OK | L22: 0 | M22: 0 | N22: 0 | O22: 0 | P22: 0 | Q22: 0 | R22: 0 | S22: 0 | T22: 0 | U22: 0 | V22: 0 | W22: 0
C23: 20 | D23: Persiana horizontal de alumínio com lâminas de 50mm, não-perfurada, que permita ser utilizada por meio de um cordão e haste. Completa, inclui todos os acessórios necessários para a sua instalação e funcionamento. Modelo de referência: Haste e Cordão/Luxaflex. instalada. | E23: m² | F23: Quevedo | G23: 339030.24 | H23: 113 | J23: =I23-(SUM(L23:W23)) -> 0 | K23: =IF(J23<0,"ATENÇÃO","OK") -> OK | L23: 0 | M23: 0 | N23: 0 | O23: 0 | P23: 0 | Q23: 0 | R23: 0 | S23: 0 | T23: 0 | U23: 0 | V23: 0 | W23: 0
C24: 21 | D24: Persiana horizontal de alumínio com lâminas de 50mm, modelo blackout, sem furos, que permita ser utilizada por meio de um cordão e haste. Completa, inclui todos os acessórios necessários para a sua instalação e funcionamento. Modelo de referência: Haste e Cordão/Luxaflex. instalada. | E24: m² | F24: Quevedo | G24: 339030.24 | H24: 113 | J24: =I24-(SUM(L24:W24)) -> 0 | K24: =IF(J24<0,"ATENÇÃO","OK") -> OK | L24: 0 | M24: 0 | N24: 0 | O24: 0 | P24: 0 | Q24: 0 | R24: 0 | S24: 0 | T24: 0 | U24: 0 | V24: 0 | W24: 0
C25: 22 | D25: Persiana tipo tela plana de tecido filtra sol com 1% de abertura (tecido usado em persianas), tecido composto por fibra de vidro e PVC, cor branco, lavável, costurada com velcro de 2,5cm em todas as bordas, a fixação nas janelas será com velcro do lado oposto ao costurado na persiana tipo tela. Cada tela deverá possuir as seguintes medidas: 53cm x 138cm Observação: O velcro deverá ser costurado nas extremidades do tecido (nos quatro lados) e a outra face do velcro deverá ser colada na madeira (nos quatro lados). | E25: peça | F25: Quevedo | G25: 339030.24 | H25: 85 | I25: =20+4 -> 24 | J25: =I25-(SUM(L25:W25)) -> 0 | K25: =IF(J25<0,"ATENÇÃO","OK") -> OK | L25: 20 | M25: 0 | N25: 0 | O25: 4 | P25: 0 | Q25: 0 | R25: 0 | S25: 0 | T25: 0 | U25: 0 | V25: 0 | W25: 0
C26: 23 | D26: Persiana tipo tela de tecido filtrasol, 1% de abertura (tecido usado em persianas), tecido composto por fibra de vidro e PVC, cor branco, lavável, costurada com velcro de 2,5cm em todas as bordas, a fixação nas janelas será com velcro do lado oposto ao costurado na persiana tipo tela. Cada tela deverá possuir as seguintes medidas: 54cm x 32cm Observação: O velcro deverá ser costurado nas extremidades do tecido (nos quatro lados) e a outra face do velcro deverá ser colada na madeira (nos quatro lados). | E26: peça | F26: Quevedo | G26: 339030.24 | H26: 41 | I26: =20+4 -> 24 | J26: =I26-(SUM(L26:W26)) -> 0 | K26: =IF(J26<0,"ATENÇÃO","OK") -> OK | L26: 20 | M26: 0 | N26: 0 | O26: 4 | P26: 0 | Q26: 0 | R26: 0 | S26: 0 | T26: 0 | U26: 0 | V26: 0 | W26: 0
C27: 24 | D27: Serviço de reparo de Persiana vertical em tecido resinado RAMI natural - em faixas de no mín. 9 cm, guias para abrir e fechar e mudança de posição (controle a entrada de luz). Cor a definir. Instalada. (para cálculos da cotação utilizar altura média de 1,60m), com fornecimento de presilhas, correntes de regulagens e pá de fixação inferior, equivalemente a m2 e cortina | E27: m² | F27: Quevedo | G27: 339039.16 | H27: 20 | J27: =I27-(SUM(L27:W27)) -> 0 | K27: =IF(J27<0,"ATENÇÃO","OK") -> OK | L27: 0 | M27: 0 | N27: 0 | O27: 0 | P27: 0 | Q27: 0 | R27: 0 | S27: 0 | T27: 0 | U27: 0 | V27: 0 | W27: 0
A28: TECNOART COMERCIO E SERVIÇOS LTDA ME | B28: 5 | C28: 25 | D28: Piso cerâmico PEI-5 60x60cm, padrão A, anti-derrapante. para uso externo. anti-derrapante.de 60x60cm. Superfície acetinada. Inclui todos os materiais necessário a sua instalação. Marca de referência: Eliane. Modelo de referência: Etna crema. Instalado. | E28: m² | F28: ELIANE REF. ETNA CREMA | G28: 339030.24 | H28: 86.96 | J28: =I28-(SUM(L28:W28)) -> 0 | K28: =IF(J28<0,"ATENÇÃO","OK") -> OK | L28: 0 | M28: 0 | N28: 0 | O28: 0 | P28: 0 | Q28: 0 | R28: 0 | S28: 0 | T28: 0 | U28: 0 | V28: 0 | W28: 0
C29: 26 | D29: Piso cerâmico PEI-5 30x30cm, padrão A, anti-derrapante. Para uso interno. Inclui todos os materiais necessário a sua instalação, cor a definir. Instalado. | E29: m² | F29: ILHA BELA | G29: 339030.24 | H29: 68.2 | J29: =I29-(SUM(L29:W29)) -> 0 | K29: =IF(J29<0,"ATENÇÃO","OK") -> OK | L29: 0 | M29: 0 | N29: 0 | O29: 0 | P29: 0 | Q29: 0 | R29: 0 | S29: 0 | T29: 0 | U29: 0 | V29: 0 | W29: 0
C30: 27 | D30: Piso cerâmico PEI-5 45x45cm, padrão A, anti-derrapante. Para uso interno. Inclui todos os materiais necessário a sua instalação, cor a definir. Instalado. | E30: m² | F30: ANGELGRES | G30: 339030.24 | H30: 68.2 | J30: =I30-(SUM(L30:W30)) -> 0 | K30: =IF(J30<0,"ATENÇÃO","OK") -> OK | L30: 0 | M30: 0 | N30: 0 | O30: 0 | P30: 0 | Q30: 0 | R30: 0 | S30: 0 | T30: 0 | U30: 0 | V30: 0 | W30: 0
A31: MARIA HELENA COMERCIO DE MOVEIS EIRELI ME | B31: 6 | C31: 28 | D31: Soleira de granito, com 25mm de espessura, com dente de quebra-gota. Cor branca ou cinza andorinha. Instalada. | F31: Marmoraria Mila | G31: 339030.24 | H31: 458 | J31: =I31-(SUM(L31:W31)) -> 0 | K31: =IF(J31<0,"ATENÇÃO","OK") -> OK | L31: 0 | M31: 0 | N31: 0 | O31: 0 | P31: 0 | Q31: 0 | R31: 0 | S31: 0 | T31: 0 | U31: 0 | V31: 0 | W31: 0
A32: TECNOART COMERCIO E SERVIÇOS LTDA ME | B32: 7 | C32: 29 | D32: Cortina em tecido Gorgurão, cor a definir, com aproximadamente 4m de largura, 2m de altura, com pregas "macho" (totalizando 12m de tecido), com trilho suiço duplo colocado. | E32: peça | F32: TECNOART | G32: 339030.24 | H32: 920 | J32: =I32-(SUM(L32:W32)) -> 0 | K32: =IF(J32<0,"ATENÇÃO","OK") -> OK | L32: 0 | M32: 0 | N32: 0 | O32: 0 | P32: 0 | Q32: 0 | R32: 0 | S32: 0 | T32: 0 | U32: 0 | V32: 0 | W32: 0
C33: 30 | D33: Cortina em tecido Gorgurão, cor a definir, com aproximadamente 4,65m de largura, 2m de altura, com pregas "macho" (totalizando 98m de tecido), com trilho suiço duplo colocado. Com Blecaute de tecido poliester, cor a definir, com 4,65m largura, e 2m de altura (totalizando 98m de tecido), colocado. | E33: peça | F33: TECNOART | G33: 339030.24 | H33: 1670 | J33: =I33-(SUM(L33:W33)) -> 0 | K33: =IF(J33<0,"ATENÇÃO","OK") -> OK | L33: 0 | M33: 0 | N33: 0 | O33: 0 | P33: 0 | Q33: 0 | R33: 0 | S33: 0 | T33: 0 | U33: 0 | V33: 0 | W33: 0
C34: 31 | D34: Cortina em tecido Gorgurão, cor a definir, com aproximadamente 3,30m de largura, 2m de altura, com pregas "macho" (totalizando 20m de tecido), com trilho suiço duplo colocado. Com Blecaute de tecido poliester, cor a definir, com 3,30m largura, e 2m de altura (totalizando 20m de tecido), colocado. | E34: peça | F34: TECNOART | G34: 339030.24 | H34: 1178 | J34: =I34-(SUM(L34:W34)) -> 0 | K34: =IF(J34<0,"ATENÇÃO","OK") -> OK | L34: 0 | M34: 0 | N34: 0 | O34: 0 | P34: 0 | Q34: 0 | R34: 0 | S34: 0 | T34: 0 | U34: 0 | V34: 0 | W34: 0
A35: MARIA HELENA COMERCIO DE MOVEIS EIRELI ME | B35: 8 | C35: 32 | D35: Porta de aluminio para banheiros. Na cor branca, com forra, fechadura (par de chaves), folha veneziana vedada, grapas para instalação, entrega instalada. Tamanho aproximado de 1,90x1m (podendo sofrer variações de até 5cm para mais ou para menos - verificar antes da instalação) | E35: peça | F35: Stylo Alumínio | G35: 339030.24 | H35: 977 | J35: =I35-(SUM(L35:W35)) -> 0 | K35: =IF(J35<0,"ATENÇÃO","OK") -> OK | L35: 0 | M35: 0 | N35: 0 | O35: 0 | P35: 0 | Q35: 0 | R35: 0 | S35: 0 | T35: 0 | U35: 0 | V35: 0 | W35: 0
C36: 33 | D36: Porta de aluminio para banheiros. Na cor branca, com forra, fechadura (par de chaves), folha veneziana vedada, grapas para instalação, entrega instalada. Tamanho aproximado de 1,90x,065m (podendo sofrer variações de até 5cm para mais ou para menos - verificar antes da instalação) | E36: peça | F36: Stylo Alumínio | G36: 339030.24 | H36: 840 | J36: =I36-(SUM(L36:W36)) -> 0 | K36: =IF(J36<0,"ATENÇÃO","OK") -> OK | L36: 0 | M36: 0 | N36: 0 | O36: 0 | P36: 0 | Q36: 0 | R36: 0 | S36: 0 | T36: 0 | U36: 0 | V36: 0 | W36: 0
C37: 34 | D37: Porta de aluminio para banheiros. Na cor branca, com forra, fechadura (par de chaves), folha veneziana vedada, grapas para instalação, entrega instalada. Tamanho aproximado de 1,1x0,95m (podendo sofrer variações de até 5cm para mais ou para menos - verificar antes da instalação) | E37: peça | F37: Stylo Alumínio | G37: 339030.24 | H37: 699 | J37: =I37-(SUM(L37:W37)) -> 0 | K37: =IF(J37<0,"ATENÇÃO","OK") -> OK | L37: 0 | M37: 0 | N37: 0 | O37: 0 | P37: 0 | Q37: 0 | R37: 0 | S37: 0 | T37: 0 | U37: 0 | V37: 0 | W37: 0
C38: 35 | D38: Porta de aluminio para banheiros. Na cor branca, com forra, fechadura (par de chaves), folha veneziana vedada, grapas para instalação, entrega instalada. Tamanho aproximado de 2,10x80m (podendo sofrer variações de até 5cm para mais ou para menos - verificar antes da instalação) | E38: peça | F38: Stylo Alumínio | G38: 339030.24 | H38: 890 | J38: =I38-(SUM(L38:W38)) -> 0 | K38: =IF(J38<0,"ATENÇÃO","OK") -> OK | L38: 0 | M38: 0 | N38: 0 | O38: 0 | P38: 0 | Q38: 0 | R38: 0 | S38: 0 | T38: 0 | U38: 0 | V38: 0 | W38: 0
A39: TECNOART COMERCIO E SERVIÇOS LTDA ME | B39: 9 | C39: 36 | D39: Porta de vidro de 10mm com mola área e braço de parada. Colocadas. Metragem 2,10x0,98m (podendo sofrer variações de até 5cm para mais ou pra menos - verificar antes da instalação) | E39: peça | F39: TECNOART | G39: 339030.24 | H39: 1300 | J39: =I39-(SUM(L39:W39)) -> 0 | K39: =IF(J39<0,"ATENÇÃO","OK") -> OK | L39: 0 | M39: 0 | N39: 0 | O39: 0 | P39: 0 | Q39: 0 | R39: 0 | S39: 0 | T39: 0 | U39: 0 | V39: 0 | W39: 0
C40: 37 | D40: Porta de vidro de 10mm com mola área e braço de parada. Colocadas. Metragem 2,10x0,70m (podendo sofrer variações de até 5cm para mais ou pra menos - verificar antes da instalação) | E40: peça | F40: TECNOART | G40: 339030.24 | H40: 1100 | J40: =I40-(SUM(L40:W40)) -> 0 | K40: =IF(J40<0,"ATENÇÃO","OK") -> OK | L40: 0 | M40: 0 | N40: 0 | O40: 0 | P40: 0 | Q40: 0 | R40: 0 | S40: 0 | T40: 0 | U40: 0 | V40: 0 | W40: 0
C41: 38 | D41: Porta de abrir em vidro temperado, tipo blindex, transparente/incolor. Medindo 900 x 2200 x 10 mm. Dobradiças, fechadura e maçaneta/Puxador em alumínio branco. Inclui todos os materiais necessários para a sua instalação. INSTALADA | E41: peça | F41: TECNOART | G41: 339030.24 | H41: 660 | J41: =I41-(SUM(L41:W41)) -> 0 | K41: =IF(J41<0,"ATENÇÃO","OK") -> OK | L41: 0 | M41: 0 | N41: 0 | O41: 0 | P41: 0 | Q41: 0 | R41: 0 | S41: 0 | T41: 0 | U41: 0 | V41: 0 | W41: 0
C42: 39 | D42: Janela em vidro temperado tipo blindex, transparente/incolor. Medida total 2500 x 5200 x 10 mm, sendo fixo a parte superior 1000 x 5200 mm e as partes laterais 1300 x 1500 mm de cada lado e janelas de correr no centro com 1300 x 1500 mm. Dobradiças, fechaduras e puxadores em alumínio branco. Incluindo todos os materiais necessários para a instalação. INSTALADA. | E42: peça | F42: TECNOART | G42: 339030.24 | H42: 3945 | J42: =I42-(SUM(L42:W42)) -> 0 | K42: =IF(J42<0,"ATENÇÃO","OK") -> OK | L42: 0 | M42: 0 | N42: 0 | O42: 0 | P42: 0 | Q42: 0 | R42: 0 | S42: 0 | T42: 0 | U42: 0 | V42: 0 | W42: 0
C43: 40 | D43: Janela em vidro temperado tipo blindex, transparente/incolor. Medida total 2300 x 1200 x 10 mm, sendo fixo a parte inferior 1150 x 1200 mm e a parte superior de abrir, medindo 1150 x 1200 mm. Dobradiças, fechaduras e puxadores em alumínio branco. Retirada do vidro existente. Incluindo todos os materiais necessários para a instalação. INSTALADA. | E43: peça | F43: TECNOART | G43: 339030.24 | H43: 859.37 | J43: =I43-(SUM(L43:W43)) -> 0 | K43: =IF(J43<0,"ATENÇÃO","OK") -> OK | L43: 0 | M43: 0 | N43: 0 | O43: 0 | P43: 0 | Q43: 0 | R43: 0 | S43: 0 | T43: 0 | U43: 0 | V43: 0 | W43: 0
A44: MARIA HELENA COMERCIO DE MOVEIS EIRELI ME | B44: 10 | C44: 41 | D44: Fornecimento de divisória tipo painel móvel dupla face, oco, aberto na parte superior, confeccionado com placas de MDF (Médium Density Fiberboard) resistente a umidade e água, selo verde, com espessura 15mm, na cor branco diamante, da marca Masisa ou similar, as dimensões serão 1,35m x 1,80m x 0,20cm, conforme desenho. O interior deve ser preenchido com 8 (oito) réguas estruturais de MDF de 15mm, coladas em toda sua extensão, nas mesmas medidas das laterais, de um lado a outro do painel, para evitar deformidades. A parte inferior deverá ser fechada com placa de MDF de 15mm e na base deverão ser fixados 6 (seis) rodízios em metal, com dispositivo giratório 360 graus, roda de borracha preta, cinza escuro ou similar, com capacidade até 60kg, com dispositivo de trava em 6 (seis) rodízios fixados nas extremidades, marca Vonder ou similar. Os rodízios deverão ser testados depois de fixados a fim de verificar os rolamentos e dispositivos de trava. Não serão aceitas placas que apresentem deformidades em razão da fabricação, estocagem, limpeza ou outro aspecto visual de correção, nem serão aceitos rodízios com defeito ou deformidade que a fiscalização julgue procedente. No sentido da largura, na parte superior aberta, deverão ser fixados, internamente, dois suportes de varão e dois varões de alumínio de 3mm de espessura. | E44: peça | F44: Maria Helena | G44: 339030.24 | H44: 1290 | I44: 10 | J44: =I44-(SUM(L44:W44)) -> 0 | K44: =IF(J44<0,"ATENÇÃO","OK") -> OK | L44: 0 | M44: 10 | N44: 0 | O44: 0 | P44: 0 | Q44: 0 | R44: 0 | S44: 0 | T44: 0 | U44: 0 | V44: 0 | W44: 0
A45: TECNOART COMERCIO E SERVIÇOS LTDA ME | B45: 11 | C45: 42 | D45: Fornecimento de divisória tipo painel móvel que deverão ser executados em alumínio, moldura tubular retangular, medindo aproximadamente 2,5cm X 5,0cm, acabamento decorativo usando processo de anodização na cor preto fosco. Os perfis que fecham o interior da estrutura do painel são de alumínio, tubular redondo, com dimensão de (aproximadamente) 2,0cm de diâmetro, com acabamento decorativo usando processo de anodização cor preto fosco. Cada painel deverá vir acompanhado de uma barra de alumínio (tubo redondo), com diâmetro de 3,5cm e acabamento decorativo usando processo de anodização cor preto fosco, que permitirão a fixação entre os painéis com pino, fornecidos para possibilitar a utilização destes painéis unidos em forma de biombo. Estes pinos devem ser pivotantes da marca Acoplac ou similar e executados em material resistente de polipropileno, nylon ou similar. Cada painel deverá possuir 4 (quatro) pinos. Cada painel deverá possuir duas sapatas niveladoras de 20mm, que servirão de pé. Estes pés deverão ser reguláveis com bucha. Os parafusos da estrutura dos painéis devem ser de aço inox. As medidas estão estabelecidas no desenho anexo que ilustra como o painel deve ser executado. | E45: peça | F45: TECNOART | G45: 339030.24 | H45: 925 | I45: 12 | J45: =I45-(SUM(L45:W45)) -> 0 | K45: =IF(J45<0,"ATENÇÃO","OK") -> OK | L45: 0 | M45: 0 | N45: 12 | O45: 0 | P45: 0 | Q45: 0 | R45: 0 | S45: 0 | T45: 0 | U45: 0 | V45: 0 | W45: 0
A46: DESERTO | B46: 12 | C46: 43 | D46: Tapete cerdas médias 2,5x2,5 m. Antiderrapante. Lavável. Cor e estampa à definir. Marca de referência: São Carlos. | E46: peça | F46: 0 | G46: 339030.24 | H46: 0 | J46: =I46-(SUM(L46:W46)) -> 0 | K46: =IF(J46<0,"ATENÇÃO","OK") -> OK | L46: 0 | M46: 0 | N46: 0 | O46: 0 | P46: 0 | Q46: 0 | R46: 0 | S46: 0 | T46: 0 | U46: 0 | V46: 0 | W46: 0
A47: TECNOART COMERCIO E SERVIÇOS LTDA ME | B47: 13 | C47: 44 | D47: Toldo modelo meia lua, medidas: 6m comprimento x 3,20m largura x 3m altura. Material estrutural: tubos de aço galvanizado, metalon barras de 9cm, com pintura smallpox vermelha, com soldagem tipo MIG em toda a estrutura. Cobertura em policarbonato alveolar de 6mm na cor vermelha. Metalon barras na cobertura de 5cm. A fixação das chapas em policarbonato nas estruturas deverão ser feitas em parafuso auto-brocante e calafetadas com silicone, quando necessário, em todo o perímetro. Incluindo todos os materiais para a instalação. INSTALADO | E47: peça | F47: TECNOART | G47: 339030.24 | H47: 8700 | J47: =I47-(SUM(L47:W47)) -> 0 | K47: =IF(J47<0,"ATENÇÃO","OK") -> OK | L47: 0 | M47: 0 | N47: 0 | O47: 0 | P47: 0 | Q47: 0 | R47: 0 | S47: 0 | T47: 0 | U47: 0 | V47: 0 | W47: 0
A48: GEOMA CONSTRUÇÕES EIRELI EPP | B48: 14 | C48: 45 | D48: Serviço de retirada de piso, construção de novo piso, regularização e preparação para instalação de novos pisos. Destinar o respectivo entulho da substituição do piso. | E48: m² | F48: 0 | G48: 339039.16 | H48: 150 | J48: =I48-(SUM(L48:W48)) -> 0 | K48: =IF(J48<0,"ATENÇÃO","OK") -> OK | L48: 0 | M48: 0 | N48: 0 | O48: 0 | P48: 0 | Q48: 0 | R48: 0 | S48: 0 | T48: 0 | U48: 0 | V48: 0 | W48: 0
C49: 46 | D49: Serviço de lixação, revitalização e clareamento do piso feito em pedra ardózia bruta. Incluindo revestimento e impermeabiliozação do pios após lixar e topdos os materiais necessários para realização do serviço. | E49: m² | F49: 0 | G49: 339039.16 | H49: 60 | J49: =I49-(SUM(L49:W49)) -> 0 | K49: =IF(J49<0,"ATENÇÃO","OK") -> OK | L49: 0 | M49: 0 | N49: 0 | O49: 0 | P49: 0 | Q49: 0 | R49: 0 | S49: 0 | T49: 0 | U49: 0 | V49: 0 | W49: 0
A50: MARIA HELENA COMERCIO DE MOVEIS EIRELI ME | B50: 15 | C50: 47 | D50: Piso laminado vinílico, placas decorativas com estampagem digital de madeira com capa de uso de 0,5mm (modelo a definir); placas de aproximadamente 0,41x0,41m; espessura de 3mm a 5mm; resistente a abrasão e químicos classe T; resistente a uso interno e a cadeiras com rodízio; alta durabilidade; certificado da norma brasileira NBR 8660-classe2A; garantia mínima de 15 anos; com acessórios e serviço de instalação; regularização de contrapiso e acabamento inclusos; densidade ótica de fumaça (toxidade em caso de incêndio) menor que 450dm (norma ASTME 662); absorção de som ao impacto norma ASTME 989-06 = 10 decibéis; identação residual igual ou menor a 0,1mm; estabilidade dimensional EN 434 igual ou menor que 0,13mm. INSTALADO. | E50: m² | F50: Duraflor | G50: 339030.24 | H50: 109.84 | J50: =I50-(SUM(L50:W50)) -> 0 | K50: =IF(J50<0,"ATENÇÃO","OK") -> OK | L50: 0 | M50: 0 | N50: 0 | O50: 0 | P50: 0 | Q50: 0 | R50: 0 | S50: 0 | T50: 0 | U50: 0 | V50: 0 | W50: 0
D52: *Prazos de entrega e pagamento conforme termo de referência

Sheet ESAG
A1: PROCESSO: 0757/2015/UDESC | D1: OBJETO: Aquisição de divisórias, vidros, cortinas e similares – Campus I, CERES, CESFI e CEAVI | I1: VIGÊNCIA DA ATA: 20/07/2015 até 19/07/2016 | L1: AF/OS nº 1687/2015 Qtde. DT | M1: AF/OS nº 1736/2015 Qtde. DT | N1: AF/OS nº 1739/2015 Qtde. DT | O1: AF/OS nº xxxx/2015 Qtde. DT | P1: AF/OS nº xxxx/2015 Qtde. DT | Q1: AF/OS nº xxxx/2015 Qtde. DT | R1: AF/OS nº xxxx/2015 Qtde. DT | S1: AF/OS nº xxxx/2015 Qtde. DT | T1: AF/OS nº xxxx/2015 Qtde. DT | U1: AF/OS nº xxxx/2015 Qtde. DT | V1: AF/OS nº xxxx/2015 Qtde. DT | W1: AF/OS nº xxxx/2015 Qtde. DT
A2: CENTRO PARTICIPANTE: ESAG
A3: FORNECEDOR | B3: LOTE | C3: ITEM | D3: PRODUTO - CARACTERÍSTICAS MÍNIMAS | E3: UNIDADE | F3: MARCA | G3: DETALHAMENTO | H3: Preço UNITÁRIO (R$) | I3: Qtde Registrada | J3: Saldo / Automático | K3: ALERTA | L3: ...../...../...... | M3: ...../...../...... | N3: ...../...../...... | O3: ...../...../...... | P3: ...../...../...... | Q3: ...../...../...... | R3: ...../...../...... | S3: ...../...../...... | T3: ...../...../...... | U3: ...../...../...... | V3: ...../...../...... | W3: ...../...../......
A4: TECNOART COMERCIO E SERVIÇOS LTDA ME | B4: 1 | C4: 1 | D4: Espelho 6mm (lapidado). Instalado. | E4: m² | F4: CEBRACE | G4: 339030.24 | H4: 199.3 | J4: =I4-(SUM(L4:W4)) -> 0 | K4: =IF(J4<0,"ATENÇÃO","OK") -> OK | O4: 0 | P4: 0 | Q4: 0 | R4: 0 | S4: 0 | T4: 0 | U4: 0 | V4: 0 | W4: 0
C5: 2 | D5: Vidro mini-boreal incolor, 3mm. Instalado. | E5: m² | F5: CEBRACE | G5: 339030.24 | H5: 30 | J5: =I5-(SUM(L5:W5)) -> 0 | K5: =IF(J5<0,"ATENÇÃO","OK") -> OK | O5: 0 | P5: 0 | Q5: 0 | R5: 0 | S5: 0 | T5: 0 | U5: 0 | V5: 0 | W5: 0
A6: MILANI COMERCIO E DISTRIBUIÇÃO LTDA EPP | B6: 2 | C6: 3 | D6: Fornecimento de divisórias em painéis com espessura de 35mm, cor a definir; com miolo em colméia em kraft de alta gramatura e estrutura em aço galvanizado com pintura em epóxi-poliester pó. na cor. Colocação programada e cor do painel a escolher. Instalada. | E6: m² | F6: Eucatex | G6: 339030.24 | H6: 67 | J6: =I6-(SUM(L6:W6)) -> 0 | K6: =IF(J6<0,"ATENÇÃO","OK") -> OK | O6: 0 | P6: 0 | Q6: 0 | R6: 0 | S6: 0 | T6: 0 | U6: 0 | V6: 0 | W6: 0
C7: 4 | D7: Forro em PVC, espessura 8mm, largura 200mm, com estrutura em aço galvanizado. Cor a definir. Instalado. | E7: m² | F7: Tecnoperfil | G7: 339030.24 | H7: 35 | J7: =I7-(SUM(L7:W7)) -> 0 | K7: =IF(J7<0,"ATENÇÃO","OK") -> OK | O7: 0 | P7: 0 | Q7: 0 | R7: 0 | S7: 0 | T7: 0 | U7: 0 | V7: 0 | W7: 0
C8: 5 | D8: Fornecimento e instalação de vidro liso 3mm, incolor. | E8: m² | F8: Cebrace | G8: 339030.24 | H8: 68 | J8: =I8-(SUM(L8:W8)) -> 0 | K8: =IF(J8<0,"ATENÇÃO","OK") -> OK | O8: 0 | P8: 0 | Q8: 0 | R8: 0 | S8: 0 | T8: 0 | U8: 0 | V8: 0 | W8: 0
C9: 6 | D9: Fornecimento e instalação de vidro liso 4mm, incolor. | E9: m² | F9: Cebrace | G9: 339030.24 | H9: 88 | I9: 30 | J9: =I9-(SUM(L9:W9)) -> 0 | K9: =IF(J9<0,"ATENÇÃO","OK") -> OK | M9: 30 | O9: 0 | P9: 0 | Q9: 0 | R9: 0 | S9: 0 | T9: 0 | U9: 0 | V9: 0 | W9: 0
C10: 7 | D10: Fornecimento e instalação de vidro liso 5mm, incolor. | E10: m² | F10: Cebrace | G10: 339030.24 | H10: 110 | J10: =I10-(SUM(L10:W10)) -> 0 | K10: =IF(J10<0,"ATENÇÃO","OK") -> OK | O10: 0 | P10: 0 | Q10: 0 | R10: 0 | S10: 0 | T10: 0 | U10: 0 | V10: 0 | W10: 0
C11: 8 | D11: Porta de abrir eixo vertical, 90X210cm em painéis divisórias, cor a definir. Com miolo em colméia e estrutura em aço com pintura em epóxi na cor preta (ou bege), completa (com maçaneta, chave e dobradiças). Compatíveis com as divisórias existentes. Instalada. | E11: pç | F11: Eucatex | G11: 339030.24 | H11: 185 | J11: =I11-(SUM(L11:W11)) -> 0 | K11: =IF(J11<0,"ATENÇÃO","OK") -> OK | O11: 0 | P11: 0 | Q11: 0 | R11: 0 | S11: 0 | T11: 0 | U11: 0 | V11: 0 | W11: 0
C12: 9 | D12: Porta de madeira angelim tipo pedra, semi-oca, lisa, para ser instalada em divisória acústica drywall e alvenaria, com revestimento interno de fibra de lã de vidro ou rocha, para isolamento acústico. Tamanho 80cm de larguraX2,10m de altura, espessura da porta 3,5cm. Tamanho da forra 9cm. Inclui forra, maçaneta e todos os acessórios necessários para a sua instalação. Cor natural, pronta para pintura. Instalada. | E12: pç | F12: Reitz | G12: 339030.24 | H12: 860 | J12: =I12-(SUM(L12:W12)) -> 0 | K12: =IF(J12<0,"ATENÇÃO","OK") -> OK | O12: 0 | P12: 0 | Q12: 0 | R12: 0 | S12: 0 | T12: 0 | U12: 0 | V12: 0 | W12: 0
C13: 10 | D13: Divisória acústica com paredes de gesso acartonado, drywall, em estrutura metálica e revestida internamente com fibra de lã de vidro para isolamento acústico. Espessura total da parede 90mm. Remover a anterior e instalar a nova. Incluir todos os acessórios necessários a sua instalação e pintura. Marca de referência: Placocenter. Instalada. | E13: m² | F13: Placo | G13: 339030.24 | H13: 91.55 | I13: 100 | J13: =I13-(SUM(L13:W13)) -> 0 | K13: =IF(J13<0,"ATENÇÃO","OK") -> OK | M13: 100 | O13: 0 | P13: 0 | Q13: 0 | R13: 0 | S13: 0 | T13: 0 | U13: 0 | V13: 0 | W13: 0
C14: 11 | D14: Forro acústico constituído de fibra lã de vidro, revestido na face aparente com PVC, com 20mm de espessura total e 80kg/m³ de densidade. Placas de 1250mmx625mm. 35m² com superfície enrugada e 525m² com superfície lisa. Remover o forro anterior e instalar o novo. Inclui todos os acessórios necessários para a sua instalação. Modelo de referência: Forrovid Boreal Isover. Instalado. | E14: m² | F14: Isover | G14: 339030.24 | H14: 64 | I14: 100 | J14: =I14-(SUM(L14:W14)) -> 0 | K14: =IF(J14<0,"ATENÇÃO","OK") -> OK | M14: 100 | O14: 0 | P14: 0 | Q14: 0 | R14: 0 | S14: 0 | T14: 0 | U14: 0 | V14: 0 | W14: 0
C15: 12 | D15: DIVISÓRIAS, ESPESSURA DE 35MM, Fornecimento de paredes divisórias em painéis de 35mm, com miolo tipo colméia em kraft de alta gramatura, estrutura em aço galvanizado, com pintura epóxi-poliester pó. Módulo com vidro de espessura mínima de 4mm. Painel com altura (pé direito) de 2110mm e bandeira em vidro de 790mm (total de pé direito 2900mm). Colocação programada e cor do painel a escolher. INSTALADO | E15: m² | F15: Eucatex | G15: 339030.24 | H15: 109 | J15: =I15-(SUM(L15:W15)) -> 0 | K15: =IF(J15<0,"ATENÇÃO","OK") -> OK | O15: 0 | P15: 0 | Q15: 0 | R15: 0 | S15: 0 | T15: 0 | U15: 0 | V15: 0 | W15: 0
C16: 13 | D16: Porta para divisórias em painéis de espessura 35mm, com miolo tipo colméia em kraft de alta gramatura, estrutura em aço galvanizado, com pintura epóxi-poliester pó. Colocação programada e cor a escolher. Medidas da porta: 0,80x2,10m. INSTALADA | E16: peça | F16: Eucatex | G16: 339030.24 | H16: 209.9 | J16: =I16-(SUM(L16:W16)) -> 0 | K16: =IF(J16<0,"ATENÇÃO","OK") -> OK | O16: 0 | P16: 0 | Q16: 0 | R16: 0 | S16: 0 | T16: 0 | U16: 0 | V16: 0 | W16: 0
C17: 14 | D17: Divisória acústica com paredes de gesso acartonado, drywall, em estrutura metálica e revestida internamente com fibra de lã de vidro para isolamento acústico, com rodapé e rodateto em perfil de alumínio revestido nas faces com vedante de espuma de PVC autocolante. Espessura total da parede 102mm. Vidros duplos de 6mm, normais ou laminados, com estrutura periférica em alumínio que permita a montagem de persianas em seu interior. Os vidros deverão ser apoiados em batentes de PVC para evitar vibrações. Incluir todos os acessórios necessários a sua instalação e pintura. Marca de referência: Placocenter. Instalada. | E17: m² | F17: Placo | G17: 339030.24 | H17: 240 | J17: =I17-(SUM(L17:W17)) -> 0 | K17: =IF(J17<0,"ATENÇÃO","OK") -> OK | O17: 0 | P17: 0 | Q17: 0 | R17: 0 | S17: 0 | T17: 0 | U17: 0 | V17: 0 | W17: 0
C18: 15 | D18: Serviço de desmontagem de divisórias em painéis com espessura de 35 mm, miolo em colméia, estrutura em aço ou alumínio. | E18: m² | F18: 0 | G18: 339039.16 | H18: 6.5 | I18: 200 | J18: =I18-(SUM(L18:W18)) -> 0 | K18: =IF(J18<0,"ATENÇÃO","OK") -> OK | N18: 200 | O18: 0 | P18: 0 | Q18: 0 | R18: 0 | S18: 0 | T18: 0 | U18: 0 | V18: 0 | W18: 0
C19: 16 | D19: Serviço de montagem de divisórias em painéis com espessura de 35 mm, miolo em colméia, estrutura em aço ou alumínio. | E19: m² | F19: 0 | G19: 339039.16 | H19: 15 | I19: 100 | J19: =I19-(SUM(L19:W19)) -> 0 | K19: =IF(J19<0,"ATENÇÃO","OK") -> OK | N19: 100 | O19: 0 | P19: 0 | Q19: 0 | R19: 0 | S19: 0 | T19: 0 | U19: 0 | V19: 0 | W19: 0
A20: RENATA ALCOFORADO LACERDA DA SILVA ME | B20: 3 | C20: 17 | D20: Película profissional refletiva para redução de temperatura e de incidência dos raios UV. Instalada. | E20: m² | F20: Nextfil | G20: 339030.24 | H20: 35 | I20: 50 | J20: =I20-(SUM(L20:W20)) -> 0 | K20: =IF(J20<0,"ATENÇÃO","OK") -> OK | L20: 50 | O20: 0 | P20: 0 | Q20: 0 | R20: 0 | S20: 0 | T20: 0 | U20: 0 | V20: 0 | W20: 0
A21: ANTONIO CARLOS RIBEIRO PERSIANAS EPP | B21: 4 | C21: 18 | D21: Persiana vertical em tecido resinado RAMI natural com blackout em faixas de no mínimo 9cm, guias para abrir e fechar e mudança de posição (controle de entrada de luz) cor a definir, instalada. (para cálculos da cotação utilizar altura média de 1,60m). | E21: m² | F21: Quevedo | G21: 339030.24 | H21: 66 | I21: 100 | J21: =I21-(SUM(L21:W21)) -> 100 | K21: =IF(J21<0,"ATENÇÃO","OK") -> OK | O21: 0 | P21: 0 | Q21: 0 | R21: 0 | S21: 0 | T21: 0 | U21: 0 | V21: 0 | W21: 0
C22: 19 | D22: Persiana vertical em tecido resinado RAMI natural - em faixas de no mín. 9 cm, guias para abrir e fechar e mudança de posição (controle a entrada de luz). Cor a definir. Instalada. (para cálculos da cotação utilizar altura média de 1,60m). | E22: m² | F22: Quevedo | G22: 339030.24 | H22: 49.3 | J22: =I22-(SUM(L22:W22)) -> 0 | K22: =IF(J22<0,"ATENÇÃO","OK") -> OK | O22: 0 | P22: 0 | Q22: 0 | R22: 0 | S22: 0 | T22: 0 | U22: 0 | V22: 0 | W22: 0
C23: 20 | D23: Persiana horizontal de alumínio com lâminas de 50mm, não-perfurada, que permita ser utilizada por meio de um cordão e haste. Completa, inclui todos os acessórios necessários para a sua instalação e funcionamento. Modelo de referência: Haste e Cordão/Luxaflex. instalada. | E23: m² | F23: Quevedo | G23: 339030.24 | H23: 113 | J23: =I23-(SUM(L23:W23)) -> 0 | K23: =IF(J23<0,"ATENÇÃO","OK") -> OK | O23: 0 | P23: 0 | Q23: 0 | R23: 0 | S23: 0 | T23: 0 | U23: 0 | V23: 0 | W23: 0
C24: 21 | D24: Persiana horizontal de alumínio com lâminas de 50mm, modelo blackout, sem furos, que permita ser utilizada por meio de um cordão e haste. Completa, inclui todos os acessórios necessários para a sua instalação e funcionamento. Modelo de referência: Haste e Cordão/Luxaflex. instalada. | E24: m² | F24: Quevedo | G24: 339030.24 | H24: 113 | J24: =I24-(SUM(L24:W24)) -> 0 | K24: =IF(J24<0,"ATENÇÃO","OK") -> OK | O24: 0 | P24: 0 | Q24: 0 | R24: 0 | S24: 0 | T24: 0 | U24: 0 | V24: 0 | W24: 0
C25: 22 | D25: Persiana tipo tela plana de tecido filtra sol com 1% de abertura (tecido usado em persianas), tecido composto por fibra de vidro e PVC, cor branco, lavável, costurada com velcro de 2,5cm em todas as bordas, a fixação nas janelas será com velcro do lado oposto ao costurado na persiana tipo tela. Cada tela deverá possuir as seguintes medidas: 53cm x 138cm Observação: O velcro deverá ser costurado nas extremidades do tecido (nos quatro lados) e a outra face do velcro deverá ser colada na madeira (nos quatro lados). | E25: peça | F25: Quevedo | G25: 339030.24 | H25: 85 | J25: =I25-(SUM(L25:W25)) -> 0 | K25: =IF(J25<0,"ATENÇÃO","OK") -> OK | O25: 0 | P25: 0 | Q25: 0 | R25: 0 | S25: 0 | T25: 0 | U25: 0 | V25: 0 | W25: 0
C26: 23 | D26: Persiana tipo tela de tecido filtrasol, 1% de abertura (tecido usado em persianas), tecido composto por fibra de vidro e PVC, cor branco, lavável, costurada com velcro de 2,5cm em todas as bordas, a fixação nas janelas será com velcro do lado oposto ao costurado na persiana tipo tela. Cada tela deverá possuir as seguintes medidas: 54cm x 32cm Observação: O velcro deverá ser costurado nas extremidades do tecido (nos quatro lados) e a outra face do velcro deverá ser colada na madeira (nos quatro lados). | E26: peça | F26: Quevedo | G26: 339030.24 | H26: 41 | J26: =I26-(SUM(L26:W26)) -> 0 | K26: =IF(J26<0,"ATENÇÃO","OK") -> OK | O26: 0 | P26: 0 | Q26: 0 | R26: 0 | S26: 0 | T26: 0 | U26: 0 | V26: 0 | W26: 0
C27: 24 | D27: Serviço de reparo de Persiana vertical em tecido resinado RAMI natural - em faixas de no mín. 9 cm, guias para abrir e fechar e mudança de posição (controle a entrada de luz). Cor a definir. Instalada. (para cálculos da cotação utilizar altura média de 1,60m), com fornecimento de presilhas, correntes de regulagens e pá de fixação inferior, equivalemente a m2 e cortina | E27: m² | F27: Quevedo | G27: 339039.16 | H27: 20 | J27: =I27-(SUM(L27:W27)) -> 0 | K27: =IF(J27<0,"ATENÇÃO","OK") -> OK | O27: 0 | P27: 0 | Q27: 0 | R27: 0 | S27: 0 | T27: 0 | U27: 0 | V27: 0 | W27: 0
A28: TECNOART COMERCIO E SERVIÇOS LTDA ME | B28: 5 | C28: 25 | D28: Piso cerâmico PEI-5 60x60cm, padrão A, anti-derrapante. para uso externo. anti-derrapante.de 60x60cm. Superfície acetinada. Inclui todos os materiais necessário a sua instalação. Marca de referência: Eliane. Modelo de referência: Etna crema. Instalado. | E28: m² | F28: ELIANE REF. ETNA CREMA | G28: 339030.24 | H28: 86.96 | I28: 80 | J28: =I28-(SUM(L28:W28)) -> 80 | K28: =IF(J28<0,"ATENÇÃO","OK") -> OK | O28: 0 | P28: 0 | Q28: 0 | R28: 0 | S28: 0 | T28: 0 | U28: 0 | V28: 0 | W28: 0
C29: 26 | D29: Piso cerâmico PEI-5 30x30cm, padrão A, anti-derrapante. Para uso interno. Inclui todos os materiais necessário a sua instalação, cor a definir. Instalado. | E29: m² | F29: ILHA BELA | G29: 339030.24 | H29: 68.2 | J29: =I29-(SUM(L29:W29)) -> 0 | K29: =IF(J29<0,"ATENÇÃO","OK") -> OK | O29: 0 | P29: 0 | Q29: 0 | R29: 0 | S29: 0 | T29: 0 | U29: 0 | V29: 0 | W29: 0
C30: 27 | D30: Piso cerâmico PEI-5 45x45cm, padrão A, anti-derrapante. Para uso interno. Inclui todos os materiais necessário a sua instalação, cor a definir. Instalado. | E30: m² | F30: ANGELGRES | G30: 339030.24 | H30: 68.2 | J30: =I30-(SUM(L30:W30)) -> 0 | K30: =IF(J30<0,"ATENÇÃO","OK") -> OK | O30: 0 | P30: 0 | Q30: 0 | R30: 0 | S30: 0 | T30: 0 | U30: 0 | V30: 0 | W30: 0
A31: MARIA HELENA COMERCIO DE MOVEIS EIRELI ME | B31: 6 | C31: 28 | D31: Soleira de granito, com 25mm de espessura, com dente de quebra-gota. Cor branca ou cinza andorinha. Instalada. | F31: Marmoraria Mila | G31: 339030.24 | H31: 458 | J31: =I31-(SUM(L31:W31)) -> 0 | K31: =IF(J31<0,"ATENÇÃO","OK") -> OK | O31: 0 | P31: 0 | Q31: 0 | R31: 0 | S31: 0 | T31: 0 | U31: 0 | V31: 0 | W31: 0
A32: TECNOART COMERCIO E SERVIÇOS LTDA ME | B32: 7 | C32: 29 | D32: Cortina em tecido Gorgurão, cor a definir, com aproximadamente 4m de largura, 2m de altura, com pregas "macho" (totalizando 12m de tecido), com trilho suiço duplo colocado. | E32: peça | F32: TECNOART | G32: 339030.24 | H32: 920 | J32: =I32-(SUM(L32:W32)) -> 0 | K32: =IF(J32<0,"ATENÇÃO","OK") -> OK | O32: 0 | P32: 0 | Q32: 0 | R32: 0 | S32: 0 | T32: 0 | U32: 0 | V32: 0 | W32: 0
C33: 30 | D33: Cortina em tecido Gorgurão, cor a definir, com aproximadamente 4,65m de largura, 2m de altura, com pregas "macho" (totalizando 98m de tecido), com trilho suiço duplo colocado. Com Blecaute de tecido poliester, cor a definir, com 4,65m largura, e 2m de altura (totalizando 98m de tecido), colocado. | E33: peça | F33: TECNOART | G33: 339030.24 | H33: 1670 | J33: =I33-(SUM(L33:W33)) -> 0 | K33: =IF(J33<0,"ATENÇÃO","OK") -> OK | O33: 0 | P33: 0 | Q33: 0 | R33: 0 | S33: 0 | T33: 0 | U33: 0 | V33: 0 | W33: 0
C34: 31 | D34: Cortina em tecido Gorgurão, cor a definir, com aproximadamente 3,30m de largura, 2m de altura, com pregas "macho" (totalizando 20m de tecido), com trilho suiço duplo colocado. Com Blecaute de tecido poliester, cor a definir, com 3,30m largura, e 2m de altura (totalizando 20m de tecido), colocado. | E34: peça | F34: TECNOART | G34: 339030.24 | H34: 1178 | J34: =I34-(SUM(L34:W34)) -> 0 | K34: =IF(J34<0,"ATENÇÃO","OK") -> OK | O34: 0 | P34: 0 | Q34: 0 | R34: 0 | S34: 0 | T34: 0 | U34: 0 | V34: 0 | W34: 0
A35: MARIA HELENA COMERCIO DE MOVEIS EIRELI ME | B35: 8 | C35: 32 | D35: Porta de aluminio para banheiros. Na cor branca, com forra, fechadura (par de chaves), folha veneziana vedada, grapas para instalação, entrega instalada. Tamanho aproximado de 1,90x1m (podendo sofrer variações de até 5cm para mais ou para menos - verificar antes da instalação) | E35: peça | F35: Stylo Alumínio | G35: 339030.24 | H35: 977 | J35: =I35-(SUM(L35:W35)) -> 0 | K35: =IF(J35<0,"ATENÇÃO","OK") -> OK | O35: 0 | P35: 0 | Q35: 0 | R35: 0 | S35: 0 | T35: 0 | U35: 0 | V35: 0 | W35: 0
C36: 33 | D36: Porta de aluminio para banheiros. Na cor branca, com forra, fechadura (par de chaves), folha veneziana vedada, grapas para instalação, entrega instalada. Tamanho aproximado de 1,90x,065m (podendo sofrer variações de até 5cm para mais ou para menos - verificar antes da instalação) | E36: peça | F36: Stylo Alumínio | G36: 339030.24 | H36: 840 | J36: =I36-(SUM(L36:W36)) -> 0 | K36: =IF(J36<0,"ATENÇÃO","OK") -> OK | O36: 0 | P36: 0 | Q36: 0 | R36: 0 | S36: 0 | T36: 0 | U36: 0 | V36: 0 | W36: 0
C37: 34 | D37: Porta de aluminio para banheiros. Na cor branca, com forra, fechadura (par de chaves), folha veneziana vedada, grapas para instalação, entrega instalada. Tamanho aproximado de 1,1x0,95m (podendo sofrer variações de até 5cm para mais ou para menos - verificar antes da instalação) | E37: peça | F37: Stylo Alumínio | G37: 339030.24 | H37: 699 | J37: =I37-(SUM(L37:W37)) -> 0 | K37: =IF(J37<0,"ATENÇÃO","OK") -> OK | O37: 0 | P37: 0 | Q37: 0 | R37: 0 | S37: 0 | T37: 0 | U37: 0 | V37: 0 | W37: 0
C38: 35 | D38: Porta de aluminio para banheiros. Na cor branca, com forra, fechadura (par de chaves), folha veneziana vedada, grapas para instalação, entrega instalada. Tamanho aproximado de 2,10x80m (podendo sofrer variações de até 5cm para mais ou para menos - verificar antes da instalação) | E38: peça | F38: Stylo Alumínio | G38: 339030.24 | H38: 890 | J38: =I38-(SUM(L38:W38)) -> 0 | K38: =IF(J38<0,"ATENÇÃO","OK") -> OK | O38: 0 | P38: 0 | Q38: 0 | R38: 0 | S38: 0 | T38: 0 | U38: 0 | V38: 0 | W38: 0
A39: TECNOART COMERCIO E SERVIÇOS LTDA ME | B39: 9 | C39: 36 | D39: Porta de vidro de 10mm com mola área e braço de parada. Colocadas. Metragem 2,10x0,98m (podendo sofrer variações de até 5cm para mais ou pra menos - verificar antes da instalação) | E39: peça | F39: TECNOART | G39: 339030.24 | H39: 1300 | J39: =I39-(SUM(L39:W39)) -> 0 | K39: =IF(J39<0,"ATENÇÃO","OK") -> OK | O39: 0 | P39: 0 | Q39: 0 | R39: 0 | S39: 0 | T39: 0 | U39: 0 | V39: 0 | W39: 0
C40: 37 | D40: Porta de vidro de 10mm com mola área e braço de parada. Colocadas. Metragem 2,10x0,70m (podendo sofrer variações de até 5cm para mais ou pra menos - verificar antes da instalação) | E40: peça | F40: TECNOART | G40: 339030.24 | H40: 1100 | J40: =I40-(SUM(L40:W40)) -> 0 | K40: =IF(J40<0,"ATENÇÃO","OK") -> OK | O40: 0 | P40: 0 | Q40: 0 | R40: 0 | S40: 0 | T40: 0 | U40: 0 | V40: 0 | W40: 0
C41: 38 | D41: Porta de abrir em vidro temperado, tipo blindex, transparente/incolor. Medindo 900 x 2200 x 10 mm. Dobradiças, fechadura e maçaneta/Puxador em alumínio branco. Inclui todos os materiais necessários para a sua instalação. INSTALADA | E41: peça | F41: TECNOART | G41: 339030.24 | H41: 660 | J41: =I41-(SUM(L41:W41)) -> 0 | K41: =IF(J41<0,"ATENÇÃO","OK") -> OK | O41: 0 | P41: 0 | Q41: 0 | R41: 0 | S41: 0 | T41: 0 | U41: 0 | V41: 0 | W41: 0
C42: 39 | D42: Janela em vidro temperado tipo blindex, transparente/incolor. Medida total 2500 x 5200 x 10 mm, sendo fixo a parte superior 1000 x 5200 mm e as partes laterais 1300 x 1500 mm de cada lado e janelas de correr no centro com 1300 x 1500 mm. Dobradiças, fechaduras e puxadores em alumínio branco. Incluindo todos os materiais necessários para a instalação. INSTALADA. | E42: peça | F42: TECNOART | G42: 339030.24 | H42: 3945 | J42: =I42-(SUM(L42:W42)) -> 0 | K42: =IF(J42<0,"ATENÇÃO","OK") -> OK | O42: 0 | P42: 0 | Q42: 0 | R42: 0 | S42: 0 | T42: 0 | U42: 0 | V42: 0 | W42: 0
C43: 40 | D43: Janela em vidro temperado tipo blindex, transparente/incolor. Medida total 2300 x 1200 x 10 mm, sendo fixo a parte inferior 1150 x 1200 mm e a parte superior de abrir, medindo 1150 x 1200 mm. Dobradiças, fechaduras e puxadores em alumínio branco. Retirada do vidro existente. Incluindo todos os materiais necessários para a instalação. INSTALADA. | E43: peça | F43: TECNOART | G43: 339030.24 | H43: 859.37 | J43: =I43-(SUM(L43:W43)) -> 0 | K43: =IF(J43<0,"ATENÇÃO","OK") -> OK | O43: 0 | P43: 0 | Q43: 0 | R43: 0 | S43: 0 | T43: 0 | U43: 0 | V43: 0 | W43: 0
A44: MARIA HELENA COMERCIO DE MOVEIS EIRELI ME | B44: 10 | C44: 41 | D44: Fornecimento de divisória tipo painel móvel dupla face, oco, aberto na parte superior, confeccionado com placas de MDF (Médium Density Fiberboard) resistente a umidade e água, selo verde, com espessura 15mm, na cor branco diamante, da marca Masisa ou similar, as dimensões serão 1,35m x 1,80m x 0,20cm, conforme desenho. O interior deve ser preenchido com 8 (oito) réguas estruturais de MDF de 15mm, coladas em toda sua extensão, nas mesmas medidas das laterais, de um lado a outro do painel, para evitar deformidades. A parte inferior deverá ser fechada com placa de MDF de 15mm e na base deverão ser fixados 6 (seis) rodízios em metal, com dispositivo giratório 360 graus, roda de borracha preta, cinza escuro ou similar, com capacidade até 60kg, com dispositivo de trava em 6 (seis) rodízios fixados nas extremidades, marca Vonder ou similar. Os rodízios deverão ser testados depois de fixados a fim de verificar os rolamentos e dispositivos de trava. Não serão aceitas placas que apresentem deformidades em razão da fabricação, estocagem, limpeza ou outro aspecto visual de correção, nem serão aceitos rodízios com defeito ou deformidade que a fiscalização julgue procedente. No sentido da largura, na parte superior aberta, deverão ser fixados, internamente, dois suportes de varão e dois varões de alumínio de 3mm de espessura. | E44: peça | F44: Maria Helena | G44: 339030.24 | H44: 1290 | J44: =I44-(SUM(L44:W44)) -> 0 | K44: =IF(J44<0,"ATENÇÃO","OK") -> OK | O44: 0 | P44: 0 | Q44: 0 | R44: 0 | S44: 0 | T44: 0 | U44: 0 | V44: 0 | W44: 0
A45: TECNOART COMERCIO E SERVIÇOS LTDA ME | B45: 11 | C45: 42 | D45: Fornecimento de divisória tipo painel móvel que deverão ser executados em alumínio, moldura tubular retangular, medindo aproximadamente 2,5cm X 5,0cm, acabamento decorativo usando processo de anodização na cor preto fosco. Os perfis que fecham o interior da estrutura do painel são de alumínio, tubular redondo, com dimensão de (aproximadamente) 2,0cm de diâmetro, com acabamento decorativo usando processo de anodização cor preto fosco. Cada painel deverá vir acompanhado de uma barra de alumínio (tubo redondo), com diâmetro de 3,5cm e acabamento decorativo usando processo de anodização cor preto fosco, que permitirão a fixação entre os painéis com pino, fornecidos para possibilitar a utilização destes painéis unidos em forma de biombo. Estes pinos devem ser pivotantes da marca Acoplac ou similar e executados em material resistente de polipropileno, nylon ou similar. Cada painel deverá possuir 4 (quatro) pinos. Cada painel deverá possuir duas sapatas niveladoras de 20mm, que servirão de pé. Estes pés deverão ser reguláveis com bucha. Os parafusos da estrutura dos painéis devem ser de aço inox. As medidas estão estabelecidas no desenho anexo que ilustra como o painel deve ser executado. | E45: peça | F45: TECNOART | G45: 339030.24 | H45: 925 | J45: =I45-(SUM(L45:W45)) -> 0 | K45: =IF(J45<0,"ATENÇÃO","OK") -> OK | O45: 0 | P45: 0 | Q45: 0 | R45: 0 | S45: 0 | T45: 0 | U45: 0 | V45: 0 | W45: 0
A46: DESERTO | B46: 12 | C46: 43 | D46: Tapete cerdas médias 2,5x2,5 m. Antiderrapante. Lavável. Cor e estampa à definir. Marca de referência: São Carlos. | E46: peça | F46: 0 | G46: 339030.24 | H46: 0 | J46: =I46-(SUM(L46:W46)) -> 0 | K46: =IF(J46<0,"ATENÇÃO","OK") -> OK | O46: 0 | P46: 0 | Q46: 0 | R46: 0 | S46: 0 | T46: 0 | U46: 0 | V46: 0 | W46: 0
A47: TECNOART COMERCIO E SERVIÇOS LTDA ME | B47: 13 | C47: 44 | D47: Toldo modelo meia lua, medidas: 6m comprimento x 3,20m largura x 3m altura. Material estrutural: tubos de aço galvanizado, metalon barras de 9cm, com pintura smallpox vermelha, com soldagem tipo MIG em toda a estrutura. Cobertura em policarbonato alveolar de 6mm na cor vermelha. Metalon barras na cobertura de 5cm. A fixação das chapas em policarbonato nas estruturas deverão ser feitas em parafuso auto-brocante e calafetadas com silicone, quando necessário, em todo o perímetro. Incluindo todos os materiais para a instalação. INSTALADO | E47: peça | F47: TECNOART | G47: 339030.24 | H47: 8700 | J47: =I47-(SUM(L47:W47)) -> 0 | K47: =IF(J47<0,"ATENÇÃO","OK") -> OK | O47: 0 | P47: 0 | Q47: 0 | R47: 0 | S47: 0 | T47: 0 | U47: 0 | V47: 0 | W47: 0
A48: GEOMA CONSTRUÇÕES EIRELI EPP | B48: 14 | C48: 45 | D48: Serviço de retirada de piso, construção de novo piso, regularização e preparação para instalação de novos pisos. Destinar o respectivo entulho da substituição do piso. | E48: m² | F48: 0 | G48: 339039.16 | H48: 150 | J48: =I48-(SUM(L48:W48)) -> 0 | K48: =IF(J48<0,"ATENÇÃO","OK") -> OK | O48: 0 | P48: 0 | Q48: 0 | R48: 0 | S48: 0 | T48: 0 | U48: 0 | V48: 0 | W48: 0
C49: 46 | D49: Serviço de lixação, revitalização e clareamento do piso feito em pedra ardózia bruta. Incluindo revestimento e impermeabiliozação do pios após lixar e topdos os materiais necessários para realização do serviço. | E49: m² | F49: 0 | G49: 339039.16 | H49: 60 | J49: =I49-(SUM(L49:W49)) -> 0 | K49: =IF(J49<0,"ATENÇÃO","OK") -> OK | O49: 0 | P49: 0 | Q49: 0 | R49: 0 | S49: 0 | T49: 0 | U49: 0 | V49: 0 | W49: 0
A50: MARIA HELENA COMERCIO DE MOVEIS EIRELI ME | B50: 15 | C50: 47 | D50: Piso laminado vinílico, placas decorativas com estampagem digital de madeira com capa de uso de 0,5mm (modelo a definir); placas de aproximadamente 0,41x0,41m; espessura de 3mm a 5mm; resistente a abrasão e químicos classe T; resistente a uso interno e a cadeiras com rodízio; alta durabilidade; certificado da norma brasileira NBR 8660-classe2A; garantia mínima de 15 anos; com acessórios e serviço de instalação; regularização de contrapiso e acabamento inclusos; densidade ótica de fumaça (toxidade em caso de incêndio) menor que 450dm (norma ASTME 662); absorção de som ao impacto norma ASTME 989-06 = 10 decibéis; identação residual igual ou menor a 0,1mm; estabilidade dimensional EN 434 igual ou menor que 0,13mm. INSTALADO. | E50: m² | F50: Duraflor | G50: 339030.24 | H50: 109.84 | J50: =I50-(SUM(L50:W50)) -> 0 | K50: =IF(J50<0,"ATENÇÃO","OK") -> OK | O50: 0 | P50: 0 | Q50: 0 | R50: 0 | S50: 0 | T50: 0 | U50: 0 | V50: 0 | W50: 0
D52: *Prazos de entrega e pagamento conforme termo de referência

Sheet CEART
A1: PROCESSO: 0757/2015/UDESC | D1: OBJETO: Aquisição de divisórias, vidros, cortinas e similares – Campus I, CERES, CESFI e CEAVI | I1: VIGÊNCIA DA ATA: 20/07/2015 até 19/07/2016 | L1: AF 1572/2015 | M1: AF 1573/2015 | N1: AF 1782/2015 | O1: AF 1885/2015 | P1: AF 1971/2015 | Q1: AF 2060/2015 | R1: AF 0004/2016 | S1: ADITIVO | T1: AF2207/2015 | U1: af0005/2016 | V1: AF/OS nº xxxx/2015 Qtde. DT | W1: AF/OS nº xxxx/2015 Qtde. DT
A2: CENTRO PARTICIPANTE: CEART
A3: FORNECEDOR | B3: LOTE | C3: ITEM | D3: PRODUTO - CARACTERÍSTICAS MÍNIMAS | E3: UNIDADE | F3: MARCA | G3: DETALHAMENTO | H3: Preço UNITÁRIO (R$) | I3: Qtde Registrada | J3: Saldo / Automático | K3: ALERTA | L3: 42248 | M3: 42248 | N3: 42277 | O3: 42285 | P3: 42297 | Q3: 42306 | R3: 42375 | S3: 42311 | T3: 42311 | U3: 42377 | V3: ...../...../...... | W3: ...../...../......
A4: TECNOART COMERCIO E SERVIÇOS LTDA ME | B4: 1 | C4: 1 | D4: Espelho 6mm (lapidado). Instalado. | E4: m² | F4: CEBRACE | G4: 339030.24 | H4: 199.3 | I4: 20 | J4: =I4-(SUM(L4:W4)) -> 20 | K4: =IF(J4<0,"ATENÇÃO","OK") -> OK | L4: 0 | M4: 0 | N4: 0 | O4: 0 | P4: 0 | Q4: 0 | R4: 0 | S4: 0 | T4: 0 | U4: 0 | V4: 0 | W4: 0
C5: 2 | D5: Vidro mini-boreal incolor, 3mm. Instalado. | E5: m² | F5: CEBRACE | G5: 339030.24 | H5: 30 | J5: =I5-(SUM(L5:W5)) -> 0 | K5: =IF(J5<0,"ATENÇÃO","OK") -> OK | L5: 0 | M5: 0 | N5: 0 | O5: 0 | P5: 0 | Q5: 0 | R5: 0 | S5: 0 | T5: 0 | U5: 0 | V5: 0 | W5: 0
A6: MILANI COMERCIO E DISTRIBUIÇÃO LTDA EPP | B6: 2 | C6: 3 | D6: Fornecimento de divisórias em painéis com espessura de 35mm, cor a definir; com miolo em colméia em kraft de alta gramatura e estrutura em aço galvanizado com pintura em epóxi-poliester pó. na cor. Colocação programada e cor do painel a escolher. Instalada. | E6: m² | F6: Eucatex | G6: 339030.24 | H6: 67 | I6: 50 | J6: =I6-(SUM(L6:W6)) -> 0 | K6: =IF(J6<0,"ATENÇÃO","OK") -> OK | L6: 0 | M6: 0 | N6: 0 | O6: 0 | P6: 0 | Q6: 0 | S6: 0 | T6: 0 | U6: 50 | V6: 0 | W6: 0
C7: 4 | D7: Forro em PVC, espessura 8mm, largura 200mm, com estrutura em aço galvanizado. Cor a definir. Instalado. | E7: m² | F7: Tecnoperfil | G7: 339030.24 | H7: 35 | I7: 100 | J7: =I7-(SUM(L7:W7)) -> 100 | K7: =IF(J7<0,"ATENÇÃO","OK") -> OK | L7: 0 | M7: 0 | N7: 0 | O7: 0 | P7: 0 | Q7: 0 | R7: 0 | S7: 0 | T7: 0 | U7: 0 | V7: 0 | W7: 0
C8: 5 | D8: Fornecimento e instalação de vidro liso 3mm, incolor. | E8: m² | F8: Cebrace | G8: 339030.24 | H8: 68 | I8: 50 | J8: =I8-(SUM(L8:W8)) -> 39 | K8: =IF(J8<0,"ATENÇÃO","OK") -> OK | L8: 0 | M8: 0 | N8: 0 | O8: 0 | P8: 0 | Q8: 0 | S8: 0 | T8: 0 | U8: 11 | V8: 0 | W8: 0
C9: 6 | D9: Fornecimento e instalação de vidro liso 4mm, incolor. | E9: m² | F9: Cebrace | G9: 339030.24 | H9: 88 | J9: =I9-(SUM(L9:W9)) -> 0 | K9: =IF(J9<0,"ATENÇÃO","OK") -> OK | L9: 0 | M9: 0 | N9: 0 | O9: 0 | P9: 0 | Q9: 0 | R9: 0 | S9: 0 | T9: 0 | U9: 0 | V9: 0 | W9: 0
C10: 7 | D10: Fornecimento e instalação de vidro liso 5mm, incolor. | E10: m² | F10: Cebrace | G10: 339030.24 | H10: 110 | J10: =I10-(SUM(L10:W10)) -> 0 | K10: =IF(J10<0,"ATENÇÃO","OK") -> OK | L10: 0 | M10: 0 | N10: 0 | O10: 0 | P10: 0 | Q10: 0 | R10: 0 | S10: 0 | T10: 0 | U10: 0 | V10: 0 | W10: 0
C11: 8 | D11: Porta de abrir eixo vertical, 90X210cm em painéis divisórias, cor a definir. Com miolo em colméia e estrutura em aço com pintura em epóxi na cor preta (ou bege), completa (com maçaneta, chave e dobradiças). Compatíveis com as divisórias existentes. Instalada. | E11: pç | F11: Eucatex | G11: 339030.24 | H11: 185 | J11: =I11-(SUM(L11:W11)) -> 0 | K11: =IF(J11<0,"ATENÇÃO","OK") -> OK | L11: 0 | M11: 0 | N11: 0 | O11: 0 | P11: 0 | Q11: 0 | R11: 0 | S11: 0 | T11: 0 | U11: 0 | V11: 0 | W11: 0
C12: 9 | D12: Porta de madeira angelim tipo pedra, semi-oca, lisa, para ser instalada em divisória acústica drywall e alvenaria, com revestimento interno de fibra de lã de vidro ou rocha, para isolamento acústico. Tamanho 80cm de larguraX2,10m de altura, espessura da porta 3,5cm. Tamanho da forra 9cm. Inclui forra, maçaneta e todos os acessórios necessários para a sua instalação. Cor natural, pronta para pintura. Instalada. | E12: pç | F12: Reitz | G12: 339030.24 | H12: 860 | I12: 6 | J12: =I12-(SUM(L12:W12)) -> 0 | K12: =IF(J12<0,"ATENÇÃO","OK") -> OK | L12: 1 | M12: 0 | O12: 1 | P12: 0 | Q12: 0 | R12: 2 | S12: 0 | T12: 0 | U12: 2 | V12: 0 | W12: 0
C13: 10 | D13: Divisória acústica com paredes de gesso acartonado, drywall, em estrutura metálica e revestida internamente com fibra de lã de vidro para isolamento acústico. Espessura total da parede 90mm. Remover a anterior e instalar a nova. Incluir todos os acessórios necessários a sua instalação e pintura. Marca de referência: Placocenter. Instalada. | E13: m² | F13: Placo | G13: 339030.24 | H13: 91.55 | I13: 100 | J13: =I13-(SUM(L13:W13)) -> 0.5 | K13: =IF(J13<0,"ATENÇÃO","OK") -> OK | L13: 99.5 | M13: 0 | O13: 0 | P13: 0 | Q13: 0 | R13: 0 | S13: 0 | T13: 0 | U13: 0 | V13: 0 | W13: 0
C14: 11 | D14: Forro acústico constituído de fibra lã de vidro, revestido na face aparente com PVC, com 20mm de espessura total e 80kg/m³ de densidade. Placas de 1250mmx625mm. 35m² com superfície enrugada e 525m² com superfície lisa. Remover o forro anterior e instalar o novo. Inclui todos os acessórios necessários para a sua instalação. Modelo de referência: Forrovid Boreal Isover. Instalado. | E14: m² | F14: Isover | G14: 339030.24 | H14: 64 | J14: =I14-(SUM(L14:W14)) -> 0 | K14: =IF(J14<0,"ATENÇÃO","OK") -> OK | L14: 0 | M14: 0 | N14: 0 | O14: 0 | P14: 0 | Q14: 0 | R14: 0 | S14: 0 | T14: 0 | U14: 0 | V14: 0 | W14: 0
C15: 12 | D15: DIVISÓRIAS, ESPESSURA DE 35MM, Fornecimento de paredes divisórias em painéis de 35mm, com miolo tipo colméia em kraft de alta gramatura, estrutura em aço galvanizado, com pintura epóxi-poliester pó. Módulo com vidro de espessura mínima de 4mm. Painel com altura (pé direito) de 2110mm e bandeira em vidro de 790mm (total de pé direito 2900mm). Colocação programada e cor do painel a escolher. INSTALADO | E15: m² | F15: Eucatex | G15: 339030.24 | H15: 109 | I15: 220 | J15: =I15-(SUM(L15:W15)) -> 200 | K15: =IF(J15<0,"ATENÇÃO","OK") -> OK | L15: 9.8 | M15: 0 | N15: 0 | O15: 0 | P15: 0 | Q15: 0 | S15: 0 | T15: 0 | U15: 10.2 | V15: 0 | W15: 0
C16: 13 | D16: Porta para divisórias em painéis de espessura 35mm, com miolo tipo colméia em kraft de alta gramatura, estrutura em aço galvanizado, com pintura epóxi-poliester pó. Colocação programada e cor a escolher. Medidas da porta: 0,80x2,10m. INSTALADA | E16: peça | F16: Eucatex | G16: 339030.24 | H16: 209.9 | I16: 10 | J16: =I16-(SUM(L16:W16)) -> 8 | K16: =IF(J16<0,"ATENÇÃO","OK") -> OK | L16: 1 | M16: 0 | N16: 0 | O16: 0 | P16: 0 | Q16: 0 | S16: 0 | T16: 0 | U16: 1 | V16: 0 | W16: 0
C17: 14 | D17: Divisória acústica com paredes de gesso acartonado, drywall, em estrutura metálica e revestida internamente com fibra de lã de vidro para isolamento acústico, com rodapé e rodateto em perfil de alumínio revestido nas faces com vedante de espuma de PVC autocolante. Espessura total da parede 102mm. Vidros duplos de 6mm, normais ou laminados, com estrutura periférica em alumínio que permita a montagem de persianas em seu interior. Os vidros deverão ser apoiados em batentes de PVC para evitar vibrações. Incluir todos os acessórios necessários a sua instalação e pintura. Marca de referência: Placocenter. Instalada. | E17: m² | F17: Placo | G17: 339030.24 | H17: 240 | I17: 50 | J17: =I17-(SUM(L17:W17)) -> 38.7 | K17: =IF(J17<0,"ATENÇÃO","OK") -> OK | L17: 0 | M17: 0 | N17: 0 | O17: 0 | P17: 0 | Q17: 0 | S17: 0 | T17: 0 | U17: 11.3 | V17: 0 | W17: 0
C18: 15 | D18: Serviço de desmontagem de divisórias em painéis com espessura de 35 mm, miolo em colméia, estrutura em aço ou alumínio. | E18: m² | F18: 0 | G18: 339039.16 | H18: 6.5 | I18: 30 | J18: =I18-(SUM(L18:W18)) -> 20.2 | K18: =IF(J18<0,"ATENÇÃO","OK") -> OK | M18: 9.8 | N18: 0 | O18: 0 | P18: 0 | Q18: 0 | R18: 0 | S18: 0 | T18: 0 | U18: 0 | V18: 0 | W18: 0
C19: 16 | D19: Serviço de montagem de divisórias em painéis com espessura de 35 mm, miolo em colméia, estrutura em aço ou alumínio. | E19: m² | F19: 0 | G19: 339039.16 | H19: 15 | I19: 30 | J19: =I19-(SUM(L19:W19)) -> 30 | K19: =IF(J19<0,"ATENÇÃO","OK") -> OK | L19: 0 | M19: 0 | N19: 0 | O19: 0 | P19: 0 | Q19: 0 | R19: 0 | S19: 0 | T19: 0 | U19: 0 | V19: 0 | W19: 0
A20: RENATA ALCOFORADO LACERDA DA SILVA ME | B20: 3 | C20: 17 | D20: Película profissional refletiva para redução de temperatura e de incidência dos raios UV. Instalada. | E20: m² | F20: Nextfil | G20: 339030.24 | H20: 35 | I20: 100 | J20: =I20-(SUM(L20:W20)) -> 70.93 | K20: =IF(J20<0,"ATENÇÃO","OK") -> OK | L20: 0 | M20: 0 | N20: 29.07 | O20: 0 | P20: 0 | Q20: 0 | R20: 0 | S20: 0 | T20: 0 | U20: 0 | V20: 0 | W20: 0
A21: ANTONIO CARLOS RIBEIRO PERSIANAS EPP | B21: 4 | C21: 18 | D21: Persiana vertical em tecido resinado RAMI natural com blackout em faixas de no mínimo 9cm, guias para abrir e fechar e mudança de posição (controle de entrada de luz) cor a definir, instalada. (para cálculos da cotação utilizar altura média de 1,60m). | E21: m² | F21: Quevedo | G21: 339030.24 | H21: 66 | J21: =I21-(SUM(L21:W21)) -> 0 | K21: =IF(J21<0,"ATENÇÃO","OK") -> OK | L21: 0 | M21: 0 | N21: 0 | O21: 0 | P21: 0 | Q21: 0 | R21: 0 | S21: 0 | T21: 0 | U21: 0 | V21: 0 | W21: 0
C22: 19 | D22: Persiana vertical em tecido resinado RAMI natural - em faixas de no mín. 9 cm, guias para abrir e fechar e mudança de posição (controle a entrada de luz). Cor a definir. Instalada. (para cálculos da cotação utilizar altura média de 1,60m). | E22: m² | F22: Quevedo | G22: 339030.24 | H22: 49.3 | J22: =I22-(SUM(L22:W22)) -> 0 | K22: =IF(J22<0,"ATENÇÃO","OK") -> OK | L22: 0 | M22: 0 | N22: 0 | O22: 0 | P22: 0 | Q22: 0 | R22: 0 | S22: 0 | T22: 0 | U22: 0 | V22: 0 | W22: 0
C23: 20 | D23: Persiana horizontal de alumínio com lâminas de 50mm, não-perfurada, que permita ser utilizada por meio de um cordão e haste. Completa, inclui todos os acessórios necessários para a sua instalação e funcionamento. Modelo de referência: Haste e Cordão/Luxaflex. instalada. | E23: m² | F23: Quevedo | G23: 339030.24 | H23: 113 | I23: 50 | J23: =I23-(SUM(L23:W23)) -> 50 | K23: =IF(J23<0,"ATENÇÃO","OK") -> OK | L23: 0 | M23: 0 | N23: 0 | O23: 0 | P23: 0 | Q23: 0 | R23: 0 | S23: 0 | T23: 0 | U23: 0 | V23: 0 | W23: 0
C24: 21 | D24: Persiana horizontal de alumínio com lâminas de 50mm, modelo blackout, sem furos, que permita ser utilizada por meio de um cordão e haste. Completa, inclui todos os acessórios necessários para a sua instalação e funcionamento. Modelo de referência: Haste e Cordão/Luxaflex. instalada. | E24: m² | F24: Quevedo | G24: 339030.24 | H24: 113 | J24: =I24-(SUM(L24:W24)) -> 0 | K24: =IF(J24<0,"ATENÇÃO","OK") -> OK | L24: 0 | M24: 0 | N24: 0 | O24: 0 | P24: 0 | Q24: 0 | R24: 0 | S24: 0 | T24: 0 | U24: 0 | V24: 0 | W24: 0
C25: 22 | D25: Persiana tipo tela plana de tecido filtra sol com 1% de abertura (tecido usado em persianas), tecido composto por fibra de vidro e PVC, cor branco, lavável, costurada com velcro de 2,5cm em todas as bordas, a fixação nas janelas será com velcro do lado oposto ao costurado na persiana tipo tela. Cada tela deverá possuir as seguintes medidas: 53cm x 138cm Observação: O velcro deverá ser costurado nas extremidades do tecido (nos quatro lados) e a outra face do velcro deverá ser colada na madeira (nos quatro lados). | E25: peça | F25: Quevedo | G25: 339030.24 | H25: 85 | J25: =I25-(SUM(L25:W25)) -> 0 | K25: =IF(J25<0,"ATENÇÃO","OK") -> OK | L25: 0 | M25: 0 | N25: 0 | O25: 0 | P25: 0 | Q25: 0 | R25: 0 | S25: 0 | T25: 0 | U25: 0 | V25: 0 | W25: 0
C26: 23 | D26: Persiana tipo tela de tecido filtrasol, 1% de abertura (tecido usado em persianas), tecido composto por fibra de vidro e PVC, cor branco, lavável, costurada com velcro de 2,5cm em todas as bordas, a fixação nas janelas será com velcro do lado oposto ao costurado na persiana tipo tela. Cada tela deverá possuir as seguintes medidas: 54cm x 32cm Observação: O velcro deverá ser costurado nas extremidades do tecido (nos quatro lados) e a outra face do velcro deverá ser colada na madeira (nos quatro lados). | E26: peça | F26: Quevedo | G26: 339030.24 | H26: 41 | J26: =I26-(SUM(L26:W26)) -> 0 | K26: =IF(J26<0,"ATENÇÃO","OK") -> OK | L26: 0 | M26: 0 | N26: 0 | O26: 0 | P26: 0 | Q26: 0 | R26: 0 | S26: 0 | T26: 0 | U26: 0 | V26: 0 | W26: 0
C27: 24 | D27: Serviço de reparo de Persiana vertical em tecido resinado RAMI natural - em faixas de no mín. 9 cm, guias para abrir e fechar e mudança de posição (controle a entrada de luz). Cor a definir. Instalada. (para cálculos da cotação utilizar altura média de 1,60m), com fornecimento de presilhas, correntes de regulagens e pá de fixação inferior, equivalemente a m2 e cortina | E27: m² | F27: Quevedo | G27: 339039.16 | H27: 20 | J27: =I27-(SUM(L27:W27)) -> 0 | K27: =IF(J27<0,"ATENÇÃO","OK") -> OK | L27: 0 | M27: 0 | N27: 0 | O27: 0 | P27: 0 | Q27: 0 | R27: 0 | S27: 0 | T27: 0 | U27: 0 | V27: 0 | W27: 0
A28: TECNOART COMERCIO E SERVIÇOS LTDA ME | B28: 5 | C28: 25 | D28: Piso cerâmico PEI-5 60x60cm, padrão A, anti-derrapante. para uso externo. anti-derrapante.de 60x60cm. Superfície acetinada. Inclui todos os materiais necessário a sua instalação. Marca de referência: Eliane. Modelo de referência: Etna crema. Instalado. | E28: m² | F28: ELIANE REF. ETNA CREMA | G28: 339030.24 | H28: 86.96 | J28: =I28-(SUM(L28:W28)) -> 0 | K28: =IF(J28<0,"ATENÇÃO","OK") -> OK | L28: 0 | M28: 0 | N28: 0 | O28: 0 | P28: 0 | Q28: 0 | R28: 0 | S28: 0 | T28: 0 | U28: 0 | V28: 0 | W28: 0
C29: 26 | D29: Piso cerâmico PEI-5 30x30cm, padrão A, anti-derrapante. Para uso interno. Inclui todos os materiais necessário a sua instalação, cor a definir. Instalado. | E29: m² | F29: ILHA BELA | G29: 339030.24 | H29: 68.2 | I29: 100 | J29: =I29-(SUM(L29:W29)) -> 100 | K29: =IF(J29<0,"ATENÇÃO","OK") -> OK | L29: 0 | M29: 0 | N29: 0 | O29: 0 | P29: 0 | Q29: 0 | R29: 0 | S29: 0 | T29: 0 | U29: 0 | V29: 0 | W29: 0
C30: 27 | D30: Piso cerâmico PEI-5 45x45cm, padrão A, anti-derrapante. Para uso interno. Inclui todos os materiais necessário a sua instalação, cor a definir. Instalado. | E30: m² | F30: ANGELGRES | G30: 339030.24 | H30: 68.2 | J30: =I30-(SUM(L30:W30)) -> 0 | K30: =IF(J30<0,"ATENÇÃO","OK") -> OK | L30: 0 | M30: 0 | N30: 0 | O30: 0 | P30: 0 | Q30: 0 | R30: 0 | S30: 0 | T30: 0 | U30: 0 | V30: 0 | W30: 0
A31: MARIA HELENA COMERCIO DE MOVEIS EIRELI ME | B31: 6 | C31: 28 | D31: Soleira de granito, com 25mm de espessura, com dente de quebra-gota. Cor branca ou cinza andorinha. Instalada. | F31: Marmoraria Mila | G31: 339030.24 | H31: 458 | J31: =I31-(SUM(L31:W31)) -> 0 | K31: =IF(J31<0,"ATENÇÃO","OK") -> OK | L31: 0 | M31: 0 | N31: 0 | O31: 0 | P31: 0 | Q31: 0 | R31: 0 | S31: 0 | T31: 0 | U31: 0 | V31: 0 | W31: 0
A32: TECNOART COMERCIO E SERVIÇOS LTDA ME | B32: 7 | C32: 29 | D32: Cortina em tecido Gorgurão, cor a definir, com aproximadamente 4m de largura, 2m de altura, com pregas "macho" (totalizando 12m de tecido), com trilho suiço duplo colocado. | E32: peça | F32: TECNOART | G32: 339030.24 | H32: 920 | J32: =I32-(SUM(L32:W32)) -> 0 | K32: =IF(J32<0,"ATENÇÃO","OK") -> OK | L32: 0 | M32: 0 | N32: 0 | O32: 0 | P32: 0 | Q32: 0 | R32: 0 | S32: 0 | T32: 0 | U32: 0 | V32: 0 | W32: 0
C33: 30 | D33: Cortina em tecido Gorgurão, cor a definir, com aproximadamente 4,65m de largura, 2m de altura, com pregas "macho" (totalizando 98m de tecido), com trilho suiço duplo colocado. Com Blecaute de tecido poliester, cor a definir, com 4,65m largura, e 2m de altura (totalizando 98m de tecido), colocado. | E33: peça | F33: TECNOART | G33: 339030.24 | H33: 1670 | J33: =I33-(SUM(L33:W33)) -> 0 | K33: =IF(J33<0,"ATENÇÃO","OK") -> OK | L33: 0 | M33: 0 | N33: 0 | O33: 0 | P33: 0 | Q33: 0 | R33: 0 | S33: 0 | T33: 0 | U33: 0 | V33: 0 | W33: 0
C34: 31 | D34: Cortina em tecido Gorgurão, cor a definir, com aproximadamente 3,30m de largura, 2m de altura, com pregas "macho" (totalizando 20m de tecido), com trilho suiço duplo colocado. Com Blecaute de tecido poliester, cor a definir, com 3,30m largura, e 2m de altura (totalizando 20m de tecido), colocado. | E34: peça | F34: TECNOART | G34: 339030.24 | H34: 1178 | J34: =I34-(SUM(L34:W34)) -> 0 | K34: =IF(J34<0,"ATENÇÃO","OK") -> OK | L34: 0 | M34: 0 | N34: 0 | O34: 0 | P34: 0 | Q34: 0 | R34: 0 | S34: 0 | T34: 0 | U34: 0 | V34: 0 | W34: 0
A35: MARIA HELENA COMERCIO DE MOVEIS EIRELI ME | B35: 8 | C35: 32 | D35: Porta de aluminio para banheiros. Na cor branca, com forra, fechadura (par de chaves), folha veneziana vedada, grapas para instalação, entrega instalada. Tamanho aproximado de 1,90x1m (podendo sofrer variações de até 5cm para mais ou para menos - verificar antes da instalação) | E35: peça | F35: Stylo Alumínio | G35: 339030.24 | H35: 977 | J35: =I35-(SUM(L35:W35)) -> 0 | K35: =IF(J35<0,"ATENÇÃO","OK") -> OK | L35: 0 | M35: 0 | N35: 0 | O35: 0 | P35: 0 | Q35: 0 | R35: 0 | S35: 0 | T35: 0 | U35: 0 | V35: 0 | W35: 0
C36: 33 | D36: Porta de aluminio para banheiros. Na cor branca, com forra, fechadura (par de chaves), folha veneziana vedada, grapas para instalação, entrega instalada. Tamanho aproximado de 1,90x,065m (podendo sofrer variações de até 5cm para mais ou para menos - verificar antes da instalação) | E36: peça | F36: Stylo Alumínio | G36: 339030.24 | H36: 840 | J36: =I36-(SUM(L36:W36)) -> 0 | K36: =IF(J36<0,"ATENÇÃO","OK") -> OK | L36: 0 | M36: 0 | N36: 0 | O36: 0 | P36: 0 | Q36: 0 | R36: 0 | S36: 0 | T36: 0 | U36: 0 | V36: 0 | W36: 0
C37: 34 | D37: Porta de aluminio para banheiros. Na cor branca, com forra, fechadura (par de chaves), folha veneziana vedada, grapas para instalação, entrega instalada. Tamanho aproximado de 1,1x0,95m (podendo sofrer variações de até 5cm para mais ou para menos - verificar antes da instalação) | E37: peça | F37: Stylo Alumínio | G37: 339030.24 | H37: 699 | J37: =I37-(SUM(L37:W37)) -> 0 | K37: =IF(J37<0,"ATENÇÃO","OK") -> OK | L37: 0 | M37: 0 | N37: 0 | O37: 0 | P37: 0 | Q37: 0 | R37: 0 | S37: 0 | T37: 0 | U37: 0 | V37: 0 | W37: 0
C38: 35 | D38: Porta de aluminio para banheiros. Na cor branca, com forra, fechadura (par de chaves), folha veneziana vedada, grapas para instalação, entrega instalada. Tamanho aproximado de 2,10x80m (podendo sofrer variações de até 5cm para mais ou para menos - verificar antes da instalação) | E38: peça | F38: Stylo Alumínio | G38: 339030.24 | H38: 890 | J38: =I38-(SUM(L38:W38)) -> 0 | K38: =IF(J38<0,"ATENÇÃO","OK") -> OK | L38: 0 | M38: 0 | N38: 0 | O38: 0 | P38: 0 | Q38: 0 | R38: 0 | S38: 0 | T38: 0 | U38: 0 | V38: 0 | W38: 0
A39: TECNOART COMERCIO E SERVIÇOS LTDA ME | B39: 9 | C39: 36 | D39: Porta de vidro de 10mm com mola área e braço de parada. Colocadas. Metragem 2,10x0,98m (podendo sofrer variações de até 5cm para mais ou pra menos - verificar antes da instalação) | E39: peça | F39: TECNOART | G39: 339030.24 | H39: 1300 | J39: =I39-(SUM(L39:W39)) -> 0 | K39: =IF(J39<0,"ATENÇÃO","OK") -> OK | L39: 0 | M39: 0 | N39: 0 | O39: 0 | P39: 0 | Q39: 0 | R39: 0 | S39: 0 | T39: 0 | U39: 0 | V39: 0 | W39: 0
C40: 37 | D40: Porta de vidro de 10mm com mola área e braço de parada. Colocadas. Metragem 2,10x0,70m (podendo sofrer variações de até 5cm para mais ou pra menos - verificar antes da instalação) | E40: peça | F40: TECNOART | G40: 339030.24 | H40: 1100 | J40: =I40-(SUM(L40:W40)) -> 0 | K40: =IF(J40<0,"ATENÇÃO","OK") -> OK | L40: 0 | M40: 0 | N40: 0 | O40: 0 | P40: 0 | Q40: 0 | R40: 0 | S40: 0 | T40: 0 | U40: 0 | V40: 0 | W40: 0
C41: 38 | D41: Porta de abrir em vidro temperado, tipo blindex, transparente/incolor. Medindo 900 x 2200 x 10 mm. Dobradiças, fechadura e maçaneta/Puxador em alumínio branco. Inclui todos os materiais necessários para a sua instalação. INSTALADA | E41: peça | F41: TECNOART | G41: 339030.24 | H41: 660 | I41: 8 | J41: =I41-(SUM(L41:W41)) -> 4 | K41: =IF(J41<0,"ATENÇÃO","OK") -> OK | L41: 0 | M41: 0 | N41: 0 | O41: 0 | P41: 0 | Q41: 4 | R41: 0 | S41: 0 | T41: 0 | U41: 0 | V41: 0 | W41: 0
C42: 39 | D42: Janela em vidro temperado tipo blindex, transparente/incolor. Medida total 2500 x 5200 x 10 mm, sendo fixo a parte superior 1000 x 5200 mm e as partes laterais 1300 x 1500 mm de cada lado e janelas de correr no centro com 1300 x 1500 mm. Dobradiças, fechaduras e puxadores em alumínio branco. Incluindo todos os materiais necessários para a instalação. INSTALADA. | E42: peça | F42: TECNOART | G42: 339030.24 | H42: 3945 | I42: 1 | J42: =I42-(SUM(L42:W42)) -> 0 | K42: =IF(J42<0,"ATENÇÃO","OK") -> OK | L42: 0 | M42: 0 | N42: 0 | O42: 0 | P42: 0 | Q42: 1 | R42: 0 | S42: 0 | T42: 0 | U42: 0 | V42: 0 | W42: 0
C43: 40 | D43: Janela em vidro temperado tipo blindex, transparente/incolor. Medida total 2300 x 1200 x 10 mm, sendo fixo a parte inferior 1150 x 1200 mm e a parte superior de abrir, medindo 1150 x 1200 mm. Dobradiças, fechaduras e puxadores em alumínio branco. Retirada do vidro existente. Incluindo todos os materiais necessários para a instalação. INSTALADA. | E43: peça | F43: TECNOART | G43: 339030.24 | H43: 859.37 | I43: 8 | J43: =I43-(SUM(L43:W43)) -> 3 | K43: =IF(J43<0,"ATENÇÃO","OK") -> OK | L43: 0 | M43: 0 | N43: 0 | O43: 0 | P43: 0 | Q43: 5 | R43: 0 | S43: 0 | T43: 0 | U43: 0 | V43: 0 | W43: 0
A44: MARIA HELENA COMERCIO DE MOVEIS EIRELI ME | B44: 10 | C44: 41 | D44: Fornecimento de divisória tipo painel móvel dupla face, oco, aberto na parte superior, confeccionado com placas de MDF (Médium Density Fiberboard) resistente a umidade e água, selo verde, com espessura 15mm, na cor branco diamante, da marca Masisa ou similar, as dimensões serão 1,35m x 1,80m x 0,20cm, conforme desenho. O interior deve ser preenchido com 8 (oito) réguas estruturais de MDF de 15mm, coladas em toda sua extensão, nas mesmas medidas das laterais, de um lado a outro do painel, para evitar deformidades. A parte inferior deverá ser fechada com placa de MDF de 15mm e na base deverão ser fixados 6 (seis) rodízios em metal, com dispositivo giratório 360 graus, roda de borracha preta, cinza escuro ou similar, com capacidade até 60kg, com dispositivo de trava em 6 (seis) rodízios fixados nas extremidades, marca Vonder ou similar. Os rodízios deverão ser testados depois de fixados a fim de verificar os rolamentos e dispositivos de trava. Não serão aceitas placas que apresentem deformidades em razão da fabricação, estocagem, limpeza ou outro aspecto visual de correção, nem serão aceitos rodízios com defeito ou deformidade que a fiscalização julgue procedente. No sentido da largura, na parte superior aberta, deverão ser fixados, internamente, dois suportes de varão e dois varões de alumínio de 3mm de espessura. | E44: peça | F44: Maria Helena | G44: 339030.24 | H44: 1290 | J44: =I44-(SUM(L44:W44)) -> 0 | K44: =IF(J44<0,"ATENÇÃO","OK") -> OK | L44: 0 | M44: 0 | N44: 0 | O44: 0 | P44: 0 | Q44: 0 | R44: 0 | S44: 0 | T44: 0 | U44: 0 | V44: 0 | W44: 0
A45: TECNOART COMERCIO E SERVIÇOS LTDA ME | B45: 11 | C45: 42 | D45: Fornecimento de divisória tipo painel móvel que deverão ser executados em alumínio, moldura tubular retangular, medindo aproximadamente 2,5cm X 5,0cm, acabamento decorativo usando processo de anodização na cor preto fosco. Os perfis que fecham o interior da estrutura do painel são de alumínio, tubular redondo, com dimensão de (aproximadamente) 2,0cm de diâmetro, com acabamento decorativo usando processo de anodização cor preto fosco. Cada painel deverá vir acompanhado de uma barra de alumínio (tubo redondo), com diâmetro de 3,5cm e acabamento decorativo usando processo de anodização cor preto fosco, que permitirão a fixação entre os painéis com pino, fornecidos para possibilitar a utilização destes painéis unidos em forma de biombo. Estes pinos devem ser pivotantes da marca Acoplac ou similar e executados em material resistente de polipropileno, nylon ou similar. Cada painel deverá possuir 4 (quatro) pinos. Cada painel deverá possuir duas sapatas niveladoras de 20mm, que servirão de pé. Estes pés deverão ser reguláveis com bucha. Os parafusos da estrutura dos painéis devem ser de aço inox. As medidas estão estabelecidas no desenho anexo que ilustra como o painel deve ser executado. | E45: peça | F45: TECNOART | G45: 339030.24 | H45: 925 | J45: =I45-(SUM(L45:W45)) -> 0 | K45: =IF(J45<0,"ATENÇÃO","OK") -> OK | L45: 0 | M45: 0 | N45: 0 | O45: 0 | P45: 0 | Q45: 0 | R45: 0 | S45: 0 | T45: 0 | U45: 0 | V45: 0 | W45: 0
A46: DESERTO | B46: 12 | C46: 43 | D46: Tapete cerdas médias 2,5x2,5 m. Antiderrapante. Lavável. Cor e estampa à definir. Marca de referência: São Carlos. | E46: peça | F46: 0 | G46: 339030.24 | H46: 0 | J46: =I46-(SUM(L46:W46)) -> 0 | K46: =IF(J46<0,"ATENÇÃO","OK") -> OK | L46: 0 | M46: 0 | N46: 0 | O46: 0 | P46: 0 | Q46: 0 | R46: 0 | S46: 0 | T46: 0 | U46: 0 | V46: 0 | W46: 0
A47: TECNOART COMERCIO E SERVIÇOS LTDA ME | B47: 13 | C47: 44 | D47: Toldo modelo meia lua, medidas: 6m comprimento x 3,20m largura x 3m altura. Material estrutural: tubos de aço galvanizado, metalon barras de 9cm, com pintura smallpox vermelha, com soldagem tipo MIG em toda a estrutura. Cobertura em policarbonato alveolar de 6mm na cor vermelha. Metalon barras na cobertura de 5cm. A fixação das chapas em policarbonato nas estruturas deverão ser feitas em parafuso auto-brocante e calafetadas com silicone, quando necessário, em todo o perímetro. Incluindo todos os materiais para a instalação. INSTALADO | E47: peça | F47: TECNOART | G47: 339030.24 | H47: 8700 | I47: 1 | J47: =I47-(SUM(L47:W47)) -> 1 | K47: =IF(J47<0,"ATENÇÃO","OK") -> OK | L47: 0 | M47: 0 | N47: 0 | O47: 0 | P47: 0 | Q47: 0 | R47: 0 | S47: 0 | T47: 0 | U47: 0 | V47: 0 | W47: 0
A48: GEOMA CONSTRUÇÕES EIRELI EPP | B48: 14 | C48: 45 | D48: Serviço de retirada de piso, construção de novo piso, regularização e preparação para instalação de novos pisos. Destinar o respectivo entulho da substituição do piso. | E48: m² | F48: 0 | G48: 339039.16 | H48: 150 | I48: 100 | J48: =I48-(SUM(L48:W48)) -> 100 | K48: =IF(J48<0,"ATENÇÃO","OK") -> OK | L48: 0 | M48: 0 | N48: 0 | O48: 0 | P48: 0 | Q48: 0 | R48: 0 | S48: 0 | T48: 0 | U48: 0 | V48: 0 | W48: 0
C49: 46 | D49: Serviço de lixação, revitalização e clareamento do piso feito em pedra ardózia bruta. Incluindo revestimento e impermeabiliozação do pios após lixar e topdos os materiais necessários para realização do serviço. | E49: m² | F49: 0 | G49: 339039.16 | H49: 60 | I49: 500 | J49: =I49-(SUM(L49:W49)) -> 500 | K49: =IF(J49<0,"ATENÇÃO","OK") -> OK | L49: 0 | M49: 0 | N49: 0 | O49: 0 | P49: 0 | Q49: 0 | R49: 0 | S49: 0 | T49: 0 | U49: 0 | V49: 0 | W49: 0
A50: MARIA HELENA COMERCIO DE MOVEIS EIRELI ME | B50: 15 | C50: 47 | D50: Piso laminado vinílico, placas decorativas com estampagem digital de madeira com capa de uso de 0,5mm (modelo a definir); placas de aproximadamente 0,41x0,41m; espessura de 3mm a 5mm; resistente a abrasão e químicos classe T; resistente a uso interno e a cadeiras com rodízio; alta durabilidade; certificado da norma brasileira NBR 8660-classe2A; garantia mínima de 15 anos; com acessórios e serviço de instalação; regularização de contrapiso e acabamento inclusos; densidade ótica de fumaça (toxidade em caso de incêndio) menor que 450dm (norma ASTME 662); absorção de som ao impacto norma ASTME 989-06 = 10 decibéis; identação residual igual ou menor a 0,1mm; estabilidade dimensional EN 434 igual ou menor que 0,13mm. INSTALADO. | E50: m² | F50: Duraflor | G50: 339030.24 | H50: 109.84 | I50: =800+200 -> 1000 | J50: =I50-(SUM(L50:W50)) -> 200 | K50: =IF(J50<0,"ATENÇÃO","OK") -> OK | L50: 0 | M50: 0 | N50: 0 | O50: 0 | P50: 800 | Q50: 0 | R50: 0 | S50: -200 | T50: 200 | U50: 0 | V50: 0 | W50: 0
P51: =P50*H50 -> 87872
D52: *Prazos de entrega e pagamento conforme termo de referência | N52: =N20*H20 -> 1017.45
L53: =H12*L12 -> 860
L54: =H13*L13 -> 9109.225
L55: =H15*L15 -> 1068.2
L56: =H16*L16 -> 209.9
M57: =M18*H18 -> 63.7
L58: =SUBTOTAL(9,L53:L57) -> 11247.325 | Q58: =SUMPRODUCT(H41:H43,Q41:Q43) -> 10881.85 | R58: =SUMPRODUCT($H$6:$H$17,R6:R17) -> 1720 | S58: =SUMPRODUCT($H$6:$H$17,S6:S17) -> 0 | T58: =SUMPRODUCT($H$6:$H$17,T6:T17) -> 0 | U58: =SUMPRODUCT($H$6:$H$17,U6:U17) -> 9851.7
L63: =45*H50 -> 4942.8 | M63: 45
L64: =155*H50 -> 17025.2 | M64: 155
L65: =SUBTOTAL(9,L63:L64) -> 21968

Sheet FAED
A1: PROCESSO: 0757/2015/UDESC | D1: OBJETO: Aquisição de divisórias, vidros, cortinas e similares – Campus I, CERES, CESFI e CEAVI | I1: VIGÊNCIA DA ATA: 20/07/2015 até 19/07/2016 | L1: AF/OS nº xxxx/2015 Qtde. DT | M1: AF/OS nº xxxx/2015 Qtde. DT | N1: AF/OS nº xxxx/2015 Qtde. DT | O1: AF/OS nº xxxx/2015 Qtde. DT | P1: AF/OS nº xxxx/2015 Qtde. DT | Q1: AF/OS nº xxxx/2015 Qtde. DT | R1: AF/OS nº xxxx/2015 Qtde. DT | S1: AF/OS nº xxxx/2015 Qtde. DT | T1: AF/OS nº xxxx/2015 Qtde. DT | U1: AF/OS nº xxxx/2015 Qtde. DT | V1: AF/OS nº xxxx/2015 Qtde. DT | W1: AF/OS nº xxxx/2015 Qtde. DT
A2: CENTRO PARTICIPANTE: FAED
A3: FORNECEDOR | B3: LOTE | C3: ITEM | D3: PRODUTO - CARACTERÍSTICAS MÍNIMAS | E3: UNIDADE | F3: MARCA | G3: DETALHAMENTO | H3: Preço UNITÁRIO (R$) | I3: Qtde Registrada | J3: Saldo / Automático | K3: ALERTA | L3: ...../...../...... | M3: ...../...../...... | N3: ...../...../...... | O3: ...../...../...... | P3: ...../...../...... | Q3: ...../...../...... | R3: ...../...../...... | S3: ...../...../...... | T3: ...../...../...... | U3: ...../...../...... | V3: ...../...../...... | W3: ...../...../......
A4: TECNOART COMERCIO E SERVIÇOS LTDA ME | B4: 1 | C4: 1 | D4: Espelho 6mm (lapidado). Instalado. | E4: m² | F4: CEBRACE | G4: 339030.24 | H4: 199.3 | I4: 15 | J4: =I4-(SUM(L4:W4)) -> 15 | K4: =IF(J4<0,"ATENÇÃO","OK") -> OK | L4: 0 | M4: 0 | N4: 0 | O4: 0 | P4: 0 | Q4: 0 | R4: 0 | S4: 0 | T4: 0 | U4: 0 | V4: 0 | W4: 0
C5: 2 | D5: Vidro mini-boreal incolor, 3mm. Instalado. | E5: m² | F5: CEBRACE | G5: 339030.24 | H5: 30 | I5: 15 | J5: =I5-(SUM(L5:W5)) -> 15 | K5: =IF(J5<0,"ATENÇÃO","OK") -> OK | L5: 0 | M5: 0 | N5: 0 | O5: 0 | P5: 0 | Q5: 0 | R5: 0 | S5: 0 | T5: 0 | U5: 0 | V5: 0 | W5: 0
A6: MILANI COMERCIO E DISTRIBUIÇÃO LTDA EPP | B6: 2 | C6: 3 | D6: Fornecimento de divisórias em painéis com espessura de 35mm, cor a definir; com miolo em colméia em kraft de alta gramatura e estrutura em aço galvanizado com pintura em epóxi-poliester pó. na cor. Colocação programada e cor do painel a escolher. Instalada. | E6: m² | F6: Eucatex | G6: 339030.24 | H6: 67 | I6: 100 | J6: =I6-(SUM(L6:W6)) -> 100 | K6: =IF(J6<0,"ATENÇÃO","OK") -> OK | L6: 0 | M6: 0 | N6: 0 | O6: 0 | P6: 0 | Q6: 0 | R6: 0 | S6: 0 | T6: 0 | U6: 0 | V6: 0 | W6: 0
C7: 4 | D7: Forro em PVC, espessura 8mm, largura 200mm, com estrutura em aço galvanizado. Cor a definir. Instalado. | E7: m² | F7: Tecnoperfil | G7: 339030.24 | H7: 35 | I7: 50 | J7: =I7-(SUM(L7:W7)) -> 50 | K7: =IF(J7<0,"ATENÇÃO","OK") -> OK | L7: 0 | M7: 0 | N7: 0 | O7: 0 | P7: 0 | Q7: 0 | R7: 0 | S7: 0 | T7: 0 | U7: 0 | V7: 0 | W7: 0
C8: 5 | D8: Fornecimento e instalação de vidro liso 3mm, incolor. | E8: m² | F8: Cebrace | G8: 339030.24 | H8: 68 | I8: 50 | J8: =I8-(SUM(L8:W8)) -> 50 | K8: =IF(J8<0,"ATENÇÃO","OK") -> OK | L8: 0 | M8: 0 | N8: 0 | O8: 0 | P8: 0 | Q8: 0 | R8: 0 | S8: 0 | T8: 0 | U8: 0 | V8: 0 | W8: 0
C9: 6 | D9: Fornecimento e instalação de vidro liso 4mm, incolor. | E9: m² | F9: Cebrace | G9: 339030.24 | H9: 88 | I9: 40 | J9: =I9-(SUM(L9:W9)) -> 40 | K9: =IF(J9<0,"ATENÇÃO","OK") -> OK | L9: 0 | M9: 0 | N9: 0 | O9: 0 | P9: 0 | Q9: 0 | R9: 0 | S9: 0 | T9: 0 | U9: 0 | V9: 0 | W9: 0
C10: 7 | D10: Fornecimento e instalação de vidro liso 5mm, incolor. | E10: m² | F10: Cebrace | G10: 339030.24 | H10: 110 | I10: 25 | J10: =I10-(SUM(L10:W10)) -> 25 | K10: =IF(J10<0,"ATENÇÃO","OK") -> OK | L10: 0 | M10: 0 | N10: 0 | O10: 0 | P10: 0 | Q10: 0 | R10: 0 | S10: 0 | T10: 0 | U10: 0 | V10: 0 | W10: 0
C11: 8 | D11: Porta de abrir eixo vertical, 90X210cm em painéis divisórias, cor a definir. Com miolo em colméia e estrutura em aço com pintura em epóxi na cor preta (ou bege), completa (com maçaneta, chave e dobradiças). Compatíveis com as divisórias existentes. Instalada. | E11: pç | F11: Eucatex | G11: 339030.24 | H11: 185 | I11: 5 | J11: =I11-(SUM(L11:W11)) -> 5 | K11: =IF(J11<0,"ATENÇÃO","OK") -> OK | L11: 0 | M11: 0 | N11: 0 | O11: 0 | P11: 0 | Q11: 0 | R11: 0 | S11: 0 | T11: 0 | U11: 0 | V11: 0 | W11: 0
C12: 9 | D12: Porta de madeira angelim tipo pedra, semi-oca, lisa, para ser instalada em divisória acústica drywall e alvenaria, com revestimento interno de fibra de lã de vidro ou rocha, para isolamento acústico. Tamanho 80cm de larguraX2,10m de altura, espessura da porta 3,5cm. Tamanho da forra 9cm. Inclui forra, maçaneta e todos os acessórios necessários para a sua instalação. Cor natural, pronta para pintura. Instalada. | E12: pç | F12: Reitz | G12: 339030.24 | H12: 860 | I12: 5 | J12: =I12-(SUM(L12:W12)) -> 5 | K12: =IF(J12<0,"ATENÇÃO","OK") -> OK | L12: 0 | M12: 0 | N12: 0 | O12: 0 | P12: 0 | Q12: 0 | R12: 0 | S12: 0 | T12: 0 | U12: 0 | V12: 0 | W12: 0
C13: 10 | D13: Divisória acústica com paredes de gesso acartonado, drywall, em estrutura metálica e revestida internamente com fibra de lã de vidro para isolamento acústico. Espessura total da parede 90mm. Remover a anterior e instalar a nova. Incluir todos os acessórios necessários a sua instalação e pintura. Marca de referência: Placocenter. Instalada. | E13: m² | F13: Placo | G13: 339030.24 | H13: 91.55 | J13: =I13-(SUM(L13:W13)) -> 0 | K13: =IF(J13<0,"ATENÇÃO","OK") -> OK | L13: 0 | M13: 0 | N13: 0 | O13: 0 | P13: 0 | Q13: 0 | R13: 0 | S13: 0 | T13: 0 | U13: 0 | V13: 0 | W13: 0
C14: 11 | D14: Forro acústico constituído de fibra lã de vidro, revestido na face aparente com PVC, com 20mm de espessura total e 80kg/m³ de densidade. Placas de 1250mmx625mm. 35m² com superfície enrugada e 525m² com superfície lisa. Remover o forro anterior e instalar o novo. Inclui todos os acessórios necessários para a sua instalação. Modelo de referência: Forrovid Boreal Isover. Instalado. | E14: m² | F14: Isover | G14: 339030.24 | H14: 64 | J14: =I14-(SUM(L14:W14)) -> 0 | K14: =IF(J14<0,"ATENÇÃO","OK") -> OK | L14: 0 | M14: 0 | N14: 0 | O14: 0 | P14: 0 | Q14: 0 | R14: 0 | S14: 0 | T14: 0 | U14: 0 | V14: 0 | W14: 0
C15: 12 | D15: DIVISÓRIAS, ESPESSURA DE 35MM, Fornecimento de paredes divisórias em painéis de 35mm, com miolo tipo colméia em kraft de alta gramatura, estrutura em aço galvanizado, com pintura epóxi-poliester pó. Módulo com vidro de espessura mínima de 4mm. Painel com altura (pé direito) de 2110mm e bandeira em vidro de 790mm (total de pé direito 2900mm). Colocação programada e cor do painel a escolher. INSTALADO | E15: m² | F15: Eucatex | G15: 339030.24 | H15: 109 | J15: =I15-(SUM(L15:W15)) -> 0 | K15: =IF(J15<0,"ATENÇÃO","OK") -> OK | L15: 0 | M15: 0 | N15: 0 | O15: 0 | P15: 0 | Q15: 0 | R15: 0 | S15: 0 | T15: 0 | U15: 0 | V15: 0 | W15: 0
C16: 13 | D16: Porta para divisórias em painéis de espessura 35mm, com miolo tipo colméia em kraft de alta gramatura, estrutura em aço galvanizado, com pintura epóxi-poliester pó. Colocação programada e cor a escolher. Medidas da porta: 0,80x2,10m. INSTALADA | E16: peça | F16: Eucatex | G16: 339030.24 | H16: 209.9 | J16: =I16-(SUM(L16:W16)) -> 0 | K16: =IF(J16<0,"ATENÇÃO","OK") -> OK | L16: 0 | M16: 0 | N16: 0 | O16: 0 | P16: 0 | Q16: 0 | R16: 0 | S16: 0 | T16: 0 | U16: 0 | V16: 0 | W16: 0
C17: 14 | D17: Divisória acústica com paredes de gesso acartonado, drywall, em estrutura metálica e revestida internamente com fibra de lã de vidro para isolamento acústico, com rodapé e rodateto em perfil de alumínio revestido nas faces com vedante de espuma de PVC autocolante. Espessura total da parede 102mm. Vidros duplos de 6mm, normais ou laminados, com estrutura periférica em alumínio que permita a montagem de persianas em seu interior. Os vidros deverão ser apoiados em batentes de PVC para evitar vibrações. Incluir todos os acessórios necessários a sua instalação e pintura. Marca de referência: Placocenter. Instalada. | E17: m² | F17: Placo | G17: 339030.24 | H17: 240 | J17: =I17-(SUM(L17:W17)) -> 0 | K17: =IF(J17<0,"ATENÇÃO","OK") -> OK | L17: 0 | M17: 0 | N17: 0 | O17: 0 | P17: 0 | Q17: 0 | R17: 0 | S17: 0 | T17: 0 | U17: 0 | V17: 0 | W17: 0
C18: 15 | D18: Serviço de desmontagem de divisórias em painéis com espessura de 35 mm, miolo em colméia, estrutura em aço ou alumínio. | E18: m² | F18: 0 | G18: 339039.16 | H18: 6.5 | I18: 100 | J18: =I18-(SUM(L18:W18)) -> 100 | K18: =IF(J18<0,"ATENÇÃO","OK") -> OK | L18: 0 | M18: 0 | N18: 0 | O18: 0 | P18: 0 | Q18: 0 | R18: 0 | S18: 0 | T18: 0 | U18: 0 | V18: 0 | W18: 0
C19: 16 | D19: Serviço de montagem de divisórias em painéis com espessura de 35 mm, miolo em colméia, estrutura em aço ou alumínio. | E19: m² | F19: 0 | G19: 339039.16 | H19: 15 | I19: 100 | J19: =I19-(SUM(L19:W19)) -> 100 | K19: =IF(J19<0,"ATENÇÃO","OK") -> OK | L19: 0 | M19: 0 | N19: 0 | O19: 0 | P19: 0 | Q19: 0 | R19: 0 | S19: 0 | T19: 0 | U19: 0 | V19: 0 | W19: 0
A20: RENATA ALCOFORADO LACERDA DA SILVA ME | B20: 3 | C20: 17 | D20: Película profissional refletiva para redução de temperatura e de incidência dos raios UV. Instalada. | E20: m² | F20: Nextfil | G20: 339030.24 | H20: 35 | I20: 400 | J20: =I20-(SUM(L20:W20)) -> 400 | K20: =IF(J20<0,"ATENÇÃO","OK") -> OK | L20: 0 | M20: 0 | N20: 0 | O20: 0 | P20: 0 | Q20: 0 | R20: 0 | S20: 0 | T20: 0 | U20: 0 | V20: 0 | W20: 0
A21: ANTONIO CARLOS RIBEIRO PERSIANAS EPP | B21: 4 | C21: 18 | D21: Persiana vertical em tecido resinado RAMI natural com blackout em faixas de no mínimo 9cm, guias para abrir e fechar e mudança de posição (controle de entrada de luz) cor a definir, instalada. (para cálculos da cotação utilizar altura média de 1,60m). | E21: m² | F21: Quevedo | G21: 339030.24 | H21: 66 | I21: 100 | J21: =I21-(SUM(L21:W21)) -> 100 | K21: =IF(J21<0,"ATENÇÃO","OK") -> OK | L21: 0 | M21: 0 | N21: 0 | O21: 0 | P21: 0 | Q21: 0 | R21: 0 | S21: 0 | T21: 0 | U21: 0 | V21: 0 | W21: 0
C22: 19 | D22: Persiana vertical em tecido resinado RAMI natural - em faixas de no mín. 9 cm, guias para abrir e fechar e mudança de posição (controle a entrada de luz). Cor a definir. Instalada. (para cálculos da cotação utilizar altura média de 1,60m). | E22: m² | F22: Quevedo | G22: 339030.24 | H22: 49.3 | I22: 60 | J22: =I22-(SUM(L22:W22)) -> 60 | K22: =IF(J22<0,"ATENÇÃO","OK") -> OK | L22: 0 | M22: 0 | N22: 0 | O22: 0 | P22: 0 | Q22: 0 | R22: 0 | S22: 0 | T22: 0 | U22: 0 | V22: 0 | W22: 0
C23: 20 | D23: Persiana horizontal de alumínio com lâminas de 50mm, não-perfurada, que permita ser utilizada por meio de um cordão e haste. Completa, inclui todos os acessórios necessários para a sua instalação e funcionamento. Modelo de referência: Haste e Cordão/Luxaflex. instalada. | E23: m² | F23: Quevedo | G23: 339030.24 | H23: 113 | I23: 350 | J23: =I23-(SUM(L23:W23)) -> 350 | K23: =IF(J23<0,"ATENÇÃO","OK") -> OK | L23: 0 | M23: 0 | N23: 0 | O23: 0 | P23: 0 | Q23: 0 | R23: 0 | S23: 0 | T23: 0 | U23: 0 | V23: 0 | W23: 0
C24: 21 | D24: Persiana horizontal de alumínio com lâminas de 50mm, modelo blackout, sem furos, que permita ser utilizada por meio de um cordão e haste. Completa, inclui todos os acessórios necessários para a sua instalação e funcionamento. Modelo de referência: Haste e Cordão/Luxaflex. instalada. | E24: m² | F24: Quevedo | G24: 339030.24 | H24: 113 | J24: =I24-(SUM(L24:W24)) -> 0 | K24: =IF(J24<0,"ATENÇÃO","OK") -> OK | L24: 0 | M24: 0 | N24: 0 | O24: 0 | P24: 0 | Q24: 0 | R24: 0 | S24: 0 | T24: 0 | U24: 0 | V24: 0 | W24: 0
C25: 22 | D25: Persiana tipo tela plana de tecido filtra sol com 1% de abertura (tecido usado em persianas), tecido composto por fibra de vidro e PVC, cor branco, lavável, costurada com velcro de 2,5cm em todas as bordas, a fixação nas janelas será com velcro do lado oposto ao costurado na persiana tipo tela. Cada tela deverá possuir as seguintes medidas: 53cm x 138cm Observação: O velcro deverá ser costurado nas extremidades do tecido (nos quatro lados) e a outra face do velcro deverá ser colada na madeira (nos quatro lados). | E25: peça | F25: Quevedo | G25: 339030.24 | H25: 85 | J25: =I25-(SUM(L25:W25)) -> 0 | K25: =IF(J25<0,"ATENÇÃO","OK") -> OK | L25: 0 | M25: 0 | N25: 0 | O25: 0 | P25: 0 | Q25: 0 | R25: 0 | S25: 0 | T25: 0 | U25: 0 | V25: 0 | W25: 0
C26: 23 | D26: Persiana tipo tela de tecido filtrasol, 1% de abertura (tecido usado em persianas), tecido composto por fibra de vidro e PVC, cor branco, lavável, costurada com velcro de 2,5cm em todas as bordas, a fixação nas janelas será com velcro do lado oposto ao costurado na persiana tipo tela. Cada tela deverá possuir as seguintes medidas: 54cm x 32cm Observação: O velcro deverá ser costurado nas extremidades do tecido (nos quatro lados) e a outra face do velcro deverá ser colada na madeira (nos quatro lados). | E26: peça | F26: Quevedo | G26: 339030.24 | H26: 41 | J26: =I26-(SUM(L26:W26)) -> 0 | K26: =IF(J26<0,"ATENÇÃO","OK") -> OK | L26: 0 | M26: 0 | N26: 0 | O26: 0 | P26: 0 | Q26: 0 | R26: 0 | S26: 0 | T26: 0 | U26: 0 | V26: 0 | W26: 0
C27: 24 | D27: Serviço de reparo de Persiana vertical em tecido resinado RAMI natural - em faixas de no mín. 9 cm, guias para abrir e fechar e mudança de posição (controle a entrada de luz). Cor a definir. Instalada. (para cálculos da cotação utilizar altura média de 1,60m), com fornecimento de presilhas, correntes de regulagens e pá de fixação inferior, equivalemente a m2 e cortina | E27: m² | F27: Quevedo | G27: 339039.16 | H27: 20 | J27: =I27-(SUM(L27:W27)) -> 0 | K27: =IF(J27<0,"ATENÇÃO","OK") -> OK | L27: 0 | M27: 0 | N27: 0 | O27: 0 | P27: 0 | Q27: 0 | R27: 0 | S27: 0 | T27: 0 | U27: 0 | V27: 0 | W27: 0
A28: TECNOART COMERCIO E SERVIÇOS LTDA ME | B28: 5 | C28: 25 | D28: Piso cerâmico PEI-5 60x60cm, padrão A, anti-derrapante. para uso externo. anti-derrapante.de 60x60cm. Superfície acetinada. Inclui todos os materiais necessário a sua instalação. Marca de referência: Eliane. Modelo de referência: Etna crema. Instalado. | E28: m² | F28: ELIANE REF. ETNA CREMA | G28: 339030.24 | H28: 86.96 | J28: =I28-(SUM(L28:W28)) -> 0 | K28: =IF(J28<0,"ATENÇÃO","OK") -> OK | L28: 0 | M28: 0 | N28: 0 | O28: 0 | P28: 0 | Q28: 0 | R28: 0 | S28: 0 | T28: 0 | U28: 0 | V28: 0 | W28: 0
C29: 26 | D29: Piso cerâmico PEI-5 30x30cm, padrão A, anti-derrapante. Para uso interno. Inclui todos os materiais necessário a sua instalação, cor a definir. Instalado. | E29: m² | F29: ILHA BELA | G29: 339030.24 | H29: 68.2 | I29: 20 | J29: =I29-(SUM(L29:W29)) -> 20 | K29: =IF(J29<0,"ATENÇÃO","OK") -> OK | L29: 0 | M29: 0 | N29: 0 | O29: 0 | P29: 0 | Q29: 0 | R29: 0 | S29: 0 | T29: 0 | U29: 0 | V29: 0 | W29: 0
C30: 27 | D30: Piso cerâmico PEI-5 45x45cm, padrão A, anti-derrapante. Para uso interno. Inclui todos os materiais necessário a sua instalação, cor a definir. Instalado. | E30: m² | F30: ANGELGRES | G30: 339030.24 | H30: 68.2 | J30: =I30-(SUM(L30:W30)) -> 0 | K30: =IF(J30<0,"ATENÇÃO","OK") -> OK | L30: 0 | M30: 0 | N30: 0 | O30: 0 | P30: 0 | Q30: 0 | R30: 0 | S30: 0 | T30: 0 | U30: 0 | V30: 0 | W30: 0
A31: MARIA HELENA COMERCIO DE MOVEIS EIRELI ME | B31: 6 | C31: 28 | D31: Soleira de granito, com 25mm de espessura, com dente de quebra-gota. Cor branca ou cinza andorinha. Instalada. | F31: Marmoraria Mila | G31: 339030.24 | H31: 458 | I31: 10 | J31: =I31-(SUM(L31:W31)) -> 10 | K31: =IF(J31<0,"ATENÇÃO","OK") -> OK | L31: 0 | M31: 0 | N31: 0 | O31: 0 | P31: 0 | Q31: 0 | R31: 0 | S31: 0 | T31: 0 | U31: 0 | V31: 0 | W31: 0
A32: TECNOART COMERCIO E SERVIÇOS LTDA ME | B32: 7 | C32: 29 | D32: Cortina em tecido Gorgurão, cor a definir, com aproximadamente 4m de largura, 2m de altura, com pregas "macho" (totalizando 12m de tecido), com trilho suiço duplo colocado. | E32: peça | F32: TECNOART | G32: 339030.24 | H32: 920 | J32: =I32-(SUM(L32:W32)) -> 0 | K32: =IF(J32<0,"ATENÇÃO","OK") -> OK | L32: 0 | M32: 0 | N32: 0 | O32: 0 | P32: 0 | Q32: 0 | R32: 0 | S32: 0 | T32: 0 | U32: 0 | V32: 0 | W32: 0
C33: 30 | D33: Cortina em tecido Gorgurão, cor a definir, com aproximadamente 4,65m de largura, 2m de altura, com pregas "macho" (totalizando 98m de tecido), com trilho suiço duplo colocado. Com Blecaute de tecido poliester, cor a definir, com 4,65m largura, e 2m de altura (totalizando 98m de tecido), colocado. | E33: peça | F33: TECNOART | G33: 339030.24 | H33: 1670 | J33: =I33-(SUM(L33:W33)) -> 0 | K33: =IF(J33<0,"ATENÇÃO","OK") -> OK | L33: 0 | M33: 0 | N33: 0 | O33: 0 | P33: 0 | Q33: 0 | R33: 0 | S33: 0 | T33: 0 | U33: 0 | V33: 0 | W33: 0
C34: 31 | D34: Cortina em tecido Gorgurão, cor a definir, com aproximadamente 3,30m de largura, 2m de altura, com pregas "macho" (totalizando 20m de tecido), com trilho suiço duplo colocado. Com Blecaute de tecido poliester, cor a definir, com 3,30m largura, e 2m de altura (totalizando 20m de tecido), colocado. | E34: peça | F34: TECNOART | G34: 339030.24 | H34: 1178 | J34: =I34-(SUM(L34:W34)) -> 0 | K34: =IF(J34<0,"ATENÇÃO","OK") -> OK | L34: 0 | M34: 0 | N34: 0 | O34: 0 | P34: 0 | Q34: 0 | R34: 0 | S34: 0 | T34: 0 | U34: 0 | V34: 0 | W34: 0
A35: MARIA HELENA COMERCIO DE MOVEIS EIRELI ME | B35: 8 | C35: 32 | D35: Porta de aluminio para banheiros. Na cor branca, com forra, fechadura (par de chaves), folha veneziana vedada, grapas para instalação, entrega instalada. Tamanho aproximado de 1,90x1m (podendo sofrer variações de até 5cm para mais ou para menos - verificar antes da instalação) | E35: peça | F35: Stylo Alumínio | G35: 339030.24 | H35: 977 | J35: =I35-(SUM(L35:W35)) -> 0 | K35: =IF(J35<0,"ATENÇÃO","OK") -> OK | L35: 0 | M35: 0 | N35: 0 | O35: 0 | P35: 0 | Q35: 0 | R35: 0 | S35: 0 | T35: 0 | U35: 0 | V35: 0 | W35: 0
C36: 33 | D36: Porta de aluminio para banheiros. Na cor branca, com forra, fechadura (par de chaves), folha veneziana vedada, grapas para instalação, entrega instalada. Tamanho aproximado de 1,90x,065m (podendo sofrer variações de até 5cm para mais ou para menos - verificar antes da instalação) | E36: peça | F36: Stylo Alumínio | G36: 339030.24 | H36: 840 | J36: =I36-(SUM(L36:W36)) -> 0 | K36: =IF(J36<0,"ATENÇÃO","OK") -> OK | L36: 0 | M36: 0 | N36: 0 | O36: 0 | P36: 0 | Q36: 0 | R36: 0 | S36: 0 | T36: 0 | U36: 0 | V36: 0 | W36: 0
C37: 34 | D37: Porta de aluminio para banheiros. Na cor branca, com forra, fechadura (par de chaves), folha veneziana vedada, grapas para instalação, entrega instalada. Tamanho aproximado de 1,1x0,95m (podendo sofrer variações de até 5cm para mais ou para menos - verificar antes da instalação) | E37: peça | F37: Stylo Alumínio | G37: 339030.24 | H37: 699 | J37: =I37-(SUM(L37:W37)) -> 0 | K37: =IF(J37<0,"ATENÇÃO","OK") -> OK | L37: 0 | M37: 0 | N37: 0 | O37: 0 | P37: 0 | Q37: 0 | R37: 0 | S37: 0 | T37: 0 | U37: 0 | V37: 0 | W37: 0
C38: 35 | D38: Porta de aluminio para banheiros. Na cor branca, com forra, fechadura (par de chaves), folha veneziana vedada, grapas para instalação, entrega instalada. Tamanho aproximado de 2,10x80m (podendo sofrer variações de até 5cm para mais ou para menos - verificar antes da instalação) | E38: peça | F38: Stylo Alumínio | G38: 339030.24 | H38: 890 | J38: =I38-(SUM(L38:W38)) -> 0 | K38: =IF(J38<0,"ATENÇÃO","OK") -> OK | L38: 0 | M38: 0 | N38: 0 | O38: 0 | P38: 0 | Q38: 0 | R38: 0 | S38: 0 | T38: 0 | U38: 0 | V38: 0 | W38: 0
A39: TECNOART COMERCIO E SERVIÇOS LTDA ME | B39: 9 | C39: 36 | D39: Porta de vidro de 10mm com mola área e braço de parada. Colocadas. Metragem 2,10x0,98m (podendo sofrer variações de até 5cm para mais ou pra menos - verificar antes da instalação) | E39: peça | F39: TECNOART | G39: 339030.24 | H39: 1300 | J39: =I39-(SUM(L39:W39)) -> 0 | K39: =IF(J39<0,"ATENÇÃO","OK") -> OK | L39: 0 | M39: 0 | N39: 0 | O39: 0 | P39: 0 | Q39: 0 | R39: 0 | S39: 0 | T39: 0 | U39: 0 | V39: 0 | W39: 0
C40: 37 | D40: Porta de vidro de 10mm com mola área e braço de parada. Colocadas. Metragem 2,10x0,70m (podendo sofrer variações de até 5cm para mais ou pra menos - verificar antes da instalação) | E40: peça | F40: TECNOART | G40: 339030.24 | H40: 1100 | J40: =I40-(SUM(L40:W40)) -> 0 | K40: =IF(J40<0,"ATENÇÃO","OK") -> OK | L40: 0 | M40: 0 | N40: 0 | O40: 0 | P40: 0 | Q40: 0 | R40: 0 | S40: 0 | T40: 0 | U40: 0 | V40: 0 | W40: 0
C41: 38 | D41: Porta de abrir em vidro temperado, tipo blindex, transparente/incolor. Medindo 900 x 2200 x 10 mm. Dobradiças, fechadura e maçaneta/Puxador em alumínio branco. Inclui todos os materiais necessários para a sua instalação. INSTALADA | E41: peça | F41: TECNOART | G41: 339030.24 | H41: 660 | J41: =I41-(SUM(L41:W41)) -> 0 | K41: =IF(J41<0,"ATENÇÃO","OK") -> OK | L41: 0 | M41: 0 | N41: 0 | O41: 0 | P41: 0 | Q41: 0 | R41: 0 | S41: 0 | T41: 0 | U41: 0 | V41: 0 | W41: 0
C42: 39 | D42: Janela em vidro temperado tipo blindex, transparente/incolor. Medida total 2500 x 5200 x 10 mm, sendo fixo a parte superior 1000 x 5200 mm e as partes laterais 1300 x 1500 mm de cada lado e janelas de correr no centro com 1300 x 1500 mm. Dobradiças, fechaduras e puxadores em alumínio branco. Incluindo todos os materiais necessários para a instalação. INSTALADA. | E42: peça | F42: TECNOART | G42: 339030.24 | H42: 3945 | J42: =I42-(SUM(L42:W42)) -> 0 | K42: =IF(J42<0,"ATENÇÃO","OK") -> OK | L42: 0 | M42: 0 | N42: 0 | O42: 0 | P42: 0 | Q42: 0 | R42: 0 | S42: 0 | T42: 0 | U42: 0 | V42: 0 | W42: 0
C43: 40 | D43: Janela em vidro temperado tipo blindex, transparente/incolor. Medida total 2300 x 1200 x 10 mm, sendo fixo a parte inferior 1150 x 1200 mm e a parte superior de abrir, medindo 1150 x 1200 mm. Dobradiças, fechaduras e puxadores em alumínio branco. Retirada do vidro existente. Incluindo todos os materiais necessários para a instalação. INSTALADA. | E43: peça | F43: TECNOART | G43: 339030.24 | H43: 859.37 | J43: =I43-(SUM(L43:W43)) -> 0 | K43: =IF(J43<0,"ATENÇÃO","OK") -> OK | L43: 0 | M43: 0 | N43: 0 | O43: 0 | P43: 0 | Q43: 0 | R43: 0 | S43: 0 | T43: 0 | U43: 0 | V43: 0 | W43: 0
A44: MARIA HELENA COMERCIO DE MOVEIS EIRELI ME | B44: 10 | C44: 41 | D44: Fornecimento de divisória tipo painel móvel dupla face, oco, aberto na parte superior, confeccionado com placas de MDF (Médium Density Fiberboard) resistente a umidade e água, selo verde, com espessura 15mm, na cor branco diamante, da marca Masisa ou similar, as dimensões serão 1,35m x 1,80m x 0,20cm, conforme desenho. O interior deve ser preenchido com 8 (oito) réguas estruturais de MDF de 15mm, coladas em toda sua extensão, nas mesmas medidas das laterais, de um lado a outro do painel, para evitar deformidades. A parte inferior deverá ser fechada com placa de MDF de 15mm e na base deverão ser fixados 6 (seis) rodízios em metal, com dispositivo giratório 360 graus, roda de borracha preta, cinza escuro ou similar, com capacidade até 60kg, com dispositivo de trava em 6 (seis) rodízios fixados nas extremidades, marca Vonder ou similar. Os rodízios deverão ser testados depois de fixados a fim de verificar os rolamentos e dispositivos de trava. Não serão aceitas placas que apresentem deformidades em razão da fabricação, estocagem, limpeza ou outro aspecto visual de correção, nem serão aceitos rodízios com defeito ou deformidade que a fiscalização julgue procedente. No sentido da largura, na parte superior aberta, deverão ser fixados, internamente, dois suportes de varão e dois varões de alumínio de 3mm de espessura. | E44: peça | F44: Maria Helena | G44: 339030.24 | H44: 1290 | J44: =I44-(SUM(L44:W44)) -> 0 | K44: =IF(J44<0,"ATENÇÃO","OK") -> OK | L44: 0 | M44: 0 | N44: 0 | O44: 0 | P44: 0 | Q44: 0 | R44: 0 | S44: 0 | T44: 0 | U44: 0 | V44: 0 | W44: 0
A45: TECNOART COMERCIO E SERVIÇOS LTDA ME | B45: 11 | C45: 42 | D45: Fornecimento de divisória tipo painel móvel que deverão ser executados em alumínio, moldura tubular retangular, medindo aproximadamente 2,5cm X 5,0cm, acabamento decorativo usando processo de anodização na cor preto fosco. Os perfis que fecham o interior da estrutura do painel são de alumínio, tubular redondo, com dimensão de (aproximadamente) 2,0cm de diâmetro, com acabamento decorativo usando processo de anodização cor preto fosco. Cada painel deverá vir acompanhado de uma barra de alumínio (tubo redondo), com diâmetro de 3,5cm e acabamento decorativo usando processo de anodização cor preto fosco, que permitirão a fixação entre os painéis com pino, fornecidos para possibilitar a utilização destes painéis unidos em forma de biombo. Estes pinos devem ser pivotantes da marca Acoplac ou similar e executados em material resistente de polipropileno, nylon ou similar. Cada painel deverá possuir 4 (quatro) pinos. Cada painel deverá possuir duas sapatas niveladoras de 20mm, que servirão de pé. Estes pés deverão ser reguláveis com bucha. Os parafusos da estrutura dos painéis devem ser de aço inox. As medidas estão estabelecidas no desenho anexo que ilustra como o painel deve ser executado. | E45: peça | F45: TECNOART | G45: 339030.24 | H45: 925 | J45: =I45-(SUM(L45:W45)) -> 0 | K45: =IF(J45<0,"ATENÇÃO","OK") -> OK | L45: 0 | M45: 0 | N45: 0 | O45: 0 | P45: 0 | Q45: 0 | R45: 0 | S45: 0 | T45: 0 | U45: 0 | V45: 0 | W45: 0
A46: DESERTO | B46: 12 | C46: 43 | D46: Tapete cerdas médias 2,5x2,5 m. Antiderrapante. Lavável. Cor e estampa à definir. Marca de referência: São Carlos. | E46: peça | F46: 0 | G46: 339030.24 | H46: 0 | J46: =I46-(SUM(L46:W46)) -> 0 | K46: =IF(J46<0,"ATENÇÃO","OK") -> OK | L46: 0 | M46: 0 | N46: 0 | O46: 0 | P46: 0 | Q46: 0 | R46: 0 | S46: 0 | T46: 0 | U46: 0 | V46: 0 | W46: 0
A47: TECNOART COMERCIO E SERVIÇOS LTDA ME | B47: 13 | C47: 44 | D47: Toldo modelo meia lua, medidas: 6m comprimento x 3,20m largura x 3m altura. Material estrutural: tubos de aço galvanizado, metalon barras de 9cm, com pintura smallpox vermelha, com soldagem tipo MIG em toda a estrutura. Cobertura em policarbonato alveolar de 6mm na cor vermelha. Metalon barras na cobertura de 5cm. A fixação das chapas em policarbonato nas estruturas deverão ser feitas em parafuso auto-brocante e calafetadas com silicone, quando necessário, em todo o perímetro. Incluindo todos os materiais para a instalação. INSTALADO | E47: peça | F47: TECNOART | G47: 339030.24 | H47: 8700 | J47: =I47-(SUM(L47:W47)) -> 0 | K47: =IF(J47<0,"ATENÇÃO","OK") -> OK | L47: 0 | M47: 0 | N47: 0 | O47: 0 | P47: 0 | Q47: 0 | R47: 0 | S47: 0 | T47: 0 | U47: 0 | V47: 0 | W47: 0
A48: GEOMA CONSTRUÇÕES EIRELI EPP | B48: 14 | C48: 45 | D48: Serviço de retirada de piso, construção de novo piso, regularização e preparação para instalação de novos pisos. Destinar o respectivo entulho da substituição do piso. | E48: m² | F48: 0 | G48: 339039.16 | H48: 150 | J48: =I48-(SUM(L48:W48)) -> 0 | K48: =IF(J48<0,"ATENÇÃO","OK") -> OK | L48: 0 | M48: 0 | N48: 0 | O48: 0 | P48: 0 | Q48: 0 | R48: 0 | S48: 0 | T48: 0 | U48: 0 | V48: 0 | W48: 0
C49: 46 | D49: Serviço de lixação, revitalização e clareamento do piso feito em pedra ardózia bruta. Incluindo revestimento e impermeabiliozação do pios após lixar e topdos os materiais necessários para realização do serviço. | E49: m² | F49: 0 | G49: 339039.16 | H49: 60 | J49: =I49-(SUM(L49:W49)) -> 0 | K49: =IF(J49<0,"ATENÇÃO","OK") -> OK | L49: 0 | M49: 0 | N49: 0 | O49: 0 | P49: 0 | Q49: 0 | R49: 0 | S49: 0 | T49: 0 | U49: 0 | V49: 0 | W49: 0
A50: MARIA HELENA COMERCIO DE MOVEIS EIRELI ME | B50: 15 | C50: 47 | D50: Piso laminado vinílico, placas decorativas com estampagem digital de madeira com capa de uso de 0,5mm (modelo a definir); placas de aproximadamente 0,41x0,41m; espessura de 3mm a 5mm; resistente a abrasão e químicos classe T; resistente a uso interno e a cadeiras com rodízio; alta durabilidade; certificado da norma brasileira NBR 8660-classe2A; garantia mínima de 15 anos; com acessórios e serviço de instalação; regularização de contrapiso e acabamento inclusos; densidade ótica de fumaça (toxidade em caso de incêndio) menor que 450dm (norma ASTME 662); absorção de som ao impacto norma ASTME 989-06 = 10 decibéis; identação residual igual ou menor a 0,1mm; estabilidade dimensional EN 434 igual ou menor que 0,13mm. INSTALADO. | E50: m² | F50: Duraflor | G50: 339030.24 | H50: 109.84 | J50: =I50-(SUM(L50:W50)) -> 0 | K50: =IF(J50<0,"ATENÇÃO","OK") -> OK | L50: 0 | M50: 0 | N50: 0 | O50: 0 | P50: 0 | Q50: 0 | R50: 0 | S50: 0 | T50: 0 | U50: 0 | V50: 0 | W50: 0
D52: *Prazos de entrega e pagamento conforme termo de referência

Sheet CEAD
A1: PROCESSO: 0757/2015/UDESC | D1: OBJETO: Aquisição de divisórias, vidros, cortinas e similares – Campus I, CERES, CESFI e CEAVI | I1: VIGÊNCIA DA ATA: 20/07/2015 até 19/07/2016 | L1: AF/OS nº 1805/2015 Qtde. DT | M1: AF/OS nº xxxx/2015 Qtde. DT | N1: AF/OS nº xxxx/2015 Qtde. DT | O1: AF/OS nº xxxx/2015 Qtde. DT | P1: AF/OS nº xxxx/2015 Qtde. DT | Q1: AF/OS nº xxxx/2015 Qtde. DT | R1: AF/OS nº xxxx/2015 Qtde. DT | S1: AF/OS nº xxxx/2015 Qtde. DT | T1: AF/OS nº xxxx/2015 Qtde. DT | U1: AF/OS nº xxxx/2015 Qtde. DT | V1: AF/OS nº xxxx/2015 Qtde. DT | W1: AF/OS nº xxxx/2015 Qtde. DT
A2: CENTRO PARTICIPANTE: CEAD
A3: FORNECEDOR | B3: LOTE | C3: ITEM | D3: PRODUTO - CARACTERÍSTICAS MÍNIMAS | E3: UNIDADE | F3: MARCA | G3: DETALHAMENTO | H3: Preço UNITÁRIO (R$) | I3: Qtde Registrada | J3: Saldo / Automático | K3: ALERTA | L3: 42279 | M3: ...../...../...... | N3: ...../...../...... | O3: ...../...../...... | P3: ...../...../...... | Q3: ...../...../...... | R3: ...../...../...... | S3: ...../...../...... | T3: ...../...../...... | U3: ...../...../...... | V3: ...../...../...... | W3: ...../...../......
A4: TECNOART COMERCIO E SERVIÇOS LTDA ME | B4: 1 | C4: 1 | D4: Espelho 6mm (lapidado). Instalado. | E4: m² | F4: CEBRACE | G4: 339030.24 | H4: 199.3 | J4: =I4-(SUM(L4:W4)) -> 0 | K4: =IF(J4<0,"ATENÇÃO","OK") -> OK | L4: 0 | M4: 0 | N4: 0 | O4: 0 | P4: 0 | Q4: 0 | R4: 0 | S4: 0 | T4: 0 | U4: 0 | V4: 0 | W4: 0
C5: 2 | D5: Vidro mini-boreal incolor, 3mm. Instalado. | E5: m² | F5: CEBRACE | G5: 339030.24 | H5: 30 | J5: =I5-(SUM(L5:W5)) -> 0 | K5: =IF(J5<0,"ATENÇÃO","OK") -> OK | L5: 0 | M5: 0 | N5: 0 | O5: 0 | P5: 0 | Q5: 0 | R5: 0 | S5: 0 | T5: 0 | U5: 0 | V5: 0 | W5: 0
A6: MILANI COMERCIO E DISTRIBUIÇÃO LTDA EPP | B6: 2 | C6: 3 | D6: Fornecimento de divisórias em painéis com espessura de 35mm, cor a definir; com miolo em colméia em kraft de alta gramatura e estrutura em aço galvanizado com pintura em epóxi-poliester pó. na cor. Colocação programada e cor do painel a escolher. Instalada. | E6: m² | F6: Eucatex | G6: 339030.24 | H6: 67 | I6: 80 | J6: =I6-(SUM(L6:W6)) -> 73.96 | K6: =IF(J6<0,"ATENÇÃO","OK") -> OK | L6: 6.04 | M6: 0 | N6: 0 | O6: 0 | P6: 0 | Q6: 0 | R6: 0 | S6: 0 | T6: 0 | U6: 0 | V6: 0 | W6: 0
C7: 4 | D7: Forro em PVC, espessura 8mm, largura 200mm, com estrutura em aço galvanizado. Cor a definir. Instalado. | E7: m² | F7: Tecnoperfil | G7: 339030.24 | H7: 35 | J7: =I7-(SUM(L7:W7)) -> 0 | K7: =IF(J7<0,"ATENÇÃO","OK") -> OK | L7: 0 | M7: 0 | N7: 0 | O7: 0 | P7: 0 | Q7: 0 | R7: 0 | S7: 0 | T7: 0 | U7: 0 | V7: 0 | W7: 0
C8: 5 | D8: Fornecimento e instalação de vidro liso 3mm, incolor. | E8: m² | F8: Cebrace | G8: 339030.24 | H8: 68 | I8: 25 | J8: =I8-(SUM(L8:W8)) -> 20.47 | K8: =IF(J8<0,"ATENÇÃO","OK") -> OK | L8: 4.53 | M8: 0 | N8: 0 | O8: 0 | P8: 0 | Q8: 0 | R8: 0 | S8: 0 | T8: 0 | U8: 0 | V8: 0 | W8: 0
C9: 6 | D9: Fornecimento e instalação de vidro liso 4mm, incolor. | E9: m² | F9: Cebrace | G9: 339030.24 | H9: 88 | J9: =I9-(SUM(L9:W9)) -> 0 | K9: =IF(J9<0,"ATENÇÃO","OK") -> OK | M9: 0 | N9: 0 | O9: 0 | P9: 0 | Q9: 0 | R9: 0 | S9: 0 | T9: 0 | U9: 0 | V9: 0 | W9: 0
C10: 7 | D10: Fornecimento e instalação de vidro liso 5mm, incolor. | E10: m² | F10: Cebrace | G10: 339030.24 | H10: 110 | J10: =I10-(SUM(L10:W10)) -> 0 | K10: =IF(J10<0,"ATENÇÃO","OK") -> OK | L10: 0 | M10: 0 | N10: 0 | O10: 0 | P10: 0 | Q10: 0 | R10: 0 | S10: 0 | T10: 0 | U10: 0 | V10: 0 | W10: 0
C11: 8 | D11: Porta de abrir eixo vertical, 90X210cm em painéis divisórias, cor a definir. Com miolo em colméia e estrutura em aço com pintura em epóxi na cor preta (ou bege), completa (com maçaneta, chave e dobradiças). Compatíveis com as divisórias existentes. Instalada. | E11: pç | F11: Eucatex | G11: 339030.24 | H11: 185 | I11: 4 | J11: =I11-(SUM(L11:W11)) -> 4 | K11: =IF(J11<0,"ATENÇÃO","OK") -> OK | L11: 0 | M11: 0 | N11: 0 | O11: 0 | P11: 0 | Q11: 0 | R11: 0 | S11: 0 | T11: 0 | U11: 0 | V11: 0 | W11: 0
C12: 9 | D12: Porta de madeira angelim tipo pedra, semi-oca, lisa, para ser instalada em divisória acústica drywall e alvenaria, com revestimento interno de fibra de lã de vidro ou rocha, para isolamento acústico. Tamanho 80cm de larguraX2,10m de altura, espessura da porta 3,5cm. Tamanho da forra 9cm. Inclui forra, maçaneta e todos os acessórios necessários para a sua instalação. Cor natural, pronta para pintura. Instalada. | E12: pç | F12: Reitz | G12: 339030.24 | H12: 860 | J12: =I12-(SUM(L12:W12)) -> 0 | K12: =IF(J12<0,"ATENÇÃO","OK") -> OK | L12: 0 | M12: 0 | N12: 0 | O12: 0 | P12: 0 | Q12: 0 | R12: 0 | S12: 0 | T12: 0 | U12: 0 | V12: 0 | W12: 0
C13: 10 | D13: Divisória acústica com paredes de gesso acartonado, drywall, em estrutura metálica e revestida internamente com fibra de lã de vidro para isolamento acústico. Espessura total da parede 90mm. Remover a anterior e instalar a nova. Incluir todos os acessórios necessários a sua instalação e pintura. Marca de referência: Placocenter. Instalada. | E13: m² | F13: Placo | G13: 339030.24 | H13: 91.55 | J13: =I13-(SUM(L13:W13)) -> 0 | K13: =IF(J13<0,"ATENÇÃO","OK") -> OK | L13: 0 | M13: 0 | N13: 0 | O13: 0 | P13: 0 | Q13: 0 | R13: 0 | S13: 0 | T13: 0 | U13: 0 | V13: 0 | W13: 0
C14: 11 | D14: Forro acústico constituído de fibra lã de vidro, revestido na face aparente com PVC, com 20mm de espessura total e 80kg/m³ de densidade. Placas de 1250mmx625mm. 35m² com superfície enrugada e 525m² com superfície lisa. Remover o forro anterior e instalar o novo. Inclui todos os acessórios necessários para a sua instalação. Modelo de referência: Forrovid Boreal Isover. Instalado. | E14: m² | F14: Isover | G14: 339030.24 | H14: 64 | J14: =I14-(SUM(L14:W14)) -> 0 | K14: =IF(J14<0,"ATENÇÃO","OK") -> OK | L14: 0 | M14: 0 | N14: 0 | O14: 0 | P14: 0 | Q14: 0 | R14: 0 | S14: 0 | T14: 0 | U14: 0 | V14: 0 | W14: 0
C15: 12 | D15: DIVISÓRIAS, ESPESSURA DE 35MM, Fornecimento de paredes divisórias em painéis de 35mm, com miolo tipo colméia em kraft de alta gramatura, estrutura em aço galvanizado, com pintura epóxi-poliester pó. Módulo com vidro de espessura mínima de 4mm. Painel com altura (pé direito) de 2110mm e bandeira em vidro de 790mm (total de pé direito 2900mm). Colocação programada e cor do painel a escolher. INSTALADO | E15: m² | F15: Eucatex | G15: 339030.24 | H15: 109 | J15: =I15-(SUM(L15:W15)) -> 0 | K15: =IF(J15<0,"ATENÇÃO","OK") -> OK | L15: 0 | M15: 0 | N15: 0 | O15: 0 | P15: 0 | Q15: 0 | R15: 0 | S15: 0 | T15: 0 | U15: 0 | V15: 0 | W15: 0
C16: 13 | D16: Porta para divisórias em painéis de espessura 35mm, com miolo tipo colméia em kraft de alta gramatura, estrutura em aço galvanizado, com pintura epóxi-poliester pó. Colocação programada e cor a escolher. Medidas da porta: 0,80x2,10m. INSTALADA | E16: peça | F16: Eucatex | G16: 339030.24 | H16: 209.9 | J16: =I16-(SUM(L16:W16)) -> 0 | K16: =IF(J16<0,"ATENÇÃO","OK") -> OK | L16: 0 | M16: 0 | N16: 0 | O16: 0 | P16: 0 | Q16: 0 | R16: 0 | S16: 0 | T16: 0 | U16: 0 | V16: 0 | W16: 0
C17: 14 | D17: Divisória acústica com paredes de gesso acartonado, drywall, em estrutura metálica e revestida internamente com fibra de lã de vidro para isolamento acústico, com rodapé e rodateto em perfil de alumínio revestido nas faces com vedante de espuma de PVC autocolante. Espessura total da parede 102mm. Vidros duplos de 6mm, normais ou laminados, com estrutura periférica em alumínio que permita a montagem de persianas em seu interior. Os vidros deverão ser apoiados em batentes de PVC para evitar vibrações. Incluir todos os acessórios necessários a sua instalação e pintura. Marca de referência: Placocenter. Instalada. | E17: m² | F17: Placo | G17: 339030.24 | H17: 240 | J17: =I17-(SUM(L17:W17)) -> 0 | K17: =IF(J17<0,"ATENÇÃO","OK") -> OK | L17: 0 | M17: 0 | N17: 0 | O17: 0 | P17: 0 | Q17: 0 | R17: 0 | S17: 0 | T17: 0 | U17: 0 | V17: 0 | W17: 0
C18: 15 | D18: Serviço de desmontagem de divisórias em painéis com espessura de 35 mm, miolo em colméia, estrutura em aço ou alumínio. | E18: m² | F18: 0 | G18: 339039.16 | H18: 6.5 | I18: 50 | J18: =I18-(SUM(L18:W18)) -> 0 | K18: =IF(J18<0,"ATENÇÃO","OK") -> OK | L18: 50 | M18: 0 | N18: 0 | O18: 0 | P18: 0 | Q18: 0 | R18: 0 | S18: 0 | T18: 0 | U18: 0 | V18: 0 | W18: 0
C19: 16 | D19: Serviço de montagem de divisórias em painéis com espessura de 35 mm, miolo em colméia, estrutura em aço ou alumínio. | E19: m² | F19: 0 | G19: 339039.16 | H19: 15 | I19: 130 | J19: =I19-(SUM(L19:W19)) -> 32.5 | K19: =IF(J19<0,"ATENÇÃO","OK") -> OK | L19: 97.5 | M19: 0 | N19: 0 | O19: 0 | P19: 0 | Q19: 0 | R19: 0 | S19: 0 | T19: 0 | U19: 0 | V19: 0 | W19: 0
A20: RENATA ALCOFORADO LACERDA DA SILVA ME | B20: 3 | C20: 17 | D20: Película profissional refletiva para redução de temperatura e de incidência dos raios UV. Instalada. | E20: m² | F20: Nextfil | G20: 339030.24 | H20: 35 | I20: 30 | J20: =I20-(SUM(L20:W20)) -> 30 | K20: =IF(J20<0,"ATENÇÃO","OK") -> OK | L20: 0 | M20: 0 | N20: 0 | O20: 0 | P20: 0 | Q20: 0 | R20: 0 | S20: 0 | T20: 0 | U20: 0 | V20: 0 | W20: 0
A21: ANTONIO CARLOS RIBEIRO PERSIANAS EPP | B21: 4 | C21: 18 | D21: Persiana vertical em tecido resinado RAMI natural com blackout em faixas de no mínimo 9cm, guias para abrir e fechar e mudança de posição (controle de entrada de luz) cor a definir, instalada. (para cálculos da cotação utilizar altura média de 1,60m). | E21: m² | F21: Quevedo | G21: 339030.24 | H21: 66 | J21: =I21-(SUM(L21:W21)) -> 0 | K21: =IF(J21<0,"ATENÇÃO","OK") -> OK | L21: 0 | M21: 0 | N21: 0 | O21: 0 | P21: 0 | Q21: 0 | R21: 0 | S21: 0 | T21: 0 | U21: 0 | V21: 0 | W21: 0
C22: 19 | D22: Persiana vertical em tecido resinado RAMI natural - em faixas de no mín. 9 cm, guias para abrir e fechar e mudança de posição (controle a entrada de luz). Cor a definir. Instalada. (para cálculos da cotação utilizar altura média de 1,60m). | E22: m² | F22: Quevedo | G22: 339030.24 | H22: 49.3 | I22: 30 | J22: =I22-(SUM(L22:W22)) -> 30 | K22: =IF(J22<0,"ATENÇÃO","OK") -> OK | L22: 0 | M22: 0 | N22: 0 | O22: 0 | P22: 0 | Q22: 0 | R22: 0 | S22: 0 | T22: 0 | U22: 0 | V22: 0 | W22: 0
C23: 20 | D23: Persiana horizontal de alumínio com lâminas de 50mm, não-perfurada, que permita ser utilizada por meio de um cordão e haste. Completa, inclui todos os acessórios necessários para a sua instalação e funcionamento. Modelo de referência: Haste e Cordão/Luxaflex. instalada. | E23: m² | F23: Quevedo | G23: 339030.24 | H23: 113 | J23: =I23-(SUM(L23:W23)) -> 0 | K23: =IF(J23<0,"ATENÇÃO","OK") -> OK | L23: 0 | M23: 0 | N23: 0 | O23: 0 | P23: 0 | Q23: 0 | R23: 0 | S23: 0 | T23: 0 | U23: 0 | V23: 0 | W23: 0
C24: 21 | D24: Persiana horizontal de alumínio com lâminas de 50mm, modelo blackout, sem furos, que permita ser utilizada por meio de um cordão e haste. Completa, inclui todos os acessórios necessários para a sua instalação e funcionamento. Modelo de referência: Haste e Cordão/Luxaflex. instalada. | E24: m² | F24: Quevedo | G24: 339030.24 | H24: 113 | J24: =I24-(SUM(L24:W24)) -> 0 | K24: =IF(J24<0,"ATENÇÃO","OK") -> OK | L24: 0 | M24: 0 | N24: 0 | O24: 0 | P24: 0 | Q24: 0 | R24: 0 | S24: 0 | T24: 0 | U24: 0 | V24: 0 | W24: 0
C25: 22 | D25: Persiana tipo tela plana de tecido filtra sol com 1% de abertura (tecido usado em persianas), tecido composto por fibra de vidro e PVC, cor branco, lavável, costurada com velcro de 2,5cm em todas as bordas, a fixação nas janelas será com velcro do lado oposto ao costurado na persiana tipo tela. Cada tela deverá possuir as seguintes medidas: 53cm x 138cm Observação: O velcro deverá ser costurado nas extremidades do tecido (nos quatro lados) e a outra face do velcro deverá ser colada na madeira (nos quatro lados). | E25: peça | F25: Quevedo | G25: 339030.24 | H25: 85 | J25: =I25-(SUM(L25:W25)) -> 0 | K25: =IF(J25<0,"ATENÇÃO","OK") -> OK | L25: 0 | M25: 0 | N25: 0 | O25: 0 | P25: 0 | Q25: 0 | R25: 0 | S25: 0 | T25: 0 | U25: 0 | V25: 0 | W25: 0
C26: 23 | D26: Persiana tipo tela de tecido filtrasol, 1% de abertura (tecido usado em persianas), tecido composto por fibra de vidro e PVC, cor branco, lavável, costurada com velcro de 2,5cm em todas as bordas, a fixação nas janelas será com velcro do lado oposto ao costurado na persiana tipo tela. Cada tela deverá possuir as seguintes medidas: 54cm x 32cm Observação: O velcro deverá ser costurado nas extremidades do tecido (nos quatro lados) e a outra face do velcro deverá ser colada na madeira (nos quatro lados). | E26: peça | F26: Quevedo | G26: 339030.24 | H26: 41 | J26: =I26-(SUM(L26:W26)) -> 0 | K26: =IF(J26<0,"ATENÇÃO","OK") -> OK | L26: 0 | M26: 0 | N26: 0 | O26: 0 | P26: 0 | Q26: 0 | R26: 0 | S26: 0 | T26: 0 | U26: 0 | V26: 0 | W26: 0
C27: 24 | D27: Serviço de reparo de Persiana vertical em tecido resinado RAMI natural - em faixas de no mín. 9 cm, guias para abrir e fechar e mudança de posição (controle a entrada de luz). Cor a definir. Instalada. (para cálculos da cotação utilizar altura média de 1,60m), com fornecimento de presilhas, correntes de regulagens e pá de fixação inferior, equivalemente a m2 e cortina | E27: m² | F27: Quevedo | G27: 339039.16 | H27: 20 | I27: 25 | J27: =I27-(SUM(L27:W27)) -> 25 | K27: =IF(J27<0,"ATENÇÃO","OK") -> OK | L27: 0 | M27: 0 | N27: 0 | O27: 0 | P27: 0 | Q27: 0 | R27: 0 | S27: 0 | T27: 0 | U27: 0 | V27: 0 | W27: 0
A28: TECNOART COMERCIO E SERVIÇOS LTDA ME | B28: 5 | C28: 25 | D28: Piso cerâmico PEI-5 60x60cm, padrão A, anti-derrapante. para uso externo. anti-derrapante.de 60x60cm. Superfície acetinada. Inclui todos os materiais necessário a sua instalação. Marca de referência: Eliane. Modelo de referência: Etna crema. Instalado. | E28: m² | F28: ELIANE REF. ETNA CREMA | G28: 339030.24 | H28: 86.96 | J28: =I28-(SUM(L28:W28)) -> 0 | K28: =IF(J28<0,"ATENÇÃO","OK") -> OK | L28: 0 | M28: 0 | N28: 0 | O28: 0 | P28: 0 | Q28: 0 | R28: 0 | S28: 0 | T28: 0 | U28: 0 | V28: 0 | W28: 0
C29: 26 | D29: Piso cerâmico PEI-5 30x30cm, padrão A, anti-derrapante. Para uso interno. Inclui todos os materiais necessário a sua instalação, cor a definir. Instalado. | E29: m² | F29: ILHA BELA | G29: 339030.24 | H29: 68.2 | I29: 50 | J29: =I29-(SUM(L29:W29)) -> 50 | K29: =IF(J29<0,"ATENÇÃO","OK") -> OK | L29: 0 | M29: 0 | N29: 0 | O29: 0 | P29: 0 | Q29: 0 | R29: 0 | S29: 0 | T29: 0 | U29: 0 | V29: 0 | W29: 0
C30: 27 | D30: Piso cerâmico PEI-5 45x45cm, padrão A, anti-derrapante. Para uso interno. Inclui todos os materiais necessário a sua instalação, cor a definir. Instalado. | E30: m² | F30: ANGELGRES | G30: 339030.24 | H30: 68.2 | J30: =I30-(SUM(L30:W30)) -> 0 | K30: =IF(J30<0,"ATENÇÃO","OK") -> OK | L30: 0 | M30: 0 | N30: 0 | O30: 0 | P30: 0 | Q30: 0 | R30: 0 | S30: 0 | T30: 0 | U30: 0 | V30: 0 | W30: 0
A31: MARIA HELENA COMERCIO DE MOVEIS EIRELI ME | B31: 6 | C31: 28 | D31: Soleira de granito, com 25mm de espessura, com dente de quebra-gota. Cor branca ou cinza andorinha. Instalada. | F31: Marmoraria Mila | G31: 339030.24 | H31: 458 | J31: =I31-(SUM(L31:W31)) -> 0 | K31: =IF(J31<0,"ATENÇÃO","OK") -> OK | L31: 0 | M31: 0 | N31: 0 | O31: 0 | P31: 0 | Q31: 0 | R31: 0 | S31: 0 | T31: 0 | U31: 0 | V31: 0 | W31: 0
A32: TECNOART COMERCIO E SERVIÇOS LTDA ME | B32: 7 | C32: 29 | D32: Cortina em tecido Gorgurão, cor a definir, com aproximadamente 4m de largura, 2m de altura, com pregas "macho" (totalizando 12m de tecido), com trilho suiço duplo colocado. | E32: peça | F32: TECNOART | G32: 339030.24 | H32: 920 | J32: =I32-(SUM(L32:W32)) -> 0 | K32: =IF(J32<0,"ATENÇÃO","OK") -> OK | L32: 0 | M32: 0 | N32: 0 | O32: 0 | P32: 0 | Q32: 0 | R32: 0 | S32: 0 | T32: 0 | U32: 0 | V32: 0 | W32: 0
C33: 30 | D33: Cortina em tecido Gorgurão, cor a definir, com aproximadamente 4,65m de largura, 2m de altura, com pregas "macho" (totalizando 98m de tecido), com trilho suiço duplo colocado. Com Blecaute de tecido poliester, cor a definir, com 4,65m largura, e 2m de altura (totalizando 98m de tecido), colocado. | E33: peça | F33: TECNOART | G33: 339030.24 | H33: 1670 | J33: =I33-(SUM(L33:W33)) -> 0 | K33: =IF(J33<0,"ATENÇÃO","OK") -> OK | L33: 0 | M33: 0 | N33: 0 | O33: 0 | P33: 0 | Q33: 0 | R33: 0 | S33: 0 | T33: 0 | U33: 0 | V33: 0 | W33: 0
C34: 31 | D34: Cortina em tecido Gorgurão, cor a definir, com aproximadamente 3,30m de largura, 2m de altura, com pregas "macho" (totalizando 20m de tecido), com trilho suiço duplo colocado. Com Blecaute de tecido poliester, cor a definir, com 3,30m largura, e 2m de altura (totalizando 20m de tecido), colocado. | E34: peça | F34: TECNOART | G34: 339030.24 | H34: 1178 | J34: =I34-(SUM(L34:W34)) -> 0 | K34: =IF(J34<0,"ATENÇÃO","OK") -> OK | L34: 0 | M34: 0 | N34: 0 | O34: 0 | P34: 0 | Q34: 0 | R34: 0 | S34: 0 | T34: 0 | U34: 0 | V34: 0 | W34: 0
A35: MARIA HELENA COMERCIO DE MOVEIS EIRELI ME | B35: 8 | C35: 32 | D35: Porta de aluminio para banheiros. Na cor branca, com forra, fechadura (par de chaves), folha veneziana vedada, grapas para instalação, entrega instalada. Tamanho aproximado de 1,90x1m (podendo sofrer variações de até 5cm para mais ou para menos - verificar antes da instalação) | E35: peça | F35: Stylo Alumínio | G35: 339030.24 | H35: 977 | J35: =I35-(SUM(L35:W35)) -> 0 | K35: =IF(J35<0,"ATENÇÃO","OK") -> OK | L35: 0 | M35: 0 | N35: 0 | O35: 0 | P35: 0 | Q35: 0 | R35: 0 | S35: 0 | T35: 0 | U35: 0 | V35: 0 | W35: 0
C36: 33 | D36: Porta de aluminio para banheiros. Na cor branca, com forra, fechadura (par de chaves), folha veneziana vedada, grapas para instalação, entrega instalada. Tamanho aproximado de 1,90x,065m (podendo sofrer variações de até 5cm para mais ou para menos - verificar antes da instalação) | E36: peça | F36: Stylo Alumínio | G36: 339030.24 | H36: 840 | J36: =I36-(SUM(L36:W36)) -> 0 | K36: =IF(J36<0,"ATENÇÃO","OK") -> OK | L36: 0 | M36: 0 | N36: 0 | O36: 0 | P36: 0 | Q36: 0 | R36: 0 | S36: 0 | T36: 0 | U36: 0 | V36: 0 | W36: 0
C37: 34 | D37: Porta de aluminio para banheiros. Na cor branca, com forra, fechadura (par de chaves), folha veneziana vedada, grapas para instalação, entrega instalada. Tamanho aproximado de 1,1x0,95m (podendo sofrer variações de até 5cm para mais ou para menos - verificar antes da instalação) | E37: peça | F37: Stylo Alumínio | G37: 339030.24 | H37: 699 | J37: =I37-(SUM(L37:W37)) -> 0 | K37: =IF(J37<0,"ATENÇÃO","OK") -> OK | L37: 0 | M37: 0 | N37: 0 | O37: 0 | P37: 0 | Q37: 0 | R37: 0 | S37: 0 | T37: 0 | U37: 0 | V37: 0 | W37: 0
C38: 35 | D38: Porta de aluminio para banheiros. Na cor branca, com forra, fechadura (par de chaves), folha veneziana vedada, grapas para instalação, entrega instalada. Tamanho aproximado de 2,10x80m (podendo sofrer variações de até 5cm para mais ou para menos - verificar antes da instalação) | E38: peça | F38: Stylo Alumínio | G38: 339030.24 | H38: 890 | J38: =I38-(SUM(L38:W38)) -> 0 | K38: =IF(J38<0,"ATENÇÃO","OK") -> OK | L38: 0 | M38: 0 | N38: 0 | O38: 0 | P38: 0 | Q38: 0 | R38: 0 | S38: 0 | T38: 0 | U38: 0 | V38: 0 | W38: 0
A39: TECNOART COMERCIO E SERVIÇOS LTDA ME | B39: 9 | C39: 36 | D39: Porta de vidro de 10mm com mola área e braço de parada. Colocadas. Metragem 2,10x0,98m (podendo sofrer variações de até 5cm para mais ou pra menos - verificar antes da instalação) | E39: peça | F39: TECNOART | G39: 339030.24 | H39: 1300 | J39: =I39-(SUM(L39:W39)) -> 0 | K39: =IF(J39<0,"ATENÇÃO","OK") -> OK | L39: 0 | M39: 0 | N39: 0 | O39: 0 | P39: 0 | Q39: 0 | R39: 0 | S39: 0 | T39: 0 | U39: 0 | V39: 0 | W39: 0
C40: 37 | D40: Porta de vidro de 10mm com mola área e braço de parada. Colocadas. Metragem 2,10x0,70m (podendo sofrer variações de até 5cm para mais ou pra menos - verificar antes da instalação) | E40: peça | F40: TECNOART | G40: 339030.24 | H40: 1100 | J40: =I40-(SUM(L40:W40)) -> 0 | K40: =IF(J40<0,"ATENÇÃO","OK") -> OK | L40: 0 | M40: 0 | N40: 0 | O40: 0 | P40: 0 | Q40: 0 | R40: 0 | S40: 0 | T40: 0 | U40: 0 | V40: 0 | W40: 0
C41: 38 | D41: Porta de abrir em vidro temperado, tipo blindex, transparente/incolor. Medindo 900 x 2200 x 10 mm. Dobradiças, fechadura e maçaneta/Puxador em alumínio branco. Inclui todos os materiais necessários para a sua instalação. INSTALADA | E41: peça | F41: TECNOART | G41: 339030.24 | H41: 660 | J41: =I41-(SUM(L41:W41)) -> 0 | K41: =IF(J41<0,"ATENÇÃO","OK") -> OK | L41: 0 | M41: 0 | N41: 0 | O41: 0 | P41: 0 | Q41: 0 | R41: 0 | S41: 0 | T41: 0 | U41: 0 | V41: 0 | W41: 0
C42: 39 | D42: Janela em vidro temperado tipo blindex, transparente/incolor. Medida total 2500 x 5200 x 10 mm, sendo fixo a parte superior 1000 x 5200 mm e as partes laterais 1300 x 1500 mm de cada lado e janelas de correr no centro com 1300 x 1500 mm. Dobradiças, fechaduras e puxadores em alumínio branco. Incluindo todos os materiais necessários para a instalação. INSTALADA. | E42: peça | F42: TECNOART | G42: 339030.24 | H42: 3945 | J42: =I42-(SUM(L42:W42)) -> 0 | K42: =IF(J42<0,"ATENÇÃO","OK") -> OK | L42: 0 | M42: 0 | N42: 0 | O42: 0 | P42: 0 | Q42: 0 | R42: 0 | S42: 0 | T42: 0 | U42: 0 | V42: 0 | W42: 0
C43: 40 | D43: Janela em vidro temperado tipo blindex, transparente/incolor. Medida total 2300 x 1200 x 10 mm, sendo fixo a parte inferior 1150 x 1200 mm e a parte superior de abrir, medindo 1150 x 1200 mm. Dobradiças, fechaduras e puxadores em alumínio branco. Retirada do vidro existente. Incluindo todos os materiais necessários para a instalação. INSTALADA. | E43: peça | F43: TECNOART | G43: 339030.24 | H43: 859.37 | J43: =I43-(SUM(L43:W43)) -> 0 | K43: =IF(J43<0,"ATENÇÃO","OK") -> OK | L43: 0 | M43: 0 | N43: 0 | O43: 0 | P43: 0 | Q43: 0 | R43: 0 | S43: 0 | T43: 0 | U43: 0 | V43: 0 | W43: 0
A44: MARIA HELENA COMERCIO DE MOVEIS EIRELI ME | B44: 10 | C44: 41 | D44: Fornecimento de divisória tipo painel móvel dupla face, oco, aberto na parte superior, confeccionado com placas de MDF (Médium Density Fiberboard) resistente a umidade e água, selo verde, com espessura 15mm, na cor branco diamante, da marca Masisa ou similar, as dimensões serão 1,35m x 1,80m x 0,20cm, conforme desenho. O interior deve ser preenchido com 8 (oito) réguas estruturais de MDF de 15mm, coladas em toda sua extensão, nas mesmas medidas das laterais, de um lado a outro do painel, para evitar deformidades. A parte inferior deverá ser fechada com placa de MDF de 15mm e na base deverão ser fixados 6 (seis) rodízios em metal, com dispositivo giratório 360 graus, roda de borracha preta, cinza escuro ou similar, com capacidade até 60kg, com dispositivo de trava em 6 (seis) rodízios fixados nas extremidades, marca Vonder ou similar. Os rodízios deverão ser testados depois de fixados a fim de verificar os rolamentos e dispositivos de trava. Não serão aceitas placas que apresentem deformidades em razão da fabricação, estocagem, limpeza ou outro aspecto visual de correção, nem serão aceitos rodízios com defeito ou deformidade que a fiscalização julgue procedente. No sentido da largura, na parte superior aberta, deverão ser fixados, internamente, dois suportes de varão e dois varões de alumínio de 3mm de espessura. | E44: peça | F44: Maria Helena | G44: 339030.24 | H44: 1290 | J44: =I44-(SUM(L44:W44)) -> 0 | K44: =IF(J44<0,"ATENÇÃO","OK") -> OK | L44: 0 | M44: 0 | N44: 0 | O44: 0 | P44: 0 | Q44: 0 | R44: 0 | S44: 0 | T44: 0 | U44: 0 | V44: 0 | W44: 0
A45: TECNOART COMERCIO E SERVIÇOS LTDA ME | B45: 11 | C45: 42 | D45: Fornecimento de divisória tipo painel móvel que deverão ser executados em alumínio, moldura tubular retangular, medindo aproximadamente 2,5cm X 5,0cm, acabamento decorativo usando processo de anodização na cor preto fosco. Os perfis que fecham o interior da estrutura do painel são de alumínio, tubular redondo, com dimensão de (aproximadamente) 2,0cm de diâmetro, com acabamento decorativo usando processo de anodização cor preto fosco. Cada painel deverá vir acompanhado de uma barra de alumínio (tubo redondo), com diâmetro de 3,5cm e acabamento decorativo usando processo de anodização cor preto fosco, que permitirão a fixação entre os painéis com pino, fornecidos para possibilitar a utilização destes painéis unidos em forma de biombo. Estes pinos devem ser pivotantes da marca Acoplac ou similar e executados em material resistente de polipropileno, nylon ou similar. Cada painel deverá possuir 4 (quatro) pinos. Cada painel deverá possuir duas sapatas niveladoras de 20mm, que servirão de pé. Estes pés deverão ser reguláveis com bucha. Os parafusos da estrutura dos painéis devem ser de aço inox. As medidas estão estabelecidas no desenho anexo que ilustra como o painel deve ser executado. | E45: peça | F45: TECNOART | G45: 339030.24 | H45: 925 | J45: =I45-(SUM(L45:W45)) -> 0 | K45: =IF(J45<0,"ATENÇÃO","OK") -> OK | L45: 0 | M45: 0 | N45: 0 | O45: 0 | P45: 0 | Q45: 0 | R45: 0 | S45: 0 | T45: 0 | U45: 0 | V45: 0 | W45: 0
A46: DESERTO | B46: 12 | C46: 43 | D46: Tapete cerdas médias 2,5x2,5 m. Antiderrapante. Lavável. Cor e estampa à definir. Marca de referência: São Carlos. | E46: peça | F46: 0 | G46: 339030.24 | H46: 0 | J46: =I46-(SUM(L46:W46)) -> 0 | K46: =IF(J46<0,"ATENÇÃO","OK") -> OK | L46: 0 | M46: 0 | N46: 0 | O46: 0 | P46: 0 | Q46: 0 | R46: 0 | S46: 0 | T46: 0 | U46: 0 | V46: 0 | W46: 0
A47: TECNOART COMERCIO E SERVIÇOS LTDA ME | B47: 13 | C47: 44 | D47: Toldo modelo meia lua, medidas: 6m comprimento x 3,20m largura x 3m altura. Material estrutural: tubos de aço galvanizado, metalon barras de 9cm, com pintura smallpox vermelha, com soldagem tipo MIG em toda a estrutura. Cobertura em policarbonato alveolar de 6mm na cor vermelha. Metalon barras na cobertura de 5cm. A fixação das chapas em policarbonato nas estruturas deverão ser feitas em parafuso auto-brocante e calafetadas com silicone, quando necessário, em todo o perímetro. Incluindo todos os materiais para a instalação. INSTALADO | E47: peça | F47: TECNOART | G47: 339030.24 | H47: 8700 | J47: =I47-(SUM(L47:W47)) -> 0 | K47: =IF(J47<0,"ATENÇÃO","OK") -> OK | L47: 0 | M47: 0 | N47: 0 | O47: 0 | P47: 0 | Q47: 0 | R47: 0 | S47: 0 | T47: 0 | U47: 0 | V47: 0 | W47: 0
A48: GEOMA CONSTRUÇÕES EIRELI EPP | B48: 14 | C48: 45 | D48: Serviço de retirada de piso, construção de novo piso, regularização e preparação para instalação de novos pisos. Destinar o respectivo entulho da substituição do piso. | E48: m² | F48: 0 | G48: 339039.16 | H48: 150 | J48: =I48-(SUM(L48:W48)) -> 0 | K48: =IF(J48<0,"ATENÇÃO","OK") -> OK | L48: 0 | M48: 0 | N48: 0 | O48: 0 | P48: 0 | Q48: 0 | R48: 0 | S48: 0 | T48: 0 | U48: 0 | V48: 0 | W48: 0
C49: 46 | D49: Serviço de lixação, revitalização e clareamento do piso feito em pedra ardózia bruta. Incluindo revestimento e impermeabiliozação do pios após lixar e topdos os materiais necessários para realização do serviço. | E49: m² | F49: 0 | G49: 339039.16 | H49: 60 | J49: =I49-(SUM(L49:W49)) -> 0 | K49: =IF(J49<0,"ATENÇÃO","OK") -> OK | L49: 0 | M49: 0 | N49: 0 | O49: 0 | P49: 0 | Q49: 0 | R49: 0 | S49: 0 | T49: 0 | U49: 0 | V49: 0 | W49: 0
A50: MARIA HELENA COMERCIO DE MOVEIS EIRELI ME | B50: 15 | C50: 47 | D50: Piso laminado vinílico, placas decorativas com estampagem digital de madeira com capa de uso de 0,5mm (modelo a definir); placas de aproximadamente 0,41x0,41m; espessura de 3mm a 5mm; resistente a abrasão e químicos classe T; resistente a uso interno e a cadeiras com rodízio; alta durabilidade; certificado da norma brasileira NBR 8660-classe2A; garantia mínima de 15 anos; com acessórios e serviço de instalação; regularização de contrapiso e acabamento inclusos; densidade ótica de fumaça (toxidade em caso de incêndio) menor que 450dm (norma ASTME 662); absorção de som ao impacto norma ASTME 989-06 = 10 decibéis; identação residual igual ou menor a 0,1mm; estabilidade dimensional EN 434 igual ou menor que 0,13mm. INSTALADO. | E50: m² | F50: Duraflor | G50: 339030.24 | H50: 109.84 | J50: =I50-(SUM(L50:W50)) -> 0 | K50: =IF(J50<0,"ATENÇÃO","OK") -> OK | L50: 0 | M50: 0 | N50: 0 | O50: 0 | P50: 0 | Q50: 0 | R50: 0 | S50: 0 | T50: 0 | U50: 0 | V50: 0 | W50: 0
D52: *Prazos de entrega e pagamento conforme termo de referência

Sheet CEFID
A1: PROCESSO: 0757/2015/UDESC | D1: OBJETO: Aquisição de divisórias, vidros, cortinas e similares – Campus I, CERES, CESFI e CEAVI | I1: VIGÊNCIA DA ATA: 20/07/2015 até 19/07/2016 | L1: AF/OS nº 1410/2015 Qtde. DT | M1: AF/OS nº 1411/2015 Qtde. DT | N1: AF/OS nº 1725/2015 Qtde. DT | O1: AF/OS nº 1574/2015 Qtde. DT | P1: AF/OS nº 1964/2015 Qtde. DT | Q1: AF/OS nº 2055/2015 Qtde. DT | R1: AF/OS nº 2056/2015 Qtde. DT | S1: AF/OS nº 2241/2015 Qtde. DT | T1: AF/OS nº xxxx/2015 Qtde. DT | U1: AF/OS nº xxxx/2015 Qtde. DT | V1: AF/OS nº xxxx/2015 Qtde. DT | W1: AF/OS nº xxxx/2015 Qtde. DT
A2: CENTRO PARTICIPANTE: CEFID
A3: FORNECEDOR | B3: LOTE | C3: ITEM | D3: PRODUTO - CARACTERÍSTICAS MÍNIMAS | E3: UNIDADE | F3: MARCA | G3: DETALHAMENTO | H3: Preço UNITÁRIO (R$) | I3: Qtde Registrada | J3: Saldo / Automático | K3: ALERTA | L3: 42227 | M3: 42227 | N3: 42244 | O3: 42249 | P3: 42303 | Q3: 42306 | R3: 42306 | S3: 42341 | T3: ...../...../...... | U3: ...../...../...... | V3: ...../...../...... | W3: ...../...../......
A4: TECNOART COMERCIO E SERVIÇOS LTDA ME | B4: 1 | C4: 1 | D4: Espelho 6mm (lapidado). Instalado. | E4: m² | F4: CEBRACE | G4: 339030.24 | H4: 199.3 | I4: 30 | J4: =I4-(SUM(L4:W4)) -> 30 | K4: =IF(J4<0,"ATENÇÃO","OK") -> OK | L4: 0 | M4: 0 | N4: 0 | O4: 0 | P4: 0 | Q4: 0 | R4: 0 | S4: 0 | T4: 0 | U4: 0 | V4: 0 | W4: 0
C5: 2 | D5: Vidro mini-boreal incolor, 3mm. Instalado. | E5: m² | F5: CEBRACE | G5: 339030.24 | H5: 30 | J5: =I5-(SUM(L5:W5)) -> 0 | K5: =IF(J5<0,"ATENÇÃO","OK") -> OK | L5: 0 | M5: 0 | N5: 0 | O5: 0 | P5: 0 | Q5: 0 | R5: 0 | S5: 0 | T5: 0 | U5: 0 | V5: 0 | W5: 0
A6: MILANI COMERCIO E DISTRIBUIÇÃO LTDA EPP | B6: 2 | C6: 3 | D6: Fornecimento de divisórias em painéis com espessura de 35mm, cor a definir; com miolo em colméia em kraft de alta gramatura e estrutura em aço galvanizado com pintura em epóxi-poliester pó. na cor. Colocação programada e cor do painel a escolher. Instalada. | E6: m² | F6: Eucatex | G6: 339030.24 | H6: 67 | I6: 200 | J6: =I6-(SUM(L6:W6)) -> 124 | K6: =IF(J6<0,"ATENÇÃO","OK") -> OK | L6: 0 | M6: 0 | N6: 76 | O6: 0 | P6: 0 | Q6: 0 | R6: 0 | S6: 0 | T6: 0 | U6: 0 | V6: 0 | W6: 0
C7: 4 | D7: Forro em PVC, espessura 8mm, largura 200mm, com estrutura em aço galvanizado. Cor a definir. Instalado. | E7: m² | F7: Tecnoperfil | G7: 339030.24 | H7: 35 | J7: =I7-(SUM(L7:W7)) -> 0 | K7: =IF(J7<0,"ATENÇÃO","OK") -> OK | L7: 0 | M7: 0 | O7: 0 | P7: 0 | Q7: 0 | R7: 0 | S7: 0 | T7: 0 | U7: 0 | V7: 0 | W7: 0
C8: 5 | D8: Fornecimento e instalação de vidro liso 3mm, incolor. | E8: m² | F8: Cebrace | G8: 339030.24 | H8: 68 | I8: 20 | J8: =I8-(SUM(L8:W8)) -> 12 | K8: =IF(J8<0,"ATENÇÃO","OK") -> OK | L8: 0 | M8: 0 | N8: 8 | O8: 0 | P8: 0 | Q8: 0 | R8: 0 | S8: 0 | T8: 0 | U8: 0 | V8: 0 | W8: 0
C9: 6 | D9: Fornecimento e instalação de vidro liso 4mm, incolor. | E9: m² | F9: Cebrace | G9: 339030.24 | H9: 88 | I9: 40 | J9: =I9-(SUM(L9:W9)) -> 40 | K9: =IF(J9<0,"ATENÇÃO","OK") -> OK | L9: 0 | M9: 0 | O9: 0 | P9: 0 | Q9: 0 | R9: 0 | S9: 0 | T9: 0 | U9: 0 | V9: 0 | W9: 0
C10: 7 | D10: Fornecimento e instalação de vidro liso 5mm, incolor. | E10: m² | F10: Cebrace | G10: 339030.24 | H10: 110 | J10: =I10-(SUM(L10:W10)) -> 0 | K10: =IF(J10<0,"ATENÇÃO","OK") -> OK | L10: 0 | M10: 0 | O10: 0 | P10: 0 | Q10: 0 | R10: 0 | S10: 0 | T10: 0 | U10: 0 | V10: 0 | W10: 0
C11: 8 | D11: Porta de abrir eixo vertical, 90X210cm em painéis divisórias, cor a definir. Com miolo em colméia e estrutura em aço com pintura em epóxi na cor preta (ou bege), completa (com maçaneta, chave e dobradiças). Compatíveis com as divisórias existentes. Instalada. | E11: pç | F11: Eucatex | G11: 339030.24 | H11: 185 | I11: 10 | J11: =I11-(SUM(L11:W11)) -> 7 | K11: =IF(J11<0,"ATENÇÃO","OK") -> OK | L11: 0 | M11: 0 | N11: 3 | O11: 0 | P11: 0 | Q11: 0 | R11: 0 | S11: 0 | T11: 0 | U11: 0 | V11: 0 | W11: 0
C12: 9 | D12: Porta de madeira angelim tipo pedra, semi-oca, lisa, para ser instalada em divisória acústica drywall e alvenaria, com revestimento interno de fibra de lã de vidro ou rocha, para isolamento acústico. Tamanho 80cm de larguraX2,10m de altura, espessura da porta 3,5cm. Tamanho da forra 9cm. Inclui forra, maçaneta e todos os acessórios necessários para a sua instalação. Cor natural, pronta para pintura. Instalada. | E12: pç | F12: Reitz | G12: 339030.24 | H12: 860 | I12: 10 | J12: =I12-(SUM(L12:W12)) -> 10 | K12: =IF(J12<0,"ATENÇÃO","OK") -> OK | L12: 0 | M12: 0 | O12: 0 | P12: 0 | Q12: 0 | R12: 0 | S12: 0 | T12: 0 | U12: 0 | V12: 0 | W12: 0
C13: 10 | D13: Divisória acústica com paredes de gesso acartonado, drywall, em estrutura metálica e revestida internamente com fibra de lã de vidro para isolamento acústico. Espessura total da parede 90mm. Remover a anterior e instalar a nova. Incluir todos os acessórios necessários a sua instalação e pintura. Marca de referência: Placocenter. Instalada. | E13: m² | F13: Placo | G13: 339030.24 | H13: 91.55 | J13: =I13-(SUM(L13:W13)) -> 0 | K13: =IF(J13<0,"ATENÇÃO","OK") -> OK | L13: 0 | M13: 0 | O13: 0 | P13: 0 | Q13: 0 | R13: 0 | S13: 0 | T13: 0 | U13: 0 | V13: 0 | W13: 0
