Workbook
Name diasuteis: #REF!
Name diasuteis: #REF!
Name Ferias: #REF!
Name Ferias: #REF!
Name RD: OFFSET(#REF!,(MATCH(SMALL(#REF!,ROW()-10),#REF!,0)-1),0)
Name RD: OFFSET(#REF!,(MATCH(SMALL(#REF!,ROW()-10),#REF!,0)-1),0)

Sheet CEAD
A1: PROCESSO: 0756/2015/UDESC | D1: OBJETO: CONTRATAÇÃO DE EMPRESAS PARA PRESTAÇÃO DE SERVIÇOS DE ENCADERNAÇÃO, RESTAURAÇÃO E DIGITALIZAÇÃO DE ACERVOS DAS BIBLIOTECAS DA UDESC | H1: VIGÊNCIA DA ATA: 20/07/2015 até 19/07/2016 | K1: AF/OS nº xxxx/2015 Qtde. DT | L1: AF/OS nº xxxx/2015 Qtde. DT | M1: AF/OS nº xxxx/2015 Qtde. DT | N1: AF/OS nº xxxx/2015 Qtde. DT | O1: AF/OS nº xxxx/2015 Qtde. DT | P1: AF/OS nº xxxx/2015 Qtde. DT | Q1: AF/OS nº xxxx/2015 Qtde. DT | R1: AF/OS nº xxxx/2015 Qtde. DT | S1: AF/OS nº xxxx/2015 Qtde. DT | T1: AF/OS nº xxxx/2015 Qtde. DT | U1: AF/OS nº xxxx/2015 Qtde. DT | V1: AF/OS nº xxxx/2015 Qtde. DT
A2: CENTRO PARTICIPANTE: CEAD
A3: FORNECEDOR | B3: LOTE | C3: ITEM | D3: PRODUTO - CARACTERÍSTICAS MÍNIMAS | E3: UNIDADE | F3: DETALHAMENTO | G3: Preço UNITÁRIO (R$) | H3: Qtde Registrada | I3: Saldo / Automático | J3: ALERTA | K3: ...../...../...... | L3: ...../...../...... | M3: ...../...../...... | N3: ...../...../...... | O3: ...../...../...... | P3: ...../...../...... | Q3: ...../...../...... | R3: ...../...../...... | S3: ...../...../...... | T3: ...../...../...... | U3: ...../...../...... | V3: ...../...../......
A4: IDEAL ENCADERNAÇÕES LTDA ME | B4: 1 | C4: 1 | D4: Recuperação de capa dura com: costura simples, colagem, cantoneiras e lombadas e colocação de guardas novas | E4: Pequeno* | F4: 33.90.39 | G4: 15 | H4: 15 | I4: =H4-(SUM(K4:V4)) -> 15 | J4: =IF(I4<0,"ATENÇÃO","OK") -> OK | K4: 0 | L4: 0 | M4: 0 | N4: 0 | O4: 0 | P4: 0 | Q4: 0 | R4: 0 | S4: 0 | T4: 0 | U4: 0 | V4: 0
C5: 2 | E5: Médio* | F5: 33.90.39 | G5: 20 | H5: 15 | I5: =H5-(SUM(K5:V5)) -> 15 | J5: =IF(I5<0,"ATENÇÃO","OK") -> OK | K5: 0 | L5: 0 | M5: 0 | N5: 0 | O5: 0 | P5: 0 | Q5: 0 | R5: 0 | S5: 0 | T5: 0 | U5: 0 | V5: 0
C6: 3 | E6: Grande* | F6: 33.90.39 | G6: 20 | H6: 10 | I6: =H6-(SUM(K6:V6)) -> 10 | J6: =IF(I6<0,"ATENÇÃO","OK") -> OK | K6: 0 | L6: 0 | M6: 0 | N6: 0 | O6: 0 | P6: 0 | Q6: 0 | R6: 0 | S6: 0 | T6: 0 | U6: 0 | V6: 0
C7: 4 | D7: Colocação e recuperação de capa brochura com costura, colagens e guardas | E7: Pequeno* | F7: 33.90.39 | G7: 8 | H7: 45 | I7: =H7-(SUM(K7:V7)) -> 45 | J7: =IF(I7<0,"ATENÇÃO","OK") -> OK | K7: 0 | L7: 0 | M7: 0 | N7: 0 | O7: 0 | P7: 0 | Q7: 0 | R7: 0 | S7: 0 | T7: 0 | U7: 0 | V7: 0
C8: 5 | E8: Médio* | F8: 33.90.39 | G8: 8 | H8: 45 | I8: =H8-(SUM(K8:V8)) -> 45 | J8: =IF(I8<0,"ATENÇÃO","OK") -> OK | K8: 0 | L8: 0 | M8: 0 | N8: 0 | O8: 0 | P8: 0 | Q8: 0 | R8: 0 | S8: 0 | T8: 0 | U8: 0 | V8: 0
C9: 6 | E9: Grande* | F9: 33.90.39 | G9: 8 | H9: 45 | I9: =H9-(SUM(K9:V9)) -> 45 | J9: =IF(I9<0,"ATENÇÃO","OK") -> OK | K9: 0 | L9: 0 | M9: 0 | N9: 0 | O9: 0 | P9: 0 | Q9: 0 | R9: 0 | S9: 0 | T9: 0 | U9: 0 | V9: 0
C10: 7 | D10: Confecção e colocação de capa dura completa com costura interna, colagem e guardas | E10: Pequeno* | F10: 33.90.39 | G10: 27 | H10: 15 | I10: =H10-(SUM(K10:V10)) -> 15 | J10: =IF(I10<0,"ATENÇÃO","OK") -> OK | K10: 0 | L10: 0 | M10: 0 | N10: 0 | O10: 0 | P10: 0 | Q10: 0 | R10: 0 | S10: 0 | T10: 0 | U10: 0 | V10: 0
C11: 8 | E11: Médio* | F11: 33.90.39 | G11: 28 | H11: 15 | I11: =H11-(SUM(K11:V11)) -> 15 | J11: =IF(I11<0,"ATENÇÃO","OK") -> OK | K11: 0 | L11: 0 | M11: 0 | N11: 0 | O11: 0 | P11: 0 | Q11: 0 | R11: 0 | S11: 0 | T11: 0 | U11: 0 | V11: 0
C12: 9 | E12: Grande* | F12: 33.90.39 | G12: 28 | H12: 10 | I12: =H12-(SUM(K12:V12)) -> 10 | J12: =IF(I12<0,"ATENÇÃO","OK") -> OK | K12: 0 | L12: 0 | M12: 0 | N12: 0 | O12: 0 | P12: 0 | Q12: 0 | R12: 0 | S12: 0 | T12: 0 | U12: 0 | V12: 0
C13: 10 | D13: Higienização c/lixas, guilhotinagem, borracha de maciez, etc | E13: Unidade | F13: 33.90.39 | G13: 7.54 | H13: 15 | I13: =H13-(SUM(K13:V13)) -> 15 | J13: =IF(I13<0,"ATENÇÃO","OK") -> OK | K13: 0 | L13: 0 | M13: 0 | N13: 0 | O13: 0 | P13: 0 | Q13: 0 | R13: 0 | S13: 0 | T13: 0 | U13: 0 | V13: 0
C14: 11 | D14: Enxerto de folhas xerocadas | E14: por folha | F14: 33.90.39 | G14: 1 | H14: 30 | I14: =H14-(SUM(K14:V14)) -> 30 | J14: =IF(I14<0,"ATENÇÃO","OK") -> OK | K14: 0 | L14: 0 | M14: 0 | N14: 0 | O14: 0 | P14: 0 | Q14: 0 | R14: 0 | S14: 0 | T14: 0 | U14: 0 | V14: 0
C15: 12 | D15: Restauração a úmido c/papel especial | E15: por folha | F15: 33.90.39 | G15: 1 | H15: 15 | I15: =H15-(SUM(K15:V15)) -> 15 | J15: =IF(I15<0,"ATENÇÃO","OK") -> OK | K15: 0 | L15: 0 | M15: 0 | N15: 0 | O15: 0 | P15: 0 | Q15: 0 | R15: 0 | S15: 0 | T15: 0 | U15: 0 | V15: 0
C16: 13 | D16: Aplicação de carcelas | E16: por folha | F16: 33.90.39 | G16: 0.5 | H16: 40 | I16: =H16-(SUM(K16:V16)) -> 40 | J16: =IF(I16<0,"ATENÇÃO","OK") -> OK | K16: 0 | L16: 0 | M16: 0 | N16: 0 | O16: 0 | P16: 0 | Q16: 0 | R16: 0 | S16: 0 | T16: 0 | U16: 0 | V16: 0
C17: 14 | D17: Remoção de fita adesiva | E17: metro linear | F17: 33.90.39 | G17: 1 | H17: 25 | I17: =H17-(SUM(K17:V17)) -> 25 | J17: =IF(I17<0,"ATENÇÃO","OK") -> OK | K17: 0 | L17: 0 | M17: 0 | N17: 0 | O17: 0 | P17: 0 | Q17: 0 | R17: 0 | S17: 0 | T17: 0 | U17: 0 | V17: 0
A18: IDEAL ENCADERNAÇÕES LTDA ME | B18: 2 | C18: 15 | D18: Digitalização de monografias - Fornecimento de cópia das obras em formato digital (PDF A – OCR) -Três cópias em DVD | E18: Folha 30X20 | F18: 33.90.39 | G18: 0.17 | I18: =H18-(SUM(K18:V18)) -> 0 | J18: =IF(I18<0,"ATENÇÃO","OK") -> OK | K18: 0 | L18: 0 | M18: 0 | N18: 0 | O18: 0 | P18: 0 | Q18: 0 | R18: 0 | S18: 0 | T18: 0 | U18: 0 | V18: 0
D20: *Prazos de Entrega e Pagamento conforme edital
D21: *Obras: Pequena até A4 (210 x 297 mm), Média até A3 (297 x 420 mm ), Grande acima de A3 (297 x 420 mm)

Sheet CEART
A1: PROCESSO: 0756/2015/UDESC | D1: OBJETO: CONTRATAÇÃO DE EMPRESAS PARA PRESTAÇÃO DE SERVIÇOS DE ENCADERNAÇÃO, RESTAURAÇÃO E DIGITALIZAÇÃO DE ACERVOS DAS BIBLIOTECAS DA UDESC | H1: VIGÊNCIA DA ATA: 20/07/2015 até 19/07/2016 | K1: AF 1589/2015 | L1: AF 1590/2015 | M1: AF/OS nº xxxx/2015 Qtde. DT | N1: AF/OS nº xxxx/2015 Qtde. DT | O1: AF/OS nº xxxx/2015 Qtde. DT | P1: AF/OS nº xxxx/2015 Qtde. DT | Q1: AF/OS nº xxxx/2015 Qtde. DT | R1: AF/OS nº xxxx/2015 Qtde. DT | S1: AF/OS nº xxxx/2015 Qtde. DT | T1: AF/OS nº xxxx/2015 Qtde. DT | U1: AF/OS nº xxxx/2015 Qtde. DT | V1: AF/OS nº xxxx/2015 Qtde. DT
A2: CENTRO PARTICIPANTE: CEART
A3: FORNECEDOR | B3: LOTE | C3: ITEM | D3: PRODUTO - CARACTERÍSTICAS MÍNIMAS | E3: UNIDADE | F3: DETALHAMENTO | G3: Preço UNITÁRIO (R$) | H3: Qtde Registrada | I3: Saldo / Automático | J3: ALERTA | K3: 42250 | L3: 42250 | M3: ...../...../...... | N3: ...../...../...... | O3: ...../...../...... | P3: ...../...../...... | Q3: ...../...../...... | R3: ...../...../...... | S3: ...../...../...... | T3: ...../...../...... | U3: ...../...../...... | V3: ...../...../......
A4: IDEAL ENCADERNAÇÕES LTDA ME | B4: 1 | C4: 1 | D4: Recuperação de capa dura com: costura simples, colagem, cantoneiras e lombadas e colocação de guardas novas | E4: Pequeno* | F4: 33.90.39 | G4: 15 | H4: 24 | I4: =H4-(SUM(K4:V4)) -> 24 | J4: =IF(I4<0,"ATENÇÃO","OK") -> OK | K4: 0 | L4: 0 | M4: 0 | N4: 0 | O4: 0 | P4: 0 | Q4: 0 | R4: 0 | S4: 0 | T4: 0 | U4: 0 | V4: 0
C5: 2 | E5: Médio* | F5: 33.90.39 | G5: 20 | H5: 28 | I5: =H5-(SUM(K5:V5)) -> 16 | J5: =IF(I5<0,"ATENÇÃO","OK") -> OK | K5: 12 | L5: 0 | M5: 0 | N5: 0 | O5: 0 | P5: 0 | Q5: 0 | R5: 0 | S5: 0 | T5: 0 | U5: 0 | V5: 0
C6: 3 | E6: Grande* | F6: 33.90.39 | G6: 20 | H6: 15 | I6: =H6-(SUM(K6:V6)) -> 11 | J6: =IF(I6<0,"ATENÇÃO","OK") -> OK | K6: 4 | L6: 0 | M6: 0 | N6: 0 | O6: 0 | P6: 0 | Q6: 0 | R6: 0 | S6: 0 | T6: 0 | U6: 0 | V6: 0
C7: 4 | D7: Colocação e recuperação de capa brochura com costura, colagens e guardas | E7: Pequeno* | F7: 33.90.39 | G7: 8 | H7: 18 | I7: =H7-(SUM(K7:V7)) -> 18 | J7: =IF(I7<0,"ATENÇÃO","OK") -> OK | K7: 0 | L7: 0 | M7: 0 | N7: 0 | O7: 0 | P7: 0 | Q7: 0 | R7: 0 | S7: 0 | T7: 0 | U7: 0 | V7: 0
C8: 5 | E8: Médio* | F8: 33.90.39 | G8: 8 | H8: 47 | I8: =H8-(SUM(K8:V8)) -> 32 | J8: =IF(I8<0,"ATENÇÃO","OK") -> OK | K8: 15 | L8: 0 | M8: 0 | N8: 0 | O8: 0 | P8: 0 | Q8: 0 | R8: 0 | S8: 0 | T8: 0 | U8: 0 | V8: 0
C9: 6 | E9: Grande* | F9: 33.90.39 | G9: 8 | H9: 14 | I9: =H9-(SUM(K9:V9)) -> 13 | J9: =IF(I9<0,"ATENÇÃO","OK") -> OK | K9: 1 | L9: 0 | M9: 0 | N9: 0 | O9: 0 | P9: 0 | Q9: 0 | R9: 0 | S9: 0 | T9: 0 | U9: 0 | V9: 0
C10: 7 | D10: Confecção e colocação de capa dura completa com costura interna, colagem e guardas | E10: Pequeno* | F10: 33.90.39 | G10: 27 | H10: 18 | I10: =H10-(SUM(K10:V10)) -> 10 | J10: =IF(I10<0,"ATENÇÃO","OK") -> OK | K10: 8 | L10: 0 | M10: 0 | N10: 0 | O10: 0 | P10: 0 | Q10: 0 | R10: 0 | S10: 0 | T10: 0 | U10: 0 | V10: 0
C11: 8 | E11: Médio* | F11: 33.90.39 | G11: 28 | H11: 20 | I11: =H11-(SUM(K11:V11)) -> 3 | J11: =IF(I11<0,"ATENÇÃO","OK") -> OK | K11: 17 | L11: 0 | M11: 0 | N11: 0 | O11: 0 | P11: 0 | Q11: 0 | R11: 0 | S11: 0 | T11: 0 | U11: 0 | V11: 0
C12: 9 | E12: Grande* | F12: 33.90.39 | G12: 28 | H12: 9 | I12: =H12-(SUM(K12:V12)) -> 2 | J12: =IF(I12<0,"ATENÇÃO","OK") -> OK | K12: 7 | L12: 0 | M12: 0 | N12: 0 | O12: 0 | P12: 0 | Q12: 0 | R12: 0 | S12: 0 | T12: 0 | U12: 0 | V12: 0
C13: 10 | D13: Higienização c/lixas, guilhotinagem, borracha de maciez, etc | E13: Unidade | F13: 33.90.39 | G13: 7.54 | H13: 15 | I13: =H13-(SUM(K13:V13)) -> 5 | J13: =IF(I13<0,"ATENÇÃO","OK") -> OK | K13: 10 | L13: 0 | M13: 0 | N13: 0 | O13: 0 | P13: 0 | Q13: 0 | R13: 0 | S13: 0 | T13: 0 | U13: 0 | V13: 0
C14: 11 | D14: Enxerto de folhas xerocadas | E14: por folha | F14: 33.90.39 | G14: 1 | H14: 68 | I14: =H14-(SUM(K14:V14)) -> 62 | J14: =IF(I14<0,"ATENÇÃO","OK") -> OK | K14: 6 | L14: 0 | M14: 0 | N14: 0 | O14: 0 | P14: 0 | Q14: 0 | R14: 0 | S14: 0 | T14: 0 | U14: 0 | V14: 0
C15: 12 | D15: Restauração a úmido c/papel especial | E15: por folha | F15: 33.90.39 | G15: 1 | H15: 28 | I15: =H15-(SUM(K15:V15)) -> 14 | J15: =IF(I15<0,"ATENÇÃO","OK") -> OK | K15: 14 | L15: 0 | M15: 0 | N15: 0 | O15: 0 | P15: 0 | Q15: 0 | R15: 0 | S15: 0 | T15: 0 | U15: 0 | V15: 0
C16: 13 | D16: Aplicação de carcelas | E16: por folha | F16: 33.90.39 | G16: 0.5 | H16: 81 | I16: =H16-(SUM(K16:V16)) -> 71 | J16: =IF(I16<0,"ATENÇÃO","OK") -> OK | K16: 10 | L16: 0 | M16: 0 | N16: 0 | O16: 0 | P16: 0 | Q16: 0 | R16: 0 | S16: 0 | T16: 0 | U16: 0 | V16: 0
C17: 14 | D17: Remoção de fita adesiva | E17: metro linear | F17: 33.90.39 | G17: 1 | H17: 60 | I17: =H17-(SUM(K17:V17)) -> 60 | J17: =IF(I17<0,"ATENÇÃO","OK") -> OK | K17: 0 | L17: 0 | M17: 0 | N17: 0 | O17: 0 | P17: 0 | Q17: 0 | R17: 0 | S17: 0 | T17: 0 | U17: 0 | V17: 0
A18: IDEAL ENCADERNAÇÕES LTDA ME | B18: 2 | C18: 15 | D18: Digitalização de monografias - Fornecimento de cópia das obras em formato digital (PDF A – OCR) -Três cópias em DVD | E18: Folha 30X20 | F18: 33.90.39 | G18: 0.17 | H18: 7000 | I18: =H18-(SUM(K18:V18)) -> 0 | J18: =IF(I18<0,"ATENÇÃO","OK") -> OK | L18: 7000 | M18: 0 | N18: 0 | O18: 0 | P18: 0 | Q18: 0 | R18: 0 | S18: 0 | T18: 0 | U18: 0 | V18: 0
K19: =SUMPRODUCT($G$4:$G$18,K4:K18) -> 1436.4 | L19: =SUMPRODUCT($G$4:$G$18,L4:L18) -> 1190
D20: *Prazos de Entrega e Pagamento conforme edital
D21: *Obras: Pequena até A4 (210 x 297 mm), Média até A3 (297 x 420 mm ), Grande acima de A3 (297 x 420 mm)

Sheet CEFID
A1: PROCESSO: 0756/2015/UDESC | D1: OBJETO: CONTRATAÇÃO DE EMPRESAS PARA PRESTAÇÃO DE SERVIÇOS DE ENCADERNAÇÃO, RESTAURAÇÃO E DIGITALIZAÇÃO DE ACERVOS DAS BIBLIOTECAS DA UDESC | H1: VIGÊNCIA DA ATA: 20/07/2015 até 19/07/2016 | K1: AF/OS nº 1570/2015 Qtde. DT | L1: AF/OS nº xxxx/2015 Qtde. DT | M1: AF/OS nº xxxx/2015 Qtde. DT | N1: AF/OS nº xxxx/2015 Qtde. DT | O1: AF/OS nº xxxx/2015 Qtde. DT | P1: AF/OS nº xxxx/2015 Qtde. DT | Q1: AF/OS nº xxxx/2015 Qtde. DT | R1: AF/OS nº xxxx/2015 Qtde. DT | S1: AF/OS nº xxxx/2015 Qtde. DT | T1: AF/OS nº xxxx/2015 Qtde. DT | U1: AF/OS nº xxxx/2015 Qtde. DT | V1: AF/OS nº xxxx/2015 Qtde. DT
A2: CENTRO PARTICIPANTE: CEFID
A3: FORNECEDOR | B3: LOTE | C3: ITEM | D3: PRODUTO - CARACTERÍSTICAS MÍNIMAS | E3: UNIDADE | F3: DETALHAMENTO | G3: Preço UNITÁRIO (R$) | H3: Qtde Registrada | I3: Saldo / Automático | J3: ALERTA | K3: 42248 | L3: ...../...../...... | M3: ...../...../...... | N3: ...../...../...... | O3: ...../...../...... | P3: ...../...../...... | Q3: ...../...../...... | R3: ...../...../...... | S3: ...../...../...... | T3: ...../...../...... | U3: ...../...../...... | V3: ...../...../......
A4: IDEAL ENCADERNAÇÕES LTDA ME | B4: 1 | C4: 1 | D4: Recuperação de capa dura com: costura simples, colagem, cantoneiras e lombadas e colocação de guardas novas | E4: Pequeno* | F4: 33.90.39 | G4: 15 | H4: 30 | I4: =H4-(SUM(K4:V4)) -> 20 | J4: =IF(I4<0,"ATENÇÃO","OK") -> OK | K4: 10 | L4: 0 | M4: 0 | N4: 0 | O4: 0 | P4: 0 | Q4: 0 | R4: 0 | S4: 0 | T4: 0 | U4: 0 | V4: 0
C5: 2 | E5: Médio* | F5: 33.90.39 | G5: 20 | H5: 50 | I5: =H5-(SUM(K5:V5)) -> 35 | J5: =IF(I5<0,"ATENÇÃO","OK") -> OK | K5: 15 | L5: 0 | M5: 0 | N5: 0 | O5: 0 | P5: 0 | Q5: 0 | R5: 0 | S5: 0 | T5: 0 | U5: 0 | V5: 0
C6: 3 | E6: Grande* | F6: 33.90.39 | G6: 20 | H6: 50 | I6: =H6-(SUM(K6:V6)) -> 35 | J6: =IF(I6<0,"ATENÇÃO","OK") -> OK | K6: 15 | L6: 0 | M6: 0 | N6: 0 | O6: 0 | P6: 0 | Q6: 0 | R6: 0 | S6: 0 | T6: 0 | U6: 0 | V6: 0
C7: 4 | D7: Colocação e recuperação de capa brochura com costura, colagens e guardas | E7: Pequeno* | F7: 33.90.39 | G7: 8 | H7: 30 | I7: =H7-(SUM(K7:V7)) -> 20 | J7: =IF(I7<0,"ATENÇÃO","OK") -> OK | K7: 10 | L7: 0 | M7: 0 | N7: 0 | O7: 0 | P7: 0 | Q7: 0 | R7: 0 | S7: 0 | T7: 0 | U7: 0 | V7: 0
C8: 5 | E8: Médio* | F8: 33.90.39 | G8: 8 | H8: 30 | I8: =H8-(SUM(K8:V8)) -> 12 | J8: =IF(I8<0,"ATENÇÃO","OK") -> OK | K8: 18 | L8: 0 | M8: 0 | N8: 0 | O8: 0 | P8: 0 | Q8: 0 | R8: 0 | S8: 0 | T8: 0 | U8: 0 | V8: 0
C9: 6 | E9: Grande* | F9: 33.90.39 | G9: 8 | H9: 20 | I9: =H9-(SUM(K9:V9)) -> 15 | J9: =IF(I9<0,"ATENÇÃO","OK") -> OK | K9: 5 | L9: 0 | M9: 0 | N9: 0 | O9: 0 | P9: 0 | Q9: 0 | R9: 0 | S9: 0 | T9: 0 | U9: 0 | V9: 0
C10: 7 | D10: Confecção e colocação de capa dura completa com costura interna, colagem e guardas | E10: Pequeno* | F10: 33.90.39 | G10: 27 | H10: 30 | I10: =H10-(SUM(K10:V10)) -> 20 | J10: =IF(I10<0,"ATENÇÃO","OK") -> OK | K10: 10 | L10: 0 | M10: 0 | N10: 0 | O10: 0 | P10: 0 | Q10: 0 | R10: 0 | S10: 0 | T10: 0 | U10: 0 | V10: 0
C11: 8 | E11: Médio* | F11: 33.90.39 | G11: 28 | H11: 25 | I11: =H11-(SUM(K11:V11)) -> 15 | J11: =IF(I11<0,"ATENÇÃO","OK") -> OK | K11: 10 | L11: 0 | M11: 0 | N11: 0 | O11: 0 | P11: 0 | Q11: 0 | R11: 0 | S11: 0 | T11: 0 | U11: 0 | V11: 0
C12: 9 | E12: Grande* | F12: 33.90.39 | G12: 28 | H12: 50 | I12: =H12-(SUM(K12:V12)) -> 35 | J12: =IF(I12<0,"ATENÇÃO","OK") -> OK | K12: 15 | L12: 0 | M12: 0 | N12: 0 | O12: 0 | P12: 0 | Q12: 0 | R12: 0 | S12: 0 | T12: 0 | U12: 0 | V12: 0
C13: 10 | D13: Higienização c/lixas, guilhotinagem, borracha de maciez, etc | E13: Unidade | F13: 33.90.39 | G13: 7.54 | H13: 25 | I13: =H13-(SUM(K13:V13)) -> 13 | J13: =IF(I13<0,"ATENÇÃO","OK") -> OK | K13: 12 | L13: 0 | M13: 0 | N13: 0 | O13: 0 | P13: 0 | Q13: 0 | R13: 0 | S13: 0 | T13: 0 | U13: 0 | V13: 0
C14: 11 | D14: Enxerto de folhas xerocadas | E14: por folha | F14: 33.90.39 | G14: 1 | H14: 60 | I14: =H14-(SUM(K14:V14)) -> 40 | J14: =IF(I14<0,"ATENÇÃO","OK") -> OK | K14: 20 | L14: 0 | M14: 0 | N14: 0 | O14: 0 | P14: 0 | Q14: 0 | R14: 0 | S14: 0 | T14: 0 | U14: 0 | V14: 0
C15: 12 | D15: Restauração a úmido c/papel especial | E15: por folha | F15: 33.90.39 | G15: 1 | H15: 50 | I15: =H15-(SUM(K15:V15)) -> 35 | J15: =IF(I15<0,"ATENÇÃO","OK") -> OK | K15: 15 | L15: 0 | M15: 0 | N15: 0 | O15: 0 | P15: 0 | Q15: 0 | R15: 0 | S15: 0 | T15: 0 | U15: 0 | V15: 0
C16: 13 | D16: Aplicação de carcelas | E16: por folha | F16: 33.90.39 | G16: 0.5 | H16: 100 | I16: =H16-(SUM(K16:V16)) -> 60 | J16: =IF(I16<0,"ATENÇÃO","OK") -> OK | K16: 40 | L16: 0 | M16: 0 | N16: 0 | O16: 0 | P16: 0 | Q16: 0 | R16: 0 | S16: 0 | T16: 0 | U16: 0 | V16: 0
C17: 14 | D17: Remoção de fita adesiva | E17: metro linear | F17: 33.90.39 | G17: 1 | H17: 50 | I17: =H17-(SUM(K17:V17)) -> 35 | J17: =IF(I17<0,"ATENÇÃO","OK") -> OK | K17: 15 | L17: 0 | M17: 0 | N17: 0 | O17: 0 | P17: 0 | Q17: 0 | R17: 0 | S17: 0 | T17: 0 | U17: 0 | V17: 0
A18: IDEAL ENCADERNAÇÕES LTDA ME | B18: 2 | C18: 15 | D18: Digitalização de monografias - Fornecimento de cópia das obras em formato digital (PDF A – OCR) -Três cópias em DVD | E18: Folha 30X20 | F18: 33.90.39 | G18: 0.17 | H18: 0 | I18: =H18-(SUM(K18:V18)) -> 0 | J18: =IF(I18<0,"ATENÇÃO","OK") -> OK | K18: 0 | L18: 0 | M18: 0 | N18: 0 | O18: 0 | P18: 0 | Q18: 0 | R18: 0 | S18: 0 | T18: 0 | U18: 0 | V18: 0
D20: *Prazos de Entrega e Pagamento conforme edital
D21: *Obras: Pequena até A4 (210 x 297 mm), Média até A3 (297 x 420 mm ), Grande acima de A3 (297 x 420 mm)

Sheet CAV
A1: PROCESSO: 0756/2015/UDESC | D1: OBJETO: CONTRATAÇÃO DE EMPRESAS PARA PRESTAÇÃO DE SERVIÇOS DE ENCADERNAÇÃO, RESTAURAÇÃO E DIGITALIZAÇÃO DE ACERVOS DAS BIBLIOTECAS DA UDESC | H1: VIGÊNCIA DA ATA: 20/07/2015 até 19/07/2016 | K1: AF/OS nº 1358/2015 Qtde. DT | L1: AF/OS nº 1578/2015 Qtde. DT | M1: AF/OS nº xxxx/2015 Qtde. DT | N1: AF/OS nº xxxx/2015 Qtde. DT | O1: AF/OS nº xxxx/2015 Qtde. DT | P1: AF/OS nº xxxx/2015 Qtde. DT | Q1: AF/OS nº xxxx/2015 Qtde. DT | R1: AF/OS nº xxxx/2015 Qtde. DT | S1: AF/OS nº xxxx/2015 Qtde. DT | T1: AF/OS nº xxxx/2015 Qtde. DT | U1: AF/OS nº xxxx/2015 Qtde. DT | V1: AF/OS nº xxxx/2015 Qtde. DT
A2: CENTRO PARTICIPANTE: CAV
A3: FORNECEDOR | B3: LOTE | C3: ITEM | D3: PRODUTO - CARACTERÍSTICAS MÍNIMAS | E3: UNIDADE | F3: DETALHAMENTO | G3: Preço UNITÁRIO (R$) | H3: Qtde Registrada | I3: Saldo / Automático | J3: ALERTA | K3: 42222 | L3: 42249 | M3: ...../...../...... | N3: ...../...../...... | O3: ...../...../...... | P3: ...../...../...... | Q3: ...../...../...... | R3: ...../...../...... | S3: ...../...../...... | T3: ...../...../...... | U3: ...../...../...... | V3: ...../...../......
A4: IDEAL ENCADERNAÇÕES LTDA ME | B4: 1 | C4: 1 | D4: Recuperação de capa dura com: costura simples, colagem, cantoneiras e lombadas e colocação de guardas novas | E4: Pequeno* | F4: 33.90.39 | G4: 15 | H4: 30 | I4: =H4-(SUM(K4:V4)) -> 25 | J4: =IF(I4<0,"ATENÇÃO","OK") -> OK | K4: 0 | L4: 0 | M4: 5 | N4: 0 | O4: 0 | P4: 0 | Q4: 0 | R4: 0 | S4: 0 | T4: 0 | U4: 0 | V4: 0
C5: 2 | E5: Médio* | F5: 33.90.39 | G5: 20 | H5: 40 | I5: =H5-(SUM(K5:V5)) -> 0 | J5: =IF(I5<0,"ATENÇÃO","OK") -> OK | K5: 26 | L5: 6 | M5: 8 | N5: 0 | O5: 0 | P5: 0 | Q5: 0 | R5: 0 | S5: 0 | T5: 0 | U5: 0 | V5: 0
C6: 3 | E6: Grande* | F6: 33.90.39 | G6: 20 | H6: 70 | I6: =H6-(SUM(K6:V6)) -> 1 | J6: =IF(I6<0,"ATENÇÃO","OK") -> OK | K6: 37 | L6: 17 | M6: 15 | N6: 0 | O6: 0 | P6: 0 | Q6: 0 | R6: 0 | S6: 0 | T6: 0 | U6: 0 | V6: 0
C7: 4 | D7: Colocação e recuperação de capa brochura com costura, colagens e guardas | E7: Pequeno* | F7: 33.90.39 | G7: 8 | H7: 16 | I7: =H7-(SUM(K7:V7)) -> 6 | J7: =IF(I7<0,"ATENÇÃO","OK") -> OK | K7: 10 | L7: 0 | N7: 0 | O7: 0 | P7: 0 | Q7: 0 | R7: 0 | S7: 0 | T7: 0 | U7: 0 | V7: 0
C8: 5 | E8: Médio* | F8: 33.90.39 | G8: 8 | H8: 20 | I8: =H8-(SUM(K8:V8)) -> 2 | J8: =IF(I8<0,"ATENÇÃO","OK") -> OK | K8: 18 | L8: 0 | M8: 0 | N8: 0 | O8: 0 | P8: 0 | Q8: 0 | R8: 0 | S8: 0 | T8: 0 | U8: 0 | V8: 0
C9: 6 | E9: Grande* | F9: 33.90.39 | G9: 8 | H9: 40 | I9: =H9-(SUM(K9:V9)) -> 12 | J9: =IF(I9<0,"ATENÇÃO","OK") -> OK | K9: 0 | L9: 23 | M9: 5 | N9: 0 | O9: 0 | P9: 0 | Q9: 0 | R9: 0 | S9: 0 | T9: 0 | U9: 0 | V9: 0
C10: 7 | D10: Confecção e colocação de capa dura completa com costura interna, colagem e guardas | E10: Pequeno* | F10: 33.90.39 | G10: 27 | H10: 5 | I10: =H10-(SUM(K10:V10)) -> 0 | J10: =IF(I10<0,"ATENÇÃO","OK") -> OK | K10: 0 | L10: 0 | M10: 5 | N10: 0 | O10: 0 | P10: 0 | Q10: 0 | R10: 0 | S10: 0 | T10: 0 | U10: 0 | V10: 0
C11: 8 | E11: Médio* | F11: 33.90.39 | G11: 28 | H11: 15 | I11: =H11-(SUM(K11:V11)) -> 0 | J11: =IF(I11<0,"ATENÇÃO","OK") -> OK | K11: 8 | L11: 4 | M11: 3 | N11: 0 | O11: 0 | P11: 0 | Q11: 0 | R11: 0 | S11: 0 | T11: 0 | U11: 0 | V11: 0
C12: 9 | E12: Grande* | F12: 33.90.39 | G12: 28 | H12: 40 | I12: =H12-(SUM(K12:V12)) -> 0 | J12: =IF(I12<0,"ATENÇÃO","OK") -> OK | K12: 19 | L12: 11 | M12: 10 | N12: 0 | O12: 0 | P12: 0 | Q12: 0 | R12: 0 | S12: 0 | T12: 0 | U12: 0 | V12: 0
C13: 10 | D13: Higienização c/lixas, guilhotinagem, borracha de maciez, etc | E13: Unidade | F13: 33.90.39 | G13: 7.54 | H13: 40 | I13: =H13-(SUM(K13:V13)) -> 2 | J13: =IF(I13<0,"ATENÇÃO","OK") -> OK | K13: 25 | L13: 9 | M13: 4 | N13: 0 | O13: 0 | P13: 0 | Q13: 0 | R13: 0 | S13: 0 | T13: 0 | U13: 0 | V13: 0
C14: 11 | D14: Enxerto de folhas xerocadas | E14: por folha | F14: 33.90.39 | G14: 1 | H14: 40 | I14: =H14-(SUM(K14:V14)) -> 9 | J14: =IF(I14<0,"ATENÇÃO","OK") -> OK | K14: 5 | L14: 16 | M14: 10 | N14: 0 | O14: 0 | P14: 0 | Q14: 0 | R14: 0 | S14: 0 | T14: 0 | U14: 0 | V14: 0
C15: 12 | D15: Restauração a úmido c/papel especial | E15: por folha | F15: 33.90.39 | G15: 1 | H15: 20 | I15: =H15-(SUM(K15:V15)) -> 0 | J15: =IF(I15<0,"ATENÇÃO","OK") -> OK | K15: 0 | L15: 12 | M15: 8 | N15: 0 | O15: 0 | P15: 0 | Q15: 0 | R15: 0 | S15: 0 | T15: 0 | U15: 0 | V15: 0
C16: 13 | D16: Aplicação de carcelas | E16: por folha | F16: 33.90.39 | G16: 0.5 | H16: 40 | I16: =H16-(SUM(K16:V16)) -> 30 | J16: =IF(I16<0,"ATENÇÃO","OK") -> OK | K16: 0 | L16: 0 | M16: 10 | N16: 0 | O16: 0 | P16: 0 | Q16: 0 | R16: 0 | S16: 0 | T16: 0 | U16: 0 | V16: 0
C17: 14 | D17: Remoção de fita adesiva | E17: metro linear | F17: 33.90.39 | G17: 1 | H17: 80 | I17: =H17-(SUM(K17:V17)) -> 69 | J17: =IF(I17<0,"ATENÇÃO","OK") -> OK | K17: 3 | L17: 8 | M17: 0 | N17: 0 | O17: 0 | P17: 0 | Q17: 0 | R17: 0 | S17: 0 | T17: 0 | U17: 0 | V17: 0
A18: IDEAL ENCADERNAÇÕES LTDA ME | B18: 2 | C18: 15 | D18: Digitalização de monografias - Fornecimento de cópia das obras em formato digital (PDF A – OCR) -Três cópias em DVD | E18: Folha 30X20 | F18: 33.90.39 | G18: 0.17 | H18: 0 | I18: =H18-(SUM(K18:V18)) -> 0 | J18: =IF(I18<0,"ATENÇÃO","OK") -> OK | K18: 0 | L18: 0 | M18: 0 | N18: 0 | O18: 0 | P18: 0 | Q18: 0 | R18: 0 | S18: 0 | T18: 0 | U18: 0 | V18: 0
D20: *Prazos de Entrega e Pagamento conforme edital
D21: *Obras: Pequena até A4 (210 x 297 mm), Média até A3 (297 x 420 mm ), Grande acima de A3 (297 x 420 mm)

Sheet FAED
A1: PROCESSO: 0756/2015/UDESC | D1: OBJETO: CONTRATAÇÃO DE EMPRESAS PARA PRESTAÇÃO DE SERVIÇOS DE ENCADERNAÇÃO, RESTAURAÇÃO E DIGITALIZAÇÃO DE ACERVOS DAS BIBLIOTECAS DA UDESC | H1: VIGÊNCIA DA ATA: 20/07/2015 até 19/07/2016 | K1: AF/OS nº 1640/2015 Qtde. DT | L1: AF/OS nº xxxx/2015 Qtde. DT | M1: AF/OS nº xxxx/2015 Qtde. DT | N1: AF/OS nº xxxx/2015 Qtde. DT | O1: AF/OS nº xxxx/2015 Qtde. DT | P1: AF/OS nº xxxx/2015 Qtde. DT | Q1: AF/OS nº xxxx/2015 Qtde. DT | R1: AF/OS nº xxxx/2015 Qtde. DT | S1: AF/OS nº xxxx/2015 Qtde. DT | T1: AF/OS nº xxxx/2015 Qtde. DT | U1: AF/OS nº xxxx/2015 Qtde. DT | V1: AF/OS nº xxxx/2015 Qtde. DT
A2: CENTRO PARTICIPANTE: FAED
A3: FORNECEDOR | B3: LOTE | C3: ITEM | D3: PRODUTO - CARACTERÍSTICAS MÍNIMAS | E3: UNIDADE | F3: DETALHAMENTO | G3: Preço UNITÁRIO (R$) | H3: Qtde Registrada | I3: Saldo / Automático | J3: ALERTA | K3: 42258 | L3: ...../...../...... | M3: ...../...../...... | N3: ...../...../...... | O3: ...../...../...... | P3: ...../...../...... | Q3: ...../...../...... | R3: ...../...../...... | S3: ...../...../...... | T3: ...../...../...... | U3: ...../...../...... | V3: ...../...../......
A4: IDEAL ENCADERNAÇÕES LTDA ME | B4: 1 | C4: 1 | D4: Recuperação de capa dura com: costura simples, colagem, cantoneiras e lombadas e colocação de guardas novas | E4: Pequeno* | F4: 33.90.39 | G4: 15 | H4: 30 | I4: =H4-(SUM(K4:V4)) -> 30 | J4: =IF(I4<0,"ATENÇÃO","OK") -> OK | K4: 0 | L4: 0 | M4: 0 | N4: 0 | O4: 0 | P4: 0 | Q4: 0 | R4: 0 | S4: 0 | T4: 0 | U4: 0 | V4: 0
C5: 2 | E5: Médio* | F5: 33.90.39 | G5: 20 | H5: 34 | I5: =H5-(SUM(K5:V5)) -> 30 | J5: =IF(I5<0,"ATENÇÃO","OK") -> OK | K5: 4 | L5: 0 | M5: 0 | N5: 0 | O5: 0 | P5: 0 | Q5: 0 | R5: 0 | S5: 0 | T5: 0 | U5: 0 | V5: 0
C6: 3 | E6: Grande* | F6: 33.90.39 | G6: 20 | H6: 22 | I6: =H6-(SUM(K6:V6)) -> 18 | J6: =IF(I6<0,"ATENÇÃO","OK") -> OK | K6: 4 | L6: 0 | M6: 0 | N6: 0 | O6: 0 | P6: 0 | Q6: 0 | R6: 0 | S6: 0 | T6: 0 | U6: 0 | V6: 0
C7: 4 | D7: Colocação e recuperação de capa brochura com costura, colagens e guardas | E7: Pequeno* | F7: 33.90.39 | G7: 8 | H7: 23 | I7: =H7-(SUM(K7:V7)) -> 22 | J7: =IF(I7<0,"ATENÇÃO","OK") -> OK | K7: 1 | L7: 0 | M7: 0 | N7: 0 | O7: 0 | P7: 0 | Q7: 0 | R7: 0 | S7: 0 | T7: 0 | U7: 0 | V7: 0
C8: 5 | E8: Médio* | F8: 33.90.39 | G8: 8 | H8: 55 | I8: =H8-(SUM(K8:V8)) -> 54 | J8: =IF(I8<0,"ATENÇÃO","OK") -> OK | K8: 1 | L8: 0 | M8: 0 | N8: 0 | O8: 0 | P8: 0 | Q8: 0 | R8: 0 | S8: 0 | T8: 0 | U8: 0 | V8: 0
C9: 6 | E9: Grande* | F9: 33.90.39 | G9: 8 | H9: 20 | I9: =H9-(SUM(K9:V9)) -> 20 | J9: =IF(I9<0,"ATENÇÃO","OK") -> OK | K9: 0 | L9: 0 | M9: 0 | N9: 0 | O9: 0 | P9: 0 | Q9: 0 | R9: 0 | S9: 0 | T9: 0 | U9: 0 | V9: 0
C10: 7 | D10: Confecção e colocação de capa dura completa com costura interna, colagem e guardas | E10: Pequeno* | F10: 33.90.39 | G10: 27 | H10: 24 | I10: =H10-(SUM(K10:V10)) -> 19 | J10: =IF(I10<0,"ATENÇÃO","OK") -> OK | K10: 5 | L10: 0 | M10: 0 | N10: 0 | O10: 0 | P10: 0 | Q10: 0 | R10: 0 | S10: 0 | T10: 0 | U10: 0 | V10: 0
C11: 8 | E11: Médio* | F11: 33.90.39 | G11: 28 | H11: 26 | I11: =H11-(SUM(K11:V11)) -> 19 | J11: =IF(I11<0,"ATENÇÃO","OK") -> OK | K11: 7 | L11: 0 | M11: 0 | N11: 0 | O11: 0 | P11: 0 | Q11: 0 | R11: 0 | S11: 0 | T11: 0 | U11: 0 | V11: 0
C12: 9 | E12: Grande* | F12: 33.90.39 | G12: 28 | H12: 14 | I12: =H12-(SUM(K12:V12)) -> 11 | J12: =IF(I12<0,"ATENÇÃO","OK") -> OK | K12: 3 | L12: 0 | M12: 0 | N12: 0 | O12: 0 | P12: 0 | Q12: 0 | R12: 0 | S12: 0 | T12: 0 | U12: 0 | V12: 0
C13: 10 | D13: Higienização c/lixas, guilhotinagem, borracha de maciez, etc | E13: Unidade | F13: 33.90.39 | G13: 7.54 | H13: 21 | I13: =H13-(SUM(K13:V13)) -> 16 | J13: =IF(I13<0,"ATENÇÃO","OK") -> OK | K13: 5 | L13: 0 | M13: 0 | N13: 0 | O13: 0 | P13: 0 | Q13: 0 | R13: 0 | S13: 0 | T13: 0 | U13: 0 | V13: 0
C14: 11 | D14: Enxerto de folhas xerocadas | E14: por folha | F14: 33.90.39 | G14: 1 | H14: 72 | I14: =H14-(SUM(K14:V14)) -> 69 | J14: =IF(I14<0,"ATENÇÃO","OK") -> OK | K14: 3 | L14: 0 | M14: 0 | N14: 0 | O14: 0 | P14: 0 | Q14: 0 | R14: 0 | S14: 0 | T14: 0 | U14: 0 | V14: 0
C15: 12 | D15: Restauração a úmido c/papel especial | E15: por folha | F15: 33.90.39 | G15: 1 | H15: 28 | I15: =H15-(SUM(K15:V15)) -> 28 | J15: =IF(I15<0,"ATENÇÃO","OK") -> OK | K15: 0 | L15: 0 | M15: 0 | N15: 0 | O15: 0 | P15: 0 | Q15: 0 | R15: 0 | S15: 0 | T15: 0 | U15: 0 | V15: 0
C16: 13 | D16: Aplicação de carcelas | E16: por folha | F16: 33.90.39 | G16: 0.5 | H16: 86 | I16: =H16-(SUM(K16:V16)) -> 86 | J16: =IF(I16<0,"ATENÇÃO","OK") -> OK | K16: 0 | L16: 0 | M16: 0 | N16: 0 | O16: 0 | P16: 0 | Q16: 0 | R16: 0 | S16: 0 | T16: 0 | U16: 0 | V16: 0
C17: 14 | D17: Remoção de fita adesiva | E17: metro linear | F17: 33.90.39 | G17: 1 | H17: 65 | I17: =H17-(SUM(K17:V17)) -> 62 | J17: =IF(I17<0,"ATENÇÃO","OK") -> OK | K17: 3 | L17: 0 | M17: 0 | N17: 0 | O17: 0 | P17: 0 | Q17: 0 | R17: 0 | S17: 0 | T17: 0 | U17: 0 | V17: 0
A18: IDEAL ENCADERNAÇÕES LTDA ME | B18: 2 | C18: 15 | D18: Digitalização de monografias - Fornecimento de cópia das obras em formato digital (PDF A – OCR) -Três cópias em DVD | E18: Folha 30X20 | F18: 33.90.39 | G18: 0.17 | I18: =H18-(SUM(K18:V18)) -> 0 | J18: =IF(I18<0,"ATENÇÃO","OK") -> OK | K18: 0 | L18: 0 | M18: 0 | N18: 0 | O18: 0 | P18: 0 | Q18: 0 | R18: 0 | S18: 0 | T18: 0 | U18: 0 | V18: 0
D20: *Prazos de Entrega e Pagamento conforme edital
D21: *Obras: Pequena até A4 (210 x 297 mm), Média até A3 (297 x 420 mm ), Grande acima de A3 (297 x 420 mm)

Sheet ESAG
A1: PROCESSO: 0756/2015/UDESC | D1: OBJETO: CONTRATAÇÃO DE EMPRESAS PARA PRESTAÇÃO DE SERVIÇOS DE ENCADERNAÇÃO, RESTAURAÇÃO E DIGITALIZAÇÃO DE ACERVOS DAS BIBLIOTECAS DA UDESC | H1: VIGÊNCIA DA ATA: 20/07/2015 até 19/07/2016 | K1: AF/OS nº 1743/2015 Qtde. DT | L1: AF/OS nº xxxx/2015 Qtde. DT | M1: AF/OS nº xxxx/2015 Qtde. DT | N1: AF/OS nº xxxx/2015 Qtde. DT | O1: AF/OS nº xxxx/2015 Qtde. DT | P1: AF/OS nº xxxx/2015 Qtde. DT | Q1: AF/OS nº xxxx/2015 Qtde. DT | R1: AF/OS nº xxxx/2015 Qtde. DT | S1: AF/OS nº xxxx/2015 Qtde. DT | T1: AF/OS nº xxxx/2015 Qtde. DT | U1: AF/OS nº xxxx/2015 Qtde. DT | V1: AF/OS nº xxxx/2015 Qtde. DT
A2: CENTRO PARTICIPANTE: ESAG
A3: FORNECEDOR | B3: LOTE | C3: ITEM | D3: PRODUTO - CARACTERÍSTICAS MÍNIMAS | E3: UNIDADE | F3: DETALHAMENTO | G3: Preço UNITÁRIO (R$) | H3: Qtde Registrada | I3: Saldo / Automático | J3: ALERTA | K3: ...../...../...... | L3: ...../...../...... | M3: ...../...../...... | N3: ...../...../...... | O3: ...../...../...... | P3: ...../...../...... | Q3: ...../...../...... | R3: ...../...../...... | S3: ...../...../...... | T3: ...../...../...... | U3: ...../...../...... | V3: ...../...../......
A4: IDEAL ENCADERNAÇÕES LTDA ME | B4: 1 | C4: 1 | D4: Recuperação de capa dura com: costura simples, colagem, cantoneiras e lombadas e colocação de guardas novas | E4: Pequeno* | F4: 33.90.39 | G4: 15 | H4: 30 | I4: =H4-(SUM(K4:V4)) -> 30 | J4: =IF(I4<0,"ATENÇÃO","OK") -> OK | L4: 0 | M4: 0 | N4: 0 | O4: 0 | P4: 0 | Q4: 0 | R4: 0 | S4: 0 | T4: 0 | U4: 0 | V4: 0
C5: 2 | E5: Médio* | F5: 33.90.39 | G5: 20 | H5: 35 | I5: =H5-(SUM(K5:V5)) -> 18 | J5: =IF(I5<0,"ATENÇÃO","OK") -> OK | K5: 17 | L5: 0 | M5: 0 | N5: 0 | O5: 0 | P5: 0 | Q5: 0 | R5: 0 | S5: 0 | T5: 0 | U5: 0 | V5: 0
C6: 3 | E6: Grande* | F6: 33.90.39 | G6: 20 | H6: 25 | I6: =H6-(SUM(K6:V6)) -> 25 | J6: =IF(I6<0,"ATENÇÃO","OK") -> OK | L6: 0 | M6: 0 | N6: 0 | O6: 0 | P6: 0 | Q6: 0 | R6: 0 | S6: 0 | T6: 0 | U6: 0 | V6: 0
C7: 4 | D7: Colocação e recuperação de capa brochura com costura, colagens e guardas | E7: Pequeno* | F7: 33.90.39 | G7: 8 | H7: 25 | I7: =H7-(SUM(K7:V7)) -> 25 | J7: =IF(I7<0,"ATENÇÃO","OK") -> OK | L7: 0 | M7: 0 | N7: 0 | O7: 0 | P7: 0 | Q7: 0 | R7: 0 | S7: 0 | T7: 0 | U7: 0 | V7: 0
C8: 5 | E8: Médio* | F8: 33.90.39 | G8: 8 | H8: 55 | I8: =H8-(SUM(K8:V8)) -> 30 | J8: =IF(I8<0,"ATENÇÃO","OK") -> OK | K8: 25 | L8: 0 | M8: 0 | N8: 0 | O8: 0 | P8: 0 | Q8: 0 | R8: 0 | S8: 0 | T8: 0 | U8: 0 | V8: 0
C9: 6 | E9: Grande* | F9: 33.90.39 | G9: 8 | H9: 25 | I9: =H9-(SUM(K9:V9)) -> 24 | J9: =IF(I9<0,"ATENÇÃO","OK") -> OK | K9: 1 | L9: 0 | M9: 0 | N9: 0 | O9: 0 | P9: 0 | Q9: 0 | R9: 0 | S9: 0 | T9: 0 | U9: 0 | V9: 0
C10: 7 | D10: Confecção e colocação de capa dura completa com costura interna, colagem e guardas | E10: Pequeno* | F10: 33.90.39 | G10: 27 | H10: 28 | I10: =H10-(SUM(K10:V10)) -> 15 | J10: =IF(I10<0,"ATENÇÃO","OK") -> OK | K10: 13 | L10: 0 | M10: 0 | N10: 0 | O10: 0 | P10: 0 | Q10: 0 | R10: 0 | S10: 0 | T10: 0 | U10: 0 | V10: 0
C11: 8 | E11: Médio* | F11: 33.90.39 | G11: 28 | H11: 25 | I11: =H11-(SUM(K11:V11)) -> 13 | J11: =IF(I11<0,"ATENÇÃO","OK") -> OK | K11: 12 | L11: 0 | M11: 0 | N11: 0 | O11: 0 | P11: 0 | Q11: 0 | R11: 0 | S11: 0 | T11: 0 | U11: 0 | V11: 0
C12: 9 | E12: Grande* | F12: 33.90.39 | G12: 28 | H12: 10 | I12: =H12-(SUM(K12:V12)) -> 3 | J12: =IF(I12<0,"ATENÇÃO","OK") -> OK | K12: 7 | L12: 0 | M12: 0 | N12: 0 | O12: 0 | P12: 0 | Q12: 0 | R12: 0 | S12: 0 | T12: 0 | U12: 0 | V12: 0
C13: 10 | D13: Higienização c/lixas, guilhotinagem, borracha de maciez, etc | E13: Unidade | F13: 33.90.39 | G13: 7.54 | H13: 21 | I13: =H13-(SUM(K13:V13)) -> 1 | J13: =IF(I13<0,"ATENÇÃO","OK") -> OK | K13: 20 | L13: 0 | M13: 0 | N13: 0 | O13: 0 | P13: 0 | Q13: 0 | R13: 0 | S13: 0 | T13: 0 | U13: 0 | V13: 0
C14: 11 | D14: Enxerto de folhas xerocadas | E14: por folha | F14: 33.90.39 | G14: 1 | H14: 72 | I14: =H14-(SUM(K14:V14)) -> 67 | J14: =IF(I14<0,"ATENÇÃO","OK") -> OK | K14: 5 | L14: 0 | M14: 0 | N14: 0 | O14: 0 | P14: 0 | Q14: 0 | R14: 0 | S14: 0 | T14: 0 | U14: 0 | V14: 0
C15: 12 | D15: Restauração a úmido c/papel especial | E15: por folha | F15: 33.90.39 | G15: 1 | H15: 30 | I15: =H15-(SUM(K15:V15)) -> 23 | J15: =IF(I15<0,"ATENÇÃO","OK") -> OK | K15: 7 | L15: 0 | M15: 0 | N15: 0 | O15: 0 | P15: 0 | Q15: 0 | R15: 0 | S15: 0 | T15: 0 | U15: 0 | V15: 0
C16: 13 | D16: Aplicação de carcelas | E16: por folha | F16: 33.90.39 | G16: 0.5 | H16: 89 | I16: =H16-(SUM(K16:V16)) -> 89 | J16: =IF(I16<0,"ATENÇÃO","OK") -> OK | L16: 0 | M16: 0 | N16: 0 | O16: 0 | P16: 0 | Q16: 0 | R16: 0 | S16: 0 | T16: 0 | U16: 0 | V16: 0
C17: 14 | D17: Remoção de fita adesiva | E17: metro linear | F17: 33.90.39 | G17: 1 | H17: 70 | I17: =H17-(SUM(K17:V17)) -> 67 | J17: =IF(I17<0,"ATENÇÃO","OK") -> OK | K17: 3 | L17: 0 | M17: 0 | N17: 0 | O17: 0 | P17: 0 | Q17: 0 | R17: 0 | S17: 0 | T17: 0 | U17: 0 | V17: 0
A18: IDEAL ENCADERNAÇÕES LTDA ME | B18: 2 | C18: 15 | D18: Digitalização de monografias - Fornecimento de cópia das obras em formato digital (PDF A – OCR) -Três cópias em DVD | E18: Folha 30X20 | F18: 33.90.39 | G18: 0.17 | I18: =H18-(SUM(K18:V18)) -> 0 | J18: =IF(I18<0,"ATENÇÃO","OK") -> OK | K18: 0 | L18: 0 | M18: 0 | N18: 0 | O18: 0 | P18: 0 | Q18: 0 | R18: 0 | S18: 0 | T18: 0 | U18: 0 | V18: 0
D20: *Prazos de Entrega e Pagamento conforme edital
D21: *Obras: Pequena até A4 (210 x 297 mm), Média até A3 (297 x 420 mm ), Grande acima de A3 (297 x 420 mm)

Sheet CEO
A1: PROCESSO: 0756/2015/UDESC | D1: OBJETO: CONTRATAÇÃO DE EMPRESAS PARA PRESTAÇÃO DE SERVIÇOS DE ENCADERNAÇÃO, RESTAURAÇÃO E DIGITALIZAÇÃO DE ACERVOS DAS BIBLIOTECAS DA UDESC | H1: VIGÊNCIA DA ATA: 20/07/2015 até 19/07/2016 | K1: AF/OS nº 1972/2015 Qtde. DT | L1: AF/OS nº xxxx/2015 Qtde. DT | M1: AF/OS nº xxxx/2015 Qtde. DT | N1: AF/OS nº xxxx/2015 Qtde. DT | O1: AF/OS nº xxxx/2015 Qtde. DT | P1: AF/OS nº xxxx/2015 Qtde. DT | Q1: AF/OS nº xxxx/2015 Qtde. DT | R1: AF/OS nº xxxx/2015 Qtde. DT | S1: AF/OS nº xxxx/2015 Qtde. DT | T1: AF/OS nº xxxx/2015 Qtde. DT | U1: AF/OS nº xxxx/2015 Qtde. DT | V1: AF/OS nº xxxx/2015 Qtde. DT
A2: CENTRO PARTICIPANTE: CEO
A3: FORNECEDOR | B3: LOTE | C3: ITEM | D3: PRODUTO - CARACTERÍSTICAS MÍNIMAS | E3: UNIDADE | F3: DETALHAMENTO | G3: Preço UNITÁRIO (R$) | H3: Qtde Registrada | I3: Saldo / Automático | J3: ALERTA | K3: 42303 | L3: ...../...../...... | M3: ...../...../...... | N3: ...../...../...... | O3: ...../...../...... | P3: ...../...../...... | Q3: ...../...../...... | R3: ...../...../...... | S3: ...../...../...... | T3: ...../...../...... | U3: ...../...../...... | V3: ...../...../......
A4: IDEAL ENCADERNAÇÕES LTDA ME | B4: 1 | C4: 1 | D4: Recuperação de capa dura com: costura simples, colagem, cantoneiras e lombadas e colocação de guardas novas | E4: Pequeno* | F4: 33.90.39 | G4: 15 | H4: 25 | I4: =H4-(SUM(K4:V4)) -> 17 | J4: =IF(I4<0,"ATENÇÃO","OK") -> OK | K4: 8 | L4: 0 | M4: 0 | N4: 0 | O4: 0 | P4: 0 | Q4: 0 | R4: 0 | S4: 0 | T4: 0 | U4: 0 | V4: 0
C5: 2 | E5: Médio* | F5: 33.90.39 | G5: 20 | H5: 50 | I5: =H5-(SUM(K5:V5)) -> 30 | J5: =IF(I5<0,"ATENÇÃO","OK") -> OK | K5: 20 | L5: 0 | M5: 0 | N5: 0 | O5: 0 | P5: 0 | Q5: 0 | R5: 0 | S5: 0 | T5: 0 | U5: 0 | V5: 0
C6: 3 | E6: Grande* | F6: 33.90.39 | G6: 20 | H6: 125 | I6: =H6-(SUM(K6:V6)) -> 125 | J6: =IF(I6<0,"ATENÇÃO","OK") -> OK | K6: 0 | L6: 0 | M6: 0 | N6: 0 | O6: 0 | P6: 0 | Q6: 0 | R6: 0 | S6: 0 | T6: 0 | U6: 0 | V6: 0
C7: 4 | D7: Colocação e recuperação de capa brochura com costura, colagens e guardas | E7: Pequeno* | F7: 33.90.39 | G7: 8 | H7: 0 | I7: =H7-(SUM(K7:V7)) -> 0 | J7: =IF(I7<0,"ATENÇÃO","OK") -> OK | K7: 0 | L7: 0 | M7: 0 | N7: 0 | O7: 0 | P7: 0 | Q7: 0 | R7: 0 | S7: 0 | T7: 0 | U7: 0 | V7: 0
C8: 5 | E8: Médio* | F8: 33.90.39 | G8: 8 | H8: 0 | I8: =H8-(SUM(K8:V8)) -> 0 | J8: =IF(I8<0,"ATENÇÃO","OK") -> OK | K8: 0 | L8: 0 | M8: 0 | N8: 0 | O8: 0 | P8: 0 | Q8: 0 | R8: 0 | S8: 0 | T8: 0 | U8: 0 | V8: 0
C9: 6 | E9: Grande* | F9: 33.90.39 | G9: 8 | H9: 0 | I9: =H9-(SUM(K9:V9)) -> 0 | J9: =IF(I9<0,"ATENÇÃO","OK") -> OK | K9: 0 | L9: 0 | M9: 0 | N9: 0 | O9: 0 | P9: 0 | Q9: 0 | R9: 0 | S9: 0 | T9: 0 | U9: 0 | V9: 0
C10: 7 | D10: Confecção e colocação de capa dura completa com costura interna, colagem e guardas | E10: Pequeno* | F10: 33.90.39 | G10: 27 | H10: 0 | I10: =H10-(SUM(K10:V10)) -> 0 | J10: =IF(I10<0,"ATENÇÃO","OK") -> OK | K10: 0 | L10: 0 | M10: 0 | N10: 0 | O10: 0 | P10: 0 | Q10: 0 | R10: 0 | S10: 0 | T10: 0 | U10: 0 | V10: 0
C11: 8 | E11: Médio* | F11: 33.90.39 | G11: 28 | H11: 0 | I11: =H11-(SUM(K11:V11)) -> 0 | J11: =IF(I11<0,"ATENÇÃO","OK") -> OK | K11: 0 | L11: 0 | M11: 0 | N11: 0 | O11: 0 | P11: 0 | Q11: 0 | R11: 0 | S11: 0 | T11: 0 | U11: 0 | V11: 0
C12: 9 | E12: Grande* | F12: 33.90.39 | G12: 28 | H12: 0 | I12: =H12-(SUM(K12:V12)) -> 0 | J12: =IF(I12<0,"ATENÇÃO","OK") -> OK | K12: 0 | L12: 0 | M12: 0 | N12: 0 | O12: 0 | P12: 0 | Q12: 0 | R12: 0 | S12: 0 | T12: 0 | U12: 0 | V12: 0
C13: 10 | D13: Higienização c/lixas, guilhotinagem, borracha de maciez, etc | E13: Unidade | F13: 33.90.39 | G13: 7.54 | H13: 0 | I13: =H13-(SUM(K13:V13)) -> 0 | J13: =IF(I13<0,"ATENÇÃO","OK") -> OK | K13: 0 | L13: 0 | M13: 0 | N13: 0 | O13: 0 | P13: 0 | Q13: 0 | R13: 0 | S13: 0 | T13: 0 | U13: 0 | V13: 0
C14: 11 | D14: Enxerto de folhas xerocadas | E14: por folha | F14: 33.90.39 | G14: 1 | H14: 0 | I14: =H14-(SUM(K14:V14)) -> 0 | J14: =IF(I14<0,"ATENÇÃO","OK") -> OK | K14: 0 | L14: 0 | M14: 0 | N14: 0 | O14: 0 | P14: 0 | Q14: 0 | R14: 0 | S14: 0 | T14: 0 | U14: 0 | V14: 0
C15: 12 | D15: Restauração a úmido c/papel especial | E15: por folha | F15: 33.90.39 | G15: 1 | H15: 0 | I15: =H15-(SUM(K15:V15)) -> 0 | J15: =IF(I15<0,"ATENÇÃO","OK") -> OK | K15: 0 | L15: 0 | M15: 0 | N15: 0 | O15: 0 | P15: 0 | Q15: 0 | R15: 0 | S15: 0 | T15: 0 | U15: 0 | V15: 0
C16: 13 | D16: Aplicação de carcelas | E16: por folha | F16: 33.90.39 | G16: 0.5 | H16: 0 | I16: =H16-(SUM(K16:V16)) -> 0 | J16: =IF(I16<0,"ATENÇÃO","OK") -> OK | K16: 0 | L16: 0 | M16: 0 | N16: 0 | O16: 0 | P16: 0 | Q16: 0 | R16: 0 | S16: 0 | T16: 0 | U16: 0 | V16: 0
C17: 14 | D17: Remoção de fita adesiva | E17: metro linear | F17: 33.90.39 | G17: 1 | H17: 0 | I17: =H17-(SUM(K17:V17)) -> 0 | J17: =IF(I17<0,"ATENÇÃO","OK") -> OK | K17: 0 | L17: 0 | M17: 0 | N17: 0 | O17: 0 | P17: 0 | Q17: 0 | R17: 0 | S17: 0 | T17: 0 | U17: 0 | V17: 0
A18: IDEAL ENCADERNAÇÕES LTDA ME | B18: 2 | C18: 15 | D18: Digitalização de monografias - Fornecimento de cópia das obras em formato digital (PDF A – OCR) -Três cópias em DVD | E18: Folha 30X20 | F18: 33.90.39 | G18: 0.17 | I18: =H18-(SUM(K18:V18)) -> 0 | J18: =IF(I18<0,"ATENÇÃO","OK") -> OK | K18: 0 | L18: 0 | M18: 0 | N18: 0 | O18: 0 | P18: 0 | Q18: 0 | R18: 0 | S18: 0 | T18: 0 | U18: 0 | V18: 0
D20: *Prazos de Entrega e Pagamento conforme edital
D21: *Obras: Pequena até A4 (210 x 297 mm), Média até A3 (297 x 420 mm ), Grande acima de A3 (297 x 420 mm)

Sheet CCT
A1: PROCESSO: 0756/2015/UDESC | D1: OBJETO: CONTRATAÇÃO DE EMPRESAS PARA PRESTAÇÃO DE SERVIÇOS DE ENCADERNAÇÃO, RESTAURAÇÃO E DIGITALIZAÇÃO DE ACERVOS DAS BIBLIOTECAS DA UDESC | H1: VIGÊNCIA DA ATA: 20/07/2015 até 19/07/2016 | K1: AF/OS nº 02/2015 Qtde. DT | L1: AF/OS nº xxxx/2015 Qtde. DT | M1: AF/OS nº xxxx/2015 Qtde. DT | N1: AF/OS nº xxxx/2015 Qtde. DT | O1: AF/OS nº xxxx/2015 Qtde. DT | P1: AF/OS nº xxxx/2015 Qtde. DT | Q1: AF/OS nº xxxx/2015 Qtde. DT | R1: AF/OS nº xxxx/2015 Qtde. DT | S1: AF/OS nº xxxx/2015 Qtde. DT | T1: AF/OS nº xxxx/2015 Qtde. DT | U1: AF/OS nº xxxx/2015 Qtde. DT | V1: AF/OS nº xxxx/2015 Qtde. DT
A2: CENTRO PARTICIPANTE: CCT
A3: FORNECEDOR | B3: LOTE | C3: ITEM | D3: PRODUTO - CARACTERÍSTICAS MÍNIMAS | E3: UNIDADE | F3: DETALHAMENTO | G3: Preço UNITÁRIO (R$) | H3: Qtde Registrada | I3: Saldo / Automático | J3: ALERTA | K3: 42279 | L3: ...../...../...... | M3: ...../...../...... | N3: ...../...../...... | O3: ...../...../...... | P3: ...../...../...... | Q3: ...../...../...... | R3: ...../...../...... | S3: ...../...../...... | T3: ...../...../...... | U3: ...../...../...... | V3: ...../...../......
A4: IDEAL ENCADERNAÇÕES LTDA ME | B4: 1 | C4: 1 | D4: Recuperação de capa dura com: costura simples, colagem, cantoneiras e lombadas e colocação de guardas novas | E4: Pequeno* | F4: 33.90.39 | G4: 15 | H4: 40 | I4: =H4-(SUM(K4:V4)) -> 25 | J4: =IF(I4<0,"ATENÇÃO","OK") -> OK | K4: 15 | L4: 0 | M4: 0 | N4: 0 | O4: 0 | P4: 0 | Q4: 0 | R4: 0 | S4: 0 | T4: 0 | U4: 0 | V4: 0
C5: 2 | E5: Médio* | F5: 33.90.39 | G5: 20 | H5: 25 | I5: =H5-(SUM(K5:V5)) -> 13 | J5: =IF(I5<0,"ATENÇÃO","OK") -> OK | K5: 12 | L5: 0 | M5: 0 | N5: 0 | O5: 0 | P5: 0 | Q5: 0 | R5: 0 | S5: 0 | T5: 0 | U5: 0 | V5: 0
C6: 3 | E6: Grande* | F6: 33.90.39 | G6: 20 | H6: 20 | I6: =H6-(SUM(K6:V6)) -> 8 | J6: =IF(I6<0,"ATENÇÃO","OK") -> OK | K6: 12 | L6: 0 | M6: 0 | N6: 0 | O6: 0 | P6: 0 | Q6: 0 | R6: 0 | S6: 0 | T6: 0 | U6: 0 | V6: 0
C7: 4 | D7: Colocação e recuperação de capa brochura com costura, colagens e guardas | E7: Pequeno* | F7: 33.90.39 | G7: 8 | H7: 75 | I7: =H7-(SUM(K7:V7)) -> 58 | J7: =IF(I7<0,"ATENÇÃO","OK") -> OK | K7: 17 | L7: 0 | M7: 0 | N7: 0 | O7: 0 | P7: 0 | Q7: 0 | R7: 0 | S7: 0 | T7: 0 | U7: 0 | V7: 0
C8: 5 | E8: Médio* | F8: 33.90.39 | G8: 8 | H8: 35 | I8: =H8-(SUM(K8:V8)) -> 20 | J8: =IF(I8<0,"ATENÇÃO","OK") -> OK | K8: 15 | L8: 0 | M8: 0 | N8: 0 | O8: 0 | P8: 0 | Q8: 0 | R8: 0 | S8: 0 | T8: 0 | U8: 0 | V8: 0
C9: 6 | E9: Grande* | F9: 33.90.39 | G9: 8 | H9: 25 | I9: =H9-(SUM(K9:V9)) -> 15 | J9: =IF(I9<0,"ATENÇÃO","OK") -> OK | K9: 10 | L9: 0 | M9: 0 | N9: 0 | O9: 0 | P9: 0 | Q9: 0 | R9: 0 | S9: 0 | T9: 0 | U9: 0 | V9: 0
C10: 7 | D10: Confecção e colocação de capa dura completa com costura interna, colagem e guardas | E10: Pequeno* | F10: 33.90.39 | G10: 27 | H10: 25 | I10: =H10-(SUM(K10:V10)) -> 15 | J10: =IF(I10<0,"ATENÇÃO","OK") -> OK | K10: 10 | L10: 0 | M10: 0 | N10: 0 | O10: 0 | P10: 0 | Q10: 0 | R10: 0 | S10: 0 | T10: 0 | U10: 0 | V10: 0
C11: 8 | E11: Médio* | F11: 33.90.39 | G11: 28 | H11: 25 | I11: =H11-(SUM(K11:V11)) -> 15 | J11: =IF(I11<0,"ATENÇÃO","OK") -> OK | K11: 10 | L11: 0 | M11: 0 | N11: 0 | O11: 0 | P11: 0 | Q11: 0 | R11: 0 | S11: 0 | T11: 0 | U11: 0 | V11: 0
C12: 9 | E12: Grande* | F12: 33.90.39 | G12: 28 | H12: 20 | I12: =H12-(SUM(K12:V12)) -> 12 | J12: =IF(I12<0,"ATENÇÃO","OK") -> OK | K12: 8 | L12: 0 | M12: 0 | N12: 0 | O12: 0 | P12: 0 | Q12: 0 | R12: 0 | S12: 0 | T12: 0 | U12: 0 | V12: 0
C13: 10 | D13: Higienização c/lixas, guilhotinagem, borracha de maciez, etc | E13: Unidade | F13: 33.90.39 | G13: 7.54 | H13: 35 | I13: =H13-(SUM(K13:V13)) -> 25 | J13: =IF(I13<0,"ATENÇÃO","OK") -> OK | K13: 10 | L13: 0 | M13: 0 | N13: 0 | O13: 0 | P13: 0 | Q13: 0 | R13: 0 | S13: 0 | T13: 0 | U13: 0 | V13: 0
C14: 11 | D14: Enxerto de folhas xerocadas | E14: por folha | F14: 33.90.39 | G14: 1 | H14: 150 | I14: =H14-(SUM(K14:V14)) -> 90 | J14: =IF(I14<0,"ATENÇÃO","OK") -> OK | K14: 60 | L14: 0 | M14: 0 | N14: 0 | O14: 0 | P14: 0 | Q14: 0 | R14: 0 | S14: 0 | T14: 0 | U14: 0 | V14: 0
C15: 12 | D15: Restauração a úmido c/papel especial | E15: por folha | F15: 33.90.39 | G15: 1 | H15: 80 | I15: =H15-(SUM(K15:V15)) -> 50 | J15: =IF(I15<0,"ATENÇÃO","OK") -> OK | K15: 30 | L15: 0 | M15: 0 | N15: 0 | O15: 0 | P15: 0 | Q15: 0 | R15: 0 | S15: 0 | T15: 0 | U15: 0 | V15: 0
C16: 13 | D16: Aplicação de carcelas | E16: por folha | F16: 33.90.39 | G16: 0.5 | H16: 115 | I16: =H16-(SUM(K16:V16)) -> 65 | J16: =IF(I16<0,"ATENÇÃO","OK") -> OK | K16: 50 | L16: 0 | M16: 0 | N16: 0 | O16: 0 | P16: 0 | Q16: 0 | R16: 0 | S16: 0 | T16: 0 | U16: 0 | V16: 0
C17: 14 | D17: Remoção de fita adesiva | E17: metro linear | F17: 33.90.39 | G17: 1 | H17: 90 | I17: =H17-(SUM(K17:V17)) -> 65 | J17: =IF(I17<0,"ATENÇÃO","OK") -> OK | K17: 25 | L17: 0 | M17: 0 | N17: 0 | O17: 0 | P17: 0 | Q17: 0 | R17: 0 | S17: 0 | T17: 0 | U17: 0 | V17: 0
A18: IDEAL ENCADERNAÇÕES LTDA ME | B18: 2 | C18: 15 | D18: Digitalização de monografias - Fornecimento de cópia das obras em formato digital (PDF A – OCR) -Três cópias em DVD | E18: Folha 30X20 | F18: 33.90.39 | G18: 0.17 | H18: 0 | I18: =H18-(SUM(K18:V18)) -> 0 | J18: =IF(I18<0,"ATENÇÃO","OK") -> OK | K18: 0 | L18: 0 | M18: 0 | N18: 0 | O18: 0 | P18: 0 | Q18: 0 | R18: 0 | S18: 0 | T18: 0 | U18: 0 | V18: 0
D20: *Prazos de Entrega e Pagamento conforme edital
D21: *Obras: Pequena até A4 (210 x 297 mm), Média até A3 (297 x 420 mm ), Grande acima de A3 (297 x 420 mm)

Sheet CERES
A1: PROCESSO: 0756/2015/UDESC | D1: OBJETO: CONTRATAÇÃO DE EMPRESAS PARA PRESTAÇÃO DE SERVIÇOS DE ENCADERNAÇÃO, RESTAURAÇÃO E DIGITALIZAÇÃO DE ACERVOS DAS BIBLIOTECAS DA UDESC | H1: VIGÊNCIA DA ATA: 20/07/2015 até 19/07/2016 | K1: AF/OS nº xxxx/2015 Qtde. DT | L1: AF/OS nº xxxx/2015 Qtde. DT | M1: AF/OS nº xxxx/2015 Qtde. DT | N1: AF/OS nº xxxx/2015 Qtde. DT | O1: AF/OS nº xxxx/2015 Qtde. DT | P1: AF/OS nº xxxx/2015 Qtde. DT | Q1: AF/OS nº xxxx/2015 Qtde. DT | R1: AF/OS nº xxxx/2015 Qtde. DT | S1: AF/OS nº xxxx/2015 Qtde. DT | T1: AF/OS nº xxxx/2015 Qtde. DT | U1: AF/OS nº xxxx/2015 Qtde. DT | V1: AF/OS nº xxxx/2015 Qtde. DT
A2: CENTRO PARTICIPANTE: CERES
A3: FORNECEDOR | B3: LOTE | C3: ITEM | D3: PRODUTO - CARACTERÍSTICAS MÍNIMAS | E3: UNIDADE | F3: DETALHAMENTO | G3: Preço UNITÁRIO (R$) | H3: Qtde Registrada | I3: Saldo / Automático | J3: ALERTA | K3: ...../...../...... | L3: ...../...../...... | M3: ...../...../...... | N3: ...../...../...... | O3: ...../...../...... | P3: ...../...../...... | Q3: ...../...../...... | R3: ...../...../...... | S3: ...../...../...... | T3: ...../...../...... | U3: ...../...../...... | V3: ...../...../......
A4: IDEAL ENCADERNAÇÕES LTDA ME | B4: 1 | C4: 1 | D4: Recuperação de capa dura com: costura simples, colagem, cantoneiras e lombadas e colocação de guardas novas | E4: Pequeno* | F4: 33.90.39 | G4: 15 | H4: 15 | I4: =H4-(SUM(K4:V4)) -> 15 | J4: =IF(I4<0,"ATENÇÃO","OK") -> OK | K4: 0 | L4: 0 | M4: 0 | N4: 0 | O4: 0 | P4: 0 | Q4: 0 | R4: 0 | S4: 0 | T4: 0 | U4: 0 | V4: 0
C5: 2 | E5: Médio* | F5: 33.90.39 | G5: 20 | H5: 10 | I5: =H5-(SUM(K5:V5)) -> 10 | J5: =IF(I5<0,"ATENÇÃO","OK") -> OK | K5: 0 | L5: 0 | M5: 0 | N5: 0 | O5: 0 | P5: 0 | Q5: 0 | R5: 0 | S5: 0 | T5: 0 | U5: 0 | V5: 0
C6: 3 | E6: Grande* | F6: 33.90.39 | G6: 20 | H6: 10 | I6: =H6-(SUM(K6:V6)) -> 10 | J6: =IF(I6<0,"ATENÇÃO","OK") -> OK | K6: 0 | L6: 0 | M6: 0 | N6: 0 | O6: 0 | P6: 0 | Q6: 0 | R6: 0 | S6: 0 | T6: 0 | U6: 0 | V6: 0
C7: 4 | D7: Colocação e recuperação de capa brochura com costura, colagens e guardas | E7: Pequeno* | F7: 33.90.39 | G7: 8 | H7: 15 | I7: =H7-(SUM(K7:V7)) -> 15 | J7: =IF(I7<0,"ATENÇÃO","OK") -> OK | K7: 0 | L7: 0 | M7: 0 | N7: 0 | O7: 0 | P7: 0 | Q7: 0 | R7: 0 | S7: 0 | T7: 0 | U7: 0 | V7: 0
C8: 5 | E8: Médio* | F8: 33.90.39 | G8: 8 | H8: 15 | I8: =H8-(SUM(K8:V8)) -> 15 | J8: =IF(I8<0,"ATENÇÃO","OK") -> OK | K8: 0 | L8: 0 | M8: 0 | N8: 0 | O8: 0 | P8: 0 | Q8: 0 | R8: 0 | S8: 0 | T8: 0 | U8: 0 | V8: 0
C9: 6 | E9: Grande* | F9: 33.90.39 | G9: 8 | H9: 3 | I9: =H9-(SUM(K9:V9)) -> 3 | J9: =IF(I9<0,"ATENÇÃO","OK") -> OK | K9: 0 | L9: 0 | M9: 0 | N9: 0 | O9: 0 | P9: 0 | Q9: 0 | R9: 0 | S9: 0 | T9: 0 | U9: 0 | V9: 0
C10: 7 | D10: Confecção e colocação de capa dura completa com costura interna, colagem e guardas | E10: Pequeno* | F10: 33.90.39 | G10: 27 | H10: 10 | I10: =H10-(SUM(K10:V10)) -> 10 | J10: =IF(I10<0,"ATENÇÃO","OK") -> OK | K10: 0 | L10: 0 | M10: 0 | N10: 0 | O10: 0 | P10: 0 | Q10: 0 | R10: 0 | S10: 0 | T10: 0 | U10: 0 | V10: 0
C11: 8 | E11: Médio* | F11: 33.90.39 | G11: 28 | H11: 10 | I11: =H11-(SUM(K11:V11)) -> 10 | J11: =IF(I11<0,"ATENÇÃO","OK") -> OK | K11: 0 | L11: 0 | M11: 0 | N11: 0 | O11: 0 | P11: 0 | Q11: 0 | R11: 0 | S11: 0 | T11: 0 | U11: 0 | V11: 0
C12: 9 | E12: Grande* | F12: 33.90.39 | G12: 28 | H12: 5 | I12: =H12-(SUM(K12:V12)) -> 5 | J12: =IF(I12<0,"ATENÇÃO","OK") -> OK | K12: 0 | L12: 0 | M12: 0 | N12: 0 | O12: 0 | P12: 0 | Q12: 0 | R12: 0 | S12: 0 | T12: 0 | U12: 0 | V12: 0
C13: 10 | D13: Higienização c/lixas, guilhotinagem, borracha de maciez, etc | E13: Unidade | F13: 33.90.39 | G13: 7.54 | H13: 0 | I13: =H13-(SUM(K13:V13)) -> 0 | J13: =IF(I13<0,"ATENÇÃO","OK") -> OK | K13: 0 | L13: 0 | M13: 0 | N13: 0 | O13: 0 | P13: 0 | Q13: 0 | R13: 0 | S13: 0 | T13: 0 | U13: 0 | V13: 0
C14: 11 | D14: Enxerto de folhas xerocadas | E14: por folha | F14: 33.90.39 | G14: 1 | H14: 0 | I14: =H14-(SUM(K14:V14)) -> 0 | J14: =IF(I14<0,"ATENÇÃO","OK") -> OK | K14: 0 | L14: 0 | M14: 0 | N14: 0 | O14: 0 | P14: 0 | Q14: 0 | R14: 0 | S14: 0 | T14: 0 | U14: 0 | V14: 0
C15: 12 | D15: Restauração a úmido c/papel especial | E15: por folha | F15: 33.90.39 | G15: 1 | H15: 0 | I15: =H15-(SUM(K15:V15)) -> 0 | J15: =IF(I15<0,"ATENÇÃO","OK") -> OK | K15: 0 | L15: 0 | M15: 0 | N15: 0 | O15: 0 | P15: 0 | Q15: 0 | R15: 0 | S15: 0 | T15: 0 | U15: 0 | V15: 0
C16: 13 | D16: Aplicação de carcelas | E16: por folha | F16: 33.90.39 | G16: 0.5 | H16: 0 | I16: =H16-(SUM(K16:V16)) -> 0 | J16: =IF(I16<0,"ATENÇÃO","OK") -> OK | K16: 0 | L16: 0 | M16: 0 | N16: 0 | O16: 0 | P16: 0 | Q16: 0 | R16: 0 | S16: 0 | T16: 0 | U16: 0 | V16: 0
C17: 14 | D17: Remoção de fita adesiva | E17: metro linear | F17: 33.90.39 | G17: 1 | H17: 5 | I17: =H17-(SUM(K17:V17)) -> 5 | J17: =IF(I17<0,"ATENÇÃO","OK") -> OK | K17: 0 | L17: 0 | M17: 0 | N17: 0 | O17: 0 | P17: 0 | Q17: 0 | R17: 0 | S17: 0 | T17: 0 | U17: 0 | V17: 0
A18: IDEAL ENCADERNAÇÕES LTDA ME | B18: 2 | C18: 15 | D18: Digitalização de monografias - Fornecimento de cópia das obras em formato digital (PDF A – OCR) -Três cópias em DVD | E18: Folha 30X20 | F18: 33.90.39 | G18: 0.17 | H18: 0 | I18: =H18-(SUM(K18:V18)) -> 0 | J18: =IF(I18<0,"ATENÇÃO","OK") -> OK | K18: 0 | L18: 0 | M18: 0 | N18: 0 | O18: 0 | P18: 0 | Q18: 0 | R18: 0 | S18: 0 | T18: 0 | U18: 0 | V18: 0
D20: *Prazos de Entrega e Pagamento conforme edital
D21: *Obras: Pequena até A4 (210 x 297 mm), Média até A3 (297 x 420 mm ), Grande acima de A3 (297 x 420 mm)

Sheet CESFI
A1: PROCESSO: 0756/2015/UDESC | D1: OBJETO: CONTRATAÇÃO DE EMPRESAS PARA PRESTAÇÃO DE SERVIÇOS DE ENCADERNAÇÃO, RESTAURAÇÃO E DIGITALIZAÇÃO DE ACERVOS DAS BIBLIOTECAS DA UDESC | H1: VIGÊNCIA DA ATA: 20/07/2015 até 19/07/2016 | K1: AF/OS nº xxxx/2015 Qtde. DT | L1: AF/OS nº xxxx/2015 Qtde. DT | M1: AF/OS nº xxxx/2015 Qtde. DT | N1: AF/OS nº xxxx/2015 Qtde. DT | O1: AF/OS nº xxxx/2015 Qtde. DT | P1: AF/OS nº xxxx/2015 Qtde. DT | Q1: AF/OS nº xxxx/2015 Qtde. DT | R1: AF/OS nº xxxx/2015 Qtde. DT | S1: AF/OS nº xxxx/2015 Qtde. DT | T1: AF/OS nº xxxx/2015 Qtde. DT | U1: AF/OS nº xxxx/2015 Qtde. DT | V1: AF/OS nº xxxx/2015 Qtde. DT
A2: CENTRO PARTICIPANTE: CESFI
A3: FORNECEDOR | B3: LOTE | C3: ITEM | D3: PRODUTO - CARACTERÍSTICAS MÍNIMAS | E3: UNIDADE | F3: DETALHAMENTO | G3: Preço UNITÁRIO (R$) | H3: Qtde Registrada | I3: Saldo / Automático | J3: ALERTA | K3: ...../...../...... | L3: ...../...../...... | M3: ...../...../...... | N3: ...../...../...... | O3: ...../...../...... | P3: ...../...../...... | Q3: ...../...../...... | R3: ...../...../...... | S3: ...../...../...... | T3: ...../...../...... | U3: ...../...../...... | V3: ...../...../......
A4: IDEAL ENCADERNAÇÕES LTDA ME | B4: 1 | C4: 1 | D4: Recuperação de capa dura com: costura simples, colagem, cantoneiras e lombadas e colocação de guardas novas | E4: Pequeno* | F4: 33.90.39 | G4: 15 | H4: 15 | I4: =H4-(SUM(K4:V4)) -> 15 | J4: =IF(I4<0,"ATENÇÃO","OK") -> OK | K4: 0 | L4: 0 | M4: 0 | N4: 0 | O4: 0 | P4: 0 | Q4: 0 | R4: 0 | S4: 0 | T4: 0 | U4: 0 | V4: 0
C5: 2 | E5: Médio* | F5: 33.90.39 | G5: 20 | H5: 10 | I5: =H5-(SUM(K5:V5)) -> 10 | J5: =IF(I5<0,"ATENÇÃO","OK") -> OK | K5: 0 | L5: 0 | M5: 0 | N5: 0 | O5: 0 | P5: 0 | Q5: 0 | R5: 0 | S5: 0 | T5: 0 | U5: 0 | V5: 0
C6: 3 | E6: Grande* | F6: 33.90.39 | G6: 20 | H6: 10 | I6: =H6-(SUM(K6:V6)) -> 10 | J6: =IF(I6<0,"ATENÇÃO","OK") -> OK | K6: 0 | L6: 0 | M6: 0 | N6: 0 | O6: 0 | P6: 0 | Q6: 0 | R6: 0 | S6: 0 | T6: 0 | U6: 0 | V6: 0
C7: 4 | D7: Colocação e recuperação de capa brochura com costura, colagens e guardas | E7: Pequeno* | F7: 33.90.39 | G7: 8 | H7: 10 | I7: =H7-(SUM(K7:V7)) -> 10 | J7: =IF(I7<0,"ATENÇÃO","OK") -> OK | K7: 0 | L7: 0 | M7: 0 | N7: 0 | O7: 0 | P7: 0 | Q7: 0 | R7: 0 | S7: 0 | T7: 0 | U7: 0 | V7: 0
C8: 5 | E8: Médio* | F8: 33.90.39 | G8: 8 | H8: 15 | I8: =H8-(SUM(K8:V8)) -> 15 | J8: =IF(I8<0,"ATENÇÃO","OK") -> OK | K8: 0 | L8: 0 | M8: 0 | N8: 0 | O8: 0 | P8: 0 | Q8: 0 | R8: 0 | S8: 0 | T8: 0 | U8: 0 | V8: 0
C9: 6 | E9: Grande* | F9: 33.90.39 | G9: 8 | H9: 3 | I9: =H9-(SUM(K9:V9)) -> 3 | J9: =IF(I9<0,"ATENÇÃO","OK") -> OK | K9: 0 | L9: 0 | M9: 0 | N9: 0 | O9: 0 | P9: 0 | Q9: 0 | R9: 0 | S9: 0 | T9: 0 | U9: 0 | V9: 0
C10: 7 | D10: Confecção e colocação de capa dura completa com costura interna, colagem e guardas | E10: Pequeno* | F10: 33.90.39 | G10: 27 | H10: 15 | I10: =H10-(SUM(K10:V10)) -> 15 | J10: =IF(I10<0,"ATENÇÃO","OK") -> OK | K10: 0 | L10: 0 | M10: 0 | N10: 0 | O10: 0 | P10: 0 | Q10: 0 | R10: 0 | S10: 0 | T10: 0 | U10: 0 | V10: 0
C11: 8 | E11: Médio* | F11: 33.90.39 | G11: 28 | H11: 10 | I11: =H11-(SUM(K11:V11)) -> 10 | J11: =IF(I11<0,"ATENÇÃO","OK") -> OK | K11: 0 | L11: 0 | M11: 0 | N11: 0 | O11: 0 | P11: 0 | Q11: 0 | R11: 0 | S11: 0 | T11: 0 | U11: 0 | V11: 0
C12: 9 | E12: Grande* | F12: 33.90.39 | G12: 28 | H12: 5 | I12: =H12-(SUM(K12:V12)) -> 5 | J12: =IF(I12<0,"ATENÇÃO","OK") -> OK | K12: 0 | L12: 0 | M12: 0 | N12: 0 | O12: 0 | P12: 0 | Q12: 0 | R12: 0 | S12: 0 | T12: 0 | U12: 0 | V12: 0
C13: 10 | D13: Higienização c/lixas, guilhotinagem, borracha de maciez, etc | E13: Unidade | F13: 33.90.39 | G13: 7.54 | H13: 0 | I13: =H13-(SUM(K13:V13)) -> 0 | J13: =IF(I13<0,"ATENÇÃO","OK") -> OK | K13: 0 | L13: 0 | M13: 0 | N13: 0 | O13: 0 | P13: 0 | Q13: 0 | R13: 0 | S13: 0 | T13: 0 | U13: 0 | V13: 0
C14: 11 | D14: Enxerto de folhas xerocadas | E14: por folha | F14: 33.90.39 | G14: 1 | H14: 0 | I14: =H14-(SUM(K14:V14)) -> 0 | J14: =IF(I14<0,"ATENÇÃO","OK") -> OK | K14: 0 | L14: 0 | M14: 0 | N14: 0 | O14: 0 | P14: 0 | Q14: 0 | R14: 0 | S14: 0 | T14: 0 | U14: 0 | V14: 0
C15: 12 | D15: Restauração a úmido c/papel especial | E15: por folha | F15: 33.90.39 | G15: 1 | H15: 0 | I15: =H15-(SUM(K15:V15)) -> 0 | J15: =IF(I15<0,"ATENÇÃO","OK") -> OK | K15: 0 | L15: 0 | M15: 0 | N15: 0 | O15: 0 | P15: 0 | Q15: 0 | R15: 0 | S15: 0 | T15: 0 | U15: 0 | V15: 0
C16: 13 | D16: Aplicação de carcelas | E16: por folha | F16: 33.90.39 | G16: 0.5 | H16: 0 | I16: =H16-(SUM(K16:V16)) -> 0 | J16: =IF(I16<0,"ATENÇÃO","OK") -> OK | K16: 0 | L16: 0 | M16: 0 | N16: 0 | O16: 0 | P16: 0 | Q16: 0 | R16: 0 | S16: 0 | T16: 0 | U16: 0 | V16: 0
C17: 14 | D17: Remoção de fita adesiva | E17: metro linear | F17: 33.90.39 | G17: 1 | H17: 5 | I17: =H17-(SUM(K17:V17)) -> 5 | J17: =IF(I17<0,"ATENÇÃO","OK") -> OK | K17: 0 | L17: 0 | M17: 0 | N17: 0 | O17: 0 | P17: 0 | Q17: 0 | R17: 0 | S17: 0 | T17: 0 | U17: 0 | V17: 0
A18: IDEAL ENCADERNAÇÕES LTDA ME | B18: 2 | C18: 15 | D18: Digitalização de monografias - Fornecimento de cópia das obras em formato digital (PDF A – OCR) -Três cópias em DVD | E18: Folha 30X20 | F18: 33.90.39 | G18: 0.17 | H18: 0 | I18: =H18-(SUM(K18:V18)) -> 0 | J18: =IF(I18<0,"ATENÇÃO","OK") -> OK | K18: 0 | L18: 0 | M18: 0 | N18: 0 | O18: 0 | P18: 0 | Q18: 0 | R18: 0 | S18: 0 | T18: 0 | U18: 0 | V18: 0
D20: *Prazos de Entrega e Pagamento conforme edital
D21: *Obras: Pequena até A4 (210 x 297 mm), Média até A3 (297 x 420 mm ), Grande acima de A3 (297 x 420 mm)

Sheet GESTOR
A1: PROCESSO: 0756/2015/UDESC | D1: OBJETO: CONTRATAÇÃO DE EMPRESAS PARA PRESTAÇÃO DE SERVIÇOS DE ENCADERNAÇÃO, RESTAURAÇÃO E DIGITALIZAÇÃO DE ACERVOS DAS BIBLIOTECAS DA UDESC | G1: VIGÊNCIA DA ATA: 20/07/2015 até 19/07/2016
A2: CENTRO PARTICIPANTE: GESTOR
A3: FORNECEDOR | B3: LOTE | C3: ITEM | D3: PRODUTO - CARACTERÍSTICAS MÍNIMAS | E3: UNIDADE | F3: ELEMENTO | G3: Preço UNITÁRIO (R$) | H3: Qtde Registrada | I3: Qtde Utilizada | J3: SALDO | K3: Valor Total Registrado | L3: Valor Total Utilizado
A4: IDEAL ENCADERNAÇÕES LTDA ME | B4: 1 | C4: 1 | D4: Recuperação de capa dura com: costura simples, colagem, cantoneiras e lombadas e colocação de guardas novas | E4: Pequeno* | F4: 33.90.39 | G4: 15 | H4: =CEAD!H4+CEART!H4+CEFID!H4+CAV!H4+FAED!H4+ESAG!H4+CEO!H4+CCT!H4+CERES!H4+CESFI!H4 -> 254 | I4: =(CEAD!H4-CEAD!I4)+(CEART!H4-CEART!I4)+(CEFID!H4-CEFID!I4)+(CAV!H4-CAV!I4)+(FAED!H4-FAED!I4)+(ESAG!H4-ESAG!I4)+(CEO!H4-CEO!I4)+(CCT!H4-CCT!I4)+(CERES!H4-CERES!I4)+(CESFI!H4-CESFI!I4) -> 38 | J4: =H4-I4 -> 216 | K4: =G4*H4 -> 3810 | L4: =G4*I4 -> 570
C5: 2 | E5: Médio* | F5: 33.90.39 | G5: 20 | H5: =CEAD!H5+CEART!H5+CEFID!H5+CAV!H5+FAED!H5+ESAG!H5+CEO!H5+CCT!H5+CERES!H5+CESFI!H5 -> 297 | I5: =(CEAD!H5-CEAD!I5)+(CEART!H5-CEART!I5)+(CEFID!H5-CEFID!I5)+(CAV!H5-CAV!I5)+(FAED!H5-FAED!I5)+(ESAG!H5-ESAG!I5)+(CEO!H5-CEO!I5)+(CCT!H5-CCT!I5)+(CERES!H5-CERES!I5)+(CESFI!H5-CESFI!I5) -> 120 | J5: =H5-I5 -> 177 | K5: =G5*H5 -> 5940 | L5: =G5*I5 -> 2400
C6: 3 | E6: Grande* | F6: 33.90.39 | G6: 20 | H6: =CEAD!H6+CEART!H6+CEFID!H6+CAV!H6+FAED!H6+ESAG!H6+CEO!H6+CCT!H6+CERES!H6+CESFI!H6 -> 357 | I6: =(CEAD!H6-CEAD!I6)+(CEART!H6-CEART!I6)+(CEFID!H6-CEFID!I6)+(CAV!H6-CAV!I6)+(FAED!H6-FAED!I6)+(ESAG!H6-ESAG!I6)+(CEO!H6-CEO!I6)+(CCT!H6-CCT!I6)+(CERES!H6-CERES!I6)+(CESFI!H6-CESFI!I6) -> 104 | J6: =H6-I6 -> 253 | K6: =G6*H6 -> 7140 | L6: =G6*I6 -> 2080
C7: 4 | D7: Colocação e recuperação de capa brochura com costura, colagens e guardas | E7: Pequeno* | F7: 33.90.39 | G7: 8 | H7: =CEAD!H7+CEART!H7+CEFID!H7+CAV!H7+FAED!H7+ESAG!H7+CEO!H7+CCT!H7+CERES!H7+CESFI!H7 -> 257 | I7: =(CEAD!H7-CEAD!I7)+(CEART!H7-CEART!I7)+(CEFID!H7-CEFID!I7)+(CAV!H7-CAV!I7)+(FAED!H7-FAED!I7)+(ESAG!H7-ESAG!I7)+(CEO!H7-CEO!I7)+(CCT!H7-CCT!I7)+(CERES!H7-CERES!I7)+(CESFI!H7-CESFI!I7) -> 38 | J7: =H7-I7 -> 219 | K7: =G7*H7 -> 2056 | L7: =G7*I7 -> 304
C8: 5 | E8: Médio* | F8: 33.90.39 | G8: 8 | H8: =CEAD!H8+CEART!H8+CEFID!H8+CAV!H8+FAED!H8+ESAG!H8+CEO!H8+CCT!H8+CERES!H8+CESFI!H8 -> 317 | I8: =(CEAD!H8-CEAD!I8)+(CEART!H8-CEART!I8)+(CEFID!H8-CEFID!I8)+(CAV!H8-CAV!I8)+(FAED!H8-FAED!I8)+(ESAG!H8-ESAG!I8)+(CEO!H8-CEO!I8)+(CCT!H8-CCT!I8)+(CERES!H8-CERES!I8)+(CESFI!H8-CESFI!I8) -> 92 | J8: =H8-I8 -> 225 | K8: =G8*H8 -> 2536 | L8: =G8*I8 -> 736
C9: 6 | E9: Grande* | F9: 33.90.39 | G9: 8 | H9: =CEAD!H9+CEART!H9+CEFID!H9+CAV!H9+FAED!H9+ESAG!H9+CEO!H9+CCT!H9+CERES!H9+CESFI!H9 -> 195 | I9: =(CEAD!H9-CEAD!I9)+(CEART!H9-CEART!I9)+(CEFID!H9-CEFID!I9)+(CAV!H9-CAV!I9)+(FAED!H9-FAED!I9)+(ESAG!H9-ESAG!I9)+(CEO!H9-CEO!I9)+(CCT!H9-CCT!I9)+(CERES!H9-CERES!I9)+(CESFI!H9-CESFI!I9) -> 45 | J9: =H9-I9 -> 150 | K9: =G9*H9 -> 1560 | L9: =G9*I9 -> 360
C10: 7 | D10: Confecção e colocação de capa dura completa com costura interna, colagem e guardas | E10: Pequeno* | F10: 33.90.39 | G10: 27 | H10: =CEAD!H10+CEART!H10+CEFID!H10+CAV!H10+FAED!H10+ESAG!H10+CEO!H10+CCT!H10+CERES!H10+CESFI!H10 -> 170 | I10: =(CEAD!H10-CEAD!I10)+(CEART!H10-CEART!I10)+(CEFID!H10-CEFID!I10)+(CAV!H10-CAV!I10)+(FAED!H10-FAED!I10)+(ESAG!H10-ESAG!I10)+(CEO!H10-CEO!I10)+(CCT!H10-CCT!I10)+(CERES!H10-CERES!I10)+(CESFI!H10-CESFI!I10) -> 51 | J10: =H10-I10 -> 119 | K10: =G10*H10 -> 4590 | L10: =G10*I10 -> 1377
C11: 8 | E11: Médio* | F11: 33.90.39 | G11: 28 | H11: =CEAD!H11+CEART!H11+CEFID!H11+CAV!H11+FAED!H11+ESAG!H11+CEO!H11+CCT!H11+CERES!H11+CESFI!H11 -> 171 | I11: =(CEAD!H11-CEAD!I11)+(CEART!H11-CEART!I11)+(CEFID!H11-CEFID!I11)+(CAV!H11-CAV!I11)+(FAED!H11-FAED!I11)+(ESAG!H11-ESAG!I11)+(CEO!H11-CEO!I11)+(CCT!H11-CCT!I11)+(CERES!H11-CERES!I11)+(CESFI!H11-CESFI!I11) -> 71 | J11: =H11-I11 -> 100 | K11: =G11*H11 -> 4788 | L11: =G11*I11 -> 1988
C12: 9 | E12: Grande* | F12: 33.90.39 | G12: 28 | H12: =CEAD!H12+CEART!H12+CEFID!H12+CAV!H12+FAED!H12+ESAG!H12+CEO!H12+CCT!H12+CERES!H12+CESFI!H12 -> 163 | I12: =(CEAD!H12-CEAD!I12)+(CEART!H12-CEART!I12)+(CEFID!H12-CEFID!I12)+(CAV!H12-CAV!I12)+(FAED!H12-FAED!I12)+(ESAG!H12-ESAG!I12)+(CEO!H12-CEO!I12)+(CCT!H12-CCT!I12)+(CERES!H12-CERES!I12)+(CESFI!H12-CESFI!I12) -> 80 | J12: =H12-I12 -> 83 | K12: =G12*H12 -> 4564 | L12: =G12*I12 -> 2240
C13: 10 | D13: Higienização c/lixas, guilhotinagem, borracha de maciez, etc | E13: Unidade | F13: 33.90.39 | G13: 7.54 | H13: =CEAD!H13+CEART!H13+CEFID!H13+CAV!H13+FAED!H13+ESAG!H13+CEO!H13+CCT!H13+CERES!H13+CESFI!H13 -> 172 | I13: =(CEAD!H13-CEAD!I13)+(CEART!H13-CEART!I13)+(CEFID!H13-CEFID!I13)+(CAV!H13-CAV!I13)+(FAED!H13-FAED!I13)+(ESAG!H13-ESAG!I13)+(CEO!H13-CEO!I13)+(CCT!H13-CCT!I13)+(CERES!H13-CERES!I13)+(CESFI!H13-CESFI!I13) -> 95 | J13: =H13-I13 -> 77 | K13: =G13*H13 -> 1296.88 | L13: =G13*I13 -> 716.3
C14: 11 | D14: Enxerto de folhas xerocadas | E14: por folha | F14: 33.90.39 | G14: 1 | H14: =CEAD!H14+CEART!H14+CEFID!H14+CAV!H14+FAED!H14+ESAG!H14+CEO!H14+CCT!H14+CERES!H14+CESFI!H14 -> 492 | I14: =(CEAD!H14-CEAD!I14)+(CEART!H14-CEART!I14)+(CEFID!H14-CEFID!I14)+(CAV!H14-CAV!I14)+(FAED!H14-FAED!I14)+(ESAG!H14-ESAG!I14)+(CEO!H14-CEO!I14)+(CCT!H14-CCT!I14)+(CERES!H14-CERES!I14)+(CESFI!H14-CESFI!I14) -> 125 | J14: =H14-I14 -> 367 | K14: =G14*H14 -> 492 | L14: =G14*I14 -> 125
C15: 12 | D15: Restauração a úmido c/papel especial | E15: por folha | F15: 33.90.39 | G15: 1 | H15: =CEAD!H15+CEART!H15+CEFID!H15+CAV!H15+FAED!H15+ESAG!H15+CEO!H15+CCT!H15+CERES!H15+CESFI!H15 -> 251 | I15: =(CEAD!H15-CEAD!I15)+(CEART!H15-CEART!I15)+(CEFID!H15-CEFID!I15)+(CAV!H15-CAV!I15)+(FAED!H15-FAED!I15)+(ESAG!H15-ESAG!I15)+(CEO!H15-CEO!I15)+(CCT!H15-CCT!I15)+(CERES!H15-CERES!I15)+(CESFI!H15-CESFI!I15) -> 86 | J15: =H15-I15 -> 165 | K15: =G15*H15 -> 251 | L15: =G15*I15 -> 86
C16: 13 | D16: Aplicação de carcelas | E16: por folha | F16: 33.90.39 | G16: 0.5 | H16: =CEAD!H16+CEART!H16+CEFID!H16+CAV!H16+FAED!H16+ESAG!H16+CEO!H16+CCT!H16+CERES!H16+CESFI!H16 -> 551 | I16: =(CEAD!H16-CEAD!I16)+(CEART!H16-CEART!I16)+(CEFID!H16-CEFID!I16)+(CAV!H16-CAV!I16)+(FAED!H16-FAED!I16)+(ESAG!H16-ESAG!I16)+(CEO!H16-CEO!I16)+(CCT!H16-CCT!I16)+(CERES!H16-CERES!I16)+(CESFI!H16-CESFI!I16) -> 110 | J16: =H16-I16 -> 441 | K16: =G16*H16 -> 275.5 | L16: =G16*I16 -> 55
C17: 14 | D17: Remoção de fita adesiva | E17: metro linear | F17: 33.90.39 | G17: 1 | H17: =CEAD!H17+CEART!H17+CEFID!H17+CAV!H17+FAED!H17+ESAG!H17+CEO!H17+CCT!H17+CERES!H17+CESFI!H17 -> 450 | I17: =(CEAD!H17-CEAD!I17)+(CEART!H17-CEART!I17)+(CEFID!H17-CEFID!I17)+(CAV!H17-CAV!I17)+(FAED!H17-FAED!I17)+(ESAG!H17-ESAG!I17)+(CEO!H17-CEO!I17)+(CCT!H17-CCT!I17)+(CERES!H17-CERES!I17)+(CESFI!H17-CESFI!I17) -> 57 | J17: =H17-I17 -> 393 | K17: =G17*H17 -> 450 | L17: =G17*I17 -> 57
A18: IDEAL ENCADERNAÇÕES LTDA ME | B18: 2 | C18: 15 | D18: Digitalização de monografias - Fornecimento de cópia das obras em formato digital (PDF A – OCR) -Três cópias em DVD | E18: Folha 30X20 | F18: 33.90.39 | G18: 0.17 | H18: =CEAD!H18+CEART!H18+CEFID!H18+CAV!H18+FAED!H18+ESAG!H18+CEO!H18+CCT!H18+CERES!H18+CESFI!H18 -> 7000 | I18: =(CEAD!H18-CEAD!I18)+(CEART!H18-CEART!I18)+(CEFID!H18-CEFID!I18)+(CAV!H18-CAV!I18)+(FAED!H18-FAED!I18)+(ESAG!H18-ESAG!I18)+(CEO!H18-CEO!I18)+(CCT!H18-CCT!I18)+(CERES!H18-CERES!I18)+(CESFI!H18-CESFI!I18) -> 7000 | J18: =H18-I18 -> 0 | K18: =G18*H18 -> 1190 | L18: =G18*I18 -> 1190
K19: =SUM(K4:K18) -> 40939.38 | L19: =SUM(L4:L18) -> 14284.3
D20: *Prazos de Entrega e Pagamento conforme edital
D21: *Obras: Pequena até A4 (210 x 297 mm), Média até A3 (297 x 420 mm ), Grande acima de A3 (297 x 420 mm) | H21: Pregão 0756/2015/UDESC - SRP
H22: CONTRATAÇÃO DE EMPRESAS PARA PRESTAÇÃO DE SERVIÇOS DE ENCADERNAÇÃO, RESTAURAÇÃO E DIGITALIZAÇÃO DE ACERVOS DAS BIBLIOTECAS DA UDESC
H23: VIGÊNCIA DA ATA: 20/07/2015 até 19/07/2016
H24: Valor Total da Ata com Aditivo | L24: =K19 -> 40939.38
H25: Valor Utilizado | L25: =L19 -> 14284.3
H26: % Aditivos
H27: % Utilizado
H28: Resumo Atualizado em 01.02.2016

Sheet Modelo Anexo II IN 002_2014
A1: ANEXO II – Instrução Normativa n.º 002/2014
A3: DECLARAÇÃO DE DISPONIBILIDADE DE QUANTITATIVO PARA EMISSÃO DE AUTORIZAÇÃO DE FORNECIMENTO/ORDEM DE SERVIÇO – SISTEMA DE REGISTRO DE PREÇOS/UDESC
A5: Processo CPA n.º XXXX/2014
A6: Pregão n.º XXXX/2014
A7: Objeto:
A8: Vigência da Ata de Registro de Preços: XX/XX/XXXX até XX/XX/XXXXX
A10: Declaro que o Centro XXXXXXX, participante da Ata de Registro de Preços proveniente do Pregão n.º XXXX/2014, possui saldo em seu quantitativo para a emissão da Autorização de Fornecimento/Ordem de Serviço n.º XXXX/2014, no valor de R$ X.XXX,XX, a ser firmada com a empresa XXXXXXX, restando ainda em sua cota para próximas contratações com o referido fornecedor os seguintes quantitativos:
A12: Lote | B12: Item | C12: Descrição Resumida | D12: Unidade | E12: Valor Unitário (R$) | F12: Saldo Quantitativo (antes da emissão desta AF/OS) | G12: Quantitativo da AF/OS | H12: Saldo Atualizado
A19: __________________, ____/_____/____
A20: Cidade Data
A24: _____________________________________________
A25: Diretor(a) de Administração
A26: (carimbo e assinatura)
