Workbook
Name diasuteis: #REF!
Name diasuteis: #REF!
Name Ferias: #REF!
Name Ferias: #REF!
Name RD: OFFSET(#REF!,(MATCH(SMALL(#REF!,ROW()-10),#REF!,0)-1),0)
Name RD: OFFSET(#REF!,(MATCH(SMALL(#REF!,ROW()-10),#REF!,0)-1),0)

Sheet REITORIA_PROEX
A1: PROCESSO: 0502/2015/UDESC | D1: OBJETO: Aquisição de Rouparia para a UDESC | I1: VIGÊNCIA DA ATA: 14/07/2015 até 13/07/2016 | L1: AF nº 1205/2015 Qtde. DT | M1: AF nº 1509/2015 Qtde. DT | N1: AF nº 1928/2015 Qtde. DT | O1: AF/OS nº xxxx/2015 Qtde. DT | P1: AF/OS nº xxxx/2015 Qtde. DT | Q1: AF/OS nº xxxx/2015 Qtde. DT | R1: AF/OS nº xxxx/2015 Qtde. DT | S1: AF/OS nº xxxx/2015 Qtde. DT | T1: AF/OS nº xxxx/2015 Qtde. DT | U1: AF/OS nº xxxx/2015 Qtde. DT | V1: AF/OS nº xxxx/2015 Qtde. DT | W1: AF/OS nº xxxx/2015 Qtde. DT
A2: CENTRO PARTICIPANTE: Reitoria/PROEX
A3: FORNECEDOR | B3: LOTE | C3: ITEM | D3: PRODUTO - CARACTERÍSTICAS MÍNIMAS | E3: UNIDADE | F3: MARCA | G3: DETALHAMENTO | H3: Preço UNITÁRIO (R$) | I3: Qtde Registrada | J3: Saldo / Automático | K3: ALERTA | L3: 42205 | M3: 42241 | N3: 42296 | O3: ...../...../...... | P3: ...../...../...... | Q3: ...../...../...... | R3: ...../...../...... | S3: ...../...../...... | T3: ...../...../...... | U3: ...../...../...... | V3: ...../...../...... | W3: ...../...../......
A4: Tracton Indústria e Comércio LTDA - EPP | B4: 1 | C4: 1 | D4: Fronha de tecido cretone, 100% algodão, dimensões aproximadas de 0,50cm de largura e 0,60cm de comprimento, com logomarca a ser definida impressa no centro com as dimensões de 14x13cm aproximadamente. Cor a definir. | E4: Unidade | F4: Tracton | G4: 339030-20 | H4: 25 | J4: =I4-(SUM(L4:W4)) -> 0 | K4: =IF(J4<0,"ATENÇÃO","OK") -> OK | L4: 0 | M4: 0 | N4: 0 | O4: 0 | P4: 0 | Q4: 0 | R4: 0 | S4: 0 | T4: 0 | U4: 0 | V4: 0 | W4: 0
C5: 2 | D5: Lençol de tecido, com elástico, 100% algodão, dimensões aproximadas: 1,30m de largura e 2m de comprimento. Logomarca a ser definida impressa no centro, dimensões de 14x13cm aproximadamente. | E5: Unidade | F5: Tracton | G5: 339030-20 | H5: 50 | J5: =I5-(SUM(L5:W5)) -> 0 | K5: =IF(J5<0,"ATENÇÃO","OK") -> OK | L5: 0 | M5: 0 | N5: 0 | O5: 0 | P5: 0 | Q5: 0 | R5: 0 | S5: 0 | T5: 0 | U5: 0 | V5: 0 | W5: 0
C6: 3 | D6: Lençol de tecido, sem elástico, 100% algodão, dimensões aproximadas: 1,30m de largura e 2m de comprimento, com logomarca a ser definida impressa no centro, com 14x13cm aproximadamente. | E6: Unidade | F6: Tracton | G6: 339030-20 | H6: 50 | J6: =I6-(SUM(L6:W6)) -> 0 | K6: =IF(J6<0,"ATENÇÃO","OK") -> OK | L6: 0 | M6: 0 | N6: 0 | O6: 0 | P6: 0 | Q6: 0 | R6: 0 | S6: 0 | T6: 0 | U6: 0 | V6: 0 | W6: 0
C7: 4 | D7: Toalha de mesa, de cetim, medindo aproximadamente 1,20m x60cm. Com logomarca bordada no centro da toalha, tamanho mínimo 30cm x 30 cm. Cor a definir. | E7: Unidade | F7: Tracton | G7: 339030-20 | H7: 61 | J7: =I7-(SUM(L7:W7)) -> 0 | K7: =IF(J7<0,"ATENÇÃO","OK") -> OK | L7: 0 | M7: 0 | N7: 0 | O7: 0 | P7: 0 | Q7: 0 | R7: 0 | S7: 0 | T7: 0 | U7: 0 | V7: 0 | W7: 0
C8: 5 | D8: Toalha de mesa retangular, medindo aproximadamente 1,60mX2,70m. Composição 53% algodão, 47% poliéster. Cor a definir. | E8: Unidade | F8: Tracton | G8: 339030-20 | H8: 89 | J8: =I8-(SUM(L8:W8)) -> 0 | K8: =IF(J8<0,"ATENÇÃO","OK") -> OK | L8: 0 | M8: 0 | N8: 0 | O8: 0 | P8: 0 | Q8: 0 | R8: 0 | S8: 0 | T8: 0 | U8: 0 | V8: 0 | W8: 0
C9: 6 | D9: Toalha de banho, dupla face, em tecido 100% algodão, cor da definir, pré-lavada e pré-encolhida, gramatura de no mínimo 500gr/m², medindo no mínimo 70cm x 1,40m. Logomarca a ser definida e impressa em uma das pontas nas dimensões de 14x13cm aproximadamente. | E9: Unidade | F9: Tracton | G9: 339030-20 | H9: 30 | J9: =I9-(SUM(L9:W9)) -> 0 | K9: =IF(J9<0,"ATENÇÃO","OK") -> OK | L9: 0 | M9: 0 | N9: 0 | O9: 0 | P9: 0 | Q9: 0 | R9: 0 | S9: 0 | T9: 0 | U9: 0 | V9: 0 | W9: 0
C10: 7 | D10: Toalha de rosto, dupla face, em tecido 100% algodão, cor da definir, pré-lavada e pré-encolhida, gramatura de no mínimo 500gr/m², medindo no mínimo 45x75cm. Logomarca a ser definida e impressa em uma das pontas nas dimensões de 14x13cm aproximadamente. | E10: Unidade | F10: Tracton | G10: 339030-20 | H10: 20 | J10: =I10-(SUM(L10:W10)) -> 0 | K10: =IF(J10<0,"ATENÇÃO","OK") -> OK | L10: 0 | M10: 0 | N10: 0 | O10: 0 | P10: 0 | Q10: 0 | R10: 0 | S10: 0 | T10: 0 | U10: 0 | V10: 0 | W10: 0
C11: 8 | D11: Toalha de mesa redonda, medindo aproximadamente 178cm diâmetro, composição 59% algodão e 41% poliéster, cor a definir. | E11: Unidade | F11: Tracton | G11: 339030-20 | H11: 60 | J11: =I11-(SUM(L11:W11)) -> 0 | K11: =IF(J11<0,"ATENÇÃO","OK") -> OK | L11: 0 | M11: 0 | N11: 0 | O11: 0 | P11: 0 | Q11: 0 | R11: 0 | S11: 0 | T11: 0 | U11: 0 | V11: 0 | W11: 0
C12: 9 | D12: Toalha de mesa retangular, medindo aproximadamente 7mx2,20m. Composição 53% algodão, 47% poliéster, com protetor de tecido. Cor a definir. | E12: Unidade | F12: Tracton | G12: 339030-20 | H12: 97.5 | J12: =I12-(SUM(L12:W12)) -> 0 | K12: =IF(J12<0,"ATENÇÃO","OK") -> OK | L12: 0 | M12: 0 | N12: 0 | O12: 0 | P12: 0 | Q12: 0 | R12: 0 | S12: 0 | T12: 0 | U12: 0 | V12: 0 | W12: 0
A13: ADBX Comércio de Serviços LTDA - ME | B13: 2 | C13: 10 | D13: Camisa social masculina, manga longa, cor a definir, composição 50% algodão e 50% poliéster. Com a logomarca de 9x5cm bordada no peito no lado esquerdo. Tamanho e cor a definir. | E13: Unidade | F13: K.B | G13: 339030-23 | H13: 48 | J13: =I13-(SUM(L13:W13)) -> 0 | K13: =IF(J13<0,"ATENÇÃO","OK") -> OK | L13: 0 | M13: 0 | N13: 0 | O13: 0 | P13: 0 | Q13: 0 | R13: 0 | S13: 0 | T13: 0 | U13: 0 | V13: 0 | W13: 0
C14: 11 | D14: Camisete feminina, manga longa feminina, composição 50% algodão e 50% poliéster. Com a logomarca de 9x5cm bordada no peito, no lado esquerdo. Tamanho e cor a definir. | E14: Unidade | F14: K.B | G14: 339030-23 | H14: 50 | J14: =I14-(SUM(L14:W14)) -> 0 | K14: =IF(J14<0,"ATENÇÃO","OK") -> OK | L14: 0 | M14: 0 | N14: 0 | O14: 0 | P14: 0 | Q14: 0 | R14: 0 | S14: 0 | T14: 0 | U14: 0 | V14: 0 | W14: 0
C15: 12 | D15: Camisa social masculina, manga longa, cor a definir, composição 100% algodão egipcio. Com a logomarca de 9x5cm bordada no peito no lado esquerdo. Tamanho e cor a definir. | F15: K.B | G15: 339030-23 | H15: 52.6 | J15: =I15-(SUM(L15:W15)) -> 0 | K15: =IF(J15<0,"ATENÇÃO","OK") -> OK | L15: 0 | M15: 0 | N15: 0 | O15: 0 | P15: 0 | Q15: 0 | R15: 0 | S15: 0 | T15: 0 | U15: 0 | V15: 0 | W15: 0
A16: Jackson da Silva 03571984927 - ME | B16: 3 | C16: 13 | D16: Camiseta, 30x1 penteado, gola ombro a ombro, a gola da camiseta de possuir elastano, sendo reforçada na costura. A camiseta terá uma área reservada para serigrafia de até 28x21cm na frente e nas costas, podendo conter até 8 cores em cada lado. Tamanho, cor e logomarca a definir. | E16: Unidade | F16: Araçá | G16: 339030-23 | H16: 9.13 | I16: =2000+500 -> 2500 | J16: =I16-(SUM(L16:W16)) -> 890 | K16: =IF(J16<0,"ATENÇÃO","OK") -> OK | L16: 600 | M16: 800 | N16: 210 | O16: 0 | P16: 0 | Q16: 0 | R16: 0 | S16: 0 | T16: 0 | U16: 0 | V16: 0 | W16: 0
C17: 14 | D17: Camiseta gola polo, malha Piquet P.A. Bordado com logomarca no lado esquerdo do peito, de 9X5cm, e bordado com logomarca de 8X3cm na manga direita. Tamanho e cor a definir. | E17: Unidade | F17: Araçá | G17: 339030-23 | H17: 17 | I17: 150 | J17: =I17-(SUM(L17:W17)) -> 130 | K17: =IF(J17<0,"ATENÇÃO","OK") -> OK | L17: 0 | M17: 0 | N17: 20 | O17: 0 | P17: 0 | Q17: 0 | R17: 0 | S17: 0 | T17: 0 | U17: 0 | V17: 0 | W17: 0
A18: Jackson da Silva 03571984927 - ME | B18: 4 | C18: 15 | D18: GOLEIRA FEMININO FUTEBOL CAMPO, FUTSAL E HANDEBOL - CALÇA 100% POLIESTER DRYFIT - com espuma de proteção nos joelhos e na cintura. Número gravado na parte inferior direita da coxa, acima da proteção e na parte inferior. Tamanho e cor a definir. | E18: Unidade | F18: Araçá | G18: 339030-14 | H18: 25 | I18: 9 | J18: =I18-(SUM(L18:W18)) -> 9 | K18: =IF(J18<0,"ATENÇÃO","OK") -> OK | L18: 0 | M18: 0 | N18: 0 | O18: 0 | P18: 0 | Q18: 0 | R18: 0 | S18: 0 | T18: 0 | U18: 0 | V18: 0 | W18: 0
C19: 16 | D19: GOLEIRO MASCULINO FUTEBOL DE CAMPO, FUTSAL E HANDEBOL- CALÇA 100% POLIESTER DRYFIT . Com espuma de proteção nos joelhos e na cintura. Número gravado na parte inferior direita da coxa, acima da proteção e na parte inferior. Tamanho e cor a definir. | E19: Unidade | F19: Araçá | G19: 339030-14 | H19: 32 | I19: 9 | J19: =I19-(SUM(L19:W19)) -> 9 | K19: =IF(J19<0,"ATENÇÃO","OK") -> OK | L19: 0 | M19: 0 | N19: 0 | O19: 0 | P19: 0 | Q19: 0 | R19: 0 | S19: 0 | T19: 0 | U19: 0 | V19: 0 | W19: 0
C20: 17 | D20: GOLEIRA FEMININO FUTEBOL CAMPO, FUTSAL E HANDEBOL - CAMISA 100% POLIESTER DRYFIT - Camisa de goleira com espuma de proteção nos cotovelos, com números a definir, serigrafado atrás. As camisas possuem numeração nas costas (8X12cm) na parte central. Com logomarca acima do número (10X18cm). Abaixo do número nas costas deverá estar escrito o nome da modalidade(20x10cm). Na frente logomarca no centro da camisa. Tamanho e cor a definir. | E20: Unidade | F20: Araçá | G20: 339030-14 | H20: 22 | I20: 9 | J20: =I20-(SUM(L20:W20)) -> 9 | K20: =IF(J20<0,"ATENÇÃO","OK") -> OK | L20: 0 | M20: 0 | N20: 0 | O20: 0 | P20: 0 | Q20: 0 | R20: 0 | S20: 0 | T20: 0 | U20: 0 | V20: 0 | W20: 0
C21: 18 | D21: GOLEIRO MASCULINO FUTEBOL DE CAMPO, FUTSAL E HANDEBOL- CAMISA 100% POLIESTER DRYFIT. Com espuma de proteção nos cotovelos, com números a definir, serigrafado atrás. As camisas possuem numeração nas costas (8X12cm) na parte central.Com logomarca acima do número (10X18cm). Abaixo do número nas costas deverá estar escrito o nome da modalidade(20x10cm). Na frente logomarca no centro da camisa. Tamanho e cor a definir. | E21: Unidade | F21: Araçá | G21: 339030-14 | H21: 22 | I21: 9 | J21: =I21-(SUM(L21:W21)) -> 9 | K21: =IF(J21<0,"ATENÇÃO","OK") -> OK | L21: 0 | M21: 0 | N21: 0 | O21: 0 | P21: 0 | Q21: 0 | R21: 0 | S21: 0 | T21: 0 | U21: 0 | V21: 0 | W21: 0
C22: 19 | D22: HANDEBOL MASCULINO - CALÇÃO 100% POLIESTER DRYFIT. Cós com elástico e com cordão interno. Com numeração na parte frontal inferior esquerda e logomarca (7X11cm) na parte frontal inferior direita. Modalidade handebol gravada na parte inferior direita com dimensões aproximadas de 9X3cm. Logomarca gravada na parte posterior acima da linha glútea, tamanho aproximado 20x10cm. Tamanho, numeração e cor a definir. | E22: Unidade | F22: Araçá | G22: 339030-14 | H22: 14 | I22: 32 | J22: =I22-(SUM(L22:W22)) -> 0 | K22: =IF(J22<0,"ATENÇÃO","OK") -> OK | L22: 32 | M22: 0 | N22: 0 | O22: 0 | P22: 0 | Q22: 0 | R22: 0 | S22: 0 | T22: 0 | U22: 0 | V22: 0 | W22: 0
C23: 20 | D23: HANDEBOL FEMININO - CALÇÃO para handebol feminino, confeccionados em poliéster. Cós com elástico com cordão interno. Numeração na parte frontal inferior esquerda e o logomarca (7x11cm) na parte frontal inferior direita. Modalidade handebol gravada na parte inferior direita com dimensões aproximadas de 9X3cm. Logomarca gravada na parte posterior acima da linha glútea, tamanho aproximado 20x10cm. Tamanho e cor a definir. Estilo handebol. | E23: Unidade | F23: Araçá | G23: 339030-14 | H23: 14 | J23: =I23-(SUM(L23:W23)) -> 0 | K23: =IF(J23<0,"ATENÇÃO","OK") -> OK | L23: 0 | M23: 0 | N23: 0 | O23: 0 | P23: 0 | Q23: 0 | R23: 0 | S23: 0 | T23: 0 | U23: 0 | V23: 0 | W23: 0
C24: 21 | D24: HANDEBOL FEMININO - SHORT - 92% POLIESTER DRYFIT e 8% ELASTANO Com numeração na parte frontal inferior esquerda e o logomarca, 7X11cm, na parte frontal inferior direita. Modalidade handebol gravada na parte inferior direita com dimensões aproximadas de 9X3cm. Logomarca gravada na parte posterior acima da linha glútea, tamanho aproximado 20x10cm. Tamanho e cor a definir. | E24: Unidade | F24: Araçá | G24: 339030-14 | H24: 20 | I24: 32 | J24: =I24-(SUM(L24:W24)) -> 0 | K24: =IF(J24<0,"ATENÇÃO","OK") -> OK | L24: 32 | M24: 0 | N24: 0 | O24: 0 | P24: 0 | Q24: 0 | R24: 0 | S24: 0 | T24: 0 | U24: 0 | V24: 0 | W24: 0
C25: 22 | D25: HANDEBOL FEMININO - CAMISA - SEM MANGA 100% POLIESTER DRYFIT. Nas costas a logomarca (10X18cm) e a numeração (22cm). Logomarca na frente (10X18cm). Com tratamento antibactericida, permite transpiração. Manga com punhos em Rib (efeito canelado). Tamanho e cor a definir. | E25: Unidade | F25: Araçá | G25: 339030-14 | H25: 18 | I25: 32 | J25: =I25-(SUM(L25:W25)) -> 0 | K25: =IF(J25<0,"ATENÇÃO","OK") -> OK | L25: 32 | M25: 0 | N25: 0 | O25: 0 | P25: 0 | Q25: 0 | R25: 0 | S25: 0 | T25: 0 | U25: 0 | V25: 0 | W25: 0
C26: 23 | D26: HANDEBOL FEMININO - CAMISA - COM MANGA 100% POLIESTER DRYFIT. Nas costas a logomarca (10X18cm) e a numeração (22cm). Logomarca na frente (10X18cm). Com tratamento antibactericida, permite transpiração. Manga curta com punhos em Rib (efeito canelado). Tamanho e cor a definir. | E26: Unidade | F26: Araçá | G26: 339030-14 | H26: 28 | I26: 32 | J26: =I26-(SUM(L26:W26)) -> 0 | K26: =IF(J26<0,"ATENÇÃO","OK") -> OK | L26: 32 | M26: 0 | N26: 0 | O26: 0 | P26: 0 | Q26: 0 | R26: 0 | S26: 0 | T26: 0 | U26: 0 | V26: 0 | W26: 0
C27: 24 | D27: HANDEBOL MASCULINO - CAMISA - Manga curta 100% POLIESTER DRYFIT. Nas costas logomarca (10X18cm) e a numeração (22cm). Logomarca na frente (10X18cm). Com tratamento antibactericida, permite transpiração. Manga curta com punhos em Rib (efeito canelado). Tamanho e cor a definir. | E27: Unidade | F27: Araçá | G27: 339030-14 | H27: 28 | I27: 32 | J27: =I27-(SUM(L27:W27)) -> 32 | K27: =IF(J27<0,"ATENÇÃO","OK") -> OK | L27: 0 | M27: 0 | N27: 0 | O27: 0 | P27: 0 | Q27: 0 | R27: 0 | S27: 0 | T27: 0 | U27: 0 | V27: 0 | W27: 0
C28: 25 | D28: BASQUETE FEMININO - BERMUDA - 100% POLIESTER DRYFIT. Numeração gravada na parte inferior esquerda com dimensões aproximadas de 9X3cm. Modalidade basquete gravada na parte inferior direita com dimensões aproximadas de 9X3cm. Logomarca gravada na parte posterior acima da linha glútea, tamanho aproximado 20x10cm. Tamanho e cor a definir. | E28: Unidade | F28: Araçá | G28: 339030-14 | H28: 20 | I28: 24 | J28: =I28-(SUM(L28:W28)) -> 0 | K28: =IF(J28<0,"ATENÇÃO","OK") -> OK | L28: 24 | M28: 0 | N28: 0 | O28: 0 | P28: 0 | Q28: 0 | R28: 0 | S28: 0 | T28: 0 | U28: 0 | V28: 0 | W28: 0
C29: 26 | D29: BASQUETE MASCULINO - BERMUDA - 100% POLIESTER DRYFIT. Numerada na parte inferior esquerda com dimensões aproximadas de 9X3cm. Modalidade basquete gravada na parte inferior direita com dimensões aproximadas de 9X3cm. Logomarca na parte posterior acima da linha glútea, no tamanho aproximado 20x10cm. Tamanho e cor a definir. | E29: Unidade | F29: Araçá | G29: 339030-14 | H29: 20 | I29: 24 | J29: =I29-(SUM(L29:W29)) -> 0 | K29: =IF(J29<0,"ATENÇÃO","OK") -> OK | L29: 24 | M29: 0 | N29: 0 | O29: 0 | P29: 0 | Q29: 0 | R29: 0 | S29: 0 | T29: 0 | U29: 0 | V29: 0 | W29: 0
C30: 27 | D30: BASQUETE FEMININO - CAMISA - Sem manga 100% POLIESTER DRYFIT, numeração à definir, confeccionadas em poliéster 100% dryfit, com cor a definir. Nas costas: numeração (8X12cm) e logomarca a definir (10X18cm). Na frente: logomarca no centro da camisa (10X18cm). Tamanho e cor a definir. | E30: Unidade | F30: Araçá | G30: 339030-14 | H30: 18 | I30: 24 | J30: =I30-(SUM(L30:W30)) -> 0 | K30: =IF(J30<0,"ATENÇÃO","OK") -> OK | L30: 24 | M30: 0 | N30: 0 | O30: 0 | P30: 0 | Q30: 0 | R30: 0 | S30: 0 | T30: 0 | U30: 0 | V30: 0 | W30: 0
C31: 28 | D31: BASQUETE MASCULINO - CAMISA - Sem manga 100% POLIESTER DRYFIT, numeração à definir, com cor a definir. Nas costas: numeração (8X12cm) e logomarca a definir (10X18cm). Na frente: logomarca no centro da camisa (10X18cm). Tamanho e cor a definir. | E31: Unidade | F31: Araçá | G31: 339030-14 | H31: 20 | I31: 24 | J31: =I31-(SUM(L31:W31)) -> 0 | K31: =IF(J31<0,"ATENÇÃO","OK") -> OK | L31: 24 | M31: 0 | N31: 0 | O31: 0 | P31: 0 | Q31: 0 | R31: 0 | S31: 0 | T31: 0 | U31: 0 | V31: 0 | W31: 0
C32: 29 | D32: ATLETISMO - CALÇÃO UNISSEX- 92% POLIESTER DRYFIT e 8% ELASTANO. com logomarca na frente, nas dimensões aproximadas 6X10cm. Cós com elástico e cordão para ajuste. Estilo Running, dryfit. Tamanho e cor a definir. | E32: Unidade | F32: Araçá | G32: 339030-14 | H32: 18 | I32: 30 | J32: =I32-(SUM(L32:W32)) -> 0 | K32: =IF(J32<0,"ATENÇÃO","OK") -> OK | L32: 30 | M32: 0 | N32: 0 | O32: 0 | P32: 0 | Q32: 0 | R32: 0 | S32: 0 | T32: 0 | U32: 0 | V32: 0 | W32: 0
C33: 30 | D33: ATLETISMO FEMININO - REGATA - 92% POLIESTER DRYFIT e 8% ELASTANO, estilo Running. Com logomarca nas costas, 8X15cm, escrito a palavra atletismo (27X9cm) e logomarca na frente (8x15cm). Tamanho e cor a definir. | E33: Unidade | F33: Araçá | G33: 339030-14 | H33: 18 | I33: 15 | J33: =I33-(SUM(L33:W33)) -> 0 | K33: =IF(J33<0,"ATENÇÃO","OK") -> OK | L33: 15 | M33: 0 | N33: 0 | O33: 0 | P33: 0 | Q33: 0 | R33: 0 | S33: 0 | T33: 0 | U33: 0 | V33: 0 | W33: 0
C34: 31 | D34: ATLETISMO MASCULINO - REGATA - 92% POLIESTER DRYFIT e 8% ELASTANO, estilo Running. Com logomarca nas costas, 8X15cm, escrito a palavra atletismo (27X9cm) e logomarca na frente (8X15cm). Tamanho e cor a definir. | E34: Unidade | F34: Araçá | G34: 339030-14 | H34: 18 | I34: 15 | J34: =I34-(SUM(L34:W34)) -> 0 | K34: =IF(J34<0,"ATENÇÃO","OK") -> OK | L34: 15 | M34: 0 | N34: 0 | O34: 0 | P34: 0 | Q34: 0 | R34: 0 | S34: 0 | T34: 0 | U34: 0 | V34: 0 | W34: 0
C35: 32 | D35: FUTEBOL MASCULINO - CALÇÃO - 100% POLIESTER DRYFIT, com numeração na parte frontal inferior esquerda e logomarca (7x11cm) na parte frontal inferior direita. Cós com elástico e cordão interno. Tamanho e cor a definir. | E35: Unidade | F35: Araçá | G35: 339030-14 | H35: 15 | I35: 40 | J35: =I35-(SUM(L35:W35)) -> 0 | K35: =IF(J35<0,"ATENÇÃO","OK") -> OK | L35: 40 | M35: 0 | N35: 0 | O35: 0 | P35: 0 | Q35: 0 | R35: 0 | S35: 0 | T35: 0 | U35: 0 | V35: 0 | W35: 0
... C37: 34 | D37: FUTEBOL FEMININO - CAMISA - 92% POLIESTER DRYFIT e 8% ELASTANO. Manga curta com punhos em Rib (efeito canelado),com tratamento antibactericida, permite transpiração. Nas costas: numeração (22cm), logomarca (10X18cm) e o nome da modalidade (20x10cm). Na frente logomarca (10X18cm). Tamanho e cor a definir. | E37: Unidade | F37: Araçá | G37: 339030-14 | H37: 30 | I37: 40 | J37: =I37-(SUM(L37:W37)) -> 0 | K37: =IF(J37<0,"ATENÇÃO","OK") -> OK | L37: 40 | M37: 0 | N37: 0 | O37: 0 | P37: 0 | Q37: 0 | R37: 0 | S37: 0 | T37: 0 | U37: 0 | V37: 0 | W37: 0
C38: 35 | D38: FUTEBOL FEMININO - CALÇÃO - 100% POLIESTER DRYFIT, com numeração na parte frontal inferior esquerda e logomarca (7x11cm) na parte frontal inferior direita. Cós com elástico e cordão | F38: Araçá | G38: 339030-14 | H38: 15 | I38: 40 | J38: =I38-(SUM(L38:W38)) -> 0 | K38: =IF(J38<0,"ATENÇÃO","OK") -> OK | L38: 40 | M38: 0 | N38: 0 | O38: 0 | P38: 0 | Q38: 0 | R38: 0 | S38: 0 | T38: 0 | U38: 0 | V38: 0 | W38: 0
C39: 36 | D39: FUTEBOL - MEIÃO UNISSEX - liso sem detalhes. Tamanho a definir. Cor a definir. | E39: Par | F39: Araçá | G39: 339030-14 | H39: 7 | I39: 80 | J39: =I39-(SUM(L39:W39)) -> 0 | K39: =IF(J39<0,"ATENÇÃO","OK") -> OK | L39: 80 | M39: 0 | N39: 0 | O39: 0 | P39: 0 | Q39: 0 | R39: 0 | S39: 0 | T39: 0 | U39: 0 | V39: 0 | W39: 0
C40: 37 | D40: FUTSAL MASCULINO - CAMISA - 100% POLIESTER DRYFIT. Manga curta. Nas costas: numeração (22cm), logomarca (10X18cm) e o nome da modalidade (20x10cm). Na frente logomarca (10X18cm). Com tratamento antibactericida, permite transpiração. Manga curta com punhos em Rib (efeito canelado). Tamanho e cor a definir. | E40: Unidade | F40: Araçá | G40: 339030-14 | H40: 30 | I40: 24 | J40: =I40-(SUM(L40:W40)) -> 0 | K40: =IF(J40<0,"ATENÇÃO","OK") -> OK | L40: 24 | M40: 0 | N40: 0 | O40: 0 | P40: 0 | Q40: 0 | R40: 0 | S40: 0 | T40: 0 | U40: 0 | V40: 0 | W40: 0
C41: 38 | D41: FUTSAL MASCULINO - CALÇÃO - 100% POLIESTER DRYFIT, com numeração na parte frontal inferior esquerda e logomarca (7x11cm) na parte frontal inferior direita. Cós com elástico e cordão interno. Tamanho e cor a definir. | E41: Unidade | F41: Araçá | G41: 339030-14 | H41: 15 | I41: 24 | J41: =I41-(SUM(L41:W41)) -> 0 | K41: =IF(J41<0,"ATENÇÃO","OK") -> OK | L41: 24 | M41: 0 | N41: 0 | O41: 0 | P41: 0 | Q41: 0 | R41: 0 | S41: 0 | T41: 0 | U41: 0 | V41: 0 | W41: 0
C42: 39 | D42: FUTSAL FEMININO - CAMISA - Sem manga, 100% POLIESTER DRYFIT. Na frente: logomarca no centro da camisa (10X18cm). Nas costas: numeração na parte central (8X1cm2), logomarca (10X18cm) e o nome da modalidade 20x10cm. Tamanho e cor a definir. | E42: Unidade | F42: Araçá | G42: 339030-14 | H42: 17 | I42: 24 | J42: =I42-(SUM(L42:W42)) -> 0 | K42: =IF(J42<0,"ATENÇÃO","OK") -> OK | L42: 24 | M42: 0 | N42: 0 | O42: 0 | P42: 0 | Q42: 0 | R42: 0 | S42: 0 | T42: 0 | U42: 0 | V42: 0 | W42: 0
C43: 40 | D43: FUTSAL FEMININO - CALÇÃO - 100% POLIESTER DRYFIT . Cós com elástico com cordão interno. Numeração na parte frontal inferior esquerda e o logomarca (7x11cm) na parte frontal inferior direita. Modalidade Futebol gravada na parte inferior direita com dimensões aproximadas de 9X3cm. Logomarca gravada na parte posterior acima da linha glútea, tamanho aproximado 20x10cm. Tamanho e cor a definir. | E43: Unidade | F43: Araçá | G43: 339030-14 | H43: 15 | I43: 24 | J43: =I43-(SUM(L43:W43)) -> 0 | K43: =IF(J43<0,"ATENÇÃO","OK") -> OK | L43: 24 | M43: 0 | N43: 0 | O43: 0 | P43: 0 | Q43: 0 | R43: 0 | S43: 0 | T43: 0 | U43: 0 | V43: 0 | W43: 0
C44: 41 | D44: VOLEIBOL FEMININO - CAMISA sem manga, confeccionadas em poliéster 100% dryfit. Na frente: logomarca no centro da camisa (10X18cm). Nas costas: numeração na parte central (8X1cm2), logomarca (10X18cm) e o nome da modalidade 20x10cm. Tamanho e cor a definir. | E44: Unidade | F44: Araçá | G44: 339030-14 | H44: 17 | I44: 24 | J44: =I44-(SUM(L44:W44)) -> 0 | K44: =IF(J44<0,"ATENÇÃO","OK") -> OK | L44: 24 | M44: 0 | N44: 0 | O44: 0 | P44: 0 | Q44: 0 | R44: 0 | S44: 0 | T44: 0 | U44: 0 | V44: 0 | W44: 0
C45: 42 | D45: VOLEIBOL FEMININO - CAMISA com manga, confeccionadas em poliéster 100% dryfit. Na frente: logomarca no centro da camisa (10X18cm). Nas costas: numeração na parte central (8X1cm2), logomarca (10X18cm) e o nome da modalidade 20x10cm. Tamanho e cor a definir. | E45: Unidade | F45: Araçá | G45: 339030-14 | H45: 30 | I45: 24 | J45: =I45-(SUM(L45:W45)) -> 24 | K45: =IF(J45<0,"ATENÇÃO","OK") -> OK | L45: 0 | M45: 0 | N45: 0 | O45: 0 | P45: 0 | Q45: 0 | R45: 0 | S45: 0 | T45: 0 | U45: 0 | V45: 0 | W45: 0
C46: 43 | D46: VOLEIBOL FEMININO - SHORT - confeccionados em 90% poliéster 10% elastano, numeradas na parte inferior direita. E na parte inferior esquerda a logomarca e o nome do centro. Tamanho e cor a definir. | E46: Unidade | F46: Araçá | G46: 339030-14 | H46: 20 | I46: 24 | J46: =I46-(SUM(L46:W46)) -> 0 | K46: =IF(J46<0,"ATENÇÃO","OK") -> OK | L46: 24 | M46: 0 | N46: 0 | O46: 0 | P46: 0 | Q46: 0 | R46: 0 | S46: 0 | T46: 0 | U46: 0 | V46: 0 | W46: 0
C47: 44 | D47: VOLEIBOL MASCULINO - CAMISA - com manga, 100% POLIESTER DRYFIT. Na frente: logomarca no centro da camisa (10X18cm). Nas costas: numeração na parte central (8X1cm2), logomarca (10X18cm) e o nome da modalidade 20x10cm. Tamanho e cor a definir. | E47: Unidade | F47: Araçá | G47: 339030-14 | H47: 33 | I47: 24 | J47: =I47-(SUM(L47:W47)) -> 0 | K47: =IF(J47<0,"ATENÇÃO","OK") -> OK | L47: 24 | M47: 0 | N47: 0 | O47: 0 | P47: 0 | Q47: 0 | R47: 0 | S47: 0 | T47: 0 | U47: 0 | V47: 0 | W47: 0
C48: 45 | D48: VOLEIBOL MASCULINO - CALÇÃO - Calções confeccionados em poliéster 100%, dryfit, levam o número na parte inferior direita. Logomarca na parte inferior esquerda (7X11cm). Tamanho e cor a definir. | E48: Unidade | F48: Araçá | G48: 339030-14 | H48: 15 | I48: 24 | J48: =I48-(SUM(L48:W48)) -> 0 | K48: =IF(J48<0,"ATENÇÃO","OK") -> OK | L48: 24 | M48: 0 | N48: 0 | O48: 0 | P48: 0 | Q48: 0 | R48: 0 | S48: 0 | T48: 0 | U48: 0 | V48: 0 | W48: 0
C49: 46 | D49: VÔLEI PRAIA MASCULINO - REGATA - 100% POLIESTER DRYFIT. NOME da IES, CAMPUS e MODALIDADE. Tamanho e cor a definir. | E49: Unidade | F49: Araçá | G49: 339030-14 | H49: 27 | I49: 8 | J49: =I49-(SUM(L49:W49)) -> 4 | K49: =IF(J49<0,"ATENÇÃO","OK") -> OK | L49: 4 | M49: 0 | N49: 0 | O49: 0 | P49: 0 | Q49: 0 | R49: 0 | S49: 0 | T49: 0 | U49: 0 | V49: 0 | W49: 0
C50: 47 | D50: VÔLEI PRAIA MASCULINO - CALÇÃO - 100% POLIESTER DRYFIT, com numeração na parte frontal inferior esquerda e logomarca (7x11cm) na parte frontal inferior direita. Cós com elástico e cordão interno. Tamanho e cor a definir. | E50: Unidade | F50: Araçá | G50: 339030-14 | H50: 15 | I50: 8 | J50: =I50-(SUM(L50:W50)) -> 4 | K50: =IF(J50<0,"ATENÇÃO","OK") -> OK | L50: 4 | M50: 0 | N50: 0 | O50: 0 | P50: 0 | Q50: 0 | R50: 0 | S50: 0 | T50: 0 | U50: 0 | V50: 0 | W50: 0
... C56: 53 | D56: FUTEVÔLEI FEMININO - SHORT - 90% poliéster 10% elastano, numeradas na parte inferior direita. E na parte inferior esquerda a logomarca e o nome do centro.Tamanho e cor a definir. Tamanho e cor a definir. | E56: Unidade | F56: Araçá | G56: 339030-14 | H56: 25 | I56: 8 | J56: =I56-(SUM(L56:W56)) -> 4 | K56: =IF(J56<0,"ATENÇÃO","OK") -> OK | L56: 4 | M56: 0 | N56: 0 | O56: 0 | P56: 0 | Q56: 0 | R56: 0 | S56: 0 | T56: 0 | U56: 0 | V56: 0 | W56: 0
C57: 54 | D57: Calções confeccionados em poliéster 100%, dryfit, levam o número na parte inferior direita. Logomarca na parte inferior esquerda (7X11cm). Tamanho e cor a definir. | E57: Unidade | F57: Araçá | G57: 339030-14 | H57: 15 | J57: =I57-(SUM(L57:W57)) -> 0 | K57: =IF(J57<0,"ATENÇÃO","OK") -> OK | L57: 0 | M57: 0 | N57: 0 | O57: 0 | P57: 0 | Q57: 0 | R57: 0 | S57: 0 | T57: 0 | U57: 0 | V57: 0 | W57: 0
C58: 55 | D58: Bermuda confeccionada em poliéster 100% dryfit. Numeração gravada na parte inferior esquerda com dimensões aproximadas de 9X3cm. Com logomarca na parte inferior direita com dimensões aproximadas de 9X3cm. Tamanho e cor a definir. | E58: Unidade | F58: Araçá | G58: 339030-14 | H58: 40 | J58: =I58-(SUM(L58:W58)) -> 0 | K58: =IF(J58<0,"ATENÇÃO","OK") -> OK | L58: 0 | M58: 0 | N58: 0 | O58: 0 | P58: 0 | Q58: 0 | R58: 0 | S58: 0 | T58: 0 | U58: 0 | V58: 0 | W58: 0
C59: 56 | D59: TENIS DE CAMPO MASCULINO - CAMISA - 100% POLIESTER DRYFIT com gola. Modelo oficial tênis de campo. Na frente: logomarca no centro da camisa (10X18cm). Nas costas: logomarca (10X18cm) e o nome da modalidade 20x10cm. Tamanho e cor a definir. | E59: Unidade | F59: Araçá | G59: 339030-14 | H59: 30 | I59: 8 | J59: =I59-(SUM(L59:W59)) -> 4 | K59: =IF(J59<0,"ATENÇÃO","OK") -> OK | L59: 4 | M59: 0 | N59: 0 | O59: 0 | P59: 0 | Q59: 0 | R59: 0 | S59: 0 | T59: 0 | U59: 0 | V59: 0 | W59: 0
C60: 57 | D60: TENIS DE CAMPO FEMININO - CAMISETE - 100% POLIESTER DRYFIT com gola. Modelo oficial tênis de campo. Na frente: logomarca no centro da camisa (10X18cm). Nas costas: logomarca (10X18cm) e o nome da modalidade 20x10cm. Tamanho e cor a definir. | E60: Unidade | F60: Araçá | G60: 339030-14 | H60: 30 | I60: 8 | J60: =I60-(SUM(L60:W60)) -> 4 | K60: =IF(J60<0,"ATENÇÃO","OK") -> OK | L60: 4 | M60: 0 | N60: 0 | O60: 0 | P60: 0 | Q60: 0 | R60: 0 | S60: 0 | T60: 0 | U60: 0 | V60: 0 | W60: 0
C61: 58 | D61: TENIS DE MESA MASCULINO - CAMISA - 100% POLIESTER DRYFIT com gola. Modelo oficial tênis de mesa. Na frente: logomarca no centro da camisa (10X18cm). Nas costas: logomarca (10X18cm) e o nome da modalidade 20x10cm. Tamanho e cor a definir. | E61: Unidade | F61: Araçá | G61: 339030-14 | H61: 30 | I61: 8 | J61: =I61-(SUM(L61:W61)) -> 4 | K61: =IF(J61<0,"ATENÇÃO","OK") -> OK | L61: 4 | M61: 0 | N61: 0 | O61: 0 | P61: 0 | Q61: 0 | R61: 0 | S61: 0 | T61: 0 | U61: 0 | V61: 0 | W61: 0
C62: 59 | D62: TENIS DE MESA FEMININO - CAMISETE - 100% POLIESTER DRYFIT com gola. Modelo oficial tênis de mesa. Na frente: logomarca no centro da camisa (10X18cm). Nas costas: logomarca (10X18cm) e o nome da modalidade 20x10cm. Tamanho e cor a definir. | E62: Unidade | F62: Araçá | G62: 339030-14 | H62: 37 | I62: 8 | J62: =I62-(SUM(L62:W62)) -> 4 | K62: =IF(J62<0,"ATENÇÃO","OK") -> OK | L62: 4 | M62: 0 | N62: 0 | O62: 0 | P62: 0 | Q62: 0 | R62: 0 | S62: 0 | T62: 0 | U62: 0 | V62: 0 | W62: 0
C63: 60 | D63: NATAÇÃO UNISSEX - CAMISA - 100% POLIESTER DRYFIT com gola. Na frente: logomarca no centro da camisa (10X18cm). Nas costas: logomarca (10X18cm) e o nome da modalidade 20x10cm. Tamanho e cor a definir. | E63: Unidade | F63: Araçá | G63: 339030-14 | H63: 40 | I63: 30 | J63: =I63-(SUM(L63:W63)) -> 10 | K63: =IF(J63<0,"ATENÇÃO","OK") -> OK | L63: 20 | M63: 0 | N63: 0 | O63: 0 | P63: 0 | Q63: 0 | R63: 0 | S63: 0 | T63: 0 | U63: 0 | V63: 0 | W63: 0
C64: 61 | D64: XADREZ MASCULINO - CAMISETA - Gola polo, malha Piquet P.A. SERIGRAFADO com logomarca no lado esquerdo do peito, de 9X5cm, e SERIGRAFADO com logomarca de 8X3cm na manga direita. Tamanho e cor a definir. | E64: Unidade | F64: Araçá | G64: 339030-14 | H64: 27 | I64: 12 | J64: =I64-(SUM(L64:W64)) -> 8 | K64: =IF(J64<0,"ATENÇÃO","OK") -> OK | L64: 4 | M64: 0 | N64: 0 | O64: 0 | P64: 0 | Q64: 0 | R64: 0 | S64: 0 | T64: 0 | U64: 0 | V64: 0 | W64: 0
C65: 62 | D65: XADREZ FEMININO - CAMISETA - Gola polo, malha Piquet P.A. SERIGRAFADO com logomarca no lado esquerdo do peito, de 9X5cm, e SERIGRAFADO com logomarca de 8X3cm na manga direita. Tamanho e cor a definir. | E65: Unidade | F65: Araçá | G65: 339030-14 | H65: 27 | I65: 12 | J65: =I65-(SUM(L65:W65)) -> 8 | K65: =IF(J65<0,"ATENÇÃO","OK") -> OK | L65: 4 | M65: 0 | N65: 0 | O65: 0 | P65: 0 | Q65: 0 | R65: 0 | S65: 0 | T65: 0 | U65: 0 | V65: 0 | W65: 0
C66: 63 | D66: RUGBY - CALÇÃO - Material brin, com numeração na parte frontal inferior esquerda e logomarca (7x11cm) na parte frontal inferior direita. Cós com elástico e cordão interno. Tamanho e cor a definir. | E66: Unidade | F66: Araçá | G66: 339030-14 | H66: 48 | I66: 15 | J66: =I66-(SUM(L66:W66)) -> 15 | K66: =IF(J66<0,"ATENÇÃO","OK") -> OK | L66: 0 | M66: 0 | N66: 0 | O66: 0 | P66: 0 | Q66: 0 | R66: 0 | S66: 0 | T66: 0 | U66: 0 | V66: 0 | W66: 0
C67: 64 | D67: RUGBY - CAMISAS - Material: Elastano e poliamida Com a logomarca de 9x5cm no peito no lado esquerdo, numeração (22 cm) nas costas. Tamanho e cor a definir. | E67: Unidade | F67: Araçá | G67: 339030-14 | H67: 30 | I67: 15 | J67: =I67-(SUM(L67:W67)) -> 15 | K67: =IF(J67<0,"ATENÇÃO","OK") -> OK | L67: 0 | M67: 0 | N67: 0 | O67: 0 | P67: 0 | Q67: 0 | R67: 0 | S67: 0 | T67: 0 | U67: 0 | V67: 0 | W67: 0
C68: 65 | D68: BADMINTON - CAMISA UNISSEX - com manga, confeccionadas em poliéster 100% dryfit. Na frente: logomarca no lado esquerdo (10x18cm). Nas costas: nome da modalidade (10x30cm) e função (10x30cm). Para uniforme de Badminton masculino e feminino. Tamanho e cor a definir. | E68: Unidade | F68: Araçá | G68: 339030-14 | H68: 40 | J68: =I68-(SUM(L68:W68)) -> 0 | K68: =IF(J68<0,"ATENÇÃO","OK") -> OK | L68: 0 | M68: 0 | N68: 0 | O68: 0 | P68: 0 | Q68: 0 | R68: 0 | S68: 0 | T68: 0 | U68: 0 | V68: 0 | W68: 0
C69: 66 | D69: Colete confeccionado em tecido misto, composto de 67% de fibra de poliéster e 33% de fibra de algodão, com gramatura de 221 gm2. A frente deverá ser aberta, com fechamento em zíper, possuindo dois bolsos superiores (fechados por velcro) na altura do tórax e dois bolsos inferiores, na altura do abdômen, medindo 17cm de largura e 22cm de altura. Boca fechada por velcro e fole de 2cm em toda a extensão do mesmo (fechados por velcro). No bolso direito superior, deverá estar sylkado o logomarca a definir, no bolso esquerdo superior deverá ser bordado inscrição a definir. Nas costas do colete, deverá estar sylkado, o logomarca e inscrição a definir. Tamanho e cor a definir. | E69: Unidade | F69: Araçá | G69: 339030-23 | H69: 27 | I69: 1000 | J69: =I69-(SUM(L69:W69)) -> 500 | K69: =IF(J69<0,"ATENÇÃO","OK") -> OK | L69: 500 | M69: 0 | N69: 0 | O69: 0 | P69: 0 | Q69: 0 | R69: 0 | S69: 0 | T69: 0 | U69: 0 | V69: 0 | W69: 0
C70: 67 | D70: Colete confecionado em tecido 100% poliamida (tactel), contendo dois bolsos -um na esquerda e outro na direita. Viés de acabamento da mesma cor. Na frente logomarca a definir, e palavra de identificação (a definir), no lado direito. Ajuste nas laterais com dois elásticos, de aproximadamente 18 cm, um em cada lado. Tamanho e cor a definir. | E70: Unidade | F70: Araçá | G70: 339030-23 | H70: 20 | J70: =I70-(SUM(L70:W70)) -> 0 | K70: =IF(J70<0,"ATENÇÃO","OK") -> OK | L70: 0 | M70: 0 | N70: 0 | O70: 0 | P70: 0 | Q70: 0 | R70: 0 | S70: 0 | T70: 0 | U70: 0 | V70: 0 | W70: 0
C71: 68 | D71: Colete 100% poliéster para treinamento, numerados nas costas, medindo aproximadamente 22cm de altura e 11cm de largura. Logomarca a definir na frente (10X18cm).Tamanho e cor a definir. | E71: Unidade | F71: Araçá | G71: 339030-14 | H71: 8 | I71: 80 | J71: =I71-(SUM(L71:W71)) -> 80 | K71: =IF(J71<0,"ATENÇÃO","OK") -> OK | L71: 0 | M71: 0 | N71: 0 | O71: 0 | P71: 0 | Q71: 0 | R71: 0 | S71: 0 | T71: 0 | U71: 0 | V71: 0 | W71: 0
C72: 69 | D72: Conjunto para prática desportiva, agasalho de seletel. Contendo blusa e calça, confeccionado em 100% poliéster. Blusa: abertura frontal com fechamento em zíper, cós e punhos em RIB elástico, bolsos laterais com fechamento em zíper, com logomarca bordada no lado esquerdo do peito, dimensões aproximadas de 9X5cm e com a logomarca bordado nas costas e o nome da função (a definir), dimensões aproximadas 20X25cm. Calça: cós com elástico e cordão para ajuste, bolsos laterais com fechamento em zíper, bordado com a logomarca no lado esquerdo da calça, dimensões aproximadas 9X5cm, com zíper destacável na altura do joelho para transformar a calça em bermuda. Tamanho e cor a definir. | E72: Unidade | F72: Araçá | G72: 339030-14 | H72: 90 | I72: 200 | J72: =I72-(SUM(L72:W72)) -> 0 | K72: =IF(J72<0,"ATENÇÃO","OK") -> OK | L72: 200 | M72: 0 | N72: 0 | O72: 0 | P72: 0 | Q72: 0 | R72: 0 | S72: 0 | T72: 0 | U72: 0 | V72: 0 | W72: 0
C73: 70 | D73: Conjunto para prática desportiva, agasalho de seletel. Contendo blusa e calça, confeccionado em 100% poliéster. Blusa: abertura frontal com fechamento em zíper, cós e punhos em RIB elástico, bolsos laterais com fechamento em zíper, com logomarca serigrafada no lado esquerdo do peito, dimensões aproximadas de 9X5cm e com serigrafia da logomarca nas costas e do nome da função (a definir), dimensões aproximadas 20X25cm. Calça: cós com elástico e cordão para ajuste, bolsos laterais com fechamento em zíper, bordado com a logomarca no lado esquerdo da calça, dimensões aproximadas 9X5cm, com zíper destacável na altura do joelho para transformar a calça em bermuda. Tamanho e cor a definir. | E73: Unidade | F73: Araçá | G73: 339030-14 | H73: 118.95 | J73: =I73-(SUM(L73:W73)) -> 0 | K73: =IF(J73<0,"ATENÇÃO","OK") -> OK | L73: 0 | M73: 0 | N73: 0 | O73: 0 | P73: 0 | Q73: 0 | R73: 0 | S73: 0 | T73: 0 | U73: 0 | V73: 0 | W73: 0
C74: 71 | D74: Bandeira Personalizada, em poliéster. Dimensões: 2,5 panos: 1,12x1,60m. | E74: Unidade | F74: Araçá | G74: 339030-50 | H74: 90 | I74: 10 | J74: =I74-(SUM(L74:W74)) -> 10 | K74: =IF(J74<0,"ATENÇÃO","OK") -> OK | L74: 0 | M74: 0 | N74: 0 | O74: 0 | P74: 0 | Q74: 0 | R74: 0 | S74: 0 | T74: 0 | U74: 0 | V74: 0 | W74: 0
C75: 72 | D75: Bandeira Personalizada, em poliéster. Dimensões: Largura: 1,25m e Altura: 0,90m. | E75: Unidade | F75: Araçá | G75: 339030-50 | H75: 110 | I75: 20 | J75: =I75-(SUM(L75:W75)) -> 20 | K75: =IF(J75<0,"ATENÇÃO","OK") -> OK | L75: 0 | M75: 0 | N75: 0 | O75: 0 | P75: 0 | Q75: 0 | R75: 0 | S75: 0 | T75: 0 | U75: 0 | V75: 0 | W75: 0
C76: 73 | D76: Bolsa para fardamento confeccionada em nylon, com zíper, com alça para carregar no ombro e alça de mão. Dimensões mínimas de 120cm de altura e 80cm de largura. Com a logomarca em 3 cores. | E76: Unidade | F76: Araçá | G76: 339030-23 | H76: 35 | I76: 10 | J76: =I76-(SUM(L76:W76)) -> 0 | K76: =IF(J76<0,"ATENÇÃO","OK") -> OK | L76: 10 | M76: 0 | N76: 0 | O76: 0 | P76: 0 | Q76: 0 | R76: 0 | S76: 0 | T76: 0 | U76: 0 | V76: 0 | W76: 0
C77: 74 | D77: Malote confeccionado em lona, contendo visor de plástico para identificação do material constante no interior do malote. O malote deverá ser de meias argolas e tiras com ilhoses. Tamanho aproximado:40x50x15 | E77: Unidade | F77: Araçá | G77: 339030-23 | H77: 80 | J77: =I77-(SUM(L77:W77)) -> 0 | K77: =IF(J77<0,"ATENÇÃO","OK") -> OK | L77: 0 | M77: 0 | N77: 0 | O77: 0 | P77: 0 | Q77: 0 | R77: 0 | S77: 0 | T77: 0 | U77: 0 | V77: 0 | W77: 0
A78: Weikki Confecções LTDA - EPP | B78: 5 | C78: 75 | D78: Tecido Tule, cor a definir. | E78: Metro | F78: Weikki | G78: 339030-23 | H78: 2 | J78: =I78-(SUM(L78:W78)) -> 0 | K78: =IF(J78<0,"ATENÇÃO","OK") -> OK | L78: 0 | M78: 0 | N78: 0 | O78: 0 | P78: 0 | Q78: 0 | R78: 0 | S78: 0 | T78: 0 | U78: 0 | V78: 0 | W78: 0
C79: 77 | D79: Tecido malha de algodão cru, 1,50m de largura. Cor a definir. | E79: Metro | F79: Weikki | G79: 339030-23 | H79: 8.95 | J79: =I79-(SUM(L79:W79)) -> 0 | K79: =IF(J79<0,"ATENÇÃO","OK") -> OK | L79: 0 | M79: 0 | N79: 0 | O79: 0 | P79: 0 | Q79: 0 | R79: 0 | S79: 0 | T79: 0 | U79: 0 | V79: 0 | W79: 0
C80: 78 | D80: Tecido em cetim, largura 1,20m. Cor a definir. | E80: Metro | F80: Weikki | G80: 339030-23 | H80: 6.09 | J80: =I80-(SUM(L80:W80)) -> 0 | K80: =IF(J80<0,"ATENÇÃO","OK") -> OK | L80: 0 | M80: 0 | N80: 0 | O80: 0 | P80: 0 | Q80: 0 | R80: 0 | S80: 0 | T80: 0 | U80: 0 | V80: 0 | W80: 0
C81: 79 | D81: Malha de Helanca. Largura mínima 1,50m. Cor a definir. | E81: Metro | F81: Weikki | G81: 339030-23 | H81: 10.46 | J81: =I81-(SUM(L81:W81)) -> 0 | K81: =IF(J81<0,"ATENÇÃO","OK") -> OK | L81: 0 | M81: 0 | N81: 0 | O81: 0 | P81: 0 | Q81: 0 | R81: 0 | S81: 0 | T81: 0 | U81: 0 | V81: 0 | W81: 0
C82: 80 | D82: Tecido TNT em metro. Cor a definir. | E82: Metro | F82: Weikki | G82: 339030-23 | H82: 0.98 | J82: =I82-(SUM(L82:W82)) -> 0 | K82: =IF(J82<0,"ATENÇÃO","OK") -> OK | L82: 0 | M82: 0 | N82: 0 | O82: 0 | P82: 0 | Q82: 0 | R82: 0 | S82: 0 | T82: 0 | U82: 0 | V82: 0 | W82: 0
C83: 81 | D83: Tecido, Chita ou Chitão Estampado, 100% algodão, largura mínima 1,20m. Estampa a definir. | E83: Metro | F83: Weikki | G83: 339030-23 | H83: 15.3 | J83: =I83-(SUM(L83:W83)) -> 0 | K83: =IF(J83<0,"ATENÇÃO","OK") -> OK | L83: 0 | M83: 0 | N83: 0 | O83: 0 | P83: 0 | Q83: 0 | R83: 0 | S83: 0 | T83: 0 | U83: 0 | V83: 0 | W83: 0
A84: ADBX Comércio de Serviços LTDA - ME | B84: 6 | C84: 82 | D84: Campos cirurgicos: Brim - tecido 100% algodão. Gramatura 260g/m². Cor verde bandeira ou marinho. Tamanho: 1,40 x 1,70 m | E84: Peça | F84: K.B | G84: 339030-23 | H84: 48 | J84: =I84-(SUM(L84:W84)) -> 0 | K84: =IF(J84<0,"ATENÇÃO","OK") -> OK | L84: 0 | M84: 0 | N84: 0 | O84: 0 | P84: 0 | Q84: 0 | R84: 0 | S84: 0 | T84: 0 | U84: 0 | V84: 0 | W84: 0
C85: 83 | D85: Campos cirurgicos: Brim - tecido 100% algodão. Gramatura 260g/m². Cor verde bandeira ou marinho. Tamanho: 1,00 x 1,00 m | E85: Peça | F85: K.B | G85: 339030-23 | H85: 28 | J85: =I85-(SUM(L85:W85)) -> 0 | K85: =IF(J85<0,"ATENÇÃO","OK") -> OK | L85: 0 | M85: 0 | N85: 0 | O85: 0 | P85: 0 | Q85: 0 | R85: 0 | S85: 0 | T85: 0 | U85: 0 | V85: 0 | W85: 0
C86: 84 | D86: Campo cirurgico com fenestra: Brim - tecido 100% algodão. Gramatura 260g/m². Cor verde bandeira ou marinho. Tamanho: 0,50 x 0,50 m | E86: Peça | F86: K.B | G86: 339030-23 | H86: 20 | J86: =I86-(SUM(L86:W86)) -> 0 | K86: =IF(J86<0,"ATENÇÃO","OK") -> OK | L86: 0 | M86: 0 | N86: 0 | O86: 0 | P86: 0 | Q86: 0 | R86: 0 | S86: 0 | T86: 0 | U86: 0 | V86: 0 | W86: 0
C87: 85 | D87: Campos cirurgicos: Brim - tecido 100% algodão. Gramatura 260g/m². Cor verde bandeira ou marinho. Tamanho: 0,50 x 0,50 m | E87: Peça | F87: K.B | G87: 339030-23 | H87: 12 | J87: =I87-(SUM(L87:W87)) -> 0 | K87: =IF(J87<0,"ATENÇÃO","OK") -> OK | L87: 0 | M87: 0 | N87: 0 | O87: 0 | P87: 0 | Q87: 0 | R87: 0 | S87: 0 | T87: 0 | U87: 0 | V87: 0 | W87: 0
C88: 86 | D88: Avental cirúrgico em brim: Brim - tecido 100% algodão. Gramatura 260g/m². Cor verde bandeira ou marinho. Tamanho único | E88: Peça | F88: K.B | G88: 339030-23 | H88: 50 | J88: =I88-(SUM(L88:W88)) -> 0 | K88: =IF(J88<0,"ATENÇÃO","OK") -> OK | L88: 0 | M88: 0 | N88: 0 | O88: 0 | P88: 0 | Q88: 0 | R88: 0 | S88: 0 | T88: 0 | U88: 0 | V88: 0 | W88: 0
C89: 87 | D89: Camisola para exame ginecológico: Tecido 100% algodão, lavado e pré-encolhido na cor verde ou branco. Tamanho único | E89: Peça | F89: K.B | G89: 339030-23 | H89: 38 | J89: =I89-(SUM(L89:W89)) -> 0 | K89: =IF(J89<0,"ATENÇÃO","OK") -> OK | L89: 0 | M89: 0 | N89: 0 | O89: 0 | P89: 0 | Q89: 0 | R89: 0 | S89: 0 | T89: 0 | U89: 0 | V89: 0 | W89: 0
C90: 88 | D90: Avental cirúrgico em brim: Brim - tecido 100% algodão. Gramatura 260g/m². Cor verde bandeira ou marinho. Tamanho grande | E90: Peça | F90: K.B | G90: 339030-23 | H90: 48 | J90: =I90-(SUM(L90:W90)) -> 0 | K90: =IF(J90<0,"ATENÇÃO","OK") -> OK | L90: 0 | M90: 0 | N90: 0 | O90: 0 | P90: 0 | Q90: 0 | R90: 0 | S90: 0 | T90: 0 | U90: 0 | V90: 0 | W90: 0
C91: 89 | D91: Lençóis para maca: algodão ou percal ou microfibra na cor branca. Tamanho: 1,00 x 2,00 m | E91: Peça | F91: K.B | G91: 339030-23 | H91: 58 | J91: =I91-(SUM(L91:W91)) -> 0 | K91: =IF(J91<0,"ATENÇÃO","OK") -> OK | L91: 0 | M91: 0 | N91: 0 | O91: 0 | P91: 0 | Q91: 0 | R91: 0 | S91: 0 | T91: 0 | U91: 0 | V91: 0 | W91: 0
C92: 90 | D92: Colchas: em Piquet na cor verde ou branco. Tamanho: 1,60x 2,50m | E92: Peça | F92: K.B | G92: 339030-23 | H92: 90 | J92: =I92-(SUM(L92:W92)) -> 0 | K92: =IF(J92<0,"ATENÇÃO","OK") -> OK | L92: 0 | M92: 0 | N92: 0 | O92: 0 | P92: 0 | Q92: 0 | R92: 0 | S92: 0 | T92: 0 | U92: 0 | V92: 0 | W92: 0
C93: 91 | D93: "Pijama Cirúrgico" - calça e camisa (para uso em centro cirúrgico): em algodão na cor verde ou marinho. Tamanho médio | E93: Peça | F93: K.B | G93: 339030-23 | H93: 85.7 | J93: =I93-(SUM(L93:W93)) -> 0 | K93: =IF(J93<0,"ATENÇÃO","OK") -> OK | L93: 0 | M93: 0 | N93: 0 | O93: 0 | P93: 0 | Q93: 0 | R93: 0 | S93: 0 | T93: 0 | U93: 0 | V93: 0 | W93: 0
C94: 92 | D94: "Pijama Cirúrgico" - calça e camisa (para uso em centro cirúrgico): em algodão na cor verde ou marinho. Tamanho grande | E94: Peça | F94: K.B | G94: 339030-23 | H94: 90 | J94: =I94-(SUM(L94:W94)) -> 0 | K94: =IF(J94<0,"ATENÇÃO","OK") -> OK | L94: 0 | M94: 0 | N94: 0 | O94: 0 | P94: 0 | Q94: 0 | R94: 0 | S94: 0 | T94: 0 | U94: 0 | V94: 0 | W94: 0
C95: 93 | D95: "Pijama Cirúrgico" - calça e camisa (para uso em centro cirúrgico): em algodão na cor verde ou marinho. Tamanho GG | E95: Peça | F95: K.B | G95: 339030-23 | H95: 90 | J95: =I95-(SUM(L95:W95)) -> 0 | K95: =IF(J95<0,"ATENÇÃO","OK") -> OK | L95: 0 | M95: 0 | N95: 0 | O95: 0 | P95: 0 | Q95: 0 | R95: 0 | S95: 0 | T95: 0 | U95: 0 | V95: 0 | W95: 0
C96: 94 | D96: Jalecos em tecido Microfibra, na cor branca, comprimento longo (mínimo de 85cm), manga longa, com 1 bolso superior esquerdo e 2 inferiores, mínimo de 05 botões (com sistema de abotoamento embutido, em que os botões não fiquem aparentes), marca da UDESC bordada na manga direita nas dimensões aproximadas de 8x3cm, do CEFID bordada na manga esquerda nas dimensões aproximadas de 8x3cm e marca da Clínica Escola de Fisioterapia bordada no lado esquerdo do peito (no bolso) nas dimensões aproximadas de 9x5cm. Definir cortes femininos e masculinos com o solicitante antes da execução do serviço. | E96: Peça | F96: K.B | G96: 339030-23 | H96: 78 | J96: =I96-(SUM(L96:W96)) -> 0 | K96: =IF(J96<0,"ATENÇÃO","OK") -> OK | L96: 0 | M96: 0 | N96: 0 | O96: 0 | P96: 0 | Q96: 0 | R96: 0 | S96: 0 | T96: 0 | U96: 0 | V96: 0 | W96: 0

Sheet REITORIA_COVEST
A1: PROCESSO: 0502/2015/UDESC | D1: OBJETO: Aquisição de Rouparia para a UDESC | I1: VIGÊNCIA DA ATA: 14/07/2015 até 13/07/2016 | L1: AF/OS nº xxxx/2015 Qtde. DT | M1: AF/OS nº xxxx/2015 Qtde. DT | N1: AF/OS nº xxxx/2015 Qtde. DT | O1: AF/OS nº xxxx/2015 Qtde. DT | P1: AF/OS nº xxxx/2015 Qtde. DT | Q1: AF/OS nº xxxx/2015 Qtde. DT | R1: AF/OS nº xxxx/2015 Qtde. DT | S1: AF/OS nº xxxx/2015 Qtde. DT | T1: AF/OS nº xxxx/2015 Qtde. DT | U1: AF/OS nº xxxx/2015 Qtde. DT | V1: AF/OS nº xxxx/2015 Qtde. DT | W1: AF/OS nº xxxx/2015 Qtde. DT
A2: CENTRO PARTICIPANTE: Reitoria/COVEST
A3: FORNECEDOR | B3: LOTE | C3: ITEM | D3: PRODUTO - CARACTERÍSTICAS MÍNIMAS | E3: UNIDADE | F3: MARCA | G3: DETALHAMENTO | H3: Preço UNITÁRIO (R$) | I3: Qtde Registrada | J3: Saldo / Automático | K3: ALERTA | L3: ...../...../...... | M3: ...../...../...... | N3: ...../...../...... | O3: ...../...../...... | P3: ...../...../...... | Q3: ...../...../...... | R3: ...../...../...... | S3: ...../...../...... | T3: ...../...../...... | U3: ...../...../...... | V3: ...../...../...... | W3: ...../...../......
A4: Tracton Indústria e Comércio LTDA - EPP | B4: 1 | C4: 1 | D4: Fronha de tecido cretone, 100% algodão, dimensões aproximadas de 0,50cm de largura e 0,60cm de comprimento, com logomarca a ser definida impressa no centro com as dimensões de 14x13cm aproximadamente. Cor a definir. | E4: Unidade | F4: Tracton | G4: 339030-20 | H4: 25 | J4: =I4-(SUM(L4:W4)) -> 0 | K4: =IF(J4<0,"ATENÇÃO","OK") -> OK | L4: 0 | M4: 0 | N4: 0 | O4: 0 | P4: 0 | Q4: 0 | R4: 0 | S4: 0 | T4: 0 | U4: 0 | V4: 0 | W4: 0
C5: 2 | D5: Lençol de tecido, com elástico, 100% algodão, dimensões aproximadas: 1,30m de largura e 2m de comprimento. Logomarca a ser definida impressa no centro, dimensões de 14x13cm aproximadamente. | E5: Unidade | F5: Tracton | G5: 339030-20 | H5: 50 | J5: =I5-(SUM(L5:W5)) -> 0 | K5: =IF(J5<0,"ATENÇÃO","OK") -> OK | L5: 0 | M5: 0 | N5: 0 | O5: 0 | P5: 0 | Q5: 0 | R5: 0 | S5: 0 | T5: 0 | U5: 0 | V5: 0 | W5: 0
C6: 3 | D6: Lençol de tecido, sem elástico, 100% algodão, dimensões aproximadas: 1,30m de largura e 2m de comprimento, com logomarca a ser definida impressa no centro, com 14x13cm aproximadamente. | E6: Unidade | F6: Tracton | G6: 339030-20 | H6: 50 | J6: =I6-(SUM(L6:W6)) -> 0 | K6: =IF(J6<0,"ATENÇÃO","OK") -> OK | L6: 0 | M6: 0 | N6: 0 | O6: 0 | P6: 0 | Q6: 0 | R6: 0 | S6: 0 | T6: 0 | U6: 0 | V6: 0 | W6: 0
C7: 4 | D7: Toalha de mesa, de cetim, medindo aproximadamente 1,20m x60cm. Com logomarca bordada no centro da toalha, tamanho mínimo 30cm x 30 cm. Cor a definir. | E7: Unidade | F7: Tracton | G7: 339030-20 | H7: 61 | J7: =I7-(SUM(L7:W7)) -> 0 | K7: =IF(J7<0,"ATENÇÃO","OK") -> OK | L7: 0 | M7: 0 | N7: 0 | O7: 0 | P7: 0 | Q7: 0 | R7: 0 | S7: 0 | T7: 0 | U7: 0 | V7: 0 | W7: 0
C8: 5 | D8: Toalha de mesa retangular, medindo aproximadamente 1,60mX2,70m. Composição 53% algodão, 47% poliéster. Cor a definir. | E8: Unidade | F8: Tracton | G8: 339030-20 | H8: 89 | J8: =I8-(SUM(L8:W8)) -> 0 | K8: =IF(J8<0,"ATENÇÃO","OK") -> OK | L8: 0 | M8: 0 | N8: 0 | O8: 0 | P8: 0 | Q8: 0 | R8: 0 | S8: 0 | T8: 0 | U8: 0 | V8: 0 | W8: 0
C9: 6 | D9: Toalha de banho, dupla face, em tecido 100% algodão, cor da definir, pré-lavada e pré-encolhida, gramatura de no mínimo 500gr/m², medindo no mínimo 70cm x 1,40m. Logomarca a ser definida e impressa em uma das pontas nas dimensões de 14x13cm aproximadamente. | E9: Unidade | F9: Tracton | G9: 339030-20 | H9: 30 | J9: =I9-(SUM(L9:W9)) -> 0 | K9: =IF(J9<0,"ATENÇÃO","OK") -> OK | L9: 0 | M9: 0 | N9: 0 | O9: 0 | P9: 0 | Q9: 0 | R9: 0 | S9: 0 | T9: 0 | U9: 0 | V9: 0 | W9: 0
C10: 7 | D10: Toalha de rosto, dupla face, em tecido 100% algodão, cor da definir, pré-lavada e pré-encolhida, gramatura de no mínimo 500gr/m², medindo no mínimo 45x75cm. Logomarca a ser definida e impressa em uma das pontas nas dimensões de 14x13cm aproximadamente. | E10: Unidade | F10: Tracton | G10: 339030-20 | H10: 20 | J10: =I10-(SUM(L10:W10)) -> 0 | K10: =IF(J10<0,"ATENÇÃO","OK") -> OK | L10: 0 | M10: 0 | N10: 0 | O10: 0 | P10: 0 | Q10: 0 | R10: 0 | S10: 0 | T10: 0 | U10: 0 | V10: 0 | W10: 0
C11: 8 | D11: Toalha de mesa redonda, medindo aproximadamente 178cm diâmetro, composição 59% algodão e 41% poliéster, cor a definir. | E11: Unidade | F11: Tracton | G11: 339030-20 | H11: 60 | J11: =I11-(SUM(L11:W11)) -> 0 | K11: =IF(J11<0,"ATENÇÃO","OK") -> OK | L11: 0 | M11: 0 | N11: 0 | O11: 0 | P11: 0 | Q11: 0 | R11: 0 | S11: 0 | T11: 0 | U11: 0 | V11: 0 | W11: 0
C12: 9 | D12: Toalha de mesa retangular, medindo aproximadamente 7mx2,20m. Composição 53% algodão, 47% poliéster, com protetor de tecido. Cor a definir. | E12: Unidade | F12: Tracton | G12: 339030-20 | H12: 97.5 | J12: =I12-(SUM(L12:W12)) -> 0 | K12: =IF(J12<0,"ATENÇÃO","OK") -> OK | L12: 0 | M12: 0 | N12: 0 | O12: 0 | P12: 0 | Q12: 0 | R12: 0 | S12: 0 | T12: 0 | U12: 0 | V12: 0 | W12: 0
A13: ADBX Comércio de Serviços LTDA - ME | B13: 2 | C13: 10 | D13: Camisa social masculina, manga longa, cor a definir, composição 50% algodão e 50% poliéster. Com a logomarca de 9x5cm bordada no peito no lado esquerdo. Tamanho e cor a definir. | E13: Unidade | F13: K.B | G13: 339030-23 | H13: 48 | J13: =I13-(SUM(L13:W13)) -> 0 | K13: =IF(J13<0,"ATENÇÃO","OK") -> OK | L13: 0 | M13: 0 | N13: 0 | O13: 0 | P13: 0 | Q13: 0 | R13: 0 | S13: 0 | T13: 0 | U13: 0 | V13: 0 | W13: 0
C14: 11 | D14: Camisete feminina, manga longa feminina, composição 50% algodão e 50% poliéster. Com a logomarca de 9x5cm bordada no peito, no lado esquerdo. Tamanho e cor a definir. | E14: Unidade | F14: K.B | G14: 339030-23 | H14: 50 | J14: =I14-(SUM(L14:W14)) -> 0 | K14: =IF(J14<0,"ATENÇÃO","OK") -> OK | L14: 0 | M14: 0 | N14: 0 | O14: 0 | P14: 0 | Q14: 0 | R14: 0 | S14: 0 | T14: 0 | U14: 0 | V14: 0 | W14: 0
C15: 12 | D15: Camisa social masculina, manga longa, cor a definir, composição 100% algodão egipcio. Com a logomarca de 9x5cm bordada no peito no lado esquerdo. Tamanho e cor a definir. | F15: K.B | G15: 339030-23 | H15: 52.6 | J15: =I15-(SUM(L15:W15)) -> 0 | K15: =IF(J15<0,"ATENÇÃO","OK") -> OK | L15: 0 | M15: 0 | N15: 0 | O15: 0 | P15: 0 | Q15: 0 | R15: 0 | S15: 0 | T15: 0 | U15: 0 | V15: 0 | W15: 0
A16: Jackson da Silva 03571984927 - ME | B16: 3 | C16: 13 | D16: Camiseta, 30x1 penteado, gola ombro a ombro, a gola da camiseta de possuir elastano, sendo reforçada na costura. A camiseta terá uma área reservada para serigrafia de até 28x21cm na frente e nas costas, podendo conter até 8 cores em cada lado. Tamanho, cor e logomarca a definir. | E16: Unidade | F16: Araçá | G16: 339030-23 | H16: 9.13 | J16: =I16-(SUM(L16:W16)) -> 0 | K16: =IF(J16<0,"ATENÇÃO","OK") -> OK | L16: 0 | M16: 0 | N16: 0 | O16: 0 | P16: 0 | Q16: 0 | R16: 0 | S16: 0 | T16: 0 | U16: 0 | V16: 0 | W16: 0
C17: 14 | D17: Camiseta gola polo, malha Piquet P.A. Bordado com logomarca no lado esquerdo do peito, de 9X5cm, e bordado com logomarca de 8X3cm na manga direita. Tamanho e cor a definir. | E17: Unidade | F17: Araçá | G17: 339030-23 | H17: 17 | J17: =I17-(SUM(L17:W17)) -> 0 | K17: =IF(J17<0,"ATENÇÃO","OK") -> OK | L17: 0 | M17: 0 | N17: 0 | O17: 0 | P17: 0 | Q17: 0 | R17: 0 | S17: 0 | T17: 0 | U17: 0 | V17: 0 | W17: 0
A18: Jackson da Silva 03571984927 - ME | B18: 4 | C18: 15 | D18: GOLEIRA FEMININO FUTEBOL CAMPO, FUTSAL E HANDEBOL - CALÇA 100% POLIESTER DRYFIT - com espuma de proteção nos joelhos e na cintura. Número gravado na parte inferior direita da coxa, acima da proteção e na parte inferior. Tamanho e cor a definir. | E18: Unidade | F18: Araçá | G18: 339030-14 | H18: 25 | J18: =I18-(SUM(L18:W18)) -> 0 | K18: =IF(J18<0,"ATENÇÃO","OK") -> OK | L18: 0 | M18: 0 | N18: 0 | O18: 0 | P18: 0 | Q18: 0 | R18: 0 | S18: 0 | T18: 0 | U18: 0 | V18: 0 | W18: 0
C19: 16 | D19: GOLEIRO MASCULINO FUTEBOL DE CAMPO, FUTSAL E HANDEBOL- CALÇA 100% POLIESTER DRYFIT . Com espuma de proteção nos joelhos e na cintura. Número gravado na parte inferior direita da coxa, acima da proteção e na parte inferior. Tamanho e cor a definir. | E19: Unidade | F19: Araçá | G19: 339030-14 | H19: 32 | J19: =I19-(SUM(L19:W19)) -> 0 | K19: =IF(J19<0,"ATENÇÃO","OK") -> OK | L19: 0 | M19: 0 | N19: 0 | O19: 0 | P19: 0 | Q19: 0 | R19: 0 | S19: 0 | T19: 0 | U19: 0 | V19: 0 | W19: 0
C20: 17 | D20: GOLEIRA FEMININO FUTEBOL CAMPO, FUTSAL E HANDEBOL - CAMISA 100% POLIESTER DRYFIT - Camisa de goleira com espuma de proteção nos cotovelos, com números a definir, serigrafado atrás. As camisas possuem numeração nas costas (8X12cm) na parte central. Com logomarca acima do número (10X18cm). Abaixo do número nas costas deverá estar escrito o nome da modalidade(20x10cm). Na frente logomarca no centro da camisa. Tamanho e cor a definir. | E20: Unidade | F20: Araçá | G20: 339030-14 | H20: 22 | J20: =I20-(SUM(L20:W20)) -> 0 | K20: =IF(J20<0,"ATENÇÃO","OK") -> OK | L20: 0 | M20: 0 | N20: 0 | O20: 0 | P20: 0 | Q20: 0 | R20: 0 | S20: 0 | T20: 0 | U20: 0 | V20: 0 | W20: 0
C21: 18 | D21: GOLEIRO MASCULINO FUTEBOL DE CAMPO, FUTSAL E HANDEBOL- CAMISA 100% POLIESTER DRYFIT. Com espuma de proteção nos cotovelos, com números a definir, serigrafado atrás. As camisas possuem numeração nas costas (8X12cm) na parte central.Com logomarca acima do número (10X18cm). Abaixo do número nas costas deverá estar escrito o nome da modalidade(20x10cm). Na frente logomarca no centro da camisa. Tamanho e cor a definir. | E21: Unidade | F21: Araçá | G21: 339030-14 | H21: 22 | J21: =I21-(SUM(L21:W21)) -> 0 | K21: =IF(J21<0,"ATENÇÃO","OK") -> OK | L21: 0 | M21: 0 | N21: 0 | O21: 0 | P21: 0 | Q21: 0 | R21: 0 | S21: 0 | T21: 0 | U21: 0 | V21: 0 | W21: 0
C22: 19 | D22: HANDEBOL MASCULINO - CALÇÃO 100% POLIESTER DRYFIT. Cós com elástico e com cordão interno. Com numeração na parte frontal inferior esquerda e logomarca (7X11cm) na parte frontal inferior direita. Modalidade handebol gravada na parte inferior direita com dimensões aproximadas de 9X3cm. Logomarca gravada na parte posterior acima da linha glútea, tamanho aproximado 20x10cm. Tamanho, numeração e cor a definir. | E22: Unidade | F22: Araçá | G22: 339030-14 | H22: 14 | J22: =I22-(SUM(L22:W22)) -> 0 | K22: =IF(J22<0,"ATENÇÃO","OK") -> OK | L22: 0 | M22: 0 | N22: 0 | O22: 0 | P22: 0 | Q22: 0 | R22: 0 | S22: 0 | T22: 0 | U22: 0 | V22: 0 | W22: 0
C23: 20 | D23: HANDEBOL FEMININO - CALÇÃO para handebol feminino, confeccionados em poliéster. Cós com elástico com cordão interno. Numeração na parte frontal inferior esquerda e o logomarca (7x11cm) na parte frontal inferior direita. Modalidade handebol gravada na parte inferior direita com dimensões aproximadas de 9X3cm. Logomarca gravada na parte posterior acima da linha glútea, tamanho aproximado 20x10cm. Tamanho e cor a definir. Estilo handebol. | E23: Unidade | F23: Araçá | G23: 339030-14 | H23: 14 | J23: =I23-(SUM(L23:W23)) -> 0 | K23: =IF(J23<0,"ATENÇÃO","OK") -> OK | L23: 0 | M23: 0 | N23: 0 | O23: 0 | P23: 0 | Q23: 0 | R23: 0 | S23: 0 | T23: 0 | U23: 0 | V23: 0 | W23: 0
C24: 21 | D24: HANDEBOL FEMININO - SHORT - 92% POLIESTER DRYFIT e 8% ELASTANO Com numeração na parte frontal inferior esquerda e o logomarca, 7X11cm, na parte frontal inferior direita. Modalidade handebol gravada na parte inferior direita com dimensões aproximadas de 9X3cm. Logomarca gravada na parte posterior acima da linha glútea, tamanho aproximado 20x10cm. Tamanho e cor a definir. | E24: Unidade | F24: Araçá | G24: 339030-14 | H24: 20 | J24: =I24-(SUM(L24:W24)) -> 0 | K24: =IF(J24<0,"ATENÇÃO","OK") -> OK | L24: 0 | M24: 0 | N24: 0 | O24: 0 | P24: 0 | Q24: 0 | R24: 0 | S24: 0 | T24: 0 | U24: 0 | V24: 0 | W24: 0
C25: 22 | D25: HANDEBOL FEMININO - CAMISA - SEM MANGA 100% POLIESTER DRYFIT. Nas costas a logomarca (10X18cm) e a numeração (22cm). Logomarca na frente (10X18cm). Com tratamento antibactericida, permite transpiração. Manga com punhos em Rib (efeito canelado). Tamanho e cor a definir. | E25: Unidade | F25: Araçá | G25: 339030-14 | H25: 18 | J25: =I25-(SUM(L25:W25)) -> 0 | K25: =IF(J25<0,"ATENÇÃO","OK") -> OK | L25: 0 | M25: 0 | N25: 0 | O25: 0 | P25: 0 | Q25: 0 | R25: 0 | S25: 0 | T25: 0 | U25: 0 | V25: 0 | W25: 0
C26: 23 | D26: HANDEBOL FEMININO - CAMISA - COM MANGA 100% POLIESTER DRYFIT. Nas costas a logomarca (10X18cm) e a numeração (22cm). Logomarca na frente (10X18cm). Com tratamento antibactericida, permite transpiração. Manga curta com punhos em Rib (efeito canelado). Tamanho e cor a definir. | E26: Unidade | F26: Araçá | G26: 339030-14 | H26: 28 | J26: =I26-(SUM(L26:W26)) -> 0 | K26: =IF(J26<0,"ATENÇÃO","OK") -> OK | L26: 0 | M26: 0 | N26: 0 | O26: 0 | P26: 0 | Q26: 0 | R26: 0 | S26: 0 | T26: 0 | U26: 0 | V26: 0 | W26: 0
C27: 24 | D27: HANDEBOL MASCULINO - CAMISA - Manga curta 100% POLIESTER DRYFIT. Nas costas logomarca (10X18cm) e a numeração (22cm). Logomarca na frente (10X18cm). Com tratamento antibactericida, permite transpiração. Manga curta com punhos em Rib (efeito canelado). Tamanho e cor a definir. | E27: Unidade | F27: Araçá | G27: 339030-14 | H27: 28 | J27: =I27-(SUM(L27:W27)) -> 0 | K27: =IF(J27<0,"ATENÇÃO","OK") -> OK | L27: 0 | M27: 0 | N27: 0 | O27: 0 | P27: 0 | Q27: 0 | R27: 0 | S27: 0 | T27: 0 | U27: 0 | V27: 0 | W27: 0
C28: 25 | D28: BASQUETE FEMININO - BERMUDA - 100% POLIESTER DRYFIT. Numeração gravada na parte inferior esquerda com dimensões aproximadas de 9X3cm. Modalidade basquete gravada na parte inferior direita com dimensões aproximadas de 9X3cm. Logomarca gravada na parte posterior acima da linha glútea, tamanho aproximado 20x10cm. Tamanho e cor a definir. | E28: Unidade | F28: Araçá | G28: 339030-14 | H28: 20 | J28: =I28-(SUM(L28:W28)) -> 0 | K28: =IF(J28<0,"ATENÇÃO","OK") -> OK | L28: 0 | M28: 0 | N28: 0 | O28: 0 | P28: 0 | Q28: 0 | R28: 0 | S28: 0 | T28: 0 | U28: 0 | V28: 0 | W28: 0
C29: 26 | D29: BASQUETE MASCULINO - BERMUDA - 100% POLIESTER DRYFIT. Numerada na parte inferior esquerda com dimensões aproximadas de 9X3cm. Modalidade basquete gravada na parte inferior direita com dimensões aproximadas de 9X3cm. Logomarca na parte posterior acima da linha glútea, no tamanho aproximado 20x10cm. Tamanho e cor a definir. | E29: Unidade | F29: Araçá | G29: 339030-14 | H29: 20 | J29: =I29-(SUM(L29:W29)) -> 0 | K29: =IF(J29<0,"ATENÇÃO","OK") -> OK | L29: 0 | M29: 0 | N29: 0 | O29: 0 | P29: 0 | Q29: 0 | R29: 0 | S29: 0 | T29: 0 | U29: 0 | V29: 0 | W29: 0
C30: 27 | D30: BASQUETE FEMININO - CAMISA - Sem manga 100% POLIESTER DRYFIT, numeração à definir, confeccionadas em poliéster 100% dryfit, com cor a definir. Nas costas: numeração (8X12cm) e logomarca a definir (10X18cm). Na frente: logomarca no centro da camisa (10X18cm). Tamanho e cor a definir. | E30: Unidade | F30: Araçá | G30: 339030-14 | H30: 18 | J30: =I30-(SUM(L30:W30)) -> 0 | K30: =IF(J30<0,"ATENÇÃO","OK") -> OK | L30: 0 | M30: 0 | N30: 0 | O30: 0 | P30: 0 | Q30: 0 | R30: 0 | S30: 0 | T30: 0 | U30: 0 | V30: 0 | W30: 0
... C37: 34 | D37: FUTEBOL FEMININO - CAMISA - 92% POLIESTER DRYFIT e 8% ELASTANO. Manga curta com punhos em Rib (efeito canelado),com tratamento antibactericida, permite transpiração. Nas costas: numeração (22cm), logomarca (10X18cm) e o nome da modalidade (20x10cm). Na frente logomarca (10X18cm). Tamanho e cor a definir. | E37: Unidade | F37: Araçá | G37: 339030-14 | H37: 30 | J37: =I37-(SUM(L37:W37)) -> 0 | K37: =IF(J37<0,"ATENÇÃO","OK") -> OK | L37: 0 | M37: 0 | N37: 0 | O37: 0 | P37: 0 | Q37: 0 | R37: 0 | S37: 0 | T37: 0 | U37: 0 | V37: 0 | W37: 0
C38: 35 | D38: FUTEBOL FEMININO - CALÇÃO - 100% POLIESTER DRYFIT, com numeração na parte frontal inferior esquerda e logomarca (7x11cm) na parte frontal inferior direita. Cós com elástico e cordão | F38: Araçá | G38: 339030-14 | H38: 15 | J38: =I38-(SUM(L38:W38)) -> 0 | K38: =IF(J38<0,"ATENÇÃO","OK") -> OK | L38: 0 | M38: 0 | N38: 0 | O38: 0 | P38: 0 | Q38: 0 | R38: 0 | S38: 0 | T38: 0 | U38: 0 | V38: 0 | W38: 0
C39: 36 | D39: FUTEBOL - MEIÃO UNISSEX - liso sem detalhes. Tamanho a definir. Cor a definir. | E39: Par | F39: Araçá | G39: 339030-14 | H39: 7 | J39: =I39-(SUM(L39:W39)) -> 0 | K39: =IF(J39<0,"ATENÇÃO","OK") -> OK | L39: 0 | M39: 0 | N39: 0 | O39: 0 | P39: 0 | Q39: 0 | R39: 0 | S39: 0 | T39: 0 | U39: 0 | V39: 0 | W39: 0
C40: 37 | D40: FUTSAL MASCULINO - CAMISA - 100% POLIESTER DRYFIT. Manga curta. Nas costas: numeração (22cm), logomarca (10X18cm) e o nome da modalidade (20x10cm). Na frente logomarca (10X18cm). Com tratamento antibactericida, permite transpiração. Manga curta com punhos em Rib (efeito canelado). Tamanho e cor a definir. | E40: Unidade | F40: Araçá | G40: 339030-14 | H40: 30 | J40: =I40-(SUM(L40:W40)) -> 0 | K40: =IF(J40<0,"ATENÇÃO","OK") -> OK | L40: 0 | M40: 0 | N40: 0 | O40: 0 | P40: 0 | Q40: 0 | R40: 0 | S40: 0 | T40: 0 | U40: 0 | V40: 0 | W40: 0
C41: 38 | D41: FUTSAL MASCULINO - CALÇÃO - 100% POLIESTER DRYFIT, com numeração na parte frontal inferior esquerda e logomarca (7x11cm) na parte frontal inferior direita. Cós com elástico e cordão interno. Tamanho e cor a definir. | E41: Unidade | F41: Araçá | G41: 339030-14 | H41: 15 | J41: =I41-(SUM(L41:W41)) -> 0 | K41: =IF(J41<0,"ATENÇÃO","OK") -> OK | L41: 0 | M41: 0 | N41: 0 | O41: 0 | P41: 0 | Q41: 0 | R41: 0 | S41: 0 | T41: 0 | U41: 0 | V41: 0 | W41: 0
C42: 39 | D42: FUTSAL FEMININO - CAMISA - Sem manga, 100% POLIESTER DRYFIT. Na frente: logomarca no centro da camisa (10X18cm). Nas costas: numeração na parte central (8X1cm2), logomarca (10X18cm) e o nome da modalidade 20x10cm. Tamanho e cor a definir. | E42: Unidade | F42: Araçá | G42: 339030-14 | H42: 17 | J42: =I42-(SUM(L42:W42)) -> 0 | K42: =IF(J42<0,"ATENÇÃO","OK") -> OK | L42: 0 | M42: 0 | N42: 0 | O42: 0 | P42: 0 | Q42: 0 | R42: 0 | S42: 0 | T42: 0 | U42: 0 | V42: 0 | W42: 0
C43: 40 | D43: FUTSAL FEMININO - CALÇÃO - 100% POLIESTER DRYFIT . Cós com elástico com cordão interno. Numeração na parte frontal inferior esquerda e o logomarca (7x11cm) na parte frontal inferior direita. Modalidade Futebol gravada na parte inferior direita com dimensões aproximadas de 9X3cm. Logomarca gravada na parte posterior acima da linha glútea, tamanho aproximado 20x10cm. Tamanho e cor a definir. | E43: Unidade | F43: Araçá | G43: 339030-14 | H43: 15 | J43: =I43-(SUM(L43:W43)) -> 0 | K43: =IF(J43<0,"ATENÇÃO","OK") -> OK | L43: 0 | M43: 0 | N43: 0 | O43: 0 | P43: 0 | Q43: 0 | R43: 0 | S43: 0 | T43: 0 | U43: 0 | V43: 0 | W43: 0
C44: 41 | D44: VOLEIBOL FEMININO - CAMISA sem manga, confeccionadas em poliéster 100% dryfit. Na frente: logomarca no centro da camisa (10X18cm). Nas costas: numeração na parte central (8X1cm2), logomarca (10X18cm) e o nome da modalidade 20x10cm. Tamanho e cor a definir. | E44: Unidade | F44: Araçá | G44: 339030-14 | H44: 17 | J44: =I44-(SUM(L44:W44)) -> 0 | K44: =IF(J44<0,"ATENÇÃO","OK") -> OK | L44: 0 | M44: 0 | N44: 0 | O44: 0 | P44: 0 | Q44: 0 | R44: 0 | S44: 0 | T44: 0 | U44: 0 | V44: 0 | W44: 0
C45: 42 | D45: VOLEIBOL FEMININO - CAMISA com manga, confeccionadas em poliéster 100% dryfit. Na frente: logomarca no centro da camisa (10X18cm). Nas costas: numeração na parte central (8X1cm2), logomarca (10X18cm) e o nome da modalidade 20x10cm. Tamanho e cor a definir. | E45: Unidade | F45: Araçá | G45: 339030-14 | H45: 30 | J45: =I45-(SUM(L45:W45)) -> 0 | K45: =IF(J45<0,"ATENÇÃO","OK") -> OK | L45: 0 | M45: 0 | N45: 0 | O45: 0 | P45: 0 | Q45: 0 | R45: 0 | S45: 0 | T45: 0 | U45: 0 | V45: 0 | W45: 0
C46: 43 | D46: VOLEIBOL FEMININO - SHORT - confeccionados em 90% poliéster 10% elastano, numeradas na parte inferior direita. E na parte inferior esquerda a logomarca e o nome do centro. Tamanho e cor a definir. | E46: Unidade | F46: Araçá | G46: 339030-14 | H46: 20 | J46: =I46-(SUM(L46:W46)) -> 0 | K46: =IF(J46<0,"ATENÇÃO","OK") -> OK | L46: 0 | M46: 0 | N46: 0 | O46: 0 | P46: 0 | Q46: 0 | R46: 0 | S46: 0 | T46: 0 | U46: 0 | V46: 0 | W46: 0
C47: 44 | D47: VOLEIBOL MASCULINO - CAMISA - com manga, 100% POLIESTER DRYFIT. Na frente: logomarca no centro da camisa (10X18cm). Nas costas: numeração na parte central (8X1cm2), logomarca (10X18cm) e o nome da modalidade 20x10cm. Tamanho e cor a definir. | E47: Unidade | F47: Araçá | G47: 339030-14 | H47: 33 | J47: =I47-(SUM(L47:W47)) -> 0 | K47: =IF(J47<0,"ATENÇÃO","OK") -> OK | L47: 0 | M47: 0 | N47: 0 | O47: 0 | P47: 0 | Q47: 0 | R47: 0 | S47: 0 | T47: 0 | U47: 0 | V47: 0 | W47: 0
C48: 45 | D48: VOLEIBOL MASCULINO - CALÇÃO - Calções confeccionados em poliéster 100%, dryfit, levam o número na parte inferior direita. Logomarca na parte inferior esquerda (7X11cm). Tamanho e cor a definir. | E48: Unidade | F48: Araçá | G48: 339030-14 | H48: 15 | J48: =I48-(SUM(L48:W48)) -> 0 | K48: =IF(J48<0,"ATENÇÃO","OK") -> OK | L48: 0 | M48: 0 | N48: 0 | O48: 0 | P48: 0 | Q48: 0 | R48: 0 | S48: 0 | T48: 0 | U48: 0 | V48: 0 | W48: 0
C49: 46 | D49: VÔLEI PRAIA MASCULINO - REGATA - 100% POLIESTER DRYFIT. NOME da IES, CAMPUS e MODALIDADE. Tamanho e cor a definir. | E49: Unidade | F49: Araçá | G49: 339030-14 | H49: 27 | J49: =I49-(SUM(L49:W49)) -> 0 | K49: =IF(J49<0,"ATENÇÃO","OK") -> OK | L49: 0 | M49: 0 | N49: 0 | O49: 0 | P49: 0 | Q49: 0 | R49: 0 | S49: 0 | T49: 0 | U49: 0 | V49: 0 | W49: 0
C50: 47 | D50: VÔLEI PRAIA MASCULINO - CALÇÃO - 100% POLIESTER DRYFIT, com numeração na parte frontal inferior esquerda e logomarca (7x11cm) na parte frontal inferior direita. Cós com elástico e cordão interno. Tamanho e cor a definir. | E50: Unidade | F50: Araçá | G50: 339030-14 | H50: 15 | J50: =I50-(SUM(L50:W50)) -> 0 | K50: =IF(J50<0,"ATENÇÃO","OK") -> OK | L50: 0 | M50: 0 | N50: 0 | O50: 0 | P50: 0 | Q50: 0 | R50: 0 | S50: 0 | T50: 0 | U50: 0 | V50: 0 | W50: 0
... C69: 66 | D69: Colete confeccionado em tecido misto, composto de 67% de fibra de poliéster e 33% de fibra de algodão, com gramatura de 221 gm2. A frente deverá ser aberta, com fechamento em zíper, possuindo dois bolsos superiores (fechados por velcro) na altura do tórax e dois bolsos inferiores, na altura do abdômen, medindo 17cm de largura e 22cm de altura. Boca fechada por velcro e fole de 2cm em toda a extensão do mesmo (fechados por velcro). No bolso direito superior, deverá estar sylkado o logomarca a definir, no bolso esquerdo superior deverá ser bordado inscrição a definir. Nas costas do colete, deverá estar sylkado, o logomarca e inscrição a definir. Tamanho e cor a definir. | E69: Unidade | F69: Araçá | G69: 339030-23 | H69: 27 | J69: =I69-(SUM(L69:W69)) -> 0 | K69: =IF(J69<0,"ATENÇÃO","OK") -> OK | L69: 0 | M69: 0 | N69: 0 | O69: 0 | P69: 0 | Q69: 0 | R69: 0 | S69: 0 | T69: 0 | U69: 0 | V69: 0 | W69: 0
C70: 67 | D70: Colete confecionado em tecido 100% poliamida (tactel), contendo dois bolsos -um na esquerda e outro na direita. Viés de acabamento da mesma cor. Na frente logomarca a definir, e palavra de identificação (a definir), no lado direito. Ajuste nas laterais com dois elásticos, de aproximadamente 18 cm, um em cada lado. Tamanho e cor a definir. | E70: Unidade | F70: Araçá | G70: 339030-23 | H70: 20 | I70: 1000 | J70: =I70-(SUM(L70:W70)) -> 1000 | K70: =IF(J70<0,"ATENÇÃO","OK") -> OK | L70: 0 | M70: 0 | N70: 0 | O70: 0 | P70: 0 | Q70: 0 | R70: 0 | S70: 0 | T70: 0 | U70: 0 | V70: 0 | W70: 0
C71: 68 | D71: Colete 100% poliéster para treinamento, numerados nas costas, medindo aproximadamente 22cm de altura e 11cm de largura. Logomarca a definir na frente (10X18cm).Tamanho e cor a definir. | E71: Unidade | F71: Araçá | G71: 339030-14 | H71: 8 | J71: =I71-(SUM(L71:W71)) -> 0 | K71: =IF(J71<0,"ATENÇÃO","OK") -> OK | L71: 0 | M71: 0 | N71: 0 | O71: 0 | P71: 0 | Q71: 0 | R71: 0 | S71: 0 | T71: 0 | U71: 0 | V71: 0 | W71: 0
C72: 69 | D72: Conjunto para prática desportiva, agasalho de seletel. Contendo blusa e calça, confeccionado em 100% poliéster. Blusa: abertura frontal com fechamento em zíper, cós e punhos em RIB elástico, bolsos laterais com fechamento em zíper, com logomarca bordada no lado esquerdo do peito, dimensões aproximadas de 9X5cm e com a logomarca bordado nas costas e o nome da função (a definir), dimensões aproximadas 20X25cm. Calça: cós com elástico e cordão para ajuste, bolsos laterais com fechamento em zíper, bordado com a logomarca no lado esquerdo da calça, dimensões aproximadas 9X5cm, com zíper destacável na altura do joelho para transformar a calça em bermuda. Tamanho e cor a definir. | E72: Unidade | F72: Araçá | G72: 339030-14 | H72: 90 | J72: =I72-(SUM(L72:W72)) -> 0 | K72: =IF(J72<0,"ATENÇÃO","OK") -> OK | L72: 0 | M72: 0 | N72: 0 | O72: 0 | P72: 0 | Q72: 0 | R72: 0 | S72: 0 | T72: 0 | U72: 0 | V72: 0 | W72: 0
C73: 70 | D73: Conjunto para prática desportiva, agasalho de seletel. Contendo blusa e calça, confeccionado em 100% poliéster. Blusa: abertura frontal com fechamento em zíper, cós e punhos em RIB elástico, bolsos laterais com fechamento em zíper, com logomarca serigrafada no lado esquerdo do peito, dimensões aproximadas de 9X5cm e com serigrafia da logomarca nas costas e do nome da função (a definir), dimensões aproximadas 20X25cm. Calça: cós com elástico e cordão para ajuste, bolsos laterais com fechamento em zíper, bordado com a logomarca no lado esquerdo da calça, dimensões aproximadas 9X5cm, com zíper destacável na altura do joelho para transformar a calça em bermuda. Tamanho e cor a definir. | E73: Unidade | F73: Araçá | G73: 339030-14 | H73: 118.95 | J73: =I73-(SUM(L73:W73)) -> 0 | K73: =IF(J73<0,"ATENÇÃO","OK") -> OK | L73: 0 | M73: 0 | N73: 0 | O73: 0 | P73: 0 | Q73: 0 | R73: 0 | S73: 0 | T73: 0 | U73: 0 | V73: 0 | W73: 0
C74: 71 | D74: Bandeira Personalizada, em poliéster. Dimensões: 2,5 panos: 1,12x1,60m. | E74: Unidade | F74: Araçá | G74: 339030-50 | H74: 90 | J74: =I74-(SUM(L74:W74)) -> 0 | K74: =IF(J74<0,"ATENÇÃO","OK") -> OK | L74: 0 | M74: 0 | N74: 0 | O74: 0 | P74: 0 | Q74: 0 | R74: 0 | S74: 0 | T74: 0 | U74: 0 | V74: 0 | W74: 0
C75: 72 | D75: Bandeira Personalizada, em poliéster. Dimensões: Largura: 1,25m e Altura: 0,90m. | E75: Unidade | F75: Araçá | G75: 339030-50 | H75: 110 | J75: =I75-(SUM(L75:W75)) -> 0 | K75: =IF(J75<0,"ATENÇÃO","OK") -> OK | L75: 0 | M75: 0 | N75: 0 | O75: 0 | P75: 0 | Q75: 0 | R75: 0 | S75: 0 | T75: 0 | U75: 0 | V75: 0 | W75: 0
C76: 73 | D76: Bolsa para fardamento confeccionada em nylon, com zíper, com alça para carregar no ombro e alça de mão. Dimensões mínimas de 120cm de altura e 80cm de largura. Com a logomarca em 3 cores. | E76: Unidade | F76: Araçá | G76: 339030-23 | H76: 35 | J76: =I76-(SUM(L76:W76)) -> 0 | K76: =IF(J76<0,"ATENÇÃO","OK") -> OK | L76: 0 | M76: 0 | N76: 0 | O76: 0 | P76: 0 | Q76: 0 | R76: 0 | S76: 0 | T76: 0 | U76: 0 | V76: 0 | W76: 0
C77: 74 | D77: Malote confeccionado em lona, contendo visor de plástico para identificação do material constante no interior do malote. O malote deverá ser de meias argolas e tiras com ilhoses. Tamanho aproximado:40x50x15 | E77: Unidade | F77: Araçá | G77: 339030-23 | H77: 80 | I77: 100 | J77: =I77-(SUM(L77:W77)) -> 100 | K77: =IF(J77<0,"ATENÇÃO","OK") -> OK | L77: 0 | M77: 0 | N77: 0 | O77: 0 | P77: 0 | Q77: 0 | R77: 0 | S77: 0 | T77: 0 | U77: 0 | V77: 0 | W77: 0
A78: Weikki Confecções LTDA - EPP | B78: 5 | C78: 75 | D78: Tecido Tule, cor a definir. | E78: Metro | F78: Weikki | G78: 339030-23 | H78: 2 | J78: =I78-(SUM(L78:W78)) -> 0 | K78: =IF(J78<0,"ATENÇÃO","OK") -> OK | L78: 0 | M78: 0 | N78: 0 | O78: 0 | P78: 0 | Q78: 0 | R78: 0 | S78: 0 | T78: 0 | U78: 0 | V78: 0 | W78: 0
C79: 77 | D79: Tecido malha de algodão cru, 1,50m de largura. Cor a definir. | E79: Metro | F79: Weikki | G79: 339030-23 | H79: 8.95 | J79: =I79-(SUM(L79:W79)) -> 0 | K79: =IF(J79<0,"ATENÇÃO","OK") -> OK | L79: 0 | M79: 0 | N79: 0 | O79: 0 | P79: 0 | Q79: 0 | R79: 0 | S79: 0 | T79: 0 | U79: 0 | V79: 0 | W79: 0
C80: 78 | D80: Tecido em cetim, largura 1,20m. Cor a definir. | E80: Metro | F80: Weikki | G80: 339030-23 | H80: 6.09 | J80: =I80-(SUM(L80:W80)) -> 0 | K80: =IF(J80<0,"ATENÇÃO","OK") -> OK | L80: 0 | M80: 0 | N80: 0 | O80: 0 | P80: 0 | Q80: 0 | R80: 0 | S80: 0 | T80: 0 | U80: 0 | V80: 0 | W80: 0
C81: 79 | D81: Malha de Helanca. Largura mínima 1,50m. Cor a definir. | E81: Metro | F81: Weikki | G81: 339030-23 | H81: 10.46 | J81: =I81-(SUM(L81:W81)) -> 0 | K81: =IF(J81<0,"ATENÇÃO","OK") -> OK | L81: 0 | M81: 0 | N81: 0 | O81: 0 | P81: 0 | Q81: 0 | R81: 0 | S81: 0 | T81: 0 | U81: 0 | V81: 0 | W81: 0
C82: 80 | D82: Tecido TNT em metro. Cor a definir. | E82: Metro | F82: Weikki | G82: 339030-23 | H82: 0.98 | J82: =I82-(SUM(L82:W82)) -> 0 | K82: =IF(J82<0,"ATENÇÃO","OK") -> OK | L82: 0 | M82: 0 | N82: 0 | O82: 0 | P82: 0 | Q82: 0 | R82: 0 | S82: 0 | T82: 0 | U82: 0 | V82: 0 | W82: 0
C83: 81 | D83: Tecido, Chita ou Chitão Estampado, 100% algodão, largura mínima 1,20m. Estampa a definir. | E83: Metro | F83: Weikki | G83: 339030-23 | H83: 15.3 | J83: =I83-(SUM(L83:W83)) -> 0 | K83: =IF(J83<0,"ATENÇÃO","OK") -> OK | L83: 0 | M83: 0 | N83: 0 | O83: 0 | P83: 0 | Q83: 0 | R83: 0 | S83: 0 | T83: 0 | U83: 0 | V83: 0 | W83: 0
A84: ADBX Comércio de Serviços LTDA - ME | B84: 6 | C84: 82 | D84: Campos cirurgicos: Brim - tecido 100% algodão. Gramatura 260g/m². Cor verde bandeira ou marinho. Tamanho: 1,40 x 1,70 m | E84: Peça | F84: K.B | G84: 339030-23 | H84: 48 | J84: =I84-(SUM(L84:W84)) -> 0 | K84: =IF(J84<0,"ATENÇÃO","OK") -> OK | L84: 0 | M84: 0 | N84: 0 | O84: 0 | P84: 0 | Q84: 0 | R84: 0 | S84: 0 | T84: 0 | U84: 0 | V84: 0 | W84: 0
C85: 83 | D85: Campos cirurgicos: Brim - tecido 100% algodão. Gramatura 260g/m². Cor verde bandeira ou marinho. Tamanho: 1,00 x 1,00 m | E85: Peça | F85: K.B | G85: 339030-23 | H85: 28 | J85: =I85-(SUM(L85:W85)) -> 0 | K85: =IF(J85<0,"ATENÇÃO","OK") -> OK | L85: 0 | M85: 0 | N85: 0 | O85: 0 | P85: 0 | Q85: 0 | R85: 0 | S85: 0 | T85: 0 | U85: 0 | V85: 0 | W85: 0
C86: 84 | D86: Campo cirurgico com fenestra: Brim - tecido 100% algodão. Gramatura 260g/m². Cor verde bandeira ou marinho. Tamanho: 0,50 x 0,50 m | E86: Peça | F86: K.B | G86: 339030-23 | H86: 20 | J86: =I86-(SUM(L86:W86)) -> 0 | K86: =IF(J86<0,"ATENÇÃO","OK") -> OK | L86: 0 | M86: 0 | N86: 0 | O86: 0 | P86: 0 | Q86: 0 | R86: 0 | S86: 0 | T86: 0 | U86: 0 | V86: 0 | W86: 0
C87: 85 | D87: Campos cirurgicos: Brim - tecido 100% algodão. Gramatura 260g/m². Cor verde bandeira ou marinho. Tamanho: 0,50 x 0,50 m | E87: Peça | F87: K.B | G87: 339030-23 | H87: 12 | J87: =I87-(SUM(L87:W87)) -> 0 | K87: =IF(J87<0,"ATENÇÃO","OK") -> OK | L87: 0 | M87: 0 | N87: 0 | O87: 0 | P87: 0 | Q87: 0 | R87: 0 | S87: 0 | T87: 0 | U87: 0 | V87: 0 | W87: 0
C88: 86 | D88: Avental cirúrgico em brim: Brim - tecido 100% algodão. Gramatura 260g/m². Cor verde bandeira ou marinho. Tamanho único | E88: Peça | F88: K.B | G88: 339030-23 | H88: 50 | J88: =I88-(SUM(L88:W88)) -> 0 | K88: =IF(J88<0,"ATENÇÃO","OK") -> OK | L88: 0 | M88: 0 | N88: 0 | O88: 0 | P88: 0 | Q88: 0 | R88: 0 | S88: 0 | T88: 0 | U88: 0 | V88: 0 | W88: 0
C89: 87 | D89: Camisola para exame ginecológico: Tecido 100% algodão, lavado e pré-encolhido na cor verde ou branco. Tamanho único | E89: Peça | F89: K.B | G89: 339030-23 | H89: 38 | J89: =I89-(SUM(L89:W89)) -> 0 | K89: =IF(J89<0,"ATENÇÃO","OK") -> OK | L89: 0 | M89: 0 | N89: 0 | O89: 0 | P89: 0 | Q89: 0 | R89: 0 | S89: 0 | T89: 0 | U89: 0 | V89: 0 | W89: 0
C90: 88 | D90: Avental cirúrgico em brim: Brim - tecido 100% algodão. Gramatura 260g/m². Cor verde bandeira ou marinho. Tamanho grande | E90: Peça | F90: K.B | G90: 339030-23 | H90: 48 | J90: =I90-(SUM(L90:W90)) -> 0 | K90: =IF(J90<0,"ATENÇÃO","OK") -> OK | L90: 0 | M90: 0 | N90: 0 | O90: 0 | P90: 0 | Q90: 0 | R90: 0 | S90: 0 | T90: 0 | U90: 0 | V90: 0 | W90: 0
C91: 89 | D91: Lençóis para maca: algodão ou percal ou microfibra na cor branca. Tamanho: 1,00 x 2,00 m | E91: Peça | F91: K.B | G91: 339030-23 | H91: 58 | J91: =I91-(SUM(L91:W91)) -> 0 | K91: =IF(J91<0,"ATENÇÃO","OK") -> OK | L91: 0 | M91: 0 | N91: 0 | O91: 0 | P91: 0 | Q91: 0 | R91: 0 | S91: 0 | T91: 0 | U91: 0 | V91: 0 | W91: 0
C92: 90 | D92: Colchas: em Piquet na cor verde ou branco. Tamanho: 1,60x 2,50m | E92: Peça | F92: K.B | G92: 339030-23 | H92: 90 | J92: =I92-(SUM(L92:W92)) -> 0 | K92: =IF(J92<0,"ATENÇÃO","OK") -> OK | L92: 0 | M92: 0 | N92: 0 | O92: 0 | P92: 0 | Q92: 0 | R92: 0 | S92: 0 | T92: 0 | U92: 0 | V92: 0 | W92: 0
C93: 91 | D93: "Pijama Cirúrgico" - calça e camisa (para uso em centro cirúrgico): em algodão na cor verde ou marinho. Tamanho médio | E93: Peça | F93: K.B | G93: 339030-23 | H93: 85.7 | J93: =I93-(SUM(L93:W93)) -> 0 | K93: =IF(J93<0,"ATENÇÃO","OK") -> OK | L93: 0 | M93: 0 | N93: 0 | O93: 0 | P93: 0 | Q93: 0 | R93: 0 | S93: 0 | T93: 0 | U93: 0 | V93: 0 | W93: 0
C94: 92 | D94: "Pijama Cirúrgico" - calça e camisa (para uso em centro cirúrgico): em algodão na cor verde ou marinho. Tamanho grande | E94: Peça | F94: K.B | G94: 339030-23 | H94: 90 | J94: =I94-(SUM(L94:W94)) -> 0 | K94: =IF(J94<0,"ATENÇÃO","OK") -> OK | L94: 0 | M94: 0 | N94: 0 | O94: 0 | P94: 0 | Q94: 0 | R94: 0 | S94: 0 | T94: 0 | U94: 0 | V94: 0 | W94: 0
C95: 93 | D95: "Pijama Cirúrgico" - calça e camisa (para uso em centro cirúrgico): em algodão na cor verde ou marinho. Tamanho GG | E95: Peça | F95: K.B | G95: 339030-23 | H95: 90 | J95: =I95-(SUM(L95:W95)) -> 0 | K95: =IF(J95<0,"ATENÇÃO","OK") -> OK | L95: 0 | M95: 0 | N95: 0 | O95: 0 | P95: 0 | Q95: 0 | R95: 0 | S95: 0 | T95: 0 | U95: 0 | V95: 0 | W95: 0
C96: 94 | D96: Jalecos em tecido Microfibra, na cor branca, comprimento longo (mínimo de 85cm), manga longa, com 1 bolso superior esquerdo e 2 inferiores, mínimo de 05 botões (com sistema de abotoamento embutido, em que os botões não fiquem aparentes), marca da UDESC bordada na manga direita nas dimensões aproximadas de 8x3cm, do CEFID bordada na manga esquerda nas dimensões aproximadas de 8x3cm e marca da Clínica Escola de Fisioterapia bordada no lado esquerdo do peito (no bolso) nas dimensões aproximadas de 9x5cm. Definir cortes femininos e masculinos com o solicitante antes da execução do serviço. | E96: Peça | F96: K.B | G96: 339030-23 | H96: 78 | J96: =I96-(SUM(L96:W96)) -> 0 | K96: =IF(J96<0,"ATENÇÃO","OK") -> OK | L96: 0 | M96: 0 | N96: 0 | O96: 0 | P96: 0 | Q96: 0 | R96: 0 | S96: 0 | T96: 0 | U96: 0 | V96: 0 | W96: 0

Sheet ESAG
A1: PROCESSO: 0502/2015/UDESC | D1: OBJETO: Aquisição de Rouparia para a UDESC | I1: VIGÊNCIA DA ATA: 14/07/2015 até 13/07/2016 | L1: AF/OS nº xxxx/2015 Qtde. DT | M1: AF/OS nº xxxx/2015 Qtde. DT | N1: AF/OS nº xxxx/2015 Qtde. DT | O1: AF/OS nº xxxx/2015 Qtde. DT | P1: AF/OS nº xxxx/2015 Qtde. DT | Q1: AF/OS nº xxxx/2015 Qtde. DT | R1: AF/OS nº xxxx/2015 Qtde. DT | S1: AF/OS nº xxxx/2015 Qtde. DT | T1: AF/OS nº xxxx/2015 Qtde. DT | U1: AF/OS nº xxxx/2015 Qtde. DT | V1: AF/OS nº xxxx/2015 Qtde. DT | W1: AF/OS nº xxxx/2015 Qtde. DT
A2: CENTRO PARTICIPANTE: ESAG
A3: FORNECEDOR | B3: LOTE | C3: ITEM | D3: PRODUTO - CARACTERÍSTICAS MÍNIMAS | E3: UNIDADE | F3: MARCA | G3: DETALHAMENTO | H3: Preço UNITÁRIO (R$) | I3: Qtde Registrada | J3: Saldo / Automático | K3: ALERTA | L3: ...../...../...... | M3: ...../...../...... | N3: ...../...../...... | O3: ...../...../...... | P3: ...../...../...... | Q3: ...../...../...... | R3: ...../...../...... | S3: ...../...../...... | T3: ...../...../...... | U3: ...../...../...... | V3: ...../...../...... | W3: ...../...../......
A4: Tracton Indústria e Comércio LTDA - EPP | B4: 1 | C4: 1 | D4: Fronha de tecido cretone, 100% algodão, dimensões aproximadas de 0,50cm de largura e 0,60cm de comprimento, com logomarca a ser definida impressa no centro com as dimensões de 14x13cm aproximadamente. Cor a definir. | E4: Unidade | F4: Tracton | G4: 339030-20 | H4: 25 | J4: =I4-(SUM(L4:W4)) -> 0 | K4: =IF(J4<0,"ATENÇÃO","OK") -> OK | L4: 0 | M4: 0 | N4: 0 | O4: 0 | P4: 0 | Q4: 0 | R4: 0 | S4: 0 | T4: 0 | U4: 0 | V4: 0 | W4: 0
C5: 2 | D5: Lençol de tecido, com elástico, 100% algodão, dimensões aproximadas: 1,30m de largura e 2m de comprimento. Logomarca a ser definida impressa no centro, dimensões de 14x13cm aproximadamente. | E5: Unidade | F5: Tracton | G5: 339030-20 | H5: 50 | J5: =I5-(SUM(L5:W5)) -> 0 | K5: =IF(J5<0,"ATENÇÃO","OK") -> OK | L5: 0 | M5: 0 | N5: 0 | O5: 0 | P5: 0 | Q5: 0 | R5: 0 | S5: 0 | T5: 0 | U5: 0 | V5: 0 | W5: 0
C6: 3 | D6: Lençol de tecido, sem elástico, 100% algodão, dimensões aproximadas: 1,30m de largura e 2m de comprimento, com logomarca a ser definida impressa no centro, com 14x13cm aproximadamente. | E6: Unidade | F6: Tracton | G6: 339030-20 | H6: 50 | J6: =I6-(SUM(L6:W6)) -> 0 | K6: =IF(J6<0,"ATENÇÃO","OK") -> OK | L6: 0 | M6: 0 | N6: 0 | O6: 0 | P6: 0 | Q6: 0 | R6: 0 | S6: 0 | T6: 0 | U6: 0 | V6: 0 | W6: 0
C7: 4 | D7: Toalha de mesa, de cetim, medindo aproximadamente 1,20m x60cm. Com logomarca bordada no centro da toalha, tamanho mínimo 30cm x 30 cm. Cor a definir. | E7: Unidade | F7: Tracton | G7: 339030-20 | H7: 61 | I7: 2 | J7: =I7-(SUM(L7:W7)) -> 2 | K7: =IF(J7<0,"ATENÇÃO","OK") -> OK | L7: 0 | M7: 0 | N7: 0 | O7: 0 | P7: 0 | Q7: 0 | R7: 0 | S7: 0 | T7: 0 | U7: 0 | V7: 0 | W7: 0
C8: 5 | D8: Toalha de mesa retangular, medindo aproximadamente 1,60mX2,70m. Composição 53% algodão, 47% poliéster. Cor a definir. | E8: Unidade | F8: Tracton | G8: 339030-20 | H8: 89 | I8: 4 | J8: =I8-(SUM(L8:W8)) -> 4 | K8: =IF(J8<0,"ATENÇÃO","OK") -> OK | L8: 0 | M8: 0 | N8: 0 | O8: 0 | P8: 0 | Q8: 0 | R8: 0 | S8: 0 | T8: 0 | U8: 0 | V8: 0 | W8: 0
C9: 6 | D9: Toalha de banho, dupla face, em tecido 100% algodão, cor da definir, pré-lavada e pré-encolhida, gramatura de no mínimo 500gr/m², medindo no mínimo 70cm x 1,40m. Logomarca a ser definida e impressa em uma das pontas nas dimensões de 14x13cm aproximadamente. | E9: Unidade | F9: Tracton | G9: 339030-20 | H9: 30 | J9: =I9-(SUM(L9:W9)) -> 0 | K9: =IF(J9<0,"ATENÇÃO","OK") -> OK | L9: 0 | M9: 0 | N9: 0 | O9: 0 | P9: 0 | Q9: 0 | R9: 0 | S9: 0 | T9: 0 | U9: 0 | V9: 0 | W9: 0
C10: 7 | D10: Toalha de rosto, dupla face, em tecido 100% algodão, cor da definir, pré-lavada e pré-encolhida, gramatura de no mínimo 500gr/m², medindo no mínimo 45x75cm. Logomarca a ser definida e impressa em uma das pontas nas dimensões de 14x13cm aproximadamente. | E10: Unidade | F10: Tracton | G10: 339030-20 | H10: 20 | J10: =I10-(SUM(L10:W10)) -> 0 | K10: =IF(J10<0,"ATENÇÃO","OK") -> OK | L10: 0 | M10: 0 | N10: 0 | O10: 0 | P10: 0 | Q10: 0 | R10: 0 | S10: 0 | T10: 0 | U10: 0 | V10: 0 | W10: 0
C11: 8 | D11: Toalha de mesa redonda, medindo aproximadamente 178cm diâmetro, composição 59% algodão e 41% poliéster, cor a definir. | E11: Unidade | F11: Tracton | G11: 339030-20 | H11: 60 | I11: 2 | J11: =I11-(SUM(L11:W11)) -> 2 | K11: =IF(J11<0,"ATENÇÃO","OK") -> OK | L11: 0 | M11: 0 | N11: 0 | O11: 0 | P11: 0 | Q11: 0 | R11: 0 | S11: 0 | T11: 0 | U11: 0 | V11: 0 | W11: 0
C12: 9 | D12: Toalha de mesa retangular, medindo aproximadamente 7mx2,20m. Composição 53% algodão, 47% poliéster, com protetor de tecido. Cor a definir. | E12: Unidade | F12: Tracton | G12: 339030-20 | H12: 97.5 | I12: 2 | J12: =I12-(SUM(L12:W12)) -> 2 | K12: =IF(J12<0,"ATENÇÃO","OK") -> OK | L12: 0 | M12: 0 | N12: 0 | O12: 0 | P12: 0 | Q12: 0 | R12: 0 | S12: 0 | T12: 0 | U12: 0 | V12: 0 | W12: 0
A13: ADBX Comércio de Serviços LTDA - ME | B13: 2 | C13: 10 | D13: Camisa social masculina, manga longa, cor a definir, composição 50% algodão e 50% poliéster. Com a logomarca de 9x5cm bordada no peito no lado esquerdo. Tamanho e cor a definir. | E13: Unidade | F13: K.B | G13: 339030-23 | H13: 48 | J13: =I13-(SUM(L13:W13)) -> 0 | K13: =IF(J13<0,"ATENÇÃO","OK") -> OK | L13: 0 | M13: 0 | N13: 0 | O13: 0 | P13: 0 | Q13: 0 | R13: 0 | S13: 0 | T13: 0 | U13: 0 | V13: 0 | W13: 0
C14: 11 | D14: Camisete feminina, manga longa feminina, composição 50% algodão e 50% poliéster. Com a logomarca de 9x5cm bordada no peito, no lado esquerdo. Tamanho e cor a definir. | E14: Unidade | F14: K.B | G14: 339030-23 | H14: 50 | J14: =I14-(SUM(L14:W14)) -> 0 | K14: =IF(J14<0,"ATENÇÃO","OK") -> OK | L14: 0 | M14: 0 | N14: 0 | O14: 0 | P14: 0 | Q14: 0 | R14: 0 | S14: 0 | T14: 0 | U14: 0 | V14: 0 | W14: 0
C15: 12 | D15: Camisa social masculina, manga longa, cor a definir, composição 100% algodão egipcio. Com a logomarca de 9x5cm bordada no peito no lado esquerdo. Tamanho e cor a definir. | F15: K.B | G15: 339030-23 | H15: 52.6 | J15: =I15-(SUM(L15:W15)) -> 0 | K15: =IF(J15<0,"ATENÇÃO","OK") -> OK | L15: 0 | M15: 0 | N15: 0 | O15: 0 | P15: 0 | Q15: 0 | R15: 0 | S15: 0 | T15: 0 | U15: 0 | V15: 0 | W15: 0
A16: Jackson da Silva 03571984927 - ME | B16: 3 | C16: 13 | D16: Camiseta, 30x1 penteado, gola ombro a ombro, a gola da camiseta de possuir elastano, sendo reforçada na costura. A camiseta terá uma área reservada para serigrafia de até 28x21cm na frente e nas costas, podendo conter até 8 cores em cada lado. Tamanho, cor e logomarca a definir. | E16: Unidade | F16: Araçá | G16: 339030-23 | H16: 9.13 | I16: 250 | J16: =I16-(SUM(L16:W16)) -> 250 | K16: =IF(J16<0,"ATENÇÃO","OK") -> OK | L16: 0 | M16: 0 | N16: 0 | O16: 0 | P16: 0 | Q16: 0 | R16: 0 | S16: 0 | T16: 0 | U16: 0 | V16: 0 | W16: 0
C17: 14 | D17: Camiseta gola polo, malha Piquet P.A. Bordado com logomarca no lado esquerdo do peito, de 9X5cm, e bordado com logomarca de 8X3cm na manga direita. Tamanho e cor a definir. | E17: Unidade | F17: Araçá | G17: 339030-23 | H17: 17 | I17: 150 | J17: =I17-(SUM(L17:W17)) -> 150 | K17: =IF(J17<0,"ATENÇÃO","OK") -> OK | L17: 0 | M17: 0 | N17: 0 | O17: 0 | P17: 0 | Q17: 0 | R17: 0 | S17: 0 | T17: 0 | U17: 0 | V17: 0 | W17: 0
A18: Jackson da Silva 03571984927 - ME | B18: 4 | C18: 15 | D18: GOLEIRA FEMININO FUTEBOL CAMPO, FUTSAL E HANDEBOL - CALÇA 100% POLIESTER DRYFIT - com espuma de proteção nos joelhos e na cintura. Número gravado na parte inferior direita da coxa, acima da proteção e na parte inferior. Tamanho e cor a definir. | E18: Unidade | F18: Araçá | G18: 339030-14 | H18: 25 | J18: =I18-(SUM(L18:W18)) -> 0 | K18: =IF(J18<0,"ATENÇÃO","OK") -> OK | L18: 0 | M18: 0 | N18: 0 | O18: 0 | P18: 0 | Q18: 0 | R18: 0 | S18: 0 | T18: 0 | U18: 0 | V18: 0 | W18: 0
C19: 16 | D19: GOLEIRO MASCULINO FUTEBOL DE CAMPO, FUTSAL E HANDEBOL- CALÇA 100% POLIESTER DRYFIT . Com espuma de proteção nos joelhos e na cintura. Número gravado na parte inferior direita da coxa, acima da proteção e na parte inferior. Tamanho e cor a definir. | E19: Unidade | F19: Araçá | G19: 339030-14 | H19: 32 | I19: 2 | J19: =I19-(SUM(L19:W19)) -> 2 | K19: =IF(J19<0,"ATENÇÃO","OK") -> OK | L19: 0 | M19: 0 | N19: 0 | O19: 0 | P19: 0 | Q19: 0 | R19: 0 | S19: 0 | T19: 0 | U19: 0 | V19: 0 | W19: 0
C20: 17 | D20: GOLEIRA FEMININO FUTEBOL CAMPO, FUTSAL E HANDEBOL - CAMISA 100% POLIESTER DRYFIT - Camisa de goleira com espuma de proteção nos cotovelos, com números a definir, serigrafado atrás. As camisas possuem numeração nas costas (8X12cm) na parte central. Com logomarca acima do número (10X18cm). Abaixo do número nas costas deverá estar escrito o nome da modalidade(20x10cm). Na frente logomarca no centro da camisa. Tamanho e cor a definir. | E20: Unidade | F20: Araçá | G20: 339030-14 | H20: 22 | J20: =I20-(SUM(L20:W20)) -> 0 | K20: =IF(J20<0,"ATENÇÃO","OK") -> OK | L20: 0 | M20: 0 | N20: 0 | O20: 0 | P20: 0 | Q20: 0 | R20: 0 | S20: 0 | T20: 0 | U20: 0 | V20: 0 | W20: 0
C21: 18 | D21: GOLEIRO MASCULINO FUTEBOL DE CAMPO, FUTSAL E HANDEBOL- CAMISA 100% POLIESTER DRYFIT. Com espuma de proteção nos cotovelos, com números a definir, serigrafado atrás. As camisas possuem numeração nas costas (8X12cm) na parte central.Com logomarca acima do número (10X18cm). Abaixo do número nas costas deverá estar escrito o nome da modalidade(20x10cm). Na frente logomarca no centro da camisa. Tamanho e cor a definir. | E21: Unidade | F21: Araçá | G21: 339030-14 | H21: 22 | I21: 2 | J21: =I21-(SUM(L21:W21)) -> 2 | K21: =IF(J21<0,"ATENÇÃO","OK") -> OK | L21: 0 | M21: 0 | N21: 0 | O21: 0 | P21: 0 | Q21: 0 | R21: 0 | S21: 0 | T21: 0 | U21: 0 | V21: 0 | W21: 0
C22: 19 | D22: HANDEBOL MASCULINO - CALÇÃO 100% POLIESTER DRYFIT. Cós com elástico e com cordão interno. Com numeração na parte frontal inferior esquerda e logomarca (7X11cm) na parte frontal inferior direita. Modalidade handebol gravada na parte inferior direita com dimensões aproximadas de 9X3cm. Logomarca gravada na parte posterior acima da linha glútea, tamanho aproximado 20x10cm. Tamanho, numeração e cor a definir. | E22: Unidade | F22: Araçá | G22: 339030-14 | H22: 14 | J22: =I22-(SUM(L22:W22)) -> 0 | K22: =IF(J22<0,"ATENÇÃO","OK") -> OK | L22: 0 | M22: 0 | N22: 0 | O22: 0 | P22: 0 | Q22: 0 | R22: 0 | S22: 0 | T22: 0 | U22: 0 | V22: 0 | W22: 0
C23: 20 | D23: HANDEBOL FEMININO - CALÇÃO para handebol feminino, confeccionados em poliéster. Cós com elástico com cordão interno. Numeração na parte frontal inferior esquerda e o logomarca (7x11cm) na parte frontal inferior direita. Modalidade handebol gravada na parte inferior direita com dimensões aproximadas de 9X3cm. Logomarca gravada na parte posterior acima da linha glútea, tamanho aproximado 20x10cm. Tamanho e cor a definir. Estilo handebol. | E23: Unidade | F23: Araçá | G23: 339030-14 | H23: 14 | J23: =I23-(SUM(L23:W23)) -> 0 | K23: =IF(J23<0,"ATENÇÃO","OK") -> OK | L23: 0 | M23: 0 | N23: 0 | O23: 0 | P23: 0 | Q23: 0 | R23: 0 | S23: 0 | T23: 0 | U23: 0 | V23: 0 | W23: 0
C24: 21 | D24: HANDEBOL FEMININO - SHORT - 92% POLIESTER DRYFIT e 8% ELASTANO Com numeração na parte frontal inferior esquerda e o logomarca, 7X11cm, na parte frontal inferior direita. Modalidade handebol gravada na parte inferior direita com dimensões aproximadas de 9X3cm. Logomarca gravada na parte posterior acima da linha glútea, tamanho aproximado 20x10cm. Tamanho e cor a definir. | E24: Unidade | F24: Araçá | G24: 339030-14 | H24: 20 | J24: =I24-(SUM(L24:W24)) -> 0 | K24: =IF(J24<0,"ATENÇÃO","OK") -> OK | L24: 0 | M24: 0 | N24: 0 | O24: 0 | P24: 0 | Q24: 0 | R24: 0 | S24: 0 | T24: 0 | U24: 0 | V24: 0 | W24: 0
C25: 22 | D25: HANDEBOL FEMININO - CAMISA - SEM MANGA 100% POLIESTER DRYFIT. Nas costas a logomarca (10X18cm) e a numeração (22cm). Logomarca na frente (10X18cm). Com tratamento antibactericida, permite transpiração. Manga com punhos em Rib (efeito canelado). Tamanho e cor a definir. | E25: Unidade | F25: Araçá | G25: 339030-14 | H25: 18 | J25: =I25-(SUM(L25:W25)) -> 0 | K25: =IF(J25<0,"ATENÇÃO","OK") -> OK | L25: 0 | M25: 0 | N25: 0 | O25: 0 | P25: 0 | Q25: 0 | R25: 0 | S25: 0 | T25: 0 | U25: 0 | V25: 0 | W25: 0
C26: 23 | D26: HANDEBOL FEMININO - CAMISA - COM MANGA 100% POLIESTER DRYFIT. Nas costas a logomarca (10X18cm) e a numeração (22cm). Logomarca na frente (10X18cm). Com tratamento antibactericida, permite transpiração. Manga curta com punhos em Rib (efeito canelado). Tamanho e cor a definir. | E26: Unidade | F26: Araçá | G26: 339030-14 | H26: 28 | I26: 10 | J26: =I26-(SUM(L26:W26)) -> 10 | K26: =IF(J26<0,"ATENÇÃO","OK") -> OK | L26: 0 | M26: 0 | N26: 0 | O26: 0 | P26: 0 | Q26: 0 | R26: 0 | S26: 0 | T26: 0 | U26: 0 | V26: 0 | W26: 0
C27: 24 | D27: HANDEBOL MASCULINO - CAMISA - Manga curta 100% POLIESTER DRYFIT. Nas costas logomarca (10X18cm) e a numeração (22cm). Logomarca na frente (10X18cm). Com tratamento antibactericida, permite transpiração. Manga curta com punhos em Rib (efeito canelado). Tamanho e cor a definir. | E27: Unidade | F27: Araçá | G27: 339030-14 | H27: 28 | J27: =I27-(SUM(L27:W27)) -> 0 | K27: =IF(J27<0,"ATENÇÃO","OK") -> OK | L27: 0 | M27: 0 | N27: 0 | O27: 0 | P27: 0 | Q27: 0 | R27: 0 | S27: 0 | T27: 0 | U27: 0 | V27: 0 | W27: 0
C28: 25 | D28: BASQUETE FEMININO - BERMUDA - 100% POLIESTER DRYFIT. Numeração gravada na parte inferior esquerda com dimensões aproximadas de 9X3cm. Modalidade basquete gravada na parte inferior direita com dimensões aproximadas de 9X3cm. Logomarca gravada na parte posterior acima da linha glútea, tamanho aproximado 20x10cm. Tamanho e cor a definir. | E28: Unidade | F28: Araçá | G28: 339030-14 | H28: 20 | J28: =I28-(SUM(L28:W28)) -> 0 | K28: =IF(J28<0,"ATENÇÃO","OK") -> OK | L28: 0 | M28: 0 | N28: 0 | O28: 0 | P28: 0 | Q28: 0 | R28: 0 | S28: 0 | T28: 0 | U28: 0 | V28: 0 | W28: 0
C29: 26 | D29: BASQUETE MASCULINO - BERMUDA - 100% POLIESTER DRYFIT. Numerada na parte inferior esquerda com dimensões aproximadas de 9X3cm. Modalidade basquete gravada na parte inferior direita com dimensões aproximadas de 9X3cm. Logomarca na parte posterior acima da linha glútea, no tamanho aproximado 20x10cm. Tamanho e cor a definir. | E29: Unidade | F29: Araçá | G29: 339030-14 | H29: 20 | I29: 6 | J29: =I29-(SUM(L29:W29)) -> 6 | K29: =IF(J29<0,"ATENÇÃO","OK") -> OK | L29: 0 | M29: 0 | N29: 0 | O29: 0 | P29: 0 | Q29: 0 | R29: 0 | S29: 0 | T29: 0 | U29: 0 | V29: 0 | W29: 0
C30: 27 | D30: BASQUETE FEMININO - CAMISA - Sem manga 100% POLIESTER DRYFIT, numeração à definir, confeccionadas em poliéster 100% dryfit, com cor a definir. Nas costas: numeração (8X12cm) e logomarca a definir (10X18cm). Na frente: logomarca no centro da camisa (10X18cm). Tamanho e cor a definir. | E30: Unidade | F30: Araçá | G30: 339030-14 | H30: 18 | J30: =I30-(SUM(L30:W30)) -> 0 | K30: =IF(J30<0,"ATENÇÃO","OK") -> OK | L30: 0 | M30: 0 | N30: 0 | O30: 0 | P30: 0 | Q30: 0 | R30: 0 | S30: 0 | T30: 0 | U30: 0 | V30: 0 | W30: 0
C31: 28 | D31: BASQUETE MASCULINO - CAMISA - Sem manga 100% POLIESTER DRYFIT, numeração à definir, com cor a definir. Nas costas: numeração (8X12cm) e logomarca a definir (10X18cm). Na frente: logomarca no centro da camisa (10X18cm). Tamanho e cor a definir. | E31: Unidade | F31: Araçá | G31: 339030-14 | H31: 20 | J31: =I31-(SUM(L31:W31)) -> 0 | K31: =IF(J31<0,"ATENÇÃO","OK") -> OK | L31: 0 | M31: 0 | N31: 0 | O31: 0 | P31: 0 | Q31: 0 | R31: 0 | S31: 0 | T31: 0 | U31: 0 | V31: 0 | W31: 0
C32: 29 | D32: ATLETISMO - CALÇÃO UNISSEX- 92% POLIESTER DRYFIT e 8% ELASTANO. com logomarca na frente, nas dimensões aproximadas 6X10cm. Cós com elástico e cordão para ajuste. Estilo Running, dryfit. Tamanho e cor a definir. | E32: Unidade | F32: Araçá | G32: 339030-14 | H32: 18 | I32: 10 | J32: =I32-(SUM(L32:W32)) -> 10 | K32: =IF(J32<0,"ATENÇÃO","OK") -> OK | L32: 0 | M32: 0 | N32: 0 | O32: 0 | P32: 0 | Q32: 0 | R32: 0 | S32: 0 | T32: 0 | U32: 0 | V32: 0 | W32: 0
C33: 30 | D33: ATLETISMO FEMININO - REGATA - 92% POLIESTER DRYFIT e 8% ELASTANO, estilo Running. Com logomarca nas costas, 8X15cm, escrito a palavra atletismo (27X9cm) e logomarca na frente (8x15cm). Tamanho e cor a definir. | E33: Unidade | F33: Araçá | G33: 339030-14 | H33: 18 | I33: 5 | J33: =I33-(SUM(L33:W33)) -> 5 | K33: =IF(J33<0,"ATENÇÃO","OK") -> OK | L33: 0 | M33: 0 | N33: 0 | O33: 0 | P33: 0 | Q33: 0 | R33: 0 | S33: 0 | T33: 0 | U33: 0 | V33: 0 | W33: 0
C34: 31 | D34: ATLETISMO MASCULINO - REGATA - 92% POLIESTER DRYFIT e 8% ELASTANO, estilo Running. Com logomarca nas costas, 8X15cm, escrito a palavra atletismo (27X9cm) e logomarca na frente (8X15cm). Tamanho e cor a definir. | E34: Unidade | F34: Araçá | G34: 339030-14 | H34: 18 | I34: 90 | J34: =I34-(SUM(L34:W34)) -> 90 | K34: =IF(J34<0,"ATENÇÃO","OK") -> OK | L34: 0 | M34: 0 | N34: 0 | O34: 0 | P34: 0 | Q34: 0 | R34: 0 | S34: 0 | T34: 0 | U34: 0 | V34: 0 | W34: 0
C35: 32 | D35: FUTEBOL MASCULINO - CALÇÃO - 100% POLIESTER DRYFIT, com numeração na parte frontal inferior esquerda e logomarca (7x11cm) na parte frontal inferior direita. Cós com elástico e cordão interno. Tamanho e cor a definir. | E35: Unidade | F35: Araçá | G35: 339030-14 | H35: 15 | I35: 77 | J35: =I35-(SUM(L35:W35)) -> 77 | K35: =IF(J35<0,"ATENÇÃO","OK") -> OK | L35: 0 | M35: 0 | N35: 0 | O35: 0 | P35: 0 | Q35: 0 | R35: 0 | S35: 0 | T35: 0 | U35: 0 | V35: 0 | W35: 0
C36: 33 | D36: FUTEBOL MASCULINO - CAMISA - 92% POLIESTER DRYFIT e 8% ELASTANO. Manga curta com punhos em Rib (efeito canelado),com tratamento antibactericida, permite transpiração. Nas costas: numeração (22cm), logomarca (10X18cm) e o nome da modalidade (20x10cm). Na frente logomarca (10X18cm). Tamanho e cor a definir. | E36: Unidade | F36: Araçá | G36: 339030-14 | H36: 30 | I36: 144 | J36: =I36-(SUM(L36:W36)) -> 144 | K36: =IF(J36<0,"ATENÇÃO","OK") -> OK | L36: 0 | M36: 0 | N36: 0 | O36: 0 | P36: 0 | Q36: 0 | R36: 0 | S36: 0 | T36: 0 | U36: 0 | V36: 0 | W36: 0
C37: 34 | D37: FUTEBOL FEMININO - CAMISA - 92% POLIESTER DRYFIT e 8% ELASTANO. Manga curta com punhos em Rib (efeito canelado),com tratamento antibactericida, permite transpiração. Nas costas: numeração (22cm), logomarca (10X18cm) e o nome da modalidade (20x10cm). Na frente logomarca (10X18cm). Tamanho e cor a definir. | E37: Unidade | F37: Araçá | G37: 339030-14 | H37: 30 | J37: =I37-(SUM(L37:W37)) -> 0 | K37: =IF(J37<0,"ATENÇÃO","OK") -> OK | L37: 0 | M37: 0 | N37: 0 | O37: 0 | P37: 0 | Q37: 0 | R37: 0 | S37: 0 | T37: 0 | U37: 0 | V37: 0 | W37: 0
C38: 35 | D38: FUTEBOL FEMININO - CALÇÃO - 100% POLIESTER DRYFIT, com numeração na parte frontal inferior esquerda e logomarca (7x11cm) na parte frontal inferior direita. Cós com elástico e cordão | F38: Araçá | G38: 339030-14 | H38: 15 | J38: =I38-(SUM(L38:W38)) -> 0 | K38: =IF(J38<0,"ATENÇÃO","OK") -> OK | L38: 0 | M38: 0 | N38: 0 | O38: 0 | P38: 0 | Q38: 0 | R38: 0 | S38: 0 | T38: 0 | U38: 0 | V38: 0 | W38: 0
C39: 36 | D39: FUTEBOL - MEIÃO UNISSEX - liso sem detalhes. Tamanho a definir. Cor a definir. | E39: Par | F39: Araçá | G39: 339030-14 | H39: 7 | I39: 24 | J39: =I39-(SUM(L39:W39)) -> 24 | K39: =IF(J39<0,"ATENÇÃO","OK") -> OK | L39: 0 | M39: 0 | N39: 0 | O39: 0 | P39: 0 | Q39: 0 | R39: 0 | S39: 0 | T39: 0 | U39: 0 | V39: 0 | W39: 0
C40: 37 | D40: FUTSAL MASCULINO - CAMISA - 100% POLIESTER DRYFIT. Manga curta. Nas costas: numeração (22cm), logomarca (10X18cm) e o nome da modalidade (20x10cm). Na frente logomarca (10X18cm). Com tratamento antibactericida, permite transpiração. Manga curta com punhos em Rib (efeito canelado). Tamanho e cor a definir. | E40: Unidade | F40: Araçá | G40: 339030-14 | H40: 30 | J40: =I40-(SUM(L40:W40)) -> 0 | K40: =IF(J40<0,"ATENÇÃO","OK") -> OK | L40: 0 | M40: 0 | N40: 0 | O40: 0 | P40: 0 | Q40: 0 | R40: 0 | S40: 0 | T40: 0 | U40: 0 | V40: 0 | W40: 0
C41: 38 | D41: FUTSAL MASCULINO - CALÇÃO - 100% POLIESTER DRYFIT, com numeração na parte frontal inferior esquerda e logomarca (7x11cm) na parte frontal inferior direita. Cós com elástico e cordão interno. Tamanho e cor a definir. | E41: Unidade | F41: Araçá | G41: 339030-14 | H41: 15 | J41: =I41-(SUM(L41:W41)) -> 0 | K41: =IF(J41<0,"ATENÇÃO","OK") -> OK | L41: 0 | M41: 0 | N41: 0 | O41: 0 | P41: 0 | Q41: 0 | R41: 0 | S41: 0 | T41: 0 | U41: 0 | V41: 0 | W41: 0
C42: 39 | D42: FUTSAL FEMININO - CAMISA - Sem manga, 100% POLIESTER DRYFIT. Na frente: logomarca no centro da camisa (10X18cm). Nas costas: numeração na parte central (8X1cm2), logomarca (10X18cm) e o nome da modalidade 20x10cm. Tamanho e cor a definir. | E42: Unidade | F42: Araçá | G42: 339030-14 | H42: 17 | J42: =I42-(SUM(L42:W42)) -> 0 | K42: =IF(J42<0,"ATENÇÃO","OK") -> OK | L42: 0 | M42: 0 | N42: 0 | O42: 0 | P42: 0 | Q42: 0 | R42: 0 | S42: 0 | T42: 0 | U42: 0 | V42: 0 | W42: 0
C43: 40 | D43: FUTSAL FEMININO - CALÇÃO - 100% POLIESTER DRYFIT . Cós com elástico com cordão interno. Numeração na parte frontal inferior esquerda e o logomarca (7x11cm) na parte frontal inferior direita. Modalidade Futebol gravada na parte inferior direita com dimensões aproximadas de 9X3cm. Logomarca gravada na parte posterior acima da linha glútea, tamanho aproximado 20x10cm. Tamanho e cor a definir. | E43: Unidade | F43: Araçá | G43: 339030-14 | H43: 15 | J43: =I43-(SUM(L43:W43)) -> 0 | K43: =IF(J43<0,"ATENÇÃO","OK") -> OK | L43: 0 | M43: 0 | N43: 0 | O43: 0 | P43: 0 | Q43: 0 | R43: 0 | S43: 0 | T43: 0 | U43: 0 | V43: 0 | W43: 0
C44: 41 | D44: VOLEIBOL FEMININO - CAMISA sem manga, confeccionadas em poliéster 100% dryfit. Na frente: logomarca no centro da camisa (10X18cm). Nas costas: numeração na parte central (8X1cm2), logomarca (10X18cm) e o nome da modalidade 20x10cm. Tamanho e cor a definir. | E44: Unidade | F44: Araçá | G44: 339030-14 | H44: 17 | I44: 28 | J44: =I44-(SUM(L44:W44)) -> 28 | K44: =IF(J44<0,"ATENÇÃO","OK") -> OK | L44: 0 | M44: 0 | N44: 0 | O44: 0 | P44: 0 | Q44: 0 | R44: 0 | S44: 0 | T44: 0 | U44: 0 | V44: 0 | W44: 0
C45: 42 | D45: VOLEIBOL FEMININO - CAMISA com manga, confeccionadas em poliéster 100% dryfit. Na frente: logomarca no centro da camisa (10X18cm). Nas costas: numeração na parte central (8X1cm2), logomarca (10X18cm) e o nome da modalidade 20x10cm. Tamanho e cor a definir. | E45: Unidade | F45: Araçá | G45: 339030-14 | H45: 30 | J45: =I45-(SUM(L45:W45)) -> 0 | K45: =IF(J45<0,"ATENÇÃO","OK") -> OK | L45: 0 | M45: 0 | N45: 0 | O45: 0 | P45: 0 | Q45: 0 | R45: 0 | S45: 0 | T45: 0 | U45: 0 | V45: 0 | W45: 0
C46: 43 | D46: VOLEIBOL FEMININO - SHORT - confeccionados em 90% poliéster 10% elastano, numeradas na parte inferior direita. E na parte inferior esquerda a logomarca e o nome do centro. Tamanho e cor a definir. | E46: Unidade | F46: Araçá | G46: 339030-14 | H46: 20 | I46: 10 | J46: =I46-(SUM(L46:W46)) -> 10 | K46: =IF(J46<0,"ATENÇÃO","OK") -> OK | L46: 0 | M46: 0 | N46: 0 | O46: 0 | P46: 0 | Q46: 0 | R46: 0 | S46: 0 | T46: 0 | U46: 0 | V46: 0 | W46: 0
C47: 44 | D47: VOLEIBOL MASCULINO - CAMISA - com manga, 100% POLIESTER DRYFIT. Na frente: logomarca no centro da camisa (10X18cm). Nas costas: numeração na parte central (8X1cm2), logomarca (10X18cm) e o nome da modalidade 20x10cm. Tamanho e cor a definir. | E47: Unidade | F47: Araçá | G47: 339030-14 | H47: 33 | J47: =I47-(SUM(L47:W47)) -> 0 | K47: =IF(J47<0,"ATENÇÃO","OK") -> OK | L47: 0 | M47: 0 | N47: 0 | O47: 0 | P47: 0 | Q47: 0 | R47: 0 | S47: 0 | T47: 0 | U47: 0 | V47: 0 | W47: 0
C48: 45 | D48: VOLEIBOL MASCULINO - CALÇÃO - Calções confeccionados em poliéster 100%, dryfit, levam o número na parte inferior direita. Logomarca na parte inferior esquerda (7X11cm). Tamanho e cor a definir. | E48: Unidade | F48: Araçá | G48: 339030-14 | H48: 15 | J48: =I48-(SUM(L48:W48)) -> 0 | K48: =IF(J48<0,"ATENÇÃO","OK") -> OK | L48: 0 | M48: 0 | N48: 0 | O48: 0 | P48: 0 | Q48: 0 | R48: 0 | S48: 0 | T48: 0 | U48: 0 | V48: 0 | W48: 0
C49: 46 | D49: VÔLEI PRAIA MASCULINO - REGATA - 100% POLIESTER DRYFIT. NOME da IES, CAMPUS e MODALIDADE. Tamanho e cor a definir. | E49: Unidade | F49: Araçá | G49: 339030-14 | H49: 27 | J49: =I49-(SUM(L49:W49)) -> 0 | K49: =IF(J49<0,"ATENÇÃO","OK") -> OK | L49: 0 | M49: 0 | N49: 0 | O49: 0 | P49: 0 | Q49: 0 | R49: 0 | S49: 0 | T49: 0 | U49: 0 | V49: 0 | W49: 0
C50: 47 | D50: VÔLEI PRAIA MASCULINO - CALÇÃO - 100% POLIESTER DRYFIT, com numeração na parte frontal inferior esquerda e logomarca (7x11cm) na parte frontal inferior direita. Cós com elástico e cordão interno. Tamanho e cor a definir. | E50: Unidade | F50: Araçá | G50: 339030-14 | H50: 15 | J50: =I50-(SUM(L50:W50)) -> 0 | K50: =IF(J50<0,"ATENÇÃO","OK") -> OK | L50: 0 | M50: 0 | N50: 0 | O50: 0 | P50: 0 | Q50: 0 | R50: 0 | S50: 0 | T50: 0 | U50: 0 | V50: 0 | W50: 0
C51: 48 | D51: VÔLEI PRAIA FEMININO - TOP FEMININO - 92% POLIESTER DRYFIT e 08% ELASTANO (conforme modelo deixado no Lab Design). Tamanho e cor a definir. | E51: Unidade | F51: Araçá | G51: 339030-14 | H51: 22 | J51: =I51-(SUM(L51:W51)) -> 0 | K51: =IF(J51<0,"ATENÇÃO","OK") -> OK | L51: 0 | M51: 0 | N51: 0 | O51: 0 | P51: 0 | Q51: 0 | R51: 0 | S51: 0 | T51: 0 | U51: 0 | V51: 0 | W51: 0
C52: 49 | D52: VÔLEI PRAIA FEMININO - SHORT - 92% POLIESTER DRYFIT e 08% ELASTANO (conforme modelo deixado no Lab Design. Tamanho e cor a definir. | E52: Unidade | F52: Araçá | G52: 339030-14 | H52: 25 | J52: =I52-(SUM(L52:W52)) -> 0 | K52: =IF(J52<0,"ATENÇÃO","OK") -> OK | L52: 0 | M52: 0 | N52: 0 | O52: 0 | P52: 0 | Q52: 0 | R52: 0 | S52: 0 | T52: 0 | U52: 0 | V52: 0 | W52: 0
C53: 50 | D53: FUTEVÔLEI MASCULINO - CALÇÃO - 100% POLIESTER DRYFIT. Com numeração na parte frontal inferior esquerda e logomarca (7x11cm) na parte frontal inferior direita. Cós com elástico e cordão interno. Tamanho e cor a definir. | E53: Unidade | F53: Araçá | G53: 339030-14 | H53: 15 | J53: =I53-(SUM(L53:W53)) -> 0 | K53: =IF(J53<0,"ATENÇÃO","OK") -> OK | L53: 0 | M53: 0 | N53: 0 | O53: 0 | P53: 0 | Q53: 0 | R53: 0 | S53: 0 | T53: 0 | U53: 0 | V53: 0 | W53: 0
C54: 51 | D54: FUTEVÔLEI MASCULINO - REGATA - 100% POLIESTER DRYFIT. Tamanho e cor a definir, NOME da IES , CAMPUS e MODALIDADE. | E54: Unidade | F54: Araçá | G54: 339030-14 | H54: 30 | J54: =I54-(SUM(L54:W54)) -> 0 | K54: =IF(J54<0,"ATENÇÃO","OK") -> OK | L54: 0 | M54: 0 | N54: 0 | O54: 0 | P54: 0 | Q54: 0 | R54: 0 | S54: 0 | T54: 0 | U54: 0 | V54: 0 | W54: 0
C55: 52 | D55: FUTEVÔLEI FEMININO - REGATA - 100% POLIESTER DRYFIT. Tamanho e cor a definir. | E55: Unidade | F55: Araçá | G55: 339030-14 | H55: 30 | J55: =I55-(SUM(L55:W55)) -> 0 | K55: =IF(J55<0,"ATENÇÃO","OK") -> OK | L55: 0 | M55: 0 | N55: 0 | O55: 0 | P55: 0 | Q55: 0 | R55: 0 | S55: 0 | T55: 0 | U55: 0 | V55: 0 | W55: 0
C56: 53 | D56: FUTEVÔLEI FEMININO - SHORT - 90% poliéster 10% elastano, numeradas na parte inferior direita. E na parte inferior esquerda a logomarca e o nome do centro.Tamanho e cor a definir. Tamanho e cor a definir. | E56: Unidade | F56: Araçá | G56: 339030-14 | H56: 25 | J56: =I56-(SUM(L56:W56)) -> 0 | K56: =IF(J56<0,"ATENÇÃO","OK") -> OK | L56: 0 | M56: 0 | N56: 0 | O56: 0 | P56: 0 | Q56: 0 | R56: 0 | S56: 0 | T56: 0 | U56: 0 | V56: 0 | W56: 0
C57: 54 | D57: Calções confeccionados em poliéster 100%, dryfit, levam o número na parte inferior direita. Logomarca na parte inferior esquerda (7X11cm). Tamanho e cor a definir. | E57: Unidade | F57: Araçá | G57: 339030-14 | H57: 15 | I57: 345 | J57: =I57-(SUM(L57:W57)) -> 345 | K57: =IF(J57<0,"ATENÇÃO","OK") -> OK | L57: 0 | M57: 0 | N57: 0 | O57: 0 | P57: 0 | Q57: 0 | R57: 0 | S57: 0 | T57: 0 | U57: 0 | V57: 0 | W57: 0
C58: 55 | D58: Bermuda confeccionada em poliéster 100% dryfit. Numeração gravada na parte inferior esquerda com dimensões aproximadas de 9X3cm. Com logomarca na parte inferior direita com dimensões aproximadas de 9X3cm. Tamanho e cor a definir. | E58: Unidade | F58: Araçá | G58: 339030-14 | H58: 40 | J58: =I58-(SUM(L58:W58)) -> 0 | K58: =IF(J58<0,"ATENÇÃO","OK") -> OK | L58: 0 | M58: 0 | N58: 0 | O58: 0 | P58: 0 | Q58: 0 | R58: 0 | S58: 0 | T58: 0 | U58: 0 | V58: 0 | W58: 0
C59: 56 | D59: TENIS DE CAMPO MASCULINO - CAMISA - 100% POLIESTER DRYFIT com gola. Modelo oficial tênis de campo. Na frente: logomarca no centro da camisa (10X18cm). Nas costas: logomarca (10X18cm) e o nome da modalidade 20x10cm. Tamanho e cor a definir. | E59: Unidade | F59: Araçá | G59: 339030-14 | H59: 30 | J59: =I59-(SUM(L59:W59)) -> 0 | K59: =IF(J59<0,"ATENÇÃO","OK") -> OK | L59: 0 | M59: 0 | N59: 0 | O59: 0 | P59: 0 | Q59: 0 | R59: 0 | S59: 0 | T59: 0 | U59: 0 | V59: 0 | W59: 0
C60: 57 | D60: TENIS DE CAMPO FEMININO - CAMISETE - 100% POLIESTER DRYFIT com gola. Modelo oficial tênis de campo. Na frente: logomarca no centro da camisa (10X18cm). Nas costas: logomarca (10X18cm) e o nome da modalidade 20x10cm. Tamanho e cor a definir. | E60: Unidade | F60: Araçá | G60: 339030-14 | H60: 30 | J60: =I60-(SUM(L60:W60)) -> 0 | K60: =IF(J60<0,"ATENÇÃO","OK") -> OK | L60: 0 | M60: 0 | N60: 0 | O60: 0 | P60: 0 | Q60: 0 | R60: 0 | S60: 0 | T60: 0 | U60: 0 | V60: 0 | W60: 0
C61: 58 | D61: TENIS DE MESA MASCULINO - CAMISA - 100% POLIESTER DRYFIT com gola. Modelo oficial tênis de mesa. Na frente: logomarca no centro da camisa (10X18cm). Nas costas: logomarca (10X18cm) e o nome da modalidade 20x10cm. Tamanho e cor a definir. | E61: Unidade | F61: Araçá | G61: 339030-14 | H61: 30 | J61: =I61-(SUM(L61:W61)) -> 0 | K61: =IF(J61<0,"ATENÇÃO","OK") -> OK | L61: 0 | M61: 0 | N61: 0 | O61: 0 | P61: 0 | Q61: 0 | R61: 0 | S61: 0 | T61: 0 | U61: 0 | V61: 0 | W61: 0
C62: 59 | D62: TENIS DE MESA FEMININO - CAMISETE - 100% POLIESTER DRYFIT com gola. Modelo oficial tênis de mesa. Na frente: logomarca no centro da camisa (10X18cm). Nas costas: logomarca (10X18cm) e o nome da modalidade 20x10cm. Tamanho e cor a definir. | E62: Unidade | F62: Araçá | G62: 339030-14 | H62: 37 | J62: =I62-(SUM(L62:W62)) -> 0 | K62: =IF(J62<0,"ATENÇÃO","OK") -> OK | L62: 0 | M62: 0 | N62: 0 | O62: 0 | P62: 0 | Q62: 0 | R62: 0 | S62: 0 | T62: 0 | U62: 0 | V62: 0 | W62: 0
C63: 60 | D63: NATAÇÃO UNISSEX - CAMISA - 100% POLIESTER DRYFIT com gola. Na frente: logomarca no centro da camisa (10X18cm). Nas costas: logomarca (10X18cm) e o nome da modalidade 20x10cm. Tamanho e cor a definir. | E63: Unidade | F63: Araçá | G63: 339030-14 | H63: 40 | J63: =I63-(SUM(L63:W63)) -> 0 | K63: =IF(J63<0,"ATENÇÃO","OK") -> OK | L63: 0 | M63: 0 | N63: 0 | O63: 0 | P63: 0 | Q63: 0 | R63: 0 | S63: 0 | T63: 0 | U63: 0 | V63: 0 | W63: 0
C64: 61 | D64: XADREZ MASCULINO - CAMISETA - Gola polo, malha Piquet P.A. SERIGRAFADO com logomarca no lado esquerdo do peito, de 9X5cm, e SERIGRAFADO com logomarca de 8X3cm na manga direita. Tamanho e cor a definir. | E64: Unidade | F64: Araçá | G64: 339030-14 | H64: 27 | J64: =I64-(SUM(L64:W64)) -> 0 | K64: =IF(J64<0,"ATENÇÃO","OK") -> OK | L64: 0 | M64: 0 | N64: 0 | O64: 0 | P64: 0 | Q64: 0 | R64: 0 | S64: 0 | T64: 0 | U64: 0 | V64: 0 | W64: 0
C65: 62 | D65: XADREZ FEMININO - CAMISETA - Gola polo, malha Piquet P.A. SERIGRAFADO com logomarca no lado esquerdo do peito, de 9X5cm, e SERIGRAFADO com logomarca de 8X3cm na manga direita. Tamanho e cor a definir. | E65: Unidade | F65: Araçá | G65: 339030-14 | H65: 27 | J65: =I65-(SUM(L65:W65)) -> 0 | K65: =IF(J65<0,"ATENÇÃO","OK") -> OK | L65: 0 | M65: 0 | N65: 0 | O65: 0 | P65: 0 | Q65: 0 | R65: 0 | S65: 0 | T65: 0 | U65: 0 | V65: 0 | W65: 0
C66: 63 | D66: RUGBY - CALÇÃO - Material brin, com numeração na parte frontal inferior esquerda e logomarca (7x11cm) na parte frontal inferior direita. Cós com elástico e cordão interno. Tamanho e cor a definir. | E66: Unidade | F66: Araçá | G66: 339030-14 | H66: 48 | J66: =I66-(SUM(L66:W66)) -> 0 | K66: =IF(J66<0,"ATENÇÃO","OK") -> OK | L66: 0 | M66: 0 | N66: 0 | O66: 0 | P66: 0 | Q66: 0 | R66: 0 | S66: 0 | T66: 0 | U66: 0 | V66: 0 | W66: 0
C67: 64 | D67: RUGBY - CAMISAS - Material: Elastano e poliamida Com a logomarca de 9x5cm no peito no lado esquerdo, numeração (22 cm) nas costas. Tamanho e cor a definir. | E67: Unidade | F67: Araçá | G67: 339030-14 | H67: 30 | J67: =I67-(SUM(L67:W67)) -> 0 | K67: =IF(J67<0,"ATENÇÃO","OK") -> OK | L67: 0 | M67: 0 | N67: 0 | O67: 0 | P67: 0 | Q67: 0 | R67: 0 | S67: 0 | T67: 0 | U67: 0 | V67: 0 | W67: 0
C68: 65 | D68: BADMINTON - CAMISA UNISSEX - com manga, confeccionadas em poliéster 100% dryfit. Na frente: logomarca no lado esquerdo (10x18cm). Nas costas: nome da modalidade (10x30cm) e função (10x30cm). Para uniforme de Badminton masculino e feminino. Tamanho e cor a definir. | E68: Unidade | F68: Araçá | G68: 339030-14 | H68: 40 | J68: =I68-(SUM(L68:W68)) -> 0 | K68: =IF(J68<0,"ATENÇÃO","OK") -> OK | L68: 0 | M68: 0 | N68: 0 | O68: 0 | P68: 0 | Q68: 0 | R68: 0 | S68: 0 | T68: 0 | U68: 0 | V68: 0 | W68: 0
C69: 66 | D69: Colete confeccionado em tecido misto, composto de 67% de fibra de poliéster e 33% de fibra de algodão, com gramatura de 221 gm2. A frente deverá ser aberta, com fechamento em zíper, possuindo dois bolsos superiores (fechados por velcro) na altura do tórax e dois bolsos inferiores, na altura do abdômen, medindo 17cm de largura e 22cm de altura. Boca fechada por velcro e fole de 2cm em toda a extensão do mesmo (fechados por velcro). No bolso direito superior, deverá estar sylkado o logomarca a definir, no bolso esquerdo superior deverá ser bordado inscrição a definir. Nas costas do colete, deverá estar sylkado, o logomarca e inscrição a definir. Tamanho e cor a definir. | E69: Unidade | F69: Araçá | G69: 339030-23 | H69: 27 | J69: =I69-(SUM(L69:W69)) -> 0 | K69: =IF(J69<0,"ATENÇÃO","OK") -> OK | L69: 0 | M69: 0 | N69: 0 | O69: 0 | P69: 0 | Q69: 0 | R69: 0 | S69: 0 | T69: 0 | U69: 0 | V69: 0 | W69: 0
C70: 67 | D70: Colete confecionado em tecido 100% poliamida (tactel), contendo dois bolsos -um na esquerda e outro na direita. Viés de acabamento da mesma cor. Na frente logomarca a definir, e palavra de identificação (a definir), no lado direito. Ajuste nas laterais com dois elásticos, de aproximadamente 18 cm, um em cada lado. Tamanho e cor a definir. | E70: Unidade | F70: Araçá | G70: 339030-23 | H70: 20 | J70: =I70-(SUM(L70:W70)) -> 0 | K70: =IF(J70<0,"ATENÇÃO","OK") -> OK | L70: 0 | M70: 0 | N70: 0 | O70: 0 | P70: 0 | Q70: 0 | R70: 0 | S70: 0 | T70: 0 | U70: 0 | V70: 0 | W70: 0
C71: 68 | D71: Colete 100% poliéster para treinamento, numerados nas costas, medindo aproximadamente 22cm de altura e 11cm de largura. Logomarca a definir na frente (10X18cm).Tamanho e cor a definir. | E71: Unidade | F71: Araçá | G71: 339030-14 | H71: 8 | I71: 70 | J71: =I71-(SUM(L71:W71)) -> 70 | K71: =IF(J71<0,"ATENÇÃO","OK") -> OK | L71: 0 | M71: 0 | N71: 0 | O71: 0 | P71: 0 | Q71: 0 | R71: 0 | S71: 0 | T71: 0 | U71: 0 | V71: 0 | W71: 0
C72: 69 | D72: Conjunto para prática desportiva, agasalho de seletel. Contendo blusa e calça, confeccionado em 100% poliéster. Blusa: abertura frontal com fechamento em zíper, cós e punhos em RIB elástico, bolsos laterais com fechamento em zíper, com logomarca bordada no lado esquerdo do peito, dimensões aproximadas de 9X5cm e com a logomarca bordado nas costas e o nome da função (a definir), dimensões aproximadas 20X25cm. Calça: cós com elástico e cordão para ajuste, bolsos laterais com fechamento em zíper, bordado com a logomarca no lado esquerdo da calça, dimensões aproximadas 9X5cm, com zíper destacável na altura do joelho para transformar a calça em bermuda. Tamanho e cor a definir. | E72: Unidade | F72: Araçá | G72: 339030-14 | H72: 90 | I72: 140 | J72: =I72-(SUM(L72:W72)) -> 140 | K72: =IF(J72<0,"ATENÇÃO","OK") -> OK | L72: 0 | M72: 0 | N72: 0 | O72: 0 | P72: 0 | Q72: 0 | R72: 0 | S72: 0 | T72: 0 | U72: 0 | V72: 0 | W72: 0
C73: 70 | D73: Conjunto para prática desportiva, agasalho de seletel. Contendo blusa e calça, confeccionado em 100% poliéster. Blusa: abertura frontal com fechamento em zíper, cós e punhos em RIB elástico, bolsos laterais com fechamento em zíper, com logomarca serigrafada no lado esquerdo do peito, dimensões aproximadas de 9X5cm e com serigrafia da logomarca nas costas e do nome da função (a definir), dimensões aproximadas 20X25cm. Calça: cós com elástico e cordão para ajuste, bolsos laterais com fechamento em zíper, bordado com a logomarca no lado esquerdo da calça, dimensões aproximadas 9X5cm, com zíper destacável na altura do joelho para transformar a calça em bermuda. Tamanho e cor a definir. | E73: Unidade | F73: Araçá | G73: 339030-14 | H73: 118.95 | J73: =I73-(SUM(L73:W73)) -> 0 | K73: =IF(J73<0,"ATENÇÃO","OK") -> OK | L73: 0 | M73: 0 | N73: 0 | O73: 0 | P73: 0 | Q73: 0 | R73: 0 | S73: 0 | T73: 0 | U73: 0 | V73: 0 | W73: 0
C74: 71 | D74: Bandeira Personalizada, em poliéster. Dimensões: 2,5 panos: 1,12x1,60m. | E74: Unidade | F74: Araçá | G74: 339030-50 | H74: 90 | I74: 4 | J74: =I74-(SUM(L74:W74)) -> 4 | K74: =IF(J74<0,"ATENÇÃO","OK") -> OK | L74: 0 | M74: 0 | N74: 0 | O74: 0 | P74: 0 | Q74: 0 | R74: 0 | S74: 0 | T74: 0 | U74: 0 | V74: 0 | W74: 0
C75: 72 | D75: Bandeira Personalizada, em poliéster. Dimensões: Largura: 1,25m e Altura: 0,90m. | E75: Unidade | F75: Araçá | G75: 339030-50 | H75: 110 | J75: =I75-(SUM(L75:W75)) -> 0 | K75: =IF(J75<0,"ATENÇÃO","OK") -> OK | L75: 0 | M75: 0 | N75: 0 | O75: 0 | P75: 0 | Q75: 0 | R75: 0 | S75: 0 | T75: 0 | U75: 0 | V75: 0 | W75: 0
C76: 73 | D76: Bolsa para fardamento confeccionada em nylon, com zíper, com alça para carregar no ombro e alça de mão. Dimensões mínimas de 120cm de altura e 80cm de largura. Com a logomarca em 3 cores. | E76: Unidade | F76: Araçá | G76: 339030-23 | H76: 35 | I76: 6 | J76: =I76-(SUM(L76:W76)) -> 6 | K76: =IF(J76<0,"ATENÇÃO","OK") -> OK | L76: 0 | M76: 0 | N76: 0 | O76: 0 | P76: 0 | Q76: 0 | R76: 0 | S76: 0 | T76: 0 | U76: 0 | V76: 0 | W76: 0
C77: 74 | D77: Malote confeccionado em lona, contendo visor de plástico para identificação do material constante no interior do malote. O malote deverá ser de meias argolas e tiras com ilhoses. Tamanho aproximado:40x50x15 | E77: Unidade | F77: Araçá | G77: 339030-23 | H77: 80 | I77: 6 | J77: =I77-(SUM(L77:W77)) -> 6 | K77: =IF(J77<0,"ATENÇÃO","OK") -> OK | L77: 0 | M77: 0 | N77: 0 | O77: 0 | P77: 0 | Q77: 0 | R77: 0 | S77: 0 | T77: 0 | U77: 0 | V77: 0 | W77: 0
A78: Weikki Confecções LTDA - EPP | B78: 5 | C78: 75 | D78: Tecido Tule, cor a definir. | E78: Metro | F78: Weikki | G78: 339030-23 | H78: 2 | J78: =I78-(SUM(L78:W78)) -> 0 | K78: =IF(J78<0,"ATENÇÃO","OK") -> OK | L78: 0 | M78: 0 | N78: 0 | O78: 0 | P78: 0 | Q78: 0 | R78: 0 | S78: 0 | T78: 0 | U78: 0 | V78: 0 | W78: 0
C79: 77 | D79: Tecido malha de algodão cru, 1,50m de largura. Cor a definir. | E79: Metro | F79: Weikki | G79: 339030-23 | H79: 8.95 | J79: =I79-(SUM(L79:W79)) -> 0 | K79: =IF(J79<0,"ATENÇÃO","OK") -> OK | L79: 0 | M79: 0 | N79: 0 | O79: 0 | P79: 0 | Q79: 0 | R79: 0 | S79: 0 | T79: 0 | U79: 0 | V79: 0 | W79: 0
C80: 78 | D80: Tecido em cetim, largura 1,20m. Cor a definir. | E80: Metro | F80: Weikki | G80: 339030-23 | H80: 6.09 | J80: =I80-(SUM(L80:W80)) -> 0 | K80: =IF(J80<0,"ATENÇÃO","OK") -> OK | L80: 0 | M80: 0 | N80: 0 | O80: 0 | P80: 0 | Q80: 0 | R80: 0 | S80: 0 | T80: 0 | U80: 0 | V80: 0 | W80: 0
C81: 79 | D81: Malha de Helanca. Largura mínima 1,50m. Cor a definir. | E81: Metro | F81: Weikki | G81: 339030-23 | H81: 10.46 | I81: 10 | J81: =I81-(SUM(L81:W81)) -> 10 | K81: =IF(J81<0,"ATENÇÃO","OK") -> OK | L81: 0 | M81: 0 | N81: 0 | O81: 0 | P81: 0 | Q81: 0 | R81: 0 | S81: 0 | T81: 0 | U81: 0 | V81: 0 | W81: 0
C82: 80 | D82: Tecido TNT em metro. Cor a definir. | E82: Metro | F82: Weikki | G82: 339030-23 | H82: 0.98 | I82: 15 | J82: =I82-(SUM(L82:W82)) -> 15 | K82: =IF(J82<0,"ATENÇÃO","OK") -> OK | L82: 0 | M82: 0 | N82: 0 | O82: 0 | P82: 0 | Q82: 0 | R82: 0 | S82: 0 | T82: 0 | U82: 0 | V82: 0 | W82: 0
C83: 81 | D83: Tecido, Chita ou Chitão Estampado, 100% algodão, largura mínima 1,20m. Estampa a definir. | E83: Metro | F83: Weikki | G83: 339030-23 | H83: 15.3 | J83: =I83-(SUM(L83:W83)) -> 0 | K83: =IF(J83<0,"ATENÇÃO","OK") -> OK | L83: 0 | M83: 0 | N83: 0 | O83: 0 | P83: 0 | Q83: 0 | R83: 0 | S83: 0 | T83: 0 | U83: 0 | V83: 0 | W83: 0
A84: ADBX Comércio de Serviços LTDA - ME | B84: 6 | C84: 82 | D84: Campos cirurgicos: Brim - tecido 100% algodão. Gramatura 260g/m². Cor verde bandeira ou marinho. Tamanho: 1,40 x 1,70 m | E84: Peça | F84: K.B | G84: 339030-23 | H84: 48 | J84: =I84-(SUM(L84:W84)) -> 0 | K84: =IF(J84<0,"ATENÇÃO","OK") -> OK | L84: 0 | M84: 0 | N84: 0 | O84: 0 | P84: 0 | Q84: 0 | R84: 0 | S84: 0 | T84: 0 | U84: 0 | V84: 0 | W84: 0
C85: 83 | D85: Campos cirurgicos: Brim - tecido 100% algodão. Gramatura 260g/m². Cor verde bandeira ou marinho. Tamanho: 1,00 x 1,00 m | E85: Peça | F85: K.B | G85: 339030-23 | H85: 28 | J85: =I85-(SUM(L85:W85)) -> 0 | K85: =IF(J85<0,"ATENÇÃO","OK") -> OK | L85: 0 | M85: 0 | N85: 0 | O85: 0 | P85: 0 | Q85: 0 | R85: 0 | S85: 0 | T85: 0 | U85: 0 | V85: 0 | W85: 0
C86: 84 | D86: Campo cirurgico com fenestra: Brim - tecido 100% algodão. Gramatura 260g/m². Cor verde bandeira ou marinho. Tamanho: 0,50 x 0,50 m | E86: Peça | F86: K.B | G86: 339030-23 | H86: 20 | J86: =I86-(SUM(L86:W86)) -> 0 | K86: =IF(J86<0,"ATENÇÃO","OK") -> OK | L86: 0 | M86: 0 | N86: 0 | O86: 0 | P86: 0 | Q86: 0 | R86: 0 | S86: 0 | T86: 0 | U86: 0 | V86: 0 | W86: 0
C87: 85 | D87: Campos cirurgicos: Brim - tecido 100% algodão. Gramatura 260g/m². Cor verde bandeira ou marinho. Tamanho: 0,50 x 0,50 m | E87: Peça | F87: K.B | G87: 339030-23 | H87: 12 | J87: =I87-(SUM(L87:W87)) -> 0 | K87: =IF(J87<0,"ATENÇÃO","OK") -> OK | L87: 0 | M87: 0 | N87: 0 | O87: 0 | P87: 0 | Q87: 0 | R87: 0 | S87: 0 | T87: 0 | U87: 0 | V87: 0 | W87: 0
C88: 86 | D88: Avental cirúrgico em brim: Brim - tecido 100% algodão. Gramatura 260g/m². Cor verde bandeira ou marinho. Tamanho único | E88: Peça | F88: K.B | G88: 339030-23 | H88: 50 | J88: =I88-(SUM(L88:W88)) -> 0 | K88: =IF(J88<0,"ATENÇÃO","OK") -> OK | L88: 0 | M88: 0 | N88: 0 | O88: 0 | P88: 0 | Q88: 0 | R88: 0 | S88: 0 | T88: 0 | U88: 0 | V88: 0 | W88: 0
C89: 87 | D89: Camisola para exame ginecológico: Tecido 100% algodão, lavado e pré-encolhido na cor verde ou branco. Tamanho único | E89: Peça | F89: K.B | G89: 339030-23 | H89: 38 | J89: =I89-(SUM(L89:W89)) -> 0 | K89: =IF(J89<0,"ATENÇÃO","OK") -> OK | L89: 0 | M89: 0 | N89: 0 | O89: 0 | P89: 0 | Q89: 0 | R89: 0 | S89: 0 | T89: 0 | U89: 0 | V89: 0 | W89: 0
C90: 88 | D90: Avental cirúrgico em brim: Brim - tecido 100% algodão. Gramatura 260g/m². Cor verde bandeira ou marinho. Tamanho grande | E90: Peça | F90: K.B | G90: 339030-23 | H90: 48 | J90: =I90-(SUM(L90:W90)) -> 0 | K90: =IF(J90<0,"ATENÇÃO","OK") -> OK | L90: 0 | M90: 0 | N90: 0 | O90: 0 | P90: 0 | Q90: 0 | R90: 0 | S90: 0 | T90: 0 | U90: 0 | V90: 0 | W90: 0
C91: 89 | D91: Lençóis para maca: algodão ou percal ou microfibra na cor branca. Tamanho: 1,00 x 2,00 m | E91: Peça | F91: K.B | G91: 339030-23 | H91: 58 | J91: =I91-(SUM(L91:W91)) -> 0 | K91: =IF(J91<0,"ATENÇÃO","OK") -> OK | L91: 0 | M91: 0 | N91: 0 | O91: 0 | P91: 0 | Q91: 0 | R91: 0 | S91: 0 | T91: 0 | U91: 0 | V91: 0 | W91: 0
C92: 90 | D92: Colchas: em Piquet na cor verde ou branco. Tamanho: 1,60x 2,50m | E92: Peça | F92: K.B | G92: 339030-23 | H92: 90 | J92: =I92-(SUM(L92:W92)) -> 0 | K92: =IF(J92<0,"ATENÇÃO","OK") -> OK | L92: 0 | M92: 0 | N92: 0 | O92: 0 | P92: 0 | Q92: 0 | R92: 0 | S92: 0 | T92: 0 | U92: 0 | V92: 0 | W92: 0
C93: 91 | D93: "Pijama Cirúrgico" - calça e camisa (para uso em centro cirúrgico): em algodão na cor verde ou marinho. Tamanho médio | E93: Peça | F93: K.B | G93: 339030-23 | H93: 85.7 | J93: =I93-(SUM(L93:W93)) -> 0 | K93: =IF(J93<0,"ATENÇÃO","OK") -> OK | L93: 0 | M93: 0 | N93: 0 | O93: 0 | P93: 0 | Q93: 0 | R93: 0 | S93: 0 | T93: 0 | U93: 0 | V93: 0 | W93: 0
C94: 92 | D94: "Pijama Cirúrgico" - calça e camisa (para uso em centro cirúrgico): em algodão na cor verde ou marinho. Tamanho grande | E94: Peça | F94: K.B | G94: 339030-23 | H94: 90 | J94: =I94-(SUM(L94:W94)) -> 0 | K94: =IF(J94<0,"ATENÇÃO","OK") -> OK | L94: 0 | M94: 0 | N94: 0 | O94: 0 | P94: 0 | Q94: 0 | R94: 0 | S94: 0 | T94: 0 | U94: 0 | V94: 0 | W94: 0
C95: 93 | D95: "Pijama Cirúrgico" - calça e camisa (para uso em centro cirúrgico): em algodão na cor verde ou marinho. Tamanho GG | E95: Peça | F95: K.B | G95: 339030-23 | H95: 90 | J95: =I95-(SUM(L95:W95)) -> 0 | K95: =IF(J95<0,"ATENÇÃO","OK") -> OK | L95: 0 | M95: 0 | N95: 0 | O95: 0 | P95: 0 | Q95: 0 | R95: 0 | S95: 0 | T95: 0 | U95: 0 | V95: 0 | W95: 0
C96: 94 | D96: Jalecos em tecido Microfibra, na cor branca, comprimento longo (mínimo de 85cm), manga longa, com 1 bolso superior esquerdo e 2 inferiores, mínimo de 05 botões (com sistema de abotoamento embutido, em que os botões não fiquem aparentes), marca da UDESC bordada na manga direita nas dimensões aproximadas de 8x3cm, do CEFID bordada na manga esquerda nas dimensões aproximadas de 8x3cm e marca da Clínica Escola de Fisioterapia bordada no lado esquerdo do peito (no bolso) nas dimensões aproximadas de 9x5cm. Definir cortes femininos e masculinos com o solicitante antes da execução do serviço. | E96: Peça | F96: K.B | G96: 339030-23 | H96: 78 | J96: =I96-(SUM(L96:W96)) -> 0 | K96: =IF(J96<0,"ATENÇÃO","OK") -> OK | L96: 0 | M96: 0 | N96: 0 | O96: 0 | P96: 0 | Q96: 0 | R96: 0 | S96: 0 | T96: 0 | U96: 0 | V96: 0 | W96: 0

Sheet CEART
A1: PROCESSO: 0502/2015/UDESC | D1: OBJETO: Aquisição de Rouparia para a UDESC | I1: VIGÊNCIA DA ATA: 14/07/2015 até 13/07/2016 | L1: AF/OS nº xxxx/2015 Qtde. DT | M1: AF/OS nº xxxx/2015 Qtde. DT | N1: AF/OS nº xxxx/2015 Qtde. DT | O1: AF/OS nº xxxx/2015 Qtde. DT | P1: AF/OS nº xxxx/2015 Qtde. DT | Q1: AF/OS nº xxxx/2015 Qtde. DT | R1: AF/OS nº xxxx/2015 Qtde. DT | S1: AF/OS nº xxxx/2015 Qtde. DT | T1: AF/OS nº xxxx/2015 Qtde. DT | U1: AF/OS nº xxxx/2015 Qtde. DT | V1: AF/OS nº xxxx/2015 Qtde. DT | W1: AF/OS nº xxxx/2015 Qtde. DT
A2: CENTRO PARTICIPANTE: CEART
A3: FORNECEDOR | B3: LOTE | C3: ITEM | D3: PRODUTO - CARACTERÍSTICAS MÍNIMAS | E3: UNIDADE | F3: MARCA | G3: DETALHAMENTO | H3: Preço UNITÁRIO (R$) | I3: Qtde Registrada | J3: Saldo / Automático | K3: ALERTA | L3: =SUMPRODUCT(H18:H75,L18:L75) -> 8861 | M3: ...../...../...... | N3: ...../...../...... | O3: ...../...../...... | P3: ...../...../...... | Q3: ...../...../...... | R3: ...../...../...... | S3: ...../...../...... | T3: ...../...../...... | U3: ...../...../...... | V3: ...../...../...... | W3: ...../...../......
A4: Tracton Indústria e Comércio LTDA - EPP | B4: 1 | C4: 1 | D4: Fronha de tecido cretone, 100% algodão, dimensões aproximadas de 0,50cm de largura e 0,60cm de comprimento, com logomarca a ser definida impressa no centro com as dimensões de 14x13cm aproximadamente. Cor a definir. | E4: Unidade | F4: Tracton | G4: 339030-20 | H4: 25 | J4: =I4-(SUM(L4:W4)) -> 0 | K4: =IF(J4<0,"ATENÇÃO","OK") -> OK | L4: 0 | M4: 0 | N4: 0 | O4: 0 | P4: 0 | Q4: 0 | R4: 0 | S4: 0 | T4: 0 | U4: 0 | V4: 0 | W4: 0
C5: 2 | D5: Lençol de tecido, com elástico, 100% algodão, dimensões aproximadas: 1,30m de largura e 2m de comprimento. Logomarca a ser definida impressa no centro, dimensões de 14x13cm aproximadamente. | E5: Unidade | F5: Tracton | G5: 339030-20 | H5: 50 | J5: =I5-(SUM(L5:W5)) -> 0 | K5: =IF(J5<0,"ATENÇÃO","OK") -> OK | L5: 0 | M5: 0 | N5: 0 | O5: 0 | P5: 0 | Q5: 0 | R5: 0 | S5: 0 | T5: 0 | U5: 0 | V5: 0 | W5: 0
C6: 3 | D6: Lençol de tecido, sem elástico, 100% algodão, dimensões aproximadas: 1,30m de largura e 2m de comprimento, com logomarca a ser definida impressa no centro, com 14x13cm aproximadamente. | E6: Unidade | F6: Tracton | G6: 339030-20 | H6: 50 | J6: =I6-(SUM(L6:W6)) -> 0 | K6: =IF(J6<0,"ATENÇÃO","OK") -> OK | L6: 0 | M6: 0 | N6: 0 | O6: 0 | P6: 0 | Q6: 0 | R6: 0 | S6: 0 | T6: 0 | U6: 0 | V6: 0 | W6: 0
C7: 4 | D7: Toalha de mesa, de cetim, medindo aproximadamente 1,20m x60cm. Com logomarca bordada no centro da toalha, tamanho mínimo 30cm x 30 cm. Cor a definir. | E7: Unidade | F7: Tracton | G7: 339030-20 | H7: 61 | J7: =I7-(SUM(L7:W7)) -> 0 | K7: =IF(J7<0,"ATENÇÃO","OK") -> OK | L7: 0 | M7: 0 | N7: 0 | O7: 0 | P7: 0 | Q7: 0 | R7: 0 | S7: 0 | T7: 0 | U7: 0 | V7: 0 | W7: 0
C8: 5 | D8: Toalha de mesa retangular, medindo aproximadamente 1,60mX2,70m. Composição 53% algodão, 47% poliéster. Cor a definir. | E8: Unidade | F8: Tracton | G8: 339030-20 | H8: 89 | J8: =I8-(SUM(L8:W8)) -> 0 | K8: =IF(J8<0,"ATENÇÃO","OK") -> OK | L8: 0 | M8: 0 | N8: 0 | O8: 0 | P8: 0 | Q8: 0 | R8: 0 | S8: 0 | T8: 0 | U8: 0 | V8: 0 | W8: 0
C9: 6 | D9: Toalha de banho, dupla face, em tecido 100% algodão, cor da definir, pré-lavada e pré-encolhida, gramatura de no mínimo 500gr/m², medindo no mínimo 70cm x 1,40m. Logomarca a ser definida e impressa em uma das pontas nas dimensões de 14x13cm aproximadamente. | E9: Unidade | F9: Tracton | G9: 339030-20 | H9: 30 | J9: =I9-(SUM(L9:W9)) -> 0 | K9: =IF(J9<0,"ATENÇÃO","OK") -> OK | L9: 0 | M9: 0 | N9: 0 | O9: 0 | P9: 0 | Q9: 0 | R9: 0 | S9: 0 | T9: 0 | U9: 0 | V9: 0 | W9: 0
C10: 7 | D10: Toalha de rosto, dupla face, em tecido 100% algodão, cor da definir, pré-lavada e pré-encolhida, gramatura de no mínimo 500gr/m², medindo no mínimo 45x75cm. Logomarca a ser definida e impressa em uma das pontas nas dimensões de 14x13cm aproximadamente. | E10: Unidade | F10: Tracton | G10: 339030-20 | H10: 20 | J10: =I10-(SUM(L10:W10)) -> 0 | K10: =IF(J10<0,"ATENÇÃO","OK") -> OK | L10: 0 | M10: 0 | N10: 0 | O10: 0 | P10: 0 | Q10: 0 | R10: 0 | S10: 0 | T10: 0 | U10: 0 | V10: 0 | W10: 0
C11: 8 | D11: Toalha de mesa redonda, medindo aproximadamente 178cm diâmetro, composição 59% algodão e 41% poliéster, cor a definir. | E11: Unidade | F11: Tracton | G11: 339030-20 | H11: 60 | J11: =I11-(SUM(L11:W11)) -> 0 | K11: =IF(J11<0,"ATENÇÃO","OK") -> OK | L11: 0 | M11: 0 | N11: 0 | O11: 0 | P11: 0 | Q11: 0 | R11: 0 | S11: 0 | T11: 0 | U11: 0 | V11: 0 | W11: 0
C12: 9 | D12: Toalha de mesa retangular, medindo aproximadamente 7mx2,20m. Composição 53% algodão, 47% poliéster, com protetor de tecido. Cor a definir. | E12: Unidade | F12: Tracton | G12: 339030-20 | H12: 97.5 | J12: =I12-(SUM(L12:W12)) -> 0 | K12: =IF(J12<0,"ATENÇÃO","OK") -> OK | L12: 0 | M12: 0 | N12: 0 | O12: 0 | P12: 0 | Q12: 0 | R12: 0 | S12: 0 | T12: 0 | U12: 0 | V12: 0 | W12: 0
A13: ADBX Comércio de Serviços LTDA - ME | B13: 2 | C13: 10 | D13: Camisa social masculina, manga longa, cor a definir, composição 50% algodão e 50% poliéster. Com a logomarca de 9x5cm bordada no peito no lado esquerdo. Tamanho e cor a definir. | E13: Unidade | F13: K.B | G13: 339030-23 | H13: 48 | J13: =I13-(SUM(L13:W13)) -> 0 | K13: =IF(J13<0,"ATENÇÃO","OK") -> OK | L13: 0 | M13: 0 | N13: 0 | O13: 0 | P13: 0 | Q13: 0 | R13: 0 | S13: 0 | T13: 0 | U13: 0 | V13: 0 | W13: 0
C14: 11 | D14: Camisete feminina, manga longa feminina, composição 50% algodão e 50% poliéster. Com a logomarca de 9x5cm bordada no peito, no lado esquerdo. Tamanho e cor a definir. | E14: Unidade | F14: K.B | G14: 339030-23 | H14: 50 | J14: =I14-(SUM(L14:W14)) -> 0 | K14: =IF(J14<0,"ATENÇÃO","OK") -> OK | L14: 0 | M14: 0 | N14: 0 | O14: 0 | P14: 0 | Q14: 0 | R14: 0 | S14: 0 | T14: 0 | U14: 0 | V14: 0 | W14: 0
C15: 12 | D15: Camisa social masculina, manga longa, cor a definir, composição 100% algodão egipcio. Com a logomarca de 9x5cm bordada no peito no lado esquerdo. Tamanho e cor a definir. | F15: K.B | G15: 339030-23 | H15: 52.6 | J15: =I15-(SUM(L15:W15)) -> 0 | K15: =IF(J15<0,"ATENÇÃO","OK") -> OK | L15: 0 | M15: 0 | N15: 0 | O15: 0 | P15: 0 | Q15: 0 | R15: 0 | S15: 0 | T15: 0 | U15: 0 | V15: 0 | W15: 0
A16: Jackson da Silva 03571984927 - ME | B16: 3 | C16: 13 | D16: Camiseta, 30x1 penteado, gola ombro a ombro, a gola da camiseta de possuir elastano, sendo reforçada na costura. A camiseta terá uma área reservada para serigrafia de até 28x21cm na frente e nas costas, podendo conter até 8 cores em cada lado. Tamanho, cor e logomarca a definir. | E16: Unidade | F16: Araçá | G16: 339030-23 | H16: 9.13 | J16: =I16-(SUM(L16:W16)) -> 0 | K16: =IF(J16<0,"ATENÇÃO","OK") -> OK | L16: 0 | M16: 0 | N16: 0 | O16: 0 | P16: 0 | Q16: 0 | R16: 0 | S16: 0 | T16: 0 | U16: 0 | V16: 0 | W16: 0
C17: 14 | D17: Camiseta gola polo, malha Piquet P.A. Bordado com logomarca no lado esquerdo do peito, de 9X5cm, e bordado com logomarca de 8X3cm na manga direita. Tamanho e cor a definir. | E17: Unidade | F17: Araçá | G17: 339030-23 | H17: 17 | J17: =I17-(SUM(L17:W17)) -> 0 | K17: =IF(J17<0,"ATENÇÃO","OK") -> OK | L17: 0 | M17: 0 | N17: 0 | O17: 0 | P17: 0 | Q17: 0 | R17: 0 | S17: 0 | T17: 0 | U17: 0 | V17: 0 | W17: 0
A18: Jackson da Silva 03571984927 - ME | B18: 4 | C18: 15 | D18: GOLEIRA FEMININO FUTEBOL CAMPO, FUTSAL E HANDEBOL - CALÇA 100% POLIESTER DRYFIT - com espuma de proteção nos joelhos e na cintura. Número gravado na parte inferior direita da coxa, acima da proteção e na parte inferior. Tamanho e cor a definir. | E18: Unidade | F18: Araçá | G18: 339030-14 | H18: 25 | I18: 6 | J18: =I18-(SUM(L18:W18)) -> 3 | K18: =IF(J18<0,"ATENÇÃO","OK") -> OK | L18: 3 | M18: 0 | N18: 0 | O18: 0 | P18: 0 | Q18: 0 | R18: 0 | S18: 0 | T18: 0 | U18: 0 | V18: 0 | W18: 0
C19: 16 | D19: GOLEIRO MASCULINO FUTEBOL DE CAMPO, FUTSAL E HANDEBOL- CALÇA 100% POLIESTER DRYFIT . Com espuma de proteção nos joelhos e na cintura. Número gravado na parte inferior direita da coxa, acima da proteção e na parte inferior. Tamanho e cor a definir. | E19: Unidade | F19: Araçá | G19: 339030-14 | H19: 32 | I19: 8 | J19: =I19-(SUM(L19:W19)) -> 4 | K19: =IF(J19<0,"ATENÇÃO","OK") -> OK | L19: 4 | M19: 0 | N19: 0 | O19: 0 | P19: 0 | Q19: 0 | R19: 0 | S19: 0 | T19: 0 | U19: 0 | V19: 0 | W19: 0
C20: 17 | D20: GOLEIRA FEMININO FUTEBOL CAMPO, FUTSAL E HANDEBOL - CAMISA 100% POLIESTER DRYFIT - Camisa de goleira com espuma de proteção nos cotovelos, com números a definir, serigrafado atrás. As camisas possuem numeração nas costas (8X12cm) na parte central. Com logomarca acima do número (10X18cm). Abaixo do número nas costas deverá estar escrito o nome da modalidade(20x10cm). Na frente logomarca no centro da camisa. Tamanho e cor a definir. | E20: Unidade | F20: Araçá | G20: 339030-14 | H20: 22 | I20: 6 | J20: =I20-(SUM(L20:W20)) -> 3 | K20: =IF(J20<0,"ATENÇÃO","OK") -> OK | L20: 3 | M20: 0 | N20: 0 | O20: 0 | P20: 0 | Q20: 0 | R20: 0 | S20: 0 | T20: 0 | U20: 0 | V20: 0 | W20: 0
C21: 18 | D21: GOLEIRO MASCULINO FUTEBOL DE CAMPO, FUTSAL E HANDEBOL- CAMISA 100% POLIESTER DRYFIT. Com espuma de proteção nos cotovelos, com números a definir, serigrafado atrás. As camisas possuem numeração nas costas (8X12cm) na parte central.Com logomarca acima do número (10X18cm). Abaixo do número nas costas deverá estar escrito o nome da modalidade(20x10cm). Na frente logomarca no centro da camisa. Tamanho e cor a definir. | E21: Unidade | F21: Araçá | G21: 339030-14 | H21: 22 | I21: 8 | J21: =I21-(SUM(L21:W21)) -> 4 | K21: =IF(J21<0,"ATENÇÃO","OK") -> OK | L21: 4 | M21: 0 | N21: 0 | O21: 0 | P21: 0 | Q21: 0 | R21: 0 | S21: 0 | T21: 0 | U21: 0 | V21: 0 | W21: 0
C22: 19 | D22: HANDEBOL MASCULINO - CALÇÃO 100% POLIESTER DRYFIT. Cós com elástico e com cordão interno. Com numeração na parte frontal inferior esquerda e logomarca (7X11cm) na parte frontal inferior direita. Modalidade handebol gravada na parte inferior direita com dimensões aproximadas de 9X3cm. Logomarca gravada na parte posterior acima da linha glútea, tamanho aproximado 20x10cm. Tamanho, numeração e cor a definir. | E22: Unidade | F22: Araçá | G22: 339030-14 | H22: 14 | I22: 28 | J22: =I22-(SUM(L22:W22)) -> 14 | K22: =IF(J22<0,"ATENÇÃO","OK") -> OK | L22: 14 | M22: 0 | N22: 0 | O22: 0 | P22: 0 | Q22: 0 | R22: 0 | S22: 0 | T22: 0 | U22: 0 | V22: 0 | W22: 0
C23: 20 | D23: HANDEBOL FEMININO - CALÇÃO para handebol feminino, confeccionados em poliéster. Cós com elástico com cordão interno. Numeração na parte frontal inferior esquerda e o logomarca (7x11cm) na parte frontal inferior direita. Modalidade handebol gravada na parte inferior direita com dimensões aproximadas de 9X3cm. Logomarca gravada na parte posterior acima da linha glútea, tamanho aproximado 20x10cm. Tamanho e cor a definir. Estilo handebol. | E23: Unidade | F23: Araçá | G23: 339030-14 | H23: 14 | I23: 28 | J23: =I23-(SUM(L23:W23)) -> 14 | K23: =IF(J23<0,"ATENÇÃO","OK") -> OK | L23: 14 | M23: 0 | N23: 0 | O23: 0 | P23: 0 | Q23: 0 | R23: 0 | S23: 0 | T23: 0 | U23: 0 | V23: 0 | W23: 0
C24: 21 | D24: HANDEBOL FEMININO - SHORT - 92% POLIESTER DRYFIT e 8% ELASTANO Com numeração na parte frontal inferior esquerda e o logomarca, 7X11cm, na parte frontal inferior direita. Modalidade handebol gravada na parte inferior direita com dimensões aproximadas de 9X3cm. Logomarca gravada na parte posterior acima da linha glútea, tamanho aproximado 20x10cm. Tamanho e cor a definir. | E24: Unidade | F24: Araçá | G24: 339030-14 | H24: 20 | I24: 28 | J24: =I24-(SUM(L24:W24)) -> 14 | K24: =IF(J24<0,"ATENÇÃO","OK") -> OK | L24: 14 | M24: 0 | N24: 0 | O24: 0 | P24: 0 | Q24: 0 | R24: 0 | S24: 0 | T24: 0 | U24: 0 | V24: 0 | W24: 0
C25: 22 | D25: HANDEBOL FEMININO - CAMISA - SEM MANGA 100% POLIESTER DRYFIT. Nas costas a logomarca (10X18cm) e a numeração (22cm). Logomarca na frente (10X18cm). Com tratamento antibactericida, permite transpiração. Manga com punhos em Rib (efeito canelado). Tamanho e cor a definir. | E25: Unidade | F25: Araçá | G25: 339030-14 | H25: 18 | J25: =I25-(SUM(L25:W25)) -> 0 | K25: =IF(J25<0,"ATENÇÃO","OK") -> OK | L25: 0 | M25: 0 | N25: 0 | O25: 0 | P25: 0 | Q25: 0 | R25: 0 | S25: 0 | T25: 0 | U25: 0 | V25: 0 | W25: 0
C26: 23 | D26: HANDEBOL FEMININO - CAMISA - COM MANGA 100% POLIESTER DRYFIT. Nas costas a logomarca (10X18cm) e a numeração (22cm). Logomarca na frente (10X18cm). Com tratamento antibactericida, permite transpiração. Manga curta com punhos em Rib (efeito canelado). Tamanho e cor a definir. | E26: Unidade | F26: Araçá | G26: 339030-14 | H26: 28 | I26: 28 | J26: =I26-(SUM(L26:W26)) -> 14 | K26: =IF(J26<0,"ATENÇÃO","OK") -> OK | L26: 14 | M26: 0 | N26: 0 | O26: 0 | P26: 0 | Q26: 0 | R26: 0 | S26: 0 | T26: 0 | U26: 0 | V26: 0 | W26: 0
C27: 24 | D27: HANDEBOL MASCULINO - CAMISA - Manga curta 100% POLIESTER DRYFIT. Nas costas logomarca (10X18cm) e a numeração (22cm). Logomarca na frente (10X18cm). Com tratamento antibactericida, permite transpiração. Manga curta com punhos em Rib (efeito canelado). Tamanho e cor a definir. | E27: Unidade | F27: Araçá | G27: 339030-14 | H27: 28 | I27: 28 | J27: =I27-(SUM(L27:W27)) -> 14 | K27: =IF(J27<0,"ATENÇÃO","OK") -> OK | L27: 14 | M27: 0 | N27: 0 | O27: 0 | P27: 0 | Q27: 0 | R27: 0 | S27: 0 | T27: 0 | U27: 0 | V27: 0 | W27: 0
C28: 25 | D28: BASQUETE FEMININO - BERMUDA - 100% POLIESTER DRYFIT. Numeração gravada na parte inferior esquerda com dimensões aproximadas de 9X3cm. Modalidade basquete gravada na parte inferior direita com dimensões aproximadas de 9X3cm. Logomarca gravada na parte posterior acima da linha glútea, tamanho aproximado 20x10cm. Tamanho e cor a definir. | E28: Unidade | F28: Araçá | G28: 339030-14 | H28: 20 | I28: 36 | J28: =I28-(SUM(L28:W28)) -> 22 | K28: =IF(J28<0,"ATENÇÃO","OK") -> OK | L28: 14 | M28: 0 | N28: 0 | O28: 0 | P28: 0 | Q28: 0 | R28: 0 | S28: 0 | T28: 0 | U28: 0 | V28: 0 | W28: 0
C29: 26 | D29: BASQUETE MASCULINO - BERMUDA - 100% POLIESTER DRYFIT. Numerada na parte inferior esquerda com dimensões aproximadas de 9X3cm. Modalidade basquete gravada na parte inferior direita com dimensões aproximadas de 9X3cm. Logomarca na parte posterior acima da linha glútea, no tamanho aproximado 20x10cm. Tamanho e cor a definir. | E29: Unidade | F29: Araçá | G29: 339030-14 | H29: 20 | I29: 36 | J29: =I29-(SUM(L29:W29)) -> 22 | K29: =IF(J29<0,"ATENÇÃO","OK") -> OK | L29: 14 | M29: 0 | N29: 0 | O29: 0 | P29: 0 | Q29: 0 | R29: 0 | S29: 0 | T29: 0 | U29: 0 | V29: 0 | W29: 0
C30: 27 | D30: BASQUETE FEMININO - CAMISA - Sem manga 100% POLIESTER DRYFIT, numeração à definir, confeccionadas em poliéster 100% dryfit, com cor a definir. Nas costas: numeração (8X12cm) e logomarca a definir (10X18cm). Na frente: logomarca no centro da camisa (10X18cm). Tamanho e cor a definir. | E30: Unidade | F30: Araçá | G30: 339030-14 | H30: 18 | I30: 72 | J30: =I30-(SUM(L30:W30)) -> 44 | K30: =IF(J30<0,"ATENÇÃO","OK") -> OK | L30: 28 | M30: 0 | N30: 0 | O30: 0 | P30: 0 | Q30: 0 | R30: 0 | S30: 0 | T30: 0 | U30: 0 | V30: 0 | W30: 0
C31: 28 | D31: BASQUETE MASCULINO - CAMISA - Sem manga 100% POLIESTER DRYFIT, numeração à definir, com cor a definir. Nas costas: numeração (8X12cm) e logomarca a definir (10X18cm). Na frente: logomarca no centro da camisa (10X18cm). Tamanho e cor a definir. | E31: Unidade | F31: Araçá | G31: 339030-14 | H31: 20 | J31: =I31-(SUM(L31:W31)) -> 0 | K31: =IF(J31<0,"ATENÇÃO","OK") -> OK | L31: 0 | M31: 0 | N31: 0 | O31: 0 | P31: 0 | Q31: 0 | R31: 0 | S31: 0 | T31: 0 | U31: 0 | V31: 0 | W31: 0
C32: 29 | D32: ATLETISMO - CALÇÃO UNISSEX- 92% POLIESTER DRYFIT e 8% ELASTANO. com logomarca na frente, nas dimensões aproximadas 6X10cm. Cós com elástico e cordão para ajuste. Estilo Running, dryfit. Tamanho e cor a definir. | E32: Unidade | F32: Araçá | G32: 339030-14 | H32: 18 | I32: 68 | J32: =I32-(SUM(L32:W32)) -> 34 | K32: =IF(J32<0,"ATENÇÃO","OK") -> OK | L32: 34 | M32: 0 | N32: 0 | O32: 0 | P32: 0 | Q32: 0 | R32: 0 | S32: 0 | T32: 0 | U32: 0 | V32: 0 | W32: 0
C33: 30 | D33: ATLETISMO FEMININO - REGATA - 92% POLIESTER DRYFIT e 8% ELASTANO, estilo Running. Com logomarca nas costas, 8X15cm, escrito a palavra atletismo (27X9cm) e logomarca na frente (8x15cm). Tamanho e cor a definir. | E33: Unidade | F33: Araçá | G33: 339030-14 | H33: 18 | I33: 34 | J33: =I33-(SUM(L33:W33)) -> 17 | K33: =IF(J33<0,"ATENÇÃO","OK") -> OK | L33: 17 | M33: 0 | N33: 0 | O33: 0 | P33: 0 | Q33: 0 | R33: 0 | S33: 0 | T33: 0 | U33: 0 | V33: 0 | W33: 0
C34: 31 | D34: ATLETISMO MASCULINO - REGATA - 92% POLIESTER DRYFIT e 8% ELASTANO, estilo Running. Com logomarca nas costas, 8X15cm, escrito a palavra atletismo (27X9cm) e logomarca na frente (8X15cm). Tamanho e cor a definir. | E34: Unidade | F34: Araçá | G34: 339030-14 | H34: 18 | I34: 34 | J34: =I34-(SUM(L34:W34)) -> 17 | K34: =IF(J34<0,"ATENÇÃO","OK") -> OK | L34: 17 | M34: 0 | N34: 0 | O34: 0 | P34: 0 | Q34: 0 | R34: 0 | S34: 0 | T34: 0 | U34: 0 | V34: 0 | W34: 0
C35: 32 | D35: FUTEBOL MASCULINO - CALÇÃO - 100% POLIESTER DRYFIT, com numeração na parte frontal inferior esquerda e logomarca (7x11cm) na parte frontal inferior direita. Cós com elástico e cordão interno. Tamanho e cor a definir. | E35: Unidade | F35: Araçá | G35: 339030-14 | H35: 15 | I35: 244 | J35: =I35-(SUM(L35:W35)) -> 144 | K35: =IF(J35<0,"ATENÇÃO","OK") -> OK | L35: 100 | M35: 0 | N35: 0 | O35: 0 | P35: 0 | Q35: 0 | R35: 0 | S35: 0 | T35: 0 | U35: 0 | V35: 0 | W35: 0
C36: 33 | D36: FUTEBOL MASCULINO - CAMISA - 92% POLIESTER DRYFIT e 8% ELASTANO. Manga curta com punhos em Rib (efeito canelado),com tratamento antibactericida, permite transpiração. Nas costas: numeração (22cm), logomarca (10X18cm) e o nome da modalidade (20x10cm). Na frente logomarca (10X18cm). Tamanho e cor a definir. | E36: Unidade | F36: Araçá | G36: 339030-14 | H36: 30 | I36: 104 | J36: =I36-(SUM(L36:W36)) -> 62 | K36: =IF(J36<0,"ATENÇÃO","OK") -> OK | L36: 42 | M36: 0 | N36: 0 | O36: 0 | P36: 0 | Q36: 0 | R36: 0 | S36: 0 | T36: 0 | U36: 0 | V36: 0 | W36: 0
C37: 34 | D37: FUTEBOL FEMININO - CAMISA - 92% POLIESTER DRYFIT e 8% ELASTANO. Manga curta com punhos em Rib (efeito canelado),com tratamento antibactericida, permite transpiração. Nas costas: numeração (22cm), logomarca (10X18cm) e o nome da modalidade (20x10cm). Na frente logomarca (10X18cm). Tamanho e cor a definir. | E37: Unidade | F37: Araçá | G37: 339030-14 | H37: 30 | I37: 104 | J37: =I37-(SUM(L37:W37)) -> 80 | K37: =IF(J37<0,"ATENÇÃO","OK") -> OK | L37: 24 | M37: 0 | N37: 0 | O37: 0 | P37: 0 | Q37: 0 | R37: 0 | S37: 0 | T37: 0 | U37: 0 | V37: 0 | W37: 0
C38: 35 | D38: FUTEBOL FEMININO - CALÇÃO - 100% POLIESTER DRYFIT, com numeração na parte frontal inferior esquerda e logomarca (7x11cm) na parte frontal inferior direita. Cós com elástico e cordão | F38: Araçá | G38: 339030-14 | H38: 15 | J38: =I38-(SUM(L38:W38)) -> 0 | K38: =IF(J38<0,"ATENÇÃO","OK") -> OK | L38: 0 | M38: 0 | N38: 0 | O38: 0 | P38: 0 | Q38: 0 | R38: 0 | S38: 0 | T38: 0 | U38: 0 | V38: 0 | W38: 0
C39: 36 | D39: FUTEBOL - MEIÃO UNISSEX - liso sem detalhes. Tamanho a definir. Cor a definir. | E39: Par | F39: Araçá | G39: 339030-14 | H39: 7 | I39: 80 | J39: =I39-(SUM(L39:W39)) -> 40 | K39: =IF(J39<0,"ATENÇÃO","OK") -> OK | L39: 40 | M39: 0 | N39: 0 | O39: 0 | P39: 0 | Q39: 0 | R39: 0 | S39: 0 | T39: 0 | U39: 0 | V39: 0 | W39: 0
C40: 37 | D40: FUTSAL MASCULINO - CAMISA - 100% POLIESTER DRYFIT. Manga curta. Nas costas: numeração (22cm), logomarca (10X18cm) e o nome da modalidade (20x10cm). Na frente logomarca (10X18cm). Com tratamento antibactericida, permite transpiração. Manga curta com punhos em Rib (efeito canelado). Tamanho e cor a definir. | E40: Unidade | F40: Araçá | G40: 339030-14 | H40: 30 | J40: =I40-(SUM(L40:W40)) -> 0 | K40: =IF(J40<0,"ATENÇÃO","OK") -> OK | L40: 0 | M40: 0 | N40: 0 | O40: 0 | P40: 0 | Q40: 0 | R40: 0 | S40: 0 | T40: 0 | U40: 0 | V40: 0 | W40: 0
C41: 38 | D41: FUTSAL MASCULINO - CALÇÃO - 100% POLIESTER DRYFIT, com numeração na parte frontal inferior esquerda e logomarca (7x11cm) na parte frontal inferior direita. Cós com elástico e cordão interno. Tamanho e cor a definir. | E41: Unidade | F41: Araçá | G41: 339030-14 | H41: 15 | J41: =I41-(SUM(L41:W41)) -> 0 | K41: =IF(J41<0,"ATENÇÃO","OK") -> OK | L41: 0 | M41: 0 | N41: 0 | O41: 0 | P41: 0 | Q41: 0 | R41: 0 | S41: 0 | T41: 0 | U41: 0 | V41: 0 | W41: 0
C42: 39 | D42: FUTSAL FEMININO - CAMISA - Sem manga, 100% POLIESTER DRYFIT. Na frente: logomarca no centro da camisa (10X18cm). Nas costas: numeração na parte central (8X1cm2), logomarca (10X18cm) e o nome da modalidade 20x10cm. Tamanho e cor a definir. | E42: Unidade | F42: Araçá | G42: 339030-14 | H42: 17 | J42: =I42-(SUM(L42:W42)) -> 0 | K42: =IF(J42<0,"ATENÇÃO","OK") -> OK | L42: 0 | M42: 0 | N42: 0 | O42: 0 | P42: 0 | Q42: 0 | R42: 0 | S42: 0 | T42: 0 | U42: 0 | V42: 0 | W42: 0
C43: 40 | D43: FUTSAL FEMININO - CALÇÃO - 100% POLIESTER DRYFIT . Cós com elástico com cordão interno. Numeração na parte frontal inferior esquerda e o logomarca (7x11cm) na parte frontal inferior direita. Modalidade Futebol gravada na parte inferior direita com dimensões aproximadas de 9X3cm. Logomarca gravada na parte posterior acima da linha glútea, tamanho aproximado 20x10cm. Tamanho e cor a definir. | E43: Unidade | F43: Araçá | G43: 339030-14 | H43: 15 | J43: =I43-(SUM(L43:W43)) -> 0 | K43: =IF(J43<0,"ATENÇÃO","OK") -> OK | L43: 0 | M43: 0 | N43: 0 | O43: 0 | P43: 0 | Q43: 0 | R43: 0 | S43: 0 | T43: 0 | U43: 0 | V43: 0 | W43: 0
C44: 41 | D44: VOLEIBOL FEMININO - CAMISA sem manga, confeccionadas em poliéster 100% dryfit. Na frente: logomarca no centro da camisa (10X18cm). Nas costas: numeração na parte central (8X1cm2), logomarca (10X18cm) e o nome da modalidade 20x10cm. Tamanho e cor a definir. | E44: Unidade | F44: Araçá | G44: 339030-14 | H44: 17 | I44: 32 | J44: =I44-(SUM(L44:W44)) -> 16 | K44: =IF(J44<0,"ATENÇÃO","OK") -> OK | L44: 16 | M44: 0 | N44: 0 | O44: 0 | P44: 0 | Q44: 0 | R44: 0 | S44: 0 | T44: 0 | U44: 0 | V44: 0 | W44: 0
C45: 42 | D45: VOLEIBOL FEMININO - CAMISA com manga, confeccionadas em poliéster 100% dryfit. Na frente: logomarca no centro da camisa (10X18cm). Nas costas: numeração na parte central (8X1cm2), logomarca (10X18cm) e o nome da modalidade 20x10cm. Tamanho e cor a definir. | E45: Unidade | F45: Araçá | G45: 339030-14 | H45: 30 | J45: =I45-(SUM(L45:W45)) -> 0 | K45: =IF(J45<0,"ATENÇÃO","OK") -> OK | L45: 0 | M45: 0 | N45: 0 | O45: 0 | P45: 0 | Q45: 0 | R45: 0 | S45: 0 | T45: 0 | U45: 0 | V45: 0 | W45: 0
C46: 43 | D46: VOLEIBOL FEMININO - SHORT - confeccionados em 90% poliéster 10% elastano, numeradas na parte inferior direita. E na parte inferior esquerda a logomarca e o nome do centro. Tamanho e cor a definir. | E46: Unidade | F46: Araçá | G46: 339030-14 | H46: 20 | J46: =I46-(SUM(L46:W46)) -> 0 | K46: =IF(J46<0,"ATENÇÃO","OK") -> OK | L46: 0 | M46: 0 | N46: 0 | O46: 0 | P46: 0 | Q46: 0 | R46: 0 | S46: 0 | T46: 0 | U46: 0 | V46: 0 | W46: 0
C47: 44 | D47: VOLEIBOL MASCULINO - CAMISA - com manga, 100% POLIESTER DRYFIT. Na frente: logomarca no centro da camisa (10X18cm). Nas costas: numeração na parte central (8X1cm2), logomarca (10X18cm) e o nome da modalidade 20x10cm. Tamanho e cor a definir. | E47: Unidade | F47: Araçá | G47: 339030-14 | H47: 33 | I47: 40 | J47: =I47-(SUM(L47:W47)) -> 24 | K47: =IF(J47<0,"ATENÇÃO","OK") -> OK | L47: 16 | M47: 0 | N47: 0 | O47: 0 | P47: 0 | Q47: 0 | R47: 0 | S47: 0 | T47: 0 | U47: 0 | V47: 0 | W47: 0
C48: 45 | D48: VOLEIBOL MASCULINO - CALÇÃO - Calções confeccionados em poliéster 100%, dryfit, levam o número na parte inferior direita. Logomarca na parte inferior esquerda (7X11cm). Tamanho e cor a definir. | E48: Unidade | F48: Araçá | G48: 339030-14 | H48: 15 | J48: =I48-(SUM(L48:W48)) -> 0 | K48: =IF(J48<0,"ATENÇÃO","OK") -> OK | L48: 0 | M48: 0 | N48: 0 | O48: 0 | P48: 0 | Q48: 0 | R48: 0 | S48: 0 | T48: 0 | U48: 0 | V48: 0 | W48: 0
C49: 46 | D49: VÔLEI PRAIA MASCULINO - REGATA - 100% POLIESTER DRYFIT. NOME da IES, CAMPUS e MODALIDADE. Tamanho e cor a definir. | E49: Unidade | F49: Araçá | G49: 339030-14 | H49: 27 | J49: =I49-(SUM(L49:W49)) -> 0 | K49: =IF(J49<0,"ATENÇÃO","OK") -> OK | L49: 0 | M49: 0 | N49: 0 | O49: 0 | P49: 0 | Q49: 0 | R49: 0 | S49: 0 | T49: 0 | U49: 0 | V49: 0 | W49: 0
C50: 47 | D50: VÔLEI PRAIA MASCULINO - CALÇÃO - 100% POLIESTER DRYFIT, com numeração na parte frontal inferior esquerda e logomarca (7x11cm) na parte frontal inferior direita. Cós com elástico e cordão interno. Tamanho e cor a definir. | E50: Unidade | F50: Araçá | G50: 339030-14 | H50: 15 | J50: =I50-(SUM(L50:W50)) -> 0 | K50: =IF(J50<0,"ATENÇÃO","OK") -> OK | L50: 0 | M50: 0 | N50: 0 | O50: 0 | P50: 0 | Q50: 0 | R50: 0 | S50: 0 | T50: 0 | U50: 0 | V50: 0 | W50: 0
C51: 48 | D51: VÔLEI PRAIA FEMININO - TOP FEMININO - 92% POLIESTER DRYFIT e 08% ELASTANO (conforme modelo deixado no Lab Design). Tamanho e cor a definir. | E51: Unidade | F51: Araçá | G51: 339030-14 | H51: 22 | J51: =I51-(SUM(L51:W51)) -> 0 | K51: =IF(J51<0,"ATENÇÃO","OK") -> OK | L51: 0 | M51: 0 | N51: 0 | O51: 0 | P51: 0 | Q51: 0 | R51: 0 | S51: 0 | T51: 0 | U51: 0 | V51: 0 | W51: 0
C52: 49 | D52: VÔLEI PRAIA FEMININO - SHORT - 92% POLIESTER DRYFIT e 08% ELASTANO (conforme modelo deixado no Lab Design. Tamanho e cor a definir. | E52: Unidade | F52: Araçá | G52: 339030-14 | H52: 25 | J52: =I52-(SUM(L52:W52)) -> 0 | K52: =IF(J52<0,"ATENÇÃO","OK") -> OK | L52: 0 | M52: 0 | N52: 0 | O52: 0 | P52: 0 | Q52: 0 | R52: 0 | S52: 0 | T52: 0 | U52: 0 | V52: 0 | W52: 0
C53: 50 | D53: FUTEVÔLEI MASCULINO - CALÇÃO - 100% POLIESTER DRYFIT. Com numeração na parte frontal inferior esquerda e logomarca (7x11cm) na parte frontal inferior direita. Cós com elástico e cordão interno. Tamanho e cor a definir. | E53: Unidade | F53: Araçá | G53: 339030-14 | H53: 15 | J53: =I53-(SUM(L53:W53)) -> 0 | K53: =IF(J53<0,"ATENÇÃO","OK") -> OK | L53: 0 | M53: 0 | N53: 0 | O53: 0 | P53: 0 | Q53: 0 | R53: 0 | S53: 0 | T53: 0 | U53: 0 | V53: 0 | W53: 0
C54: 51 | D54: FUTEVÔLEI MASCULINO - REGATA - 100% POLIESTER DRYFIT. Tamanho e cor a definir, NOME da IES , CAMPUS e MODALIDADE. | E54: Unidade | F54: Araçá | G54: 339030-14 | H54: 30 | J54: =I54-(SUM(L54:W54)) -> 0 | K54: =IF(J54<0,"ATENÇÃO","OK") -> OK | L54: 0 | M54: 0 | N54: 0 | O54: 0 | P54: 0 | Q54: 0 | R54: 0 | S54: 0 | T54: 0 | U54: 0 | V54: 0 | W54: 0
C55: 52 | D55: FUTEVÔLEI FEMININO - REGATA - 100% POLIESTER DRYFIT. Tamanho e cor a definir. | E55: Unidade | F55: Araçá | G55: 339030-14 | H55: 30 | J55: =I55-(SUM(L55:W55)) -> 0 | K55: =IF(J55<0,"ATENÇÃO","OK") -> OK | L55: 0 | M55: 0 | N55: 0 | O55: 0 | P55: 0 | Q55: 0 | R55: 0 | S55: 0 | T55: 0 | U55: 0 | V55: 0 | W55: 0
C56: 53 | D56: FUTEVÔLEI FEMININO - SHORT - 90% poliéster 10% elastano, numeradas na parte inferior direita. E na parte inferior esquerda a logomarca e o nome do centro.Tamanho e cor a definir. Tamanho e cor a definir. | E56: Unidade | F56: Araçá | G56: 339030-14 | H56: 25 | J56: =I56-(SUM(L56:W56)) -> 0 | K56: =IF(J56<0,"ATENÇÃO","OK") -> OK | L56: 0 | M56: 0 | N56: 0 | O56: 0 | P56: 0 | Q56: 0 | R56: 0 | S56: 0 | T56: 0 | U56: 0 | V56: 0 | W56: 0
C57: 54 | D57: Calções confeccionados em poliéster 100%, dryfit, levam o número na parte inferior direita. Logomarca na parte inferior esquerda (7X11cm). Tamanho e cor a definir. | E57: Unidade | F57: Araçá | G57: 339030-14 | H57: 15 | J57: =I57-(SUM(L57:W57)) -> 0 | K57: =IF(J57<0,"ATENÇÃO","OK") -> OK | L57: 0 | M57: 0 | N57: 0 | O57: 0 | P57: 0 | Q57: 0 | R57: 0 | S57: 0 | T57: 0 | U57: 0 | V57: 0 | W57: 0
C58: 55 | D58: Bermuda confeccionada em poliéster 100% dryfit. Numeração gravada na parte inferior esquerda com dimensões aproximadas de 9X3cm. Com logomarca na parte inferior direita com dimensões aproximadas de 9X3cm. Tamanho e cor a definir. | E58: Unidade | F58: Araçá | G58: 339030-14 | H58: 40 | J58: =I58-(SUM(L58:W58)) -> 0 | K58: =IF(J58<0,"ATENÇÃO","OK") -> OK | L58: 0 | M58: 0 | N58: 0 | O58: 0 | P58: 0 | Q58: 0 | R58: 0 | S58: 0 | T58: 0 | U58: 0 | V58: 0 | W58: 0
C59: 56 | D59: TENIS DE CAMPO MASCULINO - CAMISA - 100% POLIESTER DRYFIT com gola. Modelo oficial tênis de campo. Na frente: logomarca no centro da camisa (10X18cm). Nas costas: logomarca (10X18cm) e o nome da modalidade 20x10cm. Tamanho e cor a definir. | E59: Unidade | F59: Araçá | G59: 339030-14 | H59: 30 | J59: =I59-(SUM(L59:W59)) -> 0 | K59: =IF(J59<0,"ATENÇÃO","OK") -> OK | L59: 0 | M59: 0 | N59: 0 | O59: 0 | P59: 0 | Q59: 0 | R59: 0 | S59: 0 | T59: 0 | U59: 0 | V59: 0 | W59: 0
... C72: 69 | D72: Conjunto para prática desportiva, agasalho de seletel. Contendo blusa e calça, confeccionado em 100% poliéster. Blusa: abertura frontal com fechamento em zíper, cós e punhos em RIB elástico, bolsos laterais com fechamento em zíper, com logomarca bordada no lado esquerdo do peito, dimensões aproximadas de 9X5cm e com a logomarca bordado nas costas e o nome da função (a definir), dimensões aproximadas 20X25cm. Calça: cós com elástico e cordão para ajuste, bolsos laterais com fechamento em zíper, bordado com a logomarca no lado esquerdo da calça, dimensões aproximadas 9X5cm, com zíper destacável na altura do joelho para transformar a calça em bermuda. Tamanho e cor a definir. | E72: Unidade | F72: Araçá | G72: 339030-14 | H72: 90 | J72: =I72-(SUM(L72:W72)) -> 0 | K72: =IF(J72<0,"ATENÇÃO","OK") -> OK | L72: 0 | M72: 0 | N72: 0 | O72: 0 | P72: 0 | Q72: 0 | R72: 0 | S72: 0 | T72: 0 | U72: 0 | V72: 0 | W72: 0
C73: 70 | D73: Conjunto para prática desportiva, agasalho de seletel. Contendo blusa e calça, confeccionado em 100% poliéster. Blusa: abertura frontal com fechamento em zíper, cós e punhos em RIB elástico, bolsos laterais com fechamento em zíper, com logomarca serigrafada no lado esquerdo do peito, dimensões aproximadas de 9X5cm e com serigrafia da logomarca nas costas e do nome da função (a definir), dimensões aproximadas 20X25cm. Calça: cós com elástico e cordão para ajuste, bolsos laterais com fechamento em zíper, bordado com a logomarca no lado esquerdo da calça, dimensões aproximadas 9X5cm, com zíper destacável na altura do joelho para transformar a calça em bermuda. Tamanho e cor a definir. | E73: Unidade | F73: Araçá | G73: 339030-14 | H73: 118.95 | I73: 245 | J73: =I73-(SUM(L73:W73)) -> 245 | K73: =IF(J73<0,"ATENÇÃO","OK") -> OK | L73: 0 | M73: 0 | N73: 0 | O73: 0 | P73: 0 | Q73: 0 | R73: 0 | S73: 0 | T73: 0 | U73: 0 | V73: 0 | W73: 0
C74: 71 | D74: Bandeira Personalizada, em poliéster. Dimensões: 2,5 panos: 1,12x1,60m. | E74: Unidade | F74: Araçá | G74: 339030-50 | H74: 90 | I74: 1 | J74: =I74-(SUM(L74:W74)) -> 0 | K74: =IF(J74<0,"ATENÇÃO","OK") -> OK | L74: 1 | M74: 0 | N74: 0 | O74: 0 | P74: 0 | Q74: 0 | R74: 0 | S74: 0 | T74: 0 | U74: 0 | V74: 0 | W74: 0
C75: 72 | D75: Bandeira Personalizada, em poliéster. Dimensões: Largura: 1,25m e Altura: 0,90m. | E75: Unidade | F75: Araçá | G75: 339030-50 | H75: 110 | I75: 1 | J75: =I75-(SUM(L75:W75)) -> 0 | K75: =IF(J75<0,"ATENÇÃO","OK") -> OK | L75: 1 | M75: 0 | N75: 0 | O75: 0 | P75: 0 | Q75: 0 | R75: 0 | S75: 0 | T75: 0 | U75: 0 | V75: 0 | W75: 0
C76: 73 | D76: Bolsa para fardamento confeccionada em nylon, com zíper, com alça para carregar no ombro e alça de mão. Dimensões mínimas de 120cm de altura e 80cm de largura. Com a logomarca em 3 cores. | E76: Unidade | F76: Araçá | G76: 339030-23 | H76: 35 | J76: =I76-(SUM(L76:W76)) -> 0 | K76: =IF(J76<0,"ATENÇÃO","OK") -> OK | L76: 0 | M76: 0 | N76: 0 | O76: 0 | P76: 0 | Q76: 0 | R76: 0 | S76: 0 | T76: 0 | U76: 0 | V76: 0 | W76: 0
C77: 74 | D77: Malote confeccionado em lona, contendo visor de plástico para identificação do material constante no interior do malote. O malote deverá ser de meias argolas e tiras com ilhoses. Tamanho aproximado:40x50x15 | E77: Unidade | F77: Araçá | G77: 339030-23 | H77: 80 | J77: =I77-(SUM(L77:W77)) -> 0 | K77: =IF(J77<0,"ATENÇÃO","OK") -> OK | L77: 0 | M77: 0 | N77: 0 | O77: 0 | P77: 0 | Q77: 0 | R77: 0 | S77: 0 | T77: 0 | U77: 0 | V77: 0 | W77: 0
A78: Weikki Confecções LTDA - EPP | B78: 5 | C78: 75 | D78: Tecido Tule, cor a definir. | E78: Metro | F78: Weikki | G78: 339030-23 | H78: 2 | J78: =I78-(SUM(L78:W78)) -> 0 | K78: =IF(J78<0,"ATENÇÃO","OK") -> OK | L78: 0 | M78: 0 | N78: 0 | O78: 0 | P78: 0 | Q78: 0 | R78: 0 | S78: 0 | T78: 0 | U78: 0 | V78: 0 | W78: 0
C79: 77 | D79: Tecido malha de algodão cru, 1,50m de largura. Cor a definir. | E79: Metro | F79: Weikki | G79: 339030-23 | H79: 8.95 | J79: =I79-(SUM(L79:W79)) -> 0 | K79: =IF(J79<0,"ATENÇÃO","OK") -> OK | L79: 0 | M79: 0 | N79: 0 | O79: 0 | P79: 0 | Q79: 0 | R79: 0 | S79: 0 | T79: 0 | U79: 0 | V79: 0 | W79: 0
C80: 78 | D80: Tecido em cetim, largura 1,20m. Cor a definir. | E80: Metro | F80: Weikki | G80: 339030-23 | H80: 6.09 | J80: =I80-(SUM(L80:W80)) -> 0 | K80: =IF(J80<0,"ATENÇÃO","OK") -> OK | L80: 0 | M80: 0 | N80: 0 | O80: 0 | P80: 0 | Q80: 0 | R80: 0 | S80: 0 | T80: 0 | U80: 0 | V80: 0 | W80: 0
C81: 79 | D81: Malha de Helanca. Largura mínima 1,50m. Cor a definir. | E81: Metro | F81: Weikki | G81: 339030-23 | H81: 10.46 | J81: =I81-(SUM(L81:W81)) -> 0 | K81: =IF(J81<0,"ATENÇÃO","OK") -> OK | L81: 0 | M81: 0 | N81: 0 | O81: 0 | P81: 0 | Q81: 0 | R81: 0 | S81: 0 | T81: 0 | U81: 0 | V81: 0 | W81: 0
C82: 80 | D82: Tecido TNT em metro. Cor a definir. | E82: Metro | F82: Weikki | G82: 339030-23 | H82: 0.98 | J82: =I82-(SUM(L82:W82)) -> 0 | K82: =IF(J82<0,"ATENÇÃO","OK") -> OK | L82: 0 | M82: 0 | N82: 0 | O82: 0 | P82: 0 | Q82: 0 | R82: 0 | S82: 0 | T82: 0 | U82: 0 | V82: 0 | W82: 0
C83: 81 | D83: Tecido, Chita ou Chitão Estampado, 100% algodão, largura mínima 1,20m. Estampa a definir. | E83: Metro | F83: Weikki | G83: 339030-23 | H83: 15.3 | J83: =I83-(SUM(L83:W83)) -> 0 | K83: =IF(J83<0,"ATENÇÃO","OK") -> OK | L83: 0 | M83: 0 | N83: 0 | O83: 0 | P83: 0 | Q83: 0 | R83: 0 | S83: 0 | T83: 0 | U83: 0 | V83: 0 | W83: 0
A84: ADBX Comércio de Serviços LTDA - ME | B84: 6 | C84: 82 | D84: Campos cirurgicos: Brim - tecido 100% algodão. Gramatura 260g/m². Cor verde bandeira ou marinho. Tamanho: 1,40 x 1,70 m | E84: Peça | F84: K.B | G84: 339030-23 | H84: 48 | J84: =I84-(SUM(L84:W84)) -> 0 | K84: =IF(J84<0,"ATENÇÃO","OK") -> OK | L84: 0 | M84: 0 | N84: 0 | O84: 0 | P84: 0 | Q84: 0 | R84: 0 | S84: 0 | T84: 0 | U84: 0 | V84: 0 | W84: 0
C85: 83 | D85: Campos cirurgicos: Brim - tecido 100% algodão. Gramatura 260g/m². Cor verde bandeira ou marinho. Tamanho: 1,00 x 1,00 m | E85: Peça | F85: K.B | G85: 339030-23 | H85: 28 | J85: =I85-(SUM(L85:W85)) -> 0 | K85: =IF(J85<0,"ATENÇÃO","OK") -> OK | L85: 0 | M85: 0 | N85: 0 | O85: 0 | P85: 0 | Q85: 0 | R85: 0 | S85: 0 | T85: 0 | U85: 0 | V85: 0 | W85: 0
C86: 84 | D86: Campo cirurgico com fenestra: Brim - tecido 100% algodão. Gramatura 260g/m². Cor verde bandeira ou marinho. Tamanho: 0,50 x 0,50 m | E86: Peça | F86: K.B | G86: 339030-23 | H86: 20 | J86: =I86-(SUM(L86:W86)) -> 0 | K86: =IF(J86<0,"ATENÇÃO","OK") -> OK | L86: 0 | M86: 0 | N86: 0 | O86: 0 | P86: 0 | Q86: 0 | R86: 0 | S86: 0 | T86: 0 | U86: 0 | V86: 0 | W86: 0
C87: 85 | D87: Campos cirurgicos: Brim - tecido 100% algodão. Gramatura 260g/m². Cor verde bandeira ou marinho. Tamanho: 0,50 x 0,50 m | E87: Peça | F87: K.B | G87: 339030-23 | H87: 12 | J87: =I87-(SUM(L87:W87)) -> 0 | K87: =IF(J87<0,"ATENÇÃO","OK") -> OK | L87: 0 | M87: 0 | N87: 0 | O87: 0 | P87: 0 | Q87: 0 | R87: 0 | S87: 0 | T87: 0 | U87: 0 | V87: 0 | W87: 0
C88: 86 | D88: Avental cirúrgico em brim: Brim - tecido 100% algodão. Gramatura 260g/m². Cor verde bandeira ou marinho. Tamanho único | E88: Peça | F88: K.B | G88: 339030-23 | H88: 50 | J88: =I88-(SUM(L88:W88)) -> 0 | K88: =IF(J88<0,"ATENÇÃO","OK") -> OK | L88: 0 | M88: 0 | N88: 0 | O88: 0 | P88: 0 | Q88: 0 | R88: 0 | S88: 0 | T88: 0 | U88: 0 | V88: 0 | W88: 0
C89: 87 | D89: Camisola para exame ginecológico: Tecido 100% algodão, lavado e pré-encolhido na cor verde ou branco. Tamanho único | E89: Peça | F89: K.B | G89: 339030-23 | H89: 38 | J89: =I89-(SUM(L89:W89)) -> 0 | K89: =IF(J89<0,"ATENÇÃO","OK") -> OK | L89: 0 | M89: 0 | N89: 0 | O89: 0 | P89: 0 | Q89: 0 | R89: 0 | S89: 0 | T89: 0 | U89: 0 | V89: 0 | W89: 0
C90: 88 | D90: Avental cirúrgico em brim: Brim - tecido 100% algodão. Gramatura 260g/m². Cor verde bandeira ou marinho. Tamanho grande | E90: Peça | F90: K.B | G90: 339030-23 | H90: 48 | J90: =I90-(SUM(L90:W90)) -> 0 | K90: =IF(J90<0,"ATENÇÃO","OK") -> OK | L90: 0 | M90: 0 | N90: 0 | O90: 0 | P90: 0 | Q90: 0 | R90: 0 | S90: 0 | T90: 0 | U90: 0 | V90: 0 | W90: 0
C91: 89 | D91: Lençóis para maca: algodão ou percal ou microfibra na cor branca. Tamanho: 1,00 x 2,00 m | E91: Peça | F91: K.B | G91: 339030-23 | H91: 58 | J91: =I91-(SUM(L91:W91)) -> 0 | K91: =IF(J91<0,"ATENÇÃO","OK") -> OK | L91: 0 | M91: 0 | N91: 0 | O91: 0 | P91: 0 | Q91: 0 | R91: 0 | S91: 0 | T91: 0 | U91: 0 | V91: 0 | W91: 0
C92: 90 | D92: Colchas: em Piquet na cor verde ou branco. Tamanho: 1,60x 2,50m | E92: Peça | F92: K.B | G92: 339030-23 | H92: 90 | J92: =I92-(SUM(L92:W92)) -> 0 | K92: =IF(J92<0,"ATENÇÃO","OK") -> OK | L92: 0 | M92: 0 | N92: 0 | O92: 0 | P92: 0 | Q92: 0 | R92: 0 | S92: 0 | T92: 0 | U92: 0 | V92: 0 | W92: 0
C93: 91 | D93: "Pijama Cirúrgico" - calça e camisa (para uso em centro cirúrgico): em algodão na cor verde ou marinho. Tamanho médio | E93: Peça | F93: K.B | G93: 339030-23 | H93: 85.7 | J93: =I93-(SUM(L93:W93)) -> 0 | K93: =IF(J93<0,"ATENÇÃO","OK") -> OK | L93: 0 | M93: 0 | N93: 0 | O93: 0 | P93: 0 | Q93: 0 | R93: 0 | S93: 0 | T93: 0 | U93: 0 | V93: 0 | W93: 0
C94: 92 | D94: "Pijama Cirúrgico" - calça e camisa (para uso em centro cirúrgico): em algodão na cor verde ou marinho. Tamanho grande | E94: Peça | F94: K.B | G94: 339030-23 | H94: 90 | J94: =I94-(SUM(L94:W94)) -> 0 | K94: =IF(J94<0,"ATENÇÃO","OK") -> OK | L94: 0 | M94: 0 | N94: 0 | O94: 0 | P94: 0 | Q94: 0 | R94: 0 | S94: 0 | T94: 0 | U94: 0 | V94: 0 | W94: 0
C95: 93 | D95: "Pijama Cirúrgico" - calça e camisa (para uso em centro cirúrgico): em algodão na cor verde ou marinho. Tamanho GG | E95: Peça | F95: K.B | G95: 339030-23 | H95: 90 | J95: =I95-(SUM(L95:W95)) -> 0 | K95: =IF(J95<0,"ATENÇÃO","OK") -> OK | L95: 0 | M95: 0 | N95: 0 | O95: 0 | P95: 0 | Q95: 0 | R95: 0 | S95: 0 | T95: 0 | U95: 0 | V95: 0 | W95: 0
C96: 94 | D96: Jalecos em tecido Microfibra, na cor branca, comprimento longo (mínimo de 85cm), manga longa, com 1 bolso superior esquerdo e 2 inferiores, mínimo de 05 botões (com sistema de abotoamento embutido, em que os botões não fiquem aparentes), marca da UDESC bordada na manga direita nas dimensões aproximadas de 8x3cm, do CEFID bordada na manga esquerda nas dimensões aproximadas de 8x3cm e marca da Clínica Escola de Fisioterapia bordada no lado esquerdo do peito (no bolso) nas dimensões aproximadas de 9x5cm. Definir cortes femininos e masculinos com o solicitante antes da execução do serviço. | E96: Peça | F96: K.B | G96: 339030-23 | H96: 78 | J96: =I96-(SUM(L96:W96)) -> 0 | K96: =IF(J96<0,"ATENÇÃO","OK") -> OK | L96: 0 | M96: 0 | N96: 0 | O96: 0 | P96: 0 | Q96: 0 | R96: 0 | S96: 0 | T96: 0 | U96: 0 | V96: 0 | W96: 0

Sheet FAED
A1: PROCESSO: 0502/2015/UDESC | D1: OBJETO: Aquisição de Rouparia para a UDESC | I1: VIGÊNCIA DA ATA: 14/07/2015 até 13/07/2016 | L1: AF/OS nº 2126/2015 Qtde. DT | M1: AF/OS nº xxxx/2015 Qtde. DT | N1: AF/OS nº xxxx/2015 Qtde. DT | O1: AF/OS nº xxxx/2015 Qtde. DT | P1: AF/OS nº xxxx/2015 Qtde. DT | Q1: AF/OS nº xxxx/2015 Qtde. DT | R1: AF/OS nº xxxx/2015 Qtde. DT | S1: AF/OS nº xxxx/2015 Qtde. DT | T1: AF/OS nº xxxx/2015 Qtde. DT | U1: AF/OS nº xxxx/2015 Qtde. DT | V1: AF/OS nº xxxx/2015 Qtde. DT | W1: AF/OS nº xxxx/2015 Qtde. DT
A2: CENTRO PARTICIPANTE: FAED
A3: FORNECEDOR | B3: LOTE | C3: ITEM | D3: PRODUTO - CARACTERÍSTICAS MÍNIMAS | E3: UNIDADE | F3: MARCA | G3: DETALHAMENTO | H3: Preço UNITÁRIO (R$) | I3: Qtde Registrada | J3: Saldo / Automático | K3: ALERTA | L3: 42317 | M3: ...../...../...... | N3: ...../...../...... | O3: ...../...../...... | P3: ...../...../...... | Q3: ...../...../...... | R3: ...../...../...... | S3: ...../...../...... | T3: ...../...../...... | U3: ...../...../...... | V3: ...../...../...... | W3: ...../...../......
A4: Tracton Indústria e Comércio LTDA - EPP | B4: 1 | C4: 1 | D4: Fronha de tecido cretone, 100% algodão, dimensões aproximadas de 0,50cm de largura e 0,60cm de comprimento, com logomarca a ser definida impressa no centro com as dimensões de 14x13cm aproximadamente. Cor a definir. | E4: Unidade | F4: Tracton | G4: 339030-20 | H4: 25 | J4: =I4-(SUM(L4:W4)) -> 0 | K4: =IF(J4<0,"ATENÇÃO","OK") -> OK | L4: 0 | M4: 0 | N4: 0 | O4: 0 | P4: 0 | Q4: 0 | R4: 0 | S4: 0 | T4: 0 | U4: 0 | V4: 0 | W4: 0
C5: 2 | D5: Lençol de tecido, com elástico, 100% algodão, dimensões aproximadas: 1,30m de largura e 2m de comprimento. Logomarca a ser definida impressa no centro, dimensões de 14x13cm aproximadamente. | E5: Unidade | F5: Tracton | G5: 339030-20 | H5: 50 | J5: =I5-(SUM(L5:W5)) -> 0 | K5: =IF(J5<0,"ATENÇÃO","OK") -> OK | L5: 0 | M5: 0 | N5: 0 | O5: 0 | P5: 0 | Q5: 0 | R5: 0 | S5: 0 | T5: 0 | U5: 0 | V5: 0 | W5: 0
C6: 3 | D6: Lençol de tecido, sem elástico, 100% algodão, dimensões aproximadas: 1,30m de largura e 2m de comprimento, com logomarca a ser definida impressa no centro, com 14x13cm aproximadamente. | E6: Unidade | F6: Tracton | G6: 339030-20 | H6: 50 | J6: =I6-(SUM(L6:W6)) -> 0 | K6: =IF(J6<0,"ATENÇÃO","OK") -> OK | L6: 0 | M6: 0 | N6: 0 | O6: 0 | P6: 0 | Q6: 0 | R6: 0 | S6: 0 | T6: 0 | U6: 0 | V6: 0 | W6: 0
C7: 4 | D7: Toalha de mesa, de cetim, medindo aproximadamente 1,20m x60cm. Com logomarca bordada no centro da toalha, tamanho mínimo 30cm x 30 cm. Cor a definir. | E7: Unidade | F7: Tracton | G7: 339030-20 | H7: 61 | I7: 2 | J7: =I7-(SUM(L7:W7)) -> 2 | K7: =IF(J7<0,"ATENÇÃO","OK") -> OK | L7: 0 | M7: 0 | N7: 0 | O7: 0 | P7: 0 | Q7: 0 | R7: 0 | S7: 0 | T7: 0 | U7: 0 | V7: 0 | W7: 0
C8: 5 | D8: Toalha de mesa retangular, medindo aproximadamente 1,60mX2,70m. Composição 53% algodão, 47% poliéster. Cor a definir. | E8: Unidade | F8: Tracton | G8: 339030-20 | H8: 89 | I8: 4 | J8: =I8-(SUM(L8:W8)) -> 4 | K8: =IF(J8<0,"ATENÇÃO","OK") -> OK | L8: 0 | M8: 0 | N8: 0 | O8: 0 | P8: 0 | Q8: 0 | R8: 0 | S8: 0 | T8: 0 | U8: 0 | V8: 0 | W8: 0
C9: 6 | D9: Toalha de banho, dupla face, em tecido 100% algodão, cor da definir, pré-lavada e pré-encolhida, gramatura de no mínimo 500gr/m², medindo no mínimo 70cm x 1,40m. Logomarca a ser definida e impressa em uma das pontas nas dimensões de 14x13cm aproximadamente. | E9: Unidade | F9: Tracton | G9: 339030-20 | H9: 30 | J9: =I9-(SUM(L9:W9)) -> 0 | K9: =IF(J9<0,"ATENÇÃO","OK") -> OK | L9: 0 | M9: 0 | N9: 0 | O9: 0 | P9: 0 | Q9: 0 | R9: 0 | S9: 0 | T9: 0 | U9: 0 | V9: 0 | W9: 0
C10: 7 | D10: Toalha de rosto, dupla face, em tecido 100% algodão, cor da definir, pré-lavada e pré-encolhida, gramatura de no mínimo 500gr/m², medindo no mínimo 45x75cm. Logomarca a ser definida e impressa em uma das pontas nas dimensões de 14x13cm aproximadamente. | E10: Unidade | F10: Tracton | G10: 339030-20 | H10: 20 | J10: =I10-(SUM(L10:W10)) -> 0 | K10: =IF(J10<0,"ATENÇÃO","OK") -> OK | L10: 0 | M10: 0 | N10: 0 | O10: 0 | P10: 0 | Q10: 0 | R10: 0 | S10: 0 | T10: 0 | U10: 0 | V10: 0 | W10: 0
C11: 8 | D11: Toalha de mesa redonda, medindo aproximadamente 178cm diâmetro, composição 59% algodão e 41% poliéster, cor a definir. | E11: Unidade | F11: Tracton | G11: 339030-20 | H11: 60 | I11: 3 | J11: =I11-(SUM(L11:W11)) -> 3 | K11: =IF(J11<0,"ATENÇÃO","OK") -> OK | L11: 0 | M11: 0 | N11: 0 | O11: 0 | P11: 0 | Q11: 0 | R11: 0 | S11: 0 | T11: 0 | U11: 0 | V11: 0 | W11: 0
C12: 9 | D12: Toalha de mesa retangular, medindo aproximadamente 7mx2,20m. Composição 53% algodão, 47% poliéster, com protetor de tecido. Cor a definir. | E12: Unidade | F12: Tracton | G12: 339030-20 | H12: 97.5 | I12: 2 | J12: =I12-(SUM(L12:W12)) -> 0 | K12: =IF(J12<0,"ATENÇÃO","OK") -> OK | L12: 2 | M12: 0 | N12: 0 | O12: 0 | P12: 0 | Q12: 0 | R12: 0 | S12: 0 | T12: 0 | U12: 0 | V12: 0 | W12: 0
A13: ADBX Comércio de Serviços LTDA - ME | B13: 2 | C13: 10 | D13: Camisa social masculina, manga longa, cor a definir, composição 50% algodão e 50% poliéster. Com a logomarca de 9x5cm bordada no peito no lado esquerdo. Tamanho e cor a definir. | E13: Unidade | F13: K.B | G13: 339030-23 | H13: 48 | J13: =I13-(SUM(L13:W13)) -> 0 | K13: =IF(J13<0,"ATENÇÃO","OK") -> OK | L13: 0 | M13: 0 | N13: 0 | O13: 0 | P13: 0 | Q13: 0 | R13: 0 | S13: 0 | T13: 0 | U13: 0 | V13: 0 | W13: 0
C14: 11 | D14: Camisete feminina, manga longa feminina, composição 50% algodão e 50% poliéster. Com a logomarca de 9x5cm bordada no peito, no lado esquerdo. Tamanho e cor a definir. | E14: Unidade | F14: K.B | G14: 339030-23 | H14: 50 | J14: =I14-(SUM(L14:W14)) -> 0 | K14: =IF(J14<0,"ATENÇÃO","OK") -> OK | L14: 0 | M14: 0 | N14: 0 | O14: 0 | P14: 0 | Q14: 0 | R14: 0 | S14: 0 | T14: 0 | U14: 0 | V14: 0 | W14: 0
C15: 12 | D15: Camisa social masculina, manga longa, cor a definir, composição 100% algodão egipcio. Com a logomarca de 9x5cm bordada no peito no lado esquerdo. Tamanho e cor a definir. | F15: K.B | G15: 339030-23 | H15: 52.6 | J15: =I15-(SUM(L15:W15)) -> 0 | K15: =IF(J15<0,"ATENÇÃO","OK") -> OK | L15: 0 | M15: 0 | N15: 0 | O15: 0 | P15: 0 | Q15: 0 | R15: 0 | S15: 0 | T15: 0 | U15: 0 | V15: 0 | W15: 0
A16: Jackson da Silva 03571984927 - ME | B16: 3 | C16: 13 | D16: Camiseta, 30x1 penteado, gola ombro a ombro, a gola da camiseta de possuir elastano, sendo reforçada na costura. A camiseta terá uma área reservada para serigrafia de até 28x21cm na frente e nas costas, podendo conter até 8 cores em cada lado. Tamanho, cor e logomarca a definir. | E16: Unidade | F16: Araçá | G16: 339030-23 | H16: 9.13 | J16: =I16-(SUM(L16:W16)) -> 0 | K16: =IF(J16<0,"ATENÇÃO","OK") -> OK | L16: 0 | M16: 0 | N16: 0 | O16: 0 | P16: 0 | Q16: 0 | R16: 0 | S16: 0 | T16: 0 | U16: 0 | V16: 0 | W16: 0
C17: 14 | D17: Camiseta gola polo, malha Piquet P.A. Bordado com logomarca no lado esquerdo do peito, de 9X5cm, e bordado com logomarca de 8X3cm na manga direita. Tamanho e cor a definir. | E17: Unidade | F17: Araçá | G17: 339030-23 | H17: 17 | J17: =I17-(SUM(L17:W17)) -> 0 | K17: =IF(J17<0,"ATENÇÃO","OK") -> OK | L17: 0 | M17: 0 | N17: 0 | O17: 0 | P17: 0 | Q17: 0 | R17: 0 | S17: 0 | T17: 0 | U17: 0 | V17: 0 | W17: 0
A18: Jackson da Silva 03571984927 - ME | B18: 4 | C18: 15 | D18: GOLEIRA FEMININO FUTEBOL CAMPO, FUTSAL E HANDEBOL - CALÇA 100% POLIESTER DRYFIT - com espuma de proteção nos joelhos e na cintura. Número gravado na parte inferior direita da coxa, acima da proteção e na parte inferior. Tamanho e cor a definir. | E18: Unidade | F18: Araçá | G18: 339030-14 | H18: 25 | I18: 4 | J18: =I18-(SUM(L18:W18)) -> 4 | K18: =IF(J18<0,"ATENÇÃO","OK") -> OK | L18: 0 | M18: 0 | N18: 0 | O18: 0 | P18: 0 | Q18: 0 | R18: 0 | S18: 0 | T18: 0 | U18: 0 | V18: 0 | W18: 0
C19: 16 | D19: GOLEIRO MASCULINO FUTEBOL DE CAMPO, FUTSAL E HANDEBOL- CALÇA 100% POLIESTER DRYFIT . Com espuma de proteção nos joelhos e na cintura. Número gravado na parte inferior direita da coxa, acima da proteção e na parte inferior. Tamanho e cor a definir. | E19: Unidade | F19: Araçá | G19: 339030-14 | H19: 32 | I19: 4 | J19: =I19-(SUM(L19:W19)) -> 4 | K19: =IF(J19<0,"ATENÇÃO","OK") -> OK | L19: 0 | M19: 0 | N19: 0 | O19: 0 | P19: 0 | Q19: 0 | R19: 0 | S19: 0 | T19: 0 | U19: 0 | V19: 0 | W19: 0
C20: 17 | D20: GOLEIRA FEMININO FUTEBOL CAMPO, FUTSAL E HANDEBOL - CAMISA 100% POLIESTER DRYFIT - Camisa de goleira com espuma de proteção nos cotovelos, com números a definir, serigrafado atrás. As camisas possuem numeração nas costas (8X12cm) na parte central. Com logomarca acima do número (10X18cm). Abaixo do número nas costas deverá estar escrito o nome da modalidade(20x10cm). Na frente logomarca no centro da camisa. Tamanho e cor a definir. | E20: Unidade | F20: Araçá | G20: 339030-14 | H20: 22 | I20: 4 | J20: =I20-(SUM(L20:W20)) -> 4 | K20: =IF(J20<0,"ATENÇÃO","OK") -> OK | L20: 0 | M20: 0 | N20: 0 | O20: 0 | P20: 0 | Q20: 0 | R20: 0 | S20: 0 | T20: 0 | U20: 0 | V20: 0 | W20: 0
C21: 18 | D21: GOLEIRO MASCULINO FUTEBOL DE CAMPO, FUTSAL E HANDEBOL- CAMISA 100% POLIESTER DRYFIT. Com espuma de proteção nos cotovelos, com números a definir, serigrafado atrás. As camisas possuem numeração nas costas (8X12cm) na parte central.Com logomarca acima do número (10X18cm). Abaixo do número nas costas deverá estar escrito o nome da modalidade(20x10cm). Na frente logomarca no centro da camisa. Tamanho e cor a definir. | E21: Unidade | F21: Araçá | G21: 339030-14 | H21: 22 | I21: 4 | J21: =I21-(SUM(L21:W21)) -> 4 | K21: =IF(J21<0,"ATENÇÃO","OK") -> OK | L21: 0 | M21: 0 | N21: 0 | O21: 0 | P21: 0 | Q21: 0 | R21: 0 | S21: 0 | T21: 0 | U21: 0 | V21: 0 | W21: 0
C22: 19 | D22: HANDEBOL MASCULINO - CALÇÃO 100% POLIESTER DRYFIT. Cós com elástico e com cordão interno. Com numeração na parte frontal inferior esquerda e logomarca (7X11cm) na parte frontal inferior direita. Modalidade handebol gravada na parte inferior direita com dimensões aproximadas de 9X3cm. Logomarca gravada na parte posterior acima da linha glútea, tamanho aproximado 20x10cm. Tamanho, numeração e cor a definir. | E22: Unidade | F22: Araçá | G22: 339030-14 | H22: 14 | I22: 11 | J22: =I22-(SUM(L22:W22)) -> 11 | K22: =IF(J22<0,"ATENÇÃO","OK") -> OK | L22: 0 | M22: 0 | N22: 0 | O22: 0 | P22: 0 | Q22: 0 | R22: 0 | S22: 0 | T22: 0 | U22: 0 | V22: 0 | W22: 0
C23: 20 | D23: HANDEBOL FEMININO - CALÇÃO para handebol feminino, confeccionados em poliéster. Cós com elástico com cordão interno. Numeração na parte frontal inferior esquerda e o logomarca (7x11cm) na parte frontal inferior direita. Modalidade handebol gravada na parte inferior direita com dimensões aproximadas de 9X3cm. Logomarca gravada na parte posterior acima da linha glútea, tamanho aproximado 20x10cm. Tamanho e cor a definir. Estilo handebol. | E23: Unidade | F23: Araçá | G23: 339030-14 | H23: 14 | I23: 11 | J23: =I23-(SUM(L23:W23)) -> 11 | K23: =IF(J23<0,"ATENÇÃO","OK") -> OK | L23: 0 | M23: 0 | N23: 0 | O23: 0 | P23: 0 | Q23: 0 | R23: 0 | S23: 0 | T23: 0 | U23: 0 | V23: 0 | W23: 0
C24: 21 | D24: HANDEBOL FEMININO - SHORT - 92% POLIESTER DRYFIT e 8% ELASTANO Com numeração na parte frontal inferior esquerda e o logomarca, 7X11cm, na parte frontal inferior direita. Modalidade handebol gravada na parte inferior direita com dimensões aproximadas de 9X3cm. Logomarca gravada na parte posterior acima da linha glútea, tamanho aproximado 20x10cm. Tamanho e cor a definir. | E24: Unidade | F24: Araçá | G24: 339030-14 | H24: 20 | J24: =I24-(SUM(L24:W24)) -> 0 | K24: =IF(J24<0,"ATENÇÃO","OK") -> OK | L24: 0 | M24: 0 | N24: 0 | O24: 0 | P24: 0 | Q24: 0 | R24: 0 | S24: 0 | T24: 0 | U24: 0 | V24: 0 | W24: 0
C25: 22 | D25: HANDEBOL FEMININO - CAMISA - SEM MANGA 100% POLIESTER DRYFIT. Nas costas a logomarca (10X18cm) e a numeração (22cm). Logomarca na frente (10X18cm). Com tratamento antibactericida, permite transpiração. Manga com punhos em Rib (efeito canelado). Tamanho e cor a definir. | E25: Unidade | F25: Araçá | G25: 339030-14 | H25: 18 | J25: =I25-(SUM(L25:W25)) -> 0 | K25: =IF(J25<0,"ATENÇÃO","OK") -> OK | L25: 0 | M25: 0 | N25: 0 | O25: 0 | P25: 0 | Q25: 0 | R25: 0 | S25: 0 | T25: 0 | U25: 0 | V25: 0 | W25: 0
C26: 23 | D26: HANDEBOL FEMININO - CAMISA - COM MANGA 100% POLIESTER DRYFIT. Nas costas a logomarca (10X18cm) e a numeração (22cm). Logomarca na frente (10X18cm). Com tratamento antibactericida, permite transpiração. Manga curta com punhos em Rib (efeito canelado). Tamanho e cor a definir. | E26: Unidade | F26: Araçá | G26: 339030-14 | H26: 28 | I26: 11 | J26: =I26-(SUM(L26:W26)) -> 11 | K26: =IF(J26<0,"ATENÇÃO","OK") -> OK | L26: 0 | M26: 0 | N26: 0 | O26: 0 | P26: 0 | Q26: 0 | R26: 0 | S26: 0 | T26: 0 | U26: 0 | V26: 0 | W26: 0
C27: 24 | D27: HANDEBOL MASCULINO - CAMISA - Manga curta 100% POLIESTER DRYFIT. Nas costas logomarca (10X18cm) e a numeração (22cm). Logomarca na frente (10X18cm). Com tratamento antibactericida, permite transpiração. Manga curta com punhos em Rib (efeito canelado). Tamanho e cor a definir. | E27: Unidade | F27: Araçá | G27: 339030-14 | H27: 28 | I27: 11 | J27: =I27-(SUM(L27:W27)) -> 11 | K27: =IF(J27<0,"ATENÇÃO","OK") -> OK | L27: 0 | M27: 0 | N27: 0 | O27: 0 | P27: 0 | Q27: 0 | R27: 0 | S27: 0 | T27: 0 | U27: 0 | V27: 0 | W27: 0
C28: 25 | D28: BASQUETE FEMININO - BERMUDA - 100% POLIESTER DRYFIT. Numeração gravada na parte inferior esquerda com dimensões aproximadas de 9X3cm. Modalidade basquete gravada na parte inferior direita com dimensões aproximadas de 9X3cm. Logomarca gravada na parte posterior acima da linha glútea, tamanho aproximado 20x10cm. Tamanho e cor a definir. | E28: Unidade | F28: Araçá | G28: 339030-14 | H28: 20 | I28: 10 | J28: =I28-(SUM(L28:W28)) -> 10 | K28: =IF(J28<0,"ATENÇÃO","OK") -> OK | L28: 0 | M28: 0 | N28: 0 | O28: 0 | P28: 0 | Q28: 0 | R28: 0 | S28: 0 | T28: 0 | U28: 0 | V28: 0 | W28: 0
C29: 26 | D29: BASQUETE MASCULINO - BERMUDA - 100% POLIESTER DRYFIT. Numerada na parte inferior esquerda com dimensões aproximadas de 9X3cm. Modalidade basquete gravada na parte inferior direita com dimensões aproximadas de 9X3cm. Logomarca na parte posterior acima da linha glútea, no tamanho aproximado 20x10cm. Tamanho e cor a definir. | E29: Unidade | F29: Araçá | G29: 339030-14 | H29: 20 | J29: =I29-(SUM(L29:W29)) -> 0 | K29: =IF(J29<0,"ATENÇÃO","OK") -> OK | L29: 0 | M29: 0 | N29: 0 | O29: 0 | P29: 0 | Q29: 0 | R29: 0 | S29: 0 | T29: 0 | U29: 0 | V29: 0 | W29: 0
C30: 27 | D30: BASQUETE FEMININO - CAMISA - Sem manga 100% POLIESTER DRYFIT, numeração à definir, confeccionadas em poliéster 100% dryfit, com cor a definir. Nas costas: numeração (8X12cm) e logomarca a definir (10X18cm). Na frente: logomarca no centro da camisa (10X18cm). Tamanho e cor a definir. | E30: Unidade | F30: Araçá | G30: 339030-14 | H30: 18 | I30: 10 | J30: =I30-(SUM(L30:W30)) -> 10 | K30: =IF(J30<0,"ATENÇÃO","OK") -> OK | L30: 0 | M30: 0 | N30: 0 | O30: 0 | P30: 0 | Q30: 0 | R30: 0 | S30: 0 | T30: 0 | U30: 0 | V30: 0 | W30: 0
C31: 28 | D31: BASQUETE MASCULINO - CAMISA - Sem manga 100% POLIESTER DRYFIT, numeração à definir, com cor a definir. Nas costas: numeração (8X12cm) e logomarca a definir (10X18cm). Na frente: logomarca no centro da camisa (10X18cm). Tamanho e cor a definir. | E31: Unidade | F31: Araçá | G31: 339030-14 | H31: 20 | I31: 10 | J31: =I31-(SUM(L31:W31)) -> 10 | K31: =IF(J31<0,"ATENÇÃO","OK") -> OK | L31: 0 | M31: 0 | N31: 0 | O31: 0 | P31: 0 | Q31: 0 | R31: 0 | S31: 0 | T31: 0 | U31: 0 | V31: 0 | W31: 0
C32: 29 | D32: ATLETISMO - CALÇÃO UNISSEX- 92% POLIESTER DRYFIT e 8% ELASTANO. com logomarca na frente, nas dimensões aproximadas 6X10cm. Cós com elástico e cordão para ajuste. Estilo Running, dryfit. Tamanho e cor a definir. | E32: Unidade | F32: Araçá | G32: 339030-14 | H32: 18 | I32: 10 | J32: =I32-(SUM(L32:W32)) -> 10 | K32: =IF(J32<0,"ATENÇÃO","OK") -> OK | L32: 0 | M32: 0 | N32: 0 | O32: 0 | P32: 0 | Q32: 0 | R32: 0 | S32: 0 | T32: 0 | U32: 0 | V32: 0 | W32: 0
C33: 30 | D33: ATLETISMO FEMININO - REGATA - 92% POLIESTER DRYFIT e 8% ELASTANO, estilo Running. Com logomarca nas costas, 8X15cm, escrito a palavra atletismo (27X9cm) e logomarca na frente (8x15cm). Tamanho e cor a definir. | E33: Unidade | F33: Araçá | G33: 339030-14 | H33: 18 | I33: 10 | J33: =I33-(SUM(L33:W33)) -> 10 | K33: =IF(J33<0,"ATENÇÃO","OK") -> OK | L33: 0 | M33: 0 | N33: 0 | O33: 0 | P33: 0 | Q33: 0 | R33: 0 | S33: 0 | T33: 0 | U33: 0 | V33: 0 | W33: 0
C34: 31 | D34: ATLETISMO MASCULINO - REGATA - 92% POLIESTER DRYFIT e 8% ELASTANO, estilo Running. Com logomarca nas costas, 8X15cm, escrito a palavra atletismo (27X9cm) e logomarca na frente (8X15cm). Tamanho e cor a definir. | E34: Unidade | F34: Araçá | G34: 339030-14 | H34: 18 | I34: 10 | J34: =I34-(SUM(L34:W34)) -> 10 | K34: =IF(J34<0,"ATENÇÃO","OK") -> OK | L34: 0 | M34: 0 | N34: 0 | O34: 0 | P34: 0 | Q34: 0 | R34: 0 | S34: 0 | T34: 0 | U34: 0 | V34: 0 | W34: 0
C35: 32 | D35: FUTEBOL MASCULINO - CALÇÃO - 100% POLIESTER DRYFIT, com numeração na parte frontal inferior esquerda e logomarca (7x11cm) na parte frontal inferior direita. Cós com elástico e cordão interno. Tamanho e cor a definir. | E35: Unidade | F35: Araçá | G35: 339030-14 | H35: 15 | I35: 40 | J35: =I35-(SUM(L35:W35)) -> 40 | K35: =IF(J35<0,"ATENÇÃO","OK") -> OK | L35: 0 | M35: 0 | N35: 0 | O35: 0 | P35: 0 | Q35: 0 | R35: 0 | S35: 0 | T35: 0 | U35: 0 | V35: 0 | W35: 0
C36: 33 | D36: FUTEBOL MASCULINO - CAMISA - 92% POLIESTER DRYFIT e 8% ELASTANO. Manga curta com punhos em Rib (efeito canelado),com tratamento antibactericida, permite transpiração. Nas costas: numeração (22cm), logomarca (10X18cm) e o nome da modalidade (20x10cm). Na frente logomarca (10X18cm). Tamanho e cor a definir. | E36: Unidade | F36: Araçá | G36: 339030-14 | H36: 30 | I36: 40 | J36: =I36-(SUM(L36:W36)) -> 40 | K36: =IF(J36<0,"ATENÇÃO","OK") -> OK | L36: 0 | M36: 0 | N36: 0 | O36: 0 | P36: 0 | Q36: 0 | R36: 0 | S36: 0 | T36: 0 | U36: 0 | V36: 0 | W36: 0
C37: 34 | D37: FUTEBOL FEMININO - CAMISA - 92% POLIESTER DRYFIT e 8% ELASTANO. Manga curta com punhos em Rib (efeito canelado),com tratamento antibactericida, permite transpiração. Nas costas: numeração (22cm), logomarca (10X18cm) e o nome da modalidade (20x10cm). Na frente logomarca (10X18cm). Tamanho e cor a definir. | E37: Unidade | F37: Araçá | G37: 339030-14 | H37: 30 | I37: 40 | J37: =I37-(SUM(L37:W37)) -> 40 | K37: =IF(J37<0,"ATENÇÃO","OK") -> OK | L37: 0 | M37: 0 | N37: 0 | O37: 0 | P37: 0 | Q37: 0 | R37: 0 | S37: 0 | T37: 0 | U37: 0 | V37: 0 | W37: 0
C38: 35 | D38: FUTEBOL FEMININO - CALÇÃO - 100% POLIESTER DRYFIT, com numeração na parte frontal inferior esquerda e logomarca (7x11cm) na parte frontal inferior direita. Cós com elástico e cordão | F38: Araçá | G38: 339030-14 | H38: 15 | J38: =I38-(SUM(L38:W38)) -> 0 | K38: =IF(J38<0,"ATENÇÃO","OK") -> OK | L38: 0 | M38: 0 | N38: 0 | O38: 0 | P38: 0 | Q38: 0 | R38: 0 | S38: 0 | T38: 0 | U38: 0 | V38: 0 | W38: 0
C39: 36 | D39: FUTEBOL - MEIÃO UNISSEX - liso sem detalhes. Tamanho a definir. Cor a definir. | E39: Par | F39: Araçá | G39: 339030-14 | H39: 7 | I39: 70 | J39: =I39-(SUM(L39:W39)) -> 70 | K39: =IF(J39<0,"ATENÇÃO","OK") -> OK | L39: 0 | M39: 0 | N39: 0 | O39: 0 | P39: 0 | Q39: 0 | R39: 0 | S39: 0 | T39: 0 | U39: 0 | V39: 0 | W39: 0
C40: 37 | D40: FUTSAL MASCULINO - CAMISA - 100% POLIESTER DRYFIT. Manga curta. Nas costas: numeração (22cm), logomarca (10X18cm) e o nome da modalidade (20x10cm). Na frente logomarca (10X18cm). Com tratamento antibactericida, permite transpiração. Manga curta com punhos em Rib (efeito canelado). Tamanho e cor a definir. | E40: Unidade | F40: Araçá | G40: 339030-14 | H40: 30 | J40: =I40-(SUM(L40:W40)) -> 0 | K40: =IF(J40<0,"ATENÇÃO","OK") -> OK | L40: 0 | M40: 0 | N40: 0 | O40: 0 | P40: 0 | Q40: 0 | R40: 0 | S40: 0 | T40: 0 | U40: 0 | V40: 0 | W40: 0
C41: 38 | D41: FUTSAL MASCULINO - CALÇÃO - 100% POLIESTER DRYFIT, com numeração na parte frontal inferior esquerda e logomarca (7x11cm) na parte frontal inferior direita. Cós com elástico e cordão interno. Tamanho e cor a definir. | E41: Unidade | F41: Araçá | G41: 339030-14 | H41: 15 | J41: =I41-(SUM(L41:W41)) -> 0 | K41: =IF(J41<0,"ATENÇÃO","OK") -> OK | L41: 0 | M41: 0 | N41: 0 | O41: 0 | P41: 0 | Q41: 0 | R41: 0 | S41: 0 | T41: 0 | U41: 0 | V41: 0 | W41: 0
C42: 39 | D42: FUTSAL FEMININO - CAMISA - Sem manga, 100% POLIESTER DRYFIT. Na frente: logomarca no centro da camisa (10X18cm). Nas costas: numeração na parte central (8X1cm2), logomarca (10X18cm) e o nome da modalidade 20x10cm. Tamanho e cor a definir. | E42: Unidade | F42: Araçá | G42: 339030-14 | H42: 17 | J42: =I42-(SUM(L42:W42)) -> 0 | K42: =IF(J42<0,"ATENÇÃO","OK") -> OK | L42: 0 | M42: 0 | N42: 0 | O42: 0 | P42: 0 | Q42: 0 | R42: 0 | S42: 0 | T42: 0 | U42: 0 | V42: 0 | W42: 0
C43: 40 | D43: FUTSAL FEMININO - CALÇÃO - 100% POLIESTER DRYFIT . Cós com elástico com cordão interno. Numeração na parte frontal inferior esquerda e o logomarca (7x11cm) na parte frontal inferior direita. Modalidade Futebol gravada na parte inferior direita com dimensões aproximadas de 9X3cm. Logomarca gravada na parte posterior acima da linha glútea, tamanho aproximado 20x10cm. Tamanho e cor a definir. | E43: Unidade | F43: Araçá | G43: 339030-14 | H43: 15 | J43: =I43-(SUM(L43:W43)) -> 0 | K43: =IF(J43<0,"ATENÇÃO","OK") -> OK | L43: 0 | M43: 0 | N43: 0 | O43: 0 | P43: 0 | Q43: 0 | R43: 0 | S43: 0 | T43: 0 | U43: 0 | V43: 0 | W43: 0
C44: 41 | D44: VOLEIBOL FEMININO - CAMISA sem manga, confeccionadas em poliéster 100% dryfit. Na frente: logomarca no centro da camisa (10X18cm). Nas costas: numeração na parte central (8X1cm2), logomarca (10X18cm) e o nome da modalidade 20x10cm. Tamanho e cor a definir. | E44: Unidade | F44: Araçá | G44: 339030-14 | H44: 17 | I44: 10 | J44: =I44-(SUM(L44:W44)) -> 10 | K44: =IF(J44<0,"ATENÇÃO","OK") -> OK | L44: 0 | M44: 0 | N44: 0 | O44: 0 | P44: 0 | Q44: 0 | R44: 0 | S44: 0 | T44: 0 | U44: 0 | V44: 0 | W44: 0
C45: 42 | D45: VOLEIBOL FEMININO - CAMISA com manga, confeccionadas em poliéster 100% dryfit. Na frente: logomarca no centro da camisa (10X18cm). Nas costas: numeração na parte central (8X1cm2), logomarca (10X18cm) e o nome da modalidade 20x10cm. Tamanho e cor a definir. | E45: Unidade | F45: Araçá | G45: 339030-14 | H45: 30 | J45: =I45-(SUM(L45:W45)) -> 0 | K45: =IF(J45<0,"ATENÇÃO","OK") -> OK | L45: 0 | M45: 0 | N45: 0 | O45: 0 | P45: 0 | Q45: 0 | R45: 0 | S45: 0 | T45: 0 | U45: 0 | V45: 0 | W45: 0
C46: 43 | D46: VOLEIBOL FEMININO - SHORT - confeccionados em 90% poliéster 10% elastano, numeradas na parte inferior direita. E na parte inferior esquerda a logomarca e o nome do centro. Tamanho e cor a definir. | E46: Unidade | F46: Araçá | G46: 339030-14 | H46: 20 | I46: 10 | J46: =I46-(SUM(L46:W46)) -> 10 | K46: =IF(J46<0,"ATENÇÃO","OK") -> OK | L46: 0 | M46: 0 | N46: 0 | O46: 0 | P46: 0 | Q46: 0 | R46: 0 | S46: 0 | T46: 0 | U46: 0 | V46: 0 | W46: 0
C47: 44 | D47: VOLEIBOL MASCULINO - CAMISA - com manga, 100% POLIESTER DRYFIT. Na frente: logomarca no centro da camisa (10X18cm). Nas costas: numeração na parte central (8X1cm2), logomarca (10X18cm) e o nome da modalidade 20x10cm. Tamanho e cor a definir. | E47: Unidade | F47: Araçá | G47: 339030-14 | H47: 33 | I47: 10 | J47: =I47-(SUM(L47:W47)) -> 10 | K47: =IF(J47<0,"ATENÇÃO","OK") -> OK | L47: 0 | M47: 0 | N47: 0 | O47: 0 | P47: 0 | Q47: 0 | R47: 0 | S47: 0 | T47: 0 | U47: 0 | V47: 0 | W47: 0
C48: 45 | D48: VOLEIBOL MASCULINO - CALÇÃO - Calções confeccionados em poliéster 100%, dryfit, levam o número na parte inferior direita. Logomarca na parte inferior esquerda (7X11cm). Tamanho e cor a definir. | E48: Unidade | F48: Araçá | G48: 339030-14 | H48: 15 | I48: 10 | J48: =I48-(SUM(L48:W48)) -> 10 | K48: =IF(J48<0,"ATENÇÃO","OK") -> OK | L48: 0 | M48: 0 | N48: 0 | O48: 0 | P48: 0 | Q48: 0 | R48: 0 | S48: 0 | T48: 0 | U48: 0 | V48: 0 | W48: 0
C49: 46 | D49: VÔLEI PRAIA MASCULINO - REGATA - 100% POLIESTER DRYFIT. NOME da IES, CAMPUS e MODALIDADE. Tamanho e cor a definir. | E49: Unidade | F49: Araçá | G49: 339030-14 | H49: 27 | J49: =I49-(SUM(L49:W49)) -> 0 | K49: =IF(J49<0,"ATENÇÃO","OK") -> OK | L49: 0 | M49: 0 | N49: 0 | O49: 0 | P49: 0 | Q49: 0 | R49: 0 | S49: 0 | T49: 0 | U49: 0 | V49: 0 | W49: 0
C50: 47 | D50: VÔLEI PRAIA MASCULINO - CALÇÃO - 100% POLIESTER DRYFIT, com numeração na parte frontal inferior esquerda e logomarca (7x11cm) na parte frontal inferior direita. Cós com elástico e cordão interno. Tamanho e cor a definir. | E50: Unidade | F50: Araçá | G50: 339030-14 | H50: 15 | J50: =I50-(SUM(L50:W50)) -> 0 | K50: =IF(J50<0,"ATENÇÃO","OK") -> OK | L50: 0 | M50: 0 | N50: 0 | O50: 0 | P50: 0 | Q50: 0 | R50: 0 | S50: 0 | T50: 0 | U50: 0 | V50: 0 | W50: 0
C51: 48 | D51: VÔLEI PRAIA FEMININO - TOP FEMININO - 92% POLIESTER DRYFIT e 08% ELASTANO (conforme modelo deixado no Lab Design). Tamanho e cor a definir. | E51: Unidade | F51: Araçá | G51: 339030-14 | H51: 22 | J51: =I51-(SUM(L51:W51)) -> 0 | K51: =IF(J51<0,"ATENÇÃO","OK") -> OK | L51: 0 | M51: 0 | N51: 0 | O51: 0 | P51: 0 | Q51: 0 | R51: 0 | S51: 0 | T51: 0 | U51: 0 | V51: 0 | W51: 0
C52: 49 | D52: VÔLEI PRAIA FEMININO - SHORT - 92% POLIESTER DRYFIT e 08% ELASTANO (conforme modelo deixado no Lab Design. Tamanho e cor a definir. | E52: Unidade | F52: Araçá | G52: 339030-14 | H52: 25 | J52: =I52-(SUM(L52:W52)) -> 0 | K52: =IF(J52<0,"ATENÇÃO","OK") -> OK | L52: 0 | M52: 0 | N52: 0 | O52: 0 | P52: 0 | Q52: 0 | R52: 0 | S52: 0 | T52: 0 | U52: 0 | V52: 0 | W52: 0
C53: 50 | D53: FUTEVÔLEI MASCULINO - CALÇÃO - 100% POLIESTER DRYFIT. Com numeração na parte frontal inferior esquerda e logomarca (7x11cm) na parte frontal inferior direita. Cós com elástico e cordão interno. Tamanho e cor a definir. | E53: Unidade | F53: Araçá | G53: 339030-14 | H53: 15 | J53: =I53-(SUM(L53:W53)) -> 0 | K53: =IF(J53<0,"ATENÇÃO","OK") -> OK | L53: 0 | M53: 0 | N53: 0 | O53: 0 | P53: 0 | Q53: 0 | R53: 0 | S53: 0 | T53: 0 | U53: 0 | V53: 0 | W53: 0
C54: 51 | D54: FUTEVÔLEI MASCULINO - REGATA - 100% POLIESTER DRYFIT. Tamanho e cor a definir, NOME da IES , CAMPUS e MODALIDADE. | E54: Unidade | F54: Araçá | G54: 339030-14 | H54: 30 | J54: =I54-(SUM(L54:W54)) -> 0 | K54: =IF(J54<0,"ATENÇÃO","OK") -> OK | L54: 0 | M54: 0 | N54: 0 | O54: 0 | P54: 0 | Q54: 0 | R54: 0 | S54: 0 | T54: 0 | U54: 0 | V54: 0 | W54: 0
C55: 52 | D55: FUTEVÔLEI FEMININO - REGATA - 100% POLIESTER DRYFIT. Tamanho e cor a definir. | E55: Unidade | F55: Araçá | G55: 339030-14 | H55: 30 | J55: =I55-(SUM(L55:W55)) -> 0 | K55: =IF(J55<0,"ATENÇÃO","OK") -> OK | L55: 0 | M55: 0 | N55: 0 | O55: 0 | P55: 0 | Q55: 0 | R55: 0 | S55: 0 | T55: 0 | U55: 0 | V55: 0 | W55: 0
C56: 53 | D56: FUTEVÔLEI FEMININO - SHORT - 90% poliéster 10% elastano, numeradas na parte inferior direita. E na parte inferior esquerda a logomarca e o nome do centro.Tamanho e cor a definir. Tamanho e cor a definir. | E56: Unidade | F56: Araçá | G56: 339030-14 | H56: 25 | J56: =I56-(SUM(L56:W56)) -> 0 | K56: =IF(J56<0,"ATENÇÃO","OK") -> OK | L56: 0 | M56: 0 | N56: 0 | O56: 0 | P56: 0 | Q56: 0 | R56: 0 | S56: 0 | T56: 0 | U56: 0 | V56: 0 | W56: 0
C57: 54 | D57: Calções confeccionados em poliéster 100%, dryfit, levam o número na parte inferior direita. Logomarca na parte inferior esquerda (7X11cm). Tamanho e cor a definir. | E57: Unidade | F57: Araçá | G57: 339030-14 | H57: 15 | J57: =I57-(SUM(L57:W57)) -> 0 | K57: =IF(J57<0,"ATENÇÃO","OK") -> OK | L57: 0 | M57: 0 | N57: 0 | O57: 0 | P57: 0 | Q57: 0 | R57: 0 | S57: 0 | T57: 0 | U57: 0 | V57: 0 | W57: 0
C58: 55 | D58: Bermuda confeccionada em poliéster 100% dryfit. Numeração gravada na parte inferior esquerda com dimensões aproximadas de 9X3cm. Com logomarca na parte inferior direita com dimensões aproximadas de 9X3cm. Tamanho e cor a definir. | E58: Unidade | F58: Araçá | G58: 339030-14 | H58: 40 | J58: =I58-(SUM(L58:W58)) -> 0 | K58: =IF(J58<0,"ATENÇÃO","OK") -> OK | L58: 0 | M58: 0 | N58: 0 | O58: 0 | P58: 0 | Q58: 0 | R58: 0 | S58: 0 | T58: 0 | U58: 0 | V58: 0 | W58: 0
C59: 56 | D59: TENIS DE CAMPO MASCULINO - CAMISA - 100% POLIESTER DRYFIT com gola. Modelo oficial tênis de campo. Na frente: logomarca no centro da camisa (10X18cm). Nas costas: logomarca (10X18cm) e o nome da modalidade 20x10cm. Tamanho e cor a definir. | E59: Unidade | F59: Araçá | G59: 339030-14 | H59: 30 | J59: =I59-(SUM(L59:W59)) -> 0 | K59: =IF(J59<0,"ATENÇÃO","OK") -> OK | L59: 0 | M59: 0 | N59: 0 | O59: 0 | P59: 0 | Q59: 0 | R59: 0 | S59: 0 | T59: 0 | U59: 0 | V59: 0 | W59: 0
C60: 57 | D60: TENIS DE CAMPO FEMININO - CAMISETE - 100% POLIESTER DRYFIT com gola. Modelo oficial tênis de campo. Na frente: logomarca no centro da camisa (10X18cm). Nas costas: logomarca (10X18cm) e o nome da modalidade 20x10cm. Tamanho e cor a definir. | E60: Unidade | F60: Araçá | G60: 339030-14 | H60: 30 | J60: =I60-(SUM(L60:W60)) -> 0 | K60: =IF(J60<0,"ATENÇÃO","OK") -> OK | L60: 0 | M60: 0 | N60: 0 | O60: 0 | P60: 0 | Q60: 0 | R60: 0 | S60: 0 | T60: 0 | U60: 0 | V60: 0 | W60: 0
... C70: 67 | D70: Colete confecionado em tecido 100% poliamida (tactel), contendo dois bolsos -um na esquerda e outro na direita. Viés de acabamento da mesma cor. Na frente logomarca a definir, e palavra de identificação (a definir), no lado direito. Ajuste nas laterais com dois elásticos, de aproximadamente 18 cm, um em cada lado. Tamanho e cor a definir. | E70: Unidade | F70: Araçá | G70: 339030-23 | H70: 20 | J70: =I70-(SUM(L70:W70)) -> 0 | K70: =IF(J70<0,"ATENÇÃO","OK") -> OK | L70: 0 | M70: 0 | N70: 0 | O70: 0 | P70: 0 | Q70: 0 | R70: 0 | S70: 0 | T70: 0 | U70: 0 | V70: 0 | W70: 0
C71: 68 | D71: Colete 100% poliéster para treinamento, numerados nas costas, medindo aproximadamente 22cm de altura e 11cm de largura. Logomarca a definir na frente (10X18cm).Tamanho e cor a definir. | E71: Unidade | F71: Araçá | G71: 339030-14 | H71: 8 | I71: 96 | J71: =I71-(SUM(L71:W71)) -> 96 | K71: =IF(J71<0,"ATENÇÃO","OK") -> OK | L71: 0 | M71: 0 | N71: 0 | O71: 0 | P71: 0 | Q71: 0 | R71: 0 | S71: 0 | T71: 0 | U71: 0 | V71: 0 | W71: 0
C72: 69 | D72: Conjunto para prática desportiva, agasalho de seletel. Contendo blusa e calça, confeccionado em 100% poliéster. Blusa: abertura frontal com fechamento em zíper, cós e punhos em RIB elástico, bolsos laterais com fechamento em zíper, com logomarca bordada no lado esquerdo do peito, dimensões aproximadas de 9X5cm e com a logomarca bordado nas costas e o nome da função (a definir), dimensões aproximadas 20X25cm. Calça: cós com elástico e cordão para ajuste, bolsos laterais com fechamento em zíper, bordado com a logomarca no lado esquerdo da calça, dimensões aproximadas 9X5cm, com zíper destacável na altura do joelho para transformar a calça em bermuda. Tamanho e cor a definir. | E72: Unidade | F72: Araçá | G72: 339030-14 | H72: 90 | J72: =I72-(SUM(L72:W72)) -> 0 | K72: =IF(J72<0,"ATENÇÃO","OK") -> OK | L72: 0 | M72: 0 | N72: 0 | O72: 0 | P72: 0 | Q72: 0 | R72: 0 | S72: 0 | T72: 0 | U72: 0 | V72: 0 | W72: 0
C73: 70 | D73: Conjunto para prática desportiva, agasalho de seletel. Contendo blusa e calça, confeccionado em 100% poliéster. Blusa: abertura frontal com fechamento em zíper, cós e punhos em RIB elástico, bolsos laterais com fechamento em zíper, com logomarca serigrafada no lado esquerdo do peito, dimensões aproximadas de 9X5cm e com serigrafia da logomarca nas costas e do nome da função (a definir), dimensões aproximadas 20X25cm. Calça: cós com elástico e cordão para ajuste, bolsos laterais com fechamento em zíper, bordado com a logomarca no lado esquerdo da calça, dimensões aproximadas 9X5cm, com zíper destacável na altura do joelho para transformar a calça em bermuda. Tamanho e cor a definir. | E73: Unidade | F73: Araçá | G73: 339030-14 | H73: 118.95 | I73: 150 | J73: =I73-(SUM(L73:W73)) -> 150 | K73: =IF(J73<0,"ATENÇÃO","OK") -> OK | L73: 0 | M73: 0 | N73: 0 | O73: 0 | P73: 0 | Q73: 0 | R73: 0 | S73: 0 | T73: 0 | U73: 0 | V73: 0 | W73: 0
C74: 71 | D74: Bandeira Personalizada, em poliéster. Dimensões: 2,5 panos: 1,12x1,60m. | E74: Unidade | F74: Araçá | G74: 339030-50 | H74: 90 | I74: 5 | J74: =I74-(SUM(L74:W74)) -> 5 | K74: =IF(J74<0,"ATENÇÃO","OK") -> OK | L74: 0 | M74: 0 | N74: 0 | O74: 0 | P74: 0 | Q74: 0 | R74: 0 | S74: 0 | T74: 0 | U74: 0 | V74: 0 | W74: 0
C75: 72 | D75: Bandeira Personalizada, em poliéster. Dimensões: Largura: 1,25m e Altura: 0,90m. | E75: Unidade | F75: Araçá | G75: 339030-50 | H75: 110 | I75: 2 | J75: =I75-(SUM(L75:W75)) -> 2 | K75: =IF(J75<0,"ATENÇÃO","OK") -> OK | L75: 0 | M75: 0 | N75: 0 | O75: 0 | P75: 0 | Q75: 0 | R75: 0 | S75: 0 | T75: 0 | U75: 0 | V75: 0 | W75: 0
C76: 73 | D76: Bolsa para fardamento confeccionada em nylon, com zíper, com alça para carregar no ombro e alça de mão. Dimensões mínimas de 120cm de altura e 80cm de largura. Com a logomarca em 3 cores. | E76: Unidade | F76: Araçá | G76: 339030-23 | H76: 35 | I76: 4 | J76: =I76-(SUM(L76:W76)) -> 4 | K76: =IF(J76<0,"ATENÇÃO","OK") -> OK | L76: 0 | M76: 0 | N76: 0 | O76: 0 | P76: 0 | Q76: 0 | R76: 0 | S76: 0 | T76: 0 | U76: 0 | V76: 0 | W76: 0
C77: 74 | D77: Malote confeccionado em lona, contendo visor de plástico para identificação do material constante no interior do malote. O malote deverá ser de meias argolas e tiras com ilhoses. Tamanho aproximado:40x50x15 | E77: Unidade | F77: Araçá | G77: 339030-23 | H77: 80 | J77: =I77-(SUM(L77:W77)) -> 0 | K77: =IF(J77<0,"ATENÇÃO","OK") -> OK | L77: 0 | M77: 0 | N77: 0 | O77: 0 | P77: 0 | Q77: 0 | R77: 0 | S77: 0 | T77: 0 | U77: 0 | V77: 0 | W77: 0
A78: Weikki Confecções LTDA - EPP | B78: 5 | C78: 75 | D78: Tecido Tule, cor a definir. | E78: Metro | F78: Weikki | G78: 339030-23 | H78: 2 | J78: =I78-(SUM(L78:W78)) -> 0 | K78: =IF(J78<0,"ATENÇÃO","OK") -> OK | L78: 0 | M78: 0 | N78: 0 | O78: 0 | P78: 0 | Q78: 0 | R78: 0 | S78: 0 | T78: 0 | U78: 0 | V78: 0 | W78: 0
C79: 77 | D79: Tecido malha de algodão cru, 1,50m de largura. Cor a definir. | E79: Metro | F79: Weikki | G79: 339030-23 | H79: 8.95 | J79: =I79-(SUM(L79:W79)) -> 0 | K79: =IF(J79<0,"ATENÇÃO","OK") -> OK | L79: 0 | M79: 0 | N79: 0 | O79: 0 | P79: 0 | Q79: 0 | R79: 0 | S79: 0 | T79: 0 | U79: 0 | V79: 0 | W79: 0
C80: 78 | D80: Tecido em cetim, largura 1,20m. Cor a definir. | E80: Metro | F80: Weikki | G80: 339030-23 | H80: 6.09 | J80: =I80-(SUM(L80:W80)) -> 0 | K80: =IF(J80<0,"ATENÇÃO","OK") -> OK | L80: 0 | M80: 0 | N80: 0 | O80: 0 | P80: 0 | Q80: 0 | R80: 0 | S80: 0 | T80: 0 | U80: 0 | V80: 0 | W80: 0
C81: 79 | D81: Malha de Helanca. Largura mínima 1,50m. Cor a definir. | E81: Metro | F81: Weikki | G81: 339030-23 | H81: 10.46 | J81: =I81-(SUM(L81:W81)) -> 0 | K81: =IF(J81<0,"ATENÇÃO","OK") -> OK | L81: 0 | M81: 0 | N81: 0 | O81: 0 | P81: 0 | Q81: 0 | R81: 0 | S81: 0 | T81: 0 | U81: 0 | V81: 0 | W81: 0
C82: 80 | D82: Tecido TNT em metro. Cor a definir. | E82: Metro | F82: Weikki | G82: 339030-23 | H82: 0.98 | I82: 50 | J82: =I82-(SUM(L82:W82)) -> 50 | K82: =IF(J82<0,"ATENÇÃO","OK") -> OK | L82: 0 | M82: 0 | N82: 0 | O82: 0 | P82: 0 | Q82: 0 | R82: 0 | S82: 0 | T82: 0 | U82: 0 | V82: 0 | W82: 0
C83: 81 | D83: Tecido, Chita ou Chitão Estampado, 100% algodão, largura mínima 1,20m. Estampa a definir. | E83: Metro | F83: Weikki | G83: 339030-23 | H83: 15.3 | J83: =I83-(SUM(L83:W83)) -> 0 | K83: =IF(J83<0,"ATENÇÃO","OK") -> OK | L83: 0 | M83: 0 | N83: 0 | O83: 0 | P83: 0 | Q83: 0 | R83: 0 | S83: 0 | T83: 0 | U83: 0 | V83: 0 | W83: 0
A84: ADBX Comércio de Serviços LTDA - ME | B84: 6 | C84: 82 | D84: Campos cirurgicos: Brim - tecido 100% algodão. Gramatura 260g/m². Cor verde bandeira ou marinho. Tamanho: 1,40 x 1,70 m | E84: Peça | F84: K.B | G84: 339030-23 | H84: 48 | J84: =I84-(SUM(L84:W84)) -> 0 | K84: =IF(J84<0,"ATENÇÃO","OK") -> OK | L84: 0 | M84: 0 | N84: 0 | O84: 0 | P84: 0 | Q84: 0 | R84: 0 | S84: 0 | T84: 0 | U84: 0 | V84: 0 | W84: 0
C85: 83 | D85: Campos cirurgicos: Brim - tecido 100% algodão. Gramatura 260g/m². Cor verde bandeira ou marinho. Tamanho: 1,00 x 1,00 m | E85: Peça | F85: K.B | G85: 339030-23 | H85: 28 | J85: =I85-(SUM(L85:W85)) -> 0 | K85: =IF(J85<0,"ATENÇÃO","OK") -> OK | L85: 0 | M85: 0 | N85: 0 | O85: 0 | P85: 0 | Q85: 0 | R85: 0 | S85: 0 | T85: 0 | U85: 0 | V85: 0 | W85: 0
C86: 84 | D86: Campo cirurgico com fenestra: Brim - tecido 100% algodão. Gramatura 260g/m². Cor verde bandeira ou marinho. Tamanho: 0,50 x 0,50 m | E86: Peça | F86: K.B | G86: 339030-23 | H86: 20 | J86: =I86-(SUM(L86:W86)) -> 0 | K86: =IF(J86<0,"ATENÇÃO","OK") -> OK | L86: 0 | M86: 0 | N86: 0 | O86: 0 | P86: 0 | Q86: 0 | R86: 0 | S86: 0 | T86: 0 | U86: 0 | V86: 0 | W86: 0
C87: 85 | D87: Campos cirurgicos: Brim - tecido 100% algodão. Gramatura 260g/m². Cor verde bandeira ou marinho. Tamanho: 0,50 x 0,50 m | E87: Peça | F87: K.B | G87: 339030-23 | H87: 12 | J87: =I87-(SUM(L87:W87)) -> 0 | K87: =IF(J87<0,"ATENÇÃO","OK") -> OK | L87: 0 | M87: 0 | N87: 0 | O87: 0 | P87: 0 | Q87: 0 | R87: 0 | S87: 0 | T87: 0 | U87: 0 | V87: 0 | W87: 0
C88: 86 | D88: Avental cirúrgico em brim: Brim - tecido 100% algodão. Gramatura 260g/m². Cor verde bandeira ou marinho. Tamanho único | E88: Peça | F88: K.B | G88: 339030-23 | H88: 50 | J88: =I88-(SUM(L88:W88)) -> 0 | K88: =IF(J88<0,"ATENÇÃO","OK") -> OK | L88: 0 | M88: 0 | N88: 0 | O88: 0 | P88: 0 | Q88: 0 | R88: 0 | S88: 0 | T88: 0 | U88: 0 | V88: 0 | W88: 0
C89: 87 | D89: Camisola para exame ginecológico: Tecido 100% algodão, lavado e pré-encolhido na cor verde ou branco. Tamanho único | E89: Peça | F89: K.B | G89: 339030-23 | H89: 38 | J89: =I89-(SUM(L89:W89)) -> 0 | K89: =IF(J89<0,"ATENÇÃO","OK") -> OK | L89: 0 | M89: 0 | N89: 0 | O89: 0 | P89: 0 | Q89: 0 | R89: 0 | S89: 0 | T89: 0 | U89: 0 | V89: 0 | W89: 0
C90: 88 | D90: Avental cirúrgico em brim: Brim - tecido 100% algodão. Gramatura 260g/m². Cor verde bandeira ou marinho. Tamanho grande | E90: Peça | F90: K.B | G90: 339030-23 | H90: 48 | J90: =I90-(SUM(L90:W90)) -> 0 | K90: =IF(J90<0,"ATENÇÃO","OK") -> OK | L90: 0 | M90: 0 | N90: 0 | O90: 0 | P90: 0 | Q90: 0 | R90: 0 | S90: 0 | T90: 0 | U90: 0 | V90: 0 | W90: 0
C91: 89 | D91: Lençóis para maca: algodão ou percal ou microfibra na cor branca. Tamanho: 1,00 x 2,00 m | E91: Peça | F91: K.B | G91: 339030-23 | H91: 58 | J91: =I91-(SUM(L91:W91)) -> 0 | K91: =IF(J91<0,"ATENÇÃO","OK") -> OK | L91: 0 | M91: 0 | N91: 0 | O91: 0 | P91: 0 | Q91: 0 | R91: 0 | S91: 0 | T91: 0 | U91: 0 | V91: 0 | W91: 0
C92: 90 | D92: Colchas: em Piquet na cor verde ou branco. Tamanho: 1,60x 2,50m | E92: Peça | F92: K.B | G92: 339030-23 | H92: 90 | J92: =I92-(SUM(L92:W92)) -> 0 | K92: =IF(J92<0,"ATENÇÃO","OK") -> OK | L92: 0 | M92: 0 | N92: 0 | O92: 0 | P92: 0 | Q92: 0 | R92: 0 | S92: 0 | T92: 0 | U92: 0 | V92: 0 | W92: 0
C93: 91 | D93: "Pijama Cirúrgico" - calça e camisa (para uso em centro cirúrgico): em algodão na cor verde ou marinho. Tamanho médio | E93: Peça | F93: K.B | G93: 339030-23 | H93: 85.7 | J93: =I93-(SUM(L93:W93)) -> 0 | K93: =IF(J93<0,"ATENÇÃO","OK") -> OK | L93: 0 | M93: 0 | N93: 0 | O93: 0 | P93: 0 | Q93: 0 | R93: 0 | S93: 0 | T93: 0 | U93: 0 | V93: 0 | W93: 0
C94: 92 | D94: "Pijama Cirúrgico" - calça e camisa (para uso em centro cirúrgico): em algodão na cor verde ou marinho. Tamanho grande | E94: Peça | F94: K.B | G94: 339030-23 | H94: 90 | J94: =I94-(SUM(L94:W94)) -> 0 | K94: =IF(J94<0,"ATENÇÃO","OK") -> OK | L94: 0 | M94: 0 | N94: 0 | O94: 0 | P94: 0 | Q94: 0 | R94: 0 | S94: 0 | T94: 0 | U94: 0 | V94: 0 | W94: 0
