Workbook
Name diasuteis: #REF!
Name diasuteis: #REF!
Name Ferias: #REF!
Name Ferias: #REF!
Name RD: OFFSET(#REF!,(MATCH(SMALL(#REF!,ROW()-10),#REF!,0)-1),0)
Name RD: OFFSET(#REF!,(MATCH(SMALL(#REF!,ROW()-10),#REF!,0)-1),0)

Sheet REITORIA_PROEX
A1: PROCESSO: 0502/2015/UDESC | D1: OBJETO: Aquisição de Rouparia para a UDESC | I1: VIGÊNCIA DA ATA: 14/07/2015 até 13/07/2016 | L1: AF nº 1205/2015 Qtde. DT | M1: AF nº 1509/2015 Qtde. DT | N1: AF nº 1928/2015 Qtde. DT | O1: AF/OS nº xxxx/2015 Qtde. DT | P1: AF/OS nº xxxx/2015 Qtde. DT | Q1: AF/OS nº xxxx/2015 Qtde. DT | R1: AF/OS nº xxxx/2015 Qtde. DT | S1: AF/OS nº xxxx/2015 Qtde. DT | T1: AF/OS nº xxxx/2015 Qtde. DT | U1: AF/OS nº xxxx/2015 Qtde. DT | V1: AF/OS nº xxxx/2015 Qtde. DT | W1: AF/OS nº xxxx/2015 Qtde. DT
A2: CENTRO PARTICIPANTE: Reitoria/PROEX
A3: FORNECEDOR | B3: LOTE | C3: ITEM | D3: PRODUTO - CARACTERÍSTICAS MÍNIMAS | E3: UNIDADE | F3: MARCA | G3: DETALHAMENTO | H3: Preço UNITÁRIO (R$) | I3: Qtde Registrada | J3: Saldo / Automático | K3: ALERTA | L3: 42205 | M3: 42241 | N3: 42296 | O3: ...../...../...... | P3: ...../...../...... | Q3: ...../...../...... | R3: ...../...../...... | S3: ...../...../...... | T3: ...../...../...... | U3: ...../...../...... | V3: ...../...../...... | W3: ...../...../......
A4: Tracton Indústria e Comércio LTDA - EPP | B4: 1 | C4: 1 | D4: Fronha de tecido cretone, 100% algodão, dimensões aproximadas de 0,50cm de largura e 0,60cm de comprimento, com logomarca a ser definida impressa no centro com as dimensões de 14x13cm aproximadamente. Cor a definir. | E4: Unidade | F4: Tracton | G4: 339030-20 | H4: 25 | J4: =I4-(SUM(L4:W4)) -> 0 | K4: =IF(J4<0,"ATENÇÃO","OK") -> OK | L4: 0 | M4: 0 | N4: 0 | O4: 0 | P4: 0 | Q4: 0 | R4: 0 | S4: 0 | T4: 0 | U4: 0 | V4: 0 | W4: 0
C5: 2 | D5: Lençol de tecido, com elástico, 100% algodão, dimensões aproximadas: 1,30m de largura e 2m de comprimento. Logomarca a ser definida impressa no centro, dimensões de 14x13cm aproximadamente. | E5: Unidade | F5: Tracton | G5: 339030-20 | H5: 50 | J5: =I5-(SUM(L5:W5)) -> 0 | K5: =IF(J5<0,"ATENÇÃO","OK") -> OK | L5: 0 | M5: 0 | N5: 0 | O5: 0 | P5: 0 | Q5: 0 | R5: 0 | S5: 0 | T5: 0 | U5: 0 | V5: 0 | W5: 0
C6: 3 | D6: Lençol de tecido, sem elástico, 100% algodão, dimensões aproximadas: 1,30m de largura e 2m de comprimento, com logomarca a ser definida impressa no centro, com 14x13cm aproximadamente. | E6: Unidade | F6: Tracton | G6: 339030-20 | H6: 50 | J6: =I6-(SUM(L6:W6)) -> 0 | K6: =IF(J6<0,"ATENÇÃO","OK") -> OK | L6: 0 | M6: 0 | N6: 0 | O6: 0 | P6: 0 | Q6: 0 | R6: 0 | S6: 0 | T6: 0 | U6: 0 | V6: 0 | W6: 0
C7: 4 | D7: Toalha de mesa, de cetim, medindo aproximadamente 1,20m x60cm. Com logomarca bordada no centro da toalha, tamanho mínimo 30cm x 30 cm. Cor a definir. | E7: Unidade | F7: Tracton | G7: 339030-20 | H7: 61 | J7: =I7-(SUM(L7:W7)) -> 0 | K7: =IF(J7<0,"ATENÇÃO","OK") -> OK | L7: 0 | M7: 0 | N7: 0 | O7: 0 | P7: 0 | Q7: 0 | R7: 0 | S7: 0 | T7: 0 | U7: 0 | V7: 0 | W7: 0
C8: 5 | D8: Toalha de mesa retangular, medindo aproximadamente 1,60mX2,70m. Composição 53% algodão, 47% poliéster. Cor a definir. | E8: Unidade | F8: Tracton | G8: 339030-20 | H8: 89 | J8: =I8-(SUM(L8:W8)) -> 0 | K8: =IF(J8<0,"ATENÇÃO","OK") -> OK | L8: 0 | M8: 0 | N8: 0 | O8: 0 | P8: 0 | Q8: 0 | R8: 0 | S8: 0 | T8: 0 | U8: 0 | V8: 0 | W8: 0
C9: 6 | D9: Toalha de banho, dupla face, em tecido 100% algodão, cor da definir, pré-lavada e pré-encolhida, gramatura de no mínimo 500gr/m², medindo no mínimo 70cm x 1,40m. Logomarca a ser definida e impressa em uma das pontas nas dimensões de 14x13cm aproximadamente. | E9: Unidade | F9: Tracton | G9: 339030-20 | H9: 30 | J9: =I9-(SUM(L9:W9)) -> 0 | K9: =IF(J9<0,"ATENÇÃO","OK") -> OK | L9: 0 | M9: 0 | N9: 0 | O9: 0 | P9: 0 | Q9: 0 | R9: 0 | S9: 0 | T9: 0 | U9: 0 | V9: 0 | W9: 0
C10: 7 | D10: Toalha de rosto, dupla face, em tecido 100% algodão, cor da definir, pré-lavada e pré-encolhida, gramatura de no mínimo 500gr/m², medindo no mínimo 45x75cm. Logomarca a ser definida e impressa em uma das pontas nas dimensões de 14x13cm aproximadamente. | E10: Unidade | F10: Tracton | G10: 339030-20 | H10: 20 | J10: =I10-(SUM(L10:W10)) -> 0 | K10: =IF(J10<0,"ATENÇÃO","OK") -> OK | L10: 0 | M10: 0 | N10: 0 | O10: 0 | P10: 0 | Q10: 0 | R10: 0 | S10: 0 | T10: 0 | U10: 0 | V10: 0 | W10: 0
C11: 8 | D11: Toalha de mesa redonda, medindo aproximadamente 178cm diâmetro, composição 59% algodão e 41% poliéster, cor a definir. | E11: Unidade | F11: Tracton | G11: 339030-20 | H11: 60 | J11: =I11-(SUM(L11:W11)) -> 0 | K11: =IF(J11<0,"ATENÇÃO","OK") -> OK | L11: 0 | M11: 0 | N11: 0 | O11: 0 | P11: 0 | Q11: 0 | R11: 0 | S11: 0 | T11: 0 | U11: 0 | V11: 0 | W11: 0
C12: 9 | D12: Toalha de mesa retangular, medindo aproximadamente 7mx2,20m. Composição 53% algodão, 47% poliéster, com protetor de tecido. Cor a definir. | E12: Unidade | F12: Tracton | G12: 339030-20 | H12: 97.5 | J12: =I12-(SUM(L12:W12)) -> 0 | K12: =IF(J12<0,"ATENÇÃO","OK") -> OK | L12: 0 | M12: 0 | N12: 0 | O12: 0 | P12: 0 | Q12: 0 | R12: 0 | S12: 0 | T12: 0 | U12: 0 | V12: 0 | W12: 0
A13: ADBX Comércio de Serviços LTDA - ME | B13: 2 | C13: 10 | D13: Camisa social masculina, manga longa, cor a definir, composição 50% algodão e 50% poliéster. Com a logomarca de 9x5cm bordada no peito no lado esquerdo. Tamanho e cor a definir. | E13: Unidade | F13: K.B | G13: 339030-23 | H13: 48 | J13: =I13-(SUM(L13:W13)) -> 0 | K13: =IF(J13<0,"ATENÇÃO","OK") -> OK | L13: 0 | M13: 0 | N13: 0 | O13: 0 | P13: 0 | Q13: 0 | R13: 0 | S13: 0 | T13: 0 | U13: 0 | V13: 0 | W13: 0
C14: 11 | D14: Camisete feminina, manga longa feminina, composição 50% algodão e 50% poliéster. Com a logomarca de 9x5cm bordada no peito, no lado esquerdo. Tamanho e cor a definir. | E14: Unidade | F14: K.B | G14: 339030-23 | H14: 50 | J14: =I14-(SUM(L14:W14)) -> 0 | K14: =IF(J14<0,"ATENÇÃO","OK") -> OK | L14: 0 | M14: 0 | N14: 0 | O14: 0 | P14: 0 | Q14: 0 | R14: 0 | S14: 0 | T14: 0 | U14: 0 | V14: 0 | W14: 0
C15: 12 | D15: Camisa social masculina, manga longa, cor a definir, composição 100% algodão egipcio. Com a logomarca de 9x5cm bordada no peito no lado esquerdo. Tamanho e cor a definir. | F15: K.B | G15: 339030-23 | H15: 52.6 | J15: =I15-(SUM(L15:W15)) -> 0 | K15: =IF(J15<0,"ATENÇÃO","OK") -> OK | L15: 0 | M15: 0 | N15: 0 | O15: 0 | P15: 0 | Q15: 0 | R15: 0 | S15: 0 | T15: 0 | U15: 0 | V15: 0 | W15: 0
A16: Jackson da Silva 03571984927 - ME | B16: 3 | C16: 13 | D16: Camiseta, 30x1 penteado, gola ombro a ombro, a gola da camiseta de possuir elastano, sendo reforçada na costura. A camiseta terá uma área reservada para serigrafia de até 28x21cm na frente e nas costas, podendo conter até 8 cores em cada lado. Tamanho, cor e logomarca a definir. | E16: Unidade | F16: Araçá | G16: 339030-23 | H16: 9.13 | I16: =2000+500 -> 2500 | J16: =I16-(SUM(L16:W16)) -> 890 | K16: =IF(J16<0,"ATENÇÃO","OK") -> OK | L16: 600 | M16: 800 | N16: 210 | O16: 0 | P16: 0 | Q16: 0 | R16: 0 | S16: 0 | T16: 0 | U16: 0 | V16: 0 | W16: 0
C17: 14 | D17: Camiseta gola polo, malha Piquet P.A. Bordado com logomarca no lado esquerdo do peito, de 9X5cm, e bordado com logomarca de 8X3cm na manga direita. Tamanho e cor a definir. | E17: Unidade | F17: Araçá | G17: 339030-23 | H17: 17 | I17: 150 | J17: =I17-(SUM(L17:W17)) -> 130 | K17: =IF(J17<0,"ATENÇÃO","OK") -> OK | L17: 0 | M17: 0 | N17: 20 | O17: 0 | P17: 0 | Q17: 0 | R17: 0 | S17: 0 | T17: 0 | U17: 0 | V17: 0 | W17: 0
A18: Jackson da Silva 03571984927 - ME | B18: 4 | C18: 15 | D18: GOLEIRA FEMININO FUTEBOL CAMPO, FUTSAL E HANDEBOL - CALÇA 100% POLIESTER DRYFIT - com espuma de proteção nos joelhos e na cintura. Número gravado na parte inferior direita da coxa, acima da proteção e na parte inferior. Tamanho e cor a definir. | E18: Unidade | F18: Araçá | G18: 339030-14 | H18: 25 | I18: 9 | J18: =I18-(SUM(L18:W18)) -> 9 | K18: =IF(J18<0,"ATENÇÃO","OK") -> OK | L18: 0 | M18: 0 | N18: 0 | O18: 0 | P18: 0 | Q18: 0 | R18: 0 | S18: 0 | T18: 0 | U18: 0 | V18: 0 | W18: 0
C19: 16 | D19: GOLEIRO MASCULINO FUTEBOL DE CAMPO, FUTSAL E HANDEBOL- CALÇA 100% POLIESTER DRYFIT . Com espuma de proteção nos joelhos e na cintura. Número gravado na parte inferior direita da coxa, acima da proteção e na parte inferior. Tamanho e cor a definir. | E19: Unidade | F19: Araçá | G19: 339030-14 | H19: 32 | I19: 9 | J19: =I19-(SUM(L19:W19)) -> 9 | K19: =IF(J19<0,"ATENÇÃO","OK") -> OK | L19: 0 | M19: 0 | N19: 0 | O19: 0 | P19: 0 | Q19: 0 | R19: 0 | S19: 0 | T19: 0 | U19: 0 | V19: 0 | W19: 0
C20: 17 | D20: GOLEIRA FEMININO FUTEBOL CAMPO, FUTSAL E HANDEBOL - CAMISA 100% POLIESTER DRYFIT - Camisa de goleira com espuma de proteção nos cotovelos, com números a definir, serigrafado atrás. As camisas possuem numeração nas costas (8X12cm) na parte central. Com logomarca acima do número (10X18cm). Abaixo do número nas costas deverá estar escrito o nome da modalidade(20x10cm). Na frente logomarca no centro da camisa. Tamanho e cor a definir. | E20: Unidade | F20: Araçá | G20: 339030-14 | H20: 22 | I20: 9 | J20: =I20-(SUM(L20:W20)) -> 9 | K20: =IF(J20<0,"ATENÇÃO","OK") -> OK | L20: 0 | M20: 0 | N20: 0 | O20: 0 | P20: 0 | Q20: 0 | R20: 0 | S20: 0 | T20: 0 | U20: 0 | V20: 0 | W20: 0
C21: 18 | D21: GOLEIRO MASCULINO FUTEBOL DE CAMPO, FUTSAL E HANDEBOL- CAMISA 100% POLIESTER DRYFIT. Com espuma de proteção nos cotovelos, com números a definir, serigrafado atrás. As camisas possuem numeração nas costas (8X12cm) na parte central.Com logomarca acima do número (10X18cm). Abaixo do número nas costas deverá estar escrito o nome da modalidade(20x10cm). Na frente logomarca no centro da camisa. Tamanho e cor a definir. | E21: Unidade | F21: Araçá | G21: 339030-14 | H21: 22 | I21: 9 | J21: =I21-(SUM(L21:W21)) -> 9 | K21: =IF(J21<0,"ATENÇÃO","OK") -> OK | L21: 0 | M21: 0 | N21: 0 | O21: 0 | P21: 0 | Q21: 0 | R21: 0 | S21: 0 | T21: 0 | U21: 0 | V21: 0 | W21: 0
C22: 19 | D22: HANDEBOL MASCULINO - CALÇÃO 100% POLIESTER DRYFIT. Cós com elástico e com cordão interno. Com numeração na parte frontal inferior esquerda e logomarca (7X11cm) na parte frontal inferior direita. Modalidade handebol gravada na parte inferior direita com dimensões aproximadas de 9X3cm. Logomarca gravada na parte posterior acima da linha glútea, tamanho aproximado 20x10cm. Tamanho, numeração e cor a definir. | E22: Unidade | F22: Araçá | G22: 339030-14 | H22: 14 | I22: 32 | J22: =I22-(SUM(L22:W22)) -> 0 | K22: =IF(J22<0,"ATENÇÃO","OK") -> OK | L22: 32 | M22: 0 | N22: 0 | O22: 0 | P22: 0 | Q22: 0 | R22: 0 | S22: 0 | T22: 0 | U22: 0 | V22: 0 | W22: 0
C23: 20 | D23: HANDEBOL FEMININO - CALÇÃO para handebol feminino, confeccionados em poliéster. Cós com elástico com cordão interno. Numeração na parte frontal inferior esquerda e o logomarca (7x11cm) na parte frontal inferior direita. Modalidade handebol gravada na parte inferior direita com dimensões aproximadas de 9X3cm. Logomarca gravada na parte posterior acima da linha glútea, tamanho aproximado 20x10cm. Tamanho e cor a definir. Estilo handebol. | E23: Unidade | F23: Araçá | G23: 339030-14 | H23: 14 | J23: =I23-(SUM(L23:W23)) -> 0 | K23: =IF(J23<0,"ATENÇÃO","OK") -> OK | L23: 0 | M23: 0 | N23: 0 | O23: 0 | P23: 0 | Q23: 0 | R23: 0 | S23: 0 | T23: 0 | U23: 0 | V23: 0 | W23: 0
C24: 21 | D24: HANDEBOL FEMININO - SHORT - 92% POLIESTER DRYFIT e 8% ELASTANO Com numeração na parte frontal inferior esquerda e o logomarca, 7X11cm, na parte frontal inferior direita. Modalidade handebol gravada na parte inferior direita com dimensões aproximadas de 9X3cm. Logomarca gravada na parte posterior acima da linha glútea, tamanho aproximado 20x10cm. Tamanho e cor a definir. | E24: Unidade | F24: Araçá | G24: 339030-14 | H24: 20 | I24: 32 | J24: =I24-(SUM(L24:W24)) -> 0 | K24: =IF(J24<0,"ATENÇÃO","OK") -> OK | L24: 32 | M24: 0 | N24: 0 | O24: 0 | P24: 0 | Q24: 0 | R24: 0 | S24: 0 | T24: 0 | U24: 0 | V24: 0 | W24: 0
C25: 22 | D25: HANDEBOL FEMININO - CAMISA - SEM MANGA 100% POLIESTER DRYFIT. Nas costas a logomarca (10X18cm) e a numeração (22cm). Logomarca na frente (10X18cm). Com tratamento antibactericida, permite transpiração. Manga com punhos em Rib (efeito canelado). Tamanho e cor a definir. | E25: Unidade | F25: Araçá | G25: 339030-14 | H25: 18 | I25: 32 | J25: =I25-(SUM(L25:W25)) -> 0 | K25: =IF(J25<0,"ATENÇÃO","OK") -> OK | L25: 32 | M25: 0 | N25: 0 | O25: 0 | P25: 0 | Q25: 0 | R25: 0 | S25: 0 | T25: 0 | U25: 0 | V25: 0 | W25: 0
C26: 23 | D26: HANDEBOL FEMININO - CAMISA - COM MANGA 100% POLIESTER DRYFIT. Nas costas a logomarca (10X18cm) e a numeração (22cm). Logomarca na frente (10X18cm). Com tratamento antibactericida, permite transpiração. Manga curta com punhos em Rib (efeito canelado). Tamanho e cor a definir. | E26: Unidade | F26: Araçá | G26: 339030-14 | H26: 28 | I26: 32 | J26: =I26-(SUM(L26:W26)) -> 0 | K26: =IF(J26<0,"ATENÇÃO","OK") -> OK | L26: 32 | M26: 0 | N26: 0 | O26: 0 | P26: 0 | Q26: 0 | R26: 0 | S26: 0 | T26: 0 | U26: 0 | V26: 0 | W26: 0
C27: 24 | D27: HANDEBOL MASCULINO - CAMISA - Manga curta 100% POLIESTER DRYFIT. Nas costas logomarca (10X18cm) e a numeração (22cm). Logomarca na frente (10X18cm). Com tratamento antibactericida, permite transpiração. Manga curta com punhos em Rib (efeito canelado). Tamanho e cor a definir. | E27: Unidade | F27: Araçá | G27: 339030-14 | H27: 28 | I27: 32 | J27: =I27-(SUM(L27:W27)) -> 32 | K27: =IF(J27<0,"ATENÇÃO","OK") -> OK | L27: 0 | M27: 0 | N27: 0 | O27: 0 | P27: 0 | Q27: 0 | R27: 0 | S27: 0 | T27: 0 | U27: 0 | V27: 0 | W27: 0
C28: 25 | D28: BASQUETE FEMININO - BERMUDA - 100% POLIESTER DRYFIT. Numeração gravada na parte inferior esquerda com dimensões aproximadas de 9X3cm. Modalidade basquete gravada na parte inferior direita com dimensões aproximadas de 9X3cm. Logomarca gravada na parte posterior acima da linha glútea, tamanho aproximado 20x10cm. Tamanho e cor a definir. | E28: Unidade | F28: Araçá | G28: 339030-14 | H28: 20 | I28: 24 | J28: =I28-(SUM(L28:W28)) -> 0 | K28: =IF(J28<0,"ATENÇÃO","OK") -> OK | L28: 24 | M28: 0 | N28: 0 | O28: 0 | P28: 0 | Q28: 0 | R28: 0 | S28: 0 | T28: 0 | U28: 0 | V28: 0 | W28: 0
C29: 26 | D29: BASQUETE MASCULINO - BERMUDA - 100% POLIESTER DRYFIT. Numerada na parte inferior esquerda com dimensões aproximadas de 9X3cm. Modalidade basquete gravada na parte inferior direita com dimensões aproximadas de 9X3cm. Logomarca na parte posterior acima da linha glútea, no tamanho aproximado 20x10cm. Tamanho e cor a definir. | E29: Unidade | F29: Araçá | G29: 339030-14 | H29: 20 | I29: 24 | J29: =I29-(SUM(L29:W29)) -> 0 | K29: =IF(J29<0,"ATENÇÃO","OK") -> OK | L29: 24 | M29: 0 | N29: 0 | O29: 0 | P29: 0 | Q29: 0 | R29: 0 | S29: 0 | T29: 0 | U29: 0 | V29: 0 | W29: 0
C30: 27 | D30: BASQUETE FEMININO - CAMISA - Sem manga 100% POLIESTER DRYFIT, numeração à definir, confeccionadas em poliéster 100% dryfit, com cor a definir. Nas costas: numeração (8X12cm) e logomarca a definir (10X18cm). Na frente: logomarca no centro da camisa (10X18cm). Tamanho e cor a definir. | E30: Unidade | F30: Araçá | G30: 339030-14 | H30: 18 | I30: 24 | J30: =I30-(SUM(L30:W30)) -> 0 | K30: =IF(J30<0,"ATENÇÃO","OK") -> OK | L30: 24 | M30: 0 | N30: 0 | O30: 0 | P30: 0 | Q30: 0 | R30: 0 | S30: 0 | T30: 0 | U30: 0 | V30: 0 | W30: 0
C31: 28 | D31: BASQUETE MASCULINO - CAMISA - Sem manga 100% POLIESTER DRYFIT, numeração à definir, com cor a definir. Nas costas: numeração (8X12cm) e logomarca a definir (10X18cm). Na frente: logomarca no centro da camisa (10X18cm). Tamanho e cor a definir. | E31: Unidade | F31: Araçá | G31: 339030-14 | H31: 20 | I31: 24 | J31: =I31-(SUM(L31:W31)) -> 0 | K31: =IF(J31<0,"ATENÇÃO","OK") -> OK | L31: 24 | M31: 0 | N31: 0 | O31: 0 | P31: 0 | Q31: 0 | R31: 0 | S31: 0 | T31: 0 | U31: 0 | V31: 0 | W31: 0
C32: 29 | D32: ATLETISMO - CALÇÃO UNISSEX- 92% POLIESTER DRYFIT e 8% ELASTANO. com logomarca na frente, nas dimensões aproximadas 6X10cm. Cós com elástico e cordão para ajuste. Estilo Running, dryfit. Tamanho e cor a definir. | E32: Unidade | F32: Araçá | G32: 339030-14 | H32: 18 | I32: 30 | J32: =I32-(SUM(L32:W32)) -> 0 | K32: =IF(J32<0,"ATENÇÃO","OK") -> OK | L32: 30 | M32: 0 | N32: 0 | O32: 0 | P32: 0 | Q32: 0 | R32: 0 | S32: 0 | T32: 0 | U32: 0 | V32: 0 | W32: 0
C33: 30 | D33: ATLETISMO FEMININO - REGATA - 92% POLIESTER DRYFIT e 8% ELASTANO, estilo Running. Com logomarca nas costas, 8X15cm, escrito a palavra atletismo (27X9cm) e logomarca na frente (8x15cm). Tamanho e cor a definir. | E33: Unidade | F33: Araçá | G33: 339030-14 | H33: 18 | I33: 15 | J33: =I33-(SUM(L33:W33)) -> 0 | K33: =IF(J33<0,"ATENÇÃO","OK") -> OK | L33: 15 | M33: 0 | N33: 0 | O33: 0 | P33: 0 | Q33: 0 | R33: 0 | S33: 0 | T33: 0 | U33: 0 | V33: 0 | W33: 0
C34: 31 | D34: ATLETISMO MASCULINO - REGATA - 92% POLIESTER DRYFIT e 8% ELASTANO, estilo Running. Com logomarca nas costas, 8X15cm, escrito a palavra atletismo (27X9cm) e logomarca na frente (8X15cm). Tamanho e cor a definir. | E34: Unidade | F34: Araçá | G34: 339030-14 | H34: 18 | I34: 15 | J34: =I34-(SUM(L34:W34)) -> 0 | K34: =IF(J34<0,"ATENÇÃO","OK") -> OK | L34: 15 | M34: 0 | N34: 0 | O34: 0 | P34: 0 | Q34: 0 | R34: 0 | S34: 0 | T34: 0 | U34: 0 | V34: 0 | W34: 0
C35: 32 | D35: FUTEBOL MASCULINO - CALÇÃO - 100% POLIESTER DRYFIT, com numeração na parte frontal inferior esquerda e logomarca (7x11cm) na parte frontal inferior direita. Cós com elástico e cordão interno. Tamanho e cor a definir. | E35: Unidade | F35: Araçá | G35: 339030-14 | H35: 15 | I35: 40 | J35: =I35-(SUM(L35:W35)) -> 0 | K35: =IF(J35<0,"ATENÇÃO","OK") -> OK | L35: 40 | M35: 0 | N35: 0 | O35: 0 | P35: 0 | Q35: 0 | R35: 0 | S35: 0 | T35: 0 | U35: 0 | V35: 0 | W35: 0
... C37: 34 | D37: FUTEBOL FEMININO - CAMISA - 92% POLIESTER DRYFIT e 8% ELASTANO. Manga curta com punhos em Rib (efeito canelado),com tratamento antibactericida, permite transpiração. Nas costas: numeração (22cm), logomarca (10X18cm) e o nome da modalidade (20x10cm). Na frente logomarca (10X18cm). Tamanho e cor a definir. | E37: Unidade | F37: Araçá | G37: 339030-14 | H37: 30 | I37: 40 | J37: =I37-(SUM(L37:W37)) -> 0 | K37: =IF(J37<0,"ATENÇÃO","OK") -> OK | L37: 40 | M37: 0 | N37: 0 | O37: 0 | P37: 0 | Q37: 0 | R37: 0 | S37: 0 | T37: 0 | U37: 0 | V37: 0 | W37: 0
C38: 35 | D38: FUTEBOL FEMININO - CALÇÃO - 100% POLIESTER DRYFIT, com numeração na parte frontal inferior esquerda e logomarca (7x11cm) na parte frontal inferior direita. Cós com elástico e cordão | F38: Araçá | G38: 339030-14 | H38: 15 | I38: 40 | J38: =I38-(SUM(L38:W38)) -> 0 | K38: =IF(J38<0,"ATENÇÃO","OK") -> OK | L38: 40 | M38: 0 | N38: 0 | O38: 0 | P38: 0 | Q38: 0 | R38: 0 | S38: 0 | T38: 0 | U38: 0 | V38: 0 | W38: 0
C39: 36 | D39: FUTEBOL - MEIÃO UNISSEX - liso sem detalhes. Tamanho a definir. Cor a definir. | E39: Par | F39: Araçá | G39: 339030-14 | H39: 7 | I39: 80 | J39: =I39-(SUM(L39:W39)) -> 0 | K39: =IF(J39<0,"ATENÇÃO","OK") -> OK | L39: 80 | M39: 0 | N39: 0 | O39: 0 | P39: 0 | Q39: 0 | R39: 0 | S39: 0 | T39: 0 | U39: 0 | V39: 0 | W39: 0
C40: 37 | D40: FUTSAL MASCULINO - CAMISA - 100% POLIESTER DRYFIT. Manga curta. Nas costas: numeração (22cm), logomarca (10X18cm) e o nome da modalidade (20x10cm). Na frente logomarca (10X18cm). Com tratamento antibactericida, permite transpiração. Manga curta com punhos em Rib (efeito canelado). Tamanho e cor a definir. | E40: Unidade | F40: Araçá | G40: 339030-14 | H40: 30 | I40: 24 | J40: =I40-(SUM(L40:W40)) -> 0 | K40: =IF(J40<0,"ATENÇÃO","OK") -> OK | L40: 24 | M40: 0 | N40: 0 | O40: 0 | P40: 0 | Q40: 0 | R40: 0 | S40: 0 | T40: 0 | U40: 0 | V40: 0 | W40: 0
C41: 38 | D41: FUTSAL MASCULINO - CALÇÃO - 100% POLIESTER DRYFIT, com numeração na parte frontal inferior esquerda e logomarca (7x11cm) na parte frontal inferior direita. Cós com elástico e cordão interno. Tamanho e cor a definir. | E41: Unidade | F41: Araçá | G41: 339030-14 | H41: 15 | I41: 24 | J41: =I41-(SUM(L41:W41)) -> 0 | K41: =IF(J41<0,"ATENÇÃO","OK") -> OK | L41: 24 | M41: 0 | N41: 0 | O41: 0 | P41: 0 | Q41: 0 | R41: 0 | S41: 0 | T41: 0 | U41: 0 | V41: 0 | W41: 0
...

Sheet REITORIA_COVEST
A1: PROCESSO: 0502/2015/UDESC | D1: OBJETO: Aquisição de Rouparia para a UDESC | I1: VIGÊNCIA DA ATA: 14/07/2015 até 13/07/2016 | L1: AF/OS nº xxxx/2015 Qtde. DT | M1: AF/OS nº xxxx/2015 Qtde. DT | N1: AF/OS nº xxxx/2015 Qtde. DT | O1: AF/OS nº xxxx/2015 Qtde. DT | P1: AF/OS nº xxxx/2015 Qtde. DT | Q1: AF/OS nº xxxx/2015 Qtde. DT | R1: AF/OS nº xxxx/2015 Qtde. DT | S1: AF/OS nº xxxx/2015 Qtde. DT | T1: AF/OS nº xxxx/2015 Qtde. DT | U1: AF/OS nº xxxx/2015 Qtde. DT | V1: AF/OS nº xxxx/2015 Qtde. DT | W1: AF/OS nº xxxx/2015 Qtde. DT
A2: CENTRO PARTICIPANTE: Reitoria/COVEST
A3: FORNECEDOR | B3: LOTE | C3: ITEM | D3: PRODUTO - CARACTERÍSTICAS MÍNIMAS | E3: UNIDADE | F3: MARCA | G3: DETALHAMENTO | H3: Preço UNITÁRIO (R$) | I3: Qtde Registrada | J3: Saldo / Automático | K3: ALERTA | L3: ...../...../...... | M3: ...../...../...... | N3: ...../...../...... | O3: ...../...../...... | P3: ...../...../...... | Q3: ...../...../...... | R3: ...../...../...... | S3: ...../...../...... | T3: ...../...../...... | U3: ...../...../...... | V3: ...../...../...... | W3: ...../...../......
A4: Tracton Indústria e Comércio LTDA - EPP | B4: 1 | C4: 1 | D4: Fronha de tecido cretone, 100% algodão, dimensões aproximadas de 0,50cm de largura e 0,60cm de comprimento, com logomarca a ser definida impressa no centro com as dimensões de 14x13cm aproximadamente. Cor a definir. | E4: Unidade | F4: Tracton | G4: 339030-20 | H4: 25 | J4: =I4-(SUM(L4:W4)) -> 0 | K4: =IF(J4<0,"ATENÇÃO","OK") -> OK | L4: 0 | M4: 0 | N4: 0 | O4: 0 | P4: 0 | Q4: 0 | R4: 0 | S4: 0 | T4: 0 | U4: 0 | V4: 0 | W4: 0
C5: 2 | D5: Lençol de tecido, com elástico, 100% algodão, dimensões aproximadas: 1,30m de largura e 2m de comprimento. Logomarca a ser definida impressa no centro, dimensões de 14x13cm aproximadamente. | E5: Unidade | F5: Tracton | G5: 339030-20 | H5: 50 | J5: =I5-(SUM(L5:W5)) -> 0 | K5: =IF(J5<0,"ATENÇÃO","OK") -> OK | L5: 0 | M5: 0 | N5: 0 | O5: 0 | P5: 0 | Q5: 0 | R5: 0 | S5: 0 | T5: 0 | U5: 0 | V5: 0 | W5: 0
C6: 3 | D6: Lençol de tecido, sem elástico, 100% algodão, dimensões aproximadas: 1,30m de largura e 2m de comprimento, com logomarca a ser definida impressa no centro, com 14x13cm aproximadamente. | E6: Unidade | F6: Tracton | G6: 339030-20 | H6: 50 | J6: =I6-(SUM(L6:W6)) -> 0 | K6: =IF(J6<0,"ATENÇÃO","OK") -> OK | L6: 0 | M6: 0 | N6: 0 | O6: 0 | P6: 0 | Q6: 0 | R6: 0 | S6: 0 | T6: 0 | U6: 0 | V6: 0 | W6: 0
C7: 4 | D7: Toalha de mesa, de cetim, medindo aproximadamente 1,20m x60cm. Com logomarca bordada no centro da toalha, tamanho mínimo 30cm x 30 cm. Cor a definir. | E7: Unidade | F7: Tracton | G7: 339030-20 | H7: 61 | J7: =I7-(SUM(L7:W7)) -> 0 | K7: =IF(J7<0,"ATENÇÃO","OK") -> OK | L7: 0 | M7: 0 | N7: 0 | O7: 0 | P7: 0 | Q7: 0 | R7: 0 | S7: 0 | T7: 0 | U7: 0 | V7: 0 | W7: 0
C8: 5 | D8: Toalha de mesa retangular, medindo aproximadamente 1,60mX2,70m. Composição 53% algodão, 47% poliéster. Cor a definir. | E8: Unidade | F8: Tracton | G8: 339030-20 | H8: 89 | J8: =I8-(SUM(L8:W8)) -> 0 | K8: =IF(J8<0,"ATENÇÃO","OK") -> OK | L8: 0 | M8: 0 | N8: 0 | O8: 0 | P8: 0 | Q8: 0 | R8: 0 | S8: 0 | T8: 0 | U8: 0 | V8: 0 | W8: 0
C9: 6 | D9: Toalha de banho, dupla face, em tecido 100% algodão, cor da definir, pré-lavada e pré-encolhida, gramatura de no mínimo 500gr/m², medindo no mínimo 70cm x 1,40m. Logomarca a ser definida e impressa em uma das pontas nas dimensões de 14x13cm aproximadamente. | E9: Unidade | F9: Tracton | G9: 339030-20 | H9: 30 | J9: =I9-(SUM(L9:W9)) -> 0 | K9: =IF(J9<0,"ATENÇÃO","OK") -> OK | L9: 0 | M9: 0 | N9: 0 | O9: 0 | P9: 0 | Q9: 0 | R9: 0 | S9: 0 | T9: 0 | U9: 0 | V9: 0 | W9: 0
C10: 7 | D10: Toalha de rosto, dupla face, em tecido 100% algodão, cor da definir, pré-lavada e pré-encolhida, gramatura de no mínimo 500gr/m², medindo no mínimo 45x75cm. Logomarca a ser definida e impressa em uma das pontas nas dimensões de 14x13cm aproximadamente. | E10: Unidade | F10: Tracton | G10: 339030-20 | H10: 20 | J10: =I10-(SUM(L10:W10)) -> 0 | K10: =IF(J10<0,"ATENÇÃO","OK") -> OK | L10: 0 | M10: 0 | N10: 0 | O10: 0 | P10: 0 | Q10: 0 | R10: 0 | S10: 0 | T10: 0 | U10: 0 | V10: 0 | W10: 0
C11: 8 | D11: Toalha de mesa redonda, medindo aproximadamente 178cm diâmetro, composição 59% algodão e 41% poliéster, cor a definir. | E11: Unidade | F11: Tracton | G11: 339030-20 | H11: 60 | J11: =I11-(SUM(L11:W11)) -> 0 | K11: =IF(J11<0,"ATENÇÃO","OK") -> OK | L11: 0 | M11: 0 | N11: 0 | O11: 0 | P11: 0 | Q11: 0 | R11: 0 | S11: 0 | T11: 0 | U11: 0 | V11: 0 | W11: 0
C12: 9 | D12: Toalha de mesa retangular, medindo aproximadamente 7mx2,20m. Composição 53% algodão, 47% poliéster, com protetor de tecido. Cor a definir. | E12: Unidade | F12: Tracton | G12: 339030-20 | H12: 97.5 | J12: =I12-(SUM(L12:W12)) -> 0 | K12: =IF(J12<0,"ATENÇÃO","OK") -> OK | L12: 0 | M12: 0 | N12: 0 | O12: 0 | P12: 0 | Q12: 0 | R12: 0 | S12: 0 | T12: 0 | U12: 0 | V12: 0 | W12: 0
A13: ADBX Comércio de Serviços LTDA - ME | B13: 2 | C13: 10 | D13: Camisa social masculina, manga longa, cor a definir, composição 50% algodão e 50% poliéster. Com a logomarca de 9x5cm bordada no peito no lado esquerdo. Tamanho e cor a definir. | E13: Unidade | F13: K.B | G13: 339030-23 | H13: 48 | J13: =I13-(SUM(L13:W13)) -> 0 | K13: =IF(J13<0,"ATENÇÃO","OK") -> OK | L13: 0 | M13: 0 | N13: 0 | O13: 0 | P13: 0 | Q13: 0 | R13: 0 | S13: 0 | T13: 0 | U13: 0 | V13: 0 | W13: 0
C14: 11 | D14: Camisete feminina, manga longa feminina, composição 50% algodão e 50% poliéster. Com a logomarca de 9x5cm bordada no peito, no lado esquerdo. Tamanho e cor a definir. | E14: Unidade | F14: K.B | G14: 339030-23 | H14: 50 | J14: =I14-(SUM(L14:W14)) -> 0 | K14: =IF(J14<0,"ATENÇÃO","OK") -> OK | L14: 0 | M14: 0 | N14: 0 | O14: 0 | P14: 0 | Q14: 0 | R14: 0 | S14: 0 | T14: 0 | U14: 0 | V14: 0 | W14: 0
C15: 12 | D15: Camisa social masculina, manga longa, cor a definir, composição 100% algodão egipcio. Com a logomarca de 9x5cm bordada no peito no lado esquerdo. Tamanho e cor a definir. | F15: K.B | G15: 339030-23 | H15: 52.6 | J15: =I15-(SUM(L15:W15)) -> 0 | K15: =IF(J15<0,"ATENÇÃO","OK") -> OK | L15: 0 | M15: 0 | N15: 0 | O15: 0 | P15: 0 | Q15: 0 | R15: 0 | S15: 0 | T15: 0 | U15: 0 | V15: 0 | W15: 0
A16: Jackson da Silva 03571984927 - ME | B16: 3 | C16: 13 | D16: Camiseta, 30x1 penteado, gola ombro a ombro, a gola da camiseta de possuir elastano, sendo reforçada na costura. A camiseta terá uma área reservada para serigrafia de até 28x21cm na frente e nas costas, podendo conter até 8 cores em cada lado. Tamanho, cor e logomarca a definir. | E16: Unidade | F16: Araçá | G16: 339030-23 | H16: 9.13 | J16: =I16-(SUM(L16:W16)) -> 0 | K16: =IF(J16<0,"ATENÇÃO","OK") -> OK | L16: 0 | M16: 0 | N16: 0 | O16: 0 | P16: 0 | Q16: 0 | R16: 0 | S16: 0 | T16: 0 | U16: 0 | V16: 0 | W16: 0
C17: 14 | D17: Camiseta gola polo, malha Piquet P.A. Bordado com logomarca no lado esquerdo do peito, de 9X5cm, e bordado com logomarca de 8X3cm na manga direita. Tamanho e cor a definir. | E17: Unidade | F17: Araçá | G17: 339030-23 | H17: 17 | J17: =I17-(SUM(L17:W17)) -> 0 | K17: =IF(J17<0,"ATENÇÃO","OK") -> OK | L17: 0 | M17: 0 | N17: 0 | O17: 0 | P17: 0 | Q17: 0 | R17: 0 | S17: 0 | T17: 0 | U17: 0 | V17: 0 | W17: 0
A18: Jackson da Silva 03571984927 - ME | B18: 4 | C18: 15 | D18: GOLEIRA FEMININO FUTEBOL CAMPO, FUTSAL E HANDEBOL - CALÇA 100% POLIESTER DRYFIT - com espuma de proteção nos joelhos e na cintura. Número gravado na parte inferior direita da coxa, acima da proteção e na parte inferior. Tamanho e cor a definir. | E18: Unidade | F18: Araçá | G18: 339030-14 | H18: 25 | J18: =I18-(SUM(L18:W18)) -> 0 | K18: =IF(J18<0,"ATENÇÃO","OK") -> OK | L18: 0 | M18: 0 | N18: 0 | O18: 0 | P18: 0 | Q18: 0 | R18: 0 | S18: 0 | T18: 0 | U18: 0 | V18: 0 | W18: 0
C19: 16 | D19: GOLEIRO MASCULINO FUTEBOL DE CAMPO, FUTSAL E HANDEBOL- CALÇA 100% POLIESTER DRYFIT . Com espuma de proteção nos joelhos e na cintura. Número gravado na parte inferior direita da coxa, acima da proteção e na parte inferior. Tamanho e cor a definir. | E19: Unidade | F19: Araçá | G19: 339030-14 | H19: 32 | J19: =I19-(SUM(L19:W19)) -> 0 | K19: =IF(J19<0,"ATENÇÃO","OK") -> OK | L19: 0 | M19: 0 | N19: 0 | O19: 0 | P19: 0 | Q19: 0 | R19: 0 | S19: 0 | T19: 0 | U19: 0 | V19: 0 | W19: 0
C20: 17 | D20: GOLEIRA FEMININO FUTEBOL CAMPO, FUTSAL E HANDEBOL - CAMISA 100% POLIESTER DRYFIT - Camisa de goleira com espuma de proteção nos cotovelos, com números a definir, serigrafado atrás. As camisas possuem numeração nas costas (8X12cm) na parte central. Com logomarca acima do número (10X18cm). Abaixo do número nas costas deverá estar escrito o nome da modalidade(20x10cm). Na frente logomarca no centro da camisa. Tamanho e cor a definir. | E20: Unidade | F20: Araçá | G20: 339030-14 | H20: 22 | J20: =I20-(SUM(L20:W20)) -> 0 | K20: =IF(J20<0,"ATENÇÃO","OK") -> OK | L20: 0 | M20: 0 | N20: 0 | O20: 0 | P20: 0 | Q20: 0 | R20: 0 | S20: 0 | T20: 0 | U20: 0 | V20: 0 | W20: 0
C21: 18 | D21: GOLEIRO MASCULINO FUTEBOL DE CAMPO, FUTSAL E HANDEBOL- CAMISA 100% POLIESTER DRYFIT. Com espuma de proteção nos cotovelos, com números a definir, serigrafado atrás. As camisas possuem numeração nas costas (8X12cm) na parte central.Com logomarca acima do número (10X18cm). Abaixo do número nas costas deverá estar escrito o nome da modalidade(20x10cm). Na frente logomarca no centro da camisa. Tamanho e cor a definir. | E21: Unidade | F21: Araçá | G21: 339030-14 | H21: 22 | J21: =I21-(SUM(L21:W21)) -> 0 | K21: =IF(J21<0,"ATENÇÃO","OK") -> OK | L21: 0 | M21: 0 | N21: 0 | O21: 0 | P21: 0 | Q21: 0 | R21: 0 | S21: 0 | T21: 0 | U21: 0 | V21: 0 | W21: 0
C22: 19 | D22: HANDEBOL MASCULINO - CALÇÃO 100% POLIESTER DRYFIT. Cós com elástico e com cordão interno. Com numeração na parte frontal inferior esquerda e logomarca (7X11cm) na parte frontal inferior direita. Modalidade handebol gravada na parte inferior direita com dimensões aproximadas de 9X3cm. Logomarca gravada na parte posterior acima da linha glútea, tamanho aproximado 20x10cm. Tamanho, numeração e cor a definir. | E22: Unidade | F22: Araçá | G22: 339030-14 | H22: 14 | J22: =I22-(SUM(L22:W22)) -> 0 | K22: =IF(J22<0,"ATENÇÃO","OK") -> OK | L22: 0 | M22: 0 | N22: 0 | O22: 0 | P22: 0 | Q22: 0 | R22: 0 | S22: 0 | T22: 0 | U22: 0 | V22: 0 | W22: 0
C23: 20 | D23: HANDEBOL FEMININO - CALÇÃO para handebol feminino, confeccionados em poliéster. Cós com elástico com cordão interno. Numeração na parte frontal inferior esquerda e o logomarca (7x11cm) na parte frontal inferior direita. Modalidade handebol gravada na parte inferior direita com dimensões aproximadas de 9X3cm. Logomarca gravada na parte posterior acima da linha glútea, tamanho aproximado 20x10cm. Tamanho e cor a definir. Estilo handebol. | E23: Unidade | F23: Araçá | G23: 339030-14 | H23: 14 | J23: =I23-(SUM(L23:W23)) -> 0 | K23: =IF(J23<0,"ATENÇÃO","OK") -> OK | L23: 0 | M23: 0 | N23: 0 | O23: 0 | P23: 0 | Q23: 0 | R23: 0 | S23: 0 | T23: 0 | U23: 0 | V23: 0 | W23: 0
C24: 21 | D24: HANDEBOL FEMININO - SHORT - 92% POLIESTER DRYFIT e 8% ELASTANO Com numeração na parte frontal inferior esquerda e o logomarca, 7X11cm, na parte frontal inferior direita. Modalidade handebol gravada na parte inferior direita com dimensões aproximadas de 9X3cm. Logomarca gravada na parte posterior acima da linha glútea, tamanho aproximado 20x10cm. Tamanho e cor a definir. | E24: Unidade | F24: Araçá | G24: 339030-14 | H24: 20 | J24: =I24-(SUM(L24:W24)) -> 0 | K24: =IF(J24<0,"ATENÇÃO","OK") -> OK | L24: 0 | M24: 0 | N24: 0 | O24: 0 | P24: 0 | Q24: 0 | R24: 0 | S24: 0 | T24: 0 | U24: 0 | V24: 0 | W24: 0
C25: 22 | D25: HANDEBOL FEMININO - CAMISA - SEM MANGA 100% POLIESTER DRYFIT. Nas costas a logomarca (10X18cm) e a numeração (22cm). Logomarca na frente (10X18cm). Com tratamento antibactericida, permite transpiração. Manga com punhos em Rib (efeito canelado). Tamanho e cor a definir. | E25: Unidade | F25: Araçá | G25: 339030-14 | H25: 18 | J25: =I25-(SUM(L25:W25)) -> 0 | K25: =IF(J25<0,"ATENÇÃO","OK") -> OK | L25: 0 | M25: 0 | N25: 0 | O25: 0 | P25: 0 | Q25: 0 | R25: 0 | S25: 0 | T25: 0 | U25: 0 | V25: 0 | W25: 0
C26: 23 | D26: HANDEBOL FEMININO - CAMISA - COM MANGA 100% POLIESTER DRYFIT. Nas costas a logomarca (10X18cm) e a numeração (22cm). Logomarca na frente (10X18cm). Com tratamento antibactericida, permite transpiração. Manga curta com punhos em Rib (efeito canelado). Tamanho e cor a definir. | E26: Unidade | F26: Araçá | G26: 339030-14 | H26: 28 | J26: =I26-(SUM(L26:W26)) -> 0 | K26: =IF(J26<0,"ATENÇÃO","OK") -> OK | L26: 0 | M26: 0 | N26: 0 | O26: 0 | P26: 0 | Q26: 0 | R26: 0 | S26: 0 | T26: 0 | U26: 0 | V26: 0 | W26: 0
C27: 24 | D27: HANDEBOL MASCULINO - CAMISA - Manga curta 100% POLIESTER DRYFIT. Nas costas logomarca (10X18cm) e a numeração (22cm). Logomarca na frente (10X18cm). Com tratamento antibactericida, permite transpiração. Manga curta com punhos em Rib (efeito canelado). Tamanho e cor a definir. | E27: Unidade | F27: Araçá | G27: 339030-14 | H27: 28 | J27: =I27-(SUM(L27:W27)) -> 0 | K27: =IF(J27<0,"ATENÇÃO","OK") -> OK | L27: 0 | M27: 0 | N27: 0 | O27: 0 | P27: 0 | Q27: 0 | R27: 0 | S27: 0 | T27: 0 | U27: 0 | V27: 0 | W27: 0
C28: 25 | D28: BASQUETE FEMININO - BERMUDA - 100% POLIESTER DRYFIT. Numeração gravada na parte inferior esquerda com dimensões aproximadas de 9X3cm. Modalidade basquete gravada na parte inferior direita com dimensões aproximadas de 9X3cm. Logomarca gravada na parte posterior acima da linha glútea, tamanho aproximado 20x10cm. Tamanho e cor a definir. | E28: Unidade | F28: Araçá | G28: 339030-14 | H28: 20 | J28: =I28-(SUM(L28:W28)) -> 0 | K28: =IF(J28<0,"ATENÇÃO","OK") -> OK | L28: 0 | M28: 0 | N28: 0 | O28: 0 | P28: 0 | Q28: 0 | R28: 0 | S28: 0 | T28: 0 | U28: 0 | V28: 0 | W28: 0
C29: 26 | D29: BASQUETE MASCULINO - BERMUDA - 100% POLIESTER DRYFIT. Numerada na parte inferior esquerda com dimensões aproximadas de 9X3cm. Modalidade basquete gravada na parte inferior direita com dimensões aproximadas de 9X3cm. Logomarca na parte posterior acima da linha glútea, no tamanho aproximado 20x10cm. Tamanho e cor a definir. | E29: Unidade | F29: Araçá | G29: 339030-14 | H29: 20 | J29: =I29-(SUM(L29:W29)) -> 0 | K29: =IF(J29<0,"ATENÇÃO","OK") -> OK | L29: 0 | M29: 0 | N29: 0 | O29: 0 | P29: 0 | Q29: 0 | R29: 0 | S29: 0 | T29: 0 | U29: 0 | V29: 0 | W29: 0
C30: 27 | D30: BASQUETE FEMININO - CAMISA - Sem manga 100% POLIESTER DRYFIT, numeração à definir, confeccionadas em poliéster 100% dryfit, com cor a definir. Nas costas: numeração (8X12cm) e logomarca a definir (10X18cm). Na frente: logomarca no centro da camisa (10X18cm). Tamanho e cor a definir. | E30: Unidade | F30: Araçá | G30: 339030-14 | H30: 18 | J30: =I30-(SUM(L30:W30)) -> 0 | K30: =IF(J30<0,"ATENÇÃO","OK") -> OK | L30: 0 | M30: 0 | N30: 0 | O30: 0 | P30: 0 | Q30: 0 | R30: 0 | S30: 0 | T30: 0 | U30: 0 | V30: 0 | W30: 0
... C37: 34 | D37: FUTEBOL FEMININO - CAMISA - 92% POLIESTER DRYFIT e 8% ELASTANO. Manga curta com punhos em Rib (efeito canelado),com tratamento antibactericida, permite transpiração. Nas costas: numeração (22cm), logomarca (10X18cm) e o nome da modalidade (20x10cm). Na frente logomarca (10X18cm). Tamanho e cor a definir. | E37: Unidade | F37: Araçá | G37: 339030-14 | H37: 30 | J37: =I37-(SUM(L37:W37)) -> 0 | K37: =IF(J37<0,"ATENÇÃO","OK") -> OK | L37: 0 | M37: 0 | N37: 0 | O37: 0 | P37: 0 | Q37: 0 | R37: 0 | S37: 0 | T37: 0 | U37: 0 | V37: 0 | W37: 0
C38: 35 | D38: FUTEBOL FEMININO - CALÇÃO - 100% POLIESTER DRYFIT, com numeração na parte frontal inferior esquerda e logomarca (7x11cm) na parte frontal inferior direita. Cós com elástico e cordão | F38: Araçá | G38: 339030-14 | H38: 15 | J38: =I38-(SUM(L38:W38)) -> 0 | K38: =IF(J38<0,"ATENÇÃO","OK") -> OK | L38: 0 | M38: 0 | N38: 0 | O38: 0 | P38: 0 | Q38: 0 | R38: 0 | S38: 0 | T38: 0 | U38: 0 | V38: 0 | W38: 0
C39: 36 | D39: FUTEBOL - MEIÃO UNISSEX - liso sem detalhes. Tamanho a definir. Cor a definir. | E39: Par | F39: Araçá | G39: 339030-14 | H39: 7 | J39: =I39-(SUM(L39:W39)) -> 0 | K39: =IF(J39<0,"ATENÇÃO","OK") -> OK | L39: 0 | M39: 0 | N39: 0 | O39: 0 | P39: 0 | Q39: 0 | R39: 0 | S39: 0 | T39: 0 | U39: 0 | V39: 0 | W39: 0
C40: 37 | D40: FUTSAL MASCULINO - CAMISA - 100% POLIESTER DRYFIT. Manga curta. Nas costas: numeração (22cm), logomarca (10X18cm) e o nome da modalidade (20x10cm). Na frente logomarca (10X18cm). Com tratamento antibactericida, permite transpiração. Manga curta com punhos em Rib (efeito canelado). Tamanho e cor a definir. | E40: Unidade | F40: Araçá | G40: 339030-14 | H40: 30 | J40: =I40-(SUM(L40:W40)) -> 0 | K40: =IF(J40<0,"ATENÇÃO","OK") -> OK | L40: 0 | M40: 0 | N40: 0 | O40: 0 | P40: 0 | Q40: 0 | R40: 0 | S40: 0 | T40: 0 | U40: 0 | V40: 0 | W40: 0
C41: 38 | D41: FUTSAL MASCULINO - CALÇÃO - 100% POLIESTER DRYFIT, com numeração na parte frontal inferior esquerda e logomarca (7x11cm) na parte frontal inferior direita. Cós com elástico e cordão interno. Tamanho e cor a definir. | E41: Unidade | F41: Araçá | G41: 339030-14 | H41: 15 | J41: =I41-(SUM(L41:W41)) -> 0 | K41: =IF(J41<0,"ATENÇÃO","OK") -> OK | L41: 0 | M41: 0 | N41: 0 | O41: 0 | P41: 0 | Q41: 0 | R41: 0 | S41: 0 | T41: 0 | U41: 0 | V41: 0 | W41: 0
C42: 39 | D42: FUTSAL FEMININO - CAMISA - Sem manga, 100% POLIESTER DRYFIT. Na frente: logomarca no centro da camisa (10X18cm). Nas costas: numeração na parte central (8X1cm2), logomarca (10X18cm) e o nome da modalidade 20x10cm. Tamanho e cor a definir. | E42: Unidade | F42: Araçá | G42: 339030-14 | H42: 17 | J42: =I42-(SUM(L42:W42)) -> 0 | K42: =IF(J42<0,"ATENÇÃO","OK") -> OK | L42: 0 | M42: 0 | N42: 0 | O42: 0 | P42: 0 | Q42: 0 | R42: 0 | S42: 0 | T42: 0 | U42: 0 | V42: 0 | W42: 0
C43: 40 | D43: FUTSAL FEMININO - CALÇÃO - 100% POLIESTER DRYFIT . Cós com elástico com cordão interno. Numeração na parte frontal inferior esquerda e o logomarca (7x11cm) na parte frontal inferior direita. Modalidade Futebol gravada na parte inferior direita com dimensões aproximadas de 9X3cm. Logomarca gravada na parte posterior acima da linha glútea, tamanho aproximado 20x10cm. Tamanho e cor a definir. | E43: Unidade | F43: Araçá | G43: 339030-14 | H43: 15 | J43: =I43-(SUM(L43:W43)) -> 0 | K43: =IF(J43<0,"ATENÇÃO","OK") -> OK | L43: 0 | M43: 0 | N43: 0 | O43: 0 | P43: 0 | Q43: 0 | R43: 0 | S43: 0 | T43: 0 | U43: 0 | V43: 0 | W43: 0
C44: 41 | D44: VOLEIBOL FEMININO - CAMISA sem manga, confeccionadas em poliéster 100% dryfit. Na frente: logomarca no centro da camisa (10X18cm). Nas costas: numeração na parte central (8X1cm2), logomarca (10X18cm) e o nome da modalidade 20x10cm. Tamanho e cor a definir. | E44: Unidade | F44: Araçá | G44: 339030-14 | H44: 17 | J44: =I44-(SUM(L44:W44)) -> 0 | K44: =IF(J44<0,"ATENÇÃO","OK") -> OK | L44: 0 | M44: 0 | N44: 0 | O44: 0 | P44: 0 | Q44: 0 | R44: 0 | S44: 0 | T44: 0 | U44: 0 | V44: 0 | W44: 0
C45: 42 | D45: VOLEIBOL FEMININO - CAMISA com manga, confeccionadas em poliéster 100% dryfit. Na frente: logomarca no centro da camisa (10X18cm). Nas costas: numeração na parte central (8X1cm2), logomarca (10X18cm) e o nome da modalidade 20x10cm. Tamanho e cor a definir. | E45: Unidade | F45: Araçá | G45: 339030-14 | H45: 30 | J45: =I45-(SUM(L45:W45)) -> 0 | K45: =IF(J45<0,"ATENÇÃO","OK") -> OK | L45: 0 | M45: 0 | N45: 0 | O45: 0 | P45: 0 | Q45: 0 | R45: 0 | S45: 0 | T45: 0 | U45: 0 | V45: 0 | W45: 0
C46: 43 | D46: VOLEIBOL FEMININO - SHORT - confeccionados em 90% poliéster 10% elastano, numeradas na parte inferior direita. E na parte inferior esquerda a logomarca e o nome do centro. Tamanho e cor a definir. | E46: Unidade | F46: Araçá | G46: 339030-14 | H46: 20 | J46: =I46-(SUM(L46:W46)) -> 0 | K46: =IF(J46<0,"ATENÇÃO","OK") -> OK | L46: 0 | M46: 0 | N46: 0 | O46: 0 | P46: 0 | Q46: 0 | R46: 0 | S46: 0 | T46: 0 | U46: 0 | V46: 0 | W46: 0
...

Sheet ESAG
A1: PROCESSO: 0502/2015/UDESC | D1: OBJETO: Aquisição de Rouparia para a UDESC | I1: VIGÊNCIA DA ATA: 14/07/2015 até 13/07/2016 | L1: AF/OS nº xxxx/2015 Qtde. DT | M1: AF/OS nº xxxx/2015 Qtde. DT | N1: AF/OS nº xxxx/2015 Qtde. DT | O1: AF/OS nº xxxx/2015 Qtde. DT | P1: AF/OS nº xxxx/2015 Qtde. DT | Q1: AF/OS nº xxxx/2015 Qtde. DT | R1: AF/OS nº xxxx/2015 Qtde. DT | S1: AF/OS nº xxxx/2015 Qtde. DT | T1: AF/OS nº xxxx/2015 Qtde. DT | U1: AF/OS nº xxxx/2015 Qtde. DT | V1: AF/OS nº xxxx/2015 Qtde. DT | W1: AF/OS nº xxxx/2015 Qtde. DT
A2: CENTRO PARTICIPANTE: ESAG
A3: FORNECEDOR | B3: LOTE | C3: ITEM | D3: PRODUTO - CARACTERÍSTICAS MÍNIMAS | E3: UNIDADE | F3: MARCA | G3: DETALHAMENTO | H3: Preço UNITÁRIO (R$) | I3: Qtde Registrada | J3: Saldo / Automático | K3: ALERTA | L3: ...../...../...... | M3: ...../...../...... | N3: ...../...../...... | O3: ...../...../...... | P3: ...../...../...... | Q3: ...../...../...... | R3: ...../...../...... | S3: ...../...../...... | T3: ...../...../...... | U3: ...../...../...... | V3: ...../...../...... | W3: ...../...../......
A4: Tracton Indústria e Comércio LTDA - EPP | B4: 1 | C4: 1 | D4: Fronha de tecido cretone, 100% algodão, dimensões aproximadas de 0,50cm de largura e 0,60cm de comprimento, com logomarca a ser definida impressa no centro com as dimensões de 14x13cm aproximadamente. Cor a definir. | E4: Unidade | F4: Tracton | G4: 339030-20 | H4: 25 | J4: =I4-(SUM(L4:W4)) -> 0 | K4: =IF(J4<0,"ATENÇÃO","OK") -> OK | L4: 0 | M4: 0 | N4: 0 | O4: 0 | P4: 0 | Q4: 0 | R4: 0 | S4: 0 | T4: 0 | U4: 0 | V4: 0 | W4: 0
C5: 2 | D5: Lençol de tecido, com elástico, 100% algodão, dimensões aproximadas: 1,30m de largura e 2m de comprimento. Logomarca a ser definida impressa no centro, dimensões de 14x13cm aproximadamente. | E5: Unidade | F5: Tracton | G5: 339030-20 | H5: 50 | J5: =I5-(SUM(L5:W5)) -> 0 | K5: =IF(J5<0,"ATENÇÃO","OK") -> OK | L5: 0 | M5: 0 | N5: 0 | O5: 0 | P5: 0 | Q5: 0 | R5: 0 | S5: 0 | T5: 0 | U5: 0 | V5: 0 | W5: 0
C6: 3 | D6: Lençol de tecido, sem elástico, 100% algodão, dimensões aproximadas: 1,30m de largura e 2m de comprimento, com logomarca a ser definida impressa no centro, com 14x13cm aproximadamente. | E6: Unidade | F6: Tracton | G6: 339030-20 | H6: 50 | J6: =I6-(SUM(L6:W6)) -> 0 | K6: =IF(J6<0,"ATENÇÃO","OK") -> OK | L6: 0 | M6: 0 | N6: 0 | O6: 0 | P6: 0 | Q6: 0 | R6: 0 | S6: 0 | T6: 0 | U6: 0 | V6: 0 | W6: 0
C7: 4 | D7: Toalha de mesa, de cetim, medindo aproximadamente 1,20m x60cm. Com logomarca bordada no centro da toalha, tamanho mínimo 30cm x 30 cm. Cor a definir. | E7: Unidade | F7: Tracton | G7: 339030-20 | H7: 61 | I7: 2 | J7: =I7-(SUM(L7:W7)) -> 2 | K7: =IF(J7<0,"ATENÇÃO","OK") -> OK | L7: 0 | M7: 0 | N7: 0 | O7: 0 | P7: 0 | Q7: 0 | R7: 0 | S7: 0 | T7: 0 | U7: 0 | V7: 0 | W7: 0
C8: 5 | D8: Toalha de mesa retangular, medindo aproximadamente 1,60mX2,70m. Composição 53% algodão, 47% poliéster. Cor a definir. | E8: Unidade | F8: Tracton | G8: 339030-20 | H8: 89 | I8: 4 | J8: =I8-(SUM(L8:W8)) -> 4 | K8: =IF(J8<0,"ATENÇÃO","OK") -> OK | L8: 0 | M8: 0 | N8: 0 | O8: 0 | P8: 0 | Q8: 0 | R8: 0 | S8: 0 | T8: 0 | U8: 0 | V8: 0 | W8: 0
C9: 6 | D9: Toalha de banho, dupla face, em tecido 100% algodão, cor da definir, pré-lavada e pré-encolhida, gramatura de no mínimo 500gr/m², medindo no mínimo 70cm x 1,40m. Logomarca a ser definida e impressa em uma das pontas nas dimensões de 14x13cm aproximadamente. | E9: Unidade | F9: Tracton | G9: 339030-20 | H9: 30 | J9: =I9-(SUM(L9:W9)) -> 0 | K9: =IF(J9<0,"ATENÇÃO","OK") -> OK | L9: 0 | M9: 0 | N9: 0 | O9: 0 | P9: 0 | Q9: 0 | R9: 0 | S9: 0 | T9: 0 | U9: 0 | V9: 0 | W9: 0
C10: 7 | D10: Toalha de rosto, dupla face, em tecido 100% algodão, cor da definir, pré-lavada e pré-encolhida, gramatura de no mínimo 500gr/m², medindo no mínimo 45x75cm. Logomarca a ser definida e impressa em uma das pontas nas dimensões de 14x13cm aproximadamente. | E10: Unidade | F10: Tracton | G10: 339030-20 | H10: 20 | J10: =I10-(SUM(L10:W10)) -> 0 | K10: =IF(J10<0,"ATENÇÃO","OK") -> OK | L10: 0 | M10: 0 | N10: 0 | O10: 0 | P10: 0 | Q10: 0 | R10: 0 | S10: 0 | T10: 0 | U10: 0 | V10: 0 | W10: 0
C11: 8 | D11: Toalha de mesa redonda, medindo aproximadamente 178cm diâmetro, composição 59% algodão e 41% poliéster, cor a definir. | E11: Unidade | F11: Tracton | G11: 339030-20 | H11: 60 | I11: 2 | J11: =I11-(SUM(L11:W11)) -> 2 | K11: =IF(J11<0,"ATENÇÃO","OK") -> OK | L11: 0 | M11: 0 | N11: 0 | O11: 0 | P11: 0 | Q11: 0 | R11: 0 | S11: 0 | T11: 0 | U11: 0 | V11: 0 | W11: 0
C12: 9 | D12: Toalha de mesa retangular, medindo aproximadamente 7mx2,20m. Composição 53% algodão, 47% poliéster, com protetor de tecido. Cor a definir. | E12: Unidade | F12: Tracton | G12: 339030-20 | H12: 97.5 | I12: 2 | J12: =I12-(SUM(L12:W12)) -> 2 | K12: =IF(J12<0,"ATENÇÃO","OK") -> OK | L12: 0 | M12: 0 | N12: 0 | O12: 0 | P12: 0 | Q12: 0 | R12: 0 | S12: 0 | T12: 0 | U12: 0 | V12: 0 | W12: 0
A13: ADBX Comércio de Serviços LTDA - ME | B13: 2 | C13: 10 | D13: Camisa social masculina, manga longa, cor a definir, composição 50% algodão e 50% poliéster. Com a logomarca de 9x5cm bordada no peito no lado esquerdo. Tamanho e cor a definir. | E13: Unidade | F13: K.B | G13: 339030-23 | H13: 48 | J13: =I13-(SUM(L13:W13)) -> 0 | K13: =IF(J13<0,"ATENÇÃO","OK") -> OK | L13: 0 | M13: 0 | N13: 0 | O13: 0 | P13: 0 | Q13: 0 | R13: 0 | S13: 0 | T13: 0 | U13: 0 | V13: 0 | W13: 0
C14: 11 | D14: Camisete feminina, manga longa feminina, composição 50% algodão e 50% poliéster. Com a logomarca de 9x5cm bordada no peito, no lado esquerdo. Tamanho e cor a definir. | E14: Unidade | F14: K.B | G14: 339030-23 | H14: 50 | J14: =I14-(SUM(L14:W14)) -> 0 | K14: =IF(J14<0,"ATENÇÃO","OK") -> OK | L14: 0 | M14: 0 | N14: 0 | O14: 0 | P14: 0 | Q14: 0 | R14: 0 | S14: 0 | T14: 0 | U14: 0 | V14: 0 | W14: 0
C15: 12 | D15: Camisa social masculina, manga longa, cor a definir, composição 100% algodão egipcio. Com a logomarca de 9x5cm bordada no peito no lado esquerdo. Tamanho e cor a definir. | F15: K.B | G15: 339030-23 | H15: 52.6 | J15: =I15-(SUM(L15:W15)) -> 0 | K15: =IF(J15<0,"ATENÇÃO","OK") -> OK | L15: 0 | M15: 0 | N15: 0 | O15: 0 | P15: 0 | Q15: 0 | R15: 0 | S15: 0 | T15: 0 | U15: 0 | V15: 0 | W15: 0
A16: Jackson da Silva 03571984927 - ME | B16: 3 | C16: 13 | D16: Camiseta, 30x1 penteado, gola ombro a ombro, a gola da camiseta de possuir elastano, sendo reforçada na costura. A camiseta terá uma área reservada para serigrafia de até 28x21cm na frente e nas costas, podendo conter até 8 cores em cada lado. Tamanho, cor e logomarca a definir. | E16: Unidade | F16: Araçá | G16: 339030-23 | H16: 9.13 | I16: 250 | J16: =I16-(SUM(L16:W16)) -> 250 | K16: =IF(J16<0,"ATENÇÃO","OK") -> OK | L16: 0 | M16: 0 | N16: 0 | O16: 0 | P16: 0 | Q16: 0 | R16: 0 | S16: 0 | T16: 0 | U16: 0 | V16: 0 | W16: 0
C17: 14 | D17: Camiseta gola polo, malha Piquet P.A. Bordado com logomarca no lado esquerdo do peito, de 9X5cm, e bordado com logomarca de 8X3cm na manga direita. Tamanho e cor a definir. | E17: Unidade | F17: Araçá | G17: 339030-23 | H17: 17 | I17: 150 | J17: =I17-(SUM(L17:W17)) -> 150 | K17: =IF(J17<0,"ATENÇÃO","OK") -> OK | L17: 0 | M17: 0 | N17: 0 | O17: 0 | P17: 0 | Q17: 0 | R17: 0 | S17: 0 | T17: 0 | U17: 0 | V17: 0 | W17: 0
A18: Jackson da Silva 03571984927 - ME | B18: 4 | C18: 15 | D18: GOLEIRA FEMININO FUTEBOL CAMPO, FUTSAL E HANDEBOL - CALÇA 100% POLIESTER DRYFIT - com espuma de proteção nos joelhos e na cintura. Número gravado na parte inferior direita da coxa, acima da proteção e na parte inferior. Tamanho e cor a definir. | E18: Unidade | F18: Araçá | G18: 339030-14 | H18: 25 | J18: =I18-(SUM(L18:W18)) -> 0 | K18: =IF(J18<0,"ATENÇÃO","OK") -> OK | L18: 0 | M18: 0 | N18: 0 | O18: 0 | P18: 0 | Q18: 0 | R18: 0 | S18: 0 | T18: 0 | U18: 0 | V18: 0 | W18: 0
C19: 16 | D19: GOLEIRO MASCULINO FUTEBOL DE CAMPO, FUTSAL E HANDEBOL- CALÇA 100% POLIESTER DRYFIT . Com espuma de proteção nos joelhos e na cintura. Número gravado na parte inferior direita da coxa, acima da proteção e na parte inferior. Tamanho e cor a definir. | E19: Unidade | F19: Araçá | G19: 339030-14 | H19: 32 | I19: 2 | J19: =I19-(SUM(L19:W19)) -> 2 | K19: =IF(J19<0,"ATENÇÃO","OK") -> OK | L19: 0 | M19: 0 | N19: 0 | O19: 0 | P19: 0 | Q19: 0 | R19: 0 | S19: 0 | T19: 0 | U19: 0 | V19: 0 | W19: 0
C20: 17 | D20: GOLEIRA FEMININO FUTEBOL CAMPO, FUTSAL E HANDEBOL - CAMISA 100% POLIESTER DRYFIT - Camisa de goleira com espuma de proteção nos cotovelos, com números a definir, serigrafado atrás. As camisas possuem numeração nas costas (8X12cm) na parte central. Com logomarca acima do número (10X18cm). Abaixo do número nas costas deverá estar escrito o nome da modalidade(20x10cm). Na frente logomarca no centro da camisa. Tamanho e cor a definir. | E20: Unidade | F20: Araçá | G20: 339030-14 | H20: 22 | J20: =I20-(SUM(L20:W20)) -> 0 | K20: =IF(J20<0,"ATENÇÃO","OK") -> OK | L20: 0 | M20: 0 | N20: 0 | O20: 0 | P20: 0 | Q20: 0 | R20: 0 | S20: 0 | T20: 0 | U20: 0 | V20: 0 | W20: 0
C21: 18 | D21: GOLEIRO MASCULINO FUTEBOL DE CAMPO, FUTSAL E HANDEBOL- CAMISA 100% POLIESTER DRYFIT. Com espuma de proteção nos cotovelos, com números a definir, serigrafado atrás. As camisas possuem numeração nas costas (8X12cm) na parte central.Com logomarca acima do número (10X18cm). Abaixo do número nas costas deverá estar escrito o nome da modalidade(20x10cm). Na frente logomarca no centro da camisa. Tamanho e cor a definir. | E21: Unidade | F21: Araçá | G21: 339030-14 | H21: 22 | I21: 2 | J21: =I21-(SUM(L21:W21)) -> 2 | K21: =IF(J21<0,"ATENÇÃO","OK") -> OK | L21: 0 | M21: 0 | N21: 0 | O21: 0 | P21: 0 | Q21: 0 | R21: 0 | S21: 0 | T21: 0 | U21: 0 | V21: 0 | W21: 0
C22: 19 | D22: HANDEBOL MASCULINO - CALÇÃO 100% POLIESTER DRYFIT. Cós com elástico e com cordão interno. Com numeração na parte frontal inferior esquerda e logomarca (7X11cm) na parte frontal inferior direita. Modalidade handebol gravada na parte inferior direita com dimensões aproximadas de 9X3cm. Logomarca gravada na parte posterior acima da linha glútea, tamanho aproximado 20x10cm. Tamanho, numeração e cor a definir. | E22: Unidade | F22: Araçá | G22: 339030-14 | H22: 14 | J22: =I22-(SUM(L22:W22)) -> 0 | K22: =IF(J22<0,"ATENÇÃO","OK") -> OK | L22: 0 | M22: 0 | N22: 0 | O22: 0 | P22: 0 | Q22: 0 | R22: 0 | S22: 0 | T22: 0 | U22: 0 | V22: 0 | W22: 0
C23: 20 | D23: HANDEBOL FEMININO - CALÇÃO para handebol feminino, confeccionados em poliéster. Cós com elástico com cordão interno. Numeração na parte frontal inferior esquerda e o logomarca (7x11cm) na parte frontal inferior direita. Modalidade handebol gravada na parte inferior direita com dimensões aproximadas de 9X3cm. Logomarca gravada na parte posterior acima da linha glútea, tamanho aproximado 20x10cm. Tamanho e cor a definir. Estilo handebol. | E23: Unidade | F23: Araçá | G23: 339030-14 | H23: 14 | J23: =I23-(SUM(L23:W23)) -> 0 | K23: =IF(J23<0,"ATENÇÃO","OK") -> OK | L23: 0 | M23: 0 | N23: 0 | O23: 0 | P23: 0 | Q23: 0 | R23: 0 | S23: 0 | T23: 0 | U23: 0 | V23: 0 | W23: 0
C24: 21 | D24: HANDEBOL FEMININO - SHORT - 92% POLIESTER DRYFIT e 8% ELASTANO Com numeração na parte frontal inferior esquerda e o logomarca, 7X11cm, na parte frontal inferior direita. Modalidade handebol gravada na parte inferior direita com dimensões aproximadas de 9X3cm. Logomarca gravada na parte posterior acima da linha glútea, tamanho aproximado 20x10cm. Tamanho e cor a definir. | E24: Unidade | F24: Araçá | G24: 339030-14 | H24: 20 | J24: =I24-(SUM(L24:W24)) -> 0 | K24: =IF(J24<0,"ATENÇÃO","OK") -> OK | L24: 0 | M24: 0 | N24: 0 | O24: 0 | P24: 0 | Q24: 0 | R24: 0 | S24: 0 | T24: 0 | U24: 0 | V24: 0 | W24: 0
C25: 22 | D25: HANDEBOL FEMININO - CAMISA - SEM MANGA 100% POLIESTER DRYFIT. Nas costas a logomarca (10X18cm) e a numeração (22cm). Logomarca na frente (10X18cm). Com tratamento antibactericida, permite transpiração. Manga com punhos em Rib (efeito canelado). Tamanho e cor a definir. | E25: Unidade | F25: Araçá | G25: 339030-14 | H25: 18 | J25: =I25-(SUM(L25:W25)) -> 0 | K25: =IF(J25<0,"ATENÇÃO","OK") -> OK | L25: 0 | M25: 0 | N25: 0 | O25: 0 | P25: 0 | Q25: 0 | R25: 0 | S25: 0 | T25: 0 | U25: 0 | V25: 0 | W25: 0
C26: 23 | D26: HANDEBOL FEMININO - CAMISA - COM MANGA 100% POLIESTER DRYFIT. Nas costas a logomarca (10X18cm) e a numeração (22cm). Logomarca na frente (10X18cm). Com tratamento antibactericida, permite transpiração. Manga curta com punhos em Rib (efeito canelado). Tamanho e cor a definir. | E26: Unidade | F26: Araçá | G26: 339030-14 | H26: 28 | I26: 10 | J26: =I26-(SUM(L26:W26)) -> 10 | K26: =IF(J26<0,"ATENÇÃO","OK") -> OK | L26: 0 | M26: 0 | N26: 0 | O26: 0 | P26: 0 | Q26: 0 | R26: 0 | S26: 0 | T26: 0 | U26: 0 | V26: 0 | W26: 0
C27: 24 | D27: HANDEBOL MASCULINO - CAMISA - Manga curta 100% POLIESTER DRYFIT. Nas costas logomarca (10X18cm) e a numeração (22cm). Logomarca na frente (10X18cm). Com tratamento antibactericida, permite transpiração. Manga curta com punhos em Rib (efeito canelado). Tamanho e cor a definir. | E27: Unidade | F27: Araçá | G27: 339030-14 | H27: 28 | J27: =I27-(SUM(L27:W27)) -> 0 | K27: =IF(J27<0,"ATENÇÃO","OK") -> OK | L27: 0 | M27: 0 | N27: 0 | O27: 0 | P27: 0 | Q27: 0 | R27: 0 | S27: 0 | T27: 0 | U27: 0 | V27: 0 | W27: 0
C28: 25 | D28: BASQUETE FEMININO - BERMUDA - 100% POLIESTER DRYFIT. Numeração gravada na parte inferior esquerda com dimensões aproximadas de 9X3cm. Modalidade basquete gravada na parte inferior direita com dimensões aproximadas de 9X3cm. Logomarca gravada na parte posterior acima da linha glútea, tamanho aproximado 20x10cm. Tamanho e cor a definir. | E28: Unidade | F28: Araçá | G28: 339030-14 | H28: 20 | J28: =I28-(SUM(L28:W28)) -> 0 | K28: =IF(J28<0,"ATENÇÃO","OK") -> OK | L28: 0 | M28: 0 | N28: 0 | O28: 0 | P28: 0 | Q28: 0 | R28: 0 | S28: 0 | T28: 0 | U28: 0 | V28: 0 | W28: 0
C29: 26 | D29: BASQUETE MASCULINO - BERMUDA - 100% POLIESTER DRYFIT. Numerada na parte inferior esquerda com dimensões aproximadas de 9X3cm. Modalidade basquete gravada na parte inferior direita com dimensões aproximadas de 9X3cm. Logomarca na parte posterior acima da linha glútea, no tamanho aproximado 20x10cm. Tamanho e cor a definir. | E29: Unidade | F29: Araçá | G29: 339030-14 | H29: 20 | I29: 6 | J29: =I29-(SUM(L29:W29)) -> 6 | K29: =IF(J29<0,"ATENÇÃO","OK") -> OK | L29: 0 | M29: 0 | N29: 0 | O29: 0 | P29: 0 | Q29: 0 | R29: 0 | S29: 0 | T29: 0 | U29: 0 | V29: 0 | W29: 0
C30: 27 | D30: BASQUETE FEMININO - CAMISA - Sem manga 100% POLIESTER DRYFIT, numeração à definir, confeccionadas em poliéster 100% dryfit, com cor a definir. Nas costas: numeração (8X12cm) e logomarca a definir (10X18cm). Na frente: logomarca no centro da camisa (10X18cm). Tamanho e cor a definir. | E30: Unidade | F30: Araçá | G30: 339030-14 | H30: 18 | J30: =I30-(SUM(L30:W30)) -> 0 | K30: =IF(J30<0,"ATENÇÃO","OK") -> OK | L30: 0 | M30: 0 | N30: 0 | O30: 0 | P30: 0 | Q30: 0 | R30: 0 | S30: 0 | T30: 0 | U30: 0 | V30: 0 | W30: 0
C31: 28 | D31: BASQUETE MASCULINO - CAMISA - Sem manga 100% POLIESTER DRYFIT, numeração à definir, com cor a definir. Nas costas: numeração (8X12cm) e logomarca a definir (10X18cm). Na frente: logomarca no centro da camisa (10X18cm). Tamanho e cor a definir. | E31: Unidade | F31: Araçá | G31: 339030-14 | H31: 20 | J31: =I31-(SUM(L31:W31)) -> 0 | K31: =IF(J31<0,"ATENÇÃO","OK") -> OK | L31: 0 | M31: 0 | N31: 0 | O31: 0 | P31: 0 | Q31: 0 | R31: 0 | S31: 0 | T31: 0 | U31: 0 | V31: 0 | W31: 0
C32: 29 | D32: ATLETISMO - CALÇÃO UNISSEX- 92% POLIESTER DRYFIT e 8% ELASTANO. com logomarca na frente, nas dimensões aproximadas 6X10cm. Cós com elástico e cordão para ajuste. Estilo Running, dryfit. Tamanho e cor a definir. | E32: Unidade | F32: Araçá | G32: 339030-14 | H32: 18 | I32: 10 | J32: =I32-(SUM(L32:W32)) -> 10 | K32: =IF(J32<0,"ATENÇÃO","OK") -> OK | L32: 0 | M32: 0 | N32: 0 | O32: 0 | P32: 0 | Q32: 0 | R32: 0 | S32: 0 | T32: 0 | U32: 0 | V32: 0 | W32: 0
C33: 30 | D33: ATLETISMO FEMININO - REGATA - 92% POLIESTER DRYFIT e 8% ELASTANO, estilo Running. Com logomarca nas costas, 8X15cm, escrito a palavra atletismo (27X9cm) e logomarca na frente (8x15cm). Tamanho e cor a definir. | E33: Unidade | F33: Araçá | G33: 339030-14 | H33: 18 | I33: 5 | J33: =I33-(SUM(L33:W33)) -> 5 | K33: =IF(J33<0,"ATENÇÃO","OK") -> OK | L33: 0 | M33: 0 | N33: 0 | O33: 0 | P33: 0 | Q33: 0 | R33: 0 | S33: 0 | T33: 0 | U33: 0 | V33: 0 | W33: 0
C34: 31 | D34: ATLETISMO MASCULINO - REGATA - 92% POLIESTER DRYFIT e 8% ELASTANO, estilo Running. Com logomarca nas costas, 8X15cm, escrito a palavra atletismo (27X9cm) e logomarca na frente (8X15cm). Tamanho e cor a definir. | E34: Unidade | F34: Araçá | G34: 339030-14 | H34: 18 | I34: 90 | J34: =I34-(SUM(L34:W34)) -> 90 | K34: =IF(J34<0,"ATENÇÃO","OK") -> OK | L34: 0 | M34: 0 | N34: 0 | O34: 0 | P34: 0 | Q34: 0 | R34: 0 | S34: 0 | T34: 0 | U34: 0 | V34: 0 | W34: 0
C35: 32 | D35: FUTEBOL MASCULINO - CALÇÃO - 100% POLIESTER DRYFIT, com numeração na parte frontal inferior esquerda e logomarca (7x11cm) na parte frontal inferior direita. Cós com elástico e cordão interno. Tamanho e cor a definir. | E35: Unidade | F35: Araçá | G35: 339030-14 | H35: 15 | I35: 77 | J35: =I35-(SUM(L35:W35)) -> 77 | K35: =IF(J35<0,"ATENÇÃO","OK") -> OK | L35: 0 | M35: 0 | N35: 0 | O35: 0 | P35: 0 | Q35: 0 | R35: 0 | S35: 0 | T35: 0 | U35: 0 | V35: 0 | W35: 0
C36: 33 | D36: FUTEBOL MASCULINO - CAMISA - 92% POLIESTER DRYFIT e 8% ELASTANO. Manga curta com punhos em Rib (efeito canelado),com tratamento antibactericida, permite transpiração. Nas costas: numeração (22cm), logomarca (10X18cm) e o nome da modalidade (20x10cm). Na frente logomarca (10X18cm). Tamanho e cor a definir. | E36: Unidade | F36: Araçá | G36: 339030-14 | H36: 30 | I36: 144 | J36: =I36-(SUM(L36:W36)) -> 144 | K36: =IF(J36<0,"ATENÇÃO","OK") -> OK | L36: 0 | M36: 0 | N36: 0 | O36: 0 | P36: 0 | Q36: 0 | R36: 0 | S36: 0 | T36: 0 | U36: 0 | V36: 0 | W36: 0
C37: 34 | D37: FUTEBOL FEMININO - CAMISA - 92% POLIESTER DRYFIT e 8% ELASTANO. Manga curta com punhos em Rib (efeito canelado),com tratamento antibactericida, permite transpiração. Nas costas: numeração (22cm), logomarca (10X18cm) e o nome da modalidade (20x10cm). Na frente logomarca (10X18cm). Tamanho e cor a definir. | E37: Unidade | F37: Araçá | G37: 339030-14 | H37: 30 | J37: =I37-(SUM(L37:W37)) -> 0 | K37: =IF(J37<0,"ATENÇÃO","OK") -> OK | L37: 0 | M37: 0 | N37: 0 | O37: 0 | P37: 0 | Q37: 0 | R37: 0 | S37: 0 | T37: 0 | U37: 0 | V37: 0 | W37: 0
C38: 35 | D38: FUTEBOL FEMININO - CALÇÃO - 100% POLIESTER DRYFIT, com numeração na parte frontal inferior esquerda e logomarca (7x11cm) na parte frontal inferior direita. Cós com elástico e cordão | F38: Araçá | G38: 339030-14 | H38: 15 | J38: =I38-(SUM(L38:W38)) -> 0 | K38: =IF(J38<0,"ATENÇÃO","OK") -> OK | L38: 0 | M38: 0 | N38: 0 | O38: 0 | P38: 0 | Q38: 0 | R38: 0 | S38: 0 | T38: 0 | U38: 0 | V38: 0 | W38: 0
C39: 36 | D39: FUTEBOL - MEIÃO UNISSEX - liso sem detalhes. Tamanho a definir. Cor a definir. | E39: Par | F39: Araçá | G39: 339030-14 | H39: 7 | I39: 24 | J39: =I39-(SUM(L39:W39)) -> 24 | K39: =IF(J39<0,"ATENÇÃO","OK") -> OK | L39: 0 | M39: 0 | N39: 0 | O39: 0 | P39: 0 | Q39: 0 | R39: 0 | S39: 0 | T39: 0 | U39: 0 | V39: 0 | W39: 0
C40: 37 | D40: FUTSAL MASCULINO - CAMISA - 100% POLIESTER DRYFIT. Manga curta. Nas costas: numeração (22cm), logomarca (10X18cm) e o nome da modalidade (20x10cm). Na frente logomarca (10X18cm). Com tratamento antibactericida, permite transpiração. Manga curta com punhos em Rib (efeito canelado). Tamanho e cor a definir. | E40: Unidade | F40: Araçá | G40: 339030-14 | H40: 30 | J40: =I40-(SUM(L40:W40)) -> 0 | K40: =IF(J40<0,"ATENÇÃO","OK") -> OK | L40: 0 | M40: 0 | N40: 0 | O40: 0 | P40: 0 | Q40: 0 | R40: 0 | S40: 0 | T40: 0 | U40: 0 | V40: 0 | W40: 0
...

Sheet CEART
A1: PROCESSO: 0502/2015/UDESC | D1: OBJETO: Aquisição de Rouparia para a UDESC | I1: VIGÊNCIA DA ATA: 14/07/2015 até 13/07/2016 | L1: AF/OS nº xxxx/2015 Qtde. DT | M1: AF/OS nº xxxx/2015 Qtde. DT | N1: AF/OS nº xxxx/2015 Qtde. DT | O1: AF/OS nº xxxx/2015 Qtde. DT | P1: AF/OS nº xxxx/2015 Qtde. DT | Q1: AF/OS nº xxxx/2015 Qtde. DT | R1: AF/OS nº xxxx/2015 Qtde. DT | S1: AF/OS nº xxxx/2015 Qtde. DT | T1: AF/OS nº xxxx/2015 Qtde. DT | U1: AF/OS nº xxxx/2015 Qtde. DT | V1: AF/OS nº xxxx/2015 Qtde. DT | W1: AF/OS nº xxxx/2015 Qtde. DT
A2: CENTRO PARTICIPANTE: CEART
