Workbook
Name diasuteis: #REF!
Name diasuteis: #REF!
Name diasuteis: #REF!
Name Ferias: #REF!
Name Ferias: #REF!
Name RD: OFFSET(#REF!,(MATCH(SMALL(#REF!,ROW()-10),#REF!,0)-1),0)
Name RD: OFFSET(#REF!,(MATCH(SMALL(#REF!,ROW()-10),#REF!,0)-1),0)

Sheet Reitoria
A1: PROCESSO: 0462/2015/UDESC | D1: OBJETO: AQUISIÇÃO DE MATERIAL DE HIGIENE E LIMPEZA PARA A UDESC | I1: VIGÊNCIA DA ATA: 23/07/2015 até 22/07/2016 | L1: AF nº 1307/2015 Qtde. DT | M1: AF nº 1312/2015 Qtde. DT | N1: AF nº 1320/2015 Qtde. DT | O1: AF nº 2111/2015 Qtde. DT | P1: AF/OS nº xxxx/2015 Qtde. DT | Q1: AF/OS nº xxxx/2015 Qtde. DT | R1: AF/OS nº xxxx/2015 Qtde. DT | S1: AF/OS nº xxxx/2015 Qtde. DT | T1: AF/OS nº xxxx/2015 Qtde. DT | U1: AF/OS nº xxxx/2015 Qtde. DT | V1: AF/OS nº xxxx/2015 Qtde. DT | W1: AF/OS nº xxxx/2015 Qtde. DT
A2: CENTRO PARTICIPANTE: Reitoria
A3: FORNECEDOR | B3: LOTE | C3: ITEM | D3: PRODUTO - CARACTERÍSTICAS MÍNIMAS | E3: UNIDADE | F3: MARCA | G3: DETALHAMENTO | H3: Preço UNITÁRIO (R$) | I3: Qtde Registrada | J3: Saldo / Automático | K3: ALERTA | L3: 42215 | M3: 42215 | N3: 42215 | O3: 42313 | P3: ...../...../...... | Q3: ...../...../...... | R3: ...../...../...... | S3: ...../...../...... | T3: ...../...../...... | U3: ...../...../...... | V3: ...../...../...... | W3: ...../...../......
A4: Comercial Multiville LTDA EPP | B4: 1 | C4: 1 | D4: Sabonete glicerinado, em barra, para uso geral, com aproximadamente 90 gramas, embalagem individual e acondicionados em caixa. (Apresentar: AFE-Autorização de Funcionamento da Empresa e Notificação no MS ANVISA, cfe DECRETO Nº 79.094/77, RDC 343/2005). | E4: Peça | F4: Motivus | G4: 339030.22 | H4: 0.94 | J4: =I4-(SUM(L4:W4)) -> 0 | K4: =IF(J4<0,"ATENÇÃO","OK") -> OK | L4: 0 | M4: 0 | N4: 0 | O4: 0 | P4: 0 | Q4: 0 | R4: 0 | S4: 0 | T4: 0 | U4: 0 | V4: 0 | W4: 0
C5: 2 | D5: Sabonete líquido aromatizado, fragrância suave, alta viscosidade, hipoalergênico, frasco com 5 litros, acondicionados em caixa de papelão resistente que suporte empilhamento. (Apresentar: Laudo de Irritabilidade Dérmica, conclusivo, que comprove ser HIPOALERGÊNICO, expedido por laboratório credenciado pela ANVISA, AFE-Autorização de Funcionamento da Empresa e Notificação no MS ANVISA, cfe DECRETO Nº 79.094/77, RDC 343/2005). | E5: Galão | F5: Saúba | G5: 339030.22 | H5: 12.95 | J5: =I5-(SUM(L5:W5)) -> 0 | K5: =IF(J5<0,"ATENÇÃO","OK") -> OK | L5: 0 | M5: 0 | N5: 0 | O5: 0 | P5: 0 | Q5: 0 | R5: 0 | S5: 0 | T5: 0 | U5: 0 | V5: 0 | W5: 0
C6: 3 | D6: Saboneteira em plástico ABS, com válvula, para uso de sabonete em espuma refil 800ml, com abertura em "chave". Cor branca ou bege. | E6: Peça | F6: Nobre | G6: 339030.22 | H6: 31.21 | I6: 20 | J6: =I6-(SUM(L6:W6)) -> 0 | K6: =IF(J6<0,"ATENÇÃO","OK") -> OK | L6: 20 | M6: 0 | N6: 0 | O6: 0 | P6: 0 | Q6: 0 | R6: 0 | S6: 0 | T6: 0 | U6: 0 | V6: 0 | W6: 0
C7: 4 | D7: Sabonete para uso em saboneteira espumante, sem válvula, refil com 800ml, fragrância erva doce. (Apresentar: Laudo de Irritabilidade Dérmica, conclusivo, que comprove ser HIPOALERGÊNICO, expedido por laboratório credenciado pela ANVISA, AFE-Autorização de Funcionamento da Empresa e Notificação no MS ANVISA, cfe DECRETO Nº 79.094/77, RDC 343/2005). | E7: Peça | F7: Saúba | G7: 339030.22 | H7: 15.5 | I7: 350 | J7: =I7-(SUM(L7:W7)) -> 213 | K7: =IF(J7<0,"ATENÇÃO","OK") -> OK | L7: 100 | M7: 0 | N7: 0 | O7: 37 | P7: 0 | Q7: 0 | R7: 0 | S7: 0 | T7: 0 | U7: 0 | V7: 0 | W7: 0
A8: L1 Serv. Org. Feiras Cong. Viagens e Eventos Ltda ME | B8: 2 | C8: 5 | D8: Pano de copa, em tecido 100% algodão, branco alvejado, medindo 0,70 x 0,50m, com bainha, com peso mínimo de 70g, admitindo-se variação de até 10% no peso e na medida; embalados individualmente, acondicionados em pacote com 50 unidades. O pano deverá conter etiqueta de fábrica indicando a composição do tecido e a metragem. Prazo de validade: 12 meses a partir de cada entrega de pedido. | E8: Peça | F8: Amabile/Amabile | G8: 339030.22 | H8: 1.49 | I8: 150 | J8: =I8-(SUM(L8:W8)) -> 0 | K8: =IF(J8<0,"ATENÇÃO","OK") -> OK | L8: 0 | M8: 0 | N8: 150 | O8: 0 | P8: 0 | Q8: 0 | R8: 0 | S8: 0 | T8: 0 | U8: 0 | V8: 0 | W8: 0
C9: 6 | D9: Saco de tecido, 100% algodão, para limpeza, lavado e alvejado, medidas externas: 70 cm de altura x 50 cm de largura, com peso mínimo de 190 gramas (admitindo-se variação de até 10% no peso e nas medidas), embalados em pacote com 10 unidades e acondicionados em fardos com 5 pacotes. O pano deverá conter etiqueta de fábrica informando a composição do tecido e metragem. Prazo de validade: 12 meses a partir de cada pedido de entrega. | E9: Peça | F9: Amabile/Amabile | G9: 339030.22 | H9: 3.3 | I9: 250 | J9: =I9-(SUM(L9:W9)) -> 0 | K9: =IF(J9<0,"ATENÇÃO","OK") -> OK | L9: 0 | M9: 0 | N9: 250 | O9: 0 | P9: 0 | Q9: 0 | R9: 0 | S9: 0 | T9: 0 | U9: 0 | V9: 0 | W9: 0
C10: 7 | D10: Flanela, peluciada em ambos os lados, para limpeza medindo 0,60 x 0,40 metros (admitindo-se variação de até 10%), com bordas chuleadas, embaladas individualmente e acondicionadas em pacote com 50 unidades. | E10: Peça | F10: Cristal/Cristal | G10: 339030.22 | H10: 1.27 | I10: 300 | J10: =I10-(SUM(L10:W10)) -> 0 | K10: =IF(J10<0,"ATENÇÃO","OK") -> OK | L10: 0 | M10: 0 | N10: 300 | O10: 0 | P10: 0 | Q10: 0 | R10: 0 | S10: 0 | T10: 0 | U10: 0 | V10: 0 | W10: 0
A11: Deivid Reinert ME - Alterado para Embalastil Ltda ME | B11: 3 | C11: 8 | D11: Papel toalha rolão, gramatura mínima 28g/m2, cor branca, 100% celulose virgem, sem pigmentação aparente oriunda da utilização de aparas de material impresso, gofrado, macio, com alto poder de absorção, distribuição homogênea das fibras ao longo do papel, sem rebarbas no corte lateral; rolo com 0,20x100 metros; embalado em fardo com 8 rolos. (A vencedora apresentará, em até 02 dias úteis: laudo microbiológico, conforme Portaria MS nº 1.480 de 31/12/90., de laboratório credenciado pelo INMETRO, ou habilitado no REBLAS/ANVISA. Será analisada a amostra pelo responsável técnico, através da aplicação da fórmula - peso mínimo: 0,20X100X28=560 gramas). | E11: Rolo | F11: Embalastil | G11: 339030.22 | H11: 3.5 | J11: =I11-(SUM(L11:W11)) -> 0 | K11: =IF(J11<0,"ATENÇÃO","OK") -> OK | L11: 0 | M11: 0 | N11: 0 | O11: 0 | P11: 0 | Q11: 0 | R11: 0 | S11: 0 | T11: 0 | U11: 0 | V11: 0 | W11: 0
A12: Elo Comércio e Serviços LTDA ME | B12: 4 | C12: 9 | D12: Balde plástico com alça, borda reforçada, com capacidade para aproximadamente 15 (quinze) litros, cores diversas. Balde plástico polietileno de alta densidade (PAED), alta resistência a impacto, paredes e fundos reforçados, alça em aço zincado e com reforço na borda e no encaixe da alça, com capacidade para aproximadamente 15 (quinze) litros, cores diversas. | E12: Peça | F12: ARQPLAST | G12: 339030.22 | H12: 3.04 | I12: 30 | J12: =I12-(SUM(L12:W12)) -> 30 | K12: =IF(J12<0,"ATENÇÃO","OK") -> OK | L12: 0 | M12: 0 | N12: 0 | O12: 0 | P12: 0 | Q12: 0 | R12: 0 | S12: 0 | T12: 0 | U12: 0 | V12: 0 | W12: 0
C13: 10 | D13: Escova para limpeza de vaso sanitário com suporte (do tipo vassoura, em forma de bola ou meia bola), com cerdas arredondadas em nylon; cabo e suporte em polipropileno; dimensão: 36x7.5x36cm, aproximadamente. | E13: Peça | F13: GAUCHA | G13: 339030.22 | H13: 3.54 | I13: 30 | J13: =I13-(SUM(L13:W13)) -> 20 | K13: =IF(J13<0,"ATENÇÃO","OK") -> OK | L13: 0 | M13: 10 | N13: 0 | O13: 0 | P13: 0 | Q13: 0 | R13: 0 | S13: 0 | T13: 0 | U13: 0 | V13: 0 | W13: 0
C14: 11 | D14: Escovão para limpeza, com cerdas de nylon, base em material plástico ou polipropileno resistente com aproximadamente 25 cm e cabo de madeira isenta de farpas, revestido em material plástico ou polipropileno, medindo aproximadamente 1,20 metros, fixação com sistema de rosca (resistente). | E14: Peça | F14: GAUCHA | G14: 339030.22 | H14: 4.24 | I14: 10 | J14: =I14-(SUM(L14:W14)) -> 0 | K14: =IF(J14<0,"ATENÇÃO","OK") -> OK | L14: 0 | M14: 10 | N14: 0 | O14: 0 | P14: 0 | Q14: 0 | R14: 0 | S14: 0 | T14: 0 | U14: 0 | V14: 0 | W14: 0
C15: 12 | D15: Esfregão (esponja) de aço, para limpeza de panela, com 15g (admitindo-se variação de até 1g), embalagem individual, em invólucro plástico lacrado, acondicionados em caixa de papelão resistente que suporte empilhamento. Prazo de validade: 12 meses a partir de cada entrega de pedido. | E15: Peça | F15: INOVE | G15: 339030.22 | H15: 0.81 | I15: 50 | J15: =I15-(SUM(L15:W15)) -> 50 | K15: =IF(J15<0,"ATENÇÃO","OK") -> OK | L15: 0 | M15: 0 | N15: 0 | O15: 0 | P15: 0 | Q15: 0 | R15: 0 | S15: 0 | T15: 0 | U15: 0 | V15: 0 | W15: 0
C16: 13 | D16: Lã de aço, (em aço carbono), para limpeza e brilho, embalagem em pacote plástico lacrado com 08 unidades, pesando no mínimo 60g e acondicionadas em caixa de papelão resistente que suporte empilhamento. | E16: Pacote | F16: INOVE | G16: 339030.22 | H16: 0.96 | I16: 50 | J16: =I16-(SUM(L16:W16)) -> 50 | K16: =IF(J16<0,"ATENÇÃO","OK") -> OK | L16: 0 | M16: 0 | N16: 0 | O16: 0 | P16: 0 | Q16: 0 | R16: 0 | S16: 0 | T16: 0 | U16: 0 | V16: 0 | W16: 0
C17: 14 | D17: Pá para lixo, de material plástico resistente, cabo curto, corpo único, acondicionadas em caixa de papelão resistente que suporte empilhamento. | E17: Peça | F17: GAUCHA | G17: 339030.22 | H17: 1.15 | I17: 25 | J17: =I17-(SUM(L17:W17)) -> 0 | K17: =IF(J17<0,"ATENÇÃO","OK") -> OK | L17: 0 | M17: 25 | N17: 0 | O17: 0 | P17: 0 | Q17: 0 | R17: 0 | S17: 0 | T17: 0 | U17: 0 | V17: 0 | W17: 0
C18: 15 | D18: Guardanapo de papel, cor branca, macio, com alto poder de absorção, gramatura 19g a 22g/m2, medindo 30cm x 30cm, sem rebarbas no corte lateral, em embalagem com 50 (cinqüenta) unidades, acondicionado em caixa de papelão resistente que suporte empilhamento. (A vencedora apresentará, em até 02 dias úteis: Laudo Microbiológico, conforme Portaria MS nº 1.480 de 31/12/90., de laboratório credenciado pelo INMETRO, ou habilitado no REBLAS/ANVISA. | E18: Pacote | F18: SORELLA | G18: 339030.22 | H18: 1.16 | I18: 1000 | J18: =I18-(SUM(L18:W18)) -> 500 | K18: =IF(J18<0,"ATENÇÃO","OK") -> OK | L18: 0 | M18: 500 | N18: 0 | O18: 0 | P18: 0 | Q18: 0 | R18: 0 | S18: 0 | T18: 0 | U18: 0 | V18: 0 | W18: 0
C19: 16 | D19: Filtro de papel para café, com gramatura de 54 g/m2, com fechamento de dupla prensagem, tamanho 103, na cor branca; embalagem com 30 a 40 unidades, acondicionadas em caixa. | E19: Caixa | F19: BRIGITTA | G19: 339030.21 | H19: 2.11 | J19: =I19-(SUM(L19:W19)) -> 0 | K19: =IF(J19<0,"ATENÇÃO","OK") -> OK | L19: 0 | M19: 0 | N19: 0 | O19: 0 | P19: 0 | Q19: 0 | R19: 0 | S19: 0 | T19: 0 | U19: 0 | V19: 0 | W19: 0
C20: 17 | D20: Fósforo doméstico, em maço com 10 caixas, com 40 palitos, acondicionados em pacotes. | E20: Caixa | F20: ZEBRA | G20: 339030.21 | H20: 0.12 | J20: =I20-(SUM(L20:W20)) -> 0 | K20: =IF(J20<0,"ATENÇÃO","OK") -> OK | L20: 0 | M20: 0 | N20: 0 | O20: 0 | P20: 0 | Q20: 0 | R20: 0 | S20: 0 | T20: 0 | U20: 0 | V20: 0 | W20: 0
C21: 18 | D21: Repelente elétrico para mosquito, que pemite o uso de pastilhas. Bivolt. | E21: Peça | F21: FLORA | G21: 339030.22 | H21: 10.14 | I21: 50 | J21: =I21-(SUM(L21:W21)) -> 40 | K21: =IF(J21<0,"ATENÇÃO","OK") -> OK | L21: 0 | M21: 10 | N21: 0 | O21: 0 | P21: 0 | Q21: 0 | R21: 0 | S21: 0 | T21: 0 | U21: 0 | V21: 0 | W21: 0
C22: 19 | D22: Pastilha para uso em repelente elétrico, cada pacote com 12 unidades | E22: Pacote | F22: PERINCET | G22: 339030.22 | H22: 1.95 | I22: 350 | J22: =I22-(SUM(L22:W22)) -> 250 | K22: =IF(J22<0,"ATENÇÃO","OK") -> OK | L22: 0 | M22: 100 | N22: 0 | O22: 0 | P22: 0 | Q22: 0 | R22: 0 | S22: 0 | T22: 0 | U22: 0 | V22: 0 | W22: 0
A23: Goedert Imports Ltda EPP | B23: 5 | C23: 20 | D23: Tapete, em nylon, com acabamento, tapete profissional para retenção de sujeira seca e úmida, Iron Horse, impede que a sujeira e a umidade entrem em contato com o piso, tornando-o escorregadio e perigoso. Produzido em solution-dyed nylon, resistente ao desbotamento, bordas rebaixadas de borracha nitrílica, 100% lavável, resistente à lavagem industrial, nylon opti-twist que transforma o tapete numa escova capaz de reter seu próprio peso em sujeira e umidade, retenção de até 70% da sujeira e umidade, alto tráfego. medidas 85 x 150 cm. cor: Granito. | E23: Peça | F23: Iron Horse | G23: 339030.22 | H23: 487.41 | J23: =I23-(SUM(L23:W23)) -> 0 | K23: =IF(J23<0,"ATENÇÃO","OK") -> OK | L23: 0 | M23: 0 | N23: 0 | O23: 0 | P23: 0 | Q23: 0 | R23: 0 | S23: 0 | T23: 0 | U23: 0 | V23: 0 | W23: 0
D25: *Prazos de Entrega e Pagamento conforme edital

Sheet ESAG
A1: PROCESSO: 0462/2015/UDESC | D1: OBJETO: AQUISIÇÃO DE MATERIAL DE HIGIENE E LIMPEZA PARA A UDESC | I1: VIGÊNCIA DA ATA: 23/07/2015 até 22/07/2016 | L1: AF/OS nº 1941/2015 Qtde. DT | M1: AF/OS nº xxxx/2015 Qtde. DT | N1: AF/OS nº xxxx/2015 Qtde. DT | O1: AF/OS nº xxxx/2015 Qtde. DT | P1: AF/OS nº xxxx/2015 Qtde. DT | Q1: AF/OS nº xxxx/2015 Qtde. DT | R1: AF/OS nº xxxx/2015 Qtde. DT | S1: AF/OS nº xxxx/2015 Qtde. DT | T1: AF/OS nº xxxx/2015 Qtde. DT | U1: AF/OS nº xxxx/2015 Qtde. DT | V1: AF/OS nº xxxx/2015 Qtde. DT | W1: AF/OS nº xxxx/2015 Qtde. DT
A2: CENTRO PARTICIPANTE: ESAG
A3: FORNECEDOR | B3: LOTE | C3: ITEM | D3: PRODUTO - CARACTERÍSTICAS MÍNIMAS | E3: UNIDADE | F3: MARCA | G3: DETALHAMENTO | H3: Preço UNITÁRIO (R$) | I3: Qtde Registrada | J3: Saldo / Automático | K3: ALERTA | L3: ...../...../...... | M3: ...../...../...... | N3: ...../...../...... | O3: ...../...../...... | P3: ...../...../...... | Q3: ...../...../...... | R3: ...../...../...... | S3: ...../...../...... | T3: ...../...../...... | U3: ...../...../...... | V3: ...../...../...... | W3: ...../...../......
A4: Comercial Multiville LTDA EPP | B4: 1 | C4: 1 | D4: Sabonete glicerinado, em barra, para uso geral, com aproximadamente 90 gramas, embalagem individual e acondicionados em caixa. (Apresentar: AFE-Autorização de Funcionamento da Empresa e Notificação no MS ANVISA, cfe DECRETO Nº 79.094/77, RDC 343/2005). | E4: Peça | F4: Motivus | G4: 339030.22 | H4: 0.94 | J4: =I4-(SUM(L4:W4)) -> 0 | K4: =IF(J4<0,"ATENÇÃO","OK") -> OK | M4: 0 | N4: 0 | O4: 0 | P4: 0 | Q4: 0 | R4: 0 | S4: 0 | T4: 0 | U4: 0 | V4: 0 | W4: 0
C5: 2 | D5: Sabonete líquido aromatizado, fragrância suave, alta viscosidade, hipoalergênico, frasco com 5 litros, acondicionados em caixa de papelão resistente que suporte empilhamento. (Apresentar: Laudo de Irritabilidade Dérmica, conclusivo, que comprove ser HIPOALERGÊNICO, expedido por laboratório credenciado pela ANVISA, AFE-Autorização de Funcionamento da Empresa e Notificação no MS ANVISA, cfe DECRETO Nº 79.094/77, RDC 343/2005). | E5: Galão | F5: Saúba | G5: 339030.22 | H5: 12.95 | I5: 390 | J5: =I5-(SUM(L5:W5)) -> 390 | K5: =IF(J5<0,"ATENÇÃO","OK") -> OK | M5: 0 | N5: 0 | O5: 0 | P5: 0 | Q5: 0 | R5: 0 | S5: 0 | T5: 0 | U5: 0 | V5: 0 | W5: 0
C6: 3 | D6: Saboneteira em plástico ABS, com válvula, para uso de sabonete em espuma refil 800ml, com abertura em "chave". Cor branca ou bege. | E6: Peça | F6: Nobre | G6: 339030.22 | H6: 31.21 | J6: =I6-(SUM(L6:W6)) -> 0 | K6: =IF(J6<0,"ATENÇÃO","OK") -> OK | M6: 0 | N6: 0 | O6: 0 | P6: 0 | Q6: 0 | R6: 0 | S6: 0 | T6: 0 | U6: 0 | V6: 0 | W6: 0
C7: 4 | D7: Sabonete para uso em saboneteira espumante, sem válvula, refil com 800ml, fragrância erva doce. (Apresentar: Laudo de Irritabilidade Dérmica, conclusivo, que comprove ser HIPOALERGÊNICO, expedido por laboratório credenciado pela ANVISA, AFE-Autorização de Funcionamento da Empresa e Notificação no MS ANVISA, cfe DECRETO Nº 79.094/77, RDC 343/2005). | E7: Peça | F7: Saúba | G7: 339030.22 | H7: 15.5 | J7: =I7-(SUM(L7:W7)) -> 0 | K7: =IF(J7<0,"ATENÇÃO","OK") -> OK | M7: 0 | N7: 0 | O7: 0 | P7: 0 | Q7: 0 | R7: 0 | S7: 0 | T7: 0 | U7: 0 | V7: 0 | W7: 0
A8: L1 Serv. Org. Feiras Cong. Viagens e Eventos Ltda ME | B8: 2 | C8: 5 | D8: Pano de copa, em tecido 100% algodão, branco alvejado, medindo 0,70 x 0,50m, com bainha, com peso mínimo de 70g, admitindo-se variação de até 10% no peso e na medida; embalados individualmente, acondicionados em pacote com 50 unidades. O pano deverá conter etiqueta de fábrica indicando a composição do tecido e a metragem. Prazo de validade: 12 meses a partir de cada entrega de pedido. | E8: Peça | F8: Amabile/Amabile | G8: 339030.22 | H8: 1.49 | I8: 300 | J8: =I8-(SUM(L8:W8)) -> 300 | K8: =IF(J8<0,"ATENÇÃO","OK") -> OK | M8: 0 | N8: 0 | O8: 0 | P8: 0 | Q8: 0 | R8: 0 | S8: 0 | T8: 0 | U8: 0 | V8: 0 | W8: 0
C9: 6 | D9: Saco de tecido, 100% algodão, para limpeza, lavado e alvejado, medidas externas: 70 cm de altura x 50 cm de largura, com peso mínimo de 190 gramas (admitindo-se variação de até 10% no peso e nas medidas), embalados em pacote com 10 unidades e acondicionados em fardos com 5 pacotes. O pano deverá conter etiqueta de fábrica informando a composição do tecido e metragem. Prazo de validade: 12 meses a partir de cada pedido de entrega. | E9: Peça | F9: Amabile/Amabile | G9: 339030.22 | H9: 3.3 | I9: 390 | J9: =I9-(SUM(L9:W9)) -> 390 | K9: =IF(J9<0,"ATENÇÃO","OK") -> OK | M9: 0 | N9: 0 | O9: 0 | P9: 0 | Q9: 0 | R9: 0 | S9: 0 | T9: 0 | U9: 0 | V9: 0 | W9: 0
C10: 7 | D10: Flanela, peluciada em ambos os lados, para limpeza medindo 0,60 x 0,40 metros (admitindo-se variação de até 10%), com bordas chuleadas, embaladas individualmente e acondicionadas em pacote com 50 unidades. | E10: Peça | F10: Cristal/Cristal | G10: 339030.22 | H10: 1.27 | I10: 390 | J10: =I10-(SUM(L10:W10)) -> 390 | K10: =IF(J10<0,"ATENÇÃO","OK") -> OK | M10: 0 | N10: 0 | O10: 0 | P10: 0 | Q10: 0 | R10: 0 | S10: 0 | T10: 0 | U10: 0 | V10: 0 | W10: 0
A11: Deivid Reinert ME - Alterado para Embalastil Ltda ME | B11: 3 | C11: 8 | D11: Papel toalha rolão, gramatura mínima 28g/m2, cor branca, 100% celulose virgem, sem pigmentação aparente oriunda da utilização de aparas de material impresso, gofrado, macio, com alto poder de absorção, distribuição homogênea das fibras ao longo do papel, sem rebarbas no corte lateral; rolo com 0,20x100 metros; embalado em fardo com 8 rolos. (A vencedora apresentará, em até 02 dias úteis: laudo microbiológico, conforme Portaria MS nº 1.480 de 31/12/90., de laboratório credenciado pelo INMETRO, ou habilitado no REBLAS/ANVISA. Será analisada a amostra pelo responsável técnico, através da aplicação da fórmula - peso mínimo: 0,20X100X28=560 gramas). | E11: Rolo | F11: Embalastil | G11: 339030.22 | H11: 3.5 | I11: 8320 | J11: =I11-(SUM(L11:W11)) -> 6880 | K11: =IF(J11<0,"ATENÇÃO","OK") -> OK | L11: 1440 | M11: 0 | N11: 0 | O11: 0 | P11: 0 | Q11: 0 | R11: 0 | S11: 0 | T11: 0 | U11: 0 | V11: 0 | W11: 0
A12: Elo Comércio e Serviços LTDA ME | B12: 4 | C12: 9 | D12: Balde plástico com alça, borda reforçada, com capacidade para aproximadamente 15 (quinze) litros, cores diversas. Balde plástico polietileno de alta densidade (PAED), alta resistência a impacto, paredes e fundos reforçados, alça em aço zincado e com reforço na borda e no encaixe da alça, com capacidade para aproximadamente 15 (quinze) litros, cores diversas. | E12: Peça | F12: ARQPLAST | G12: 339030.22 | H12: 3.04 | I12: 20 | J12: =I12-(SUM(L12:W12)) -> 20 | K12: =IF(J12<0,"ATENÇÃO","OK") -> OK | M12: 0 | N12: 0 | O12: 0 | P12: 0 | Q12: 0 | R12: 0 | S12: 0 | T12: 0 | U12: 0 | V12: 0 | W12: 0
C13: 10 | D13: Escova para limpeza de vaso sanitário com suporte (do tipo vassoura, em forma de bola ou meia bola), com cerdas arredondadas em nylon; cabo e suporte em polipropileno; dimensão: 36x7.5x36cm, aproximadamente. | E13: Peça | F13: GAUCHA | G13: 339030.22 | H13: 3.54 | I13: 30 | J13: =I13-(SUM(L13:W13)) -> 30 | K13: =IF(J13<0,"ATENÇÃO","OK") -> OK | M13: 0 | N13: 0 | O13: 0 | P13: 0 | Q13: 0 | R13: 0 | S13: 0 | T13: 0 | U13: 0 | V13: 0 | W13: 0
C14: 11 | D14: Escovão para limpeza, com cerdas de nylon, base em material plástico ou polipropileno resistente com aproximadamente 25 cm e cabo de madeira isenta de farpas, revestido em material plástico ou polipropileno, medindo aproximadamente 1,20 metros, fixação com sistema de rosca (resistente). | E14: Peça | F14: GAUCHA | G14: 339030.22 | H14: 4.24 | I14: 30 | J14: =I14-(SUM(L14:W14)) -> 30 | K14: =IF(J14<0,"ATENÇÃO","OK") -> OK | M14: 0 | N14: 0 | O14: 0 | P14: 0 | Q14: 0 | R14: 0 | S14: 0 | T14: 0 | U14: 0 | V14: 0 | W14: 0
C15: 12 | D15: Esfregão (esponja) de aço, para limpeza de panela, com 15g (admitindo-se variação de até 1g), embalagem individual, em invólucro plástico lacrado, acondicionados em caixa de papelão resistente que suporte empilhamento. Prazo de validade: 12 meses a partir de cada entrega de pedido. | E15: Peça | F15: INOVE | G15: 339030.22 | H15: 0.81 | I15: 100 | J15: =I15-(SUM(L15:W15)) -> 100 | K15: =IF(J15<0,"ATENÇÃO","OK") -> OK | M15: 0 | N15: 0 | O15: 0 | P15: 0 | Q15: 0 | R15: 0 | S15: 0 | T15: 0 | U15: 0 | V15: 0 | W15: 0
C16: 13 | D16: Lã de aço, (em aço carbono), para limpeza e brilho, embalagem em pacote plástico lacrado com 08 unidades, pesando no mínimo 60g e acondicionadas em caixa de papelão resistente que suporte empilhamento. | E16: Pacote | F16: INOVE | G16: 339030.22 | H16: 0.96 | I16: 78 | J16: =I16-(SUM(L16:W16)) -> 78 | K16: =IF(J16<0,"ATENÇÃO","OK") -> OK | M16: 0 | N16: 0 | O16: 0 | P16: 0 | Q16: 0 | R16: 0 | S16: 0 | T16: 0 | U16: 0 | V16: 0 | W16: 0
C17: 14 | D17: Pá para lixo, de material plástico resistente, cabo curto, corpo único, acondicionadas em caixa de papelão resistente que suporte empilhamento. | E17: Peça | F17: GAUCHA | G17: 339030.22 | H17: 1.15 | I17: 30 | J17: =I17-(SUM(L17:W17)) -> 30 | K17: =IF(J17<0,"ATENÇÃO","OK") -> OK | M17: 0 | N17: 0 | O17: 0 | P17: 0 | Q17: 0 | R17: 0 | S17: 0 | T17: 0 | U17: 0 | V17: 0 | W17: 0
C18: 15 | D18: Guardanapo de papel, cor branca, macio, com alto poder de absorção, gramatura 19g a 22g/m2, medindo 30cm x 30cm, sem rebarbas no corte lateral, em embalagem com 50 (cinqüenta) unidades, acondicionado em caixa de papelão resistente que suporte empilhamento. (A vencedora apresentará, em até 02 dias úteis: Laudo Microbiológico, conforme Portaria MS nº 1.480 de 31/12/90., de laboratório credenciado pelo INMETRO, ou habilitado no REBLAS/ANVISA. | E18: Pacote | F18: SORELLA | G18: 339030.22 | H18: 1.16 | I18: 156 | J18: =I18-(SUM(L18:W18)) -> 156 | K18: =IF(J18<0,"ATENÇÃO","OK") -> OK | M18: 0 | N18: 0 | O18: 0 | P18: 0 | Q18: 0 | R18: 0 | S18: 0 | T18: 0 | U18: 0 | V18: 0 | W18: 0
C19: 16 | D19: Filtro de papel para café, com gramatura de 54 g/m2, com fechamento de dupla prensagem, tamanho 103, na cor branca; embalagem com 30 a 40 unidades, acondicionadas em caixa. | E19: Caixa | F19: BRIGITTA | G19: 339030.21 | H19: 2.11 | J19: =I19-(SUM(L19:W19)) -> 0 | K19: =IF(J19<0,"ATENÇÃO","OK") -> OK | M19: 0 | N19: 0 | O19: 0 | P19: 0 | Q19: 0 | R19: 0 | S19: 0 | T19: 0 | U19: 0 | V19: 0 | W19: 0
C20: 17 | D20: Fósforo doméstico, em maço com 10 caixas, com 40 palitos, acondicionados em pacotes. | E20: Caixa | F20: ZEBRA | G20: 339030.21 | H20: 0.12 | I20: 24 | J20: =I20-(SUM(L20:W20)) -> 24 | K20: =IF(J20<0,"ATENÇÃO","OK") -> OK | M20: 0 | N20: 0 | O20: 0 | P20: 0 | Q20: 0 | R20: 0 | S20: 0 | T20: 0 | U20: 0 | V20: 0 | W20: 0
C21: 18 | D21: Repelente elétrico para mosquito, que pemite o uso de pastilhas. Bivolt. | E21: Peça | F21: FLORA | G21: 339030.22 | H21: 10.14 | J21: =I21-(SUM(L21:W21)) -> 0 | K21: =IF(J21<0,"ATENÇÃO","OK") -> OK | M21: 0 | N21: 0 | O21: 0 | P21: 0 | Q21: 0 | R21: 0 | S21: 0 | T21: 0 | U21: 0 | V21: 0 | W21: 0
C22: 19 | D22: Pastilha para uso em repelente elétrico, cada pacote com 12 unidades | E22: Pacote | F22: PERINCET | G22: 339030.22 | H22: 1.95 | J22: =I22-(SUM(L22:W22)) -> 0 | K22: =IF(J22<0,"ATENÇÃO","OK") -> OK | M22: 0 | N22: 0 | O22: 0 | P22: 0 | Q22: 0 | R22: 0 | S22: 0 | T22: 0 | U22: 0 | V22: 0 | W22: 0
A23: Goedert Imports Ltda EPP | B23: 5 | C23: 20 | D23: Tapete, em nylon, com acabamento, tapete profissional para retenção de sujeira seca e úmida, Iron Horse, impede que a sujeira e a umidade entrem em contato com o piso, tornando-o escorregadio e perigoso. Produzido em solution-dyed nylon, resistente ao desbotamento, bordas rebaixadas de borracha nitrílica, 100% lavável, resistente à lavagem industrial, nylon opti-twist que transforma o tapete numa escova capaz de reter seu próprio peso em sujeira e umidade, retenção de até 70% da sujeira e umidade, alto tráfego. medidas 85 x 150 cm. cor: Granito. | E23: Peça | F23: Iron Horse | G23: 339030.22 | H23: 487.41 | I23: 10 | J23: =I23-(SUM(L23:W23)) -> 10 | K23: =IF(J23<0,"ATENÇÃO","OK") -> OK | M23: 0 | N23: 0 | O23: 0 | P23: 0 | Q23: 0 | R23: 0 | S23: 0 | T23: 0 | U23: 0 | V23: 0 | W23: 0
D25: *Prazos de Entrega e Pagamento conforme edital

Sheet CEART
A1: PROCESSO: 0462/2015/UDESC | D1: OBJETO: AQUISIÇÃO DE MATERIAL DE HIGIENE E LIMPEZA PARA A UDESC | I1: VIGÊNCIA DA ATA: 23/07/2015 até 22/07/2016 | L1: AF 1304/2015 | M1: AF 1874/2015 | N1: AF 1875/2015 | O1: AF 1900/2015 | P1: AF/OS nº xxxx/2015 Qtde. DT | Q1: AF/OS nº xxxx/2015 Qtde. DT | R1: AF/OS nº xxxx/2015 Qtde. DT | S1: AF/OS nº xxxx/2015 Qtde. DT | T1: AF/OS nº xxxx/2015 Qtde. DT | U1: AF/OS nº xxxx/2015 Qtde. DT | V1: AF/OS nº xxxx/2015 Qtde. DT | W1: AF/OS nº xxxx/2015 Qtde. DT
A2: CENTRO PARTICIPANTE: CEART
A3: FORNECEDOR | B3: LOTE | C3: ITEM | D3: PRODUTO - CARACTERÍSTICAS MÍNIMAS | E3: UNIDADE | F3: MARCA | G3: DETALHAMENTO | H3: Preço UNITÁRIO (R$) | I3: Qtde Registrada | J3: Saldo / Automático | K3: ALERTA | L3: 42214 | M3: 42285 | N3: 42285 | O3: 42286 | P3: ...../...../...... | Q3: ...../...../...... | R3: ...../...../...... | S3: ...../...../...... | T3: ...../...../...... | U3: ...../...../...... | V3: ...../...../...... | W3: ...../...../......
A4: Comercial Multiville LTDA EPP | B4: 1 | C4: 1 | D4: Sabonete glicerinado, em barra, para uso geral, com aproximadamente 90 gramas, embalagem individual e acondicionados em caixa. (Apresentar: AFE-Autorização de Funcionamento da Empresa e Notificação no MS ANVISA, cfe DECRETO Nº 79.094/77, RDC 343/2005). | E4: Peça | F4: Motivus | G4: 339030.22 | H4: 0.94 | J4: =I4-(SUM(L4:W4)) -> 0 | K4: =IF(J4<0,"ATENÇÃO","OK") -> OK | L4: 0 | M4: 0 | N4: 0 | O4: 0 | P4: 0 | Q4: 0 | R4: 0 | S4: 0 | T4: 0 | U4: 0 | V4: 0 | W4: 0
C5: 2 | D5: Sabonete líquido aromatizado, fragrância suave, alta viscosidade, hipoalergênico, frasco com 5 litros, acondicionados em caixa de papelão resistente que suporte empilhamento. (Apresentar: Laudo de Irritabilidade Dérmica, conclusivo, que comprove ser HIPOALERGÊNICO, expedido por laboratório credenciado pela ANVISA, AFE-Autorização de Funcionamento da Empresa e Notificação no MS ANVISA, cfe DECRETO Nº 79.094/77, RDC 343/2005). | E5: Galão | F5: Saúba | G5: 339030.22 | H5: 12.95 | I5: 150 | J5: =I5-(SUM(L5:W5)) -> 125 | K5: =IF(J5<0,"ATENÇÃO","OK") -> OK | L5: 10 | M5: 15 | N5: 0 | O5: 0 | P5: 0 | Q5: 0 | R5: 0 | S5: 0 | T5: 0 | U5: 0 | V5: 0 | W5: 0
C6: 3 | D6: Saboneteira em plástico ABS, com válvula, para uso de sabonete em espuma refil 800ml, com abertura em "chave". Cor branca ou bege. | E6: Peça | F6: Nobre | G6: 339030.22 | H6: 31.21 | J6: =I6-(SUM(L6:W6)) -> 0 | K6: =IF(J6<0,"ATENÇÃO","OK") -> OK | L6: 0 | M6: 0 | N6: 0 | O6: 0 | P6: 0 | Q6: 0 | R6: 0 | S6: 0 | T6: 0 | U6: 0 | V6: 0 | W6: 0
C7: 4 | D7: Sabonete para uso em saboneteira espumante, sem válvula, refil com 800ml, fragrância erva doce. (Apresentar: Laudo de Irritabilidade Dérmica, conclusivo, que comprove ser HIPOALERGÊNICO, expedido por laboratório credenciado pela ANVISA, AFE-Autorização de Funcionamento da Empresa e Notificação no MS ANVISA, cfe DECRETO Nº 79.094/77, RDC 343/2005). | E7: Peça | F7: Saúba | G7: 339030.22 | H7: 15.5 | J7: =I7-(SUM(L7:W7)) -> 0 | K7: =IF(J7<0,"ATENÇÃO","OK") -> OK | L7: 0 | M7: 0 | N7: 0 | O7: 0 | P7: 0 | Q7: 0 | R7: 0 | S7: 0 | T7: 0 | U7: 0 | V7: 0 | W7: 0
A8: L1 Serv. Org. Feiras Cong. Viagens e Eventos Ltda ME | B8: 2 | C8: 5 | D8: Pano de copa, em tecido 100% algodão, branco alvejado, medindo 0,70 x 0,50m, com bainha, com peso mínimo de 70g, admitindo-se variação de até 10% no peso e na medida; embalados individualmente, acondicionados em pacote com 50 unidades. O pano deverá conter etiqueta de fábrica indicando a composição do tecido e a metragem. Prazo de validade: 12 meses a partir de cada entrega de pedido. | E8: Peça | F8: Amabile/Amabile | G8: 339030.22 | H8: 1.49 | I8: 1000 | J8: =I8-(SUM(L8:W8)) -> 1000 | K8: =IF(J8<0,"ATENÇÃO","OK") -> OK | L8: 0 | M8: 0 | N8: 0 | O8: 0 | P8: 0 | Q8: 0 | R8: 0 | S8: 0 | T8: 0 | U8: 0 | V8: 0 | W8: 0
C9: 6 | D9: Saco de tecido, 100% algodão, para limpeza, lavado e alvejado, medidas externas: 70 cm de altura x 50 cm de largura, com peso mínimo de 190 gramas (admitindo-se variação de até 10% no peso e nas medidas), embalados em pacote com 10 unidades e acondicionados em fardos com 5 pacotes. O pano deverá conter etiqueta de fábrica informando a composição do tecido e metragem. Prazo de validade: 12 meses a partir de cada pedido de entrega. | E9: Peça | F9: Amabile/Amabile | G9: 339030.22 | H9: 3.3 | I9: 2000 | J9: =I9-(SUM(L9:W9)) -> 1900 | K9: =IF(J9<0,"ATENÇÃO","OK") -> OK | L9: 0 | M9: 0 | N9: 100 | O9: 0 | P9: 0 | Q9: 0 | R9: 0 | S9: 0 | T9: 0 | U9: 0 | V9: 0 | W9: 0
C10: 7 | D10: Flanela, peluciada em ambos os lados, para limpeza medindo 0,60 x 0,40 metros (admitindo-se variação de até 10%), com bordas chuleadas, embaladas individualmente e acondicionadas em pacote com 50 unidades. | E10: Peça | F10: Cristal/Cristal | G10: 339030.22 | H10: 1.27 | I10: 2000 | J10: =I10-(SUM(L10:W10)) -> 2000 | K10: =IF(J10<0,"ATENÇÃO","OK") -> OK | L10: 0 | M10: 0 | N10: 0 | O10: 0 | P10: 0 | Q10: 0 | R10: 0 | S10: 0 | T10: 0 | U10: 0 | V10: 0 | W10: 0
A11: Deivid Reinert ME - Alterado para Embalastil Ltda ME | B11: 3 | C11: 8 | D11: Papel toalha rolão, gramatura mínima 28g/m2, cor branca, 100% celulose virgem, sem pigmentação aparente oriunda da utilização de aparas de material impresso, gofrado, macio, com alto poder de absorção, distribuição homogênea das fibras ao longo do papel, sem rebarbas no corte lateral; rolo com 0,20x100 metros; embalado em fardo com 8 rolos. (A vencedora apresentará, em até 02 dias úteis: laudo microbiológico, conforme Portaria MS nº 1.480 de 31/12/90., de laboratório credenciado pelo INMETRO, ou habilitado no REBLAS/ANVISA. Será analisada a amostra pelo responsável técnico, através da aplicação da fórmula - peso mínimo: 0,20X100X28=560 gramas). | E11: Rolo | F11: Embalastil | G11: 339030.22 | H11: 3.5 | I11: 10000 | J11: =I11-(SUM(L11:W11)) -> 8520 | K11: =IF(J11<0,"ATENÇÃO","OK") -> OK | L11: 0 | M11: 0 | N11: 0 | O11: =185*8 -> 1480 | P11: 0 | Q11: 0 | R11: 0 | S11: 0 | T11: 0 | U11: 0 | V11: 0 | W11: 0
A12: Elo Comércio e Serviços LTDA ME | B12: 4 | C12: 9 | D12: Balde plástico com alça, borda reforçada, com capacidade para aproximadamente 15 (quinze) litros, cores diversas. Balde plástico polietileno de alta densidade (PAED), alta resistência a impacto, paredes e fundos reforçados, alça em aço zincado e com reforço na borda e no encaixe da alça, com capacidade para aproximadamente 15 (quinze) litros, cores diversas. | E12: Peça | F12: ARQPLAST | G12: 339030.22 | H12: 3.04 | I12: 30 | J12: =I12-(SUM(L12:W12)) -> 30 | K12: =IF(J12<0,"ATENÇÃO","OK") -> OK | L12: 0 | M12: 0 | N12: 0 | O12: 0 | P12: 0 | Q12: 0 | R12: 0 | S12: 0 | T12: 0 | U12: 0 | V12: 0 | W12: 0
C13: 10 | D13: Escova para limpeza de vaso sanitário com suporte (do tipo vassoura, em forma de bola ou meia bola), com cerdas arredondadas em nylon; cabo e suporte em polipropileno; dimensão: 36x7.5x36cm, aproximadamente. | E13: Peça | F13: GAUCHA | G13: 339030.22 | H13: 3.54 | I13: 50 | J13: =I13-(SUM(L13:W13)) -> 50 | K13: =IF(J13<0,"ATENÇÃO","OK") -> OK | L13: 0 | M13: 0 | N13: 0 | O13: 0 | P13: 0 | Q13: 0 | R13: 0 | S13: 0 | T13: 0 | U13: 0 | V13: 0 | W13: 0
C14: 11 | D14: Escovão para limpeza, com cerdas de nylon, base em material plástico ou polipropileno resistente com aproximadamente 25 cm e cabo de madeira isenta de farpas, revestido em material plástico ou polipropileno, medindo aproximadamente 1,20 metros, fixação com sistema de rosca (resistente). | E14: Peça | F14: GAUCHA | G14: 339030.22 | H14: 4.24 | J14: =I14-(SUM(L14:W14)) -> 0 | K14: =IF(J14<0,"ATENÇÃO","OK") -> OK | L14: 0 | M14: 0 | N14: 0 | O14: 0 | P14: 0 | Q14: 0 | R14: 0 | S14: 0 | T14: 0 | U14: 0 | V14: 0 | W14: 0
C15: 12 | D15: Esfregão (esponja) de aço, para limpeza de panela, com 15g (admitindo-se variação de até 1g), embalagem individual, em invólucro plástico lacrado, acondicionados em caixa de papelão resistente que suporte empilhamento. Prazo de validade: 12 meses a partir de cada entrega de pedido. | E15: Peça | F15: INOVE | G15: 339030.22 | H15: 0.81 | J15: =I15-(SUM(L15:W15)) -> 0 | K15: =IF(J15<0,"ATENÇÃO","OK") -> OK | L15: 0 | M15: 0 | N15: 0 | O15: 0 | P15: 0 | Q15: 0 | R15: 0 | S15: 0 | T15: 0 | U15: 0 | V15: 0 | W15: 0
C16: 13 | D16: Lã de aço, (em aço carbono), para limpeza e brilho, embalagem em pacote plástico lacrado com 08 unidades, pesando no mínimo 60g e acondicionadas em caixa de papelão resistente que suporte empilhamento. | E16: Pacote | F16: INOVE | G16: 339030.22 | H16: 0.96 | I16: 300 | J16: =I16-(SUM(L16:W16)) -> 300 | K16: =IF(J16<0,"ATENÇÃO","OK") -> OK | L16: 0 | M16: 0 | N16: 0 | O16: 0 | P16: 0 | Q16: 0 | R16: 0 | S16: 0 | T16: 0 | U16: 0 | V16: 0 | W16: 0
C17: 14 | D17: Pá para lixo, de material plástico resistente, cabo curto, corpo único, acondicionadas em caixa de papelão resistente que suporte empilhamento. | E17: Peça | F17: GAUCHA | G17: 339030.22 | H17: 1.15 | I17: 60 | J17: =I17-(SUM(L17:W17)) -> 60 | K17: =IF(J17<0,"ATENÇÃO","OK") -> OK | L17: 0 | M17: 0 | N17: 0 | O17: 0 | P17: 0 | Q17: 0 | R17: 0 | S17: 0 | T17: 0 | U17: 0 | V17: 0 | W17: 0
C18: 15 | D18: Guardanapo de papel, cor branca, macio, com alto poder de absorção, gramatura 19g a 22g/m2, medindo 30cm x 30cm, sem rebarbas no corte lateral, em embalagem com 50 (cinqüenta) unidades, acondicionado em caixa de papelão resistente que suporte empilhamento. (A vencedora apresentará, em até 02 dias úteis: Laudo Microbiológico, conforme Portaria MS nº 1.480 de 31/12/90., de laboratório credenciado pelo INMETRO, ou habilitado no REBLAS/ANVISA. | E18: Pacote | F18: SORELLA | G18: 339030.22 | H18: 1.16 | I18: 100 | J18: =I18-(SUM(L18:W18)) -> 100 | K18: =IF(J18<0,"ATENÇÃO","OK") -> OK | L18: 0 | M18: 0 | N18: 0 | O18: 0 | P18: 0 | Q18: 0 | R18: 0 | S18: 0 | T18: 0 | U18: 0 | V18: 0 | W18: 0
C19: 16 | D19: Filtro de papel para café, com gramatura de 54 g/m2, com fechamento de dupla prensagem, tamanho 103, na cor branca; embalagem com 30 a 40 unidades, acondicionadas em caixa. | E19: Caixa | F19: BRIGITTA | G19: 339030.21 | H19: 2.11 | J19: =I19-(SUM(L19:W19)) -> 0 | K19: =IF(J19<0,"ATENÇÃO","OK") -> OK | L19: 0 | M19: 0 | N19: 0 | O19: 0 | P19: 0 | Q19: 0 | R19: 0 | S19: 0 | T19: 0 | U19: 0 | V19: 0 | W19: 0
C20: 17 | D20: Fósforo doméstico, em maço com 10 caixas, com 40 palitos, acondicionados em pacotes. | E20: Caixa | F20: ZEBRA | G20: 339030.21 | H20: 0.12 | J20: =I20-(SUM(L20:W20)) -> 0 | K20: =IF(J20<0,"ATENÇÃO","OK") -> OK | L20: 0 | M20: 0 | N20: 0 | O20: 0 | P20: 0 | Q20: 0 | R20: 0 | S20: 0 | T20: 0 | U20: 0 | V20: 0 | W20: 0
C21: 18 | D21: Repelente elétrico para mosquito, que pemite o uso de pastilhas. Bivolt. | E21: Peça | F21: FLORA | G21: 339030.22 | H21: 10.14 | J21: =I21-(SUM(L21:W21)) -> 0 | K21: =IF(J21<0,"ATENÇÃO","OK") -> OK | L21: 0 | M21: 0 | N21: 0 | O21: 0 | P21: 0 | Q21: 0 | R21: 0 | S21: 0 | T21: 0 | U21: 0 | V21: 0 | W21: 0
C22: 19 | D22: Pastilha para uso em repelente elétrico, cada pacote com 12 unidades | E22: Pacote | F22: PERINCET | G22: 339030.22 | H22: 1.95 | J22: =I22-(SUM(L22:W22)) -> 0 | K22: =IF(J22<0,"ATENÇÃO","OK") -> OK | L22: 0 | M22: 0 | N22: 0 | O22: 0 | P22: 0 | Q22: 0 | R22: 0 | S22: 0 | T22: 0 | U22: 0 | V22: 0 | W22: 0
A23: Goedert Imports Ltda EPP | B23: 5 | C23: 20 | D23: Tapete, em nylon, com acabamento, tapete profissional para retenção de sujeira seca e úmida, Iron Horse, impede que a sujeira e a umidade entrem em contato com o piso, tornando-o escorregadio e perigoso. Produzido em solution-dyed nylon, resistente ao desbotamento, bordas rebaixadas de borracha nitrílica, 100% lavável, resistente à lavagem industrial, nylon opti-twist que transforma o tapete numa escova capaz de reter seu próprio peso em sujeira e umidade, retenção de até 70% da sujeira e umidade, alto tráfego. medidas 85 x 150 cm. cor: Granito. | E23: Peça | F23: Iron Horse | G23: 339030.22 | H23: 487.41 | J23: =I23-(SUM(L23:W23)) -> 0 | K23: =IF(J23<0,"ATENÇÃO","OK") -> OK | L23: 0 | M23: 0 | N23: 0 | O23: 0 | P23: 0 | Q23: 0 | R23: 0 | S23: 0 | T23: 0 | U23: 0 | V23: 0 | W23: 0
D25: *Prazos de Entrega e Pagamento conforme edital

Sheet CEFID
A1: PROCESSO: 0462/2015/UDESC | D1: OBJETO: AQUISIÇÃO DE MATERIAL DE HIGIENE E LIMPEZA PARA A UDESC | I1: VIGÊNCIA DA ATA: 23/07/2015 até 22/07/2016 | L1: AF/OS nº 1856/2015 Qtde. DT | M1: AF/OS nº 1916/2015 Qtde. DT | N1: AF/OS nº xxxx/2015 Qtde. DT | O1: AF/OS nº xxxx/2015 Qtde. DT | P1: AF/OS nº xxxx/2015 Qtde. DT | Q1: AF/OS nº xxxx/2015 Qtde. DT | R1: AF/OS nº xxxx/2015 Qtde. DT | S1: AF/OS nº xxxx/2015 Qtde. DT | T1: AF/OS nº xxxx/2015 Qtde. DT | U1: AF/OS nº xxxx/2015 Qtde. DT | V1: AF/OS nº xxxx/2015 Qtde. DT | W1: AF/OS nº xxxx/2015 Qtde. DT
A2: CENTRO PARTICIPANTE: CEFID
A3: FORNECEDOR | B3: LOTE | C3: ITEM | D3: PRODUTO - CARACTERÍSTICAS MÍNIMAS | E3: UNIDADE | F3: MARCA | G3: DETALHAMENTO | H3: Preço UNITÁRIO (R$) | I3: Qtde Registrada | J3: Saldo / Automático | K3: ALERTA | L3: 42283 | M3: 42290 | N3: ...../...../...... | O3: ...../...../...... | P3: ...../...../...... | Q3: ...../...../...... | R3: ...../...../...... | S3: ...../...../...... | T3: ...../...../...... | U3: ...../...../...... | V3: ...../...../...... | W3: ...../...../......
A4: Comercial Multiville LTDA EPP | B4: 1 | C4: 1 | D4: Sabonete glicerinado, em barra, para uso geral, com aproximadamente 90 gramas, embalagem individual e acondicionados em caixa. (Apresentar: AFE-Autorização de Funcionamento da Empresa e Notificação no MS ANVISA, cfe DECRETO Nº 79.094/77, RDC 343/2005). | E4: Peça | F4: Motivus | G4: 339030.22 | H4: 0.94 | J4: =I4-(SUM(L4:W4)) -> 0 | K4: =IF(J4<0,"ATENÇÃO","OK") -> OK | L4: 0 | M4: 0 | N4: 0 | O4: 0 | P4: 0 | Q4: 0 | R4: 0 | S4: 0 | T4: 0 | U4: 0 | V4: 0 | W4: 0
C5: 2 | D5: Sabonete líquido aromatizado, fragrância suave, alta viscosidade, hipoalergênico, frasco com 5 litros, acondicionados em caixa de papelão resistente que suporte empilhamento. (Apresentar: Laudo de Irritabilidade Dérmica, conclusivo, que comprove ser HIPOALERGÊNICO, expedido por laboratório credenciado pela ANVISA, AFE-Autorização de Funcionamento da Empresa e Notificação no MS ANVISA, cfe DECRETO Nº 79.094/77, RDC 343/2005). | E5: Galão | F5: Saúba | G5: 339030.22 | H5: 12.95 | I5: 120 | J5: =I5-(SUM(L5:W5)) -> 90 | K5: =IF(J5<0,"ATENÇÃO","OK") -> OK | L5: 30 | M5: 0 | N5: 0 | O5: 0 | P5: 0 | Q5: 0 | R5: 0 | S5: 0 | T5: 0 | U5: 0 | V5: 0 | W5: 0
C6: 3 | D6: Saboneteira em plástico ABS, com válvula, para uso de sabonete em espuma refil 800ml, com abertura em "chave". Cor branca ou bege. | E6: Peça | F6: Nobre | G6: 339030.22 | H6: 31.21 | J6: =I6-(SUM(L6:W6)) -> 0 | K6: =IF(J6<0,"ATENÇÃO","OK") -> OK | L6: 0 | M6: 0 | N6: 0 | O6: 0 | P6: 0 | Q6: 0 | R6: 0 | S6: 0 | T6: 0 | U6: 0 | V6: 0 | W6: 0
C7: 4 | D7: Sabonete para uso em saboneteira espumante, sem válvula, refil com 800ml, fragrância erva doce. (Apresentar: Laudo de Irritabilidade Dérmica, conclusivo, que comprove ser HIPOALERGÊNICO, expedido por laboratório credenciado pela ANVISA, AFE-Autorização de Funcionamento da Empresa e Notificação no MS ANVISA, cfe DECRETO Nº 79.094/77, RDC 343/2005). | E7: Peça | F7: Saúba | G7: 339030.22 | H7: 15.5 | J7: =I7-(SUM(L7:W7)) -> 0 | K7: =IF(J7<0,"ATENÇÃO","OK") -> OK | L7: 0 | M7: 0 | N7: 0 | O7: 0 | P7: 0 | Q7: 0 | R7: 0 | S7: 0 | T7: 0 | U7: 0 | V7: 0 | W7: 0
A8: L1 Serv. Org. Feiras Cong. Viagens e Eventos Ltda ME | B8: 2 | C8: 5 | D8: Pano de copa, em tecido 100% algodão, branco alvejado, medindo 0,70 x 0,50m, com bainha, com peso mínimo de 70g, admitindo-se variação de até 10% no peso e na medida; embalados individualmente, acondicionados em pacote com 50 unidades. O pano deverá conter etiqueta de fábrica indicando a composição do tecido e a metragem. Prazo de validade: 12 meses a partir de cada entrega de pedido. | E8: Peça | F8: Amabile/Amabile | G8: 339030.22 | H8: 1.49 | I8: 800 | J8: =I8-(SUM(L8:W8)) -> 800 | K8: =IF(J8<0,"ATENÇÃO","OK") -> OK | L8: 0 | M8: 0 | N8: 0 | O8: 0 | P8: 0 | Q8: 0 | R8: 0 | S8: 0 | T8: 0 | U8: 0 | V8: 0 | W8: 0
C9: 6 | D9: Saco de tecido, 100% algodão, para limpeza, lavado e alvejado, medidas externas: 70 cm de altura x 50 cm de largura, com peso mínimo de 190 gramas (admitindo-se variação de até 10% no peso e nas medidas), embalados em pacote com 10 unidades e acondicionados em fardos com 5 pacotes. O pano deverá conter etiqueta de fábrica informando a composição do tecido e metragem. Prazo de validade: 12 meses a partir de cada pedido de entrega. | E9: Peça | F9: Amabile/Amabile | G9: 339030.22 | H9: 3.3 | I9: 800 | J9: =I9-(SUM(L9:W9)) -> 800 | K9: =IF(J9<0,"ATENÇÃO","OK") -> OK | L9: 0 | M9: 0 | N9: 0 | O9: 0 | P9: 0 | Q9: 0 | R9: 0 | S9: 0 | T9: 0 | U9: 0 | V9: 0 | W9: 0
C10: 7 | D10: Flanela, peluciada em ambos os lados, para limpeza medindo 0,60 x 0,40 metros (admitindo-se variação de até 10%), com bordas chuleadas, embaladas individualmente e acondicionadas em pacote com 50 unidades. | E10: Peça | F10: Cristal/Cristal | G10: 339030.22 | H10: 1.27 | I10: 800 | J10: =I10-(SUM(L10:W10)) -> 800 | K10: =IF(J10<0,"ATENÇÃO","OK") -> OK | L10: 0 | M10: 0 | N10: 0 | O10: 0 | P10: 0 | Q10: 0 | R10: 0 | S10: 0 | T10: 0 | U10: 0 | V10: 0 | W10: 0
A11: Deivid Reinert ME - Alterado para Embalastil Ltda ME | B11: 3 | C11: 8 | D11: Papel toalha rolão, gramatura mínima 28g/m2, cor branca, 100% celulose virgem, sem pigmentação aparente oriunda da utilização de aparas de material impresso, gofrado, macio, com alto poder de absorção, distribuição homogênea das fibras ao longo do papel, sem rebarbas no corte lateral; rolo com 0,20x100 metros; embalado em fardo com 8 rolos. (A vencedora apresentará, em até 02 dias úteis: laudo microbiológico, conforme Portaria MS nº 1.480 de 31/12/90., de laboratório credenciado pelo INMETRO, ou habilitado no REBLAS/ANVISA. Será analisada a amostra pelo responsável técnico, através da aplicação da fórmula - peso mínimo: 0,20X100X28=560 gramas). | E11: Rolo | F11: Embalastil | G11: 339030.22 | H11: 3.5 | J11: =I11-(SUM(L11:W11)) -> 0 | K11: =IF(J11<0,"ATENÇÃO","OK") -> OK | L11: 0 | M11: 0 | N11: 0 | O11: 0 | P11: 0 | Q11: 0 | R11: 0 | S11: 0 | T11: 0 | U11: 0 | V11: 0 | W11: 0
A12: Elo Comércio e Serviços LTDA ME | B12: 4 | C12: 9 | D12: Balde plástico com alça, borda reforçada, com capacidade para aproximadamente 15 (quinze) litros, cores diversas. Balde plástico polietileno de alta densidade (PAED), alta resistência a impacto, paredes e fundos reforçados, alça em aço zincado e com reforço na borda e no encaixe da alça, com capacidade para aproximadamente 15 (quinze) litros, cores diversas. | E12: Peça | F12: ARQPLAST | G12: 339030.22 | H12: 3.04 | I12: 50 | J12: =I12-(SUM(L12:W12)) -> 30 | K12: =IF(J12<0,"ATENÇÃO","OK") -> OK | L12: 0 | M12: 20 | N12: 0 | O12: 0 | P12: 0 | Q12: 0 | R12: 0 | S12: 0 | T12: 0 | U12: 0 | V12: 0 | W12: 0
C13: 10 | D13: Escova para limpeza de vaso sanitário com suporte (do tipo vassoura, em forma de bola ou meia bola), com cerdas arredondadas em nylon; cabo e suporte em polipropileno; dimensão: 36x7.5x36cm, aproximadamente. | E13: Peça | F13: GAUCHA | G13: 339030.22 | H13: 3.54 | I13: 50 | J13: =I13-(SUM(L13:W13)) -> 20 | K13: =IF(J13<0,"ATENÇÃO","OK") -> OK | L13: 0 | M13: 30 | N13: 0 | O13: 0 | P13: 0 | Q13: 0 | R13: 0 | S13: 0 | T13: 0 | U13: 0 | V13: 0 | W13: 0
C14: 11 | D14: Escovão para limpeza, com cerdas de nylon, base em material plástico ou polipropileno resistente com aproximadamente 25 cm e cabo de madeira isenta de farpas, revestido em material plástico ou polipropileno, medindo aproximadamente 1,20 metros, fixação com sistema de rosca (resistente). | E14: Peça | F14: GAUCHA | G14: 339030.22 | H14: 4.24 | J14: =I14-(SUM(L14:W14)) -> 0 | K14: =IF(J14<0,"ATENÇÃO","OK") -> OK | L14: 0 | M14: 0 | N14: 0 | O14: 0 | P14: 0 | Q14: 0 | R14: 0 | S14: 0 | T14: 0 | U14: 0 | V14: 0 | W14: 0
C15: 12 | D15: Esfregão (esponja) de aço, para limpeza de panela, com 15g (admitindo-se variação de até 1g), embalagem individual, em invólucro plástico lacrado, acondicionados em caixa de papelão resistente que suporte empilhamento. Prazo de validade: 12 meses a partir de cada entrega de pedido. | E15: Peça | F15: INOVE | G15: 339030.22 | H15: 0.81 | I15: 50 | J15: =I15-(SUM(L15:W15)) -> 50 | K15: =IF(J15<0,"ATENÇÃO","OK") -> OK | L15: 0 | M15: 0 | N15: 0 | O15: 0 | P15: 0 | Q15: 0 | R15: 0 | S15: 0 | T15: 0 | U15: 0 | V15: 0 | W15: 0
C16: 13 | D16: Lã de aço, (em aço carbono), para limpeza e brilho, embalagem em pacote plástico lacrado com 08 unidades, pesando no mínimo 60g e acondicionadas em caixa de papelão resistente que suporte empilhamento. | E16: Pacote | F16: INOVE | G16: 339030.22 | H16: 0.96 | I16: 50 | J16: =I16-(SUM(L16:W16)) -> 50 | K16: =IF(J16<0,"ATENÇÃO","OK") -> OK | L16: 0 | M16: 0 | N16: 0 | O16: 0 | P16: 0 | Q16: 0 | R16: 0 | S16: 0 | T16: 0 | U16: 0 | V16: 0 | W16: 0
C17: 14 | D17: Pá para lixo, de material plástico resistente, cabo curto, corpo único, acondicionadas em caixa de papelão resistente que suporte empilhamento. | E17: Peça | F17: GAUCHA | G17: 339030.22 | H17: 1.15 | I17: 150 | J17: =I17-(SUM(L17:W17)) -> 150 | K17: =IF(J17<0,"ATENÇÃO","OK") -> OK | L17: 0 | M17: 0 | N17: 0 | O17: 0 | P17: 0 | Q17: 0 | R17: 0 | S17: 0 | T17: 0 | U17: 0 | V17: 0 | W17: 0
C18: 15 | D18: Guardanapo de papel, cor branca, macio, com alto poder de absorção, gramatura 19g a 22g/m2, medindo 30cm x 30cm, sem rebarbas no corte lateral, em embalagem com 50 (cinqüenta) unidades, acondicionado em caixa de papelão resistente que suporte empilhamento. (A vencedora apresentará, em até 02 dias úteis: Laudo Microbiológico, conforme Portaria MS nº 1.480 de 31/12/90., de laboratório credenciado pelo INMETRO, ou habilitado no REBLAS/ANVISA. | E18: Pacote | F18: SORELLA | G18: 339030.22 | H18: 1.16 | I18: 100 | J18: =I18-(SUM(L18:W18)) -> 100 | K18: =IF(J18<0,"ATENÇÃO","OK") -> OK | L18: 0 | M18: 0 | N18: 0 | O18: 0 | P18: 0 | Q18: 0 | R18: 0 | S18: 0 | T18: 0 | U18: 0 | V18: 0 | W18: 0
C19: 16 | D19: Filtro de papel para café, com gramatura de 54 g/m2, com fechamento de dupla prensagem, tamanho 103, na cor branca; embalagem com 30 a 40 unidades, acondicionadas em caixa. | E19: Caixa | F19: BRIGITTA | G19: 339030.21 | H19: 2.11 | I19: 50 | J19: =I19-(SUM(L19:W19)) -> 0 | K19: =IF(J19<0,"ATENÇÃO","OK") -> OK | L19: 0 | M19: 50 | N19: 0 | O19: 0 | P19: 0 | Q19: 0 | R19: 0 | S19: 0 | T19: 0 | U19: 0 | V19: 0 | W19: 0
C20: 17 | D20: Fósforo doméstico, em maço com 10 caixas, com 40 palitos, acondicionados em pacotes. | E20: Caixa | F20: ZEBRA | G20: 339030.21 | H20: 0.12 | J20: =I20-(SUM(L20:W20)) -> 0 | K20: =IF(J20<0,"ATENÇÃO","OK") -> OK | L20: 0 | M20: 0 | N20: 0 | O20: 0 | P20: 0 | Q20: 0 | R20: 0 | S20: 0 | T20: 0 | U20: 0 | V20: 0 | W20: 0
C21: 18 | D21: Repelente elétrico para mosquito, que pemite o uso de pastilhas. Bivolt. | E21: Peça | F21: FLORA | G21: 339030.22 | H21: 10.14 | J21: =I21-(SUM(L21:W21)) -> 0 | K21: =IF(J21<0,"ATENÇÃO","OK") -> OK | L21: 0 | M21: 0 | N21: 0 | O21: 0 | P21: 0 | Q21: 0 | R21: 0 | S21: 0 | T21: 0 | U21: 0 | V21: 0 | W21: 0
C22: 19 | D22: Pastilha para uso em repelente elétrico, cada pacote com 12 unidades | E22: Pacote | F22: PERINCET | G22: 339030.22 | H22: 1.95 | J22: =I22-(SUM(L22:W22)) -> 0 | K22: =IF(J22<0,"ATENÇÃO","OK") -> OK | L22: 0 | M22: 0 | N22: 0 | O22: 0 | P22: 0 | Q22: 0 | R22: 0 | S22: 0 | T22: 0 | U22: 0 | V22: 0 | W22: 0
A23: Goedert Imports Ltda EPP | B23: 5 | C23: 20 | D23: Tapete, em nylon, com acabamento, tapete profissional para retenção de sujeira seca e úmida, Iron Horse, impede que a sujeira e a umidade entrem em contato com o piso, tornando-o escorregadio e perigoso. Produzido em solution-dyed nylon, resistente ao desbotamento, bordas rebaixadas de borracha nitrílica, 100% lavável, resistente à lavagem industrial, nylon opti-twist que transforma o tapete numa escova capaz de reter seu próprio peso em sujeira e umidade, retenção de até 70% da sujeira e umidade, alto tráfego. medidas 85 x 150 cm. cor: Granito. | E23: Peça | F23: Iron Horse | G23: 339030.22 | H23: 487.41 | J23: =I23-(SUM(L23:W23)) -> 0 | K23: =IF(J23<0,"ATENÇÃO","OK") -> OK | L23: 0 | M23: 0 | N23: 0 | O23: 0 | P23: 0 | Q23: 0 | R23: 0 | S23: 0 | T23: 0 | U23: 0 | V23: 0 | W23: 0
D25: *Prazos de Entrega e Pagamento conforme edital

Sheet FAED
A1: PROCESSO: 0462/2015/UDESC | D1: OBJETO: AQUISIÇÃO DE MATERIAL DE HIGIENE E LIMPEZA PARA A UDESC | I1: VIGÊNCIA DA ATA: 23/07/2015 até 22/07/2016 | L1: AF/OS nº 1361/2015 Qtde. DT | M1: AF/OS nº 1362/2015 Qtde. DT | N1: AF/OS nº 1364/2015 Qtde. DT | O1: AF/OS nº 1365/2015 Qtde. DT | P1: AF/OS nº 2087/2015 Qtde. DT | Q1: AF/OS nº xxxx/2015 Qtde. DT | R1: AF/OS nº xxxx/2015 Qtde. DT | S1: AF/OS nº xxxx/2015 Qtde. DT | T1: AF/OS nº xxxx/2015 Qtde. DT | U1: AF/OS nº xxxx/2015 Qtde. DT | V1: AF/OS nº xxxx/2015 Qtde. DT | W1: AF/OS nº xxxx/2015 Qtde. DT
A2: CENTRO PARTICIPANTE: FAED
A3: FORNECEDOR | B3: LOTE | C3: ITEM | D3: PRODUTO - CARACTERÍSTICAS MÍNIMAS | E3: UNIDADE | F3: MARCA | G3: DETALHAMENTO | H3: Preço UNITÁRIO (R$) | I3: Qtde Registrada | J3: Saldo / Automático | K3: ALERTA | L3: 42221 | M3: 42221 | N3: 42221 | O3: 42221 | P3: 42312 | Q3: ...../...../...... | R3: ...../...../...... | S3: ...../...../...... | T3: ...../...../...... | U3: ...../...../...... | V3: ...../...../...... | W3: ...../...../......
A4: Comercial Multiville LTDA EPP | B4: 1 | C4: 1 | D4: Sabonete glicerinado, em barra, para uso geral, com aproximadamente 90 gramas, embalagem individual e acondicionados em caixa. (Apresentar: AFE-Autorização de Funcionamento da Empresa e Notificação no MS ANVISA, cfe DECRETO Nº 79.094/77, RDC 343/2005). | E4: Peça | F4: Motivus | G4: 339030.22 | H4: 0.94 | I4: 100 | J4: =I4-(SUM(L4:W4)) -> 100 | K4: =IF(J4<0,"ATENÇÃO","OK") -> OK | L4: 0 | M4: 0 | N4: 0 | O4: 0 | P4: 0 | Q4: 0 | R4: 0 | S4: 0 | T4: 0 | U4: 0 | V4: 0 | W4: 0
C5: 2 | D5: Sabonete líquido aromatizado, fragrância suave, alta viscosidade, hipoalergênico, frasco com 5 litros, acondicionados em caixa de papelão resistente que suporte empilhamento. (Apresentar: Laudo de Irritabilidade Dérmica, conclusivo, que comprove ser HIPOALERGÊNICO, expedido por laboratório credenciado pela ANVISA, AFE-Autorização de Funcionamento da Empresa e Notificação no MS ANVISA, cfe DECRETO Nº 79.094/77, RDC 343/2005). | E5: Galão | F5: Saúba | G5: 339030.22 | H5: 12.95 | I5: 200 | J5: =I5-(SUM(L5:W5)) -> 170 | K5: =IF(J5<0,"ATENÇÃO","OK") -> OK | L5: 30 | M5: 0 | N5: 0 | O5: 0 | P5: 0 | Q5: 0 | R5: 0 | S5: 0 | T5: 0 | U5: 0 | V5: 0 | W5: 0
C6: 3 | D6: Saboneteira em plástico ABS, com válvula, para uso de sabonete em espuma refil 800ml, com abertura em "chave". Cor branca ou bege. | E6: Peça | F6: Nobre | G6: 339030.22 | H6: 31.21 | J6: =I6-(SUM(L6:W6)) -> 0 | K6: =IF(J6<0,"ATENÇÃO","OK") -> OK | L6: 0 | M6: 0 | N6: 0 | O6: 0 | P6: 0 | Q6: 0 | R6: 0 | S6: 0 | T6: 0 | U6: 0 | V6: 0 | W6: 0
C7: 4 | D7: Sabonete para uso em saboneteira espumante, sem válvula, refil com 800ml, fragrância erva doce. (Apresentar: Laudo de Irritabilidade Dérmica, conclusivo, que comprove ser HIPOALERGÊNICO, expedido por laboratório credenciado pela ANVISA, AFE-Autorização de Funcionamento da Empresa e Notificação no MS ANVISA, cfe DECRETO Nº 79.094/77, RDC 343/2005). | E7: Peça | F7: Saúba | G7: 339030.22 | H7: 15.5 | J7: =I7-(SUM(L7:W7)) -> 0 | K7: =IF(J7<0,"ATENÇÃO","OK") -> OK | L7: 0 | M7: 0 | N7: 0 | O7: 0 | P7: 0 | Q7: 0 | R7: 0 | S7: 0 | T7: 0 | U7: 0 | V7: 0 | W7: 0
A8: L1 Serv. Org. Feiras Cong. Viagens e Eventos Ltda ME | B8: 2 | C8: 5 | D8: Pano de copa, em tecido 100% algodão, branco alvejado, medindo 0,70 x 0,50m, com bainha, com peso mínimo de 70g, admitindo-se variação de até 10% no peso e na medida; embalados individualmente, acondicionados em pacote com 50 unidades. O pano deverá conter etiqueta de fábrica indicando a composição do tecido e a metragem. Prazo de validade: 12 meses a partir de cada entrega de pedido. | E8: Peça | F8: Amabile/Amabile | G8: 339030.22 | H8: 1.49 | I8: 500 | J8: =I8-(SUM(L8:W8)) -> 450 | K8: =IF(J8<0,"ATENÇÃO","OK") -> OK | L8: 0 | M8: 0 | N8: 0 | O8: 50 | P8: 0 | Q8: 0 | R8: 0 | S8: 0 | T8: 0 | U8: 0 | V8: 0 | W8: 0
C9: 6 | D9: Saco de tecido, 100% algodão, para limpeza, lavado e alvejado, medidas externas: 70 cm de altura x 50 cm de largura, com peso mínimo de 190 gramas (admitindo-se variação de até 10% no peso e nas medidas), embalados em pacote com 10 unidades e acondicionados em fardos com 5 pacotes. O pano deverá conter etiqueta de fábrica informando a composição do tecido e metragem. Prazo de validade: 12 meses a partir de cada pedido de entrega. | E9: Peça | F9: Amabile/Amabile | G9: 339030.22 | H9: 3.3 | I9: 400 | J9: =I9-(SUM(L9:W9)) -> 300 | K9: =IF(J9<0,"ATENÇÃO","OK") -> OK | L9: 0 | M9: 0 | N9: 0 | O9: 100 | P9: 0 | Q9: 0 | R9: 0 | S9: 0 | T9: 0 | U9: 0 | V9: 0 | W9: 0
C10: 7 | D10: Flanela, peluciada em ambos os lados, para limpeza medindo 0,60 x 0,40 metros (admitindo-se variação de até 10%), com bordas chuleadas, embaladas individualmente e acondicionadas em pacote com 50 unidades. | E10: Peça | F10: Cristal/Cristal | G10: 339030.22 | H10: 1.27 | I10: 600 | J10: =I10-(SUM(L10:W10)) -> 500 | K10: =IF(J10<0,"ATENÇÃO","OK") -> OK | L10: 0 | M10: 0 | N10: 0 | O10: 100 | P10: 0 | Q10: 0 | R10: 0 | S10: 0 | T10: 0 | U10: 0 | V10: 0 | W10: 0
A11: Deivid Reinert ME - Alterado para Embalastil Ltda ME | B11: 3 | C11: 8 | D11: Papel toalha rolão, gramatura mínima 28g/m2, cor branca, 100% celulose virgem, sem pigmentação aparente oriunda da utilização de aparas de material impresso, gofrado, macio, com alto poder de absorção, distribuição homogênea das fibras ao longo do papel, sem rebarbas no corte lateral; rolo com 0,20x100 metros; embalado em fardo com 8 rolos. (A vencedora apresentará, em até 02 dias úteis: laudo microbiológico, conforme Portaria MS nº 1.480 de 31/12/90., de laboratório credenciado pelo INMETRO, ou habilitado no REBLAS/ANVISA. Será analisada a amostra pelo responsável técnico, através da aplicação da fórmula - peso mínimo: 0,20X100X28=560 gramas). | E11: Rolo | F11: Embalastil | G11: 339030.22 | H11: 3.5 | I11: 5000 | J11: =I11-(SUM(L11:W11)) -> 3400 | K11: =IF(J11<0,"ATENÇÃO","OK") -> OK | L11: 0 | M11: 400 | N11: 0 | O11: 0 | P11: 1200 | Q11: 0 | R11: 0 | S11: 0 | T11: 0 | U11: 0 | V11: 0 | W11: 0
A12: Elo Comércio e Serviços LTDA ME | B12: 4 | C12: 9 | D12: Balde plástico com alça, borda reforçada, com capacidade para aproximadamente 15 (quinze) litros, cores diversas. Balde plástico polietileno de alta densidade (PAED), alta resistência a impacto, paredes e fundos reforçados, alça em aço zincado e com reforço na borda e no encaixe da alça, com capacidade para aproximadamente 15 (quinze) litros, cores diversas. | E12: Peça | F12: ARQPLAST | G12: 339030.22 | H12: 3.04 | I12: 50 | J12: =I12-(SUM(L12:W12)) -> 40 | K12: =IF(J12<0,"ATENÇÃO","OK") -> OK | L12: 0 | M12: 0 | N12: 10 | O12: 0 | P12: 0 | Q12: 0 | R12: 0 | S12: 0 | T12: 0 | U12: 0 | V12: 0 | W12: 0
C13: 10 | D13: Escova para limpeza de vaso sanitário com suporte (do tipo vassoura, em forma de bola ou meia bola), com cerdas arredondadas em nylon; cabo e suporte em polipropileno; dimensão: 36x7.5x36cm, aproximadamente. | E13: Peça | F13: GAUCHA | G13: 339030.22 | H13: 3.54 | I13: 50 | J13: =I13-(SUM(L13:W13)) -> 40 | K13: =IF(J13<0,"ATENÇÃO","OK") -> OK | L13: 0 | M13: 0 | N13: 10 | O13: 0 | P13: 0 | Q13: 0 | R13: 0 | S13: 0 | T13: 0 | U13: 0 | V13: 0 | W13: 0
C14: 11 | D14: Escovão para limpeza, com cerdas de nylon, base em material plástico ou polipropileno resistente com aproximadamente 25 cm e cabo de madeira isenta de farpas, revestido em material plástico ou polipropileno, medindo aproximadamente 1,20 metros, fixação com sistema de rosca (resistente). | E14: Peça | F14: GAUCHA | G14: 339030.22 | H14: 4.24 | I14: 30 | J14: =I14-(SUM(L14:W14)) -> 20 | K14: =IF(J14<0,"ATENÇÃO","OK") -> OK | L14: 0 | M14: 0 | N14: 10 | O14: 0 | P14: 0 | Q14: 0 | R14: 0 | S14: 0 | T14: 0 | U14: 0 | V14: 0 | W14: 0
C15: 12 | D15: Esfregão (esponja) de aço, para limpeza de panela, com 15g (admitindo-se variação de até 1g), embalagem individual, em invólucro plástico lacrado, acondicionados em caixa de papelão resistente que suporte empilhamento. Prazo de validade: 12 meses a partir de cada entrega de pedido. | E15: Peça | F15: INOVE | G15: 339030.22 | H15: 0.81 | I15: 30 | J15: =I15-(SUM(L15:W15)) -> 30 | K15: =IF(J15<0,"ATENÇÃO","OK") -> OK | L15: 0 | M15: 0 | N15: 0 | O15: 0 | P15: 0 | Q15: 0 | R15: 0 | S15: 0 | T15: 0 | U15: 0 | V15: 0 | W15: 0
C16: 13 | D16: Lã de aço, (em aço carbono), para limpeza e brilho, embalagem em pacote plástico lacrado com 08 unidades, pesando no mínimo 60g e acondicionadas em caixa de papelão resistente que suporte empilhamento. | E16: Pacote | F16: INOVE | G16: 339030.22 | H16: 0.96 | I16: 100 | J16: =I16-(SUM(L16:W16)) -> 100 | K16: =IF(J16<0,"ATENÇÃO","OK") -> OK | L16: 0 | M16: 0 | N16: 0 | O16: 0 | P16: 0 | Q16: 0 | R16: 0 | S16: 0 | T16: 0 | U16: 0 | V16: 0 | W16: 0
C17: 14 | D17: Pá para lixo, de material plástico resistente, cabo curto, corpo único, acondicionadas em caixa de papelão resistente que suporte empilhamento. | E17: Peça | F17: GAUCHA | G17: 339030.22 | H17: 1.15 | I17: 50 | J17: =I17-(SUM(L17:W17)) -> 40 | K17: =IF(J17<0,"ATENÇÃO","OK") -> OK | L17: 0 | M17: 0 | N17: 10 | O17: 0 | P17: 0 | Q17: 0 | R17: 0 | S17: 0 | T17: 0 | U17: 0 | V17: 0 | W17: 0
C18: 15 | D18: Guardanapo de papel, cor branca, macio, com alto poder de absorção, gramatura 19g a 22g/m2, medindo 30cm x 30cm, sem rebarbas no corte lateral, em embalagem com 50 (cinqüenta) unidades, acondicionado em caixa de papelão resistente que suporte empilhamento. (A vencedora apresentará, em até 02 dias úteis: Laudo Microbiológico, conforme Portaria MS nº 1.480 de 31/12/90., de laboratório credenciado pelo INMETRO, ou habilitado no REBLAS/ANVISA. | E18: Pacote | F18: SORELLA | G18: 339030.22 | H18: 1.16 | I18: 40 | J18: =I18-(SUM(L18:W18)) -> 20 | K18: =IF(J18<0,"ATENÇÃO","OK") -> OK | L18: 0 | M18: 0 | N18: 20 | O18: 0 | P18: 0 | Q18: 0 | R18: 0 | S18: 0 | T18: 0 | U18: 0 | V18: 0 | W18: 0
C19: 16 | D19: Filtro de papel para café, com gramatura de 54 g/m2, com fechamento de dupla prensagem, tamanho 103, na cor branca; embalagem com 30 a 40 unidades, acondicionadas em caixa. | E19: Caixa | F19: BRIGITTA | G19: 339030.21 | H19: 2.11 | I19: 50 | J19: =I19-(SUM(L19:W19)) -> 30 | K19: =IF(J19<0,"ATENÇÃO","OK") -> OK | L19: 0 | M19: 0 | N19: 20 | O19: 0 | P19: 0 | Q19: 0 | R19: 0 | S19: 0 | T19: 0 | U19: 0 | V19: 0 | W19: 0
C20: 17 | D20: Fósforo doméstico, em maço com 10 caixas, com 40 palitos, acondicionados em pacotes. | E20: Caixa | F20: ZEBRA | G20: 339030.21 | H20: 0.12 | I20: 30 | J20: =I20-(SUM(L20:W20)) -> 0 | K20: =IF(J20<0,"ATENÇÃO","OK") -> OK | L20: 0 | M20: 0 | N20: 30 | O20: 0 | P20: 0 | Q20: 0 | R20: 0 | S20: 0 | T20: 0 | U20: 0 | V20: 0 | W20: 0
C21: 18 | D21: Repelente elétrico para mosquito, que pemite o uso de pastilhas. Bivolt. | E21: Peça | F21: FLORA | G21: 339030.22 | H21: 10.14 | J21: =I21-(SUM(L21:W21)) -> 0 | K21: =IF(J21<0,"ATENÇÃO","OK") -> OK | L21: 0 | M21: 0 | N21: 0 | O21: 0 | P21: 0 | Q21: 0 | R21: 0 | S21: 0 | T21: 0 | U21: 0 | V21: 0 | W21: 0
C22: 19 | D22: Pastilha para uso em repelente elétrico, cada pacote com 12 unidades | E22: Pacote | F22: PERINCET | G22: 339030.22 | H22: 1.95 | J22: =I22-(SUM(L22:W22)) -> 0 | K22: =IF(J22<0,"ATENÇÃO","OK") -> OK | L22: 0 | M22: 0 | N22: 0 | O22: 0 | P22: 0 | Q22: 0 | R22: 0 | S22: 0 | T22: 0 | U22: 0 | V22: 0 | W22: 0
