Workbook
Name diasuteis: #REF!
Name diasuteis: #REF!
Name diasuteis: #REF!
Name Ferias: #REF!
Name Ferias: #REF!
Name RD: OFFSET(#REF!,(MATCH(SMALL(#REF!,ROW()-10),#REF!,0)-1),0)
Name RD: OFFSET(#REF!,(MATCH(SMALL(#REF!,ROW()-10),#REF!,0)-1),0)

Sheet Reitoria
A1: PROCESSO: 0391/2015/UDESC | D1: OBJETO: Serviços de arbitragem, de ambulância de emergência e locação de containers com chuveiros para eventos da UDESC. | H1: VIGÊNCIA DA ATA: 01/06/2015 até 31/05/2016 | K1: OS nº 897/2015 Qtde. DT | L1: OS nº 899/2015 Qtde. DT | M1: OS nº 1133/2015 Qtde. DT | N1: OS nº 1342/2015 Qtde. DT | O1: OS nº 1707/2015 Qtde. DT | P1: OS nº 1970/2015 Qtde. DT | Q1: AF/OS nº xxxx/2015 Qtde. DT | R1: AF/OS nº xxxx/2015 Qtde. DT | S1: AF/OS nº xxxx/2015 Qtde. DT | T1: AF/OS nº xxxx/2015 Qtde. DT | U1: AF/OS nº xxxx/2015 Qtde. DT | V1: AF/OS nº xxxx/2015 Qtde. DT
A2: CENTRO PARTICIPANTE: Reitoria
A3: FORNECEDOR | B3: LOTE | C3: ITEM | D3: PRODUTO - CARACTERÍSTICAS MÍNIMAS | E3: UNIDADE | F3: ELEMENTO | G3: Preço UNITÁRIO (R$) | H3: Qtde Registrada | I3: Saldo / Automático | J3: ALERTA | K3: 42158 | L3: 42158 | M3: 42188 | N3: 42220 | O3: 42269 | P3: 42297 | Q3: ...../...../...... | R3: ...../...../...... | S3: ...../...../...... | T3: ...../...../...... | U3: ...../...../...... | V3: ...../...../......
A4: SJR Organização e Produção de Eventos Ltda | B4: 1 | C4: 1 | D4: Atletismo | E4: PROVA | F4: 339039-65 | G4: 175 | H4: 28 | I4: =H4-(SUM(K4:V4)) -> 0 | J4: =IF(I4<0,"ATENÇÃO","OK") -> OK | K4: 28 | L4: 0 | M4: 0 | N4: 0 | O4: 0 | P4: 0 | Q4: 0 | R4: 0 | S4: 0 | T4: 0 | U4: 0 | V4: 0
C5: 2 | D5: Basquetebol | E5: JOGO | F5: 339039-65 | G5: 190 | H5: 40 | I5: =H5-(SUM(K5:V5)) -> 14 | J5: =IF(I5<0,"ATENÇÃO","OK") -> OK | K5: 21 | L5: 0 | M5: 0 | N5: 0 | O5: 5 | P5: 0 | Q5: 0 | R5: 0 | S5: 0 | T5: 0 | U5: 0 | V5: 0
C6: 3 | D6: Basquetebol 3x3 | E6: JOGO | F6: 339039-65 | G6: 170 | H6: 40 | I6: =H6-(SUM(K6:V6)) -> 19 | J6: =IF(I6<0,"ATENÇÃO","OK") -> OK | K6: 21 | L6: 0 | M6: 0 | N6: 0 | O6: 0 | P6: 0 | Q6: 0 | R6: 0 | S6: 0 | T6: 0 | U6: 0 | V6: 0
C7: 4 | D7: Futebol Society | E7: JOGO | F7: 339039-65 | G7: 165 | H7: 40 | I7: =H7-(SUM(K7:V7)) -> 5 | J7: =IF(I7<0,"ATENÇÃO","OK") -> OK | K7: 35 | L7: 0 | M7: 0 | N7: 0 | O7: 0 | P7: 0 | Q7: 0 | R7: 0 | S7: 0 | T7: 0 | U7: 0 | V7: 0
C8: 5 | D8: Futebol de campo | E8: JOGO | F8: 339039-65 | G8: 250 | H8: 19 | I8: =H8-(SUM(K8:V8)) -> 4 | J8: =IF(I8<0,"ATENÇÃO","OK") -> OK | K8: 15 | L8: 0 | M8: 0 | N8: 0 | O8: 0 | P8: 0 | Q8: 0 | R8: 0 | S8: 0 | T8: 0 | U8: 0 | V8: 0
C9: 6 | D9: Futsal | E9: JOGO | F9: 339039-65 | G9: 160 | H9: 40 | I9: =H9-(SUM(K9:V9)) -> 1 | J9: =IF(I9<0,"ATENÇÃO","OK") -> OK | K9: 34 | L9: 0 | M9: 0 | N9: 0 | O9: 5 | P9: 0 | Q9: 0 | R9: 0 | S9: 0 | T9: 0 | U9: 0 | V9: 0
C10: 7 | D10: Futevôlei | E10: JOGO | F10: 339039-65 | G10: 60 | H10: 50 | I10: =H10-(SUM(K10:V10)) -> 38 | J10: =IF(I10<0,"ATENÇÃO","OK") -> OK | K10: 12 | L10: 0 | M10: 0 | N10: 0 | O10: 0 | P10: 0 | Q10: 0 | R10: 0 | S10: 0 | T10: 0 | U10: 0 | V10: 0
C11: 9 | D11: Handebol | E11: JOGO | F11: 339039-65 | G11: 150 | H11: 40 | I11: =H11-(SUM(K11:V11)) -> 13 | J11: =IF(I11<0,"ATENÇÃO","OK") -> OK | K11: 27 | L11: 0 | M11: 0 | N11: 0 | O11: 0 | P11: 0 | Q11: 0 | R11: 0 | S11: 0 | T11: 0 | U11: 0 | V11: 0
C12: 10 | D12: Judô | E12: LUTA | F12: 339039-65 | G12: 80 | H12: 40 | I12: =H12-(SUM(K12:V12)) -> 30 | J12: =IF(I12<0,"ATENÇÃO","OK") -> OK | K12: 10 | L12: 0 | M12: 0 | N12: 0 | O12: 0 | P12: 0 | Q12: 0 | R12: 0 | S12: 0 | T12: 0 | U12: 0 | V12: 0
C13: 11 | D13: Natação | E13: PROVA | F13: 339039-65 | G13: 175 | H13: 36 | I13: =H13-(SUM(K13:V13)) -> 0 | J13: =IF(I13<0,"ATENÇÃO","OK") -> OK | K13: 36 | L13: 0 | M13: 0 | N13: 0 | O13: 0 | P13: 0 | Q13: 0 | R13: 0 | S13: 0 | T13: 0 | U13: 0 | V13: 0
C14: 12 | D14: Rugby | E14: JOGO | F14: 339039-65 | G14: 225 | H14: 3 | I14: =H14-(SUM(K14:V14)) -> 0 | J14: =IF(I14<0,"ATENÇÃO","OK") -> OK | K14: 3 | L14: 0 | M14: 0 | N14: 0 | O14: 0 | P14: 0 | Q14: 0 | R14: 0 | S14: 0 | T14: 0 | U14: 0 | V14: 0
C15: 13 | D15: Tênis de campo | E15: JOGO | F15: 339039-65 | G15: 160 | H15: 24 | I15: =H15-(SUM(K15:V15)) -> 0 | J15: =IF(I15<0,"ATENÇÃO","OK") -> OK | K15: 24 | L15: 0 | M15: 0 | N15: 0 | O15: 0 | P15: 0 | Q15: 0 | R15: 0 | S15: 0 | T15: 0 | U15: 0 | V15: 0
C16: 14 | D16: Tênis de Mesa | E16: JOGO | F16: 339039-65 | G16: 50 | H16: 50 | I16: =H16-(SUM(K16:V16)) -> 0 | J16: =IF(I16<0,"ATENÇÃO","OK") -> OK | K16: 50 | L16: 0 | M16: 0 | N16: 0 | O16: 0 | P16: 0 | Q16: 0 | R16: 0 | S16: 0 | T16: 0 | U16: 0 | V16: 0
... C20: 18 | D20: Coordenação Técnica | E20: SERVIÇO | F20: 339039-65 | G20: 1135 | H20: 1 | I20: =H20-(SUM(K20:V20)) -> 0 | J20: =IF(I20<0,"ATENÇÃO","OK") -> OK | K20: 1 | L20: 0 | M20: 0 | N20: 0 | O20: 0 | P20: 0 | Q20: 0 | R20: 0 | S20: 0 | T20: 0 | U20: 0 | V20: 0
A21: SJR Organização e Produção de Eventos Ltda | B21: 2 | C21: 19 | D21: Corrida Rústica | E21: PROVA | F21: 339039-65 | G21: 2500 | H21: 1 | I21: =H21-(SUM(K21:V21)) -> 0 | J21: =IF(I21<0,"ATENÇÃO","OK") -> OK | K21: 0 | L21: 0 | M21: 0 | N21: 0 | O21: 0 | P21: 1 | Q21: 0 | R21: 0 | S21: 0 | T21: 0 | U21: 0 | V21: 0
C22: 20 | D22: Basquetebol de Trio | E22: JOGO | F22: 339039-65 | G22: 170 | H22: 18 | I22: =H22-(SUM(K22:V22)) -> 0 | J22: =IF(I22<0,"ATENÇÃO","OK") -> OK | K22: 0 | L22: 0 | M22: 0 | N22: 0 | O22: 0 | P22: 18 | Q22: 0 | R22: 0 | S22: 0 | T22: 0 | U22: 0 | V22: 0
C23: 21 | D23: Futebol 7 Suiço | E23: JOGO | F23: 339039-65 | G23: 170 | H23: 28 | I23: =H23-(SUM(K23:V23)) -> 0 | J23: =IF(I23<0,"ATENÇÃO","OK") -> OK | K23: 0 | L23: 0 | M23: 0 | N23: 0 | O23: 0 | P23: 28 | Q23: 0 | R23: 0 | S23: 0 | T23: 0 | U23: 0 | V23: 0
C24: 22 | D24: Futsal | E24: JOGO | F24: 339039-65 | G24: 170 | H24: 15 | I24: =H24-(SUM(K24:V24)) -> 0 | J24: =IF(I24<0,"ATENÇÃO","OK") -> OK | K24: 0 | L24: 0 | M24: 0 | N24: 0 | O24: 0 | P24: 15 | Q24: 0 | R24: 0 | S24: 0 | T24: 0 | U24: 0 | V24: 0
C25: 23 | D25: Gincana | E25: GINCANA | F25: 339039-65 | G25: 5200 | H25: 1 | I25: =H25-(SUM(K25:V25)) -> 0 | J25: =IF(I25<0,"ATENÇÃO","OK") -> OK | K25: 0 | L25: 0 | M25: 0 | N25: 0 | O25: 0 | P25: 1 | Q25: 0 | R25: 0 | S25: 0 | T25: 0 | U25: 0 | V25: 0
C26: 24 | D26: Natação | E26: PROVA | F26: 339039-65 | G26: 150 | H26: 20 | I26: =H26-(SUM(K26:V26)) -> 0 | J26: =IF(I26<0,"ATENÇÃO","OK") -> OK | K26: 0 | L26: 0 | M26: 0 | N26: 0 | O26: 0 | P26: 20 | Q26: 0 | R26: 0 | S26: 0 | T26: 0 | U26: 0 | V26: 0
C27: 25 | D27: Bocha | E27: JOGO | F27: 339039-65 | G27: 50 | H27: 28 | I27: =H27-(SUM(K27:V27)) -> 0 | J27: =IF(I27<0,"ATENÇÃO","OK") -> OK | K27: 0 | L27: 0 | M27: 0 | N27: 0 | O27: 0 | P27: 28 | Q27: 0 | R27: 0 | S27: 0 | T27: 0 | U27: 0 | V27: 0
C28: 26 | D28: Tênis de mesa | E28: JOGO | F28: 339039-65 | G28: 40 | H28: 68 | I28: =H28-(SUM(K28:V28)) -> 0 | J28: =IF(I28<0,"ATENÇÃO","OK") -> OK | K28: 0 | L28: 0 | M28: 0 | N28: 0 | O28: 0 | P28: 68 | Q28: 0 | R28: 0 | S28: 0 | T28: 0 | U28: 0 | V28: 0
C29: 27 | D29: Tênis de campo | E29: JOGO | F29: 339039-65 | G29: 150 | H29: 17 | I29: =H29-(SUM(K29:V29)) -> 0 | J29: =IF(I29<0,"ATENÇÃO","OK") -> OK | K29: 0 | L29: 0 | M29: 0 | N29: 0 | O29: 0 | P29: 17 | Q29: 0 | R29: 0 | S29: 0 | T29: 0 | U29: 0 | V29: 0
C30: 28 | D30: Voleibol de areia 4x4 | E30: JOGO | F30: 339039-65 | G30: 130 | H30: 35 | I30: =H30-(SUM(K30:V30)) -> 0 | J30: =IF(I30<0,"ATENÇÃO","OK") -> OK | K30: 0 | L30: 0 | M30: 0 | N30: 0 | O30: 0 | P30: 35 | Q30: 0 | R30: 0 | S30: 0 | T30: 0 | U30: 0 | V30: 0
C31: 29 | D31: Xadrez | E31: JOGO | F31: 339039-65 | G31: 40 | H31: 50 | I31: =H31-(SUM(K31:V31)) -> 0 | J31: =IF(I31<0,"ATENÇÃO","OK") -> OK | K31: 0 | L31: 0 | M31: 0 | N31: 0 | O31: 0 | P31: 50 | Q31: 0 | R31: 0 | S31: 0 | T31: 0 | U31: 0 | V31: 0
C32: 30 | D32: Canastra | E32: JOGO | F32: 339039-65 | G32: 40 | H32: 35 | I32: =H32-(SUM(K32:V32)) -> 0 | J32: =IF(I32<0,"ATENÇÃO","OK") -> OK | K32: 0 | L32: 0 | M32: 0 | N32: 0 | O32: 0 | P32: 35 | Q32: 0 | R32: 0 | S32: 0 | T32: 0 | U32: 0 | V32: 0
C33: 31 | D33: Dominó | E33: JOGO | F33: 339039-65 | G33: 40 | H33: 68 | I33: =H33-(SUM(K33:V33)) -> 0 | J33: =IF(I33<0,"ATENÇÃO","OK") -> OK | K33: 0 | L33: 0 | M33: 0 | N33: 0 | O33: 0 | P33: 68 | Q33: 0 | R33: 0 | S33: 0 | T33: 0 | U33: 0 | V33: 0
... C38: 36 | D38: Coordenação Técnica | E38: SERVIÇO | F38: 339039-65 | G38: 1900 | H38: 1 | I38: =H38-(SUM(K38:V38)) -> 0 | J38: =IF(I38<0,"ATENÇÃO","OK") -> OK | K38: 0 | L38: 0 | M38: 0 | N38: 0 | O38: 0 | P38: 1 | Q38: 0 | R38: 0 | S38: 0 | T38: 0 | U38: 0 | V38: 0
A39: ENFEMED SERVIÇOS MÉDICOS S/S Ltda | B39: 3 | C39: 37 | D39: Locação de veículo tipo Ambulância “D” UTI Período: 04 à 07 de junho (meio dia) de 2015 - Jogos Internos da (JIUDESC). Municípios: Florianópolis – SC e São José – SC. | E39: Diária | F39: 339039-61 | G39: 2490 | H39: 4 | I39: =H39-(SUM(K39:V39)) -> 0 | J39: =IF(I39<0,"ATENÇÃO","OK") -> OK | K39: 0 | L39: 4 | M39: 0 | N39: 0 | O39: 0 | P39: 0 | Q39: 0 | R39: 0 | S39: 0 | T39: 0 | U39: 0 | V39: 0
C40: 38 | D40: Locação de veículo tipo Ambulância “D” UTI Período: 22 à 26 de julho de 2015 - Jogos Universitários Catarinenses (JUCS). Municípios: Pinhalzinho. | E40: Diária | F40: 339039-61 | G40: 2980 | H40: 5 | I40: =H40-(SUM(K40:V40)) -> 0 | J40: =IF(I40<0,"ATENÇÃO","OK") -> OK | K40: 0 | L40: 0 | M40: 5 | N40: 0 | O40: 0 | P40: 0 | Q40: 0 | R40: 0 | S40: 0 | T40: 0 | U40: 0 | V40: 0
C41: 39 | D41: Locação de veículo tipo Ambulância “D” UTI Período: a confirmar com fiscal do contrato - Jogos Universitários Catarinenses (JUCS). Municípios: Itajaí ou Florianópolis (a confirmar) | E41: Diária | F41: 339039-61 | G41: 2490 | H41: 1 | I41: =H41-(SUM(K41:V41)) -> 0 | J41: =IF(I41<0,"ATENÇÃO","OK") -> OK | K41: 0 | L41: 0 | M41: 0 | N41: 1 | O41: 0 | P41: 0 | Q41: 0 | R41: 0 | S41: 0 | T41: 0 | U41: 0 | V41: 0
C42: 40 | D42: Locação de veículo tipo Ambulância “D” UTI Período: 04 a 06 de agosto de 2015 - Evento Cultural. Município: Florianópolis | E42: Diária | F42: 339039-61 | G42: 1245 | H42: 4 | I42: =H42-(SUM(K42:V42)) -> 4 | J42: =IF(I42<0,"ATENÇÃO","OK") -> OK | K42: 0 | L42: 0 | M42: 0 | N42: 0 | O42: 0 | P42: 0 | Q42: 0 | R42: 0 | S42: 0 | T42: 0 | U42: 0 | V42: 0
A43: DESERTO | B43: 4 | C43: 41 | D43: LOCAÇÃO DE CONTAINERS COM CHUVEIROS | E43: Diária | F43: 339039-12 | G43: 0 | H43: 5 | I43: =H43-(SUM(K43:V43)) -> 5 | J43: =IF(I43<0,"ATENÇÃO","OK") -> OK | K43: 0 | L43: 0 | M43: 0 | N43: 0 | O43: 0 | P43: 0 | Q43: 0 | R43: 0 | S43: 0 | T43: 0 | U43: 0 | V43: 0

Sheet GESTOR
A1: PROCESSO: 0391/2015/UDESC | D1: OBJETO: Serviços de arbitragem, de ambulância de emergência e locação de containers com chuveiros para eventos da UDESC. | H1: VIGÊNCIA DA ATA: 01/06/2015 até 31/05/2016
A2: CENTRO PARTICIPANTE: GESTOR
A3: FORNECEDOR | B3: LOTE | C3: ITEM | D3: PRODUTO - CARACTERÍSTICAS MÍNIMAS | E3: UNIDADE | F3: ELEMENTO | G3: Preço UNITÁRIO (R$) | H3: Qtde Registrada | I3: Qtde Utilizada | J3: SALDO | K3: Valor Total Registrado | L3: Valor Total Utilizado
A4: SJR Organização e Produção de Eventos Ltda | B4: 1 | C4: 1 | D4: Atletismo | E4: PROVA | F4: 339039-65 | G4: 175 | H4: =Reitoria!H4 -> 28 | I4: =Reitoria!H4-Reitoria!I4 -> 28 | J4: =H4-I4 -> 0 | K4: =G4*H4 -> 4900 | L4: =G4*I4 -> 4900
C5: 2 | D5: Basquetebol | E5: JOGO | F5: 339039-65 | G5: 190 | H5: =Reitoria!H5 -> 40 | I5: =Reitoria!H5-Reitoria!I5 -> 26 | J5: =H5-I5 -> 14 | K5: =G5*H5 -> 7600 | L5: =G5*I5 -> 4940
C6: 3 | D6: Basquetebol 3x3 | E6: JOGO | F6: 339039-65 | G6: 170 | H6: =Reitoria!H6 -> 40 | I6: =Reitoria!H6-Reitoria!I6 -> 21 | J6: =H6-I6 -> 19 | K6: =G6*H6 -> 6800 | L6: =G6*I6 -> 3570
C7: 4 | D7: Futebol Society | E7: JOGO | F7: 339039-65 | G7: 165 | H7: =Reitoria!H7 -> 40 | I7: =Reitoria!H7-Reitoria!I7 -> 35 | J7: =H7-I7 -> 5 | K7: =G7*H7 -> 6600 | L7: =G7*I7 -> 5775
C8: 5 | D8: Futebol de campo | E8: JOGO | F8: 339039-65 | G8: 250 | H8: =Reitoria!H8 -> 19 | I8: =Reitoria!H8-Reitoria!I8 -> 15 | J8: =H8-I8 -> 4 | K8: =G8*H8 -> 4750 | L8: =G8*I8 -> 3750
C9: 6 | D9: Futsal | E9: JOGO | F9: 339039-65 | G9: 160 | H9: =Reitoria!H9 -> 40 | I9: =Reitoria!H9-Reitoria!I9 -> 39 | J9: =H9-I9 -> 1 | K9: =G9*H9 -> 6400 | L9: =G9*I9 -> 6240
C10: 7 | D10: Futevôlei | E10: JOGO | F10: 339039-65 | G10: 60 | H10: =Reitoria!H10 -> 50 | I10: =Reitoria!H10-Reitoria!I10 -> 12 | J10: =H10-I10 -> 38 | K10: =G10*H10 -> 3000 | L10: =G10*I10 -> 720
C11: 9 | D11: Handebol | E11: JOGO | F11: 339039-65 | G11: 150 | H11: =Reitoria!H11 -> 40 | I11: =Reitoria!H11-Reitoria!I11 -> 27 | J11: =H11-I11 -> 13 | K11: =G11*H11 -> 6000 | L11: =G11*I11 -> 4050
C12: 10 | D12: Judô | E12: LUTA | F12: 339039-65 | G12: 80 | H12: =Reitoria!H12 -> 40 | I12: =Reitoria!H12-Reitoria!I12 -> 10 | J12: =H12-I12 -> 30 | K12: =G12*H12 -> 3200 | L12: =G12*I12 -> 800
C13: 11 | D13: Natação | E13: PROVA | F13: 339039-65 | G13: 175 | H13: =Reitoria!H13 -> 36 | I13: =Reitoria!H13-Reitoria!I13 -> 36 | J13: =H13-I13 -> 0 | K13: =G13*H13 -> 6300 | L13: =G13*I13 -> 6300
C14: 12 | D14: Rugby | E14: JOGO | F14: 339039-65 | G14: 225 | H14: =Reitoria!H14 -> 3 | I14: =Reitoria!H14-Reitoria!I14 -> 3 | J14: =H14-I14 -> 0 | K14: =G14*H14 -> 675 | L14: =G14*I14 -> 675
C15: 13 | D15: Tênis de campo | E15: JOGO | F15: 339039-65 | G15: 160 | H15: =Reitoria!H15 -> 24 | I15: =Reitoria!H15-Reitoria!I15 -> 24 | J15: =H15-I15 -> 0 | K15: =G15*H15 -> 3840 | L15: =G15*I15 -> 3840
C16: 14 | D16: Tênis de Mesa | E16: JOGO | F16: 339039-65 | G16: 50 | H16: =Reitoria!H16 -> 50 | I16: =Reitoria!H16-Reitoria!I16 -> 50 | J16: =H16-I16 -> 0 | K16: =G16*H16 -> 2500 | L16: =G16*I16 -> 2500
... C20: 18 | D20: Coordenação Técnica | E20: SERVIÇO | F20: 339039-65 | G20: 1135 | H20: =Reitoria!H20 -> 1 | I20: =Reitoria!H20-Reitoria!I20 -> 1 | J20: =H20-I20 -> 0 | K20: =G20*H20 -> 1135 | L20: =G20*I20 -> 1135
A21: SJR Organização e Produção de Eventos Ltda | B21: 2 | C21: 19 | D21: Corrida Rústica | E21: PROVA | F21: 339039-65 | G21: 2500 | H21: =Reitoria!H21 -> 1 | I21: =Reitoria!H21-Reitoria!I21 -> 1 | J21: =H21-I21 -> 0 | K21: =G21*H21 -> 2500 | L21: =G21*I21 -> 2500
C22: 20 | D22: Basquetebol de Trio | E22: JOGO | F22: 339039-65 | G22: 170 | H22: =Reitoria!H22 -> 18 | I22: =Reitoria!H22-Reitoria!I22 -> 18 | J22: =H22-I22 -> 0 | K22: =G22*H22 -> 3060 | L22: =G22*I22 -> 3060
C23: 21 | D23: Futebol 7 Suiço | E23: JOGO | F23: 339039-65 | G23: 170 | H23: =Reitoria!H23 -> 28 | I23: =Reitoria!H23-Reitoria!I23 -> 28 | J23: =H23-I23 -> 0 | K23: =G23*H23 -> 4760 | L23: =G23*I23 -> 4760
C24: 22 | D24: Futsal | E24: JOGO | F24: 339039-65 | G24: 170 | H24: =Reitoria!H24 -> 15 | I24: =Reitoria!H24-Reitoria!I24 -> 15 | J24: =H24-I24 -> 0 | K24: =G24*H24 -> 2550 | L24: =G24*I24 -> 2550
C25: 23 | D25: Gincana | E25: GINCANA | F25: 339039-65 | G25: 5200 | H25: =Reitoria!H25 -> 1 | I25: =Reitoria!H25-Reitoria!I25 -> 1 | J25: =H25-I25 -> 0 | K25: =G25*H25 -> 5200 | L25: =G25*I25 -> 5200
C26: 24 | D26: Natação | E26: PROVA | F26: 339039-65 | G26: 150 | H26: =Reitoria!H26 -> 20 | I26: =Reitoria!H26-Reitoria!I26 -> 20 | J26: =H26-I26 -> 0 | K26: =G26*H26 -> 3000 | L26: =G26*I26 -> 3000
C27: 25 | D27: Bocha | E27: JOGO | F27: 339039-65 | G27: 50 | H27: =Reitoria!H27 -> 28 | I27: =Reitoria!H27-Reitoria!I27 -> 28 | J27: =H27-I27 -> 0 | K27: =G27*H27 -> 1400 | L27: =G27*I27 -> 1400
C28: 26 | D28: Tênis de mesa | E28: JOGO | F28: 339039-65 | G28: 40 | H28: =Reitoria!H28 -> 68 | I28: =Reitoria!H28-Reitoria!I28 -> 68 | J28: =H28-I28 -> 0 | K28: =G28*H28 -> 2720 | L28: =G28*I28 -> 2720
C29: 27 | D29: Tênis de campo | E29: JOGO | F29: 339039-65 | G29: 150 | H29: =Reitoria!H29 -> 17 | I29: =Reitoria!H29-Reitoria!I29 -> 17 | J29: =H29-I29 -> 0 | K29: =G29*H29 -> 2550 | L29: =G29*I29 -> 2550
C30: 28 | D30: Voleibol de areia 4x4 | E30: JOGO | F30: 339039-65 | G30: 130 | H30: =Reitoria!H30 -> 35 | I30: =Reitoria!H30-Reitoria!I30 -> 35 | J30: =H30-I30 -> 0 | K30: =G30*H30 -> 4550 | L30: =G30*I30 -> 4550
C31: 29 | D31: Xadrez | E31: JOGO | F31: 339039-65 | G31: 40 | H31: =Reitoria!H31 -> 50 | I31: =Reitoria!H31-Reitoria!I31 -> 50 | J31: =H31-I31 -> 0 | K31: =G31*H31 -> 2000 | L31: =G31*I31 -> 2000
C32: 30 | D32: Canastra | E32: JOGO | F32: 339039-65 | G32: 40 | H32: =Reitoria!H32 -> 35 | I32: =Reitoria!H32-Reitoria!I32 -> 35 | J32: =H32-I32 -> 0 | K32: =G32*H32 -> 1400 | L32: =G32*I32 -> 1400
C33: 31 | D33: Dominó | E33: JOGO | F33: 339039-65 | G33: 40 | H33: =Reitoria!H33 -> 68 | I33: =Reitoria!H33-Reitoria!I33 -> 68 | J33: =H33-I33 -> 0 | K33: =G33*H33 -> 2720 | L33: =G33*I33 -> 2720
... C38: 36 | D38: Coordenação Técnica | E38: SERVIÇO | F38: 339039-65 | G38: 1900 | H38: =Reitoria!H38 -> 1 | I38: =Reitoria!H38-Reitoria!I38 -> 1 | J38: =H38-I38 -> 0 | K38: =G38*H38 -> 1900 | L38: =G38*I38 -> 1900
A39: ENFEMED SERVIÇOS MÉDICOS S/S Ltda | B39: 3 | C39: 37 | D39: Locação de veículo tipo Ambulância “D” UTI Período: 04 à 07 de junho (meio dia) de 2015 - Jogos Internos da (JIUDESC). Municípios: Florianópolis – SC e São José – SC. | E39: Diária | F39: 339039-61 | G39: 2490 | H39: =Reitoria!H39 -> 4 | I39: =Reitoria!H39-Reitoria!I39 -> 4 | J39: =H39-I39 -> 0 | K39: =G39*H39 -> 9960 | L39: =G39*I39 -> 9960
C40: 38 | D40: Locação de veículo tipo Ambulância “D” UTI Período: 22 à 26 de julho de 2015 - Jogos Universitários Catarinenses (JUCS). Municípios: Pinhalzinho. | E40: Diária | F40: 339039-61 | G40: 2980 | H40: =Reitoria!H40 -> 5 | I40: =Reitoria!H40-Reitoria!I40 -> 5 | J40: =H40-I40 -> 0 | K40: =G40*H40 -> 14900 | L40: =G40*I40 -> 14900
C41: 39 | D41: Locação de veículo tipo Ambulância “D” UTI Período: a confirmar com fiscal do contrato - Jogos Universitários Catarinenses (JUCS). Municípios: Itajaí ou Florianópolis (a confirmar) | E41: Diária | F41: 339039-61 | G41: 2490 | H41: =Reitoria!H41 -> 1 | I41: =Reitoria!H41-Reitoria!I41 -> 1 | J41: =H41-I41 -> 0 | K41: =G41*H41 -> 2490 | L41: =G41*I41 -> 2490
C42: 40 | D42: Locação de veículo tipo Ambulância “D” UTI Período: 04 a 06 de agosto de 2015 - Evento Cultural. Município: Florianópolis | E42: Diária | F42: 339039-61 | G42: 1245 | H42: =Reitoria!H42 -> 4 | I42: =Reitoria!H42-Reitoria!I42 -> 0 | J42: =H42-I42 -> 4 | K42: =G42*H42 -> 4980 | L42: =G42*I42 -> 0
A43: DESERTO | B43: 4 | C43: 41 | D43: LOCAÇÃO DE CONTAINERS COM CHUVEIROS | E43: Diária | F43: 339039-12 | G43: 0
K44: =SUM(K4:K43) -> 153330 | L44: =SUM(L4:L43) -> 130825
H47: Pregão 0391/2015/UDESC - SRP
H48: Serviços de arbitragem, de ambulância de emergência e locação de containers com chuveiros para eventos da UDESC.
H49: Vigência da Ata: 01/06/2015 até 31/05/2016
...

Sheet Modelo Anexo II IN 002_2014
A1: ANEXO II – Instrução Normativa n.º 002/2014
A3: DECLARAÇÃO DE DISPONIBILIDADE DE QUANTITATIVO PARA EMISSÃO DE AUTORIZAÇÃO DE FORNECIMENTO/ORDEM DE SERVIÇO – SISTEMA DE REGISTRO DE PREÇOS/UDESC
A5: Processo CPA n.º XXXX/2014
A6: Pregão n.º XXXX/2014
A7: Objeto:
A8: Vigência da Ata de Registro de Preços: XX/XX/XXXX até XX/XX/XXXXX
A10: Declaro que o Centro XXXXXXX, participante da Ata de Registro de Preços proveniente do Pregão n.º XXXX/2014, possui saldo em seu quantitativo para a emissão da Autorização de Fornecimento/Ordem de Serviço n.º XXXX/2014, no valor de R$ X.XXX,XX, a ser firmada com a empresa XXXXXXX, restando ainda em sua cota para próximas contratações com o referido fornecedor os seguintes quantitativos:
A12: Lote | B12: Item | C12: Descrição Resumida | D12: Unidade | E12: Valor Unitário (R$) | F12: Saldo Quantitativo (antes da emissão desta AF/OS) | G12: Quantitativo da AF/OS | H12: Saldo Atualizado
A19: __________________, ____/_____/____
A20: Cidade Data
A24: _____________________________________________
A25: Diretor(a) de Administração
A26: (carimbo e assinatura)
