Workbook
Name diasuteis: #REF!
Name diasuteis: #REF!
Name diasuteis: #REF!
Name diasuteis: #REF!
Name diasuteis: #REF!
Name diasuteis: #REF!
Name diasuteis: #REF!
Name diasuteis: #REF!
Name diasuteis: #REF!
Name diasuteis: #REF!
Name Ferias: #REF!
Name Ferias: #REF!
Name Ferias: #REF!
Name Ferias: #REF!
Name Ferias: #REF!
Name Ferias: #REF!
Name Ferias: #REF!
Name RD: OFFSET(#REF!,(MATCH(SMALL(#REF!,ROW()-10),#REF!,0)-1),0)
Name RD: OFFSET(#REF!,(MATCH(SMALL(#REF!,ROW()-10),#REF!,0)-1),0)
Name RD: OFFSET(#REF!,(MATCH(SMALL(#REF!,ROW()-10),#REF!,0)-1),0)
Name RD: OFFSET(#REF!,(MATCH(SMALL(#REF!,ROW()-10),#REF!,0)-1),0)
Name RD: OFFSET(#REF!,(MATCH(SMALL(#REF!,ROW()-10),#REF!,0)-1),0)
Name RD: OFFSET(#REF!,(MATCH(SMALL(#REF!,ROW()-10),#REF!,0)-1),0)
Name RD: OFFSET(#REF!,(MATCH(SMALL(#REF!,ROW()-10),#REF!,0)-1),0)

Sheet Reitoria
A1: PROCESSO: 0359/2015/UDESC | D1: OBJETO: TRANSPORTE DE PASSAGEIROS (VAN, ÔNIBUS CONVENCIONAL E ÔNIBUS EXECUTIVO) PARA O CAMPUS I, CESFI E CERES - UDESC | G1: VIGÊNCIA DA ATA: 30/06/2015 até 29/06/2016 | J1: OS nº 1189/2015 Qtde. DT | K1: OS nº 1607/2015 Qtde. DT | L1: OS nº 2042/2015 Qtde. DT | M1: AF/OS nº xxxx/2015 Qtde. DT | N1: AF/OS nº xxxx/2015 Qtde. DT | O1: AF/OS nº xxxx/2015 Qtde. DT | P1: AF/OS nº xxxx/2015 Qtde. DT | Q1: AF/OS nº xxxx/2015 Qtde. DT | R1: AF/OS nº xxxx/2015 Qtde. DT | S1: AF/OS nº xxxx/2015 Qtde. DT | T1: AF/OS nº xxxx/2015 Qtde. DT | U1: AF/OS nº xxxx/2015 Qtde. DT
A2: CENTRO PARTICIPANTE: Reitoria
A3: FORNECEDOR | B3: LOTE | C3: ESPECIFICAÇÃO | D3: UNIDADE | E3: DETALHAMENTO | F3: Preço UNITÁRIO (R$) | G3: Qtde Registrada | H3: Saldo / Automático | I3: ALERTA | J3: 42198 | K3: 42255 | L3: 42304 | M3: ...../...../...... | N3: ...../...../...... | O3: ...../...../...... | P3: ...../...../...... | Q3: ...../...../...... | R3: ...../...../...... | S3: ...../...../...... | T3: ...../...../...... | U3: ...../...../......
A4: Veigatur Receptivo de Turismo Ltda | B4: 1 | C4: Van | D4: km rodado | E4: 339039.26 | F4: 2.16 | G4: 25000 | H4: =G4-(SUM(J4:U4)) -> 22010 | I4: =IF(H4<0,"ATENÇÃO","OK") -> OK | J4: =10000-7010 -> 2990
D5: meia diária/6h | E5: 339039.26 | F5: 255 | G5: 20 | H5: =G5-(SUM(J5:U5)) -> 20 | I5: =IF(H5<0,"ATENÇÃO","OK") -> OK
D6: diária/mais de 6h | E6: 339039.26 | F6: 415.58 | G6: =60+70 -> 130 | H6: =G6-(SUM(J6:U6)) -> 100 | I6: =IF(H6<0,"ATENÇÃO","OK") -> OK | K6: 15 | L6: 15
A7: INFRUTÍFERO | B7: 2 | C7: Ônibus Executivo | D7: km rodado | E7: 339039.26 | F7: 0 | G7: 0 | H7: =G7-(SUM(J7:U7)) -> 0
D8: meia diária/6h | E8: 339039.26 | F8: 0 | G8: 0 | H8: =G8-(SUM(J8:U8)) -> 0
D9: diária/mais de 6h | E9: 339039.26 | F9: 0 | G9: 0 | H9: =G9-(SUM(J9:U9)) -> 0
A10: INFRUTÍFERO | B10: 3 | C10: Ônibus Convencional | D10: km rodado | E10: 339039.26 | F10: 0 | G10: 0 | H10: =G10-(SUM(J10:U10)) -> 0
D11: meia diária/6h | E11: 339039.26 | F11: 0 | G11: 0 | H11: =G11-(SUM(J11:U11)) -> 0
D12: diária/mais de 6h | E12: 339039.26 | F12: 0 | G12: 0 | H12: =G12-(SUM(J12:U12)) -> 0
A13: DESERTO | B13: 4 | C13: Micro-ônibus | D13: km rodado | E13: 339039.26 | F13: 0 | G13: 0 | H13: =G13-(SUM(J13:U13)) -> 0
D14: meia diária/6h | E14: 339039.26 | F14: 0 | G14: 0 | H14: =G14-(SUM(J14:U14)) -> 0
D15: diária/mais de 6h | E15: 339039.26 | F15: 0 | G15: 0 | H15: =G15-(SUM(J15:U15)) -> 0
A16: INFRUTÍFERO | B16: 5 | C16: Ônibus Executivo - Laguna | D16: km rodado | E16: 339039.26 | F16: 0 | G16: 0 | H16: =G16-(SUM(J16:U16)) -> 0
D17: meia diária/6h | E17: 339039.26 | F17: 0 | G17: 0 | H17: =G17-(SUM(J17:U17)) -> 0
D18: diária/mais de 6h | E18: 339039.26 | F18: 0 | G18: 0 | H18: =G18-(SUM(J18:U18)) -> 0
A19: INFRUTÍFERO | B19: 6 | C19: Ônibus Convencional - Laguna | D19: km rodado | E19: 339039.26 | F19: 0 | G19: 0 | H19: =G19-(SUM(J19:U19)) -> 0
D20: meia diária/6h | E20: 339039.26 | F20: 0 | G20: 0 | H20: =G20-(SUM(J20:U20)) -> 0
D21: diária/mais de 6h | E21: 339039.26 | F21: 0 | G21: 0 | H21: =G21-(SUM(J21:U21)) -> 0
A22: INFRUTÍFERO | B22: 7 | C22: Ônibus Executivo - Balneário Camboriú | D22: km rodado | E22: 339039.26 | F22: 0 | G22: 0 | H22: =G22-(SUM(J22:U22)) -> 0
D23: meia diária/6h | E23: 339039.26 | F23: 0 | G23: 0 | H23: =G23-(SUM(J23:U23)) -> 0
D24: diária/mais de 6h | E24: 339039.26 | F24: 0 | G24: 0 | H24: =G24-(SUM(J24:U24)) -> 0
A25: INFRUTÍFERO | B25: 8 | C25: Ônibus Convencional - Balneário Camboriú | D25: km rodado | E25: 339039.26 | F25: 0 | G25: 0 | H25: =G25-(SUM(J25:U25)) -> 0
D26: meia diária/6h | E26: 339039.26 | F26: 0 | G26: 0 | H26: =G26-(SUM(J26:U26)) -> 0
D27: diária/mais de 6h | E27: 339039.26 | F27: 0 | G27: 0 | H27: =G27-(SUM(J27:U27)) -> 0

Sheet PROEX
A1: PROCESSO: 0359/2015/UDESC | D1: OBJETO: TRANSPORTE DE PASSAGEIROS (VAN, ÔNIBUS CONVENCIONAL E ÔNIBUS EXECUTIVO) PARA O CAMPUS I, CESFI E CERES - UDESC | G1: VIGÊNCIA DA ATA: 30/06/2015 até 29/06/2016 | J1: AF/OS nº xxxx/2015 Qtde. DT | K1: AF/OS nº xxxx/2015 Qtde. DT | L1: AF/OS nº xxxx/2015 Qtde. DT | M1: AF/OS nº xxxx/2015 Qtde. DT | N1: AF/OS nº xxxx/2015 Qtde. DT | O1: AF/OS nº xxxx/2015 Qtde. DT | P1: AF/OS nº xxxx/2015 Qtde. DT | Q1: AF/OS nº xxxx/2015 Qtde. DT | R1: AF/OS nº xxxx/2015 Qtde. DT | S1: AF/OS nº xxxx/2015 Qtde. DT | T1: AF/OS nº xxxx/2015 Qtde. DT | U1: AF/OS nº xxxx/2015 Qtde. DT
A2: CENTRO PARTICIPANTE: PROEX
A3: FORNECEDOR | B3: LOTE | C3: ESPECIFICAÇÃO | D3: UNIDADE | E3: DETALHAMENTO | F3: Preço UNITÁRIO (R$) | G3: Qtde Registrada | H3: Saldo / Automático | I3: ALERTA | J3: ...../...../...... | K3: ...../...../...... | L3: ...../...../...... | M3: ...../...../...... | N3: ...../...../...... | O3: ...../...../...... | P3: ...../...../...... | Q3: ...../...../...... | R3: ...../...../...... | S3: ...../...../...... | T3: ...../...../...... | U3: ...../...../......
A4: Veigatur Receptivo de Turismo Ltda | B4: 1 | C4: Van | D4: km rodado | E4: 339039.26 | F4: 2.16 | H4: =G4-(SUM(J4:U4)) -> 0 | I4: =IF(H4<0,"ATENÇÃO","OK") -> OK
D5: meia diária/6h | E5: 339039.26 | F5: 255 | H5: =G5-(SUM(J5:U5)) -> 0 | I5: =IF(H5<0,"ATENÇÃO","OK") -> OK
D6: diária/mais de 6h | E6: 339039.26 | F6: 415.58 | G6: 144 | H6: =G6-(SUM(J6:U6)) -> 144 | I6: =IF(H6<0,"ATENÇÃO","OK") -> OK
A7: INFRUTÍFERO | B7: 2 | C7: Ônibus Executivo | D7: km rodado | E7: 339039.26 | F7: 0 | G7: 0 | H7: =G7-(SUM(J7:U7)) -> 0
D8: meia diária/6h | E8: 339039.26 | F8: 0 | G8: 0 | H8: =G8-(SUM(J8:U8)) -> 0
D9: diária/mais de 6h | E9: 339039.26 | F9: 0 | G9: 0 | H9: =G9-(SUM(J9:U9)) -> 0
A10: INFRUTÍFERO | B10: 3 | C10: Ônibus Convencional | D10: km rodado | E10: 339039.26 | F10: 0 | G10: 0 | H10: =G10-(SUM(J10:U10)) -> 0
D11: meia diária/6h | E11: 339039.26 | F11: 0 | G11: 0 | H11: =G11-(SUM(J11:U11)) -> 0
D12: diária/mais de 6h | E12: 339039.26 | F12: 0 | G12: 0 | H12: =G12-(SUM(J12:U12)) -> 0
A13: DESERTO | B13: 4 | C13: Micro-ônibus | D13: km rodado | E13: 339039.26 | F13: 0 | G13: 0 | H13: =G13-(SUM(J13:U13)) -> 0
D14: meia diária/6h | E14: 339039.26 | F14: 0 | G14: 0 | H14: =G14-(SUM(J14:U14)) -> 0
D15: diária/mais de 6h | E15: 339039.26 | F15: 0 | G15: 0 | H15: =G15-(SUM(J15:U15)) -> 0
A16: INFRUTÍFERO | B16: 5 | C16: Ônibus Executivo - Laguna | D16: km rodado | E16: 339039.26 | F16: 0 | G16: 0 | H16: =G16-(SUM(J16:U16)) -> 0
D17: meia diária/6h | E17: 339039.26 | F17: 0 | G17: 0 | H17: =G17-(SUM(J17:U17)) -> 0
D18: diária/mais de 6h | E18: 339039.26 | F18: 0 | G18: 0 | H18: =G18-(SUM(J18:U18)) -> 0
A19: INFRUTÍFERO | B19: 6 | C19: Ônibus Convencional - Laguna | D19: km rodado | E19: 339039.26 | F19: 0 | G19: 0 | H19: =G19-(SUM(J19:U19)) -> 0
D20: meia diária/6h | E20: 339039.26 | F20: 0 | G20: 0 | H20: =G20-(SUM(J20:U20)) -> 0
D21: diária/mais de 6h | E21: 339039.26 | F21: 0 | G21: 0 | H21: =G21-(SUM(J21:U21)) -> 0
A22: INFRUTÍFERO | B22: 7 | C22: Ônibus Executivo - Balneário Camboriú | D22: km rodado | E22: 339039.26 | F22: 0 | G22: 0 | H22: =G22-(SUM(J22:U22)) -> 0
D23: meia diária/6h | E23: 339039.26 | F23: 0 | G23: 0 | H23: =G23-(SUM(J23:U23)) -> 0
D24: diária/mais de 6h | E24: 339039.26 | F24: 0 | G24: 0 | H24: =G24-(SUM(J24:U24)) -> 0
A25: INFRUTÍFERO | B25: 8 | C25: Ônibus Convencional - Balneário Camboriú | D25: km rodado | E25: 339039.26 | F25: 0 | G25: 0 | H25: =G25-(SUM(J25:U25)) -> 0
D26: meia diária/6h | E26: 339039.26 | F26: 0 | G26: 0 | H26: =G26-(SUM(J26:U26)) -> 0
D27: diária/mais de 6h | E27: 339039.26 | F27: 0 | G27: 0 | H27: =G27-(SUM(J27:U27)) -> 0

Sheet ESAG
A1: PROCESSO: 0359/2015/UDESC | D1: OBJETO: TRANSPORTE DE PASSAGEIROS (VAN, ÔNIBUS CONVENCIONAL E ÔNIBUS EXECUTIVO) PARA O CAMPUS I, CESFI E CERES - UDESC | G1: VIGÊNCIA DA ATA: 30/06/2015 até 29/06/2016 | J1: AF/OS nº xxxx/2015 Qtde. DT | K1: AF/OS nº xxxx/2015 Qtde. DT | L1: AF/OS nº xxxx/2015 Qtde. DT | M1: AF/OS nº xxxx/2015 Qtde. DT | N1: AF/OS nº xxxx/2015 Qtde. DT | O1: AF/OS nº xxxx/2015 Qtde. DT | P1: AF/OS nº xxxx/2015 Qtde. DT | Q1: AF/OS nº xxxx/2015 Qtde. DT | R1: AF/OS nº xxxx/2015 Qtde. DT | S1: AF/OS nº xxxx/2015 Qtde. DT | T1: AF/OS nº xxxx/2015 Qtde. DT | U1: AF/OS nº xxxx/2015 Qtde. DT
A2: CENTRO PARTICIPANTE: ESAG
A3: FORNECEDOR | B3: LOTE | C3: ESPECIFICAÇÃO | D3: UNIDADE | E3: DETALHAMENTO | F3: Preço UNITÁRIO (R$) | G3: Qtde Registrada | H3: Saldo / Automático | I3: ALERTA | J3: ...../...../...... | K3: ...../...../...... | L3: ...../...../...... | M3: ...../...../...... | N3: ...../...../...... | O3: ...../...../...... | P3: ...../...../...... | Q3: ...../...../...... | R3: ...../...../...... | S3: ...../...../...... | T3: ...../...../...... | U3: ...../...../......
A4: Veigatur Receptivo de Turismo Ltda | B4: 1 | C4: Van | D4: km rodado | E4: 339039.26 | F4: 2.16 | G4: 2000 | H4: =G4-(SUM(J4:U4)) -> 2000 | I4: =IF(H4<0,"ATENÇÃO","OK") -> OK
D5: meia diária/6h | E5: 339039.26 | F5: 255 | G5: 20 | H5: =G5-(SUM(J5:U5)) -> 20 | I5: =IF(H5<0,"ATENÇÃO","OK") -> OK
D6: diária/mais de 6h | E6: 339039.26 | F6: 415.58 | G6: 40 | H6: =G6-(SUM(J6:U6)) -> 40 | I6: =IF(H6<0,"ATENÇÃO","OK") -> OK
A7: INFRUTÍFERO | B7: 2 | C7: Ônibus Executivo | D7: km rodado | E7: 339039.26 | F7: 0 | G7: 0 | H7: =G7-(SUM(J7:U7)) -> 0
D8: meia diária/6h | E8: 339039.26 | F8: 0 | G8: 0 | H8: =G8-(SUM(J8:U8)) -> 0
D9: diária/mais de 6h | E9: 339039.26 | F9: 0 | G9: 0 | H9: =G9-(SUM(J9:U9)) -> 0
A10: INFRUTÍFERO | B10: 3 | C10: Ônibus Convencional | D10: km rodado | E10: 339039.26 | F10: 0 | G10: 0 | H10: =G10-(SUM(J10:U10)) -> 0
D11: meia diária/6h | E11: 339039.26 | F11: 0 | G11: 0 | H11: =G11-(SUM(J11:U11)) -> 0
D12: diária/mais de 6h | E12: 339039.26 | F12: 0 | G12: 0 | H12: =G12-(SUM(J12:U12)) -> 0
A13: DESERTO | B13: 4 | C13: Micro-ônibus | D13: km rodado | E13: 339039.26 | F13: 0 | G13: 0 | H13: =G13-(SUM(J13:U13)) -> 0
D14: meia diária/6h | E14: 339039.26 | F14: 0 | G14: 0 | H14: =G14-(SUM(J14:U14)) -> 0
D15: diária/mais de 6h | E15: 339039.26 | F15: 0 | G15: 0 | H15: =G15-(SUM(J15:U15)) -> 0
A16: INFRUTÍFERO | B16: 5 | C16: Ônibus Executivo - Laguna | D16: km rodado | E16: 339039.26 | F16: 0 | G16: 0 | H16: =G16-(SUM(J16:U16)) -> 0
D17: meia diária/6h | E17: 339039.26 | F17: 0 | G17: 0 | H17: =G17-(SUM(J17:U17)) -> 0
D18: diária/mais de 6h | E18: 339039.26 | F18: 0 | G18: 0 | H18: =G18-(SUM(J18:U18)) -> 0
A19: INFRUTÍFERO | B19: 6 | C19: Ônibus Convencional - Laguna | D19: km rodado | E19: 339039.26 | F19: 0 | G19: 0 | H19: =G19-(SUM(J19:U19)) -> 0
D20: meia diária/6h | E20: 339039.26 | F20: 0 | G20: 0 | H20: =G20-(SUM(J20:U20)) -> 0
D21: diária/mais de 6h | E21: 339039.26 | F21: 0 | G21: 0 | H21: =G21-(SUM(J21:U21)) -> 0
A22: INFRUTÍFERO | B22: 7 | C22: Ônibus Executivo - Balneário Camboriú | D22: km rodado | E22: 339039.26 | F22: 0 | G22: 0 | H22: =G22-(SUM(J22:U22)) -> 0
D23: meia diária/6h | E23: 339039.26 | F23: 0 | G23: 0 | H23: =G23-(SUM(J23:U23)) -> 0
D24: diária/mais de 6h | E24: 339039.26 | F24: 0 | G24: 0 | H24: =G24-(SUM(J24:U24)) -> 0
A25: INFRUTÍFERO | B25: 8 | C25: Ônibus Convencional - Balneário Camboriú | D25: km rodado | E25: 339039.26 | F25: 0 | G25: 0 | H25: =G25-(SUM(J25:U25)) -> 0
D26: meia diária/6h | E26: 339039.26 | F26: 0 | G26: 0 | H26: =G26-(SUM(J26:U26)) -> 0
D27: diária/mais de 6h | E27: 339039.26 | F27: 0 | G27: 0 | H27: =G27-(SUM(J27:U27)) -> 0

Sheet CEART
A1: PROCESSO: 0359/2015/UDESC | D1: OBJETO: TRANSPORTE DE PASSAGEIROS (VAN, ÔNIBUS CONVENCIONAL E ÔNIBUS EXECUTIVO) PARA O CAMPUS I, CESFI E CERES - UDESC | G1: VIGÊNCIA DA ATA: 30/06/2015 até 29/06/2016 | J1: OS 1927/2015 | K1: AF/OS nº xxxx/2015 Qtde. DT | L1: AF/OS nº xxxx/2015 Qtde. DT | M1: AF/OS nº xxxx/2015 Qtde. DT | N1: AF/OS nº xxxx/2015 Qtde. DT | O1: AF/OS nº xxxx/2015 Qtde. DT | P1: AF/OS nº xxxx/2015 Qtde. DT | Q1: AF/OS nº xxxx/2015 Qtde. DT | R1: AF/OS nº xxxx/2015 Qtde. DT | S1: AF/OS nº xxxx/2015 Qtde. DT | T1: AF/OS nº xxxx/2015 Qtde. DT | U1: AF/OS nº xxxx/2015 Qtde. DT
A2: CENTRO PARTICIPANTE: CEART
A3: FORNECEDOR | B3: LOTE | C3: ESPECIFICAÇÃO | D3: UNIDADE | E3: DETALHAMENTO | F3: Preço UNITÁRIO (R$) | G3: Qtde Registrada | H3: Saldo / Automático | I3: ALERTA | J3: 42291 | K3: ...../...../...... | L3: ...../...../...... | M3: ...../...../...... | N3: ...../...../...... | O3: ...../...../...... | P3: ...../...../...... | Q3: ...../...../...... | R3: ...../...../...... | S3: ...../...../...... | T3: ...../...../...... | U3: ...../...../......
A4: Veigatur Receptivo de Turismo Ltda | B4: 1 | C4: Van | D4: km rodado | E4: 339039.26 | F4: 2.16 | G4: 7700 | H4: =G4-(SUM(J4:U4)) -> 6350 | I4: =IF(H4<0,"ATENÇÃO","OK") -> OK | J4: 926 | K4: 424
D5: meia diária/6h | E5: 339039.26 | F5: 255 | G5: 20 | H5: =G5-(SUM(J5:U5)) -> 20 | I5: =IF(H5<0,"ATENÇÃO","OK") -> OK | J5: 0
D6: diária/mais de 6h | E6: 339039.26 | F6: 415.58 | G6: 35 | H6: =G6-(SUM(J6:U6)) -> 35 | I6: =IF(H6<0,"ATENÇÃO","OK") -> OK | J6: 0
A7: INFRUTÍFERO | B7: 2 | C7: Ônibus Executivo | D7: km rodado | E7: 339039.26 | F7: 0 | G7: 0 | H7: =G7-(SUM(J7:U7)) -> 0
D8: meia diária/6h | E8: 339039.26 | F8: 0 | G8: 0 | H8: =G8-(SUM(J8:U8)) -> 0
D9: diária/mais de 6h | E9: 339039.26 | F9: 0 | G9: 0 | H9: =G9-(SUM(J9:U9)) -> 0
A10: INFRUTÍFERO | B10: 3 | C10: Ônibus Convencional | D10: km rodado | E10: 339039.26 | F10: 0 | G10: 0 | H10: =G10-(SUM(J10:U10)) -> 0
D11: meia diária/6h | E11: 339039.26 | F11: 0 | G11: 0 | H11: =G11-(SUM(J11:U11)) -> 0
D12: diária/mais de 6h | E12: 339039.26 | F12: 0 | G12: 0 | H12: =G12-(SUM(J12:U12)) -> 0
A13: DESERTO | B13: 4 | C13: Micro-ônibus | D13: km rodado | E13: 339039.26 | F13: 0 | G13: 0 | H13: =G13-(SUM(J13:U13)) -> 0
D14: meia diária/6h | E14: 339039.26 | F14: 0 | G14: 0 | H14: =G14-(SUM(J14:U14)) -> 0
D15: diária/mais de 6h | E15: 339039.26 | F15: 0 | G15: 0 | H15: =G15-(SUM(J15:U15)) -> 0
A16: INFRUTÍFERO | B16: 5 | C16: Ônibus Executivo - Laguna | D16: km rodado | E16: 339039.26 | F16: 0 | G16: 0 | H16: =G16-(SUM(J16:U16)) -> 0
D17: meia diária/6h | E17: 339039.26 | F17: 0 | G17: 0 | H17: =G17-(SUM(J17:U17)) -> 0
D18: diária/mais de 6h | E18: 339039.26 | F18: 0 | G18: 0 | H18: =G18-(SUM(J18:U18)) -> 0
A19: INFRUTÍFERO | B19: 6 | C19: Ônibus Convencional - Laguna | D19: km rodado | E19: 339039.26 | F19: 0 | G19: 0 | H19: =G19-(SUM(J19:U19)) -> 0
D20: meia diária/6h | E20: 339039.26 | F20: 0 | G20: 0 | H20: =G20-(SUM(J20:U20)) -> 0
D21: diária/mais de 6h | E21: 339039.26 | F21: 0 | G21: 0 | H21: =G21-(SUM(J21:U21)) -> 0
A22: INFRUTÍFERO | B22: 7 | C22: Ônibus Executivo - Balneário Camboriú | D22: km rodado | E22: 339039.26 | F22: 0 | G22: 0 | H22: =G22-(SUM(J22:U22)) -> 0
D23: meia diária/6h | E23: 339039.26 | F23: 0 | G23: 0 | H23: =G23-(SUM(J23:U23)) -> 0
D24: diária/mais de 6h | E24: 339039.26 | F24: 0 | G24: 0 | H24: =G24-(SUM(J24:U24)) -> 0
A25: INFRUTÍFERO | B25: 8 | C25: Ônibus Convencional - Balneário Camboriú | D25: km rodado | E25: 339039.26 | F25: 0 | G25: 0 | H25: =G25-(SUM(J25:U25)) -> 0
D26: meia diária/6h | E26: 339039.26 | F26: 0 | G26: 0 | H26: =G26-(SUM(J26:U26)) -> 0
D27: diária/mais de 6h | E27: 339039.26 | F27: 0 | G27: 0 | H27: =G27-(SUM(J27:U27)) -> 0 | I27: =IF(H27<0,"ATENÇÃO","OK") -> OK

Sheet FAED
A1: PROCESSO: 0359/2015/UDESC | D1: OBJETO: TRANSPORTE DE PASSAGEIROS (VAN, ÔNIBUS CONVENCIONAL E ÔNIBUS EXECUTIVO) PARA O CAMPUS I, CESFI E CERES - UDESC | G1: VIGÊNCIA DA ATA: 30/06/2015 até 29/06/2016 | J1: AF/OS nº 2153/2015 Qtde. DT | K1: AF/OS nº 143/2016 Qtde. DT | L1: AF/OS nº xxxx/2015 Qtde. DT | M1: AF/OS nº xxxx/2015 Qtde. DT | N1: AF/OS nº xxxx/2015 Qtde. DT | O1: AF/OS nº xxxx/2015 Qtde. DT | P1: AF/OS nº xxxx/2015 Qtde. DT | Q1: AF/OS nº xxxx/2015 Qtde. DT | R1: AF/OS nº xxxx/2015 Qtde. DT | S1: AF/OS nº xxxx/2015 Qtde. DT | T1: AF/OS nº xxxx/2015 Qtde. DT | U1: AF/OS nº xxxx/2015 Qtde. DT
A2: CENTRO PARTICIPANTE: FAED
A3: FORNECEDOR | B3: LOTE | C3: ESPECIFICAÇÃO | D3: UNIDADE | E3: DETALHAMENTO | F3: Preço UNITÁRIO (R$) | G3: Qtde Registrada | H3: Saldo / Automático | I3: ALERTA | J3: 42319 | K3: 42424 | L3: ...../...../...... | M3: ...../...../...... | N3: ...../...../...... | O3: ...../...../...... | P3: ...../...../...... | Q3: ...../...../...... | R3: ...../...../...... | S3: ...../...../...... | T3: ...../...../...... | U3: ...../...../......
A4: Veigatur Receptivo de Turismo Ltda | B4: 1 | C4: Van | D4: km rodado | E4: 339039.26 | F4: 2.16 | G4: 6000 | H4: =G4-(SUM(J4:U4)) -> 5000 | I4: =IF(H4<0,"ATENÇÃO","OK") -> OK | K4: 1000
D5: meia diária/6h | E5: 339039.26 | F5: 255 | G5: 10 | H5: =G5-(SUM(J5:U5)) -> 10 | I5: =IF(H5<0,"ATENÇÃO","OK") -> OK
D6: diária/mais de 6h | E6: 339039.26 | F6: 415.58 | G6: 10 | H6: =G6-(SUM(J6:U6)) -> 7 | I6: =IF(H6<0,"ATENÇÃO","OK") -> OK | J6: 1 | K6: 2
A7: INFRUTÍFERO | B7: 2 | C7: Ônibus Executivo | D7: km rodado | E7: 339039.26 | F7: 0 | G7: 0 | H7: =G7-(SUM(J7:U7)) -> 0
D8: meia diária/6h | E8: 339039.26 | F8: 0 | G8: 0 | H8: =G8-(SUM(J8:U8)) -> 0
D9: diária/mais de 6h | E9: 339039.26 | F9: 0 | G9: 0 | H9: =G9-(SUM(J9:U9)) -> 0
A10: INFRUTÍFERO | B10: 3 | C10: Ônibus Convencional | D10: km rodado | E10: 339039.26 | F10: 0 | G10: 0 | H10: =G10-(SUM(J10:U10)) -> 0
D11: meia diária/6h | E11: 339039.26 | F11: 0 | G11: 0 | H11: =G11-(SUM(J11:U11)) -> 0
D12: diária/mais de 6h | E12: 339039.26 | F12: 0 | G12: 0 | H12: =G12-(SUM(J12:U12)) -> 0
A13: DESERTO | B13: 4 | C13: Micro-ônibus | D13: km rodado | E13: 339039.26 | F13: 0 | G13: 0 | H13: =G13-(SUM(J13:U13)) -> 0
D14: meia diária/6h | E14: 339039.26 | F14: 0 | G14: 0 | H14: =G14-(SUM(J14:U14)) -> 0
D15: diária/mais de 6h | E15: 339039.26 | F15: 0 | G15: 0 | H15: =G15-(SUM(J15:U15)) -> 0
A16: INFRUTÍFERO | B16: 5 | C16: Ônibus Executivo - Laguna | D16: km rodado | E16: 339039.26 | F16: 0 | G16: 0 | H16: =G16-(SUM(J16:U16)) -> 0
D17: meia diária/6h | E17: 339039.26 | F17: 0 | G17: 0 | H17: =G17-(SUM(J17:U17)) -> 0
D18: diária/mais de 6h | E18: 339039.26 | F18: 0 | G18: 0 | H18: =G18-(SUM(J18:U18)) -> 0
A19: INFRUTÍFERO | B19: 6 | C19: Ônibus Convencional - Laguna | D19: km rodado | E19: 339039.26 | F19: 0 | G19: 0 | H19: =G19-(SUM(J19:U19)) -> 0
D20: meia diária/6h | E20: 339039.26 | F20: 0 | G20: 0 | H20: =G20-(SUM(J20:U20)) -> 0
D21: diária/mais de 6h | E21: 339039.26 | F21: 0 | G21: 0 | H21: =G21-(SUM(J21:U21)) -> 0
A22: INFRUTÍFERO | B22: 7 | C22: Ônibus Executivo - Balneário Camboriú | D22: km rodado | E22: 339039.26 | F22: 0 | G22: 0 | H22: =G22-(SUM(J22:U22)) -> 0
D23: meia diária/6h | E23: 339039.26 | F23: 0 | G23: 0 | H23: =G23-(SUM(J23:U23)) -> 0
D24: diária/mais de 6h | E24: 339039.26 | F24: 0 | G24: 0 | H24: =G24-(SUM(J24:U24)) -> 0
A25: INFRUTÍFERO | B25: 8 | C25: Ônibus Convencional - Balneário Camboriú | D25: km rodado | E25: 339039.26 | F25: 0 | G25: 0 | H25: =G25-(SUM(J25:U25)) -> 0
D26: meia diária/6h | E26: 339039.26 | F26: 0 | G26: 0 | H26: =G26-(SUM(J26:U26)) -> 0
D27: diária/mais de 6h | E27: 339039.26 | F27: 0 | G27: 0 | H27: =G27-(SUM(J27:U27)) -> 0

Sheet CEAD
A1: PROCESSO: 0359/2015/UDESC | D1: OBJETO: TRANSPORTE DE PASSAGEIROS (VAN, ÔNIBUS CONVENCIONAL E ÔNIBUS EXECUTIVO) PARA O CAMPUS I, CESFI E CERES - UDESC | G1: VIGÊNCIA DA ATA: 30/06/2015 até 29/06/2016 | J1: AF/OS nº 1584/2015 Qtde. DT | K1: AF/OS nº xxxx/2015 Qtde. DT | L1: AF/OS nº xxxx/2015 Qtde. DT | M1: AF/OS nº xxxx/2015 Qtde. DT | N1: AF/OS nº xxxx/2015 Qtde. DT | O1: AF/OS nº xxxx/2015 Qtde. DT | P1: AF/OS nº xxxx/2015 Qtde. DT | Q1: AF/OS nº xxxx/2015 Qtde. DT | R1: AF/OS nº xxxx/2015 Qtde. DT | S1: AF/OS nº xxxx/2015 Qtde. DT | T1: AF/OS nº xxxx/2015 Qtde. DT | U1: AF/OS nº xxxx/2015 Qtde. DT
A2: CENTRO PARTICIPANTE: CEAD
A3: FORNECEDOR | B3: LOTE | C3: ESPECIFICAÇÃO | D3: UNIDADE | E3: DETALHAMENTO | F3: Preço UNITÁRIO (R$) | G3: Qtde Registrada | H3: Saldo / Automático | I3: ALERTA | J3: 42250 | K3: 42250 | L3: ...../...../...... | M3: ...../...../...... | N3: ...../...../...... | O3: ...../...../...... | P3: ...../...../...... | Q3: ...../...../...... | R3: ...../...../...... | S3: ...../...../...... | T3: ...../...../...... | U3: ...../...../......
A4: Veigatur Receptivo de Turismo Ltda | B4: 1 | C4: Van | D4: km rodado | E4: 339039.26 | F4: 2.16 | G4: 16500 | H4: =G4-(SUM(J4:U4)) -> 12469 | I4: =IF(H4<0,"ATENÇÃO","OK") -> OK | J4: 31 | K4: 4000
D5: meia diária/6h | E5: 339039.26 | F5: 255 | G5: 38 | H5: =G5-(SUM(J5:U5)) -> 28 | I5: =IF(H5<0,"ATENÇÃO","OK") -> OK | K5: 10
D6: diária/mais de 6h | E6: 339039.26 | F6: 415.58 | G6: 53 | H6: =G6-(SUM(J6:U6)) -> 41 | I6: =IF(H6<0,"ATENÇÃO","OK") -> OK | J6: 2 | K6: 10
A7: INFRUTÍFERO | B7: 2 | C7: Ônibus Executivo | D7: km rodado | E7: 339039.26 | F7: 0 | G7: 0 | H7: =G7-(SUM(J7:U7)) -> 0
D8: meia diária/6h | E8: 339039.26 | F8: 0 | G8: 0 | H8: =G8-(SUM(J8:U8)) -> 0
D9: diária/mais de 6h | E9: 339039.26 | F9: 0 | G9: 0 | H9: =G9-(SUM(J9:U9)) -> 0
A10: INFRUTÍFERO | B10: 3 | C10: Ônibus Convencional | D10: km rodado | E10: 339039.26 | F10: 0 | G10: 0 | H10: =G10-(SUM(J10:U10)) -> 0
D11: meia diária/6h | E11: 339039.26 | F11: 0 | G11: 0 | H11: =G11-(SUM(J11:U11)) -> 0
D12: diária/mais de 6h | E12: 339039.26 | F12: 0 | G12: 0 | H12: =G12-(SUM(J12:U12)) -> 0
A13: DESERTO | B13: 4 | C13: Micro-ônibus | D13: km rodado | E13: 339039.26 | F13: 0 | G13: 0 | H13: =G13-(SUM(J13:U13)) -> 0
D14: meia diária/6h | E14: 339039.26 | F14: 0 | G14: 0 | H14: =G14-(SUM(J14:U14)) -> 0
D15: diária/mais de 6h | E15: 339039.26 | F15: 0 | G15: 0 | H15: =G15-(SUM(J15:U15)) -> 0
A16: INFRUTÍFERO | B16: 5 | C16: Ônibus Executivo - Laguna | D16: km rodado | E16: 339039.26 | F16: 0 | G16: 0 | H16: =G16-(SUM(J16:U16)) -> 0
D17: meia diária/6h | E17: 339039.26 | F17: 0 | G17: 0 | H17: =G17-(SUM(J17:U17)) -> 0
D18: diária/mais de 6h | E18: 339039.26 | F18: 0 | G18: 0 | H18: =G18-(SUM(J18:U18)) -> 0
A19: INFRUTÍFERO | B19: 6 | C19: Ônibus Convencional - Laguna | D19: km rodado | E19: 339039.26 | F19: 0 | G19: 0 | H19: =G19-(SUM(J19:U19)) -> 0
D20: meia diária/6h | E20: 339039.26 | F20: 0 | G20: 0 | H20: =G20-(SUM(J20:U20)) -> 0
D21: diária/mais de 6h | E21: 339039.26 | F21: 0 | G21: 0 | H21: =G21-(SUM(J21:U21)) -> 0
A22: INFRUTÍFERO | B22: 7 | C22: Ônibus Executivo - Balneário Camboriú | D22: km rodado | E22: 339039.26 | F22: 0 | G22: 0 | H22: =G22-(SUM(J22:U22)) -> 0
D23: meia diária/6h | E23: 339039.26 | F23: 0 | G23: 0 | H23: =G23-(SUM(J23:U23)) -> 0
D24: diária/mais de 6h | E24: 339039.26 | F24: 0 | G24: 0 | H24: =G24-(SUM(J24:U24)) -> 0
A25: INFRUTÍFERO | B25: 8 | C25: Ônibus Convencional - Balneário Camboriú | D25: km rodado | E25: 339039.26 | F25: 0 | G25: 0 | H25: =G25-(SUM(J25:U25)) -> 0
D26: meia diária/6h | E26: 339039.26 | F26: 0 | G26: 0 | H26: =G26-(SUM(J26:U26)) -> 0
D27: diária/mais de 6h | E27: 339039.26 | F27: 0 | G27: 0 | H27: =G27-(SUM(J27:U27)) -> 0

Sheet CEFID
A1: PROCESSO: 0359/2015/UDESC | D1: OBJETO: TRANSPORTE DE PASSAGEIROS (VAN, ÔNIBUS CONVENCIONAL E ÔNIBUS EXECUTIVO) PARA O CAMPUS I, CESFI E CERES - UDESC | G1: VIGÊNCIA DA ATA: 30/06/2015 até 29/06/2016 | J1: AF/OS nº 2116/2015 Qtde. DT | K1: AF/OS nº xxxx/2015 Qtde. DT | L1: AF/OS nº xxxx/2015 Qtde. DT | M1: AF/OS nº xxxx/2015 Qtde. DT | N1: AF/OS nº xxxx/2015 Qtde. DT | O1: AF/OS nº xxxx/2015 Qtde. DT | P1: AF/OS nº xxxx/2015 Qtde. DT | Q1: AF/OS nº xxxx/2015 Qtde. DT | R1: AF/OS nº xxxx/2015 Qtde. DT | S1: AF/OS nº xxxx/2015 Qtde. DT | T1: AF/OS nº xxxx/2015 Qtde. DT | U1: AF/OS nº xxxx/2015 Qtde. DT
A2: CENTRO PARTICIPANTE: CEFID
A3: FORNECEDOR | B3: LOTE | C3: ESPECIFICAÇÃO | D3: UNIDADE | E3: DETALHAMENTO | F3: Preço UNITÁRIO (R$) | G3: Qtde Registrada | H3: Saldo / Automático | I3: ALERTA | J3: 42314 | K3: ...../...../...... | L3: ...../...../...... | M3: ...../...../...... | N3: ...../...../...... | O3: ...../...../...... | P3: ...../...../...... | Q3: ...../...../...... | R3: ...../...../...... | S3: ...../...../...... | T3: ...../...../...... | U3: ...../...../......
A4: Veigatur Receptivo de Turismo Ltda | B4: 1 | C4: Van | D4: km rodado | E4: 339039.26 | F4: 2.16 | G4: 4500 | H4: =G4-(SUM(J4:U4)) -> 3200 | I4: =IF(H4<0,"ATENÇÃO","OK") -> OK | J4: 1300
D5: meia diária/6h | E5: 339039.26 | F5: 255 | G5: 15 | H5: =G5-(SUM(J5:U5)) -> 15 | I5: =IF(H5<0,"ATENÇÃO","OK") -> OK
D6: diária/mais de 6h | E6: 339039.26 | F6: 415.58 | G6: 15 | H6: =G6-(SUM(J6:U6)) -> 14 | I6: =IF(H6<0,"ATENÇÃO","OK") -> OK | J6: 1
A7: INFRUTÍFERO | B7: 2 | C7: Ônibus Executivo | D7: km rodado | E7: 339039.26 | F7: 0 | G7: 0 | H7: =G7-(SUM(J7:U7)) -> 0
D8: meia diária/6h | E8: 339039.26 | F8: 0 | G8: 0 | H8: =G8-(SUM(J8:U8)) -> 0
D9: diária/mais de 6h | E9: 339039.26 | F9: 0 | G9: 0 | H9: =G9-(SUM(J9:U9)) -> 0
A10: INFRUTÍFERO | B10: 3 | C10: Ônibus Convencional | D10: km rodado | E10: 339039.26 | F10: 0 | G10: 0 | H10: =G10-(SUM(J10:U10)) -> 0
D11: meia diária/6h | E11: 339039.26 | F11: 0 | G11: 0 | H11: =G11-(SUM(J11:U11)) -> 0
D12: diária/mais de 6h | E12: 339039.26 | F12: 0 | G12: 0 | H12: =G12-(SUM(J12:U12)) -> 0
A13: DESERTO | B13: 4 | C13: Micro-ônibus | D13: km rodado | E13: 339039.26 | F13: 0 | G13: 0 | H13: =G13-(SUM(J13:U13)) -> 0
D14: meia diária/6h | E14: 339039.26 | F14: 0 | G14: 0 | H14: =G14-(SUM(J14:U14)) -> 0
D15: diária/mais de 6h | E15: 339039.26 | F15: 0 | G15: 0 | H15: =G15-(SUM(J15:U15)) -> 0
A16: INFRUTÍFERO | B16: 5 | C16: Ônibus Executivo - Laguna | D16: km rodado | E16: 339039.26 | F16: 0 | G16: 0 | H16: =G16-(SUM(J16:U16)) -> 0
D17: meia diária/6h | E17: 339039.26 | F17: 0 | G17: 0 | H17: =G17-(SUM(J17:U17)) -> 0
D18: diária/mais de 6h | E18: 339039.26 | F18: 0 | G18: 0 | H18: =G18-(SUM(J18:U18)) -> 0
A19: INFRUTÍFERO | B19: 6 | C19: Ônibus Convencional - Laguna | D19: km rodado | E19: 339039.26 | F19: 0 | G19: 0 | H19: =G19-(SUM(J19:U19)) -> 0
D20: meia diária/6h | E20: 339039.26 | F20: 0 | G20: 0 | H20: =G20-(SUM(J20:U20)) -> 0
D21: diária/mais de 6h | E21: 339039.26 | F21: 0 | G21: 0 | H21: =G21-(SUM(J21:U21)) -> 0
A22: INFRUTÍFERO | B22: 7 | C22: Ônibus Executivo - Balneário Camboriú | D22: km rodado | E22: 339039.26 | F22: 0 | G22: 0 | H22: =G22-(SUM(J22:U22)) -> 0
D23: meia diária/6h | E23: 339039.26 | F23: 0 | G23: 0 | H23: =G23-(SUM(J23:U23)) -> 0
D24: diária/mais de 6h | E24: 339039.26 | F24: 0 | G24: 0 | H24: =G24-(SUM(J24:U24)) -> 0
A25: INFRUTÍFERO | B25: 8 | C25: Ônibus Convencional - Balneário Camboriú | D25: km rodado | E25: 339039.26 | F25: 0 | G25: 0 | H25: =G25-(SUM(J25:U25)) -> 0
D26: meia diária/6h | E26: 339039.26 | F26: 0 | G26: 0 | H26: =G26-(SUM(J26:U26)) -> 0
D27: diária/mais de 6h | E27: 339039.26 | F27: 0 | G27: 0 | H27: =G27-(SUM(J27:U27)) -> 0

Sheet CERES
A1: PROCESSO: 0359/2015/UDESC | D1: OBJETO: TRANSPORTE DE PASSAGEIROS (VAN, ÔNIBUS CONVENCIONAL E ÔNIBUS EXECUTIVO) PARA O CAMPUS I, CESFI E CERES - UDESC | G1: VIGÊNCIA DA ATA: 30/06/2015 até 29/06/2016 | J1: AF/OS nº xxxx/2015 Qtde. DT | K1: AF/OS nº xxxx/2015 Qtde. DT | L1: AF/OS nº xxxx/2015 Qtde. DT | M1: AF/OS nº xxxx/2015 Qtde. DT | N1: AF/OS nº xxxx/2015 Qtde. DT | O1: AF/OS nº xxxx/2015 Qtde. DT | P1: AF/OS nº xxxx/2015 Qtde. DT | Q1: AF/OS nº xxxx/2015 Qtde. DT | R1: AF/OS nº xxxx/2015 Qtde. DT | S1: AF/OS nº xxxx/2015 Qtde. DT | T1: AF/OS nº xxxx/2015 Qtde. DT | U1: AF/OS nº xxxx/2015 Qtde. DT
A2: CENTRO PARTICIPANTE: CERES
A3: FORNECEDOR | B3: LOTE | C3: ESPECIFICAÇÃO | D3: UNIDADE | E3: DETALHAMENTO | F3: Preço UNITÁRIO (R$) | G3: Qtde Registrada | H3: Saldo / Automático | I3: ALERTA | J3: ...../...../...... | K3: ...../...../...... | L3: ...../...../...... | M3: ...../...../...... | N3: ...../...../...... | O3: ...../...../...... | P3: ...../...../...... | Q3: ...../...../...... | R3: ...../...../...... | S3: ...../...../...... | T3: ...../...../...... | U3: ...../...../......
A4: Veigatur Receptivo de Turismo Ltda | B4: 1 | C4: Van | D4: km rodado | E4: 339039.26 | F4: 2.16 | H4: =G4-(SUM(J4:U4)) -> 0 | I4: =IF(H4<0,"ATENÇÃO","OK") -> OK
D5: meia diária/6h | E5: 339039.26 | F5: 255 | H5: =G5-(SUM(J5:U5)) -> 0 | I5: =IF(H5<0,"ATENÇÃO","OK") -> OK
D6: diária/mais de 6h | E6: 339039.26 | F6: 415.58 | H6: =G6-(SUM(J6:U6)) -> 0 | I6: =IF(H6<0,"ATENÇÃO","OK") -> OK
A7: INFRUTÍFERO | B7: 2 | C7: Ônibus Executivo | D7: km rodado | E7: 339039.26 | F7: 0 | G7: 0 | H7: =G7-(SUM(J7:U7)) -> 0
D8: meia diária/6h | E8: 339039.26 | F8: 0 | G8: 0 | H8: =G8-(SUM(J8:U8)) -> 0
D9: diária/mais de 6h | E9: 339039.26 | F9: 0 | G9: 0 | H9: =G9-(SUM(J9:U9)) -> 0
A10: INFRUTÍFERO | B10: 3 | C10: Ônibus Convencional | D10: km rodado | E10: 339039.26 | F10: 0 | G10: 0 | H10: =G10-(SUM(J10:U10)) -> 0
D11: meia diária/6h | E11: 339039.26 | F11: 0 | G11: 0 | H11: =G11-(SUM(J11:U11)) -> 0
D12: diária/mais de 6h | E12: 339039.26 | F12: 0 | G12: 0 | H12: =G12-(SUM(J12:U12)) -> 0
A13: DESERTO | B13: 4 | C13: Micro-ônibus | D13: km rodado | E13: 339039.26 | F13: 0 | G13: 0 | H13: =G13-(SUM(J13:U13)) -> 0
D14: meia diária/6h | E14: 339039.26 | F14: 0 | G14: 0 | H14: =G14-(SUM(J14:U14)) -> 0
D15: diária/mais de 6h | E15: 339039.26 | F15: 0 | G15: 0 | H15: =G15-(SUM(J15:U15)) -> 0
A16: INFRUTÍFERO | B16: 5 | C16: Ônibus Executivo - Laguna | D16: km rodado | E16: 339039.26 | F16: 0 | G16: 0 | H16: =G16-(SUM(J16:U16)) -> 0
D17: meia diária/6h | E17: 339039.26 | F17: 0 | G17: 0 | H17: =G17-(SUM(J17:U17)) -> 0
D18: diária/mais de 6h | E18: 339039.26 | F18: 0 | G18: 0 | H18: =G18-(SUM(J18:U18)) -> 0
A19: INFRUTÍFERO | B19: 6 | C19: Ônibus Convencional - Laguna | D19: km rodado | E19: 339039.26 | F19: 0 | G19: 0 | H19: =G19-(SUM(J19:U19)) -> 0
D20: meia diária/6h | E20: 339039.26 | F20: 0 | G20: 0 | H20: =G20-(SUM(J20:U20)) -> 0
D21: diária/mais de 6h | E21: 339039.26 | F21: 0 | G21: 0 | H21: =G21-(SUM(J21:U21)) -> 0
A22: INFRUTÍFERO | B22: 7 | C22: Ônibus Executivo - Balneário Camboriú | D22: km rodado | E22: 339039.26 | F22: 0 | G22: 0 | H22: =G22-(SUM(J22:U22)) -> 0
D23: meia diária/6h | E23: 339039.26 | F23: 0 | G23: 0 | H23: =G23-(SUM(J23:U23)) -> 0
D24: diária/mais de 6h | E24: 339039.26 | F24: 0 | G24: 0 | H24: =G24-(SUM(J24:U24)) -> 0
A25: INFRUTÍFERO | B25: 8 | C25: Ônibus Convencional - Balneário Camboriú | D25: km rodado | E25: 339039.26 | F25: 0 | G25: 0 | H25: =G25-(SUM(J25:U25)) -> 0
D26: meia diária/6h | E26: 339039.26 | F26: 0 | G26: 0 | H26: =G26-(SUM(J26:U26)) -> 0
D27: diária/mais de 6h | E27: 339039.26 | F27: 0 | G27: 0 | H27: =G27-(SUM(J27:U27)) -> 0

Sheet CESFI
A1: PROCESSO: 0359/2015/UDESC | D1: OBJETO: TRANSPORTE DE PASSAGEIROS (VAN, ÔNIBUS CONVENCIONAL E ÔNIBUS EXECUTIVO) PARA O CAMPUS I, CESFI E CERES - UDESC | G1: VIGÊNCIA DA ATA: 30/06/2015 até 29/06/2016 | J1: AF/OS nº xxxx/2015 Qtde. DT | K1: AF/OS nº xxxx/2015 Qtde. DT | L1: AF/OS nº xxxx/2015 Qtde. DT | M1: AF/OS nº xxxx/2015 Qtde. DT | N1: AF/OS nº xxxx/2015 Qtde. DT | O1: AF/OS nº xxxx/2015 Qtde. DT | P1: AF/OS nº xxxx/2015 Qtde. DT | Q1: AF/OS nº xxxx/2015 Qtde. DT | R1: AF/OS nº xxxx/2015 Qtde. DT | S1: AF/OS nº xxxx/2015 Qtde. DT | T1: AF/OS nº xxxx/2015 Qtde. DT | U1: AF/OS nº xxxx/2015 Qtde. DT
A2: CENTRO PARTICIPANTE: CESFI
A3: FORNECEDOR | B3: LOTE | C3: ESPECIFICAÇÃO | D3: UNIDADE | E3: DETALHAMENTO | F3: Preço UNITÁRIO (R$) | G3: Qtde Registrada | H3: Saldo / Automático | I3: ALERTA | J3: ...../...../...... | K3: ...../...../...... | L3: ...../...../...... | M3: ...../...../...... | N3: ...../...../...... | O3: ...../...../...... | P3: ...../...../...... | Q3: ...../...../...... | R3: ...../...../...... | S3: ...../...../...... | T3: ...../...../...... | U3: ...../...../......
A4: Veigatur Receptivo de Turismo Ltda | B4: 1 | C4: Van | D4: km rodado | E4: 339039.26 | F4: 2.16 | H4: =G4-(SUM(J4:U4)) -> 0 | I4: =IF(H4<0,"ATENÇÃO","OK") -> OK
D5: meia diária/6h | E5: 339039.26 | F5: 255 | H5: =G5-(SUM(J5:U5)) -> 0 | I5: =IF(H5<0,"ATENÇÃO","OK") -> OK
D6: diária/mais de 6h | E6: 339039.26 | F6: 415.58 | H6: =G6-(SUM(J6:U6)) -> 0 | I6: =IF(H6<0,"ATENÇÃO","OK") -> OK
A7: INFRUTÍFERO | B7: 2 | C7: Ônibus Executivo | D7: km rodado | E7: 339039.26 | F7: 0 | G7: 0 | H7: =G7-(SUM(J7:U7)) -> 0
D8: meia diária/6h | E8: 339039.26 | F8: 0 | G8: 0 | H8: =G8-(SUM(J8:U8)) -> 0
D9: diária/mais de 6h | E9: 339039.26 | F9: 0 | G9: 0 | H9: =G9-(SUM(J9:U9)) -> 0
A10: INFRUTÍFERO | B10: 3 | C10: Ônibus Convencional | D10: km rodado | E10: 339039.26 | F10: 0 | G10: 0 | H10: =G10-(SUM(J10:U10)) -> 0
D11: meia diária/6h | E11: 339039.26 | F11: 0 | G11: 0 | H11: =G11-(SUM(J11:U11)) -> 0
D12: diária/mais de 6h | E12: 339039.26 | F12: 0 | G12: 0 | H12: =G12-(SUM(J12:U12)) -> 0
A13: DESERTO | B13: 4 | C13: Micro-ônibus | D13: km rodado | E13: 339039.26 | F13: 0 | G13: 0 | H13: =G13-(SUM(J13:U13)) -> 0
D14: meia diária/6h | E14: 339039.26 | F14: 0 | G14: 0 | H14: =G14-(SUM(J14:U14)) -> 0
D15: diária/mais de 6h | E15: 339039.26 | F15: 0 | G15: 0 | H15: =G15-(SUM(J15:U15)) -> 0
A16: INFRUTÍFERO | B16: 5 | C16: Ônibus Executivo - Laguna | D16: km rodado | E16: 339039.26 | F16: 0 | G16: 0 | H16: =G16-(SUM(J16:U16)) -> 0
D17: meia diária/6h | E17: 339039.26 | F17: 0 | G17: 0 | H17: =G17-(SUM(J17:U17)) -> 0
D18: diária/mais de 6h | E18: 339039.26 | F18: 0 | G18: 0 | H18: =G18-(SUM(J18:U18)) -> 0
A19: INFRUTÍFERO | B19: 6 | C19: Ônibus Convencional - Laguna | D19: km rodado | E19: 339039.26 | F19: 0 | G19: 0 | H19: =G19-(SUM(J19:U19)) -> 0
D20: meia diária/6h | E20: 339039.26 | F20: 0 | G20: 0 | H20: =G20-(SUM(J20:U20)) -> 0
D21: diária/mais de 6h | E21: 339039.26 | F21: 0 | G21: 0 | H21: =G21-(SUM(J21:U21)) -> 0
A22: INFRUTÍFERO | B22: 7 | C22: Ônibus Executivo - Balneário Camboriú | D22: km rodado | E22: 339039.26 | F22: 0 | G22: 0 | H22: =G22-(SUM(J22:U22)) -> 0
D23: meia diária/6h | E23: 339039.26 | F23: 0 | G23: 0 | H23: =G23-(SUM(J23:U23)) -> 0
D24: diária/mais de 6h | E24: 339039.26 | F24: 0 | G24: 0 | H24: =G24-(SUM(J24:U24)) -> 0
A25: INFRUTÍFERO | B25: 8 | C25: Ônibus Convencional - Balneário Camboriú | D25: km rodado | E25: 339039.26 | F25: 0 | G25: 0 | H25: =G25-(SUM(J25:U25)) -> 0
D26: meia diária/6h | E26: 339039.26 | F26: 0 | G26: 0 | H26: =G26-(SUM(J26:U26)) -> 0
D27: diária/mais de 6h | E27: 339039.26 | F27: 0 | G27: 0 | H27: =G27-(SUM(J27:U27)) -> 0

Sheet GESTOR
A1: PROCESSO: 0359/2015/UDESC | D1: OBJETO: TRANSPORTE DE PASSAGEIROS (VAN, ÔNIBUS CONVENCIONAL E ÔNIBUS EXECUTIVO) PARA O CAMPUS I, CESFI E CERES - UDESC | G1: VIGÊNCIA DA ATA: 30/06/2015 até 29/06/2016
A2: FORNECEDOR | B2: LOTE | C2: ESPECIFICAÇÕES | D2: UNIDADE | E2: DETALHAMENTO | F2: Preço UNITÁRIO (R$) | G2: Qtde Registrada | H2: Quantidade Utilizada | I2: SALDO | J2: Valor Total Registrado | K2: Valor Total Utilizado | L2: 1° TERMO ADITIVO SETRAN (REITORIA)
A3: Veigatur Receptivo de Turismo Ltda | B3: 1 | C3: Van | D3: km rodado | E3: 339039.26 | F3: 2.16 | G3: =Reitoria!G4+PROEX!G4+ESAG!G4+CEART!G4+FAED!G4+CEAD!G4+CEFID!G4+CERES!G4+CESFI!G4 -> 61700 | H3: =(Reitoria!G4-Reitoria!H4)+(PROEX!G4-PROEX!H4)+(ESAG!G4-ESAG!H4)+(CEART!G4-CEART!H4)+(FAED!G4-FAED!H4)+(CEAD!G4-CEAD!H4)+(CEFID!G4-CEFID!H4)+(CERES!G4-CERES!H4)+(CESFI!G4-CESFI!H4) -> 10671 | I3: =G3-H3 -> 51029 | J3: =F3*G3 -> 133272 | K3: =F3*H3 -> 23049.36
D4: meia diária/6h | E4: 339039.26 | F4: 255 | G4: =Reitoria!G5+PROEX!G5+ESAG!G5+CEART!G5+FAED!G5+CEAD!G5+CEFID!G5+CERES!G5+CESFI!G5 -> 123 | H4: =(Reitoria!G5-Reitoria!H5)+(PROEX!G5-PROEX!H5)+(ESAG!G5-ESAG!H5)+(CEART!G5-CEART!H5)+(FAED!G5-FAED!H5)+(CEAD!G5-CEAD!H5)+(CEFID!G5-CEFID!H5)+(CERES!G5-CERES!H5)+(CESFI!G5-CESFI!H5) -> 10 | I4: =G4-H4 -> 113 | J4: =F4*G4 -> 31365 | K4: =F4*H4 -> 2550
D5: diária/mais de 6h | E5: 339039.26 | F5: 415.58 | G5: =Reitoria!G6+PROEX!G6+ESAG!G6+CEART!G6+FAED!G6+CEAD!G6+CEFID!G6+CERES!G6+CESFI!G6 -> 427 | H5: =(Reitoria!G6-Reitoria!H6)+(PROEX!G6-PROEX!H6)+(ESAG!G6-ESAG!H6)+(CEART!G6-CEART!H6)+(FAED!G6-FAED!H6)+(CEAD!G6-CEAD!H6)+(CEFID!G6-CEFID!H6)+(CERES!G6-CERES!H6)+(CESFI!G6-CESFI!H6) -> 46 | I5: =G5-H5 -> 381 | J5: =F5*G5 -> 177452.66 | K5: =F5*H5 -> 19116.68 | L5: 70 | M5: =L5*F5 -> 29090.6 | N5: =L5/357 -> 0.19607843
A6: INFRUTÍFERO | B6: 2 | C6: Ônibus Executivo | D6: km rodado | E6: 339039.26 | F6: 0 | G6: =F6-(SUM(I6:K6)) -> 0
D7: meia diária/6h | E7: 339039.26 | F7: 0 | G7: =F7-(SUM(I7:K7)) -> 0
D8: diária/mais de 6h | E8: 339039.26 | F8: 0 | G8: =F8-(SUM(I8:K8)) -> 0
A9: INFRUTÍFERO | B9: 3 | C9: Ônibus Convencional | D9: km rodado | E9: 339039.26 | F9: 0 | G9: =F9-(SUM(I9:K9)) -> 0
D10: meia diária/6h | E10: 339039.26 | F10: 0 | G10: =F10-(SUM(I10:K10)) -> 0
D11: diária/mais de 6h | E11: 339039.26 | F11: 0 | G11: =F11-(SUM(I11:K11)) -> 0
A12: DESERTO | B12: 4 | C12: Micro-ônibus | D12: km rodado | E12: 339039.26 | F12: 0 | G12: =F12-(SUM(I12:K12)) -> 0
D13: meia diária/6h | E13: 339039.26 | F13: 0 | G13: =F13-(SUM(I13:K13)) -> 0
D14: diária/mais de 6h | E14: 339039.26 | F14: 0 | G14: =F14-(SUM(I14:K14)) -> 0
A15: INFRUTÍFERO | B15: 5 | C15: Ônibus Executivo - Laguna | D15: km rodado | E15: 339039.26 | F15: 0 | G15: =F15-(SUM(I15:K15)) -> 0
D16: meia diária/6h | E16: 339039.26 | F16: 0 | G16: =F16-(SUM(I16:K16)) -> 0
D17: diária/mais de 6h | E17: 339039.26 | F17: 0 | G17: =F17-(SUM(I17:K17)) -> 0
A18: INFRUTÍFERO | B18: 6 | C18: Ônibus Convencional - Laguna | D18: km rodado | E18: 339039.26 | F18: 0 | G18: =F18-(SUM(I18:K18)) -> 0
D19: meia diária/6h | E19: 339039.26 | F19: 0 | G19: =F19-(SUM(I19:K19)) -> 0
D20: diária/mais de 6h | E20: 339039.26 | F20: 0 | G20: =F20-(SUM(I20:K20)) -> 0
A21: INFRUTÍFERO | B21: 7 | C21: Ônibus Executivo - Balneário Camboriú | D21: km rodado | E21: 339039.26 | F21: 0 | G21: =F21-(SUM(I21:K21)) -> 0
D22: meia diária/6h | E22: 339039.26 | F22: 0 | G22: =F22-(SUM(I22:K22)) -> 0
D23: diária/mais de 6h | E23: 339039.26 | F23: 0 | G23: =F23-(SUM(I23:K23)) -> 0
A24: INFRUTÍFERO | B24: 8 | C24: Ônibus Convencional - Balneário Camboriú | D24: km rodado | E24: 339039.26 | F24: 0 | G24: =F24-(SUM(I24:K24)) -> 0
D25: meia diária/6h | E25: 339039.26 | F25: 0 | G25: =F25-(SUM(I25:K25)) -> 0
D26: diária/mais de 6h | E26: 339039.26 | F26: 0 | G26: =F26-(SUM(I26:K26)) -> 0
J27: =SUM(J3:J26) -> 342089.66 | K27: =SUM(K3:K26) -> 44716.04
G29: Pregão 0359/2015/UDESC - SRP
G30: TRANSPORTE DE PASSAGEIROS (VAN, ÔNIBUS CONVENCIONAL E ÔNIBUS EXECUTIVO) PARA O CAMPUS I, CESFI E CERES - UDESC
G31: VIGÊNCIA DA ATA: 30/06/2015 até 29/06/2016
G32: Valor Total da Ata com Aditivo | K32: =J27 -> 342089.66
G33: Valor Utilizado | K33: =K27 -> 44716.04
G34: % Aditivos
G35: % Utilizado | K35: =K33/K32 -> 0.13071439
G36: Resumo Atualizado em Dezembro/2015

Sheet Modelo Anexo II IN 002_2014
A1: ANEXO II – Instrução Normativa n.º 002/2014
A3: DECLARAÇÃO DE DISPONIBILIDADE DE QUANTITATIVO PARA EMISSÃO DE AUTORIZAÇÃO DE FORNECIMENTO/ORDEM DE SERVIÇO – SISTEMA DE REGISTRO DE PREÇOS/UDESC
A5: Processo CPA n.º XXXX/2014
A6: Pregão n.º XXXX/2014
A7: Objeto:
A8: Vigência da Ata de Registro de Preços: XX/XX/XXXX até XX/XX/XXXXX
A10: Declaro que o Centro XXXXXXX, participante da Ata de Registro de Preços proveniente do Pregão n.º XXXX/2014, possui saldo em seu quantitativo para a emissão da Autorização de Fornecimento/Ordem de Serviço n.º XXXX/2014, no valor de R$ X.XXX,XX, a ser firmada com a empresa XXXXXXX, restando ainda em sua cota para próximas contratações com o referido fornecedor os seguintes quantitativos:
A12: Lote | B12: Item | C12: Descrição Resumida | D12: Unidade | E12: Valor Unitário (R$) | F12: Saldo Quantitativo (antes da emissão desta AF/OS) | G12: Quantitativo da AF/OS | H12: Saldo Atualizado
A19: __________________, ____/_____/____
A20: Cidade Data
A24: _____________________________________________
A25: Diretor(a) de Administração
A26: (carimbo e assinatura)
