Workbook
Name diasuteis: #REF!
Name diasuteis: #REF!
Name diasuteis: #REF!
Name diasuteis: #REF!
Name diasuteis: #REF!
Name diasuteis: #REF!
Name diasuteis: #REF!
Name diasuteis: #REF!
Name diasuteis: #REF!
Name diasuteis: #REF!
Name diasuteis: #REF!
Name diasuteis: #REF!
Name diasuteis: #REF!
Name diasuteis: #REF!
Name diasuteis: #REF!
Name Ferias: #REF!
Name Ferias: #REF!
Name Ferias: #REF!
Name Ferias: #REF!
Name Ferias: #REF!
Name Ferias: #REF!
Name Ferias: #REF!
Name Ferias: #REF!
Name Ferias: #REF!
Name RD: OFFSET(#REF!,(MATCH(SMALL(#REF!,ROW()-10),#REF!,0)-1),0)
Name RD: OFFSET(#REF!,(MATCH(SMALL(#REF!,ROW()-10),#REF!,0)-1),0)
Name RD: OFFSET(#REF!,(MATCH(SMALL(#REF!,ROW()-10),#REF!,0)-1),0)
Name RD: OFFSET(#REF!,(MATCH(SMALL(#REF!,ROW()-10),#REF!,0)-1),0)
Name RD: OFFSET(#REF!,(MATCH(SMALL(#REF!,ROW()-10),#REF!,0)-1),0)
Name RD: OFFSET(#REF!,(MATCH(SMALL(#REF!,ROW()-10),#REF!,0)-1),0)
Name RD: OFFSET(#REF!,(MATCH(SMALL(#REF!,ROW()-10),#REF!,0)-1),0)
Name RD: OFFSET(#REF!,(MATCH(SMALL(#REF!,ROW()-10),#REF!,0)-1),0)
Name RD: OFFSET(#REF!,(MATCH(SMALL(#REF!,ROW()-10),#REF!,0)-1),0)

Sheet CESFI
A1: PROCESSO: 0358/2015/UDESC | D1: OBJETO: FORNECIMENTO DE MEDALHAS E PLACAS PARA OS EVENTOS ESPORTIVOS, CONCURSOS CULTURAIS, HOMENAGENS, INAUGURAÇÕES E DEMAIS PREMIAÇÕES DA UDESC - Lotes 01 e 02 | H1: VIGÊNCIA DA ATA: 29/05/2015 até 28/05/2016 | K1: AF/OS nº xxxx/2015 Qtde. DT | L1: AF/OS nº xxxx/2015 Qtde. DT | M1: AF/OS nº xxxx/2015 Qtde. DT | N1: AF/OS nº xxxx/2015 Qtde. DT | O1: AF/OS nº xxxx/2015 Qtde. DT | P1: AF/OS nº xxxx/2015 Qtde. DT | Q1: AF/OS nº xxxx/2015 Qtde. DT | R1: AF/OS nº xxxx/2015 Qtde. DT | S1: AF/OS nº xxxx/2015 Qtde. DT | T1: AF/OS nº xxxx/2015 Qtde. DT | U1: AF/OS nº xxxx/2015 Qtde. DT | V1: AF/OS nº xxxx/2015 Qtde. DT
A2: CENTRO PARTICIPANTE: CESFI
A3: FORNECEDOR | B3: LOTE | C3: ITEM | D3: PRODUTO - CARACTERÍSTICAS MÍNIMAS | E3: UNIDADE | F3: DETALHAMENTO | G3: Preço UNITÁRIO (R$) | H3: Qtde Registrada | I3: Saldo / Automático | J3: ALERTA | K3: ...../...../...... | L3: ...../...../...... | M3: ...../...../...... | N3: ...../...../...... | O3: ...../...../...... | P3: ...../...../...... | Q3: ...../...../...... | R3: ...../...../...... | S3: ...../...../...... | T3: ...../...../...... | U3: ...../...../...... | V3: ...../...../......
A4: MONUMENTAL IND. E COM. DE TROFÉUS LTDA ME | B4: 1 | C4: 1 | D4: Placa de Homenagem (17 x 27 cm) | E4: Peça | F4: 339031.04 | G4: 130.84 | H4: 50 | I4: =H4-(SUM(K4:V4)) -> 50 | J4: =IF(I4<0,"ATENÇÃO","OK") -> OK
C5: 2 | D5: Placa de Inauguração (45 x 65 cm) | E5: Peça | F5: 339039.24 | G5: 608.22 | H5: 2 | I5: =H5-(SUM(K5:V5)) -> 2 | J5: =IF(I5<0,"ATENÇÃO","OK") -> OK
A6: FENÍCIA IND. E COM. DE TROFÉUS E MEDALHAS LTDA | B6: 2 | C6: 3 | D6: Medalha - Pequena (6 cm de diâmetro) - ouro | E6: Peça | F6: 339031.04 | G6: 3.29 | I6: =H6-(SUM(K6:V6)) -> 0 | J6: =IF(I6<0,"ATENÇÃO","OK") -> OK
C7: 4 | D7: Medalha - Pequena (6 cm de diâmetro) - prata | E7: Peça | F7: 339031.04 | G7: 3.29 | I7: =H7-(SUM(K7:V7)) -> 0 | J7: =IF(I7<0,"ATENÇÃO","OK") -> OK
C8: 5 | D8: Medalha - Pequena (6 cm de diâmetro) - bronze | E8: Peça | F8: 339031.04 | G8: 3.29 | I8: =H8-(SUM(K8:V8)) -> 0 | J8: =IF(I8<0,"ATENÇÃO","OK") -> OK
C9: 6 | D9: Medalha - Média (8 cm de diâmetro) - ouro | E9: Peça | F9: 339031.04 | G9: 4.33 | I9: =H9-(SUM(K9:V9)) -> 0 | J9: =IF(I9<0,"ATENÇÃO","OK") -> OK
C10: 7 | D10: Medalha - Média (8 cm de diâmetro) - prata | E10: Peça | F10: 339031.04 | G10: 4.33 | I10: =H10-(SUM(K10:V10)) -> 0 | J10: =IF(I10<0,"ATENÇÃO","OK") -> OK
C11: 8 | D11: Medalha - Média (8 cm de diâmetro) - bronze | E11: Peça | F11: 339031.04 | G11: 4.33 | I11: =H11-(SUM(K11:V11)) -> 0 | J11: =IF(I11<0,"ATENÇÃO","OK") -> OK
C12: 9 | D12: Medalha - Média (8 cm de diâmetro) - ouro - modelo específico | E12: Peça | F12: 339031.04 | G12: 6.3 | I12: =H12-(SUM(K12:V12)) -> 0 | J12: =IF(I12<0,"ATENÇÃO","OK") -> OK
C13: 10 | D13: Medalha - Média (8 cm de diâmetro) - prata - model específico | E13: Peça | F13: 339031.04 | G13: 6.3 | I13: =H13-(SUM(K13:V13)) -> 0 | J13: =IF(I13<0,"ATENÇÃO","OK") -> OK
C14: 11 | D14: Medalha - Média (8 cm de diâmetro) - bronze - modelo específico | E14: Peça | F14: 339031.04 | G14: 6.3 | I14: =H14-(SUM(K14:V14)) -> 0 | J14: =IF(I14<0,"ATENÇÃO","OK") -> OK

Sheet CEPLAN
A1: PROCESSO: 0358/2015/UDESC | D1: OBJETO: FORNECIMENTO DE MEDALHAS E PLACAS PARA OS EVENTOS ESPORTIVOS, CONCURSOS CULTURAIS, HOMENAGENS, INAUGURAÇÕES E DEMAIS PREMIAÇÕES DA UDESC - Lotes 01 e 02 | H1: VIGÊNCIA DA ATA: 29/05/2015 até 28/05/2016 | K1: AF/OS nº xxxx/2015 Qtde. DT | L1: AF/OS nº xxxx/2015 Qtde. DT | M1: AF/OS nº xxxx/2015 Qtde. DT | N1: AF/OS nº xxxx/2015 Qtde. DT | O1: AF/OS nº xxxx/2015 Qtde. DT | P1: AF/OS nº xxxx/2015 Qtde. DT | Q1: AF/OS nº xxxx/2015 Qtde. DT | R1: AF/OS nº xxxx/2015 Qtde. DT | S1: AF/OS nº xxxx/2015 Qtde. DT | T1: AF/OS nº xxxx/2015 Qtde. DT | U1: AF/OS nº xxxx/2015 Qtde. DT | V1: AF/OS nº xxxx/2015 Qtde. DT
A2: CENTRO PARTICIPANTE: CEPLAN
A3: FORNECEDOR | B3: LOTE | C3: ITEM | D3: PRODUTO - CARACTERÍSTICAS MÍNIMAS | E3: UNIDADE | F3: DETALHAMENTO | G3: Preço UNITÁRIO (R$) | H3: Qtde Registrada | I3: Saldo / Automático | J3: ALERTA | K3: ...../...../...... | L3: ...../...../...... | M3: ...../...../...... | N3: ...../...../...... | O3: ...../...../...... | P3: ...../...../...... | Q3: ...../...../...... | R3: ...../...../...... | S3: ...../...../...... | T3: ...../...../...... | U3: ...../...../...... | V3: ...../...../......
A4: MONUMENTAL IND. E COM. DE TROFÉUS LTDA ME | B4: 1 | C4: 1 | D4: Placa de Homenagem (17 x 27 cm) | E4: Peça | F4: 339031.04 | G4: 130.84 | I4: =H4-(SUM(K4:V4)) -> 0 | J4: =IF(I4<0,"ATENÇÃO","OK") -> OK
C5: 2 | D5: Placa de Inauguração (45 x 65 cm) | E5: Peça | F5: 339039.24 | G5: 608.22 | H5: 10 | I5: =H5-(SUM(K5:V5)) -> 10 | J5: =IF(I5<0,"ATENÇÃO","OK") -> OK
A6: FENÍCIA IND. E COM. DE TROFÉUS E MEDALHAS LTDA | B6: 2 | C6: 3 | D6: Medalha - Pequena (6 cm de diâmetro) - ouro | E6: Peça | F6: 339031.04 | G6: 3.29 | H6: 70 | I6: =H6-(SUM(K6:V6)) -> 70 | J6: =IF(I6<0,"ATENÇÃO","OK") -> OK
C7: 4 | D7: Medalha - Pequena (6 cm de diâmetro) - prata | E7: Peça | F7: 339031.04 | G7: 3.29 | H7: 70 | I7: =H7-(SUM(K7:V7)) -> 70 | J7: =IF(I7<0,"ATENÇÃO","OK") -> OK
C8: 5 | D8: Medalha - Pequena (6 cm de diâmetro) - bronze | E8: Peça | F8: 339031.04 | G8: 3.29 | H8: 70 | I8: =H8-(SUM(K8:V8)) -> 70 | J8: =IF(I8<0,"ATENÇÃO","OK") -> OK
C9: 6 | D9: Medalha - Média (8 cm de diâmetro) - ouro | E9: Peça | F9: 339031.04 | G9: 4.33 | I9: =H9-(SUM(K9:V9)) -> 0 | J9: =IF(I9<0,"ATENÇÃO","OK") -> OK
C10: 7 | D10: Medalha - Média (8 cm de diâmetro) - prata | E10: Peça | F10: 339031.04 | G10: 4.33 | I10: =H10-(SUM(K10:V10)) -> 0 | J10: =IF(I10<0,"ATENÇÃO","OK") -> OK
C11: 8 | D11: Medalha - Média (8 cm de diâmetro) - bronze | E11: Peça | F11: 339031.04 | G11: 4.33 | I11: =H11-(SUM(K11:V11)) -> 0 | J11: =IF(I11<0,"ATENÇÃO","OK") -> OK
C12: 9 | D12: Medalha - Média (8 cm de diâmetro) - ouro - modelo específico | E12: Peça | F12: 339031.04 | G12: 6.3 | I12: =H12-(SUM(K12:V12)) -> 0 | J12: =IF(I12<0,"ATENÇÃO","OK") -> OK
C13: 10 | D13: Medalha - Média (8 cm de diâmetro) - prata - model específico | E13: Peça | F13: 339031.04 | G13: 6.3 | I13: =H13-(SUM(K13:V13)) -> 0 | J13: =IF(I13<0,"ATENÇÃO","OK") -> OK
C14: 11 | D14: Medalha - Média (8 cm de diâmetro) - bronze - modelo específico | E14: Peça | F14: 339031.04 | G14: 6.3 | I14: =H14-(SUM(K14:V14)) -> 0 | J14: =IF(I14<0,"ATENÇÃO","OK") -> OK

Sheet CAV
A1: PROCESSO: 0358/2015/UDESC | D1: OBJETO: FORNECIMENTO DE MEDALHAS E PLACAS PARA OS EVENTOS ESPORTIVOS, CONCURSOS CULTURAIS, HOMENAGENS, INAUGURAÇÕES E DEMAIS PREMIAÇÕES DA UDESC - Lotes 01 e 02 | H1: VIGÊNCIA DA ATA: 29/05/2015 até 28/05/2016 | K1: AF/OS nº xxxx/2015 Qtde. DT | L1: AF/OS nº xxxx/2015 Qtde. DT | M1: AF/OS nº xxxx/2015 Qtde. DT | N1: AF/OS nº xxxx/2015 Qtde. DT | O1: AF/OS nº xxxx/2015 Qtde. DT | P1: AF/OS nº xxxx/2015 Qtde. DT | Q1: AF/OS nº xxxx/2015 Qtde. DT | R1: AF/OS nº xxxx/2015 Qtde. DT | S1: AF/OS nº xxxx/2015 Qtde. DT | T1: AF/OS nº xxxx/2015 Qtde. DT | U1: AF/OS nº xxxx/2015 Qtde. DT | V1: AF/OS nº xxxx/2015 Qtde. DT
A2: CENTRO PARTICIPANTE: CAV
A3: FORNECEDOR | B3: LOTE | C3: ITEM | D3: PRODUTO - CARACTERÍSTICAS MÍNIMAS | E3: UNIDADE | F3: DETALHAMENTO | G3: Preço UNITÁRIO (R$) | H3: Qtde Registrada | I3: Saldo / Automático | J3: ALERTA | K3: ...../...../...... | L3: ...../...../...... | M3: ...../...../...... | N3: ...../...../...... | O3: ...../...../...... | P3: ...../...../...... | Q3: ...../...../...... | R3: ...../...../...... | S3: ...../...../...... | T3: ...../...../...... | U3: ...../...../...... | V3: ...../...../......
A4: MONUMENTAL IND. E COM. DE TROFÉUS LTDA ME | B4: 1 | C4: 1 | D4: Placa de Homenagem (17 x 27 cm) | E4: Peça | F4: 339031.04 | G4: 130.84 | H4: 15 | I4: =H4-(SUM(K4:V4)) -> 15 | J4: =IF(I4<0,"ATENÇÃO","OK") -> OK
C5: 2 | D5: Placa de Inauguração (45 x 65 cm) | E5: Peça | F5: 339039.24 | G5: 608.22 | H5: 3 | I5: =H5-(SUM(K5:V5)) -> 3 | J5: =IF(I5<0,"ATENÇÃO","OK") -> OK
A6: FENÍCIA IND. E COM. DE TROFÉUS E MEDALHAS LTDA | B6: 2 | C6: 3 | D6: Medalha - Pequena (6 cm de diâmetro) - ouro | E6: Peça | F6: 339031.04 | G6: 3.29 | H6: 320 | I6: =H6-(SUM(K6:V6)) -> 250 | J6: =IF(I6<0,"ATENÇÃO","OK") -> OK | K6: 53 | L6: 17
C7: 4 | D7: Medalha - Pequena (6 cm de diâmetro) - prata | E7: Peça | F7: 339031.04 | G7: 3.29 | H7: 250 | I7: =H7-(SUM(K7:V7)) -> 250 | J7: =IF(I7<0,"ATENÇÃO","OK") -> OK
C8: 5 | D8: Medalha - Pequena (6 cm de diâmetro) - bronze | E8: Peça | F8: 339031.04 | G8: 3.29 | H8: 250 | I8: =H8-(SUM(K8:V8)) -> 250 | J8: =IF(I8<0,"ATENÇÃO","OK") -> OK
C9: 6 | D9: Medalha - Média (8 cm de diâmetro) - ouro | E9: Peça | F9: 339031.04 | G9: 4.33 | I9: =H9-(SUM(K9:V9)) -> 0 | J9: =IF(I9<0,"ATENÇÃO","OK") -> OK
C10: 7 | D10: Medalha - Média (8 cm de diâmetro) - prata | E10: Peça | F10: 339031.04 | G10: 4.33 | I10: =H10-(SUM(K10:V10)) -> 0 | J10: =IF(I10<0,"ATENÇÃO","OK") -> OK
C11: 8 | D11: Medalha - Média (8 cm de diâmetro) - bronze | E11: Peça | F11: 339031.04 | G11: 4.33 | I11: =H11-(SUM(K11:V11)) -> 0 | J11: =IF(I11<0,"ATENÇÃO","OK") -> OK
C12: 9 | D12: Medalha - Média (8 cm de diâmetro) - ouro - modelo específico | E12: Peça | F12: 339031.04 | G12: 6.3 | I12: =H12-(SUM(K12:V12)) -> 0 | J12: =IF(I12<0,"ATENÇÃO","OK") -> OK
C13: 10 | D13: Medalha - Média (8 cm de diâmetro) - prata - model específico | E13: Peça | F13: 339031.04 | G13: 6.3 | I13: =H13-(SUM(K13:V13)) -> 0 | J13: =IF(I13<0,"ATENÇÃO","OK") -> OK
C14: 11 | D14: Medalha - Média (8 cm de diâmetro) - bronze - modelo específico | E14: Peça | F14: 339031.04 | G14: 6.3 | I14: =H14-(SUM(K14:V14)) -> 0 | J14: =IF(I14<0,"ATENÇÃO","OK") -> OK

Sheet CERES
A1: PROCESSO: 0358/2015/UDESC | D1: OBJETO: FORNECIMENTO DE MEDALHAS E PLACAS PARA OS EVENTOS ESPORTIVOS, CONCURSOS CULTURAIS, HOMENAGENS, INAUGURAÇÕES E DEMAIS PREMIAÇÕES DA UDESC - Lotes 01 e 02 | H1: VIGÊNCIA DA ATA: 29/05/2015 até 28/05/2016 | K1: AF/OS nº xxxx/2015 Qtde. DT | L1: AF/OS nº xxxx/2015 Qtde. DT | M1: AF/OS nº xxxx/2015 Qtde. DT | N1: AF/OS nº xxxx/2015 Qtde. DT | O1: AF/OS nº xxxx/2015 Qtde. DT | P1: AF/OS nº xxxx/2015 Qtde. DT | Q1: AF/OS nº xxxx/2015 Qtde. DT | R1: AF/OS nº xxxx/2015 Qtde. DT | S1: AF/OS nº xxxx/2015 Qtde. DT | T1: AF/OS nº xxxx/2015 Qtde. DT | U1: AF/OS nº xxxx/2015 Qtde. DT | V1: AF/OS nº xxxx/2015 Qtde. DT
A2: CENTRO PARTICIPANTE: CERES
A3: FORNECEDOR | B3: LOTE | C3: ITEM | D3: PRODUTO - CARACTERÍSTICAS MÍNIMAS | E3: UNIDADE | F3: DETALHAMENTO | G3: Preço UNITÁRIO (R$) | H3: Qtde Registrada | I3: Saldo / Automático | J3: ALERTA | K3: ...../...../...... | L3: ...../...../...... | M3: ...../...../...... | N3: ...../...../...... | O3: ...../...../...... | P3: ...../...../...... | Q3: ...../...../...... | R3: ...../...../...... | S3: ...../...../...... | T3: ...../...../...... | U3: ...../...../...... | V3: ...../...../......
A4: MONUMENTAL IND. E COM. DE TROFÉUS LTDA ME | B4: 1 | C4: 1 | D4: Placa de Homenagem (17 x 27 cm) | E4: Peça | F4: 339031.04 | G4: 130.84 | H4: 2 | I4: =H4-(SUM(K4:V4)) -> 2 | J4: =IF(I4<0,"ATENÇÃO","OK") -> OK
C5: 2 | D5: Placa de Inauguração (45 x 65 cm) | E5: Peça | F5: 339039.24 | G5: 608.22 | H5: 2 | I5: =H5-(SUM(K5:V5)) -> 2 | J5: =IF(I5<0,"ATENÇÃO","OK") -> OK
A6: FENÍCIA IND. E COM. DE TROFÉUS E MEDALHAS LTDA | B6: 2 | C6: 3 | D6: Medalha - Pequena (6 cm de diâmetro) - ouro | E6: Peça | F6: 339031.04 | G6: 3.29 | H6: 35 | I6: =H6-(SUM(K6:V6)) -> 35 | J6: =IF(I6<0,"ATENÇÃO","OK") -> OK
C7: 4 | D7: Medalha - Pequena (6 cm de diâmetro) - prata | E7: Peça | F7: 339031.04 | G7: 3.29 | H7: 12 | I7: =H7-(SUM(K7:V7)) -> 12 | J7: =IF(I7<0,"ATENÇÃO","OK") -> OK
C8: 5 | D8: Medalha - Pequena (6 cm de diâmetro) - bronze | E8: Peça | F8: 339031.04 | G8: 3.29 | H8: 15 | I8: =H8-(SUM(K8:V8)) -> 15 | J8: =IF(I8<0,"ATENÇÃO","OK") -> OK
C9: 6 | D9: Medalha - Média (8 cm de diâmetro) - ouro | E9: Peça | F9: 339031.04 | G9: 4.33 | H9: 65 | I9: =H9-(SUM(K9:V9)) -> 65 | J9: =IF(I9<0,"ATENÇÃO","OK") -> OK
C10: 7 | D10: Medalha - Média (8 cm de diâmetro) - prata | E10: Peça | F10: 339031.04 | G10: 4.33 | H10: 40 | I10: =H10-(SUM(K10:V10)) -> 40 | J10: =IF(I10<0,"ATENÇÃO","OK") -> OK
C11: 8 | D11: Medalha - Média (8 cm de diâmetro) - bronze | E11: Peça | F11: 339031.04 | G11: 4.33 | I11: =H11-(SUM(K11:V11)) -> 0 | J11: =IF(I11<0,"ATENÇÃO","OK") -> OK
C12: 9 | D12: Medalha - Média (8 cm de diâmetro) - ouro - modelo específico | E12: Peça | F12: 339031.04 | G12: 6.3 | I12: =H12-(SUM(K12:V12)) -> 0 | J12: =IF(I12<0,"ATENÇÃO","OK") -> OK
C13: 10 | D13: Medalha - Média (8 cm de diâmetro) - prata - model específico | E13: Peça | F13: 339031.04 | G13: 6.3 | I13: =H13-(SUM(K13:V13)) -> 0 | J13: =IF(I13<0,"ATENÇÃO","OK") -> OK
C14: 11 | D14: Medalha - Média (8 cm de diâmetro) - bronze - modelo específico | E14: Peça | F14: 339031.04 | G14: 6.3 | I14: =H14-(SUM(K14:V14)) -> 0 | J14: =IF(I14<0,"ATENÇÃO","OK") -> OK

Sheet FAED
A1: PROCESSO: 0358/2015/UDESC | D1: OBJETO: FORNECIMENTO DE MEDALHAS E PLACAS PARA OS EVENTOS ESPORTIVOS, CONCURSOS CULTURAIS, HOMENAGENS, INAUGURAÇÕES E DEMAIS PREMIAÇÕES DA UDESC - Lotes 01 e 02 | H1: VIGÊNCIA DA ATA: 29/05/2015 até 28/05/2016 | K1: AF/OS nº xxxx/2015 Qtde. DT | L1: AF/OS nº xxxx/2015 Qtde. DT | M1: AF/OS nº xxxx/2015 Qtde. DT | N1: AF/OS nº xxxx/2015 Qtde. DT | O1: AF/OS nº xxxx/2015 Qtde. DT | P1: AF/OS nº xxxx/2015 Qtde. DT | Q1: AF/OS nº xxxx/2015 Qtde. DT | R1: AF/OS nº xxxx/2015 Qtde. DT | S1: AF/OS nº xxxx/2015 Qtde. DT | T1: AF/OS nº xxxx/2015 Qtde. DT | U1: AF/OS nº xxxx/2015 Qtde. DT | V1: AF/OS nº xxxx/2015 Qtde. DT
A2: CENTRO PARTICIPANTE: FAED
A3: FORNECEDOR | B3: LOTE | C3: ITEM | D3: PRODUTO - CARACTERÍSTICAS MÍNIMAS | E3: UNIDADE | F3: DETALHAMENTO | G3: Preço UNITÁRIO (R$) | H3: Qtde Registrada | I3: Saldo / Automático | J3: ALERTA | K3: ...../...../...... | L3: ...../...../...... | M3: ...../...../...... | N3: ...../...../...... | O3: ...../...../...... | P3: ...../...../...... | Q3: ...../...../...... | R3: ...../...../...... | S3: ...../...../...... | T3: ...../...../...... | U3: ...../...../...... | V3: ...../...../......
A4: MONUMENTAL IND. E COM. DE TROFÉUS LTDA ME | B4: 1 | C4: 1 | D4: Placa de Homenagem (17 x 27 cm) | E4: Peça | F4: 339031.04 | G4: 130.84 | H4: 15 | I4: =H4-(SUM(K4:V4)) -> 15 | J4: =IF(I4<0,"ATENÇÃO","OK") -> OK
C5: 2 | D5: Placa de Inauguração (45 x 65 cm) | E5: Peça | F5: 339039.24 | G5: 608.22 | H5: 4 | I5: =H5-(SUM(K5:V5)) -> 4 | J5: =IF(I5<0,"ATENÇÃO","OK") -> OK
A6: FENÍCIA IND. E COM. DE TROFÉUS E MEDALHAS LTDA | B6: 2 | C6: 3 | D6: Medalha - Pequena (6 cm de diâmetro) - ouro | E6: Peça | F6: 339031.04 | G6: 3.29 | I6: =H6-(SUM(K6:V6)) -> 0 | J6: =IF(I6<0,"ATENÇÃO","OK") -> OK
C7: 4 | D7: Medalha - Pequena (6 cm de diâmetro) - prata | E7: Peça | F7: 339031.04 | G7: 3.29 | I7: =H7-(SUM(K7:V7)) -> 0 | J7: =IF(I7<0,"ATENÇÃO","OK") -> OK
C8: 5 | D8: Medalha - Pequena (6 cm de diâmetro) - bronze | E8: Peça | F8: 339031.04 | G8: 3.29 | I8: =H8-(SUM(K8:V8)) -> 0 | J8: =IF(I8<0,"ATENÇÃO","OK") -> OK
C9: 6 | D9: Medalha - Média (8 cm de diâmetro) - ouro | E9: Peça | F9: 339031.04 | G9: 4.33 | H9: 120 | I9: =H9-(SUM(K9:V9)) -> 120 | J9: =IF(I9<0,"ATENÇÃO","OK") -> OK
C10: 7 | D10: Medalha - Média (8 cm de diâmetro) - prata | E10: Peça | F10: 339031.04 | G10: 4.33 | H10: 120 | I10: =H10-(SUM(K10:V10)) -> 120 | J10: =IF(I10<0,"ATENÇÃO","OK") -> OK
C11: 8 | D11: Medalha - Média (8 cm de diâmetro) - bronze | E11: Peça | F11: 339031.04 | G11: 4.33 | H11: 120 | I11: =H11-(SUM(K11:V11)) -> 120 | J11: =IF(I11<0,"ATENÇÃO","OK") -> OK
C12: 9 | D12: Medalha - Média (8 cm de diâmetro) - ouro - modelo específico | E12: Peça | F12: 339031.04 | G12: 6.3 | I12: =H12-(SUM(K12:V12)) -> 0 | J12: =IF(I12<0,"ATENÇÃO","OK") -> OK
C13: 10 | D13: Medalha - Média (8 cm de diâmetro) - prata - model específico | E13: Peça | F13: 339031.04 | G13: 6.3 | I13: =H13-(SUM(K13:V13)) -> 0 | J13: =IF(I13<0,"ATENÇÃO","OK") -> OK
C14: 11 | D14: Medalha - Média (8 cm de diâmetro) - bronze - modelo específico | E14: Peça | F14: 339031.04 | G14: 6.3 | I14: =H14-(SUM(K14:V14)) -> 0 | J14: =IF(I14<0,"ATENÇÃO","OK") -> OK

Sheet CEART
A1: PROCESSO: 0358/2015/UDESC | D1: OBJETO: FORNECIMENTO DE MEDALHAS E PLACAS PARA OS EVENTOS ESPORTIVOS, CONCURSOS CULTURAIS, HOMENAGENS, INAUGURAÇÕES E DEMAIS PREMIAÇÕES DA UDESC - Lotes 01 e 02 | H1: VIGÊNCIA DA ATA: 29/05/2015 até 28/05/2016 | K1: af 1998/2015 | L1: AF 2120/2015 | M1: AF2125/2015 | N1: AF/OS nº xxxx/2015 Qtde. DT | O1: AF/OS nº xxxx/2015 Qtde. DT | P1: AF/OS nº xxxx/2015 Qtde. DT | Q1: AF/OS nº xxxx/2015 Qtde. DT | R1: AF/OS nº xxxx/2015 Qtde. DT | S1: AF/OS nº xxxx/2015 Qtde. DT | T1: AF/OS nº xxxx/2015 Qtde. DT | U1: AF/OS nº xxxx/2015 Qtde. DT | V1: AF/OS nº xxxx/2015 Qtde. DT
A2: CENTRO PARTICIPANTE: CEART
A3: FORNECEDOR | B3: LOTE | C3: ITEM | D3: PRODUTO - CARACTERÍSTICAS MÍNIMAS | E3: UNIDADE | F3: DETALHAMENTO | G3: Preço UNITÁRIO (R$) | H3: Qtde Registrada | I3: Saldo / Automático | J3: ALERTA | K3: 42306 | L3: 42314 | M3: 42314 | N3: ...../...../...... | O3: ...../...../...... | P3: ...../...../...... | Q3: ...../...../...... | R3: ...../...../...... | S3: ...../...../...... | T3: ...../...../...... | U3: ...../...../...... | V3: ...../...../......
A4: MONUMENTAL IND. E COM. DE TROFÉUS LTDA ME | B4: 1 | C4: 1 | D4: Placa de Homenagem (17 x 27 cm) | E4: Peça | F4: 339031.04 | G4: 130.84 | H4: 30 | I4: =H4-(SUM(K4:V4)) -> 20 | J4: =IF(I4<0,"ATENÇÃO","OK") -> OK | K4: 8 | L4: 2
C5: 2 | D5: Placa de Inauguração (45 x 65 cm) | E5: Peça | F5: 339039.24 | G5: 608.22 | H5: 3 | I5: =H5-(SUM(K5:V5)) -> 1 | J5: =IF(I5<0,"ATENÇÃO","OK") -> OK | M5: 2
A6: FENÍCIA IND. E COM. DE TROFÉUS E MEDALHAS LTDA | B6: 2 | C6: 3 | D6: Medalha - Pequena (6 cm de diâmetro) - ouro | E6: Peça | F6: 339031.04 | G6: 3.29 | I6: =H6-(SUM(K6:V6)) -> 0 | J6: =IF(I6<0,"ATENÇÃO","OK") -> OK
C7: 4 | D7: Medalha - Pequena (6 cm de diâmetro) - prata | E7: Peça | F7: 339031.04 | G7: 3.29 | I7: =H7-(SUM(K7:V7)) -> 0 | J7: =IF(I7<0,"ATENÇÃO","OK") -> OK
C8: 5 | D8: Medalha - Pequena (6 cm de diâmetro) - bronze | E8: Peça | F8: 339031.04 | G8: 3.29 | I8: =H8-(SUM(K8:V8)) -> 0 | J8: =IF(I8<0,"ATENÇÃO","OK") -> OK
C9: 6 | D9: Medalha - Média (8 cm de diâmetro) - ouro | E9: Peça | F9: 339031.04 | G9: 4.33 | I9: =H9-(SUM(K9:V9)) -> 0 | J9: =IF(I9<0,"ATENÇÃO","OK") -> OK
C10: 7 | D10: Medalha - Média (8 cm de diâmetro) - prata | E10: Peça | F10: 339031.04 | G10: 4.33 | I10: =H10-(SUM(K10:V10)) -> 0 | J10: =IF(I10<0,"ATENÇÃO","OK") -> OK
C11: 8 | D11: Medalha - Média (8 cm de diâmetro) - bronze | E11: Peça | F11: 339031.04 | G11: 4.33 | I11: =H11-(SUM(K11:V11)) -> 0 | J11: =IF(I11<0,"ATENÇÃO","OK") -> OK
C12: 9 | D12: Medalha - Média (8 cm de diâmetro) - ouro - modelo específico | E12: Peça | F12: 339031.04 | G12: 6.3 | I12: =H12-(SUM(K12:V12)) -> 0 | J12: =IF(I12<0,"ATENÇÃO","OK") -> OK
C13: 10 | D13: Medalha - Média (8 cm de diâmetro) - prata - model específico | E13: Peça | F13: 339031.04 | G13: 6.3 | I13: =H13-(SUM(K13:V13)) -> 0 | J13: =IF(I13<0,"ATENÇÃO","OK") -> OK
C14: 11 | D14: Medalha - Média (8 cm de diâmetro) - bronze - modelo específico | E14: Peça | F14: 339031.04 | G14: 6.3 | I14: =H14-(SUM(K14:V14)) -> 0 | J14: =IF(I14<0,"ATENÇÃO","OK") -> OK

Sheet CEO
A1: PROCESSO: 0358/2015/UDESC | D1: OBJETO: FORNECIMENTO DE MEDALHAS E PLACAS PARA OS EVENTOS ESPORTIVOS, CONCURSOS CULTURAIS, HOMENAGENS, INAUGURAÇÕES E DEMAIS PREMIAÇÕES DA UDESC - Lotes 01 e 02 | H1: VIGÊNCIA DA ATA: 29/05/2015 até 28/05/2016 | K1: AF/OS nº 1600/2015 Qtde. DT | L1: AF/OS nº xxxx/2015 Qtde. DT | M1: AF/OS nº xxxx/2015 Qtde. DT | N1: AF/OS nº xxxx/2015 Qtde. DT | O1: AF/OS nº xxxx/2015 Qtde. DT | P1: AF/OS nº xxxx/2015 Qtde. DT | Q1: AF/OS nº xxxx/2015 Qtde. DT | R1: AF/OS nº xxxx/2015 Qtde. DT | S1: AF/OS nº xxxx/2015 Qtde. DT | T1: AF/OS nº xxxx/2015 Qtde. DT | U1: AF/OS nº xxxx/2015 Qtde. DT | V1: AF/OS nº xxxx/2015 Qtde. DT
A2: CENTRO PARTICIPANTE: CEO
A3: FORNECEDOR | B3: LOTE | C3: ITEM | D3: PRODUTO - CARACTERÍSTICAS MÍNIMAS | E3: UNIDADE | F3: DETALHAMENTO | G3: Preço UNITÁRIO (R$) | H3: Qtde Registrada | I3: Saldo / Automático | J3: ALERTA | K3: 42268 | L3: ...../...../...... | M3: ...../...../...... | N3: ...../...../...... | O3: ...../...../...... | P3: ...../...../...... | Q3: ...../...../...... | R3: ...../...../...... | S3: ...../...../...... | T3: ...../...../...... | U3: ...../...../...... | V3: ...../...../......
A4: MONUMENTAL IND. E COM. DE TROFÉUS LTDA ME | B4: 1 | C4: 1 | D4: Placa de Homenagem (17 x 27 cm) | E4: Peça | F4: 339031.04 | G4: 130.84 | H4: =9 -> 9 | I4: =H4-(SUM(K4:V4)) -> 0 | J4: =IF(I4<0,"ATENÇÃO","OK") -> OK | K4: 9
C5: 2 | D5: Placa de Inauguração (45 x 65 cm) | E5: Peça | F5: 339039.24 | G5: 608.22 | I5: =H5-(SUM(K5:V5)) -> 0 | J5: =IF(I5<0,"ATENÇÃO","OK") -> OK
A6: FENÍCIA IND. E COM. DE TROFÉUS E MEDALHAS LTDA | B6: 2 | C6: 3 | D6: Medalha - Pequena (6 cm de diâmetro) - ouro | E6: Peça | F6: 339031.04 | G6: 3.29 | H6: =384-300 -> 84 | I6: =H6-(SUM(K6:V6)) -> 84 | J6: =IF(I6<0,"ATENÇÃO","OK") -> OK
C7: 4 | D7: Medalha - Pequena (6 cm de diâmetro) - prata | E7: Peça | F7: 339031.04 | G7: 3.29 | H7: =384-300 -> 84 | I7: =H7-(SUM(K7:V7)) -> 84 | J7: =IF(I7<0,"ATENÇÃO","OK") -> OK
C8: 5 | D8: Medalha - Pequena (6 cm de diâmetro) - bronze | E8: Peça | F8: 339031.04 | G8: 3.29 | H8: =384-300 -> 84 | I8: =H8-(SUM(K8:V8)) -> 84 | J8: =IF(I8<0,"ATENÇÃO","OK") -> OK
C9: 6 | D9: Medalha - Média (8 cm de diâmetro) - ouro | E9: Peça | F9: 339031.04 | G9: 4.33 | H9: =45-35 -> 10 | I9: =H9-(SUM(K9:V9)) -> 10 | J9: =IF(I9<0,"ATENÇÃO","OK") -> OK
C10: 7 | D10: Medalha - Média (8 cm de diâmetro) - prata | E10: Peça | F10: 339031.04 | G10: 4.33 | H10: =45-35 -> 10 | I10: =H10-(SUM(K10:V10)) -> 10 | J10: =IF(I10<0,"ATENÇÃO","OK") -> OK
C11: 8 | D11: Medalha - Média (8 cm de diâmetro) - bronze | E11: Peça | F11: 339031.04 | G11: 4.33 | H11: =45-35 -> 10 | I11: =H11-(SUM(K11:V11)) -> 10 | J11: =IF(I11<0,"ATENÇÃO","OK") -> OK
C12: 9 | D12: Medalha - Média (8 cm de diâmetro) - ouro - modelo específico | E12: Peça | F12: 339031.04 | G12: 6.3 | I12: =H12-(SUM(K12:V12)) -> 0 | J12: =IF(I12<0,"ATENÇÃO","OK") -> OK
C13: 10 | D13: Medalha - Média (8 cm de diâmetro) - prata - model específico | E13: Peça | F13: 339031.04 | G13: 6.3 | I13: =H13-(SUM(K13:V13)) -> 0 | J13: =IF(I13<0,"ATENÇÃO","OK") -> OK
C14: 11 | D14: Medalha - Média (8 cm de diâmetro) - bronze - modelo específico | E14: Peça | F14: 339031.04 | G14: 6.3 | I14: =H14-(SUM(K14:V14)) -> 0 | J14: =IF(I14<0,"ATENÇÃO","OK") -> OK

Sheet CCT
A1: PROCESSO: 0358/2015/UDESC | D1: OBJETO: FORNECIMENTO DE MEDALHAS E PLACAS PARA OS EVENTOS ESPORTIVOS, CONCURSOS CULTURAIS, HOMENAGENS, INAUGURAÇÕES E DEMAIS PREMIAÇÕES DA UDESC - Lotes 01 e 02 | H1: VIGÊNCIA DA ATA: 29/05/2015 até 28/05/2016 | K1: AF/OS nº xxxx/2015 Qtde. DT | L1: AF/OS nº xxxx/2015 Qtde. DT | M1: AF/OS nº xxxx/2015 Qtde. DT | N1: AF/OS nº xxxx/2015 Qtde. DT | O1: AF/OS nº xxxx/2015 Qtde. DT | P1: AF/OS nº xxxx/2015 Qtde. DT | Q1: AF/OS nº xxxx/2015 Qtde. DT | R1: AF/OS nº xxxx/2015 Qtde. DT | S1: AF/OS nº xxxx/2015 Qtde. DT | T1: AF/OS nº xxxx/2015 Qtde. DT | U1: AF/OS nº xxxx/2015 Qtde. DT | V1: AF/OS nº xxxx/2015 Qtde. DT
A2: CENTRO PARTICIPANTE: CCT
A3: FORNECEDOR | B3: LOTE | C3: ITEM | D3: PRODUTO - CARACTERÍSTICAS MÍNIMAS | E3: UNIDADE | F3: DETALHAMENTO | G3: Preço UNITÁRIO (R$) | H3: Qtde Registrada | I3: Saldo / Automático | J3: ALERTA | K3: ...../...../...... | L3: ...../...../...... | M3: ...../...../...... | N3: ...../...../...... | O3: ...../...../...... | P3: ...../...../...... | Q3: ...../...../...... | R3: ...../...../...... | S3: ...../...../...... | T3: ...../...../...... | U3: ...../...../...... | V3: ...../...../......
A4: MONUMENTAL IND. E COM. DE TROFÉUS LTDA ME | B4: 1 | C4: 1 | D4: Placa de Homenagem (17 x 27 cm) | E4: Peça | F4: 339031.04 | G4: 130.84 | H4: 50 | I4: =H4-(SUM(K4:V4)) -> 50 | J4: =IF(I4<0,"ATENÇÃO","OK") -> OK
C5: 2 | D5: Placa de Inauguração (45 x 65 cm) | E5: Peça | F5: 339039.24 | G5: 608.22 | I5: =H5-(SUM(K5:V5)) -> 0 | J5: =IF(I5<0,"ATENÇÃO","OK") -> OK
A6: FENÍCIA IND. E COM. DE TROFÉUS E MEDALHAS LTDA | B6: 2 | C6: 3 | D6: Medalha - Pequena (6 cm de diâmetro) - ouro | E6: Peça | F6: 339031.04 | G6: 3.29 | I6: =H6-(SUM(K6:V6)) -> 0 | J6: =IF(I6<0,"ATENÇÃO","OK") -> OK
C7: 4 | D7: Medalha - Pequena (6 cm de diâmetro) - prata | E7: Peça | F7: 339031.04 | G7: 3.29 | I7: =H7-(SUM(K7:V7)) -> 0 | J7: =IF(I7<0,"ATENÇÃO","OK") -> OK
C8: 5 | D8: Medalha - Pequena (6 cm de diâmetro) - bronze | E8: Peça | F8: 339031.04 | G8: 3.29 | I8: =H8-(SUM(K8:V8)) -> 0 | J8: =IF(I8<0,"ATENÇÃO","OK") -> OK
C9: 6 | D9: Medalha - Média (8 cm de diâmetro) - ouro | E9: Peça | F9: 339031.04 | G9: 4.33 | H9: 10 | I9: =H9-(SUM(K9:V9)) -> 10 | J9: =IF(I9<0,"ATENÇÃO","OK") -> OK
C10: 7 | D10: Medalha - Média (8 cm de diâmetro) - prata | E10: Peça | F10: 339031.04 | G10: 4.33 | H10: 10 | I10: =H10-(SUM(K10:V10)) -> 10 | J10: =IF(I10<0,"ATENÇÃO","OK") -> OK
C11: 8 | D11: Medalha - Média (8 cm de diâmetro) - bronze | E11: Peça | F11: 339031.04 | G11: 4.33 | H11: 10 | I11: =H11-(SUM(K11:V11)) -> 10 | J11: =IF(I11<0,"ATENÇÃO","OK") -> OK
C12: 9 | D12: Medalha - Média (8 cm de diâmetro) - ouro - modelo específico | E12: Peça | F12: 339031.04 | G12: 6.3 | I12: =H12-(SUM(K12:V12)) -> 0 | J12: =IF(I12<0,"ATENÇÃO","OK") -> OK
C13: 10 | D13: Medalha - Média (8 cm de diâmetro) - prata - model específico | E13: Peça | F13: 339031.04 | G13: 6.3 | I13: =H13-(SUM(K13:V13)) -> 0 | J13: =IF(I13<0,"ATENÇÃO","OK") -> OK
C14: 11 | D14: Medalha - Média (8 cm de diâmetro) - bronze - modelo específico | E14: Peça | F14: 339031.04 | G14: 6.3 | I14: =H14-(SUM(K14:V14)) -> 0 | J14: =IF(I14<0,"ATENÇÃO","OK") -> OK

Sheet CEAD
A1: PROCESSO: 0358/2015/UDESC | D1: OBJETO: FORNECIMENTO DE MEDALHAS E PLACAS PARA OS EVENTOS ESPORTIVOS, CONCURSOS CULTURAIS, HOMENAGENS, INAUGURAÇÕES E DEMAIS PREMIAÇÕES DA UDESC - Lotes 01 e 02 | H1: VIGÊNCIA DA ATA: 29/05/2015 até 28/05/2016 | K1: AF/OS nº xxxx/2015 Qtde. DT | L1: AF/OS nº xxxx/2015 Qtde. DT | M1: AF/OS nº xxxx/2015 Qtde. DT | N1: AF/OS nº xxxx/2015 Qtde. DT | O1: AF/OS nº xxxx/2015 Qtde. DT | P1: AF/OS nº xxxx/2015 Qtde. DT | Q1: AF/OS nº xxxx/2015 Qtde. DT | R1: AF/OS nº xxxx/2015 Qtde. DT | S1: AF/OS nº xxxx/2015 Qtde. DT | T1: AF/OS nº xxxx/2015 Qtde. DT | U1: AF/OS nº xxxx/2015 Qtde. DT | V1: AF/OS nº xxxx/2015 Qtde. DT
A2: CENTRO PARTICIPANTE: CEAD
A3: FORNECEDOR | B3: LOTE | C3: ITEM | D3: PRODUTO - CARACTERÍSTICAS MÍNIMAS | E3: UNIDADE | F3: DETALHAMENTO | G3: Preço UNITÁRIO (R$) | H3: Qtde Registrada | I3: Saldo / Automático | J3: ALERTA | K3: ...../...../...... | L3: ...../...../...... | M3: ...../...../...... | N3: ...../...../...... | O3: ...../...../...... | P3: ...../...../...... | Q3: ...../...../...... | R3: ...../...../...... | S3: ...../...../...... | T3: ...../...../...... | U3: ...../...../...... | V3: ...../...../......
A4: MONUMENTAL IND. E COM. DE TROFÉUS LTDA ME | B4: 1 | C4: 1 | D4: Placa de Homenagem (17 x 27 cm) | E4: Peça | F4: 339031.04 | G4: 130.84 | H4: 50 | I4: =H4-(SUM(K4:V4)) -> 50 | J4: =IF(I4<0,"ATENÇÃO","OK") -> OK
C5: 2 | D5: Placa de Inauguração (45 x 65 cm) | E5: Peça | F5: 339039.24 | G5: 608.22 | I5: =H5-(SUM(K5:V5)) -> 0 | J5: =IF(I5<0,"ATENÇÃO","OK") -> OK
A6: FENÍCIA IND. E COM. DE TROFÉUS E MEDALHAS LTDA | B6: 2 | C6: 3 | D6: Medalha - Pequena (6 cm de diâmetro) - ouro | E6: Peça | F6: 339031.04 | G6: 3.29 | I6: =H6-(SUM(K6:V6)) -> 0 | J6: =IF(I6<0,"ATENÇÃO","OK") -> OK
C7: 4 | D7: Medalha - Pequena (6 cm de diâmetro) - prata | E7: Peça | F7: 339031.04 | G7: 3.29 | I7: =H7-(SUM(K7:V7)) -> 0 | J7: =IF(I7<0,"ATENÇÃO","OK") -> OK
C8: 5 | D8: Medalha - Pequena (6 cm de diâmetro) - bronze | E8: Peça | F8: 339031.04 | G8: 3.29 | I8: =H8-(SUM(K8:V8)) -> 0 | J8: =IF(I8<0,"ATENÇÃO","OK") -> OK
C9: 6 | D9: Medalha - Média (8 cm de diâmetro) - ouro | E9: Peça | F9: 339031.04 | G9: 4.33 | H9: 100 | I9: =H9-(SUM(K9:V9)) -> 100 | J9: =IF(I9<0,"ATENÇÃO","OK") -> OK
C10: 7 | D10: Medalha - Média (8 cm de diâmetro) - prata | E10: Peça | F10: 339031.04 | G10: 4.33 | I10: =H10-(SUM(K10:V10)) -> 0 | J10: =IF(I10<0,"ATENÇÃO","OK") -> OK
C11: 8 | D11: Medalha - Média (8 cm de diâmetro) - bronze | E11: Peça | F11: 339031.04 | G11: 4.33 | I11: =H11-(SUM(K11:V11)) -> 0 | J11: =IF(I11<0,"ATENÇÃO","OK") -> OK
C12: 9 | D12: Medalha - Média (8 cm de diâmetro) - ouro - modelo específico | E12: Peça | F12: 339031.04 | G12: 6.3 | I12: =H12-(SUM(K12:V12)) -> 0 | J12: =IF(I12<0,"ATENÇÃO","OK") -> OK
C13: 10 | D13: Medalha - Média (8 cm de diâmetro) - prata - model específico | E13: Peça | F13: 339031.04 | G13: 6.3 | I13: =H13-(SUM(K13:V13)) -> 0 | J13: =IF(I13<0,"ATENÇÃO","OK") -> OK
C14: 11 | D14: Medalha - Média (8 cm de diâmetro) - bronze - modelo específico | E14: Peça | F14: 339031.04 | G14: 6.3 | I14: =H14-(SUM(K14:V14)) -> 0 | J14: =IF(I14<0,"ATENÇÃO","OK") -> OK

Sheet CEFID
A1: PROCESSO: 0358/2015/UDESC | D1: OBJETO: FORNECIMENTO DE MEDALHAS E PLACAS PARA OS EVENTOS ESPORTIVOS, CONCURSOS CULTURAIS, HOMENAGENS, INAUGURAÇÕES E DEMAIS PREMIAÇÕES DA UDESC - Lotes 01 e 02 | H1: VIGÊNCIA DA ATA: 29/05/2015 até 28/05/2016 | K1: AF/OS nº 1289/2015 Qtde. DT | L1: AF/OS nº xxxx/2015 Qtde. DT | M1: AF/OS nº xxxx/2015 Qtde. DT | N1: AF/OS nº xxxx/2015 Qtde. DT | O1: AF/OS nº xxxx/2015 Qtde. DT | P1: AF/OS nº xxxx/2015 Qtde. DT | Q1: AF/OS nº xxxx/2015 Qtde. DT | R1: AF/OS nº xxxx/2015 Qtde. DT | S1: AF/OS nº xxxx/2015 Qtde. DT | T1: AF/OS nº xxxx/2015 Qtde. DT | U1: AF/OS nº xxxx/2015 Qtde. DT | V1: AF/OS nº xxxx/2015 Qtde. DT
A2: CENTRO PARTICIPANTE: CEFID
A3: FORNECEDOR | B3: LOTE | C3: ITEM | D3: PRODUTO - CARACTERÍSTICAS MÍNIMAS | E3: UNIDADE | F3: DETALHAMENTO | G3: Preço UNITÁRIO (R$) | H3: Qtde Registrada | I3: Saldo / Automático | J3: ALERTA | K3: 42212 | L3: ...../...../...... | M3: ...../...../...... | N3: ...../...../...... | O3: ...../...../...... | P3: ...../...../...... | Q3: ...../...../...... | R3: ...../...../...... | S3: ...../...../...... | T3: ...../...../...... | U3: ...../...../...... | V3: ...../...../......
A4: MONUMENTAL IND. E COM. DE TROFÉUS LTDA ME | B4: 1 | C4: 1 | D4: Placa de Homenagem (17 x 27 cm) | E4: Peça | F4: 339031.04 | G4: 130.84 | H4: 20 | I4: =H4-(SUM(K4:V4)) -> 14 | J4: =IF(I4<0,"ATENÇÃO","OK") -> OK | K4: 6
C5: 2 | D5: Placa de Inauguração (45 x 65 cm) | E5: Peça | F5: 339039.24 | G5: 608.22 | H5: 3 | I5: =H5-(SUM(K5:V5)) -> 3 | J5: =IF(I5<0,"ATENÇÃO","OK") -> OK
A6: FENÍCIA IND. E COM. DE TROFÉUS E MEDALHAS LTDA | B6: 2 | C6: 3 | D6: Medalha - Pequena (6 cm de diâmetro) - ouro | E6: Peça | F6: 339031.04 | G6: 3.29 | H6: 150 | I6: =H6-(SUM(K6:V6)) -> 150 | J6: =IF(I6<0,"ATENÇÃO","OK") -> OK
C7: 4 | D7: Medalha - Pequena (6 cm de diâmetro) - prata | E7: Peça | F7: 339031.04 | G7: 3.29 | H7: 150 | I7: =H7-(SUM(K7:V7)) -> 150 | J7: =IF(I7<0,"ATENÇÃO","OK") -> OK
C8: 5 | D8: Medalha - Pequena (6 cm de diâmetro) - bronze | E8: Peça | F8: 339031.04 | G8: 3.29 | H8: 150 | I8: =H8-(SUM(K8:V8)) -> 150 | J8: =IF(I8<0,"ATENÇÃO","OK") -> OK
C9: 6 | D9: Medalha - Média (8 cm de diâmetro) - ouro | E9: Peça | F9: 339031.04 | G9: 4.33 | I9: =H9-(SUM(K9:V9)) -> 0 | J9: =IF(I9<0,"ATENÇÃO","OK") -> OK
C10: 7 | D10: Medalha - Média (8 cm de diâmetro) - prata | E10: Peça | F10: 339031.04 | G10: 4.33 | I10: =H10-(SUM(K10:V10)) -> 0 | J10: =IF(I10<0,"ATENÇÃO","OK") -> OK
C11: 8 | D11: Medalha - Média (8 cm de diâmetro) - bronze | E11: Peça | F11: 339031.04 | G11: 4.33 | I11: =H11-(SUM(K11:V11)) -> 0 | J11: =IF(I11<0,"ATENÇÃO","OK") -> OK
C12: 9 | D12: Medalha - Média (8 cm de diâmetro) - ouro - modelo específico | E12: Peça | F12: 339031.04 | G12: 6.3 | I12: =H12-(SUM(K12:V12)) -> 0 | J12: =IF(I12<0,"ATENÇÃO","OK") -> OK
C13: 10 | D13: Medalha - Média (8 cm de diâmetro) - prata - model específico | E13: Peça | F13: 339031.04 | G13: 6.3 | I13: =H13-(SUM(K13:V13)) -> 0 | J13: =IF(I13<0,"ATENÇÃO","OK") -> OK
C14: 11 | D14: Medalha - Média (8 cm de diâmetro) - bronze - modelo específico | E14: Peça | F14: 339031.04 | G14: 6.3 | I14: =H14-(SUM(K14:V14)) -> 0 | J14: =IF(I14<0,"ATENÇÃO","OK") -> OK

Sheet CEAVI
A1: PROCESSO: 0358/2015/UDESC | D1: OBJETO: FORNECIMENTO DE MEDALHAS E PLACAS PARA OS EVENTOS ESPORTIVOS, CONCURSOS CULTURAIS, HOMENAGENS, INAUGURAÇÕES E DEMAIS PREMIAÇÕES DA UDESC - Lotes 01 e 02 | H1: VIGÊNCIA DA ATA: 29/05/2015 até 28/05/2016 | K1: AF/OS nº 1295/2015 Qtde. DT | L1: AF/OS nº 1299/2015 Qtde. DT | M1: AF/OS nº xxxx/2015 Qtde. DT | N1: AF/OS nº xxxx/2015 Qtde. DT | O1: AF/OS nº xxxx/2015 Qtde. DT | P1: AF/OS nº xxxx/2015 Qtde. DT | Q1: AF/OS nº xxxx/2015 Qtde. DT | R1: AF/OS nº xxxx/2015 Qtde. DT | S1: AF/OS nº xxxx/2015 Qtde. DT | T1: AF/OS nº xxxx/2015 Qtde. DT | U1: AF/OS nº xxxx/2015 Qtde. DT | V1: AF/OS nº xxxx/2015 Qtde. DT
A2: CENTRO PARTICIPANTE: CEAVI
A3: FORNECEDOR | B3: LOTE | C3: ITEM | D3: PRODUTO - CARACTERÍSTICAS MÍNIMAS | E3: UNIDADE | F3: DETALHAMENTO | G3: Preço UNITÁRIO (R$) | H3: Qtde Registrada | I3: Saldo / Automático | J3: ALERTA | K3: ...../...../...... | L3: ...../...../...... | M3: ...../...../...... | N3: ...../...../...... | O3: ...../...../...... | P3: ...../...../...... | Q3: ...../...../...... | R3: ...../...../...... | S3: ...../...../...... | T3: ...../...../...... | U3: ...../...../...... | V3: ...../...../......
A4: MONUMENTAL IND. E COM. DE TROFÉUS LTDA ME | B4: 1 | C4: 1 | D4: Placa de Homenagem (17 x 27 cm) | E4: Peça | F4: 339031.04 | G4: 130.84 | H4: 10 | I4: =H4-(SUM(K4:V4)) -> 8 | J4: =IF(I4<0,"ATENÇÃO","OK") -> OK | L4: 2
C5: 2 | D5: Placa de Inauguração (45 x 65 cm) | E5: Peça | F5: 339039.24 | G5: 608.22 | H5: 2 | I5: =H5-(SUM(K5:V5)) -> 2 | J5: =IF(I5<0,"ATENÇÃO","OK") -> OK
A6: FENÍCIA IND. E COM. DE TROFÉUS E MEDALHAS LTDA | B6: 2 | C6: 3 | D6: Medalha - Pequena (6 cm de diâmetro) - ouro | E6: Peça | F6: 339031.04 | G6: 3.29 | H6: 80 | I6: =H6-(SUM(K6:V6)) -> 70 | J6: =IF(I6<0,"ATENÇÃO","OK") -> OK | K6: 10
C7: 4 | D7: Medalha - Pequena (6 cm de diâmetro) - prata | E7: Peça | F7: 339031.04 | G7: 3.29 | H7: 80 | I7: =H7-(SUM(K7:V7)) -> 80 | J7: =IF(I7<0,"ATENÇÃO","OK") -> OK
C8: 5 | D8: Medalha - Pequena (6 cm de diâmetro) - bronze | E8: Peça | F8: 339031.04 | G8: 3.29 | H8: 80 | I8: =H8-(SUM(K8:V8)) -> 80 | J8: =IF(I8<0,"ATENÇÃO","OK") -> OK
C9: 6 | D9: Medalha - Média (8 cm de diâmetro) - ouro | E9: Peça | F9: 339031.04 | G9: 4.33 | I9: =H9-(SUM(K9:V9)) -> 0 | J9: =IF(I9<0,"ATENÇÃO","OK") -> OK
C10: 7 | D10: Medalha - Média (8 cm de diâmetro) - prata | E10: Peça | F10: 339031.04 | G10: 4.33 | I10: =H10-(SUM(K10:V10)) -> 0 | J10: =IF(I10<0,"ATENÇÃO","OK") -> OK
C11: 8 | D11: Medalha - Média (8 cm de diâmetro) - bronze | E11: Peça | F11: 339031.04 | G11: 4.33 | I11: =H11-(SUM(K11:V11)) -> 0 | J11: =IF(I11<0,"ATENÇÃO","OK") -> OK
C12: 9 | D12: Medalha - Média (8 cm de diâmetro) - ouro - modelo específico | E12: Peça | F12: 339031.04 | G12: 6.3 | I12: =H12-(SUM(K12:V12)) -> 0 | J12: =IF(I12<0,"ATENÇÃO","OK") -> OK
C13: 10 | D13: Medalha - Média (8 cm de diâmetro) - prata - model específico | E13: Peça | F13: 339031.04 | G13: 6.3 | I13: =H13-(SUM(K13:V13)) -> 0 | J13: =IF(I13<0,"ATENÇÃO","OK") -> OK
C14: 11 | D14: Medalha - Média (8 cm de diâmetro) - bronze - modelo específico | E14: Peça | F14: 339031.04 | G14: 6.3 | I14: =H14-(SUM(K14:V14)) -> 0 | J14: =IF(I14<0,"ATENÇÃO","OK") -> OK

Sheet ESAG
A1: PROCESSO: 0358/2015/UDESC | D1: OBJETO: FORNECIMENTO DE MEDALHAS E PLACAS PARA OS EVENTOS ESPORTIVOS, CONCURSOS CULTURAIS, HOMENAGENS, INAUGURAÇÕES E DEMAIS PREMIAÇÕES DA UDESC - Lotes 01 e 02 | H1: VIGÊNCIA DA ATA: 29/05/2015 até 28/05/2016 | K1: AF/OS nº xxxx/2015 Qtde. DT | L1: AF/OS nº xxxx/2015 Qtde. DT | M1: AF/OS nº xxxx/2015 Qtde. DT | N1: AF/OS nº xxxx/2015 Qtde. DT | O1: AF/OS nº xxxx/2015 Qtde. DT | P1: AF/OS nº xxxx/2015 Qtde. DT | Q1: AF/OS nº xxxx/2015 Qtde. DT | R1: AF/OS nº xxxx/2015 Qtde. DT | S1: AF/OS nº xxxx/2015 Qtde. DT | T1: AF/OS nº xxxx/2015 Qtde. DT | U1: AF/OS nº xxxx/2015 Qtde. DT | V1: AF/OS nº xxxx/2015 Qtde. DT
A2: CENTRO PARTICIPANTE: ESAG
A3: FORNECEDOR | B3: LOTE | C3: ITEM | D3: PRODUTO - CARACTERÍSTICAS MÍNIMAS | E3: UNIDADE | F3: DETALHAMENTO | G3: Preço UNITÁRIO (R$) | H3: Qtde Registrada | I3: Saldo / Automático | J3: ALERTA | K3: ...../...../...... | L3: ...../...../...... | M3: ...../...../...... | N3: ...../...../...... | O3: ...../...../...... | P3: ...../...../...... | Q3: ...../...../...... | R3: ...../...../...... | S3: ...../...../...... | T3: ...../...../...... | U3: ...../...../...... | V3: ...../...../......
A4: MONUMENTAL IND. E COM. DE TROFÉUS LTDA ME | B4: 1 | C4: 1 | D4: Placa de Homenagem (17 x 27 cm) | E4: Peça | F4: 339031.04 | G4: 130.84 | H4: 70 | I4: =H4-(SUM(K4:V4)) -> 70 | J4: =IF(I4<0,"ATENÇÃO","OK") -> OK
C5: 2 | D5: Placa de Inauguração (45 x 65 cm) | E5: Peça | F5: 339039.24 | G5: 608.22 | H5: 3 | I5: =H5-(SUM(K5:V5)) -> 3 | J5: =IF(I5<0,"ATENÇÃO","OK") -> OK
A6: FENÍCIA IND. E COM. DE TROFÉUS E MEDALHAS LTDA | B6: 2 | C6: 3 | D6: Medalha - Pequena (6 cm de diâmetro) - ouro | E6: Peça | F6: 339031.04 | G6: 3.29 | I6: =H6-(SUM(K6:V6)) -> 0 | J6: =IF(I6<0,"ATENÇÃO","OK") -> OK
C7: 4 | D7: Medalha - Pequena (6 cm de diâmetro) - prata | E7: Peça | F7: 339031.04 | G7: 3.29 | I7: =H7-(SUM(K7:V7)) -> 0 | J7: =IF(I7<0,"ATENÇÃO","OK") -> OK
C8: 5 | D8: Medalha - Pequena (6 cm de diâmetro) - bronze | E8: Peça | F8: 339031.04 | G8: 3.29 | I8: =H8-(SUM(K8:V8)) -> 0 | J8: =IF(I8<0,"ATENÇÃO","OK") -> OK
C9: 6 | D9: Medalha - Média (8 cm de diâmetro) - ouro | E9: Peça | F9: 339031.04 | G9: 4.33 | H9: 15 | I9: =H9-(SUM(K9:V9)) -> 15 | J9: =IF(I9<0,"ATENÇÃO","OK") -> OK
C10: 7 | D10: Medalha - Média (8 cm de diâmetro) - prata | E10: Peça | F10: 339031.04 | G10: 4.33 | H10: 15 | I10: =H10-(SUM(K10:V10)) -> 15 | J10: =IF(I10<0,"ATENÇÃO","OK") -> OK
C11: 8 | D11: Medalha - Média (8 cm de diâmetro) - bronze | E11: Peça | F11: 339031.04 | G11: 4.33 | H11: 15 | I11: =H11-(SUM(K11:V11)) -> 15 | J11: =IF(I11<0,"ATENÇÃO","OK") -> OK
C12: 9 | D12: Medalha - Média (8 cm de diâmetro) - ouro - modelo específico | E12: Peça | F12: 339031.04 | G12: 6.3 | I12: =H12-(SUM(K12:V12)) -> 0 | J12: =IF(I12<0,"ATENÇÃO","OK") -> OK
C13: 10 | D13: Medalha - Média (8 cm de diâmetro) - prata - model específico | E13: Peça | F13: 339031.04 | G13: 6.3 | I13: =H13-(SUM(K13:V13)) -> 0 | J13: =IF(I13<0,"ATENÇÃO","OK") -> OK
C14: 11 | D14: Medalha - Média (8 cm de diâmetro) - bronze - modelo específico | E14: Peça | F14: 339031.04 | G14: 6.3 | I14: =H14-(SUM(K14:V14)) -> 0 | J14: =IF(I14<0,"ATENÇÃO","OK") -> OK

Sheet PROEX
A1: PROCESSO: 0358/2015/UDESC | D1: OBJETO: FORNECIMENTO DE MEDALHAS E PLACAS PARA OS EVENTOS ESPORTIVOS, CONCURSOS CULTURAIS, HOMENAGENS, INAUGURAÇÕES E DEMAIS PREMIAÇÕES DA UDESC - Lotes 01 e 02 | H1: VIGÊNCIA DA ATA: 29/05/2015 até 28/05/2016 | K1: AF nº 900/2015 Qtde. DT | L1: AF nº 1773/2015 Qtde. DT | M1: AF nº 1841/2015 Qtde. DT | N1: AF nº 2030/2015 Qtde. DT | O1: AF/OS nº xxxx/2015 Qtde. DT | P1: AF/OS nº xxxx/2015 Qtde. DT | Q1: AF/OS nº xxxx/2015 Qtde. DT | R1: AF/OS nº xxxx/2015 Qtde. DT | S1: AF/OS nº xxxx/2015 Qtde. DT | T1: AF/OS nº xxxx/2015 Qtde. DT | U1: AF/OS nº xxxx/2015 Qtde. DT | V1: AF/OS nº xxxx/2015 Qtde. DT
A2: CENTRO PARTICIPANTE: PROEX
A3: FORNECEDOR | B3: LOTE | C3: ITEM | D3: PRODUTO - CARACTERÍSTICAS MÍNIMAS | E3: UNIDADE | F3: DETALHAMENTO | G3: Preço UNITÁRIO (R$) | H3: Qtde Registrada | I3: Saldo / Automático | J3: ALERTA | K3: 42158 | L3: 42277 | M3: 42282 | N3: 42303 | O3: ...../...../...... | P3: ...../...../...... | Q3: ...../...../...... | R3: ...../...../...... | S3: ...../...../...... | T3: ...../...../...... | U3: ...../...../...... | V3: ...../...../......
A4: MONUMENTAL IND. E COM. DE TROFÉUS LTDA ME | B4: 1 | C4: 1 | D4: Placa de Homenagem (17 x 27 cm) | E4: Peça | F4: 339031.04 | G4: 130.84 | H4: =50-9 -> 41 | I4: =H4-(SUM(K4:V4)) -> 5 | J4: =IF(I4<0,"ATENÇÃO","OK") -> OK | N4: 36
C5: 2 | D5: Placa de Inauguração (45 x 65 cm) | E5: Peça | F5: 339039.24 | G5: 608.22 | H5: 4 | I5: =H5-(SUM(K5:V5)) -> 3 | J5: =IF(I5<0,"ATENÇÃO","OK") -> OK | M5: 1
A6: FENÍCIA IND. E COM. DE TROFÉUS E MEDALHAS LTDA | B6: 2 | C6: 3 | D6: Medalha - Pequena (6 cm de diâmetro) - ouro | E6: Peça | F6: 339031.04 | G6: 3.29 | H6: =150+300 -> 450 | I6: =H6-(SUM(K6:V6)) -> 450 | J6: =IF(I6<0,"ATENÇÃO","OK") -> OK
C7: 4 | D7: Medalha - Pequena (6 cm de diâmetro) - prata | E7: Peça | F7: 339031.04 | G7: 3.29 | H7: =150+300 -> 450 | I7: =H7-(SUM(K7:V7)) -> 450 | J7: =IF(I7<0,"ATENÇÃO","OK") -> OK
C8: 5 | D8: Medalha - Pequena (6 cm de diâmetro) - bronze | E8: Peça | F8: 339031.04 | G8: 3.29 | H8: =150+300 -> 450 | I8: =H8-(SUM(K8:V8)) -> 450 | J8: =IF(I8<0,"ATENÇÃO","OK") -> OK
C9: 6 | D9: Medalha - Média (8 cm de diâmetro) - ouro | E9: Peça | F9: 339031.04 | G9: 4.33 | H9: =35 -> 35 | I9: =H9-(SUM(K9:V9)) -> 35 | J9: =IF(I9<0,"ATENÇÃO","OK") -> OK
C10: 7 | D10: Medalha - Média (8 cm de diâmetro) - prata | E10: Peça | F10: 339031.04 | G10: 4.33 | H10: =35 -> 35 | I10: =H10-(SUM(K10:V10)) -> 35 | J10: =IF(I10<0,"ATENÇÃO","OK") -> OK
C11: 8 | D11: Medalha - Média (8 cm de diâmetro) - bronze | E11: Peça | F11: 339031.04 | G11: 4.33 | H11: =35 -> 35 | I11: =H11-(SUM(K11:V11)) -> 35 | J11: =IF(I11<0,"ATENÇÃO","OK") -> OK
C12: 9 | D12: Medalha - Média (8 cm de diâmetro) - ouro - modelo específico | E12: Peça | F12: 339031.04 | G12: 6.3 | H12: 450 | I12: =H12-(SUM(K12:V12)) -> 35 | J12: =IF(I12<0,"ATENÇÃO","OK") -> OK | K12: 265 | L12: 150
C13: 10 | D13: Medalha - Média (8 cm de diâmetro) - prata - model específico | E13: Peça | F13: 339031.04 | G13: 6.3 | H13: 450 | I13: =H13-(SUM(K13:V13)) -> 35 | J13: =IF(I13<0,"ATENÇÃO","OK") -> OK | K13: 265 | L13: 150
C14: 11 | D14: Medalha - Média (8 cm de diâmetro) - bronze - modelo específico | E14: Peça | F14: 339031.04 | G14: 6.3 | H14: 450 | I14: =H14-(SUM(K14:V14)) -> 35 | J14: =IF(I14<0,"ATENÇÃO","OK") -> OK | K14: 265 | L14: 150

Sheet GESTOR
A1: PROCESSO: 0358/2015/UDESC | D1: OBJETO: FORNECIMENTO DE MEDALHAS E PLACAS PARA OS EVENTOS ESPORTIVOS, CONCURSOS CULTURAIS, HOMENAGENS, INAUGURAÇÕES E DEMAIS PREMIAÇÕES DA UDESC - Lotes 01 e 02 | H1: VIGÊNCIA DA ATA: 29/05/2015 até 28/05/2016
A2: FORNECEDOR | B2: LOTE | C2: ITEM | D2: PRODUTO - CARACTERÍSTICAS MÍNIMAS | E2: UNIDADE | F2: DETALHAMENTO | G2: Preço UNITÁRIO (R$) | H2: Qtde Registrada | I2: Quantidade Utilizada | J2: SALDO | K2: Valor Total Registrado | L2: Valor Total Utilizado
A3: MONUMENTAL IND. E COM. DE TROFÉUS LTDA ME | B3: 1 | C3: 1 | D3: Placa de Homenagem (17 x 27 cm) | E3: Peça | F3: 339031.04 | G3: 130.84 | H3: =CESFI!H4+CEPLAN!H4+CAV!H4+CERES!H4+FAED!H4+CEART!H4+CEO!H4+CCT!H4+CEAD!H4+CEFID!H4+CEAVI!H4+ESAG!H4+PROEX!H4 -> 362 | I3: =(CESFI!H4-CESFI!I4)+(CEPLAN!H4-CEPLAN!I4)+(CAV!H4-CAV!I4)+(CERES!H4-CERES!I4)+(FAED!H4-FAED!I4)+(CEART!H4-CEART!I4)+(CEO!H4-CEO!I4)+(CCT!H4-CCT!I4)+(CEAD!H4-CEAD!I4)+(CEFID!H4-CEFID!I4)+(CEAVI!H4-CEAVI!I4)+(ESAG!H4-ESAG!I4)+(PROEX!H4-PROEX!I4) -> 63 | J3: =H3-I3 -> 299 | K3: =G3*H3 -> 47364.08 | L3: =G3*I3 -> 8242.92
C4: 2 | D4: Placa de Inauguração (45 x 65 cm) | E4: Peça | F4: 339039.24 | G4: 608.22 | H4: =CESFI!H5+CEPLAN!H5+CAV!H5+CERES!H5+FAED!H5+CEART!H5+CEO!H5+CCT!H5+CEAD!H5+CEFID!H5+CEAVI!H5+ESAG!H5+PROEX!H5 -> 36 | I4: =(CESFI!H5-CESFI!I5)+(CEPLAN!H5-CEPLAN!I5)+(CAV!H5-CAV!I5)+(CERES!H5-CERES!I5)+(FAED!H5-FAED!I5)+(CEART!H5-CEART!I5)+(CEO!H5-CEO!I5)+(CCT!H5-CCT!I5)+(CEAD!H5-CEAD!I5)+(CEFID!H5-CEFID!I5)+(CEAVI!H5-CEAVI!I5)+(ESAG!H5-ESAG!I5)+(PROEX!H5-PROEX!I5) -> 3 | J4: =H4-I4 -> 33 | K4: =G4*H4 -> 21895.92 | L4: =G4*I4 -> 1824.66
A5: FENÍCIA IND. E COM. DE TROFÉUS E MEDALHAS LTDA | B5: 2 | C5: 3 | D5: Medalha - Pequena (6 cm de diâmetro) - ouro | E5: Peça | F5: 339031.04 | G5: 3.29 | H5: =CESFI!H6+CEPLAN!H6+CAV!H6+CERES!H6+FAED!H6+CEART!H6+CEO!H6+CCT!H6+CEAD!H6+CEFID!H6+CEAVI!H6+ESAG!H6+PROEX!H6 -> 1189 | I5: =(CESFI!H6-CESFI!I6)+(CEPLAN!H6-CEPLAN!I6)+(CAV!H6-CAV!I6)+(CERES!H6-CERES!I6)+(FAED!H6-FAED!I6)+(CEART!H6-CEART!I6)+(CEO!H6-CEO!I6)+(CCT!H6-CCT!I6)+(CEAD!H6-CEAD!I6)+(CEFID!H6-CEFID!I6)+(CEAVI!H6-CEAVI!I6)+(ESAG!H6-ESAG!I6)+(PROEX!H6-PROEX!I6) -> 80 | J5: =H5-I5 -> 1109 | K5: =G5*H5 -> 3911.81 | L5: =G5*I5 -> 263.2
C6: 4 | D6: Medalha - Pequena (6 cm de diâmetro) - prata | E6: Peça | F6: 339031.04 | G6: 3.29 | H6: =CESFI!H7+CEPLAN!H7+CAV!H7+CERES!H7+FAED!H7+CEART!H7+CEO!H7+CCT!H7+CEAD!H7+CEFID!H7+CEAVI!H7+ESAG!H7+PROEX!H7 -> 1096 | I6: =(CESFI!H7-CESFI!I7)+(CEPLAN!H7-CEPLAN!I7)+(CAV!H7-CAV!I7)+(CERES!H7-CERES!I7)+(FAED!H7-FAED!I7)+(CEART!H7-CEART!I7)+(CEO!H7-CEO!I7)+(CCT!H7-CCT!I7)+(CEAD!H7-CEAD!I7)+(CEFID!H7-CEFID!I7)+(CEAVI!H7-CEAVI!I7)+(ESAG!H7-ESAG!I7)+(PROEX!H7-PROEX!I7) -> 0 | J6: =H6-I6 -> 1096 | K6: =G6*H6 -> 3605.84 | L6: =G6*I6 -> 0
C7: 5 | D7: Medalha - Pequena (6 cm de diâmetro) - bronze | E7: Peça | F7: 339031.04 | G7: 3.29 | H7: =CESFI!H8+CEPLAN!H8+CAV!H8+CERES!H8+FAED!H8+CEART!H8+CEO!H8+CCT!H8+CEAD!H8+CEFID!H8+CEAVI!H8+ESAG!H8+PROEX!H8 -> 1099 | I7: =(CESFI!H8-CESFI!I8)+(CEPLAN!H8-CEPLAN!I8)+(CAV!H8-CAV!I8)+(CERES!H8-CERES!I8)+(FAED!H8-FAED!I8)+(CEART!H8-CEART!I8)+(CEO!H8-CEO!I8)+(CCT!H8-CCT!I8)+(CEAD!H8-CEAD!I8)+(CEFID!H8-CEFID!I8)+(CEAVI!H8-CEAVI!I8)+(ESAG!H8-ESAG!I8)+(PROEX!H8-PROEX!I8) -> 0 | J7: =H7-I7 -> 1099 | K7: =G7*H7 -> 3615.71 | L7: =G7*I7 -> 0
C8: 6 | D8: Medalha - Média (8 cm de diâmetro) - ouro | E8: Peça | F8: 339031.04 | G8: 4.33 | H8: =CESFI!H9+CEPLAN!H9+CAV!H9+CERES!H9+FAED!H9+CEART!H9+CEO!H9+CCT!H9+CEAD!H9+CEFID!H9+CEAVI!H9+ESAG!H9+PROEX!H9 -> 355 | I8: =(CESFI!H9-CESFI!I9)+(CEPLAN!H9-CEPLAN!I9)+(CAV!H9-CAV!I9)+(CERES!H9-CERES!I9)+(FAED!H9-FAED!I9)+(CEART!H9-CEART!I9)+(CEO!H9-CEO!I9)+(CCT!H9-CCT!I9)+(CEAD!H9-CEAD!I9)+(CEFID!H9-CEFID!I9)+(CEAVI!H9-CEAVI!I9)+(ESAG!H9-ESAG!I9)+(PROEX!H9-PROEX!I9) -> 0 | J8: =H8-I8 -> 355 | K8: =G8*H8 -> 1537.15 | L8: =G8*I8 -> 0
C9: 7 | D9: Medalha - Média (8 cm de diâmetro) - prata | E9: Peça | F9: 339031.04 | G9: 4.33 | H9: =CESFI!H10+CEPLAN!H10+CAV!H10+CERES!H10+FAED!H10+CEART!H10+CEO!H10+CCT!H10+CEAD!H10+CEFID!H10+CEAVI!H10+ESAG!H10+PROEX!H10 -> 230 | I9: =(CESFI!H10-CESFI!I10)+(CEPLAN!H10-CEPLAN!I10)+(CAV!H10-CAV!I10)+(CERES!H10-CERES!I10)+(FAED!H10-FAED!I10)+(CEART!H10-CEART!I10)+(CEO!H10-CEO!I10)+(CCT!H10-CCT!I10)+(CEAD!H10-CEAD!I10)+(CEFID!H10-CEFID!I10)+(CEAVI!H10-CEAVI!I10)+(ESAG!H10-ESAG!I10)+(PROEX!H10-PROEX!I10) -> 0 | J9: =H9-I9 -> 230 | K9: =G9*H9 -> 995.9 | L9: =G9*I9 -> 0
C10: 8 | D10: Medalha - Média (8 cm de diâmetro) - bronze | E10: Peça | F10: 339031.04 | G10: 4.33 | H10: =CESFI!H11+CEPLAN!H11+CAV!H11+CERES!H11+FAED!H11+CEART!H11+CEO!H11+CCT!H11+CEAD!H11+CEFID!H11+CEAVI!H11+ESAG!H11+PROEX!H11 -> 190 | I10: =(CESFI!H11-CESFI!I11)+(CEPLAN!H11-CEPLAN!I11)+(CAV!H11-CAV!I11)+(CERES!H11-CERES!I11)+(FAED!H11-FAED!I11)+(CEART!H11-CEART!I11)+(CEO!H11-CEO!I11)+(CCT!H11-CCT!I11)+(CEAD!H11-CEAD!I11)+(CEFID!H11-CEFID!I11)+(CEAVI!H11-CEAVI!I11)+(ESAG!H11-ESAG!I11)+(PROEX!H11-PROEX!I11) -> 0 | J10: =H10-I10 -> 190 | K10: =G10*H10 -> 822.7 | L10: =G10*I10 -> 0
C11: 9 | D11: Medalha - Média (8 cm de diâmetro) - ouro - modelo específico | E11: Peça | F11: 339031.04 | G11: 6.3 | H11: =CESFI!H12+CEPLAN!H12+CAV!H12+CERES!H12+FAED!H12+CEART!H12+CEO!H12+CCT!H12+CEAD!H12+CEFID!H12+CEAVI!H12+ESAG!H12+PROEX!H12 -> 450 | I11: =(CESFI!H12-CESFI!I12)+(CEPLAN!H12-CEPLAN!I12)+(CAV!H12-CAV!I12)+(CERES!H12-CERES!I12)+(FAED!H12-FAED!I12)+(CEART!H12-CEART!I12)+(CEO!H12-CEO!I12)+(CCT!H12-CCT!I12)+(CEAD!H12-CEAD!I12)+(CEFID!H12-CEFID!I12)+(CEAVI!H12-CEAVI!I12)+(ESAG!H12-ESAG!I12)+(PROEX!H12-PROEX!I12) -> 415 | J11: =H11-I11 -> 35 | K11: =G11*H11 -> 2835 | L11: =G11*I11 -> 2614.5
C12: 10 | D12: Medalha - Média (8 cm de diâmetro) - prata - model específico | E12: Peça | F12: 339031.04 | G12: 6.3 | H12: =CESFI!H13+CEPLAN!H13+CAV!H13+CERES!H13+FAED!H13+CEART!H13+CEO!H13+CCT!H13+CEAD!H13+CEFID!H13+CEAVI!H13+ESAG!H13+PROEX!H13 -> 450 | I12: =(CESFI!H13-CESFI!I13)+(CEPLAN!H13-CEPLAN!I13)+(CAV!H13-CAV!I13)+(CERES!H13-CERES!I13)+(FAED!H13-FAED!I13)+(CEART!H13-CEART!I13)+(CEO!H13-CEO!I13)+(CCT!H13-CCT!I13)+(CEAD!H13-CEAD!I13)+(CEFID!H13-CEFID!I13)+(CEAVI!H13-CEAVI!I13)+(ESAG!H13-ESAG!I13)+(PROEX!H13-PROEX!I13) -> 415 | J12: =H12-I12 -> 35 | K12: =G12*H12 -> 2835 | L12: =G12*I12 -> 2614.5
C13: 11 | D13: Medalha - Média (8 cm de diâmetro) - bronze - modelo específico | E13: Peça | F13: 339031.04 | G13: 6.3 | H13: =CESFI!H14+CEPLAN!H14+CAV!H14+CERES!H14+FAED!H14+CEART!H14+CEO!H14+CCT!H14+CEAD!H14+CEFID!H14+CEAVI!H14+ESAG!H14+PROEX!H14 -> 450 | I13: =(CESFI!H14-CESFI!I14)+(CEPLAN!H14-CEPLAN!I14)+(CAV!H14-CAV!I14)+(CERES!H14-CERES!I14)+(FAED!H14-FAED!I14)+(CEART!H14-CEART!I14)+(CEO!H14-CEO!I14)+(CCT!H14-CCT!I14)+(CEAD!H14-CEAD!I14)+(CEFID!H14-CEFID!I14)+(CEAVI!H14-CEAVI!I14)+(ESAG!H14-ESAG!I14)+(PROEX!H14-PROEX!I14) -> 415 | J13: =H13-I13 -> 35 | K13: =G13*H13 -> 2835 | L13: =G13*I13 -> 2614.5
K14: =SUM(K3:K13) -> 92254.11 | L14: =SUM(L3:L13) -> 18174.28
H16: Pregão 0358/2015/UDESC - SRP
H17: FORNECIMENTO DE MEDALHAS E PLACAS PARA OS EVENTOS ESPORTIVOS, CONCURSOS CULTURAIS, HOMENAGENS, INAUGURAÇÕES E DEMAIS PREMIAÇÕES DA UDESC - Lotes 01 e 02
H18: VIGÊNCIA DA ATA: 29/05/2015 até 28/05/2016
H19: Valor Total da Ata com Aditivo | L19: =K14 -> 92254.11
H20: Valor Utilizado | L20: =L14 -> 18174.28
H21: % Aditivos
H22: % Utilizado | L22: =L20/L19 -> 0.19700239
H23: Resumo Atualizado em 11/2015

Sheet Modelo Anexo II IN 002_2014
A1: ANEXO II – Instrução Normativa n.º 002/2014
A3: DECLARAÇÃO DE DISPONIBILIDADE DE QUANTITATIVO PARA EMISSÃO DE AUTORIZAÇÃO DE FORNECIMENTO/ORDEM DE SERVIÇO – SISTEMA DE REGISTRO DE PREÇOS/UDESC
A5: Processo CPA n.º XXXX/2014
A6: Pregão n.º XXXX/2014
A7: Objeto:
A8: Vigência da Ata de Registro de Preços: XX/XX/XXXX até XX/XX/XXXXX
A10: Declaro que o Centro XXXXXXX, participante da Ata de Registro de Preços proveniente do Pregão n.º XXXX/2014, possui saldo em seu quantitativo para a emissão da Autorização de Fornecimento/Ordem de Serviço n.º XXXX/2014, no valor de R$ X.XXX,XX, a ser firmada com a empresa XXXXXXX, restando ainda em sua cota para próximas contratações com o referido fornecedor os seguintes quantitativos:
A12: Lote | B12: Item | C12: Descrição Resumida | D12: Unidade | E12: Valor Unitário (R$) | F12: Saldo Quantitativo (antes da emissão desta AF/OS) | G12: Quantitativo da AF/OS | H12: Saldo Atualizado
A19: __________________, ____/_____/____
A20: Cidade Data
A24: _____________________________________________
A25: Diretor(a) de Administração
A26: (carimbo e assinatura)
