Workbook
Name diasuteis: #REF!
Name diasuteis: #REF!
Name diasuteis: #REF!
Name diasuteis: #REF!
Name diasuteis: #REF!
Name diasuteis: #REF!
Name diasuteis: #REF!
Name diasuteis: #REF!
Name diasuteis: #REF!
Name diasuteis: #REF!
Name diasuteis: #REF!
Name diasuteis: #REF!
Name diasuteis: #REF!
Name diasuteis: #REF!
Name diasuteis: #REF!
Name Ferias: #REF!
Name Ferias: #REF!
Name Ferias: #REF!
Name Ferias: #REF!
Name Ferias: #REF!
Name Ferias: #REF!
Name Ferias: #REF!
Name Ferias: #REF!
Name Ferias: #REF!
Name RD: OFFSET(#REF!,(MATCH(SMALL(#REF!,ROW()-10),#REF!,0)-1),0)
Name RD: OFFSET(#REF!,(MATCH(SMALL(#REF!,ROW()-10),#REF!,0)-1),0)
Name RD: OFFSET(#REF!,(MATCH(SMALL(#REF!,ROW()-10),#REF!,0)-1),0)
Name RD: OFFSET(#REF!,(MATCH(SMALL(#REF!,ROW()-10),#REF!,0)-1),0)
Name RD: OFFSET(#REF!,(MATCH(SMALL(#REF!,ROW()-10),#REF!,0)-1),0)
Name RD: OFFSET(#REF!,(MATCH(SMALL(#REF!,ROW()-10),#REF!,0)-1),0)
Name RD: OFFSET(#REF!,(MATCH(SMALL(#REF!,ROW()-10),#REF!,0)-1),0)
Name RD: OFFSET(#REF!,(MATCH(SMALL(#REF!,ROW()-10),#REF!,0)-1),0)
Name RD: OFFSET(#REF!,(MATCH(SMALL(#REF!,ROW()-10),#REF!,0)-1),0)

Sheet Reitoria
A1: PROCESSO: 0354/2015/UDESC | D1: OBJETO: SERVIÇOS GRÁFICOS PARA A UDESC | I1: VIGÊNCIA DA ATA: 01/07/2015 até 30/06/2016 | L1: OS nº 1210/2015 Qtde. DT | M1: OS nº 0113/2016 Qtde. DT
A2: CENTRO PARTICIPANTE: Reitoria
A3: FORNECEDOR | B3: LOTE | C3: ITEM | D3: PRODUTO - CARACTERÍSTICAS MÍNIMAS | E3: Dimensões | F3: Unidade | G3: DETALHAMENTO | H3: Preço UNITÁRIO (R$) | I3: Qtde Registrada | J3: Saldo / Automático | K3: ALERTA | L3: 42201 | M3: 42416
A4: Seriprint Comunicação Visual LTDA - ME | B4: 1 | C4: 1 | D4: Banner em lona, impressão digital 4x0 cores, resolução mínima 720 dpi's e 280 g/m² de gramatura mínima; e suporte: 1) em madeira em duas das menores extremidades e acabamento com ponteira de PVC (grampeada) e corda trançada de no mínimo 4mm e de resistência suficiente e compatível com o banner; ou 2) com ilhóses dispostos de 20 em 20 cm, em ferro ou alumínio e de diâmetro compatível com a corda utilizada - corda trançada de no mínimo 4mm e de resistência suficiente e compatível com o banner. | E4: 50 X 70 cm | F4: Unidade | G4: 339039.63 | H4: 10.3 | J4: =I4-(SUM(L4:M4)) -> 0 | K4: =IF(J4<0,"ATENÇÃO","OK") -> OK
C5: 2 | E5: 90 X 150 cm | F5: Unidade | G5: 339039.63 | H5: 36.2 | J5: =I5-(SUM(L5:M5)) -> 0 | K5: =IF(J5<0,"ATENÇÃO","OK") -> OK
C6: 3 | E6: 90 X 120 cm | F6: Unidade | G6: 339039.63 | H6: 33 | I6: 20 | J6: =I6-(SUM(L6:M6)) -> 20 | K6: =IF(J6<0,"ATENÇÃO","OK") -> OK
C7: 4 | E7: 110 X 150 cm | F7: Unidade | G7: 339039.63 | H7: 39 | J7: =I7-(SUM(L7:M7)) -> 0 | K7: =IF(J7<0,"ATENÇÃO","OK") -> OK
C8: 5 | E8: 130 X 180 cm | F8: Unidade | G8: 339039.63 | H8: 52.3 | J8: =I8-(SUM(L8:M8)) -> 0 | K8: =IF(J8<0,"ATENÇÃO","OK") -> OK
C9: 6 | E9: 50 X 300 cm | F9: Unidade | G9: 339039.63 | H9: 34 | J9: =I9-(SUM(L9:M9)) -> 0 | K9: =IF(J9<0,"ATENÇÃO","OK") -> OK
C10: 7 | E10: 70 X 400 cm | F10: Unidade | G10: 339039.63 | H10: 59 | I10: 20 | J10: =I10-(SUM(L10:M10)) -> 20 | K10: =IF(J10<0,"ATENÇÃO","OK") -> OK
C11: 8 | E11: 140 cm X metro linear | F11: metro | G11: 339039.63 | H11: 26 | J11: =I11-(SUM(L11:M11)) -> 0 | K11: =IF(J11<0,"ATENÇÃO","OK") -> OK
C12: 9 | E12: 80 X 110 cm | F12: Unidade | G12: 339039.63 | H12: 29.3 | J12: =I12-(SUM(L12:M12)) -> 0 | K12: =IF(J12<0,"ATENÇÃO","OK") -> OK
C13: 10 | E13: 80 X 120 cm | F13: Unidade | G13: 339039.63 | H13: 30 | J13: =I13-(SUM(L13:M13)) -> 0 | K13: =IF(J13<0,"ATENÇÃO","OK") -> OK
C14: 11 | E14: 90 X 110 cm | F14: Unidade | G14: 339039.63 | H14: 25 | J14: =I14-(SUM(L14:M14)) -> 0 | K14: =IF(J14<0,"ATENÇÃO","OK") -> OK
C15: 12 | D15: Frontlight em lona, impressão digital 4x0 cores, resolução mínima 1200 dpi's e 440 g/m² de gramatura mínima; fixado com ilhóses dispostos de 20 em 20 cm, em ferro ou alumínio e de diâmetro compatível com a corda utilizada - corda trançada de no mínimo 4mm e de resistência suficiente e compatível com o frontlight. | E15: 320 cm X metro linear | F15: metro | G15: 339039.63 | H15: 65 | J15: =I15-(SUM(L15:M15)) -> 0 | K15: =IF(J15<0,"ATENÇÃO","OK") -> OK
C16: 13 | E16: 650 X 150 cm | F16: Unidade | G16: 339039.63 | H16: 189.86 | J16: =I16-(SUM(L16:M16)) -> 0 | K16: =IF(J16<0,"ATENÇÃO","OK") -> OK
C17: 14 | E17: 250 X 120 cm | F17: Unidade | G17: 339039.63 | H17: 73 | J17: =I17-(SUM(L17:M17)) -> 0 | K17: =IF(J17<0,"ATENÇÃO","OK") -> OK
A18: Webergrafic Comércio de Materiais Gráficos LTDA - ME | B18: 2 | C18: 15 | D18: Banner em papel fotográfico com laminação brilhante, resolução mínima de 600 dpi's e 280g/m² de gramatura mínima, suporte em plástico em duas das menores extremidades e corda de no mínimo 1mm e de resistência suficiente e compatível com o banner. | E18: 90 cm X metro linear | F18: metro | G18: 339039.63 | H18: 49.5 | J18: =I18-(SUM(L18:M18)) -> 0 | K18: =IF(J18<0,"ATENÇÃO","OK") -> OK
A19: Webergrafic Comércio de Materiais Gráficos LTDA - ME | B19: 3 | C19: 16 | D19: Banner em tecido. Impressão digital em tecido. Policromia: 4 x 0 cores. Resolução mínima de 1200 dpi´s. Acabamento em madeira (cabo redondo) nas duas extremidades menores, sendo encaixado internamente na costura do tecido para fechamento escondendo o varão, com ponteiras em PVC e corda trançada de no mínimo 4 mm e com resistência suficiente para sustentar o banner de tecido. | E19: 90 cm x metro linear | F19: metro | G19: 339039.63 | H19: 40.19 | J19: =I19-(SUM(L19:M19)) -> 0 | K19: =IF(J19<0,"ATENÇÃO","OK") -> OK
A20: Webergrafic Comércio de Materiais Gráficos LTDA - ME | B20: 4 | C20: 17 | D20: Frontlight em lona, impressão digital 4x0 cores, resolução mínima 1200 dpi's e 440 g/m² de gramatura mínima; fixado com ilhóses dispostos de 20 em 20 cm, em ferro ou alumínio e de diâmetro compatível com a corda utilizada - corda trançada de no mínimo 4mm e de resistência suficiente e compatível com o frontlight. INSTALADO E RETIRADA. | E20: 255 X 275 cm | F20: Unidade | G20: 339039.63 | H20: 429.72 | I20: 8 | J20: =I20-(SUM(L20:M20)) -> 4 | K20: =IF(J20<0,"ATENÇÃO","OK") -> OK | L20: 4
C21: 18 | E21: 295 X 875 cm | F21: Unidade | G21: 339039.63 | H21: 1055.06 | I21: 16 | J21: =I21-(SUM(L21:M21)) -> 0 | K21: =IF(J21<0,"ATENÇÃO","OK") -> OK | L21: 10 | M21: 6
C22: 19 | E22: 310 X 914 cm | F22: Unidade | G22: 339039.63 | H22: 1157.2 | I22: 54 | J22: =I22-(SUM(L22:M22)) -> 14 | K22: =IF(J22<0,"ATENÇÃO","OK") -> OK | L22: 24 | M22: 16
A23: Webergrafic Comércio de Materiais Gráficos LTDA - ME | B23: 5 | C23: 20 | D23: Adesivo perfurado para vidro traseiro de automóveis, impressão digital 4x0 cores, resolução mínima 720 dpi's; com no mínimo 40% de transmissão luminosa (nos termos da RES 254/2007 CONTRAN). | E23: 35 X 90 cm | F23: Unidade | G23: 339039.63 | H23: 11.33 | I23: 600 | J23: =I23-(SUM(L23:M23)) -> 600 | K23: =IF(J23<0,"ATENÇÃO","OK") -> OK
A24: Webergrafic Comércio de Materiais Gráficos LTDA - ME | B24: 6 | C24: 21 | D24: Adesivo em vinil, impressão digital 4x0 cores, resolução mínima 300 dpi's e 26 a 30 g/m² de gramatura mínima de cola; acabamento meio corte especial com faca. | E24: 7 X 9 cm | F24: Unidade | G24: 339039.63 | H24: 0.4 | J24: =I24-(SUM(L24:M24)) -> 0 | K24: =IF(J24<0,"ATENÇÃO","OK") -> OK
C25: 22 | D25: Adesivo em vinil transparente para vidro, impressão digital 4x0 cores, resolução mínima 300 dpi's e 26 a 30 g/m² de gramatura mínima de cola; acabamento corte reto. | E25: 5 X 20 cm | F25: Unidade | G25: 339039.63 | H25: 0.5 | J25: =I25-(SUM(L25:M25)) -> 0 | K25: =IF(J25<0,"ATENÇÃO","OK") -> OK
C26: 23 | E26: 10 X 25 cm | F26: Unidade | G26: 339039.63 | H26: 1.27 | I26: 2000 | J26: =I26-(SUM(L26:M26)) -> 2000 | K26: =IF(J26<0,"ATENÇÃO","OK") -> OK
C27: 24 | D27: Adesivo em vinil resistente a água e cloro, próprio para áreas com piscinas, impressão digital 4x0 cores, resolução mínima 300 dpi's e 26 a 30 g/m2 de gramatura mínima de cola; acabamento corte reto. | E27: 5 X 20 cm | F27: Unidade | G27: 339039.63 | H27: 0.5 | J27: =I27-(SUM(L27:M27)) -> 0 | K27: =IF(J27<0,"ATENÇÃO","OK") -> OK
C28: 25 | E28: 10 X 25 cm | F28: Unidade | G28: 339039.63 | H28: 1.27 | J28: =I28-(SUM(L28:M28)) -> 0 | K28: =IF(J28<0,"ATENÇÃO","OK") -> OK
C29: 26 | D29: Adesivo recortado em vinil colorido (cores diversas a escolher), para adesivagem. | E29: 90 cm x metro linear | F29: metro | G29: 339039.63 | H29: 38.16 | J29: =I29-(SUM(L29:M29)) -> 0 | K29: =IF(J29<0,"ATENÇÃO","OK") -> OK
C30: 27 | D30: Adesivo em vinil, impressão digital 4x0 cores, resolução mínima 300 dpi's e 26 a 30 g/m² de gramatura mínima de cola; acabamento meio corte especial com faca. | E30: 75 cm X metro linear | F30: metro | G30: 339039.63 | H30: 44.5 | J30: =I30-(SUM(L30:M30)) -> 0 | K30: =IF(J30<0,"ATENÇÃO","OK") -> OK
C31: 28 | D31: Adesivo em vinil resistente a água e cloro, próprio para áreas com piscinas, impressão digital 4x0 cores, resolução mínima 300 dpi's e 26 a 30 g/m2 de gramatura mínima de cola; acabamento corte reto. | E31: 15 cm X metro linear | F31: metro | G31: 339039.63 | H31: 37.03 | J31: =I31-(SUM(L31:M31)) -> 0 | K31: =IF(J31<0,"ATENÇÃO","OK") -> OK
A32: Webergrafic Comércio de Materiais Gráficos LTDA - ME | B32: 7 | C32: 29 | D32: Adesivo com impressão digital em caixa metálica de plataforma elevatória ("elevador"); impressão digital em material vinil autoadesivo; acabamento em laminação fosca; instalado; inclui adequação de layout; sugere-se visita técnica para conhecimento. | E32: m² | F32: metro² | G32: 339039.63 | H32: 97.5 | J32: =I32-(SUM(L32:M32)) -> 0 | K32: =IF(J32<0,"ATENÇÃO","OK") -> OK
A33: Webergrafic Comércio de Materiais Gráficos LTDA - ME | B33: 8 | C33: 30 | D33: Crachá em cartão PVC laminado branco, impressão digital 4x1 cores, resolução mínima 300 dpi's e espessura de 0,70 a 0,80mm cantos arredondados, com perfuração entre 15 a 20mm compatível com grampo de metal tipo jacaré do cordão. | E33: 5,4 X 8,60 cm | F33: Unidade | G33: 339039.63 | H33: 5.99 | J33: =I33-(SUM(L33:M33)) -> 0 | K33: =IF(J33<0,"ATENÇÃO","OK") -> OK
C34: 31 | D34: Cordão para crachá personalizado em impressão digital, com grampo de metal tipo jacaré, em 100% poliéster. | E34: 1,3 a 1,6 X 80 a 90 cm | F34: Unidade | G34: 339039.63 | H34: 2.75 | J34: =I34-(SUM(L34:M34)) -> 0 | K34: =IF(J34<0,"ATENÇÃO","OK") -> OK
A35: Ferroprint Tecnologia LTDA - ME | B35: 9 | C35: 32 | D35: Placa em PVC branco, impressão digital 4x0 cores, resolução mínima 300 dpi's e espessura de 2mm, com fixação dupla face de espuma acrílica para ambiente externo de no mínimo 20mm de largura e de no mínimo 10 cm de tamanho para cada 150g de placa. | E35: 200 X 120 cm | F35: Unidade | G35: 339039.63 | H35: 360 | J35: =I35-(SUM(L35:M35)) -> 0 | K35: =IF(J35<0,"ATENÇÃO","OK") -> OK
C36: 33 | D36: Placa em PVC branco, impressão digital 4x0 cores, resolução mínima 300 dpi's e espessura de 2mm, com fixação dupla face de espuma acrílica para ambiente interno de no mínimo 20mm de largura e de no mínimo 10 cm de tamanho para cada 150g de placa. | E36: 25 x 10 cm | F36: Unidade | G36: 339039.63 | H36: 3.75 | J36: =I36-(SUM(L36:M36)) -> 0 | K36: =IF(J36<0,"ATENÇÃO","OK") -> OK
C37: 34 | D37: Placa em PVC branco em formato "V" para ser apoiado sobre balção, impressão digital 4x0 cores, resolução mínima 300 dpi's e espessura de 2mm. | E37: 25 x 15 cm(plano) | F37: Unidade | G37: 339039.63 | H37: 35.06 | J37: =I37-(SUM(L37:M37)) -> 0 | K37: =IF(J37<0,"ATENÇÃO","OK") -> OK
A38: Webergrafic Comércio de Materiais Gráficos LTDA - ME | B38: 10 | C38: 35 | D38: Plotagem, impressão 4x0 cores, em papel sulfite de 75 g/m2 de gramatura mínima. | E38: Formato A0 ("A" Zero - 84,1 X 118,9cm) | F38: Unidade | G38: 339039.63 | H38: 73.39 | J38: =I38-(SUM(L38:M38)) -> 0 | K38: =IF(J38<0,"ATENÇÃO","OK") -> OK
C39: 36 | D39: Plotagem, impressão monocromática, em papel sulfite de 75 g/m2 de gramatura mínima. | E39: Formato A0 ("A" Zero - 84,1 X 118,9cm) | F39: Unidade | G39: 339039.63 | H39: 73.38 | J39: =I39-(SUM(L39:M39)) -> 0 | K39: =IF(J39<0,"ATENÇÃO","OK") -> OK
A40: Webergrafic Comércio de Materiais Gráficos LTDA - ME | B40: 11 | C40: 37 | D40: Adesivo em vinil transparente para vidro de carro, impressão digital 4x0 cores, resolução mínima 300 dpi's e 26 a 30 g/m² de gramatura mínima de cola; acabamento corte especial a faca (adesivo circular). | E40: Diametro de 8cm | F40: Unidade | G40: 339039.63 | H40: 3 | J40: =I40-(SUM(L40:M40)) -> 0 | K40: =IF(J40<0,"ATENÇÃO","OK") -> OK
...

Sheet SEMS
A1: PROCESSO: 0354/2015/UDESC | D1: OBJETO: SERVIÇOS GRÁFICOS PARA A UDESC | I1: VIGÊNCIA DA ATA: 01/07/2015 até 30/06/2016 | L1: AF/OS nº xxxx/2015 Qtde. DT | M1: AF/OS nº xxxx/2015 Qtde. DT
A2: CENTRO PARTICIPANTE: SEMS
A3: FORNECEDOR | B3: LOTE | C3: ITEM | D3: PRODUTO - CARACTERÍSTICAS MÍNIMAS | E3: Dimensões | F3: Unidade | G3: DETALHAMENTO | H3: Preço UNITÁRIO (R$) | I3: Qtde Registrada | J3: Saldo / Automático | K3: ALERTA | L3: ...../...../...... | M3: ...../...../......
A4: Seriprint Comunicação Visual LTDA - ME | B4: 1 | C4: 1 | D4: Banner em lona, impressão digital 4x0 cores, resolução mínima 720 dpi's e 280 g/m² de gramatura mínima; e suporte: 1) em madeira em duas das menores extremidades e acabamento com ponteira de PVC (grampeada) e corda trançada de no mínimo 4mm e de resistência suficiente e compatível com o banner; ou 2) com ilhóses dispostos de 20 em 20 cm, em ferro ou alumínio e de diâmetro compatível com a corda utilizada - corda trançada de no mínimo 4mm e de resistência suficiente e compatível com o banner. | E4: 50 X 70 cm | F4: Unidade | G4: 339039.63 | H4: 10.3 | J4: =I4-(SUM(L4:M4)) -> 0 | K4: =IF(J4<0,"ATENÇÃO","OK") -> OK
C5: 2 | E5: 90 X 150 cm | F5: Unidade | G5: 339039.63 | H5: 36.2 | J5: =I5-(SUM(L5:M5)) -> 0 | K5: =IF(J5<0,"ATENÇÃO","OK") -> OK
C6: 3 | E6: 90 X 120 cm | F6: Unidade | G6: 339039.63 | H6: 33 | J6: =I6-(SUM(L6:M6)) -> 0 | K6: =IF(J6<0,"ATENÇÃO","OK") -> OK
C7: 4 | E7: 110 X 150 cm | F7: Unidade | G7: 339039.63 | H7: 39 | J7: =I7-(SUM(L7:M7)) -> 0 | K7: =IF(J7<0,"ATENÇÃO","OK") -> OK
C8: 5 | E8: 130 X 180 cm | F8: Unidade | G8: 339039.63 | H8: 52.3 | J8: =I8-(SUM(L8:M8)) -> 0 | K8: =IF(J8<0,"ATENÇÃO","OK") -> OK
C9: 6 | E9: 50 X 300 cm | F9: Unidade | G9: 339039.63 | H9: 34 | J9: =I9-(SUM(L9:M9)) -> 0 | K9: =IF(J9<0,"ATENÇÃO","OK") -> OK
C10: 7 | E10: 70 X 400 cm | F10: Unidade | G10: 339039.63 | H10: 59 | J10: =I10-(SUM(L10:M10)) -> 0 | K10: =IF(J10<0,"ATENÇÃO","OK") -> OK
C11: 8 | E11: 140 cm X metro linear | F11: metro | G11: 339039.63 | H11: 26 | J11: =I11-(SUM(L11:M11)) -> 0 | K11: =IF(J11<0,"ATENÇÃO","OK") -> OK
C12: 9 | E12: 80 X 110 cm | F12: Unidade | G12: 339039.63 | H12: 29.3 | J12: =I12-(SUM(L12:M12)) -> 0 | K12: =IF(J12<0,"ATENÇÃO","OK") -> OK
C13: 10 | E13: 80 X 120 cm | F13: Unidade | G13: 339039.63 | H13: 30 | J13: =I13-(SUM(L13:M13)) -> 0 | K13: =IF(J13<0,"ATENÇÃO","OK") -> OK
C14: 11 | E14: 90 X 110 cm | F14: Unidade | G14: 339039.63 | H14: 25 | J14: =I14-(SUM(L14:M14)) -> 0 | K14: =IF(J14<0,"ATENÇÃO","OK") -> OK
C15: 12 | D15: Frontlight em lona, impressão digital 4x0 cores, resolução mínima 1200 dpi's e 440 g/m² de gramatura mínima; fixado com ilhóses dispostos de 20 em 20 cm, em ferro ou alumínio e de diâmetro compatível com a corda utilizada - corda trançada de no mínimo 4mm e de resistência suficiente e compatível com o frontlight. | E15: 320 cm X metro linear | F15: metro | G15: 339039.63 | H15: 65 | J15: =I15-(SUM(L15:M15)) -> 0 | K15: =IF(J15<0,"ATENÇÃO","OK") -> OK
C16: 13 | E16: 650 X 150 cm | F16: Unidade | G16: 339039.63 | H16: 189.86 | J16: =I16-(SUM(L16:M16)) -> 0 | K16: =IF(J16<0,"ATENÇÃO","OK") -> OK
C17: 14 | E17: 250 X 120 cm | F17: Unidade | G17: 339039.63 | H17: 73 | J17: =I17-(SUM(L17:M17)) -> 0 | K17: =IF(J17<0,"ATENÇÃO","OK") -> OK
A18: Webergrafic Comércio de Materiais Gráficos LTDA - ME | B18: 2 | C18: 15 | D18: Banner em papel fotográfico com laminação brilhante, resolução mínima de 600 dpi's e 280g/m² de gramatura mínima, suporte em plástico em duas das menores extremidades e corda de no mínimo 1mm e de resistência suficiente e compatível com o banner. | E18: 90 cm X metro linear | F18: metro | G18: 339039.63 | H18: 49.5 | J18: =I18-(SUM(L18:M18)) -> 0 | K18: =IF(J18<0,"ATENÇÃO","OK") -> OK
A19: Webergrafic Comércio de Materiais Gráficos LTDA - ME | B19: 3 | C19: 16 | D19: Banner em tecido. Impressão digital em tecido. Policromia: 4 x 0 cores. Resolução mínima de 1200 dpi´s. Acabamento em madeira (cabo redondo) nas duas extremidades menores, sendo encaixado internamente na costura do tecido para fechamento escondendo o varão, com ponteiras em PVC e corda trançada de no mínimo 4 mm e com resistência suficiente para sustentar o banner de tecido. | E19: 90 cm x metro linear | F19: metro | G19: 339039.63 | H19: 40.19 | J19: =I19-(SUM(L19:M19)) -> 0 | K19: =IF(J19<0,"ATENÇÃO","OK") -> OK
A20: Webergrafic Comércio de Materiais Gráficos LTDA - ME | B20: 4 | C20: 17 | D20: Frontlight em lona, impressão digital 4x0 cores, resolução mínima 1200 dpi's e 440 g/m² de gramatura mínima; fixado com ilhóses dispostos de 20 em 20 cm, em ferro ou alumínio e de diâmetro compatível com a corda utilizada - corda trançada de no mínimo 4mm e de resistência suficiente e compatível com o frontlight. INSTALADO E RETIRADA. | E20: 255 X 275 cm | F20: Unidade | G20: 339039.63 | H20: 429.72 | J20: =I20-(SUM(L20:M20)) -> 0 | K20: =IF(J20<0,"ATENÇÃO","OK") -> OK
C21: 18 | E21: 295 X 875 cm | F21: Unidade | G21: 339039.63 | H21: 1055.06 | J21: =I21-(SUM(L21:M21)) -> 0 | K21: =IF(J21<0,"ATENÇÃO","OK") -> OK
C22: 19 | E22: 310 X 914 cm | F22: Unidade | G22: 339039.63 | H22: 1157.2 | J22: =I22-(SUM(L22:M22)) -> 0 | K22: =IF(J22<0,"ATENÇÃO","OK") -> OK
A23: Webergrafic Comércio de Materiais Gráficos LTDA - ME | B23: 5 | C23: 20 | D23: Adesivo perfurado para vidro traseiro de automóveis, impressão digital 4x0 cores, resolução mínima 720 dpi's; com no mínimo 40% de transmissão luminosa (nos termos da RES 254/2007 CONTRAN). | E23: 35 X 90 cm | F23: Unidade | G23: 339039.63 | H23: 11.33 | J23: =I23-(SUM(L23:M23)) -> 0 | K23: =IF(J23<0,"ATENÇÃO","OK") -> OK
A24: Webergrafic Comércio de Materiais Gráficos LTDA - ME | B24: 6 | C24: 21 | D24: Adesivo em vinil, impressão digital 4x0 cores, resolução mínima 300 dpi's e 26 a 30 g/m² de gramatura mínima de cola; acabamento meio corte especial com faca. | E24: 7 X 9 cm | F24: Unidade | G24: 339039.63 | H24: 0.4 | J24: =I24-(SUM(L24:M24)) -> 0 | K24: =IF(J24<0,"ATENÇÃO","OK") -> OK
C25: 22 | D25: Adesivo em vinil transparente para vidro, impressão digital 4x0 cores, resolução mínima 300 dpi's e 26 a 30 g/m² de gramatura mínima de cola; acabamento corte reto. | E25: 5 X 20 cm | F25: Unidade | G25: 339039.63 | H25: 0.5 | J25: =I25-(SUM(L25:M25)) -> 0 | K25: =IF(J25<0,"ATENÇÃO","OK") -> OK
C26: 23 | E26: 10 X 25 cm | F26: Unidade | G26: 339039.63 | H26: 1.27 | J26: =I26-(SUM(L26:M26)) -> 0 | K26: =IF(J26<0,"ATENÇÃO","OK") -> OK
C27: 24 | D27: Adesivo em vinil resistente a água e cloro, próprio para áreas com piscinas, impressão digital 4x0 cores, resolução mínima 300 dpi's e 26 a 30 g/m2 de gramatura mínima de cola; acabamento corte reto. | E27: 5 X 20 cm | F27: Unidade | G27: 339039.63 | H27: 0.5 | J27: =I27-(SUM(L27:M27)) -> 0 | K27: =IF(J27<0,"ATENÇÃO","OK") -> OK
C28: 25 | E28: 10 X 25 cm | F28: Unidade | G28: 339039.63 | H28: 1.27 | J28: =I28-(SUM(L28:M28)) -> 0 | K28: =IF(J28<0,"ATENÇÃO","OK") -> OK
C29: 26 | D29: Adesivo recortado em vinil colorido (cores diversas a escolher), para adesivagem. | E29: 90 cm x metro linear | F29: metro | G29: 339039.63 | H29: 38.16 | J29: =I29-(SUM(L29:M29)) -> 0 | K29: =IF(J29<0,"ATENÇÃO","OK") -> OK
C30: 27 | D30: Adesivo em vinil, impressão digital 4x0 cores, resolução mínima 300 dpi's e 26 a 30 g/m² de gramatura mínima de cola; acabamento meio corte especial com faca. | E30: 75 cm X metro linear | F30: metro | G30: 339039.63 | H30: 44.5 | J30: =I30-(SUM(L30:M30)) -> 0 | K30: =IF(J30<0,"ATENÇÃO","OK") -> OK
C31: 28 | D31: Adesivo em vinil resistente a água e cloro, próprio para áreas com piscinas, impressão digital 4x0 cores, resolução mínima 300 dpi's e 26 a 30 g/m2 de gramatura mínima de cola; acabamento corte reto. | E31: 15 cm X metro linear | F31: metro | G31: 339039.63 | H31: 37.03 | J31: =I31-(SUM(L31:M31)) -> 0 | K31: =IF(J31<0,"ATENÇÃO","OK") -> OK
A32: Webergrafic Comércio de Materiais Gráficos LTDA - ME | B32: 7 | C32: 29 | D32: Adesivo com impressão digital em caixa metálica de plataforma elevatória ("elevador"); impressão digital em material vinil autoadesivo; acabamento em laminação fosca; instalado; inclui adequação de layout; sugere-se visita técnica para conhecimento. | E32: m² | F32: metro² | G32: 339039.63 | H32: 97.5 | J32: =I32-(SUM(L32:M32)) -> 0 | K32: =IF(J32<0,"ATENÇÃO","OK") -> OK
A33: Webergrafic Comércio de Materiais Gráficos LTDA - ME | B33: 8 | C33: 30 | D33: Crachá em cartão PVC laminado branco, impressão digital 4x1 cores, resolução mínima 300 dpi's e espessura de 0,70 a 0,80mm cantos arredondados, com perfuração entre 15 a 20mm compatível com grampo de metal tipo jacaré do cordão. | E33: 5,4 X 8,60 cm | F33: Unidade | G33: 339039.63 | H33: 5.99 | I33: 150 | J33: =I33-(SUM(L33:M33)) -> 150 | K33: =IF(J33<0,"ATENÇÃO","OK") -> OK
C34: 31 | D34: Cordão para crachá personalizado em impressão digital, com grampo de metal tipo jacaré, em 100% poliéster. | E34: 1,3 a 1,6 X 80 a 90 cm | F34: Unidade | G34: 339039.63 | H34: 2.75 | J34: =I34-(SUM(L34:M34)) -> 0 | K34: =IF(J34<0,"ATENÇÃO","OK") -> OK
A35: Ferroprint Tecnologia LTDA - ME | B35: 9 | C35: 32 | D35: Placa em PVC branco, impressão digital 4x0 cores, resolução mínima 300 dpi's e espessura de 2mm, com fixação dupla face de espuma acrílica para ambiente externo de no mínimo 20mm de largura e de no mínimo 10 cm de tamanho para cada 150g de placa. | E35: 200 X 120 cm | F35: Unidade | G35: 339039.63 | H35: 360 | J35: =I35-(SUM(L35:M35)) -> 0 | K35: =IF(J35<0,"ATENÇÃO","OK") -> OK
C36: 33 | D36: Placa em PVC branco, impressão digital 4x0 cores, resolução mínima 300 dpi's e espessura de 2mm, com fixação dupla face de espuma acrílica para ambiente interno de no mínimo 20mm de largura e de no mínimo 10 cm de tamanho para cada 150g de placa. | E36: 25 x 10 cm | F36: Unidade | G36: 339039.63 | H36: 3.75 | J36: =I36-(SUM(L36:M36)) -> 0 | K36: =IF(J36<0,"ATENÇÃO","OK") -> OK
C37: 34 | D37: Placa em PVC branco em formato "V" para ser apoiado sobre balção, impressão digital 4x0 cores, resolução mínima 300 dpi's e espessura de 2mm. | E37: 25 x 15 cm(plano) | F37: Unidade | G37: 339039.63 | H37: 35.06 | J37: =I37-(SUM(L37:M37)) -> 0 | K37: =IF(J37<0,"ATENÇÃO","OK") -> OK
A38: Webergrafic Comércio de Materiais Gráficos LTDA - ME | B38: 10 | C38: 35 | D38: Plotagem, impressão 4x0 cores, em papel sulfite de 75 g/m2 de gramatura mínima. | E38: Formato A0 ("A" Zero - 84,1 X 118,9cm) | F38: Unidade | G38: 339039.63 | H38: 73.39 | J38: =I38-(SUM(L38:M38)) -> 0 | K38: =IF(J38<0,"ATENÇÃO","OK") -> OK
C39: 36 | D39: Plotagem, impressão monocromática, em papel sulfite de 75 g/m2 de gramatura mínima. | E39: Formato A0 ("A" Zero - 84,1 X 118,9cm) | F39: Unidade | G39: 339039.63 | H39: 73.38 | J39: =I39-(SUM(L39:M39)) -> 0 | K39: =IF(J39<0,"ATENÇÃO","OK") -> OK
A40: Webergrafic Comércio de Materiais Gráficos LTDA - ME | B40: 11 | C40: 37 | D40: Adesivo em vinil transparente para vidro de carro, impressão digital 4x0 cores, resolução mínima 300 dpi's e 26 a 30 g/m² de gramatura mínima de cola; acabamento corte especial a faca (adesivo circular). | E40: Diametro de 8cm | F40: Unidade | G40: 339039.63 | H40: 3 | J40: =I40-(SUM(L40:M40)) -> 0 | K40: =IF(J40<0,"ATENÇÃO","OK") -> OK
...

Sheet Biblioteca
A1: PROCESSO: 0354/2015/UDESC | D1: OBJETO: SERVIÇOS GRÁFICOS PARA A UDESC | I1: VIGÊNCIA DA ATA: 01/07/2015 até 30/06/2016 | L1: OS nº 1760/2015 Qtde. DT
A2: CENTRO PARTICIPANTE: Biblioteca
A3: FORNECEDOR | B3: LOTE | C3: ITEM | D3: PRODUTO - CARACTERÍSTICAS MÍNIMAS | E3: Dimensões | F3: Unidade | G3: DETALHAMENTO | H3: Preço UNITÁRIO (R$) | I3: Qtde Registrada | J3: Saldo / Automático | K3: ALERTA | L3: 42276
A4: Seriprint Comunicação Visual LTDA - ME | B4: 1 | C4: 1 | D4: Banner em lona, impressão digital 4x0 cores, resolução mínima 720 dpi's e 280 g/m² de gramatura mínima; e suporte: 1) em madeira em duas das menores extremidades e acabamento com ponteira de PVC (grampeada) e corda trançada de no mínimo 4mm e de resistência suficiente e compatível com o banner; ou 2) com ilhóses dispostos de 20 em 20 cm, em ferro ou alumínio e de diâmetro compatível com a corda utilizada - corda trançada de no mínimo 4mm e de resistência suficiente e compatível com o banner. | E4: 50 X 70 cm | F4: Unidade | G4: 339039.63 | H4: 10.3 | I4: 4 | J4: =I4-(SUM(L4:L4)) -> 4 | K4: =IF(J4<0,"ATENÇÃO","OK") -> OK
C5: 2 | E5: 90 X 150 cm | F5: Unidade | G5: 339039.63 | H5: 36.2 | I5: 1 | J5: =I5-(SUM(L5:L5)) -> 1 | K5: =IF(J5<0,"ATENÇÃO","OK") -> OK
C6: 3 | E6: 90 X 120 cm | F6: Unidade | G6: 339039.63 | H6: 33 | I6: 1 | J6: =I6-(SUM(L6:L6)) -> 1 | K6: =IF(J6<0,"ATENÇÃO","OK") -> OK
C7: 4 | E7: 110 X 150 cm | F7: Unidade | G7: 339039.63 | H7: 39 | I7: 1 | J7: =I7-(SUM(L7:L7)) -> 1 | K7: =IF(J7<0,"ATENÇÃO","OK") -> OK
C8: 5 | E8: 130 X 180 cm | F8: Unidade | G8: 339039.63 | H8: 52.3 | I8: 1 | J8: =I8-(SUM(L8:L8)) -> 1 | K8: =IF(J8<0,"ATENÇÃO","OK") -> OK
C9: 6 | E9: 50 X 300 cm | F9: Unidade | G9: 339039.63 | H9: 34 | I9: 1 | J9: =I9-(SUM(L9:L9)) -> 1 | K9: =IF(J9<0,"ATENÇÃO","OK") -> OK
C10: 7 | E10: 70 X 400 cm | F10: Unidade | G10: 339039.63 | H10: 59 | I10: 1 | J10: =I10-(SUM(L10:L10)) -> 1 | K10: =IF(J10<0,"ATENÇÃO","OK") -> OK
C11: 8 | E11: 140 cm X metro linear | F11: metro | G11: 339039.63 | H11: 26 | I11: 1 | J11: =I11-(SUM(L11:L11)) -> 1 | K11: =IF(J11<0,"ATENÇÃO","OK") -> OK
C12: 9 | E12: 80 X 110 cm | F12: Unidade | G12: 339039.63 | H12: 29.3 | I12: 1 | J12: =I12-(SUM(L12:L12)) -> 1 | K12: =IF(J12<0,"ATENÇÃO","OK") -> OK
C13: 10 | E13: 80 X 120 cm | F13: Unidade | G13: 339039.63 | H13: 30 | I13: 1 | J13: =I13-(SUM(L13:L13)) -> 1 | K13: =IF(J13<0,"ATENÇÃO","OK") -> OK
C14: 11 | E14: 90 X 110 cm | F14: Unidade | G14: 339039.63 | H14: 25 | I14: 1 | J14: =I14-(SUM(L14:L14)) -> 1 | K14: =IF(J14<0,"ATENÇÃO","OK") -> OK
C15: 12 | D15: Frontlight em lona, impressão digital 4x0 cores, resolução mínima 1200 dpi's e 440 g/m² de gramatura mínima; fixado com ilhóses dispostos de 20 em 20 cm, em ferro ou alumínio e de diâmetro compatível com a corda utilizada - corda trançada de no mínimo 4mm e de resistência suficiente e compatível com o frontlight. | E15: 320 cm X metro linear | F15: metro | G15: 339039.63 | H15: 65 | I15: 1 | J15: =I15-(SUM(L15:L15)) -> 1 | K15: =IF(J15<0,"ATENÇÃO","OK") -> OK
C16: 13 | E16: 650 X 150 cm | F16: Unidade | G16: 339039.63 | H16: 189.86 | I16: 1 | J16: =I16-(SUM(L16:L16)) -> 1 | K16: =IF(J16<0,"ATENÇÃO","OK") -> OK
C17: 14 | E17: 250 X 120 cm | F17: Unidade | G17: 339039.63 | H17: 73 | I17: 2 | J17: =I17-(SUM(L17:L17)) -> 2 | K17: =IF(J17<0,"ATENÇÃO","OK") -> OK
A18: Webergrafic Comércio de Materiais Gráficos LTDA - ME | B18: 2 | C18: 15 | D18: Banner em papel fotográfico com laminação brilhante, resolução mínima de 600 dpi's e 280g/m² de gramatura mínima, suporte em plástico em duas das menores extremidades e corda de no mínimo 1mm e de resistência suficiente e compatível com o banner. | E18: 90 cm X metro linear | F18: metro | G18: 339039.63 | H18: 49.5 | I18: 1 | J18: =I18-(SUM(L18:L18)) -> 1 | K18: =IF(J18<0,"ATENÇÃO","OK") -> OK
A19: Webergrafic Comércio de Materiais Gráficos LTDA - ME | B19: 3 | C19: 16 | D19: Banner em tecido. Impressão digital em tecido. Policromia: 4 x 0 cores. Resolução mínima de 1200 dpi´s. Acabamento em madeira (cabo redondo) nas duas extremidades menores, sendo encaixado internamente na costura do tecido para fechamento escondendo o varão, com ponteiras em PVC e corda trançada de no mínimo 4 mm e com resistência suficiente para sustentar o banner de tecido. | E19: 90 cm x metro linear | F19: metro | G19: 339039.63 | H19: 40.19 | I19: 1 | J19: =I19-(SUM(L19:L19)) -> 1 | K19: =IF(J19<0,"ATENÇÃO","OK") -> OK
A20: Webergrafic Comércio de Materiais Gráficos LTDA - ME | B20: 4 | C20: 17 | D20: Frontlight em lona, impressão digital 4x0 cores, resolução mínima 1200 dpi's e 440 g/m² de gramatura mínima; fixado com ilhóses dispostos de 20 em 20 cm, em ferro ou alumínio e de diâmetro compatível com a corda utilizada - corda trançada de no mínimo 4mm e de resistência suficiente e compatível com o frontlight. INSTALADO E RETIRADA. | E20: 255 X 275 cm | F20: Unidade | G20: 339039.63 | H20: 429.72 | I20: 4 | J20: =I20-(SUM(L20:L20)) -> 4 | K20: =IF(J20<0,"ATENÇÃO","OK") -> OK
C21: 18 | E21: 295 X 875 cm | F21: Unidade | G21: 339039.63 | H21: 1055.06 | I21: 4 | J21: =I21-(SUM(L21:L21)) -> 4 | K21: =IF(J21<0,"ATENÇÃO","OK") -> OK
C22: 19 | E22: 310 X 914 cm | F22: Unidade | G22: 339039.63 | H22: 1157.2 | I22: 4 | J22: =I22-(SUM(L22:L22)) -> 4 | K22: =IF(J22<0,"ATENÇÃO","OK") -> OK
A23: Webergrafic Comércio de Materiais Gráficos LTDA - ME | B23: 5 | C23: 20 | D23: Adesivo perfurado para vidro traseiro de automóveis, impressão digital 4x0 cores, resolução mínima 720 dpi's; com no mínimo 40% de transmissão luminosa (nos termos da RES 254/2007 CONTRAN). | E23: 35 X 90 cm | F23: Unidade | G23: 339039.63 | H23: 11.33 | J23: =I23-(SUM(L23:L23)) -> 0 | K23: =IF(J23<0,"ATENÇÃO","OK") -> OK
A24: Webergrafic Comércio de Materiais Gráficos LTDA - ME | B24: 6 | C24: 21 | D24: Adesivo em vinil, impressão digital 4x0 cores, resolução mínima 300 dpi's e 26 a 30 g/m² de gramatura mínima de cola; acabamento meio corte especial com faca. | E24: 7 X 9 cm | F24: Unidade | G24: 339039.63 | H24: 0.4 | J24: =I24-(SUM(L24:L24)) -> 0 | K24: =IF(J24<0,"ATENÇÃO","OK") -> OK
C25: 22 | D25: Adesivo em vinil transparente para vidro, impressão digital 4x0 cores, resolução mínima 300 dpi's e 26 a 30 g/m² de gramatura mínima de cola; acabamento corte reto. | E25: 5 X 20 cm | F25: Unidade | G25: 339039.63 | H25: 0.5 | J25: =I25-(SUM(L25:L25)) -> 0 | K25: =IF(J25<0,"ATENÇÃO","OK") -> OK
C26: 23 | E26: 10 X 25 cm | F26: Unidade | G26: 339039.63 | H26: 1.27 | J26: =I26-(SUM(L26:L26)) -> 0 | K26: =IF(J26<0,"ATENÇÃO","OK") -> OK
C27: 24 | D27: Adesivo em vinil resistente a água e cloro, próprio para áreas com piscinas, impressão digital 4x0 cores, resolução mínima 300 dpi's e 26 a 30 g/m2 de gramatura mínima de cola; acabamento corte reto. | E27: 5 X 20 cm | F27: Unidade | G27: 339039.63 | H27: 0.5 | J27: =I27-(SUM(L27:L27)) -> 0 | K27: =IF(J27<0,"ATENÇÃO","OK") -> OK
C28: 25 | E28: 10 X 25 cm | F28: Unidade | G28: 339039.63 | H28: 1.27 | J28: =I28-(SUM(L28:L28)) -> 0 | K28: =IF(J28<0,"ATENÇÃO","OK") -> OK
C29: 26 | D29: Adesivo recortado em vinil colorido (cores diversas a escolher), para adesivagem. | E29: 90 cm x metro linear | F29: metro | G29: 339039.63 | H29: 38.16 | J29: =I29-(SUM(L29:L29)) -> 0 | K29: =IF(J29<0,"ATENÇÃO","OK") -> OK
C30: 27 | D30: Adesivo em vinil, impressão digital 4x0 cores, resolução mínima 300 dpi's e 26 a 30 g/m² de gramatura mínima de cola; acabamento meio corte especial com faca. | E30: 75 cm X metro linear | F30: metro | G30: 339039.63 | H30: 44.5 | J30: =I30-(SUM(L30:L30)) -> 0 | K30: =IF(J30<0,"ATENÇÃO","OK") -> OK
C31: 28 | D31: Adesivo em vinil resistente a água e cloro, próprio para áreas com piscinas, impressão digital 4x0 cores, resolução mínima 300 dpi's e 26 a 30 g/m2 de gramatura mínima de cola; acabamento corte reto. | E31: 15 cm X metro linear | F31: metro | G31: 339039.63 | H31: 37.03 | J31: =I31-(SUM(L31:L31)) -> 0 | K31: =IF(J31<0,"ATENÇÃO","OK") -> OK
A32: Webergrafic Comércio de Materiais Gráficos LTDA - ME | B32: 7 | C32: 29 | D32: Adesivo com impressão digital em caixa metálica de plataforma elevatória ("elevador"); impressão digital em material vinil autoadesivo; acabamento em laminação fosca; instalado; inclui adequação de layout; sugere-se visita técnica para conhecimento. | E32: m² | F32: metro² | G32: 339039.63 | H32: 97.5 | J32: =I32-(SUM(L32:L32)) -> 0 | K32: =IF(J32<0,"ATENÇÃO","OK") -> OK
A33: Webergrafic Comércio de Materiais Gráficos LTDA - ME | B33: 8 | C33: 30 | D33: Crachá em cartão PVC laminado branco, impressão digital 4x1 cores, resolução mínima 300 dpi's e espessura de 0,70 a 0,80mm cantos arredondados, com perfuração entre 15 a 20mm compatível com grampo de metal tipo jacaré do cordão. | E33: 5,4 X 8,60 cm | F33: Unidade | G33: 339039.63 | H33: 5.99 | J33: =I33-(SUM(L33:L33)) -> 0 | K33: =IF(J33<0,"ATENÇÃO","OK") -> OK
C34: 31 | D34: Cordão para crachá personalizado em impressão digital, com grampo de metal tipo jacaré, em 100% poliéster. | E34: 1,3 a 1,6 X 80 a 90 cm | F34: Unidade | G34: 339039.63 | H34: 2.75 | J34: =I34-(SUM(L34:L34)) -> 0 | K34: =IF(J34<0,"ATENÇÃO","OK") -> OK
A35: Ferroprint Tecnologia LTDA - ME | B35: 9 | C35: 32 | D35: Placa em PVC branco, impressão digital 4x0 cores, resolução mínima 300 dpi's e espessura de 2mm, com fixação dupla face de espuma acrílica para ambiente externo de no mínimo 20mm de largura e de no mínimo 10 cm de tamanho para cada 150g de placa. | E35: 200 X 120 cm | F35: Unidade | G35: 339039.63 | H35: 360 | J35: =I35-(SUM(L35:L35)) -> 0 | K35: =IF(J35<0,"ATENÇÃO","OK") -> OK
C36: 33 | D36: Placa em PVC branco, impressão digital 4x0 cores, resolução mínima 300 dpi's e espessura de 2mm, com fixação dupla face de espuma acrílica para ambiente interno de no mínimo 20mm de largura e de no mínimo 10 cm de tamanho para cada 150g de placa. | E36: 25 x 10 cm | F36: Unidade | G36: 339039.63 | H36: 3.75 | J36: =I36-(SUM(L36:L36)) -> 0 | K36: =IF(J36<0,"ATENÇÃO","OK") -> OK
C37: 34 | D37: Placa em PVC branco em formato "V" para ser apoiado sobre balção, impressão digital 4x0 cores, resolução mínima 300 dpi's e espessura de 2mm. | E37: 25 x 15 cm(plano) | F37: Unidade | G37: 339039.63 | H37: 35.06 | J37: =I37-(SUM(L37:L37)) -> 0 | K37: =IF(J37<0,"ATENÇÃO","OK") -> OK
A38: Webergrafic Comércio de Materiais Gráficos LTDA - ME | B38: 10 | C38: 35 | D38: Plotagem, impressão 4x0 cores, em papel sulfite de 75 g/m2 de gramatura mínima. | E38: Formato A0 ("A" Zero - 84,1 X 118,9cm) | F38: Unidade | G38: 339039.63 | H38: 73.39 | J38: =I38-(SUM(L38:L38)) -> 0 | K38: =IF(J38<0,"ATENÇÃO","OK") -> OK
C39: 36 | D39: Plotagem, impressão monocromática, em papel sulfite de 75 g/m2 de gramatura mínima. | E39: Formato A0 ("A" Zero - 84,1 X 118,9cm) | F39: Unidade | G39: 339039.63 | H39: 73.38 | J39: =I39-(SUM(L39:L39)) -> 0 | K39: =IF(J39<0,"ATENÇÃO","OK") -> OK
A40: Webergrafic Comércio de Materiais Gráficos LTDA - ME | B40: 11 | C40: 37 | D40: Adesivo em vinil transparente para vidro de carro, impressão digital 4x0 cores, resolução mínima 300 dpi's e 26 a 30 g/m² de gramatura mínima de cola; acabamento corte especial a faca (adesivo circular). | E40: Diametro de 8cm | F40: Unidade | G40: 339039.63 | H40: 3 | J40: =I40-(SUM(L40:L40)) -> 0 | K40: =IF(J40<0,"ATENÇÃO","OK") -> OK
...

Sheet PROEX
A1: PROCESSO: 0354/2015/UDESC | D1: OBJETO: SERVIÇOS GRÁFICOS PARA A UDESC | I1: VIGÊNCIA DA ATA: 01/07/2015 até 30/06/2016 | L1: OS nº 1151/2015 Qtde. DT | M1: OS nº 2180/2015 Qtde. DT | N1: OS nº 244/2016 Qtde. DT | O1: OS nº 669/2016 Qtde. DT | P1: OS nº 487/2016 Qtde. DT
A2: CENTRO PARTICIPANTE: PROEX
A3: FORNECEDOR | B3: LOTE | C3: ITEM | D3: PRODUTO - CARACTERÍSTICAS MÍNIMAS | E3: Dimensões | F3: Unidade | G3: DETALHAMENTO | H3: Preço UNITÁRIO (R$) | I3: Qtde Registrada | J3: Saldo / Automático | K3: ALERTA | L3: 42192 | M3: 42324 | N3: 42444 | O3: 42536 | P3: 42550
A4: Seriprint Comunicação Visual LTDA - ME | B4: 1 | C4: 1 | D4: Banner em lona, impressão digital 4x0 cores, resolução mínima 720 dpi's e 280 g/m² de gramatura mínima; e suporte: 1) em madeira em duas das menores extremidades e acabamento com ponteira de PVC (grampeada) e corda trançada de no mínimo 4mm e de resistência suficiente e compatível com o banner; ou 2) com ilhóses dispostos de 20 em 20 cm, em ferro ou alumínio e de diâmetro compatível com a corda utilizada - corda trançada de no mínimo 4mm e de resistência suficiente e compatível com o banner. | E4: 50 X 70 cm | F4: Unidade | G4: 339039.63 | H4: 10.3 | I4: 50 | J4: =I4-(SUM(L4:P4)) -> 50 | K4: =IF(J4<0,"ATENÇÃO","OK") -> OK
C5: 2 | E5: 90 X 150 cm | F5: Unidade | G5: 339039.63 | H5: 36.2 | J5: =I5-(SUM(L5:P5)) -> 0 | K5: =IF(J5<0,"ATENÇÃO","OK") -> OK
C6: 3 | E6: 90 X 120 cm | F6: Unidade | G6: 339039.63 | H6: 33 | I6: 410 | J6: =I6-(SUM(L6:P6)) -> 70 | K6: =IF(J6<0,"ATENÇÃO","OK") -> OK | L6: 250 | N6: 40 | P6: 50
C7: 4 | E7: 110 X 150 cm | F7: Unidade | G7: 339039.63 | H7: 39 | I7: 50 | J7: =I7-(SUM(L7:P7)) -> 32 | K7: =IF(J7<0,"ATENÇÃO","OK") -> OK | P7: 18
C8: 5 | E8: 130 X 180 cm | F8: Unidade | G8: 339039.63 | H8: 52.3 | I8: 55 | J8: =I8-(SUM(L8:P8)) -> 55 | K8: =IF(J8<0,"ATENÇÃO","OK") -> OK
C9: 6 | E9: 50 X 300 cm | F9: Unidade | G9: 339039.63 | H9: 34 | I9: 10 | J9: =I9-(SUM(L9:P9)) -> 10 | K9: =IF(J9<0,"ATENÇÃO","OK") -> OK
C10: 7 | E10: 70 X 400 cm | F10: Unidade | G10: 339039.63 | H10: 59 | I10: 10 | J10: =I10-(SUM(L10:P10)) -> 10 | K10: =IF(J10<0,"ATENÇÃO","OK") -> OK
C11: 8 | E11: 140 cm X metro linear | F11: metro | G11: 339039.63 | H11: 26 | I11: 30 | J11: =I11-(SUM(L11:P11)) -> 30 | K11: =IF(J11<0,"ATENÇÃO","OK") -> OK
C12: 9 | E12: 80 X 110 cm | F12: Unidade | G12: 339039.63 | H12: 29.3 | J12: =I12-(SUM(L12:P12)) -> 0 | K12: =IF(J12<0,"ATENÇÃO","OK") -> OK
C13: 10 | E13: 80 X 120 cm | F13: Unidade | G13: 339039.63 | H13: 30 | J13: =I13-(SUM(L13:P13)) -> 0 | K13: =IF(J13<0,"ATENÇÃO","OK") -> OK
C14: 11 | E14: 90 X 110 cm | F14: Unidade | G14: 339039.63 | H14: 25 | J14: =I14-(SUM(L14:P14)) -> 0 | K14: =IF(J14<0,"ATENÇÃO","OK") -> OK
C15: 12 | D15: Frontlight em lona, impressão digital 4x0 cores, resolução mínima 1200 dpi's e 440 g/m² de gramatura mínima; fixado com ilhóses dispostos de 20 em 20 cm, em ferro ou alumínio e de diâmetro compatível com a corda utilizada - corda trançada de no mínimo 4mm e de resistência suficiente e compatível com o frontlight. | E15: 320 cm X metro linear | F15: metro | G15: 339039.63 | H15: 65 | I15: 30 | J15: =I15-(SUM(L15:P15)) -> 30 | K15: =IF(J15<0,"ATENÇÃO","OK") -> OK
C16: 13 | E16: 650 X 150 cm | F16: Unidade | G16: 339039.63 | H16: 189.86 | J16: =I16-(SUM(L16:P16)) -> 0 | K16: =IF(J16<0,"ATENÇÃO","OK") -> OK
C17: 14 | E17: 250 X 120 cm | F17: Unidade | G17: 339039.63 | H17: 73 | J17: =I17-(SUM(L17:P17)) -> 0 | K17: =IF(J17<0,"ATENÇÃO","OK") -> OK
A18: Webergrafic Comércio de Materiais Gráficos LTDA - ME | B18: 2 | C18: 15 | D18: Banner em papel fotográfico com laminação brilhante, resolução mínima de 600 dpi's e 280g/m² de gramatura mínima, suporte em plástico em duas das menores extremidades e corda de no mínimo 1mm e de resistência suficiente e compatível com o banner. | E18: 90 cm X metro linear | F18: metro | G18: 339039.63 | H18: 49.5 | I18: 53 | J18: =I18-(SUM(L18:P18)) -> 53 | K18: =IF(J18<0,"ATENÇÃO","OK") -> OK
A19: Webergrafic Comércio de Materiais Gráficos LTDA - ME | B19: 3 | C19: 16 | D19: Banner em tecido. Impressão digital em tecido. Policromia: 4 x 0 cores. Resolução mínima de 1200 dpi´s. Acabamento em madeira (cabo redondo) nas duas extremidades menores, sendo encaixado internamente na costura do tecido para fechamento escondendo o varão, com ponteiras em PVC e corda trançada de no mínimo 4 mm e com resistência suficiente para sustentar o banner de tecido. | E19: 90 cm x metro linear | F19: metro | G19: 339039.63 | H19: 40.19 | J19: =I19-(SUM(L19:P19)) -> 0 | K19: =IF(J19<0,"ATENÇÃO","OK") -> OK
A20: Webergrafic Comércio de Materiais Gráficos LTDA - ME | B20: 4 | C20: 17 | D20: Frontlight em lona, impressão digital 4x0 cores, resolução mínima 1200 dpi's e 440 g/m² de gramatura mínima; fixado com ilhóses dispostos de 20 em 20 cm, em ferro ou alumínio e de diâmetro compatível com a corda utilizada - corda trançada de no mínimo 4mm e de resistência suficiente e compatível com o frontlight. INSTALADO E RETIRADA. | E20: 255 X 275 cm | F20: Unidade | G20: 339039.63 | H20: 429.72 | J20: =I20-(SUM(L20:P20)) -> 0 | K20: =IF(J20<0,"ATENÇÃO","OK") -> OK
C21: 18 | E21: 295 X 875 cm | F21: Unidade | G21: 339039.63 | H21: 1055.06 | J21: =I21-(SUM(L21:P21)) -> 0 | K21: =IF(J21<0,"ATENÇÃO","OK") -> OK
C22: 19 | E22: 310 X 914 cm | F22: Unidade | G22: 339039.63 | H22: 1157.2 | J22: =I22-(SUM(L22:P22)) -> 0 | K22: =IF(J22<0,"ATENÇÃO","OK") -> OK
A23: Webergrafic Comércio de Materiais Gráficos LTDA - ME | B23: 5 | C23: 20 | D23: Adesivo perfurado para vidro traseiro de automóveis, impressão digital 4x0 cores, resolução mínima 720 dpi's; com no mínimo 40% de transmissão luminosa (nos termos da RES 254/2007 CONTRAN). | E23: 35 X 90 cm | F23: Unidade | G23: 339039.63 | H23: 11.33 | J23: =I23-(SUM(L23:P23)) -> 0 | K23: =IF(J23<0,"ATENÇÃO","OK") -> OK
A24: Webergrafic Comércio de Materiais Gráficos LTDA - ME | B24: 6 | C24: 21 | D24: Adesivo em vinil, impressão digital 4x0 cores, resolução mínima 300 dpi's e 26 a 30 g/m² de gramatura mínima de cola; acabamento meio corte especial com faca. | E24: 7 X 9 cm | F24: Unidade | G24: 339039.63 | H24: 0.4 | I24: 1000 | J24: =I24-(SUM(L24:P24)) -> 1000 | K24: =IF(J24<0,"ATENÇÃO","OK") -> OK
C25: 22 | D25: Adesivo em vinil transparente para vidro, impressão digital 4x0 cores, resolução mínima 300 dpi's e 26 a 30 g/m² de gramatura mínima de cola; acabamento corte reto. | E25: 5 X 20 cm | F25: Unidade | G25: 339039.63 | H25: 0.5 | J25: =I25-(SUM(L25:P25)) -> 0 | K25: =IF(J25<0,"ATENÇÃO","OK") -> OK
C26: 23 | E26: 10 X 25 cm | F26: Unidade | G26: 339039.63 | H26: 1.27 | J26: =I26-(SUM(L26:P26)) -> 0 | K26: =IF(J26<0,"ATENÇÃO","OK") -> OK
C27: 24 | D27: Adesivo em vinil resistente a água e cloro, próprio para áreas com piscinas, impressão digital 4x0 cores, resolução mínima 300 dpi's e 26 a 30 g/m2 de gramatura mínima de cola; acabamento corte reto. | E27: 5 X 20 cm | F27: Unidade | G27: 339039.63 | H27: 0.5 | I27: 500 | J27: =I27-(SUM(L27:P27)) -> 500 | K27: =IF(J27<0,"ATENÇÃO","OK") -> OK
C28: 25 | E28: 10 X 25 cm | F28: Unidade | G28: 339039.63 | H28: 1.27 | J28: =I28-(SUM(L28:P28)) -> 0 | K28: =IF(J28<0,"ATENÇÃO","OK") -> OK
C29: 26 | D29: Adesivo recortado em vinil colorido (cores diversas a escolher), para adesivagem. | E29: 90 cm x metro linear | F29: metro | G29: 339039.63 | H29: 38.16 | J29: =I29-(SUM(L29:P29)) -> 0 | K29: =IF(J29<0,"ATENÇÃO","OK") -> OK
C30: 27 | D30: Adesivo em vinil, impressão digital 4x0 cores, resolução mínima 300 dpi's e 26 a 30 g/m² de gramatura mínima de cola; acabamento meio corte especial com faca. | E30: 75 cm X metro linear | F30: metro | G30: 339039.63 | H30: 44.5 | J30: =I30-(SUM(L30:P30)) -> 0 | K30: =IF(J30<0,"ATENÇÃO","OK") -> OK
C31: 28 | D31: Adesivo em vinil resistente a água e cloro, próprio para áreas com piscinas, impressão digital 4x0 cores, resolução mínima 300 dpi's e 26 a 30 g/m2 de gramatura mínima de cola; acabamento corte reto. | E31: 15 cm X metro linear | F31: metro | G31: 339039.63 | H31: 37.03 | J31: =I31-(SUM(L31:P31)) -> 0 | K31: =IF(J31<0,"ATENÇÃO","OK") -> OK
A32: Webergrafic Comércio de Materiais Gráficos LTDA - ME | B32: 7 | C32: 29 | D32: Adesivo com impressão digital em caixa metálica de plataforma elevatória ("elevador"); impressão digital em material vinil autoadesivo; acabamento em laminação fosca; instalado; inclui adequação de layout; sugere-se visita técnica para conhecimento. | E32: m² | F32: metro² | G32: 339039.63 | H32: 97.5 | J32: =I32-(SUM(L32:P32)) -> 0 | K32: =IF(J32<0,"ATENÇÃO","OK") -> OK
A33: Webergrafic Comércio de Materiais Gráficos LTDA - ME | B33: 8 | C33: 30 | D33: Crachá em cartão PVC laminado branco, impressão digital 4x1 cores, resolução mínima 300 dpi's e espessura de 0,70 a 0,80mm cantos arredondados, com perfuração entre 15 a 20mm compatível com grampo de metal tipo jacaré do cordão. | E33: 5,4 X 8,60 cm | F33: Unidade | G33: 339039.63 | H33: 5.99 | J33: =I33-(SUM(L33:P33)) -> 0 | K33: =IF(J33<0,"ATENÇÃO","OK") -> OK
C34: 31 | D34: Cordão para crachá personalizado em impressão digital, com grampo de metal tipo jacaré, em 100% poliéster. | E34: 1,3 a 1,6 X 80 a 90 cm | F34: Unidade | G34: 339039.63 | H34: 2.75 | J34: =I34-(SUM(L34:P34)) -> 0 | K34: =IF(J34<0,"ATENÇÃO","OK") -> OK
A35: Ferroprint Tecnologia LTDA - ME | B35: 9 | C35: 32 | D35: Placa em PVC branco, impressão digital 4x0 cores, resolução mínima 300 dpi's e espessura de 2mm, com fixação dupla face de espuma acrílica para ambiente externo de no mínimo 20mm de largura e de no mínimo 10 cm de tamanho para cada 150g de placa. | E35: 200 X 120 cm | F35: Unidade | G35: 339039.63 | H35: 360 | I35: 20 | J35: =I35-(SUM(L35:P35)) -> 18 | K35: =IF(J35<0,"ATENÇÃO","OK") -> OK | O35: 2
C36: 33 | D36: Placa em PVC branco, impressão digital 4x0 cores, resolução mínima 300 dpi's e espessura de 2mm, com fixação dupla face de espuma acrílica para ambiente interno de no mínimo 20mm de largura e de no mínimo 10 cm de tamanho para cada 150g de placa. | E36: 25 x 10 cm | F36: Unidade | G36: 339039.63 | H36: 3.75 | J36: =I36-(SUM(L36:P36)) -> 0 | K36: =IF(J36<0,"ATENÇÃO","OK") -> OK
C37: 34 | D37: Placa em PVC branco em formato "V" para ser apoiado sobre balção, impressão digital 4x0 cores, resolução mínima 300 dpi's e espessura de 2mm. | E37: 25 x 15 cm(plano) | F37: Unidade | G37: 339039.63 | H37: 35.06 | I37: =9 -> 9 | J37: =I37-(SUM(L37:P37)) -> 0 | K37: =IF(J37<0,"ATENÇÃO","OK") -> OK | M37: 9
A38: Webergrafic Comércio de Materiais Gráficos LTDA - ME | B38: 10 | C38: 35 | D38: Plotagem, impressão 4x0 cores, em papel sulfite de 75 g/m2 de gramatura mínima. | E38: Formato A0 ("A" Zero - 84,1 X 118,9cm) | F38: Unidade | G38: 339039.63 | H38: 73.39 | I38: 36 | J38: =I38-(SUM(L38:P38)) -> 36 | K38: =IF(J38<0,"ATENÇÃO","OK") -> OK
C39: 36 | D39: Plotagem, impressão monocromática, em papel sulfite de 75 g/m2 de gramatura mínima. | E39: Formato A0 ("A" Zero - 84,1 X 118,9cm) | F39: Unidade | G39: 339039.63 | H39: 73.38 | J39: =I39-(SUM(L39:P39)) -> 0 | K39: =IF(J39<0,"ATENÇÃO","OK") -> OK
A40: Webergrafic Comércio de Materiais Gráficos LTDA - ME | B40: 11 | C40: 37 | D40: Adesivo em vinil transparente para vidro de carro, impressão digital 4x0 cores, resolução mínima 300 dpi's e 26 a 30 g/m² de gramatura mínima de cola; acabamento corte especial a faca (adesivo circular). | E40: Diametro de 8cm | F40: Unidade | G40: 339039.63 | H40: 3 | J40: =I40-(SUM(L40:P40)) -> 0 | K40: =IF(J40<0,"ATENÇÃO","OK") -> OK
...

Sheet Museu
A1: PROCESSO: 0354/2015/UDESC | D1: OBJETO: SERVIÇOS GRÁFICOS PARA A UDESC | I1: VIGÊNCIA DA ATA: 01/07/2015 até 30/06/2016 | L1: AF/OS nº xxxx/2015 Qtde. DT | M1: AF/OS nº xxxx/2015 Qtde. DT
A2: CENTRO PARTICIPANTE: Museu
A3: FORNECEDOR | B3: LOTE | C3: ITEM | D3: PRODUTO - CARACTERÍSTICAS MÍNIMAS | E3: Dimensões | F3: Unidade | G3: DETALHAMENTO | H3: Preço UNITÁRIO (R$) | I3: Qtde Registrada | J3: Saldo / Automático | K3: ALERTA | L3: ...../...../...... | M3: ...../...../......
A4: Seriprint Comunicação Visual LTDA - ME | B4: 1 | C4: 1 | D4: Banner em lona, impressão digital 4x0 cores, resolução mínima 720 dpi's e 280 g/m² de gramatura mínima; e suporte: 1) em madeira em duas das menores extremidades e acabamento com ponteira de PVC (grampeada) e corda trançada de no mínimo 4mm e de resistência suficiente e compatível com o banner; ou 2) com ilhóses dispostos de 20 em 20 cm, em ferro ou alumínio e de diâmetro compatível com a corda utilizada - corda trançada de no mínimo 4mm e de resistência suficiente e compatível com o banner. | E4: 50 X 70 cm | F4: Unidade | G4: 339039.63 | H4: 10.3 | J4: =I4-(SUM(L4:M4)) -> 0 | K4: =IF(J4<0,"ATENÇÃO","OK") -> OK
C5: 2 | E5: 90 X 150 cm | F5: Unidade | G5: 339039.63 | H5: 36.2 | I5: 5 | J5: =I5-(SUM(L5:M5)) -> 5 | K5: =IF(J5<0,"ATENÇÃO","OK") -> OK
C6: 3 | E6: 90 X 120 cm | F6: Unidade | G6: 339039.63 | H6: 33 | I6: 5 | J6: =I6-(SUM(L6:M6)) -> 5 | K6: =IF(J6<0,"ATENÇÃO","OK") -> OK
C7: 4 | E7: 110 X 150 cm | F7: Unidade | G7: 339039.63 | H7: 39 | J7: =I7-(SUM(L7:M7)) -> 0 | K7: =IF(J7<0,"ATENÇÃO","OK") -> OK
C8: 5 | E8: 130 X 180 cm | F8: Unidade | G8: 339039.63 | H8: 52.3 | J8: =I8-(SUM(L8:M8)) -> 0 | K8: =IF(J8<0,"ATENÇÃO","OK") -> OK
C9: 6 | E9: 50 X 300 cm | F9: Unidade | G9: 339039.63 | H9: 34 | J9: =I9-(SUM(L9:M9)) -> 0 | K9: =IF(J9<0,"ATENÇÃO","OK") -> OK
C10: 7 | E10: 70 X 400 cm | F10: Unidade | G10: 339039.63 | H10: 59 | I10: 2 | J10: =I10-(SUM(L10:M10)) -> 2 | K10: =IF(J10<0,"ATENÇÃO","OK") -> OK
C11: 8 | E11: 140 cm X metro linear | F11: metro | G11: 339039.63 | H11: 26 | J11: =I11-(SUM(L11:M11)) -> 0 | K11: =IF(J11<0,"ATENÇÃO","OK") -> OK
C12: 9 | E12: 80 X 110 cm | F12: Unidade | G12: 339039.63 | H12: 29.3 | J12: =I12-(SUM(L12:M12)) -> 0 | K12: =IF(J12<0,"ATENÇÃO","OK") -> OK
C13: 10 | E13: 80 X 120 cm | F13: Unidade | G13: 339039.63 | H13: 30 | J13: =I13-(SUM(L13:M13)) -> 0 | K13: =IF(J13<0,"ATENÇÃO","OK") -> OK
C14: 11 | E14: 90 X 110 cm | F14: Unidade | G14: 339039.63 | H14: 25 | J14: =I14-(SUM(L14:M14)) -> 0 | K14: =IF(J14<0,"ATENÇÃO","OK") -> OK
C15: 12 | D15: Frontlight em lona, impressão digital 4x0 cores, resolução mínima 1200 dpi's e 440 g/m² de gramatura mínima; fixado com ilhóses dispostos de 20 em 20 cm, em ferro ou alumínio e de diâmetro compatível com a corda utilizada - corda trançada de no mínimo 4mm e de resistência suficiente e compatível com o frontlight. | E15: 320 cm X metro linear | F15: metro | G15: 339039.63 | H15: 65 | J15: =I15-(SUM(L15:M15)) -> 0 | K15: =IF(J15<0,"ATENÇÃO","OK") -> OK
C16: 13 | E16: 650 X 150 cm | F16: Unidade | G16: 339039.63 | H16: 189.86 | J16: =I16-(SUM(L16:M16)) -> 0 | K16: =IF(J16<0,"ATENÇÃO","OK") -> OK
C17: 14 | E17: 250 X 120 cm | F17: Unidade | G17: 339039.63 | H17: 73 | J17: =I17-(SUM(L17:M17)) -> 0 | K17: =IF(J17<0,"ATENÇÃO","OK") -> OK
A18: Webergrafic Comércio de Materiais Gráficos LTDA - ME | B18: 2 | C18: 15 | D18: Banner em papel fotográfico com laminação brilhante, resolução mínima de 600 dpi's e 280g/m² de gramatura mínima, suporte em plástico em duas das menores extremidades e corda de no mínimo 1mm e de resistência suficiente e compatível com o banner. | E18: 90 cm X metro linear | F18: metro | G18: 339039.63 | H18: 49.5 | J18: =I18-(SUM(L18:M18)) -> 0 | K18: =IF(J18<0,"ATENÇÃO","OK") -> OK
A19: Webergrafic Comércio de Materiais Gráficos LTDA - ME | B19: 3 | C19: 16 | D19: Banner em tecido. Impressão digital em tecido. Policromia: 4 x 0 cores. Resolução mínima de 1200 dpi´s. Acabamento em madeira (cabo redondo) nas duas extremidades menores, sendo encaixado internamente na costura do tecido para fechamento escondendo o varão, com ponteiras em PVC e corda trançada de no mínimo 4 mm e com resistência suficiente para sustentar o banner de tecido. | E19: 90 cm x metro linear | F19: metro | G19: 339039.63 | H19: 40.19 | J19: =I19-(SUM(L19:M19)) -> 0 | K19: =IF(J19<0,"ATENÇÃO","OK") -> OK
A20: Webergrafic Comércio de Materiais Gráficos LTDA - ME | B20: 4 | C20: 17 | D20: Frontlight em lona, impressão digital 4x0 cores, resolução mínima 1200 dpi's e 440 g/m² de gramatura mínima; fixado com ilhóses dispostos de 20 em 20 cm, em ferro ou alumínio e de diâmetro compatível com a corda utilizada - corda trançada de no mínimo 4mm e de resistência suficiente e compatível com o frontlight. INSTALADO E RETIRADA. | E20: 255 X 275 cm | F20: Unidade | G20: 339039.63 | H20: 429.72 | J20: =I20-(SUM(L20:M20)) -> 0 | K20: =IF(J20<0,"ATENÇÃO","OK") -> OK
C21: 18 | E21: 295 X 875 cm | F21: Unidade | G21: 339039.63 | H21: 1055.06 | J21: =I21-(SUM(L21:M21)) -> 0 | K21: =IF(J21<0,"ATENÇÃO","OK") -> OK
C22: 19 | E22: 310 X 914 cm | F22: Unidade | G22: 339039.63 | H22: 1157.2 | J22: =I22-(SUM(L22:M22)) -> 0 | K22: =IF(J22<0,"ATENÇÃO","OK") -> OK
A23: Webergrafic Comércio de Materiais Gráficos LTDA - ME | B23: 5 | C23: 20 | D23: Adesivo perfurado para vidro traseiro de automóveis, impressão digital 4x0 cores, resolução mínima 720 dpi's; com no mínimo 40% de transmissão luminosa (nos termos da RES 254/2007 CONTRAN). | E23: 35 X 90 cm | F23: Unidade | G23: 339039.63 | H23: 11.33 | J23: =I23-(SUM(L23:M23)) -> 0 | K23: =IF(J23<0,"ATENÇÃO","OK") -> OK
A24: Webergrafic Comércio de Materiais Gráficos LTDA - ME | B24: 6 | C24: 21 | D24: Adesivo em vinil, impressão digital 4x0 cores, resolução mínima 300 dpi's e 26 a 30 g/m² de gramatura mínima de cola; acabamento meio corte especial com faca. | E24: 7 X 9 cm | F24: Unidade | G24: 339039.63 | H24: 0.4 | I24: 150 | J24: =I24-(SUM(L24:M24)) -> 150 | K24: =IF(J24<0,"ATENÇÃO","OK") -> OK
C25: 22 | D25: Adesivo em vinil transparente para vidro, impressão digital 4x0 cores, resolução mínima 300 dpi's e 26 a 30 g/m² de gramatura mínima de cola; acabamento corte reto. | E25: 5 X 20 cm | F25: Unidade | G25: 339039.63 | H25: 0.5 | J25: =I25-(SUM(L25:M25)) -> 0 | K25: =IF(J25<0,"ATENÇÃO","OK") -> OK
C26: 23 | E26: 10 X 25 cm | F26: Unidade | G26: 339039.63 | H26: 1.27 | J26: =I26-(SUM(L26:M26)) -> 0 | K26: =IF(J26<0,"ATENÇÃO","OK") -> OK
C27: 24 | D27: Adesivo em vinil resistente a água e cloro, próprio para áreas com piscinas, impressão digital 4x0 cores, resolução mínima 300 dpi's e 26 a 30 g/m2 de gramatura mínima de cola; acabamento corte reto. | E27: 5 X 20 cm | F27: Unidade | G27: 339039.63 | H27: 0.5 | J27: =I27-(SUM(L27:M27)) -> 0 | K27: =IF(J27<0,"ATENÇÃO","OK") -> OK
C28: 25 | E28: 10 X 25 cm | F28: Unidade | G28: 339039.63 | H28: 1.27 | J28: =I28-(SUM(L28:M28)) -> 0 | K28: =IF(J28<0,"ATENÇÃO","OK") -> OK
C29: 26 | D29: Adesivo recortado em vinil colorido (cores diversas a escolher), para adesivagem. | E29: 90 cm x metro linear | F29: metro | G29: 339039.63 | H29: 38.16 | J29: =I29-(SUM(L29:M29)) -> 0 | K29: =IF(J29<0,"ATENÇÃO","OK") -> OK
C30: 27 | D30: Adesivo em vinil, impressão digital 4x0 cores, resolução mínima 300 dpi's e 26 a 30 g/m² de gramatura mínima de cola; acabamento meio corte especial com faca. | E30: 75 cm X metro linear | F30: metro | G30: 339039.63 | H30: 44.5 | J30: =I30-(SUM(L30:M30)) -> 0 | K30: =IF(J30<0,"ATENÇÃO","OK") -> OK
C31: 28 | D31: Adesivo em vinil resistente a água e cloro, próprio para áreas com piscinas, impressão digital 4x0 cores, resolução mínima 300 dpi's e 26 a 30 g/m2 de gramatura mínima de cola; acabamento corte reto. | E31: 15 cm X metro linear | F31: metro | G31: 339039.63 | H31: 37.03 | J31: =I31-(SUM(L31:M31)) -> 0 | K31: =IF(J31<0,"ATENÇÃO","OK") -> OK
A32: Webergrafic Comércio de Materiais Gráficos LTDA - ME | B32: 7 | C32: 29 | D32: Adesivo com impressão digital em caixa metálica de plataforma elevatória ("elevador"); impressão digital em material vinil autoadesivo; acabamento em laminação fosca; instalado; inclui adequação de layout; sugere-se visita técnica para conhecimento. | E32: m² | F32: metro² | G32: 339039.63 | H32: 97.5 | J32: =I32-(SUM(L32:M32)) -> 0 | K32: =IF(J32<0,"ATENÇÃO","OK") -> OK
A33: Webergrafic Comércio de Materiais Gráficos LTDA - ME | B33: 8 | C33: 30 | D33: Crachá em cartão PVC laminado branco, impressão digital 4x1 cores, resolução mínima 300 dpi's e espessura de 0,70 a 0,80mm cantos arredondados, com perfuração entre 15 a 20mm compatível com grampo de metal tipo jacaré do cordão. | E33: 5,4 X 8,60 cm | F33: Unidade | G33: 339039.63 | H33: 5.99 | J33: =I33-(SUM(L33:M33)) -> 0 | K33: =IF(J33<0,"ATENÇÃO","OK") -> OK
C34: 31 | D34: Cordão para crachá personalizado em impressão digital, com grampo de metal tipo jacaré, em 100% poliéster. | E34: 1,3 a 1,6 X 80 a 90 cm | F34: Unidade | G34: 339039.63 | H34: 2.75 | J34: =I34-(SUM(L34:M34)) -> 0 | K34: =IF(J34<0,"ATENÇÃO","OK") -> OK
A35: Ferroprint Tecnologia LTDA - ME | B35: 9 | C35: 32 | D35: Placa em PVC branco, impressão digital 4x0 cores, resolução mínima 300 dpi's e espessura de 2mm, com fixação dupla face de espuma acrílica para ambiente externo de no mínimo 20mm de largura e de no mínimo 10 cm de tamanho para cada 150g de placa. | E35: 200 X 120 cm | F35: Unidade | G35: 339039.63 | H35: 360 | J35: =I35-(SUM(L35:M35)) -> 0 | K35: =IF(J35<0,"ATENÇÃO","OK") -> OK
C36: 33 | D36: Placa em PVC branco, impressão digital 4x0 cores, resolução mínima 300 dpi's e espessura de 2mm, com fixação dupla face de espuma acrílica para ambiente interno de no mínimo 20mm de largura e de no mínimo 10 cm de tamanho para cada 150g de placa. | E36: 25 x 10 cm | F36: Unidade | G36: 339039.63 | H36: 3.75 | J36: =I36-(SUM(L36:M36)) -> 0 | K36: =IF(J36<0,"ATENÇÃO","OK") -> OK
C37: 34 | D37: Placa em PVC branco em formato "V" para ser apoiado sobre balção, impressão digital 4x0 cores, resolução mínima 300 dpi's e espessura de 2mm. | E37: 25 x 15 cm(plano) | F37: Unidade | G37: 339039.63 | H37: 35.06 | J37: =I37-(SUM(L37:M37)) -> 0 | K37: =IF(J37<0,"ATENÇÃO","OK") -> OK
A38: Webergrafic Comércio de Materiais Gráficos LTDA - ME | B38: 10 | C38: 35 | D38: Plotagem, impressão 4x0 cores, em papel sulfite de 75 g/m2 de gramatura mínima. | E38: Formato A0 ("A" Zero - 84,1 X 118,9cm) | F38: Unidade | G38: 339039.63 | H38: 73.39 | J38: =I38-(SUM(L38:M38)) -> 0 | K38: =IF(J38<0,"ATENÇÃO","OK") -> OK
C39: 36 | D39: Plotagem, impressão monocromática, em papel sulfite de 75 g/m2 de gramatura mínima. | E39: Formato A0 ("A" Zero - 84,1 X 118,9cm) | F39: Unidade | G39: 339039.63 | H39: 73.38 | J39: =I39-(SUM(L39:M39)) -> 0 | K39: =IF(J39<0,"ATENÇÃO","OK") -> OK
A40: Webergrafic Comércio de Materiais Gráficos LTDA - ME | B40: 11 | C40: 37 | D40: Adesivo em vinil transparente para vidro de carro, impressão digital 4x0 cores, resolução mínima 300 dpi's e 26 a 30 g/m² de gramatura mínima de cola; acabamento corte especial a faca (adesivo circular). | E40: Diametro de 8cm | F40: Unidade | G40: 339039.63 | H40: 3 | J40: =I40-(SUM(L40:M40)) -> 0 | K40: =IF(J40<0,"ATENÇÃO","OK") -> OK
...

Sheet ESAG
A1: PROCESSO: 0354/2015/UDESC | D1: OBJETO: SERVIÇOS GRÁFICOS PARA A UDESC | I1: VIGÊNCIA DA ATA: 01/07/2015 até 30/06/2016 | L1: AF/OS nº 418/2016 Qtde. DT | M1: AF/OS nº 529/2016 Qtde. DT
A2: CENTRO PARTICIPANTE: ESAG
A3: FORNECEDOR | B3: LOTE | C3: ITEM | D3: PRODUTO - CARACTERÍSTICAS MÍNIMAS | E3: Dimensões | F3: Unidade | G3: DETALHAMENTO | H3: Preço UNITÁRIO (R$) | I3: Qtde Registrada | J3: Saldo / Automático | K3: ALERTA | L3: ...../...../...... | M3: ...../...../......
A4: Seriprint Comunicação Visual LTDA - ME | B4: 1 | C4: 1 | D4: Banner em lona, impressão digital 4x0 cores, resolução mínima 720 dpi's e 280 g/m² de gramatura mínima; e suporte: 1) em madeira em duas das menores extremidades e acabamento com ponteira de PVC (grampeada) e corda trançada de no mínimo 4mm e de resistência suficiente e compatível com o banner; ou 2) com ilhóses dispostos de 20 em 20 cm, em ferro ou alumínio e de diâmetro compatível com a corda utilizada - corda trançada de no mínimo 4mm e de resistência suficiente e compatível com o banner. | E4: 50 X 70 cm | F4: Unidade | G4: 339039.63 | H4: 10.3 | J4: =I4-(SUM(L4:M4)) -> 0 | K4: =IF(J4<0,"ATENÇÃO","OK") -> OK
C5: 2 | E5: 90 X 150 cm | F5: Unidade | G5: 339039.63 | H5: 36.2 | I5: 30 | J5: =I5-(SUM(L5:M5)) -> 25 | K5: =IF(J5<0,"ATENÇÃO","OK") -> OK | L5: 5
C6: 3 | E6: 90 X 120 cm | F6: Unidade | G6: 339039.63 | H6: 33 | I6: 30 | J6: =I6-(SUM(L6:M6)) -> 22 | K6: =IF(J6<0,"ATENÇÃO","OK") -> OK | L6: 8
C7: 4 | E7: 110 X 150 cm | F7: Unidade | G7: 339039.63 | H7: 39 | I7: =30-4 -> 26 | J7: =I7-(SUM(L7:M7)) -> 26 | K7: =IF(J7<0,"ATENÇÃO","OK") -> OK
C8: 5 | E8: 130 X 180 cm | F8: Unidade | G8: 339039.63 | H8: 52.3 | J8: =I8-(SUM(L8:M8)) -> 0 | K8: =IF(J8<0,"ATENÇÃO","OK") -> OK
C9: 6 | E9: 50 X 300 cm | F9: Unidade | G9: 339039.63 | H9: 34 | J9: =I9-(SUM(L9:M9)) -> 0 | K9: =IF(J9<0,"ATENÇÃO","OK") -> OK
C10: 7 | E10: 70 X 400 cm | F10: Unidade | G10: 339039.63 | H10: 59 | J10: =I10-(SUM(L10:M10)) -> 0 | K10: =IF(J10<0,"ATENÇÃO","OK") -> OK
C11: 8 | E11: 140 cm X metro linear | F11: metro | G11: 339039.63 | H11: 26 | J11: =I11-(SUM(L11:M11)) -> 0 | K11: =IF(J11<0,"ATENÇÃO","OK") -> OK
C12: 9 | E12: 80 X 110 cm | F12: Unidade | G12: 339039.63 | H12: 29.3 | J12: =I12-(SUM(L12:M12)) -> 0 | K12: =IF(J12<0,"ATENÇÃO","OK") -> OK
C13: 10 | E13: 80 X 120 cm | F13: Unidade | G13: 339039.63 | H13: 30 | J13: =I13-(SUM(L13:M13)) -> 0 | K13: =IF(J13<0,"ATENÇÃO","OK") -> OK
