Workbook
Name diasuteis: #REF!
Name diasuteis: #REF!
Name diasuteis: #REF!
Name diasuteis: #REF!
Name diasuteis: #REF!
Name diasuteis: #REF!
Name diasuteis: #REF!
Name diasuteis: #REF!
Name diasuteis: #REF!
Name diasuteis: #REF!
Name diasuteis: #REF!
Name diasuteis: #REF!
Name diasuteis: #REF!
Name diasuteis: #REF!
Name diasuteis: #REF!
Name Ferias: #REF!
Name Ferias: #REF!
Name Ferias: #REF!
Name Ferias: #REF!
Name Ferias: #REF!
Name Ferias: #REF!
Name Ferias: #REF!
Name Ferias: #REF!
Name Ferias: #REF!
Name RD: OFFSET(#REF!,(MATCH(SMALL(#REF!,ROW()-10),#REF!,0)-1),0)
Name RD: OFFSET(#REF!,(MATCH(SMALL(#REF!,ROW()-10),#REF!,0)-1),0)
Name RD: OFFSET(#REF!,(MATCH(SMALL(#REF!,ROW()-10),#REF!,0)-1),0)
Name RD: OFFSET(#REF!,(MATCH(SMALL(#REF!,ROW()-10),#REF!,0)-1),0)
Name RD: OFFSET(#REF!,(MATCH(SMALL(#REF!,ROW()-10),#REF!,0)-1),0)
Name RD: OFFSET(#REF!,(MATCH(SMALL(#REF!,ROW()-10),#REF!,0)-1),0)
Name RD: OFFSET(#REF!,(MATCH(SMALL(#REF!,ROW()-10),#REF!,0)-1),0)
Name RD: OFFSET(#REF!,(MATCH(SMALL(#REF!,ROW()-10),#REF!,0)-1),0)
Name RD: OFFSET(#REF!,(MATCH(SMALL(#REF!,ROW()-10),#REF!,0)-1),0)

Sheet Reitoria
A1: PROCESSO: 0354/2015/UDESC | D1: OBJETO: SERVIÇOS GRÁFICOS PARA A UDESC | I1: VIGÊNCIA DA ATA: 01/07/2015 até 30/06/2016 | L1: OS nº 1210/2015 Qtde. DT | M1: OS nº 0113/2016 Qtde. DT
A2: CENTRO PARTICIPANTE: Reitoria
A3: FORNECEDOR | B3: LOTE | C3: ITEM | D3: PRODUTO - CARACTERÍSTICAS MÍNIMAS | E3: Dimensões | F3: Unidade | G3: DETALHAMENTO | H3: Preço UNITÁRIO (R$) | I3: Qtde Registrada | J3: Saldo / Automático | K3: ALERTA | L3: 42201 | M3: 42416
A4: Seriprint Comunicação Visual LTDA - ME | B4: 1 | C4: 1 | D4: Banner em lona, impressão digital 4x0 cores, resolução mínima 720 dpi's e 280 g/m² de gramatura mínima; e suporte: 1) em madeira em duas das menores extremidades e acabamento com ponteira de PVC (grampeada) e corda trançada de no mínimo 4mm e de resistência suficiente e compatível com o banner; ou 2) com ilhóses dispostos de 20 em 20 cm, em ferro ou alumínio e de diâmetro compatível com a corda utilizada - corda trançada de no mínimo 4mm e de resistência suficiente e compatível com o banner. | E4: 50 X 70 cm | F4: Unidade | G4: 339039.63 | H4: 10.3 | J4: =I4-(SUM(L4:M4)) -> 0 | K4: =IF(J4<0,"ATENÇÃO","OK") -> OK
C5: 2 | E5: 90 X 150 cm | F5: Unidade | G5: 339039.63 | H5: 36.2 | J5: =I5-(SUM(L5:M5)) -> 0 | K5: =IF(J5<0,"ATENÇÃO","OK") -> OK
C6: 3 | E6: 90 X 120 cm | F6: Unidade | G6: 339039.63 | H6: 33 | I6: 20 | J6: =I6-(SUM(L6:M6)) -> 20 | K6: =IF(J6<0,"ATENÇÃO","OK") -> OK
C7: 4 | E7: 110 X 150 cm | F7: Unidade | G7: 339039.63 | H7: 39 | J7: =I7-(SUM(L7:M7)) -> 0 | K7: =IF(J7<0,"ATENÇÃO","OK") -> OK
C8: 5 | E8: 130 X 180 cm | F8: Unidade | G8: 339039.63 | H8: 52.3 | J8: =I8-(SUM(L8:M8)) -> 0 | K8: =IF(J8<0,"ATENÇÃO","OK") -> OK
C9: 6 | E9: 50 X 300 cm | F9: Unidade | G9: 339039.63 | H9: 34 | J9: =I9-(SUM(L9:M9)) -> 0 | K9: =IF(J9<0,"ATENÇÃO","OK") -> OK
C10: 7 | E10: 70 X 400 cm | F10: Unidade | G10: 339039.63 | H10: 59 | I10: 20 | J10: =I10-(SUM(L10:M10)) -> 20 | K10: =IF(J10<0,"ATENÇÃO","OK") -> OK
C11: 8 | E11: 140 cm X metro linear | F11: metro | G11: 339039.63 | H11: 26 | J11: =I11-(SUM(L11:M11)) -> 0 | K11: =IF(J11<0,"ATENÇÃO","OK") -> OK
C12: 9 | E12: 80 X 110 cm | F12: Unidade | G12: 339039.63 | H12: 29.3 | J12: =I12-(SUM(L12:M12)) -> 0 | K12: =IF(J12<0,"ATENÇÃO","OK") -> OK
C13: 10 | E13: 80 X 120 cm | F13: Unidade | G13: 339039.63 | H13: 30 | J13: =I13-(SUM(L13:M13)) -> 0 | K13: =IF(J13<0,"ATENÇÃO","OK") -> OK
C14: 11 | E14: 90 X 110 cm | F14: Unidade | G14: 339039.63 | H14: 25 | J14: =I14-(SUM(L14:M14)) -> 0 | K14: =IF(J14<0,"ATENÇÃO","OK") -> OK
C15: 12 | D15: Frontlight em lona, impressão digital 4x0 cores, resolução mínima 1200 dpi's e 440 g/m² de gramatura mínima; fixado com ilhóses dispostos de 20 em 20 cm, em ferro ou alumínio e de diâmetro compatível com a corda utilizada - corda trançada de no mínimo 4mm e de resistência suficiente e compatível com o frontlight. | E15: 320 cm X metro linear | F15: metro | G15: 339039.63 | H15: 65 | J15: =I15-(SUM(L15:M15)) -> 0 | K15: =IF(J15<0,"ATENÇÃO","OK") -> OK
C16: 13 | E16: 650 X 150 cm | F16: Unidade | G16: 339039.63 | H16: 189.86 | J16: =I16-(SUM(L16:M16)) -> 0 | K16: =IF(J16<0,"ATENÇÃO","OK") -> OK
C17: 14 | E17: 250 X 120 cm | F17: Unidade | G17: 339039.63 | H17: 73 | J17: =I17-(SUM(L17:M17)) -> 0 | K17: =IF(J17<0,"ATENÇÃO","OK") -> OK
A18: Webergrafic Comércio de Materiais Gráficos LTDA - ME | B18: 2 | C18: 15 | D18: Banner em papel fotográfico com laminação brilhante, resolução mínima de 600 dpi's e 280g/m² de gramatura mínima, suporte em plástico em duas das menores extremidades e corda de no mínimo 1mm e de resistência suficiente e compatível com o banner. | E18: 90 cm X metro linear | F18: metro | G18: 339039.63 | H18: 49.5 | J18: =I18-(SUM(L18:M18)) -> 0 | K18: =IF(J18<0,"ATENÇÃO","OK") -> OK
A19: Webergrafic Comércio de Materiais Gráficos LTDA - ME | B19: 3 | C19: 16 | D19: Banner em tecido. Impressão digital em tecido. Policromia: 4 x 0 cores. Resolução mínima de 1200 dpi´s. Acabamento em madeira (cabo redondo) nas duas extremidades menores, sendo encaixado internamente na costura do tecido para fechamento escondendo o varão, com ponteiras em PVC e corda trançada de no mínimo 4 mm e com resistência suficiente para sustentar o banner de tecido. | E19: 90 cm x metro linear | F19: metro | G19: 339039.63 | H19: 40.19 | J19: =I19-(SUM(L19:M19)) -> 0 | K19: =IF(J19<0,"ATENÇÃO","OK") -> OK
A20: Webergrafic Comércio de Materiais Gráficos LTDA - ME | B20: 4 | C20: 17 | D20: Frontlight em lona, impressão digital 4x0 cores, resolução mínima 1200 dpi's e 440 g/m² de gramatura mínima; fixado com ilhóses dispostos de 20 em 20 cm, em ferro ou alumínio e de diâmetro compatível com a corda utilizada - corda trançada de no mínimo 4mm e de resistência suficiente e compatível com o frontlight. INSTALADO E RETIRADA. | E20: 255 X 275 cm | F20: Unidade | G20: 339039.63 | H20: 429.72 | I20: 8 | J20: =I20-(SUM(L20:M20)) -> 4 | K20: =IF(J20<0,"ATENÇÃO","OK") -> OK | L20: 4
C21: 18 | E21: 295 X 875 cm | F21: Unidade | G21: 339039.63 | H21: 1055.06 | I21: 16 | J21: =I21-(SUM(L21:M21)) -> 0 | K21: =IF(J21<0,"ATENÇÃO","OK") -> OK | L21: 10 | M21: 6
C22: 19 | E22: 310 X 914 cm | F22: Unidade | G22: 339039.63 | H22: 1157.2 | I22: 54 | J22: =I22-(SUM(L22:M22)) -> 14 | K22: =IF(J22<0,"ATENÇÃO","OK") -> OK | L22: 24 | M22: 16
A23: Webergrafic Comércio de Materiais Gráficos LTDA - ME | B23: 5 | C23: 20 | D23: Adesivo perfurado para vidro traseiro de automóveis, impressão digital 4x0 cores, resolução mínima 720 dpi's; com no mínimo 40% de transmissão luminosa (nos termos da RES 254/2007 CONTRAN). | E23: 35 X 90 cm | F23: Unidade | G23: 339039.63 | H23: 11.33 | I23: 600 | J23: =I23-(SUM(L23:M23)) -> 600 | K23: =IF(J23<0,"ATENÇÃO","OK") -> OK
A24: Webergrafic Comércio de Materiais Gráficos LTDA - ME | B24: 6 | C24: 21 | D24: Adesivo em vinil, impressão digital 4x0 cores, resolução mínima 300 dpi's e 26 a 30 g/m² de gramatura mínima de cola; acabamento meio corte especial com faca. | E24: 7 X 9 cm | F24: Unidade | G24: 339039.63 | H24: 0.4 | J24: =I24-(SUM(L24:M24)) -> 0 | K24: =IF(J24<0,"ATENÇÃO","OK") -> OK
C25: 22 | D25: Adesivo em vinil transparente para vidro, impressão digital 4x0 cores, resolução mínima 300 dpi's e 26 a 30 g/m² de gramatura mínima de cola; acabamento corte reto. | E25: 5 X 20 cm | F25: Unidade | G25: 339039.63 | H25: 0.5 | J25: =I25-(SUM(L25:M25)) -> 0 | K25: =IF(J25<0,"ATENÇÃO","OK") -> OK
C26: 23 | E26: 10 X 25 cm | F26: Unidade | G26: 339039.63 | H26: 1.27 | I26: 2000 | J26: =I26-(SUM(L26:M26)) -> 2000 | K26: =IF(J26<0,"ATENÇÃO","OK") -> OK
C27: 24 | D27: Adesivo em vinil resistente a água e cloro, próprio para áreas com piscinas, impressão digital 4x0 cores, resolução mínima 300 dpi's e 26 a 30 g/m2 de gramatura mínima de cola; acabamento corte reto. | E27: 5 X 20 cm | F27: Unidade | G27: 339039.63 | H27: 0.5 | J27: =I27-(SUM(L27:M27)) -> 0 | K27: =IF(J27<0,"ATENÇÃO","OK") -> OK
C28: 25 | E28: 10 X 25 cm | F28: Unidade | G28: 339039.63 | H28: 1.27 | J28: =I28-(SUM(L28:M28)) -> 0 | K28: =IF(J28<0,"ATENÇÃO","OK") -> OK
C29: 26 | D29: Adesivo recortado em vinil colorido (cores diversas a escolher), para adesivagem. | E29: 90 cm x metro linear | F29: metro | G29: 339039.63 | H29: 38.16 | J29: =I29-(SUM(L29:M29)) -> 0 | K29: =IF(J29<0,"ATENÇÃO","OK") -> OK
C30: 27 | D30: Adesivo em vinil, impressão digital 4x0 cores, resolução mínima 300 dpi's e 26 a 30 g/m² de gramatura mínima de cola; acabamento meio corte especial com faca. | E30: 75 cm X metro linear | F30: metro | G30: 339039.63 | H30: 44.5 | J30: =I30-(SUM(L30:M30)) -> 0 | K30: =IF(J30<0,"ATENÇÃO","OK") -> OK
C31: 28 | D31: Adesivo em vinil resistente a água e cloro, próprio para áreas com piscinas, impressão digital 4x0 cores, resolução mínima 300 dpi's e 26 a 30 g/m2 de gramatura mínima de cola; acabamento corte reto. | E31: 15 cm X metro linear | F31: metro | G31: 339039.63 | H31: 37.03 | J31: =I31-(SUM(L31:M31)) -> 0 | K31: =IF(J31<0,"ATENÇÃO","OK") -> OK
A32: Webergrafic Comércio de Materiais Gráficos LTDA - ME | B32: 7 | C32: 29 | D32: Adesivo com impressão digital em caixa metálica de plataforma elevatória ("elevador"); impressão digital em material vinil autoadesivo; acabamento em laminação fosca; instalado; inclui adequação de layout; sugere-se visita técnica para conhecimento. | E32: m² | F32: metro² | G32: 339039.63 | H32: 97.5 | J32: =I32-(SUM(L32:M32)) -> 0 | K32: =IF(J32<0,"ATENÇÃO","OK") -> OK
A33: Webergrafic Comércio de Materiais Gráficos LTDA - ME | B33: 8 | C33: 30 | D33: Crachá em cartão PVC laminado branco, impressão digital 4x1 cores, resolução mínima 300 dpi's e espessura de 0,70 a 0,80mm cantos arredondados, com perfuração entre 15 a 20mm compatível com grampo de metal tipo jacaré do cordão. | E33: 5,4 X 8,60 cm | F33: Unidade | G33: 339039.63 | H33: 5.99 | J33: =I33-(SUM(L33:M33)) -> 0 | K33: =IF(J33<0,"ATENÇÃO","OK") -> OK
C34: 31 | D34: Cordão para crachá personalizado em impressão digital, com grampo de metal tipo jacaré, em 100% poliéster. | E34: 1,3 a 1,6 X 80 a 90 cm | F34: Unidade | G34: 339039.63 | H34: 2.75 | J34: =I34-(SUM(L34:M34)) -> 0 | K34: =IF(J34<0,"ATENÇÃO","OK") -> OK
A35: Ferroprint Tecnologia LTDA - ME | B35: 9 | C35: 32 | D35: Placa em PVC branco, impressão digital 4x0 cores, resolução mínima 300 dpi's e espessura de 2mm, com fixação dupla face de espuma acrílica para ambiente externo de no mínimo 20mm de largura e de no mínimo 10 cm de tamanho para cada 150g de placa. | E35: 200 X 120 cm | F35: Unidade | G35: 339039.63 | H35: 360 | J35: =I35-(SUM(L35:M35)) -> 0 | K35: =IF(J35<0,"ATENÇÃO","OK") -> OK
C36: 33 | D36: Placa em PVC branco, impressão digital 4x0 cores, resolução mínima 300 dpi's e espessura de 2mm, com fixação dupla face de espuma acrílica para ambiente interno de no mínimo 20mm de largura e de no mínimo 10 cm de tamanho para cada 150g de placa. | E36: 25 x 10 cm | F36: Unidade | G36: 339039.63 | H36: 3.75 | J36: =I36-(SUM(L36:M36)) -> 0 | K36: =IF(J36<0,"ATENÇÃO","OK") -> OK
C37: 34 | D37: Placa em PVC branco em formato "V" para ser apoiado sobre balção, impressão digital 4x0 cores, resolução mínima 300 dpi's e espessura de 2mm. | E37: 25 x 15 cm(plano) | F37: Unidade | G37: 339039.63 | H37: 35.06 | J37: =I37-(SUM(L37:M37)) -> 0 | K37: =IF(J37<0,"ATENÇÃO","OK") -> OK
A38: Webergrafic Comércio de Materiais Gráficos LTDA - ME | B38: 10 | C38: 35 | D38: Plotagem, impressão 4x0 cores, em papel sulfite de 75 g/m2 de gramatura mínima. | E38: Formato A0 ("A" Zero - 84,1 X 118,9cm) | F38: Unidade | G38: 339039.63 | H38: 73.39 | J38: =I38-(SUM(L38:M38)) -> 0 | K38: =IF(J38<0,"ATENÇÃO","OK") -> OK
C39: 36 | D39: Plotagem, impressão monocromática, em papel sulfite de 75 g/m2 de gramatura mínima. | E39: Formato A0 ("A" Zero - 84,1 X 118,9cm) | F39: Unidade | G39: 339039.63 | H39: 73.38 | J39: =I39-(SUM(L39:M39)) -> 0 | K39: =IF(J39<0,"ATENÇÃO","OK") -> OK
A40: Webergrafic Comércio de Materiais Gráficos LTDA - ME | B40: 11 | C40: 37 | D40: Adesivo em vinil transparente para vidro de carro, impressão digital 4x0 cores, resolução mínima 300 dpi's e 26 a 30 g/m² de gramatura mínima de cola; acabamento corte especial a faca (adesivo circular). | E40: Diametro de 8cm | F40: Unidade | G40: 339039.63 | H40: 3 | J40: =I40-(SUM(L40:M40)) -> 0 | K40: =IF(J40<0,"ATENÇÃO","OK") -> OK
A41: Webergrafic Comércio de Materiais Gráficos LTDA - ME | B41: 12 | C41: 38 | D41: Adesivo recortado em vinil colorido Gold Max (cores diversas a escolher), para adesivagem, com instalação. | E41: 12m² | F41: Unidade | G41: 339039.63 | H41: 1050 | J41: =I41-(SUM(L41:M41)) -> 0 | K41: =IF(J41<0,"ATENÇÃO","OK") -> OK
A42: Webergrafic Comércio de Materiais Gráficos LTDA - ME | B42: 13 | C42: 39 | D42: Adesivo vinílico colorido (cores diversas a escolher), para aplicação em Placa de MDF. | E42: 80 X 60 cm | F42: Unidade | G42: 339039.63 | H42: 26.95 | J42: =I42-(SUM(L42:M42)) -> 0 | K42: =IF(J42<0,"ATENÇÃO","OK") -> OK
C43: 40 | D43: Placa em MDF 3mm. Pintada e envernizada com texto em vinil colorido (cores diversas a escolher). | E43: 60 X 10 cm | F43: Unidade | G43: 339039.63 | H43: 16.85 | J43: =I43-(SUM(L43:M43)) -> 0 | K43: =IF(J43<0,"ATENÇÃO","OK") -> OK
C44: 41 | D44: Adesivo vinílico colorido (cores diversas a escolher), para aplicação em Placa de MDF. | E44: 60 X 40 cm | F44: Unidade | G44: 339039.63 | H44: 13.48 | J44: =I44-(SUM(L44:M44)) -> 0 | K44: =IF(J44<0,"ATENÇÃO","OK") -> OK
C45: 42 | D45: Adesivo vinílico colorido (cores diversas a escolher). Arredondamento do canto inferior direito é de 100 pontos. Para numeração sequencial. | E45: 10 X 6,5 cm | F45: Unidade | G45: 339039.63 | H45: 3.64 | J45: =I45-(SUM(L45:M45)) -> 0 | K45: =IF(J45<0,"ATENÇÃO","OK") -> OK
C46: 43 | D46: Adesivo para renovação do Totem de entrada. Texto em vinil recortado colorido (cores diversas a escolher). | E46: 1,70 X 0,60 m | F46: Unidade | G46: 339039.63 | H46: 59 | J46: =I46-(SUM(L46:M46)) -> 0 | K46: =IF(J46<0,"ATENÇÃO","OK") -> OK
A47: Webergrafic Comércio de Materiais Gráficos LTDA - ME | B47: 14 | C47: 44 | D47: Adesivo numerado com quatro digitos em vinil transparente para uso interno em veículo, impressão digital 4x0 cores, resolução mínima 300 dpi's e 26 a 30 g/m² de gramatura | E47: 9 x 6 cm | F47: Unidade | G47: 339039.63 | H47: 0.31 | J47: =I47-(SUM(L47:M47)) -> 0 | K47: =IF(J47<0,"ATENÇÃO","OK") -> OK

Sheet SEMS
A1: PROCESSO: 0354/2015/UDESC | D1: OBJETO: SERVIÇOS GRÁFICOS PARA A UDESC | I1: VIGÊNCIA DA ATA: 01/07/2015 até 30/06/2016 | L1: AF/OS nº xxxx/2015 Qtde. DT | M1: AF/OS nº xxxx/2015 Qtde. DT
A2: CENTRO PARTICIPANTE: SEMS
A3: FORNECEDOR | B3: LOTE | C3: ITEM | D3: PRODUTO - CARACTERÍSTICAS MÍNIMAS | E3: Dimensões | F3: Unidade | G3: DETALHAMENTO | H3: Preço UNITÁRIO (R$) | I3: Qtde Registrada | J3: Saldo / Automático | K3: ALERTA | L3: ...../...../...... | M3: ...../...../......
A4: Seriprint Comunicação Visual LTDA - ME | B4: 1 | C4: 1 | D4: Banner em lona, impressão digital 4x0 cores, resolução mínima 720 dpi's e 280 g/m² de gramatura mínima; e suporte: 1) em madeira em duas das menores extremidades e acabamento com ponteira de PVC (grampeada) e corda trançada de no mínimo 4mm e de resistência suficiente e compatível com o banner; ou 2) com ilhóses dispostos de 20 em 20 cm, em ferro ou alumínio e de diâmetro compatível com a corda utilizada - corda trançada de no mínimo 4mm e de resistência suficiente e compatível com o banner. | E4: 50 X 70 cm | F4: Unidade | G4: 339039.63 | H4: 10.3 | J4: =I4-(SUM(L4:M4)) -> 0 | K4: =IF(J4<0,"ATENÇÃO","OK") -> OK
C5: 2 | E5: 90 X 150 cm | F5: Unidade | G5: 339039.63 | H5: 36.2 | J5: =I5-(SUM(L5:M5)) -> 0 | K5: =IF(J5<0,"ATENÇÃO","OK") -> OK
C6: 3 | E6: 90 X 120 cm | F6: Unidade | G6: 339039.63 | H6: 33 | J6: =I6-(SUM(L6:M6)) -> 0 | K6: =IF(J6<0,"ATENÇÃO","OK") -> OK
C7: 4 | E7: 110 X 150 cm | F7: Unidade | G7: 339039.63 | H7: 39 | J7: =I7-(SUM(L7:M7)) -> 0 | K7: =IF(J7<0,"ATENÇÃO","OK") -> OK
C8: 5 | E8: 130 X 180 cm | F8: Unidade | G8: 339039.63 | H8: 52.3 | J8: =I8-(SUM(L8:M8)) -> 0 | K8: =IF(J8<0,"ATENÇÃO","OK") -> OK
C9: 6 | E9: 50 X 300 cm | F9: Unidade | G9: 339039.63 | H9: 34 | J9: =I9-(SUM(L9:M9)) -> 0 | K9: =IF(J9<0,"ATENÇÃO","OK") -> OK
C10: 7 | E10: 70 X 400 cm | F10: Unidade | G10: 339039.63 | H10: 59 | J10: =I10-(SUM(L10:M10)) -> 0 | K10: =IF(J10<0,"ATENÇÃO","OK") -> OK
C11: 8 | E11: 140 cm X metro linear | F11: metro | G11: 339039.63 | H11: 26 | J11: =I11-(SUM(L11:M11)) -> 0 | K11: =IF(J11<0,"ATENÇÃO","OK") -> OK
C12: 9 | E12: 80 X 110 cm | F12: Unidade | G12: 339039.63 | H12: 29.3 | J12: =I12-(SUM(L12:M12)) -> 0 | K12: =IF(J12<0,"ATENÇÃO","OK") -> OK
C13: 10 | E13: 80 X 120 cm | F13: Unidade | G13: 339039.63 | H13: 30 | J13: =I13-(SUM(L13:M13)) -> 0 | K13: =IF(J13<0,"ATENÇÃO","OK") -> OK
C14: 11 | E14: 90 X 110 cm | F14: Unidade | G14: 339039.63 | H14: 25 | J14: =I14-(SUM(L14:M14)) -> 0 | K14: =IF(J14<0,"ATENÇÃO","OK") -> OK
C15: 12 | D15: Frontlight em lona, impressão digital 4x0 cores, resolução mínima 1200 dpi's e 440 g/m² de gramatura mínima; fixado com ilhóses dispostos de 20 em 20 cm, em ferro ou alumínio e de diâmetro compatível com a corda utilizada - corda trançada de no mínimo 4mm e de resistência suficiente e compatível com o frontlight. | E15: 320 cm X metro linear | F15: metro | G15: 339039.63 | H15: 65 | J15: =I15-(SUM(L15:M15)) -> 0 | K15: =IF(J15<0,"ATENÇÃO","OK") -> OK
C16: 13 | E16: 650 X 150 cm | F16: Unidade | G16: 339039.63 | H16: 189.86 | J16: =I16-(SUM(L16:M16)) -> 0 | K16: =IF(J16<0,"ATENÇÃO","OK") -> OK
C17: 14 | E17: 250 X 120 cm | F17: Unidade | G17: 339039.63 | H17: 73 | J17: =I17-(SUM(L17:M17)) -> 0 | K17: =IF(J17<0,"ATENÇÃO","OK") -> OK
A18: Webergrafic Comércio de Materiais Gráficos LTDA - ME | B18: 2 | C18: 15 | D18: Banner em papel fotográfico com laminação brilhante, resolução mínima de 600 dpi's e 280g/m² de gramatura mínima, suporte em plástico em duas das menores extremidades e corda de no mínimo 1mm e de resistência suficiente e compatível com o banner. | E18: 90 cm X metro linear | F18: metro | G18: 339039.63 | H18: 49.5 | J18: =I18-(SUM(L18:M18)) -> 0 | K18: =IF(J18<0,"ATENÇÃO","OK") -> OK
A19: Webergrafic Comércio de Materiais Gráficos LTDA - ME | B19: 3 | C19: 16 | D19: Banner em tecido. Impressão digital em tecido. Policromia: 4 x 0 cores. Resolução mínima de 1200 dpi´s. Acabamento em madeira (cabo redondo) nas duas extremidades menores, sendo encaixado internamente na costura do tecido para fechamento escondendo o varão, com ponteiras em PVC e corda trançada de no mínimo 4 mm e com resistência suficiente para sustentar o banner de tecido. | E19: 90 cm x metro linear | F19: metro | G19: 339039.63 | H19: 40.19 | J19: =I19-(SUM(L19:M19)) -> 0 | K19: =IF(J19<0,"ATENÇÃO","OK") -> OK
A20: Webergrafic Comércio de Materiais Gráficos LTDA - ME | B20: 4 | C20: 17 | D20: Frontlight em lona, impressão digital 4x0 cores, resolução mínima 1200 dpi's e 440 g/m² de gramatura mínima; fixado com ilhóses dispostos de 20 em 20 cm, em ferro ou alumínio e de diâmetro compatível com a corda utilizada - corda trançada de no mínimo 4mm e de resistência suficiente e compatível com o frontlight. INSTALADO E RETIRADA. | E20: 255 X 275 cm | F20: Unidade | G20: 339039.63 | H20: 429.72 | J20: =I20-(SUM(L20:M20)) -> 0 | K20: =IF(J20<0,"ATENÇÃO","OK") -> OK
C21: 18 | E21: 295 X 875 cm | F21: Unidade | G21: 339039.63 | H21: 1055.06 | J21: =I21-(SUM(L21:M21)) -> 0 | K21: =IF(J21<0,"ATENÇÃO","OK") -> OK
C22: 19 | E22: 310 X 914 cm | F22: Unidade | G22: 339039.63 | H22: 1157.2 | J22: =I22-(SUM(L22:M22)) -> 0 | K22: =IF(J22<0,"ATENÇÃO","OK") -> OK
A23: Webergrafic Comércio de Materiais Gráficos LTDA - ME | B23: 5 | C23: 20 | D23: Adesivo perfurado para vidro traseiro de automóveis, impressão digital 4x0 cores, resolução mínima 720 dpi's; com no mínimo 40% de transmissão luminosa (nos termos da RES 254/2007 CONTRAN). | E23: 35 X 90 cm | F23: Unidade | G23: 339039.63 | H23: 11.33 | J23: =I23-(SUM(L23:M23)) -> 0 | K23: =IF(J23<0,"ATENÇÃO","OK") -> OK
A24: Webergrafic Comércio de Materiais Gráficos LTDA - ME | B24: 6 | C24: 21 | D24: Adesivo em vinil, impressão digital 4x0 cores, resolução mínima 300 dpi's e 26 a 30 g/m² de gramatura mínima de cola; acabamento meio corte especial com faca. | E24: 7 X 9 cm | F24: Unidade | G24: 339039.63 | H24: 0.4 | J24: =I24-(SUM(L24:M24)) -> 0 | K24: =IF(J24<0,"ATENÇÃO","OK") -> OK
C25: 22 | D25: Adesivo em vinil transparente para vidro, impressão digital 4x0 cores, resolução mínima 300 dpi's e 26 a 30 g/m² de gramatura mínima de cola; acabamento corte reto. | E25: 5 X 20 cm | F25: Unidade | G25: 339039.63 | H25: 0.5 | J25: =I25-(SUM(L25:M25)) -> 0 | K25: =IF(J25<0,"ATENÇÃO","OK") -> OK
C26: 23 | E26: 10 X 25 cm | F26: Unidade | G26: 339039.63 | H26: 1.27 | J26: =I26-(SUM(L26:M26)) -> 0 | K26: =IF(J26<0,"ATENÇÃO","OK") -> OK
C27: 24 | D27: Adesivo em vinil resistente a água e cloro, próprio para áreas com piscinas, impressão digital 4x0 cores, resolução mínima 300 dpi's e 26 a 30 g/m2 de gramatura mínima de cola; acabamento corte reto. | E27: 5 X 20 cm | F27: Unidade | G27: 339039.63 | H27: 0.5 | J27: =I27-(SUM(L27:M27)) -> 0 | K27: =IF(J27<0,"ATENÇÃO","OK") -> OK
C28: 25 | E28: 10 X 25 cm | F28: Unidade | G28: 339039.63 | H28: 1.27 | J28: =I28-(SUM(L28:M28)) -> 0 | K28: =IF(J28<0,"ATENÇÃO","OK") -> OK
C29: 26 | D29: Adesivo recortado em vinil colorido (cores diversas a escolher), para adesivagem. | E29: 90 cm x metro linear | F29: metro | G29: 339039.63 | H29: 38.16 | J29: =I29-(SUM(L29:M29)) -> 0 | K29: =IF(J29<0,"ATENÇÃO","OK") -> OK
C30: 27 | D30: Adesivo em vinil, impressão digital 4x0 cores, resolução mínima 300 dpi's e 26 a 30 g/m² de gramatura mínima de cola; acabamento meio corte especial com faca. | E30: 75 cm X metro linear | F30: metro | G30: 339039.63 | H30: 44.5 | J30: =I30-(SUM(L30:M30)) -> 0 | K30: =IF(J30<0,"ATENÇÃO","OK") -> OK
C31: 28 | D31: Adesivo em vinil resistente a água e cloro, próprio para áreas com piscinas, impressão digital 4x0 cores, resolução mínima 300 dpi's e 26 a 30 g/m2 de gramatura mínima de cola; acabamento corte reto. | E31: 15 cm X metro linear | F31: metro | G31: 339039.63 | H31: 37.03 | J31: =I31-(SUM(L31:M31)) -> 0 | K31: =IF(J31<0,"ATENÇÃO","OK") -> OK
A32: Webergrafic Comércio de Materiais Gráficos LTDA - ME | B32: 7 | C32: 29 | D32: Adesivo com impressão digital em caixa metálica de plataforma elevatória ("elevador"); impressão digital em material vinil autoadesivo; acabamento em laminação fosca; instalado; inclui adequação de layout; sugere-se visita técnica para conhecimento. | E32: m² | F32: metro² | G32: 339039.63 | H32: 97.5 | J32: =I32-(SUM(L32:M32)) -> 0 | K32: =IF(J32<0,"ATENÇÃO","OK") -> OK
A33: Webergrafic Comércio de Materiais Gráficos LTDA - ME | B33: 8 | C33: 30 | D33: Crachá em cartão PVC laminado branco, impressão digital 4x1 cores, resolução mínima 300 dpi's e espessura de 0,70 a 0,80mm cantos arredondados, com perfuração entre 15 a 20mm compatível com grampo de metal tipo jacaré do cordão. | E33: 5,4 X 8,60 cm | F33: Unidade | G33: 339039.63 | H33: 5.99 | I33: 150 | J33: =I33-(SUM(L33:M33)) -> 150 | K33: =IF(J33<0,"ATENÇÃO","OK") -> OK
C34: 31 | D34: Cordão para crachá personalizado em impressão digital, com grampo de metal tipo jacaré, em 100% poliéster. | E34: 1,3 a 1,6 X 80 a 90 cm | F34: Unidade | G34: 339039.63 | H34: 2.75 | J34: =I34-(SUM(L34:M34)) -> 0 | K34: =IF(J34<0,"ATENÇÃO","OK") -> OK
A35: Ferroprint Tecnologia LTDA - ME | B35: 9 | C35: 32 | D35: Placa em PVC branco, impressão digital 4x0 cores, resolução mínima 300 dpi's e espessura de 2mm, com fixação dupla face de espuma acrílica para ambiente externo de no mínimo 20mm de largura e de no mínimo 10 cm de tamanho para cada 150g de placa. | E35: 200 X 120 cm | F35: Unidade | G35: 339039.63 | H35: 360 | J35: =I35-(SUM(L35:M35)) -> 0 | K35: =IF(J35<0,"ATENÇÃO","OK") -> OK
C36: 33 | D36: Placa em PVC branco, impressão digital 4x0 cores, resolução mínima 300 dpi's e espessura de 2mm, com fixação dupla face de espuma acrílica para ambiente interno de no mínimo 20mm de largura e de no mínimo 10 cm de tamanho para cada 150g de placa. | E36: 25 x 10 cm | F36: Unidade | G36: 339039.63 | H36: 3.75 | J36: =I36-(SUM(L36:M36)) -> 0 | K36: =IF(J36<0,"ATENÇÃO","OK") -> OK
C37: 34 | D37: Placa em PVC branco em formato "V" para ser apoiado sobre balção, impressão digital 4x0 cores, resolução mínima 300 dpi's e espessura de 2mm. | E37: 25 x 15 cm(plano) | F37: Unidade | G37: 339039.63 | H37: 35.06 | J37: =I37-(SUM(L37:M37)) -> 0 | K37: =IF(J37<0,"ATENÇÃO","OK") -> OK
A38: Webergrafic Comércio de Materiais Gráficos LTDA - ME | B38: 10 | C38: 35 | D38: Plotagem, impressão 4x0 cores, em papel sulfite de 75 g/m2 de gramatura mínima. | E38: Formato A0 ("A" Zero - 84,1 X 118,9cm) | F38: Unidade | G38: 339039.63 | H38: 73.39 | J38: =I38-(SUM(L38:M38)) -> 0 | K38: =IF(J38<0,"ATENÇÃO","OK") -> OK
C39: 36 | D39: Plotagem, impressão monocromática, em papel sulfite de 75 g/m2 de gramatura mínima. | E39: Formato A0 ("A" Zero - 84,1 X 118,9cm) | F39: Unidade | G39: 339039.63 | H39: 73.38 | J39: =I39-(SUM(L39:M39)) -> 0 | K39: =IF(J39<0,"ATENÇÃO","OK") -> OK
A40: Webergrafic Comércio de Materiais Gráficos LTDA - ME | B40: 11 | C40: 37 | D40: Adesivo em vinil transparente para vidro de carro, impressão digital 4x0 cores, resolução mínima 300 dpi's e 26 a 30 g/m² de gramatura mínima de cola; acabamento corte especial a faca (adesivo circular). | E40: Diametro de 8cm | F40: Unidade | G40: 339039.63 | H40: 3 | J40: =I40-(SUM(L40:M40)) -> 0 | K40: =IF(J40<0,"ATENÇÃO","OK") -> OK
A41: Webergrafic Comércio de Materiais Gráficos LTDA - ME | B41: 12 | C41: 38 | D41: Adesivo recortado em vinil colorido Gold Max (cores diversas a escolher), para adesivagem, com instalação. | E41: 12m² | F41: Unidade | G41: 339039.63 | H41: 1050 | J41: =I41-(SUM(L41:M41)) -> 0 | K41: =IF(J41<0,"ATENÇÃO","OK") -> OK
A42: Webergrafic Comércio de Materiais Gráficos LTDA - ME | B42: 13 | C42: 39 | D42: Adesivo vinílico colorido (cores diversas a escolher), para aplicação em Placa de MDF. | E42: 80 X 60 cm | F42: Unidade | G42: 339039.63 | H42: 26.95 | J42: =I42-(SUM(L42:M42)) -> 0 | K42: =IF(J42<0,"ATENÇÃO","OK") -> OK
C43: 40 | D43: Placa em MDF 3mm. Pintada e envernizada com texto em vinil colorido (cores diversas a escolher). | E43: 60 X 10 cm | F43: Unidade | G43: 339039.63 | H43: 16.85 | J43: =I43-(SUM(L43:M43)) -> 0 | K43: =IF(J43<0,"ATENÇÃO","OK") -> OK
C44: 41 | D44: Adesivo vinílico colorido (cores diversas a escolher), para aplicação em Placa de MDF. | E44: 60 X 40 cm | F44: Unidade | G44: 339039.63 | H44: 13.48 | J44: =I44-(SUM(L44:M44)) -> 0 | K44: =IF(J44<0,"ATENÇÃO","OK") -> OK
C45: 42 | D45: Adesivo vinílico colorido (cores diversas a escolher). Arredondamento do canto inferior direito é de 100 pontos. Para numeração sequencial. | E45: 10 X 6,5 cm | F45: Unidade | G45: 339039.63 | H45: 3.64 | J45: =I45-(SUM(L45:M45)) -> 0 | K45: =IF(J45<0,"ATENÇÃO","OK") -> OK
C46: 43 | D46: Adesivo para renovação do Totem de entrada. Texto em vinil recortado colorido (cores diversas a escolher). | E46: 1,70 X 0,60 m | F46: Unidade | G46: 339039.63 | H46: 59 | J46: =I46-(SUM(L46:M46)) -> 0 | K46: =IF(J46<0,"ATENÇÃO","OK") -> OK
A47: Webergrafic Comércio de Materiais Gráficos LTDA - ME | B47: 14 | C47: 44 | D47: Adesivo numerado com quatro digitos em vinil transparente para uso interno em veículo, impressão digital 4x0 cores, resolução mínima 300 dpi's e 26 a 30 g/m² de gramatura | E47: 9 x 6 cm | F47: Unidade | G47: 339039.63 | H47: 0.31 | I47: 2800 | J47: =I47-(SUM(L47:M47)) -> 2800 | K47: =IF(J47<0,"ATENÇÃO","OK") -> OK

Sheet Biblioteca
A1: PROCESSO: 0354/2015/UDESC | D1: OBJETO: SERVIÇOS GRÁFICOS PARA A UDESC | I1: VIGÊNCIA DA ATA: 01/07/2015 até 30/06/2016 | L1: OS nº 1760/2015 Qtde. DT
A2: CENTRO PARTICIPANTE: Biblioteca
A3: FORNECEDOR | B3: LOTE | C3: ITEM | D3: PRODUTO - CARACTERÍSTICAS MÍNIMAS | E3: Dimensões | F3: Unidade | G3: DETALHAMENTO | H3: Preço UNITÁRIO (R$) | I3: Qtde Registrada | J3: Saldo / Automático | K3: ALERTA | L3: 42276
A4: Seriprint Comunicação Visual LTDA - ME | B4: 1 | C4: 1 | D4: Banner em lona, impressão digital 4x0 cores, resolução mínima 720 dpi's e 280 g/m² de gramatura mínima; e suporte: 1) em madeira em duas das menores extremidades e acabamento com ponteira de PVC (grampeada) e corda trançada de no mínimo 4mm e de resistência suficiente e compatível com o banner; ou 2) com ilhóses dispostos de 20 em 20 cm, em ferro ou alumínio e de diâmetro compatível com a corda utilizada - corda trançada de no mínimo 4mm e de resistência suficiente e compatível com o banner. | E4: 50 X 70 cm | F4: Unidade | G4: 339039.63 | H4: 10.3 | I4: 4 | J4: =I4-(SUM(L4:L4)) -> 4 | K4: =IF(J4<0,"ATENÇÃO","OK") -> OK
C5: 2 | E5: 90 X 150 cm | F5: Unidade | G5: 339039.63 | H5: 36.2 | I5: 1 | J5: =I5-(SUM(L5:L5)) -> 1 | K5: =IF(J5<0,"ATENÇÃO","OK") -> OK
C6: 3 | E6: 90 X 120 cm | F6: Unidade | G6: 339039.63 | H6: 33 | I6: 1 | J6: =I6-(SUM(L6:L6)) -> 1 | K6: =IF(J6<0,"ATENÇÃO","OK") -> OK
C7: 4 | E7: 110 X 150 cm | F7: Unidade | G7: 339039.63 | H7: 39 | I7: 1 | J7: =I7-(SUM(L7:L7)) -> 1 | K7: =IF(J7<0,"ATENÇÃO","OK") -> OK
C8: 5 | E8: 130 X 180 cm | F8: Unidade | G8: 339039.63 | H8: 52.3 | I8: 1 | J8: =I8-(SUM(L8:L8)) -> 1 | K8: =IF(J8<0,"ATENÇÃO","OK") -> OK
C9: 6 | E9: 50 X 300 cm | F9: Unidade | G9: 339039.63 | H9: 34 | I9: 1 | J9: =I9-(SUM(L9:L9)) -> 1 | K9: =IF(J9<0,"ATENÇÃO","OK") -> OK
C10: 7 | E10: 70 X 400 cm | F10: Unidade | G10: 339039.63 | H10: 59 | I10: 1 | J10: =I10-(SUM(L10:L10)) -> 1 | K10: =IF(J10<0,"ATENÇÃO","OK") -> OK
C11: 8 | E11: 140 cm X metro linear | F11: metro | G11: 339039.63 | H11: 26 | I11: 1 | J11: =I11-(SUM(L11:L11)) -> 1 | K11: =IF(J11<0,"ATENÇÃO","OK") -> OK
C12: 9 | E12: 80 X 110 cm | F12: Unidade | G12: 339039.63 | H12: 29.3 | I12: 1 | J12: =I12-(SUM(L12:L12)) -> 1 | K12: =IF(J12<0,"ATENÇÃO","OK") -> OK
C13: 10 | E13: 80 X 120 cm | F13: Unidade | G13: 339039.63 | H13: 30 | I13: 1 | J13: =I13-(SUM(L13:L13)) -> 1 | K13: =IF(J13<0,"ATENÇÃO","OK") -> OK
C14: 11 | E14: 90 X 110 cm | F14: Unidade | G14: 339039.63 | H14: 25 | I14: 1 | J14: =I14-(SUM(L14:L14)) -> 1 | K14: =IF(J14<0,"ATENÇÃO","OK") -> OK
C15: 12 | D15: Frontlight em lona, impressão digital 4x0 cores, resolução mínima 1200 dpi's e 440 g/m² de gramatura mínima; fixado com ilhóses dispostos de 20 em 20 cm, em ferro ou alumínio e de diâmetro compatível com a corda utilizada - corda trançada de no mínimo 4mm e de resistência suficiente e compatível com o frontlight. | E15: 320 cm X metro linear | F15: metro | G15: 339039.63 | H15: 65 | I15: 1 | J15: =I15-(SUM(L15:L15)) -> 1 | K15: =IF(J15<0,"ATENÇÃO","OK") -> OK
C16: 13 | E16: 650 X 150 cm | F16: Unidade | G16: 339039.63 | H16: 189.86 | I16: 1 | J16: =I16-(SUM(L16:L16)) -> 1 | K16: =IF(J16<0,"ATENÇÃO","OK") -> OK
C17: 14 | E17: 250 X 120 cm | F17: Unidade | G17: 339039.63 | H17: 73 | I17: 2 | J17: =I17-(SUM(L17:L17)) -> 2 | K17: =IF(J17<0,"ATENÇÃO","OK") -> OK
A18: Webergrafic Comércio de Materiais Gráficos LTDA - ME | B18: 2 | C18: 15 | D18: Banner em papel fotográfico com laminação brilhante, resolução mínima de 600 dpi's e 280g/m² de gramatura mínima, suporte em plástico em duas das menores extremidades e corda de no mínimo 1mm e de resistência suficiente e compatível com o banner. | E18: 90 cm X metro linear | F18: metro | G18: 339039.63 | H18: 49.5 | I18: 1 | J18: =I18-(SUM(L18:L18)) -> 1 | K18: =IF(J18<0,"ATENÇÃO","OK") -> OK
A19: Webergrafic Comércio de Materiais Gráficos LTDA - ME | B19: 3 | C19: 16 | D19: Banner em tecido. Impressão digital em tecido. Policromia: 4 x 0 cores. Resolução mínima de 1200 dpi´s. Acabamento em madeira (cabo redondo) nas duas extremidades menores, sendo encaixado internamente na costura do tecido para fechamento escondendo o varão, com ponteiras em PVC e corda trançada de no mínimo 4 mm e com resistência suficiente para sustentar o banner de tecido. | E19: 90 cm x metro linear | F19: metro | G19: 339039.63 | H19: 40.19 | I19: 1 | J19: =I19-(SUM(L19:L19)) -> 1 | K19: =IF(J19<0,"ATENÇÃO","OK") -> OK
A20: Webergrafic Comércio de Materiais Gráficos LTDA - ME | B20: 4 | C20: 17 | D20: Frontlight em lona, impressão digital 4x0 cores, resolução mínima 1200 dpi's e 440 g/m² de gramatura mínima; fixado com ilhóses dispostos de 20 em 20 cm, em ferro ou alumínio e de diâmetro compatível com a corda utilizada - corda trançada de no mínimo 4mm e de resistência suficiente e compatível com o frontlight. INSTALADO E RETIRADA. | E20: 255 X 275 cm | F20: Unidade | G20: 339039.63 | H20: 429.72 | I20: 4 | J20: =I20-(SUM(L20:L20)) -> 4 | K20: =IF(J20<0,"ATENÇÃO","OK") -> OK
C21: 18 | E21: 295 X 875 cm | F21: Unidade | G21: 339039.63 | H21: 1055.06 | I21: 4 | J21: =I21-(SUM(L21:L21)) -> 4 | K21: =IF(J21<0,"ATENÇÃO","OK") -> OK
C22: 19 | E22: 310 X 914 cm | F22: Unidade | G22: 339039.63 | H22: 1157.2 | I22: 4 | J22: =I22-(SUM(L22:L22)) -> 4 | K22: =IF(J22<0,"ATENÇÃO","OK") -> OK
A23: Webergrafic Comércio de Materiais Gráficos LTDA - ME | B23: 5 | C23: 20 | D23: Adesivo perfurado para vidro traseiro de automóveis, impressão digital 4x0 cores, resolução mínima 720 dpi's; com no mínimo 40% de transmissão luminosa (nos termos da RES 254/2007 CONTRAN). | E23: 35 X 90 cm | F23: Unidade | G23: 339039.63 | H23: 11.33 | J23: =I23-(SUM(L23:L23)) -> 0 | K23: =IF(J23<0,"ATENÇÃO","OK") -> OK
A24: Webergrafic Comércio de Materiais Gráficos LTDA - ME | B24: 6 | C24: 21 | D24: Adesivo em vinil, impressão digital 4x0 cores, resolução mínima 300 dpi's e 26 a 30 g/m² de gramatura mínima de cola; acabamento meio corte especial com faca. | E24: 7 X 9 cm | F24: Unidade | G24: 339039.63 | H24: 0.4 | J24: =I24-(SUM(L24:L24)) -> 0 | K24: =IF(J24<0,"ATENÇÃO","OK") -> OK
C25: 22 | D25: Adesivo em vinil transparente para vidro, impressão digital 4x0 cores, resolução mínima 300 dpi's e 26 a 30 g/m² de gramatura mínima de cola; acabamento corte reto. | E25: 5 X 20 cm | F25: Unidade | G25: 339039.63 | H25: 0.5 | J25: =I25-(SUM(L25:L25)) -> 0 | K25: =IF(J25<0,"ATENÇÃO","OK") -> OK
C26: 23 | E26: 10 X 25 cm | F26: Unidade | G26: 339039.63 | H26: 1.27 | J26: =I26-(SUM(L26:L26)) -> 0 | K26: =IF(J26<0,"ATENÇÃO","OK") -> OK
C27: 24 | D27: Adesivo em vinil resistente a água e cloro, próprio para áreas com piscinas, impressão digital 4x0 cores, resolução mínima 300 dpi's e 26 a 30 g/m2 de gramatura mínima de cola; acabamento corte reto. | E27: 5 X 20 cm | F27: Unidade | G27: 339039.63 | H27: 0.5 | J27: =I27-(SUM(L27:L27)) -> 0 | K27: =IF(J27<0,"ATENÇÃO","OK") -> OK
C28: 25 | E28: 10 X 25 cm | F28: Unidade | G28: 339039.63 | H28: 1.27 | J28: =I28-(SUM(L28:L28)) -> 0 | K28: =IF(J28<0,"ATENÇÃO","OK") -> OK
C29: 26 | D29: Adesivo recortado em vinil colorido (cores diversas a escolher), para adesivagem. | E29: 90 cm x metro linear | F29: metro | G29: 339039.63 | H29: 38.16 | J29: =I29-(SUM(L29:L29)) -> 0 | K29: =IF(J29<0,"ATENÇÃO","OK") -> OK
C30: 27 | D30: Adesivo em vinil, impressão digital 4x0 cores, resolução mínima 300 dpi's e 26 a 30 g/m² de gramatura mínima de cola; acabamento meio corte especial com faca. | E30: 75 cm X metro linear | F30: metro | G30: 339039.63 | H30: 44.5 | J30: =I30-(SUM(L30:L30)) -> 0 | K30: =IF(J30<0,"ATENÇÃO","OK") -> OK
C31: 28 | D31: Adesivo em vinil resistente a água e cloro, próprio para áreas com piscinas, impressão digital 4x0 cores, resolução mínima 300 dpi's e 26 a 30 g/m2 de gramatura mínima de cola; acabamento corte reto. | E31: 15 cm X metro linear | F31: metro | G31: 339039.63 | H31: 37.03 | J31: =I31-(SUM(L31:L31)) -> 0 | K31: =IF(J31<0,"ATENÇÃO","OK") -> OK
A32: Webergrafic Comércio de Materiais Gráficos LTDA - ME | B32: 7 | C32: 29 | D32: Adesivo com impressão digital em caixa metálica de plataforma elevatória ("elevador"); impressão digital em material vinil autoadesivo; acabamento em laminação fosca; instalado; inclui adequação de layout; sugere-se visita técnica para conhecimento. | E32: m² | F32: metro² | G32: 339039.63 | H32: 97.5 | J32: =I32-(SUM(L32:L32)) -> 0 | K32: =IF(J32<0,"ATENÇÃO","OK") -> OK
A33: Webergrafic Comércio de Materiais Gráficos LTDA - ME | B33: 8 | C33: 30 | D33: Crachá em cartão PVC laminado branco, impressão digital 4x1 cores, resolução mínima 300 dpi's e espessura de 0,70 a 0,80mm cantos arredondados, com perfuração entre 15 a 20mm compatível com grampo de metal tipo jacaré do cordão. | E33: 5,4 X 8,60 cm | F33: Unidade | G33: 339039.63 | H33: 5.99 | J33: =I33-(SUM(L33:L33)) -> 0 | K33: =IF(J33<0,"ATENÇÃO","OK") -> OK
C34: 31 | D34: Cordão para crachá personalizado em impressão digital, com grampo de metal tipo jacaré, em 100% poliéster. | E34: 1,3 a 1,6 X 80 a 90 cm | F34: Unidade | G34: 339039.63 | H34: 2.75 | J34: =I34-(SUM(L34:L34)) -> 0 | K34: =IF(J34<0,"ATENÇÃO","OK") -> OK
A35: Ferroprint Tecnologia LTDA - ME | B35: 9 | C35: 32 | D35: Placa em PVC branco, impressão digital 4x0 cores, resolução mínima 300 dpi's e espessura de 2mm, com fixação dupla face de espuma acrílica para ambiente externo de no mínimo 20mm de largura e de no mínimo 10 cm de tamanho para cada 150g de placa. | E35: 200 X 120 cm | F35: Unidade | G35: 339039.63 | H35: 360 | J35: =I35-(SUM(L35:L35)) -> 0 | K35: =IF(J35<0,"ATENÇÃO","OK") -> OK
C36: 33 | D36: Placa em PVC branco, impressão digital 4x0 cores, resolução mínima 300 dpi's e espessura de 2mm, com fixação dupla face de espuma acrílica para ambiente interno de no mínimo 20mm de largura e de no mínimo 10 cm de tamanho para cada 150g de placa. | E36: 25 x 10 cm | F36: Unidade | G36: 339039.63 | H36: 3.75 | J36: =I36-(SUM(L36:L36)) -> 0 | K36: =IF(J36<0,"ATENÇÃO","OK") -> OK
C37: 34 | D37: Placa em PVC branco em formato "V" para ser apoiado sobre balção, impressão digital 4x0 cores, resolução mínima 300 dpi's e espessura de 2mm. | E37: 25 x 15 cm(plano) | F37: Unidade | G37: 339039.63 | H37: 35.06 | J37: =I37-(SUM(L37:L37)) -> 0 | K37: =IF(J37<0,"ATENÇÃO","OK") -> OK
A38: Webergrafic Comércio de Materiais Gráficos LTDA - ME | B38: 10 | C38: 35 | D38: Plotagem, impressão 4x0 cores, em papel sulfite de 75 g/m2 de gramatura mínima. | E38: Formato A0 ("A" Zero - 84,1 X 118,9cm) | F38: Unidade | G38: 339039.63 | H38: 73.39 | J38: =I38-(SUM(L38:L38)) -> 0 | K38: =IF(J38<0,"ATENÇÃO","OK") -> OK
C39: 36 | D39: Plotagem, impressão monocromática, em papel sulfite de 75 g/m2 de gramatura mínima. | E39: Formato A0 ("A" Zero - 84,1 X 118,9cm) | F39: Unidade | G39: 339039.63 | H39: 73.38 | J39: =I39-(SUM(L39:L39)) -> 0 | K39: =IF(J39<0,"ATENÇÃO","OK") -> OK
A40: Webergrafic Comércio de Materiais Gráficos LTDA - ME | B40: 11 | C40: 37 | D40: Adesivo em vinil transparente para vidro de carro, impressão digital 4x0 cores, resolução mínima 300 dpi's e 26 a 30 g/m² de gramatura mínima de cola; acabamento corte especial a faca (adesivo circular). | E40: Diametro de 8cm | F40: Unidade | G40: 339039.63 | H40: 3 | J40: =I40-(SUM(L40:L40)) -> 0 | K40: =IF(J40<0,"ATENÇÃO","OK") -> OK
A41: Webergrafic Comércio de Materiais Gráficos LTDA - ME | B41: 12 | C41: 38 | D41: Adesivo recortado em vinil colorido Gold Max (cores diversas a escolher), para adesivagem, com instalação. | E41: 12m² | F41: Unidade | G41: 339039.63 | H41: 1050 | J41: =I41-(SUM(L41:L41)) -> 0 | K41: =IF(J41<0,"ATENÇÃO","OK") -> OK
A42: Webergrafic Comércio de Materiais Gráficos LTDA - ME | B42: 13 | C42: 39 | D42: Adesivo vinílico colorido (cores diversas a escolher), para aplicação em Placa de MDF. | E42: 80 X 60 cm | F42: Unidade | G42: 339039.63 | H42: 26.95 | I42: 4 | J42: =I42-(SUM(L42:L42)) -> 0 | K42: =IF(J42<0,"ATENÇÃO","OK") -> OK | L42: 4
C43: 40 | D43: Placa em MDF 3mm. Pintada e envernizada com texto em vinil colorido (cores diversas a escolher). | E43: 60 X 10 cm | F43: Unidade | G43: 339039.63 | H43: 16.85 | I43: 19 | J43: =I43-(SUM(L43:L43)) -> 3 | K43: =IF(J43<0,"ATENÇÃO","OK") -> OK | L43: 16
C44: 41 | D44: Adesivo vinílico colorido (cores diversas a escolher), para aplicação em Placa de MDF. | E44: 60 X 40 cm | F44: Unidade | G44: 339039.63 | H44: 13.48 | I44: 8 | J44: =I44-(SUM(L44:L44)) -> 0 | K44: =IF(J44<0,"ATENÇÃO","OK") -> OK | L44: 8
C45: 42 | D45: Adesivo vinílico colorido (cores diversas a escolher). Arredondamento do canto inferior direito é de 100 pontos. Para numeração sequencial. | E45: 10 X 6,5 cm | F45: Unidade | G45: 339039.63 | H45: 3.64 | I45: 180 | J45: =I45-(SUM(L45:L45)) -> 0 | K45: =IF(J45<0,"ATENÇÃO","OK") -> OK | L45: 180
C46: 43 | D46: Adesivo para renovação do Totem de entrada. Texto em vinil recortado colorido (cores diversas a escolher). | E46: 1,70 X 0,60 m | F46: Unidade | G46: 339039.63 | H46: 59 | I46: 1 | J46: =I46-(SUM(L46:L46)) -> 0 | K46: =IF(J46<0,"ATENÇÃO","OK") -> OK | L46: 1
A47: Webergrafic Comércio de Materiais Gráficos LTDA - ME | B47: 14 | C47: 44 | D47: Adesivo numerado com quatro digitos em vinil transparente para uso interno em veículo, impressão digital 4x0 cores, resolução mínima 300 dpi's e 26 a 30 g/m² de gramatura | E47: 9 x 6 cm | F47: Unidade | G47: 339039.63 | H47: 0.31 | J47: =I47-(SUM(L47:L47)) -> 0 | K47: =IF(J47<0,"ATENÇÃO","OK") -> OK

Sheet PROEX
A1: PROCESSO: 0354/2015/UDESC | D1: OBJETO: SERVIÇOS GRÁFICOS PARA A UDESC | I1: VIGÊNCIA DA ATA: 01/07/2015 até 30/06/2016 | L1: OS nº 1151/2015 Qtde. DT | M1: OS nº 2180/2015 Qtde. DT | N1: OS nº 244/2016 Qtde. DT | O1: OS nº 669/2016 Qtde. DT | P1: OS nº 487/2016 Qtde. DT
A2: CENTRO PARTICIPANTE: PROEX
A3: FORNECEDOR | B3: LOTE | C3: ITEM | D3: PRODUTO - CARACTERÍSTICAS MÍNIMAS | E3: Dimensões | F3: Unidade | G3: DETALHAMENTO | H3: Preço UNITÁRIO (R$) | I3: Qtde Registrada | J3: Saldo / Automático | K3: ALERTA | L3: 42192 | M3: 42324 | N3: 42444 | O3: 42536 | P3: 42550
A4: Seriprint Comunicação Visual LTDA - ME | B4: 1 | C4: 1 | D4: Banner em lona, impressão digital 4x0 cores, resolução mínima 720 dpi's e 280 g/m² de gramatura mínima; e suporte: 1) em madeira em duas das menores extremidades e acabamento com ponteira de PVC (grampeada) e corda trançada de no mínimo 4mm e de resistência suficiente e compatível com o banner; ou 2) com ilhóses dispostos de 20 em 20 cm, em ferro ou alumínio e de diâmetro compatível com a corda utilizada - corda trançada de no mínimo 4mm e de resistência suficiente e compatível com o banner. | E4: 50 X 70 cm | F4: Unidade | G4: 339039.63 | H4: 10.3 | I4: 50 | J4: =I4-(SUM(L4:P4)) -> 50 | K4: =IF(J4<0,"ATENÇÃO","OK") -> OK
C5: 2 | E5: 90 X 150 cm | F5: Unidade | G5: 339039.63 | H5: 36.2 | J5: =I5-(SUM(L5:P5)) -> 0 | K5: =IF(J5<0,"ATENÇÃO","OK") -> OK
C6: 3 | E6: 90 X 120 cm | F6: Unidade | G6: 339039.63 | H6: 33 | I6: 410 | J6: =I6-(SUM(L6:P6)) -> 70 | K6: =IF(J6<0,"ATENÇÃO","OK") -> OK | L6: 250 | N6: 40 | P6: 50
C7: 4 | E7: 110 X 150 cm | F7: Unidade | G7: 339039.63 | H7: 39 | I7: 50 | J7: =I7-(SUM(L7:P7)) -> 32 | K7: =IF(J7<0,"ATENÇÃO","OK") -> OK | P7: 18
C8: 5 | E8: 130 X 180 cm | F8: Unidade | G8: 339039.63 | H8: 52.3 | I8: 55 | J8: =I8-(SUM(L8:P8)) -> 55 | K8: =IF(J8<0,"ATENÇÃO","OK") -> OK
C9: 6 | E9: 50 X 300 cm | F9: Unidade | G9: 339039.63 | H9: 34 | I9: 10 | J9: =I9-(SUM(L9:P9)) -> 10 | K9: =IF(J9<0,"ATENÇÃO","OK") -> OK
C10: 7 | E10: 70 X 400 cm | F10: Unidade | G10: 339039.63 | H10: 59 | I10: 10 | J10: =I10-(SUM(L10:P10)) -> 10 | K10: =IF(J10<0,"ATENÇÃO","OK") -> OK
C11: 8 | E11: 140 cm X metro linear | F11: metro | G11: 339039.63 | H11: 26 | I11: 30 | J11: =I11-(SUM(L11:P11)) -> 30 | K11: =IF(J11<0,"ATENÇÃO","OK") -> OK
C12: 9 | E12: 80 X 110 cm | F12: Unidade | G12: 339039.63 | H12: 29.3 | J12: =I12-(SUM(L12:P12)) -> 0 | K12: =IF(J12<0,"ATENÇÃO","OK") -> OK
C13: 10 | E13: 80 X 120 cm | F13: Unidade | G13: 339039.63 | H13: 30 | J13: =I13-(SUM(L13:P13)) -> 0 | K13: =IF(J13<0,"ATENÇÃO","OK") -> OK
C14: 11 | E14: 90 X 110 cm | F14: Unidade | G14: 339039.63 | H14: 25 | J14: =I14-(SUM(L14:P14)) -> 0 | K14: =IF(J14<0,"ATENÇÃO","OK") -> OK
C15: 12 | D15: Frontlight em lona, impressão digital 4x0 cores, resolução mínima 1200 dpi's e 440 g/m² de gramatura mínima; fixado com ilhóses dispostos de 20 em 20 cm, em ferro ou alumínio e de diâmetro compatível com a corda utilizada - corda trançada de no mínimo 4mm e de resistência suficiente e compatível com o frontlight. | E15: 320 cm X metro linear | F15: metro | G15: 339039.63 | H15: 65 | I15: 30 | J15: =I15-(SUM(L15:P15)) -> 30 | K15: =IF(J15<0,"ATENÇÃO","OK") -> OK
C16: 13 | E16: 650 X 150 cm | F16: Unidade | G16: 339039.63 | H16: 189.86 | J16: =I16-(SUM(L16:P16)) -> 0 | K16: =IF(J16<0,"ATENÇÃO","OK") -> OK
C17: 14 | E17: 250 X 120 cm | F17: Unidade | G17: 339039.63 | H17: 73 | J17: =I17-(SUM(L17:P17)) -> 0 | K17: =IF(J17<0,"ATENÇÃO","OK") -> OK
A18: Webergrafic Comércio de Materiais Gráficos LTDA - ME | B18: 2 | C18: 15 | D18: Banner em papel fotográfico com laminação brilhante, resolução mínima de 600 dpi's e 280g/m² de gramatura mínima, suporte em plástico em duas das menores extremidades e corda de no mínimo 1mm e de resistência suficiente e compatível com o banner. | E18: 90 cm X metro linear | F18: metro | G18: 339039.63 | H18: 49.5 | I18: 53 | J18: =I18-(SUM(L18:P18)) -> 53 | K18: =IF(J18<0,"ATENÇÃO","OK") -> OK
A19: Webergrafic Comércio de Materiais Gráficos LTDA - ME | B19: 3 | C19: 16 | D19: Banner em tecido. Impressão digital em tecido. Policromia: 4 x 0 cores. Resolução mínima de 1200 dpi´s. Acabamento em madeira (cabo redondo) nas duas extremidades menores, sendo encaixado internamente na costura do tecido para fechamento escondendo o varão, com ponteiras em PVC e corda trançada de no mínimo 4 mm e com resistência suficiente para sustentar o banner de tecido. | E19: 90 cm x metro linear | F19: metro | G19: 339039.63 | H19: 40.19 | J19: =I19-(SUM(L19:P19)) -> 0 | K19: =IF(J19<0,"ATENÇÃO","OK") -> OK
A20: Webergrafic Comércio de Materiais Gráficos LTDA - ME | B20: 4 | C20: 17 | D20: Frontlight em lona, impressão digital 4x0 cores, resolução mínima 1200 dpi's e 440 g/m² de gramatura mínima; fixado com ilhóses dispostos de 20 em 20 cm, em ferro ou alumínio e de diâmetro compatível com a corda utilizada - corda trançada de no mínimo 4mm e de resistência suficiente e compatível com o frontlight. INSTALADO E RETIRADA. | E20: 255 X 275 cm | F20: Unidade | G20: 339039.63 | H20: 429.72 | J20: =I20-(SUM(L20:P20)) -> 0 | K20: =IF(J20<0,"ATENÇÃO","OK") -> OK
C21: 18 | E21: 295 X 875 cm | F21: Unidade | G21: 339039.63 | H21: 1055.06 | J21: =I21-(SUM(L21:P21)) -> 0 | K21: =IF(J21<0,"ATENÇÃO","OK") -> OK
C22: 19 | E22: 310 X 914 cm | F22: Unidade | G22: 339039.63 | H22: 1157.2 | J22: =I22-(SUM(L22:P22)) -> 0 | K22: =IF(J22<0,"ATENÇÃO","OK") -> OK
A23: Webergrafic Comércio de Materiais Gráficos LTDA - ME | B23: 5 | C23: 20 | D23: Adesivo perfurado para vidro traseiro de automóveis, impressão digital 4x0 cores, resolução mínima 720 dpi's; com no mínimo 40% de transmissão luminosa (nos termos da RES 254/2007 CONTRAN). | E23: 35 X 90 cm | F23: Unidade | G23: 339039.63 | H23: 11.33 | J23: =I23-(SUM(L23:P23)) -> 0 | K23: =IF(J23<0,"ATENÇÃO","OK") -> OK
A24: Webergrafic Comércio de Materiais Gráficos LTDA - ME | B24: 6 | C24: 21 | D24: Adesivo em vinil, impressão digital 4x0 cores, resolução mínima 300 dpi's e 26 a 30 g/m² de gramatura mínima de cola; acabamento meio corte especial com faca. | E24: 7 X 9 cm | F24: Unidade | G24: 339039.63 | H24: 0.4 | I24: 1000 | J24: =I24-(SUM(L24:P24)) -> 1000 | K24: =IF(J24<0,"ATENÇÃO","OK") -> OK
C25: 22 | D25: Adesivo em vinil transparente para vidro, impressão digital 4x0 cores, resolução mínima 300 dpi's e 26 a 30 g/m² de gramatura mínima de cola; acabamento corte reto. | E25: 5 X 20 cm | F25: Unidade | G25: 339039.63 | H25: 0.5 | J25: =I25-(SUM(L25:P25)) -> 0 | K25: =IF(J25<0,"ATENÇÃO","OK") -> OK
C26: 23 | E26: 10 X 25 cm | F26: Unidade | G26: 339039.63 | H26: 1.27 | J26: =I26-(SUM(L26:P26)) -> 0 | K26: =IF(J26<0,"ATENÇÃO","OK") -> OK
C27: 24 | D27: Adesivo em vinil resistente a água e cloro, próprio para áreas com piscinas, impressão digital 4x0 cores, resolução mínima 300 dpi's e 26 a 30 g/m2 de gramatura mínima de cola; acabamento corte reto. | E27: 5 X 20 cm | F27: Unidade | G27: 339039.63 | H27: 0.5 | I27: 500 | J27: =I27-(SUM(L27:P27)) -> 500 | K27: =IF(J27<0,"ATENÇÃO","OK") -> OK
C28: 25 | E28: 10 X 25 cm | F28: Unidade | G28: 339039.63 | H28: 1.27 | J28: =I28-(SUM(L28:P28)) -> 0 | K28: =IF(J28<0,"ATENÇÃO","OK") -> OK
C29: 26 | D29: Adesivo recortado em vinil colorido (cores diversas a escolher), para adesivagem. | E29: 90 cm x metro linear | F29: metro | G29: 339039.63 | H29: 38.16 | J29: =I29-(SUM(L29:P29)) -> 0 | K29: =IF(J29<0,"ATENÇÃO","OK") -> OK
C30: 27 | D30: Adesivo em vinil, impressão digital 4x0 cores, resolução mínima 300 dpi's e 26 a 30 g/m² de gramatura mínima de cola; acabamento meio corte especial com faca. | E30: 75 cm X metro linear | F30: metro | G30: 339039.63 | H30: 44.5 | J30: =I30-(SUM(L30:P30)) -> 0 | K30: =IF(J30<0,"ATENÇÃO","OK") -> OK
C31: 28 | D31: Adesivo em vinil resistente a água e cloro, próprio para áreas com piscinas, impressão digital 4x0 cores, resolução mínima 300 dpi's e 26 a 30 g/m2 de gramatura mínima de cola; acabamento corte reto. | E31: 15 cm X metro linear | F31: metro | G31: 339039.63 | H31: 37.03 | J31: =I31-(SUM(L31:P31)) -> 0 | K31: =IF(J31<0,"ATENÇÃO","OK") -> OK
A32: Webergrafic Comércio de Materiais Gráficos LTDA - ME | B32: 7 | C32: 29 | D32: Adesivo com impressão digital em caixa metálica de plataforma elevatória ("elevador"); impressão digital em material vinil autoadesivo; acabamento em laminação fosca; instalado; inclui adequação de layout; sugere-se visita técnica para conhecimento. | E32: m² | F32: metro² | G32: 339039.63 | H32: 97.5 | J32: =I32-(SUM(L32:P32)) -> 0 | K32: =IF(J32<0,"ATENÇÃO","OK") -> OK
A33: Webergrafic Comércio de Materiais Gráficos LTDA - ME | B33: 8 | C33: 30 | D33: Crachá em cartão PVC laminado branco, impressão digital 4x1 cores, resolução mínima 300 dpi's e espessura de 0,70 a 0,80mm cantos arredondados, com perfuração entre 15 a 20mm compatível com grampo de metal tipo jacaré do cordão. | E33: 5,4 X 8,60 cm | F33: Unidade | G33: 339039.63 | H33: 5.99 | J33: =I33-(SUM(L33:P33)) -> 0 | K33: =IF(J33<0,"ATENÇÃO","OK") -> OK
C34: 31 | D34: Cordão para crachá personalizado em impressão digital, com grampo de metal tipo jacaré, em 100% poliéster. | E34: 1,3 a 1,6 X 80 a 90 cm | F34: Unidade | G34: 339039.63 | H34: 2.75 | J34: =I34-(SUM(L34:P34)) -> 0 | K34: =IF(J34<0,"ATENÇÃO","OK") -> OK
A35: Ferroprint Tecnologia LTDA - ME | B35: 9 | C35: 32 | D35: Placa em PVC branco, impressão digital 4x0 cores, resolução mínima 300 dpi's e espessura de 2mm, com fixação dupla face de espuma acrílica para ambiente externo de no mínimo 20mm de largura e de no mínimo 10 cm de tamanho para cada 150g de placa. | E35: 200 X 120 cm | F35: Unidade | G35: 339039.63 | H35: 360 | I35: 20 | J35: =I35-(SUM(L35:P35)) -> 18 | K35: =IF(J35<0,"ATENÇÃO","OK") -> OK | O35: 2
C36: 33 | D36: Placa em PVC branco, impressão digital 4x0 cores, resolução mínima 300 dpi's e espessura de 2mm, com fixação dupla face de espuma acrílica para ambiente interno de no mínimo 20mm de largura e de no mínimo 10 cm de tamanho para cada 150g de placa. | E36: 25 x 10 cm | F36: Unidade | G36: 339039.63 | H36: 3.75 | J36: =I36-(SUM(L36:P36)) -> 0 | K36: =IF(J36<0,"ATENÇÃO","OK") -> OK
C37: 34 | D37: Placa em PVC branco em formato "V" para ser apoiado sobre balção, impressão digital 4x0 cores, resolução mínima 300 dpi's e espessura de 2mm. | E37: 25 x 15 cm(plano) | F37: Unidade | G37: 339039.63 | H37: 35.06 | I37: =9 -> 9 | J37: =I37-(SUM(L37:P37)) -> 0 | K37: =IF(J37<0,"ATENÇÃO","OK") -> OK | M37: 9
A38: Webergrafic Comércio de Materiais Gráficos LTDA - ME | B38: 10 | C38: 35 | D38: Plotagem, impressão 4x0 cores, em papel sulfite de 75 g/m2 de gramatura mínima. | E38: Formato A0 ("A" Zero - 84,1 X 118,9cm) | F38: Unidade | G38: 339039.63 | H38: 73.39 | I38: 36 | J38: =I38-(SUM(L38:P38)) -> 36 | K38: =IF(J38<0,"ATENÇÃO","OK") -> OK
C39: 36 | D39: Plotagem, impressão monocromática, em papel sulfite de 75 g/m2 de gramatura mínima. | E39: Formato A0 ("A" Zero - 84,1 X 118,9cm) | F39: Unidade | G39: 339039.63 | H39: 73.38 | J39: =I39-(SUM(L39:P39)) -> 0 | K39: =IF(J39<0,"ATENÇÃO","OK") -> OK
A40: Webergrafic Comércio de Materiais Gráficos LTDA - ME | B40: 11 | C40: 37 | D40: Adesivo em vinil transparente para vidro de carro, impressão digital 4x0 cores, resolução mínima 300 dpi's e 26 a 30 g/m² de gramatura mínima de cola; acabamento corte especial a faca (adesivo circular). | E40: Diametro de 8cm | F40: Unidade | G40: 339039.63 | H40: 3 | J40: =I40-(SUM(L40:P40)) -> 0 | K40: =IF(J40<0,"ATENÇÃO","OK") -> OK
A41: Webergrafic Comércio de Materiais Gráficos LTDA - ME | B41: 12 | C41: 38 | D41: Adesivo recortado em vinil colorido Gold Max (cores diversas a escolher), para adesivagem, com instalação. | E41: 12m² | F41: Unidade | G41: 339039.63 | H41: 1050 | J41: =I41-(SUM(L41:P41)) -> 0 | K41: =IF(J41<0,"ATENÇÃO","OK") -> OK
A42: Webergrafic Comércio de Materiais Gráficos LTDA - ME | B42: 13 | C42: 39 | D42: Adesivo vinílico colorido (cores diversas a escolher), para aplicação em Placa de MDF. | E42: 80 X 60 cm | F42: Unidade | G42: 339039.63 | H42: 26.95 | J42: =I42-(SUM(L42:P42)) -> 0 | K42: =IF(J42<0,"ATENÇÃO","OK") -> OK
C43: 40 | D43: Placa em MDF 3mm. Pintada e envernizada com texto em vinil colorido (cores diversas a escolher). | E43: 60 X 10 cm | F43: Unidade | G43: 339039.63 | H43: 16.85 | J43: =I43-(SUM(L43:P43)) -> 0 | K43: =IF(J43<0,"ATENÇÃO","OK") -> OK
C44: 41 | D44: Adesivo vinílico colorido (cores diversas a escolher), para aplicação em Placa de MDF. | E44: 60 X 40 cm | F44: Unidade | G44: 339039.63 | H44: 13.48 | J44: =I44-(SUM(L44:P44)) -> 0 | K44: =IF(J44<0,"ATENÇÃO","OK") -> OK
C45: 42 | D45: Adesivo vinílico colorido (cores diversas a escolher). Arredondamento do canto inferior direito é de 100 pontos. Para numeração sequencial. | E45: 10 X 6,5 cm | F45: Unidade | G45: 339039.63 | H45: 3.64 | J45: =I45-(SUM(L45:P45)) -> 0 | K45: =IF(J45<0,"ATENÇÃO","OK") -> OK
C46: 43 | D46: Adesivo para renovação do Totem de entrada. Texto em vinil recortado colorido (cores diversas a escolher). | E46: 1,70 X 0,60 m | F46: Unidade | G46: 339039.63 | H46: 59 | J46: =I46-(SUM(L46:P46)) -> 0 | K46: =IF(J46<0,"ATENÇÃO","OK") -> OK
A47: Webergrafic Comércio de Materiais Gráficos LTDA - ME | B47: 14 | C47: 44 | D47: Adesivo numerado com quatro digitos em vinil transparente para uso interno em veículo, impressão digital 4x0 cores, resolução mínima 300 dpi's e 26 a 30 g/m² de gramatura | E47: 9 x 6 cm | F47: Unidade | G47: 339039.63 | H47: 0.31 | J47: =I47-(SUM(L47:P47)) -> 0 | K47: =IF(J47<0,"ATENÇÃO","OK") -> OK

Sheet Museu
A1: PROCESSO: 0354/2015/UDESC | D1: OBJETO: SERVIÇOS GRÁFICOS PARA A UDESC | I1: VIGÊNCIA DA ATA: 01/07/2015 até 30/06/2016 | L1: AF/OS nº xxxx/2015 Qtde. DT | M1: AF/OS nº xxxx/2015 Qtde. DT
A2: CENTRO PARTICIPANTE: Museu
A3: FORNECEDOR | B3: LOTE | C3: ITEM | D3: PRODUTO - CARACTERÍSTICAS MÍNIMAS | E3: Dimensões | F3: Unidade | G3: DETALHAMENTO | H3: Preço UNITÁRIO (R$) | I3: Qtde Registrada | J3: Saldo / Automático | K3: ALERTA | L3: ...../...../...... | M3: ...../...../......
A4: Seriprint Comunicação Visual LTDA - ME | B4: 1 | C4: 1 | D4: Banner em lona, impressão digital 4x0 cores, resolução mínima 720 dpi's e 280 g/m² de gramatura mínima; e suporte: 1) em madeira em duas das menores extremidades e acabamento com ponteira de PVC (grampeada) e corda trançada de no mínimo 4mm e de resistência suficiente e compatível com o banner; ou 2) com ilhóses dispostos de 20 em 20 cm, em ferro ou alumínio e de diâmetro compatível com a corda utilizada - corda trançada de no mínimo 4mm e de resistência suficiente e compatível com o banner. | E4: 50 X 70 cm | F4: Unidade | G4: 339039.63 | H4: 10.3 | J4: =I4-(SUM(L4:M4)) -> 0 | K4: =IF(J4<0,"ATENÇÃO","OK") -> OK
C5: 2 | E5: 90 X 150 cm | F5: Unidade | G5: 339039.63 | H5: 36.2 | I5: 5 | J5: =I5-(SUM(L5:M5)) -> 5 | K5: =IF(J5<0,"ATENÇÃO","OK") -> OK
C6: 3 | E6: 90 X 120 cm | F6: Unidade | G6: 339039.63 | H6: 33 | I6: 5 | J6: =I6-(SUM(L6:M6)) -> 5 | K6: =IF(J6<0,"ATENÇÃO","OK") -> OK
C7: 4 | E7: 110 X 150 cm | F7: Unidade | G7: 339039.63 | H7: 39 | J7: =I7-(SUM(L7:M7)) -> 0 | K7: =IF(J7<0,"ATENÇÃO","OK") -> OK
C8: 5 | E8: 130 X 180 cm | F8: Unidade | G8: 339039.63 | H8: 52.3 | J8: =I8-(SUM(L8:M8)) -> 0 | K8: =IF(J8<0,"ATENÇÃO","OK") -> OK
C9: 6 | E9: 50 X 300 cm | F9: Unidade | G9: 339039.63 | H9: 34 | J9: =I9-(SUM(L9:M9)) -> 0 | K9: =IF(J9<0,"ATENÇÃO","OK") -> OK
C10: 7 | E10: 70 X 400 cm | F10: Unidade | G10: 339039.63 | H10: 59 | I10: 2 | J10: =I10-(SUM(L10:M10)) -> 2 | K10: =IF(J10<0,"ATENÇÃO","OK") -> OK
C11: 8 | E11: 140 cm X metro linear | F11: metro | G11: 339039.63 | H11: 26 | J11: =I11-(SUM(L11:M11)) -> 0 | K11: =IF(J11<0,"ATENÇÃO","OK") -> OK
C12: 9 | E12: 80 X 110 cm | F12: Unidade | G12: 339039.63 | H12: 29.3 | J12: =I12-(SUM(L12:M12)) -> 0 | K12: =IF(J12<0,"ATENÇÃO","OK") -> OK
C13: 10 | E13: 80 X 120 cm | F13: Unidade | G13: 339039.63 | H13: 30 | J13: =I13-(SUM(L13:M13)) -> 0 | K13: =IF(J13<0,"ATENÇÃO","OK") -> OK
C14: 11 | E14: 90 X 110 cm | F14: Unidade | G14: 339039.63 | H14: 25 | J14: =I14-(SUM(L14:M14)) -> 0 | K14: =IF(J14<0,"ATENÇÃO","OK") -> OK
C15: 12 | D15: Frontlight em lona, impressão digital 4x0 cores, resolução mínima 1200 dpi's e 440 g/m² de gramatura mínima; fixado com ilhóses dispostos de 20 em 20 cm, em ferro ou alumínio e de diâmetro compatível com a corda utilizada - corda trançada de no mínimo 4mm e de resistência suficiente e compatível com o frontlight. | E15: 320 cm X metro linear | F15: metro | G15: 339039.63 | H15: 65 | J15: =I15-(SUM(L15:M15)) -> 0 | K15: =IF(J15<0,"ATENÇÃO","OK") -> OK
C16: 13 | E16: 650 X 150 cm | F16: Unidade | G16: 339039.63 | H16: 189.86 | J16: =I16-(SUM(L16:M16)) -> 0 | K16: =IF(J16<0,"ATENÇÃO","OK") -> OK
C17: 14 | E17: 250 X 120 cm | F17: Unidade | G17: 339039.63 | H17: 73 | J17: =I17-(SUM(L17:M17)) -> 0 | K17: =IF(J17<0,"ATENÇÃO","OK") -> OK
A18: Webergrafic Comércio de Materiais Gráficos LTDA - ME | B18: 2 | C18: 15 | D18: Banner em papel fotográfico com laminação brilhante, resolução mínima de 600 dpi's e 280g/m² de gramatura mínima, suporte em plástico em duas das menores extremidades e corda de no mínimo 1mm e de resistência suficiente e compatível com o banner. | E18: 90 cm X metro linear | F18: metro | G18: 339039.63 | H18: 49.5 | J18: =I18-(SUM(L18:M18)) -> 0 | K18: =IF(J18<0,"ATENÇÃO","OK") -> OK
A19: Webergrafic Comércio de Materiais Gráficos LTDA - ME | B19: 3 | C19: 16 | D19: Banner em tecido. Impressão digital em tecido. Policromia: 4 x 0 cores. Resolução mínima de 1200 dpi´s. Acabamento em madeira (cabo redondo) nas duas extremidades menores, sendo encaixado internamente na costura do tecido para fechamento escondendo o varão, com ponteiras em PVC e corda trançada de no mínimo 4 mm e com resistência suficiente para sustentar o banner de tecido. | E19: 90 cm x metro linear | F19: metro | G19: 339039.63 | H19: 40.19 | J19: =I19-(SUM(L19:M19)) -> 0 | K19: =IF(J19<0,"ATENÇÃO","OK") -> OK
A20: Webergrafic Comércio de Materiais Gráficos LTDA - ME | B20: 4 | C20: 17 | D20: Frontlight em lona, impressão digital 4x0 cores, resolução mínima 1200 dpi's e 440 g/m² de gramatura mínima; fixado com ilhóses dispostos de 20 em 20 cm, em ferro ou alumínio e de diâmetro compatível com a corda utilizada - corda trançada de no mínimo 4mm e de resistência suficiente e compatível com o frontlight. INSTALADO E RETIRADA. | E20: 255 X 275 cm | F20: Unidade | G20: 339039.63 | H20: 429.72 | J20: =I20-(SUM(L20:M20)) -> 0 | K20: =IF(J20<0,"ATENÇÃO","OK") -> OK
C21: 18 | E21: 295 X 875 cm | F21: Unidade | G21: 339039.63 | H21: 1055.06 | J21: =I21-(SUM(L21:M21)) -> 0 | K21: =IF(J21<0,"ATENÇÃO","OK") -> OK
C22: 19 | E22: 310 X 914 cm | F22: Unidade | G22: 339039.63 | H22: 1157.2 | J22: =I22-(SUM(L22:M22)) -> 0 | K22: =IF(J22<0,"ATENÇÃO","OK") -> OK
A23: Webergrafic Comércio de Materiais Gráficos LTDA - ME | B23: 5 | C23: 20 | D23: Adesivo perfurado para vidro traseiro de automóveis, impressão digital 4x0 cores, resolução mínima 720 dpi's; com no mínimo 40% de transmissão luminosa (nos termos da RES 254/2007 CONTRAN). | E23: 35 X 90 cm | F23: Unidade | G23: 339039.63 | H23: 11.33 | J23: =I23-(SUM(L23:M23)) -> 0 | K23: =IF(J23<0,"ATENÇÃO","OK") -> OK
A24: Webergrafic Comércio de Materiais Gráficos LTDA - ME | B24: 6 | C24: 21 | D24: Adesivo em vinil, impressão digital 4x0 cores, resolução mínima 300 dpi's e 26 a 30 g/m² de gramatura mínima de cola; acabamento meio corte especial com faca. | E24: 7 X 9 cm | F24: Unidade | G24: 339039.63 | H24: 0.4 | I24: 150 | J24: =I24-(SUM(L24:M24)) -> 150 | K24: =IF(J24<0,"ATENÇÃO","OK") -> OK
C25: 22 | D25: Adesivo em vinil transparente para vidro, impressão digital 4x0 cores, resolução mínima 300 dpi's e 26 a 30 g/m² de gramatura mínima de cola; acabamento corte reto. | E25: 5 X 20 cm | F25: Unidade | G25: 339039.63 | H25: 0.5 | J25: =I25-(SUM(L25:M25)) -> 0 | K25: =IF(J25<0,"ATENÇÃO","OK") -> OK
C26: 23 | E26: 10 X 25 cm | F26: Unidade | G26: 339039.63 | H26: 1.27 | J26: =I26-(SUM(L26:M26)) -> 0 | K26: =IF(J26<0,"ATENÇÃO","OK") -> OK
C27: 24 | D27: Adesivo em vinil resistente a água e cloro, próprio para áreas com piscinas, impressão digital 4x0 cores, resolução mínima 300 dpi's e 26 a 30 g/m2 de gramatura mínima de cola; acabamento corte reto. | E27: 5 X 20 cm | F27: Unidade | G27: 339039.63 | H27: 0.5 | J27: =I27-(SUM(L27:M27)) -> 0 | K27: =IF(J27<0,"ATENÇÃO","OK") -> OK
C28: 25 | E28: 10 X 25 cm | F28: Unidade | G28: 339039.63 | H28: 1.27 | J28: =I28-(SUM(L28:M28)) -> 0 | K28: =IF(J28<0,"ATENÇÃO","OK") -> OK
C29: 26 | D29: Adesivo recortado em vinil colorido (cores diversas a escolher), para adesivagem. | E29: 90 cm x metro linear | F29: metro | G29: 339039.63 | H29: 38.16 | J29: =I29-(SUM(L29:M29)) -> 0 | K29: =IF(J29<0,"ATENÇÃO","OK") -> OK
C30: 27 | D30: Adesivo em vinil, impressão digital 4x0 cores, resolução mínima 300 dpi's e 26 a 30 g/m² de gramatura mínima de cola; acabamento meio corte especial com faca. | E30: 75 cm X metro linear | F30: metro | G30: 339039.63 | H30: 44.5 | J30: =I30-(SUM(L30:M30)) -> 0 | K30: =IF(J30<0,"ATENÇÃO","OK") -> OK
C31: 28 | D31: Adesivo em vinil resistente a água e cloro, próprio para áreas com piscinas, impressão digital 4x0 cores, resolução mínima 300 dpi's e 26 a 30 g/m2 de gramatura mínima de cola; acabamento corte reto. | E31: 15 cm X metro linear | F31: metro | G31: 339039.63 | H31: 37.03 | J31: =I31-(SUM(L31:M31)) -> 0 | K31: =IF(J31<0,"ATENÇÃO","OK") -> OK
A32: Webergrafic Comércio de Materiais Gráficos LTDA - ME | B32: 7 | C32: 29 | D32: Adesivo com impressão digital em caixa metálica de plataforma elevatória ("elevador"); impressão digital em material vinil autoadesivo; acabamento em laminação fosca; instalado; inclui adequação de layout; sugere-se visita técnica para conhecimento. | E32: m² | F32: metro² | G32: 339039.63 | H32: 97.5 | J32: =I32-(SUM(L32:M32)) -> 0 | K32: =IF(J32<0,"ATENÇÃO","OK") -> OK
A33: Webergrafic Comércio de Materiais Gráficos LTDA - ME | B33: 8 | C33: 30 | D33: Crachá em cartão PVC laminado branco, impressão digital 4x1 cores, resolução mínima 300 dpi's e espessura de 0,70 a 0,80mm cantos arredondados, com perfuração entre 15 a 20mm compatível com grampo de metal tipo jacaré do cordão. | E33: 5,4 X 8,60 cm | F33: Unidade | G33: 339039.63 | H33: 5.99 | J33: =I33-(SUM(L33:M33)) -> 0 | K33: =IF(J33<0,"ATENÇÃO","OK") -> OK
C34: 31 | D34: Cordão para crachá personalizado em impressão digital, com grampo de metal tipo jacaré, em 100% poliéster. | E34: 1,3 a 1,6 X 80 a 90 cm | F34: Unidade | G34: 339039.63 | H34: 2.75 | J34: =I34-(SUM(L34:M34)) -> 0 | K34: =IF(J34<0,"ATENÇÃO","OK") -> OK
A35: Ferroprint Tecnologia LTDA - ME | B35: 9 | C35: 32 | D35: Placa em PVC branco, impressão digital 4x0 cores, resolução mínima 300 dpi's e espessura de 2mm, com fixação dupla face de espuma acrílica para ambiente externo de no mínimo 20mm de largura e de no mínimo 10 cm de tamanho para cada 150g de placa. | E35: 200 X 120 cm | F35: Unidade | G35: 339039.63 | H35: 360 | J35: =I35-(SUM(L35:M35)) -> 0 | K35: =IF(J35<0,"ATENÇÃO","OK") -> OK
C36: 33 | D36: Placa em PVC branco, impressão digital 4x0 cores, resolução mínima 300 dpi's e espessura de 2mm, com fixação dupla face de espuma acrílica para ambiente interno de no mínimo 20mm de largura e de no mínimo 10 cm de tamanho para cada 150g de placa. | E36: 25 x 10 cm | F36: Unidade | G36: 339039.63 | H36: 3.75 | J36: =I36-(SUM(L36:M36)) -> 0 | K36: =IF(J36<0,"ATENÇÃO","OK") -> OK
C37: 34 | D37: Placa em PVC branco em formato "V" para ser apoiado sobre balção, impressão digital 4x0 cores, resolução mínima 300 dpi's e espessura de 2mm. | E37: 25 x 15 cm(plano) | F37: Unidade | G37: 339039.63 | H37: 35.06 | J37: =I37-(SUM(L37:M37)) -> 0 | K37: =IF(J37<0,"ATENÇÃO","OK") -> OK
A38: Webergrafic Comércio de Materiais Gráficos LTDA - ME | B38: 10 | C38: 35 | D38: Plotagem, impressão 4x0 cores, em papel sulfite de 75 g/m2 de gramatura mínima. | E38: Formato A0 ("A" Zero - 84,1 X 118,9cm) | F38: Unidade | G38: 339039.63 | H38: 73.39 | J38: =I38-(SUM(L38:M38)) -> 0 | K38: =IF(J38<0,"ATENÇÃO","OK") -> OK
C39: 36 | D39: Plotagem, impressão monocromática, em papel sulfite de 75 g/m2 de gramatura mínima. | E39: Formato A0 ("A" Zero - 84,1 X 118,9cm) | F39: Unidade | G39: 339039.63 | H39: 73.38 | J39: =I39-(SUM(L39:M39)) -> 0 | K39: =IF(J39<0,"ATENÇÃO","OK") -> OK
A40: Webergrafic Comércio de Materiais Gráficos LTDA - ME | B40: 11 | C40: 37 | D40: Adesivo em vinil transparente para vidro de carro, impressão digital 4x0 cores, resolução mínima 300 dpi's e 26 a 30 g/m² de gramatura mínima de cola; acabamento corte especial a faca (adesivo circular). | E40: Diametro de 8cm | F40: Unidade | G40: 339039.63 | H40: 3 | J40: =I40-(SUM(L40:M40)) -> 0 | K40: =IF(J40<0,"ATENÇÃO","OK") -> OK
A41: Webergrafic Comércio de Materiais Gráficos LTDA - ME | B41: 12 | C41: 38 | D41: Adesivo recortado em vinil colorido Gold Max (cores diversas a escolher), para adesivagem, com instalação. | E41: 12m² | F41: Unidade | G41: 339039.63 | H41: 1050 | J41: =I41-(SUM(L41:M41)) -> 0 | K41: =IF(J41<0,"ATENÇÃO","OK") -> OK
A42: Webergrafic Comércio de Materiais Gráficos LTDA - ME | B42: 13 | C42: 39 | D42: Adesivo vinílico colorido (cores diversas a escolher), para aplicação em Placa de MDF. | E42: 80 X 60 cm | F42: Unidade | G42: 339039.63 | H42: 26.95 | J42: =I42-(SUM(L42:M42)) -> 0 | K42: =IF(J42<0,"ATENÇÃO","OK") -> OK
C43: 40 | D43: Placa em MDF 3mm. Pintada e envernizada com texto em vinil colorido (cores diversas a escolher). | E43: 60 X 10 cm | F43: Unidade | G43: 339039.63 | H43: 16.85 | J43: =I43-(SUM(L43:M43)) -> 0 | K43: =IF(J43<0,"ATENÇÃO","OK") -> OK
C44: 41 | D44: Adesivo vinílico colorido (cores diversas a escolher), para aplicação em Placa de MDF. | E44: 60 X 40 cm | F44: Unidade | G44: 339039.63 | H44: 13.48 | J44: =I44-(SUM(L44:M44)) -> 0 | K44: =IF(J44<0,"ATENÇÃO","OK") -> OK
C45: 42 | D45: Adesivo vinílico colorido (cores diversas a escolher). Arredondamento do canto inferior direito é de 100 pontos. Para numeração sequencial. | E45: 10 X 6,5 cm | F45: Unidade | G45: 339039.63 | H45: 3.64 | J45: =I45-(SUM(L45:M45)) -> 0 | K45: =IF(J45<0,"ATENÇÃO","OK") -> OK
C46: 43 | D46: Adesivo para renovação do Totem de entrada. Texto em vinil recortado colorido (cores diversas a escolher). | E46: 1,70 X 0,60 m | F46: Unidade | G46: 339039.63 | H46: 59 | J46: =I46-(SUM(L46:M46)) -> 0 | K46: =IF(J46<0,"ATENÇÃO","OK") -> OK
A47: Webergrafic Comércio de Materiais Gráficos LTDA - ME | B47: 14 | C47: 44 | D47: Adesivo numerado com quatro digitos em vinil transparente para uso interno em veículo, impressão digital 4x0 cores, resolução mínima 300 dpi's e 26 a 30 g/m² de gramatura | E47: 9 x 6 cm | F47: Unidade | G47: 339039.63 | H47: 0.31 | J47: =I47-(SUM(L47:M47)) -> 0 | K47: =IF(J47<0,"ATENÇÃO","OK") -> OK

Sheet ESAG
A1: PROCESSO: 0354/2015/UDESC | D1: OBJETO: SERVIÇOS GRÁFICOS PARA A UDESC | I1: VIGÊNCIA DA ATA: 01/07/2015 até 30/06/2016 | L1: AF/OS nº 418/2016 Qtde. DT | M1: AF/OS nº 529/2016 Qtde. DT
A2: CENTRO PARTICIPANTE: ESAG
A3: FORNECEDOR | B3: LOTE | C3: ITEM | D3: PRODUTO - CARACTERÍSTICAS MÍNIMAS | E3: Dimensões | F3: Unidade | G3: DETALHAMENTO | H3: Preço UNITÁRIO (R$) | I3: Qtde Registrada | J3: Saldo / Automático | K3: ALERTA | L3: ...../...../...... | M3: ...../...../......
A4: Seriprint Comunicação Visual LTDA - ME | B4: 1 | C4: 1 | D4: Banner em lona, impressão digital 4x0 cores, resolução mínima 720 dpi's e 280 g/m² de gramatura mínima; e suporte: 1) em madeira em duas das menores extremidades e acabamento com ponteira de PVC (grampeada) e corda trançada de no mínimo 4mm e de resistência suficiente e compatível com o banner; ou 2) com ilhóses dispostos de 20 em 20 cm, em ferro ou alumínio e de diâmetro compatível com a corda utilizada - corda trançada de no mínimo 4mm e de resistência suficiente e compatível com o banner. | E4: 50 X 70 cm | F4: Unidade | G4: 339039.63 | H4: 10.3 | J4: =I4-(SUM(L4:M4)) -> 0 | K4: =IF(J4<0,"ATENÇÃO","OK") -> OK
C5: 2 | E5: 90 X 150 cm | F5: Unidade | G5: 339039.63 | H5: 36.2 | I5: 30 | J5: =I5-(SUM(L5:M5)) -> 25 | K5: =IF(J5<0,"ATENÇÃO","OK") -> OK | L5: 5
C6: 3 | E6: 90 X 120 cm | F6: Unidade | G6: 339039.63 | H6: 33 | I6: 30 | J6: =I6-(SUM(L6:M6)) -> 22 | K6: =IF(J6<0,"ATENÇÃO","OK") -> OK | L6: 8
C7: 4 | E7: 110 X 150 cm | F7: Unidade | G7: 339039.63 | H7: 39 | I7: =30-4 -> 26 | J7: =I7-(SUM(L7:M7)) -> 26 | K7: =IF(J7<0,"ATENÇÃO","OK") -> OK
C8: 5 | E8: 130 X 180 cm | F8: Unidade | G8: 339039.63 | H8: 52.3 | J8: =I8-(SUM(L8:M8)) -> 0 | K8: =IF(J8<0,"ATENÇÃO","OK") -> OK
C9: 6 | E9: 50 X 300 cm | F9: Unidade | G9: 339039.63 | H9: 34 | J9: =I9-(SUM(L9:M9)) -> 0 | K9: =IF(J9<0,"ATENÇÃO","OK") -> OK
C10: 7 | E10: 70 X 400 cm | F10: Unidade | G10: 339039.63 | H10: 59 | J10: =I10-(SUM(L10:M10)) -> 0 | K10: =IF(J10<0,"ATENÇÃO","OK") -> OK
C11: 8 | E11: 140 cm X metro linear | F11: metro | G11: 339039.63 | H11: 26 | J11: =I11-(SUM(L11:M11)) -> 0 | K11: =IF(J11<0,"ATENÇÃO","OK") -> OK
C12: 9 | E12: 80 X 110 cm | F12: Unidade | G12: 339039.63 | H12: 29.3 | J12: =I12-(SUM(L12:M12)) -> 0 | K12: =IF(J12<0,"ATENÇÃO","OK") -> OK
C13: 10 | E13: 80 X 120 cm | F13: Unidade | G13: 339039.63 | H13: 30 | J13: =I13-(SUM(L13:M13)) -> 0 | K13: =IF(J13<0,"ATENÇÃO","OK") -> OK
C14: 11 | E14: 90 X 110 cm | F14: Unidade | G14: 339039.63 | H14: 25 | J14: =I14-(SUM(L14:M14)) -> 0 | K14: =IF(J14<0,"ATENÇÃO","OK") -> OK
C15: 12 | D15: Frontlight em lona, impressão digital 4x0 cores, resolução mínima 1200 dpi's e 440 g/m² de gramatura mínima; fixado com ilhóses dispostos de 20 em 20 cm, em ferro ou alumínio e de diâmetro compatível com a corda utilizada - corda trançada de no mínimo 4mm e de resistência suficiente e compatível com o frontlight. | E15: 320 cm X metro linear | F15: metro | G15: 339039.63 | H15: 65 | J15: =I15-(SUM(L15:M15)) -> 0 | K15: =IF(J15<0,"ATENÇÃO","OK") -> OK
C16: 13 | E16: 650 X 150 cm | F16: Unidade | G16: 339039.63 | H16: 189.86 | J16: =I16-(SUM(L16:M16)) -> 0 | K16: =IF(J16<0,"ATENÇÃO","OK") -> OK
C17: 14 | E17: 250 X 120 cm | F17: Unidade | G17: 339039.63 | H17: 73 | J17: =I17-(SUM(L17:M17)) -> 0 | K17: =IF(J17<0,"ATENÇÃO","OK") -> OK
A18: Webergrafic Comércio de Materiais Gráficos LTDA - ME | B18: 2 | C18: 15 | D18: Banner em papel fotográfico com laminação brilhante, resolução mínima de 600 dpi's e 280g/m² de gramatura mínima, suporte em plástico em duas das menores extremidades e corda de no mínimo 1mm e de resistência suficiente e compatível com o banner. | E18: 90 cm X metro linear | F18: metro | G18: 339039.63 | H18: 49.5 | J18: =I18-(SUM(L18:M18)) -> 0 | K18: =IF(J18<0,"ATENÇÃO","OK") -> OK
A19: Webergrafic Comércio de Materiais Gráficos LTDA - ME | B19: 3 | C19: 16 | D19: Banner em tecido. Impressão digital em tecido. Policromia: 4 x 0 cores. Resolução mínima de 1200 dpi´s. Acabamento em madeira (cabo redondo) nas duas extremidades menores, sendo encaixado internamente na costura do tecido para fechamento escondendo o varão, com ponteiras em PVC e corda trançada de no mínimo 4 mm e com resistência suficiente para sustentar o banner de tecido. | E19: 90 cm x metro linear | F19: metro | G19: 339039.63 | H19: 40.19 | J19: =I19-(SUM(L19:M19)) -> 0 | K19: =IF(J19<0,"ATENÇÃO","OK") -> OK
A20: Webergrafic Comércio de Materiais Gráficos LTDA - ME | B20: 4 | C20: 17 | D20: Frontlight em lona, impressão digital 4x0 cores, resolução mínima 1200 dpi's e 440 g/m² de gramatura mínima; fixado com ilhóses dispostos de 20 em 20 cm, em ferro ou alumínio e de diâmetro compatível com a corda utilizada - corda trançada de no mínimo 4mm e de resistência suficiente e compatível com o frontlight. INSTALADO E RETIRADA. | E20: 255 X 275 cm | F20: Unidade | G20: 339039.63 | H20: 429.72 | I20: 6 | J20: =I20-(SUM(L20:M20)) -> 6 | K20: =IF(J20<0,"ATENÇÃO","OK") -> OK
C21: 18 | E21: 295 X 875 cm | F21: Unidade | G21: 339039.63 | H21: 1055.06 | I21: 6 | J21: =I21-(SUM(L21:M21)) -> 6 | K21: =IF(J21<0,"ATENÇÃO","OK") -> OK
C22: 19 | E22: 310 X 914 cm | F22: Unidade | G22: 339039.63 | H22: 1157.2 | J22: =I22-(SUM(L22:M22)) -> 0 | K22: =IF(J22<0,"ATENÇÃO","OK") -> OK
A23: Webergrafic Comércio de Materiais Gráficos LTDA - ME | B23: 5 | C23: 20 | D23: Adesivo perfurado para vidro traseiro de automóveis, impressão digital 4x0 cores, resolução mínima 720 dpi's; com no mínimo 40% de transmissão luminosa (nos termos da RES 254/2007 CONTRAN). | E23: 35 X 90 cm | F23: Unidade | G23: 339039.63 | H23: 11.33 | J23: =I23-(SUM(L23:M23)) -> 0 | K23: =IF(J23<0,"ATENÇÃO","OK") -> OK
A24: Webergrafic Comércio de Materiais Gráficos LTDA - ME | B24: 6 | C24: 21 | D24: Adesivo em vinil, impressão digital 4x0 cores, resolução mínima 300 dpi's e 26 a 30 g/m² de gramatura mínima de cola; acabamento meio corte especial com faca. | E24: 7 X 9 cm | F24: Unidade | G24: 339039.63 | H24: 0.4 | I24: 500 | J24: =I24-(SUM(L24:M24)) -> 500 | K24: =IF(J24<0,"ATENÇÃO","OK") -> OK
C25: 22 | D25: Adesivo em vinil transparente para vidro, impressão digital 4x0 cores, resolução mínima 300 dpi's e 26 a 30 g/m² de gramatura mínima de cola; acabamento corte reto. | E25: 5 X 20 cm | F25: Unidade | G25: 339039.63 | H25: 0.5 | I25: 500 | J25: =I25-(SUM(L25:M25)) -> 500 | K25: =IF(J25<0,"ATENÇÃO","OK") -> OK
C26: 23 | E26: 10 X 25 cm | F26: Unidade | G26: 339039.63 | H26: 1.27 | J26: =I26-(SUM(L26:M26)) -> 0 | K26: =IF(J26<0,"ATENÇÃO","OK") -> OK
C27: 24 | D27: Adesivo em vinil resistente a água e cloro, próprio para áreas com piscinas, impressão digital 4x0 cores, resolução mínima 300 dpi's e 26 a 30 g/m2 de gramatura mínima de cola; acabamento corte reto. | E27: 5 X 20 cm | F27: Unidade | G27: 339039.63 | H27: 0.5 | J27: =I27-(SUM(L27:M27)) -> 0 | K27: =IF(J27<0,"ATENÇÃO","OK") -> OK
C28: 25 | E28: 10 X 25 cm | F28: Unidade | G28: 339039.63 | H28: 1.27 | J28: =I28-(SUM(L28:M28)) -> 0 | K28: =IF(J28<0,"ATENÇÃO","OK") -> OK
C29: 26 | D29: Adesivo recortado em vinil colorido (cores diversas a escolher), para adesivagem. | E29: 90 cm x metro linear | F29: metro | G29: 339039.63 | H29: 38.16 | J29: =I29-(SUM(L29:M29)) -> 0 | K29: =IF(J29<0,"ATENÇÃO","OK") -> OK
C30: 27 | D30: Adesivo em vinil, impressão digital 4x0 cores, resolução mínima 300 dpi's e 26 a 30 g/m² de gramatura mínima de cola; acabamento meio corte especial com faca. | E30: 75 cm X metro linear | F30: metro | G30: 339039.63 | H30: 44.5 | J30: =I30-(SUM(L30:M30)) -> 0 | K30: =IF(J30<0,"ATENÇÃO","OK") -> OK
C31: 28 | D31: Adesivo em vinil resistente a água e cloro, próprio para áreas com piscinas, impressão digital 4x0 cores, resolução mínima 300 dpi's e 26 a 30 g/m2 de gramatura mínima de cola; acabamento corte reto. | E31: 15 cm X metro linear | F31: metro | G31: 339039.63 | H31: 37.03 | J31: =I31-(SUM(L31:M31)) -> 0 | K31: =IF(J31<0,"ATENÇÃO","OK") -> OK
A32: Webergrafic Comércio de Materiais Gráficos LTDA - ME | B32: 7 | C32: 29 | D32: Adesivo com impressão digital em caixa metálica de plataforma elevatória ("elevador"); impressão digital em material vinil autoadesivo; acabamento em laminação fosca; instalado; inclui adequação de layout; sugere-se visita técnica para conhecimento. | E32: m² | F32: metro² | G32: 339039.63 | H32: 97.5 | J32: =I32-(SUM(L32:M32)) -> 0 | K32: =IF(J32<0,"ATENÇÃO","OK") -> OK
A33: Webergrafic Comércio de Materiais Gráficos LTDA - ME | B33: 8 | C33: 30 | D33: Crachá em cartão PVC laminado branco, impressão digital 4x1 cores, resolução mínima 300 dpi's e espessura de 0,70 a 0,80mm cantos arredondados, com perfuração entre 15 a 20mm compatível com grampo de metal tipo jacaré do cordão. | E33: 5,4 X 8,60 cm | F33: Unidade | G33: 339039.63 | H33: 5.99 | I33: 200 | J33: =I33-(SUM(L33:M33)) -> 165 | K33: =IF(J33<0,"ATENÇÃO","OK") -> OK | M33: 35
C34: 31 | D34: Cordão para crachá personalizado em impressão digital, com grampo de metal tipo jacaré, em 100% poliéster. | E34: 1,3 a 1,6 X 80 a 90 cm | F34: Unidade | G34: 339039.63 | H34: 2.75 | I34: 200 | J34: =I34-(SUM(L34:M34)) -> 165 | K34: =IF(J34<0,"ATENÇÃO","OK") -> OK | M34: 35
A35: Ferroprint Tecnologia LTDA - ME | B35: 9 | C35: 32 | D35: Placa em PVC branco, impressão digital 4x0 cores, resolução mínima 300 dpi's e espessura de 2mm, com fixação dupla face de espuma acrílica para ambiente externo de no mínimo 20mm de largura e de no mínimo 10 cm de tamanho para cada 150g de placa. | E35: 200 X 120 cm | F35: Unidade | G35: 339039.63 | H35: 360 | I35: 2 | J35: =I35-(SUM(L35:M35)) -> 2 | K35: =IF(J35<0,"ATENÇÃO","OK") -> OK
C36: 33 | D36: Placa em PVC branco, impressão digital 4x0 cores, resolução mínima 300 dpi's e espessura de 2mm, com fixação dupla face de espuma acrílica para ambiente interno de no mínimo 20mm de largura e de no mínimo 10 cm de tamanho para cada 150g de placa. | E36: 25 x 10 cm | F36: Unidade | G36: 339039.63 | H36: 3.75 | I36: 150 | J36: =I36-(SUM(L36:M36)) -> 150 | K36: =IF(J36<0,"ATENÇÃO","OK") -> OK
C37: 34 | D37: Placa em PVC branco em formato "V" para ser apoiado sobre balção, impressão digital 4x0 cores, resolução mínima 300 dpi's e espessura de 2mm. | E37: 25 x 15 cm(plano) | F37: Unidade | G37: 339039.63 | H37: 35.06 | J37: =I37-(SUM(L37:M37)) -> 0 | K37: =IF(J37<0,"ATENÇÃO","OK") -> OK
A38: Webergrafic Comércio de Materiais Gráficos LTDA - ME | B38: 10 | C38: 35 | D38: Plotagem, impressão 4x0 cores, em papel sulfite de 75 g/m2 de gramatura mínima. | E38: Formato A0 ("A" Zero - 84,1 X 118,9cm) | F38: Unidade | G38: 339039.63 | H38: 73.39 | J38: =I38-(SUM(L38:M38)) -> 0 | K38: =IF(J38<0,"ATENÇÃO","OK") -> OK
C39: 36 | D39: Plotagem, impressão monocromática, em papel sulfite de 75 g/m2 de gramatura mínima. | E39: Formato A0 ("A" Zero - 84,1 X 118,9cm) | F39: Unidade | G39: 339039.63 | H39: 73.38 | J39: =I39-(SUM(L39:M39)) -> 0 | K39: =IF(J39<0,"ATENÇÃO","OK") -> OK
A40: Webergrafic Comércio de Materiais Gráficos LTDA - ME | B40: 11 | C40: 37 | D40: Adesivo em vinil transparente para vidro de carro, impressão digital 4x0 cores, resolução mínima 300 dpi's e 26 a 30 g/m² de gramatura mínima de cola; acabamento corte especial a faca (adesivo circular). | E40: Diametro de 8cm | F40: Unidade | G40: 339039.63 | H40: 3 | J40: =I40-(SUM(L40:M40)) -> 0 | K40: =IF(J40<0,"ATENÇÃO","OK") -> OK
A41: Webergrafic Comércio de Materiais Gráficos LTDA - ME | B41: 12 | C41: 38 | D41: Adesivo recortado em vinil colorido Gold Max (cores diversas a escolher), para adesivagem, com instalação. | E41: 12m² | F41: Unidade | G41: 339039.63 | H41: 1050 | J41: =I41-(SUM(L41:M41)) -> 0 | K41: =IF(J41<0,"ATENÇÃO","OK") -> OK
A42: Webergrafic Comércio de Materiais Gráficos LTDA - ME | B42: 13 | C42: 39 | D42: Adesivo vinílico colorido (cores diversas a escolher), para aplicação em Placa de MDF. | E42: 80 X 60 cm | F42: Unidade | G42: 339039.63 | H42: 26.95 | J42: =I42-(SUM(L42:M42)) -> 0 | K42: =IF(J42<0,"ATENÇÃO","OK") -> OK
C43: 40 | D43: Placa em MDF 3mm. Pintada e envernizada com texto em vinil colorido (cores diversas a escolher). | E43: 60 X 10 cm | F43: Unidade | G43: 339039.63 | H43: 16.85 | J43: =I43-(SUM(L43:M43)) -> 0 | K43: =IF(J43<0,"ATENÇÃO","OK") -> OK
C44: 41 | D44: Adesivo vinílico colorido (cores diversas a escolher), para aplicação em Placa de MDF. | E44: 60 X 40 cm | F44: Unidade | G44: 339039.63 | H44: 13.48 | J44: =I44-(SUM(L44:M44)) -> 0 | K44: =IF(J44<0,"ATENÇÃO","OK") -> OK
C45: 42 | D45: Adesivo vinílico colorido (cores diversas a escolher). Arredondamento do canto inferior direito é de 100 pontos. Para numeração sequencial. | E45: 10 X 6,5 cm | F45: Unidade | G45: 339039.63 | H45: 3.64 | J45: =I45-(SUM(L45:M45)) -> 0 | K45: =IF(J45<0,"ATENÇÃO","OK") -> OK
C46: 43 | D46: Adesivo para renovação do Totem de entrada. Texto em vinil recortado colorido (cores diversas a escolher). | E46: 1,70 X 0,60 m | F46: Unidade | G46: 339039.63 | H46: 59 | J46: =I46-(SUM(L46:M46)) -> 0 | K46: =IF(J46<0,"ATENÇÃO","OK") -> OK
A47: Webergrafic Comércio de Materiais Gráficos LTDA - ME | B47: 14 | C47: 44 | D47: Adesivo numerado com quatro digitos em vinil transparente para uso interno em veículo, impressão digital 4x0 cores, resolução mínima 300 dpi's e 26 a 30 g/m² de gramatura | E47: 9 x 6 cm | F47: Unidade | G47: 339039.63 | H47: 0.31 | J47: =I47-(SUM(L47:M47)) -> 0 | K47: =IF(J47<0,"ATENÇÃO","OK") -> OK

Sheet CEART
A1: PROCESSO: 0354/2015/UDESC | D1: OBJETO: SERVIÇOS GRÁFICOS PARA A UDESC | I1: VIGÊNCIA DA ATA: 01/07/2015 até 30/06/2016 | L1: AF 1538/2015 DPPG | M1: AF 1537/2015MODA | N1: AF 1750/2015 IDEMI | O1: OS 1778/2015 | P1: OS 1777/2015 | Q1: OS 1886/2015 | R1: PROF. PIERMATIRI 2061/2015 | S1: CEART 30 - 2005/2015 | T1: DAC 30 ANOS 2062/2015 | U1: DESIGNACAO 2063/2015 | V1: AF/OS nº 100/2016 | W1: AF Design | X1: AF 519/2016
A2: CENTRO PARTICIPANTE: CEART
A3: FORNECEDOR | B3: LOTE | C3: ITEM | D3: PRODUTO - CARACTERÍSTICAS MÍNIMAS | E3: Dimensões | F3: Unidade | G3: DETALHAMENTO | H3: Preço UNITÁRIO (R$) | I3: Qtde Registrada | J3: Saldo / Automático | K3: ALERTA | L3: 42244 | M3: 42244 | N3: 42276 | O3: 42277 | P3: 42277 | Q3: 42285 | R3: 42306 | S3: =SUMPRODUCT(H6:H41,S6:S41) -> 955 | T3: 42306 | U3: 42306 | V3: 42412 | X3: 42509
A4: Seriprint Comunicação Visual LTDA - ME | B4: 1 | C4: 1 | D4: Banner em lona, impressão digital 4x0 cores, resolução mínima 720 dpi's e 280 g/m² de gramatura mínima; e suporte: 1) em madeira em duas das menores extremidades e acabamento com ponteira de PVC (grampeada) e corda trançada de no mínimo 4mm e de resistência suficiente e compatível com o banner; ou 2) com ilhóses dispostos de 20 em 20 cm, em ferro ou alumínio e de diâmetro compatível com a corda utilizada - corda trançada de no mínimo 4mm e de resistência suficiente e compatível com o banner. | E4: 50 X 70 cm | F4: Unidade | G4: 339039.63 | H4: 10.3 | J4: =I4-(SUM(L4:X4)) -> 0 | K4: =IF(J4<0,"ATENÇÃO","OK") -> OK
C5: 2 | E5: 90 X 150 cm | F5: Unidade | G5: 339039.63 | H5: 36.2 | J5: =I5-(SUM(L5:X5)) -> 0 | K5: =IF(J5<0,"ATENÇÃO","OK") -> OK
C6: 3 | E6: 90 X 120 cm | F6: Unidade | G6: 339039.63 | H6: 33 | I6: =25+5+8 -> 38 | J6: =I6-(SUM(L6:X6)) -> 10 | K6: =IF(J6<0,"ATENÇÃO","OK") -> OK | P6: 10 | Q6: 8 | R6: 1 | S6: 6 | W6: 3
C7: 4 | E7: 110 X 150 cm | F7: Unidade | G7: 339039.63 | H7: 39 | I7: =23+4 -> 27 | J7: =I7-(SUM(L7:X7)) -> 0 | K7: =IF(J7<0,"ATENÇÃO","OK") -> OK | L7: 2 | S7: 6 | T7: 9 | U7: 3 | X7: 7
C8: 5 | E8: 130 X 180 cm | F8: Unidade | G8: 339039.63 | H8: 52.3 | I8: 10 | J8: =I8-(SUM(L8:X8)) -> 0 | K8: =IF(J8<0,"ATENÇÃO","OK") -> OK | S8: 10
C9: 6 | E9: 50 X 300 cm | F9: Unidade | G9: 339039.63 | H9: 34 | I9: 5 | J9: =I9-(SUM(L9:X9)) -> 5 | K9: =IF(J9<0,"ATENÇÃO","OK") -> OK
C10: 7 | E10: 70 X 400 cm | F10: Unidade | G10: 339039.63 | H10: 59 | I10: 7 | J10: =I10-(SUM(L10:X10)) -> 7 | K10: =IF(J10<0,"ATENÇÃO","OK") -> OK
C11: 8 | E11: 140 cm X metro linear | F11: metro | G11: 339039.63 | H11: 26 | J11: =I11-(SUM(L11:X11)) -> 0 | K11: =IF(J11<0,"ATENÇÃO","OK") -> OK
C12: 9 | E12: 80 X 110 cm | F12: Unidade | G12: 339039.63 | H12: 29.3 | J12: =I12-(SUM(L12:X12)) -> 0 | K12: =IF(J12<0,"ATENÇÃO","OK") -> OK
C13: 10 | E13: 80 X 120 cm | F13: Unidade | G13: 339039.63 | H13: 30 | J13: =I13-(SUM(L13:X13)) -> 0 | K13: =IF(J13<0,"ATENÇÃO","OK") -> OK
C14: 11 | E14: 90 X 110 cm | F14: Unidade | G14: 339039.63 | H14: 25 | J14: =I14-(SUM(L14:X14)) -> 0 | K14: =IF(J14<0,"ATENÇÃO","OK") -> OK
C15: 12 | D15: Frontlight em lona, impressão digital 4x0 cores, resolução mínima 1200 dpi's e 440 g/m² de gramatura mínima; fixado com ilhóses dispostos de 20 em 20 cm, em ferro ou alumínio e de diâmetro compatível com a corda utilizada - corda trançada de no mínimo 4mm e de resistência suficiente e compatível com o frontlight. | E15: 320 cm X metro linear | F15: metro | G15: 339039.63 | H15: 65 | J15: =I15-(SUM(L15:X15)) -> 0 | K15: =IF(J15<0,"ATENÇÃO","OK") -> OK
C16: 13 | E16: 650 X 150 cm | F16: Unidade | G16: 339039.63 | H16: 189.86 | J16: =I16-(SUM(L16:X16)) -> 0 | K16: =IF(J16<0,"ATENÇÃO","OK") -> OK
C17: 14 | E17: 250 X 120 cm | F17: Unidade | G17: 339039.63 | H17: 73 | J17: =I17-(SUM(L17:X17)) -> 0 | K17: =IF(J17<0,"ATENÇÃO","OK") -> OK
A18: Webergrafic Comércio de Materiais Gráficos LTDA - ME | B18: 2 | C18: 15 | D18: Banner em papel fotográfico com laminação brilhante, resolução mínima de 600 dpi's e 280g/m² de gramatura mínima, suporte em plástico em duas das menores extremidades e corda de no mínimo 1mm e de resistência suficiente e compatível com o banner. | E18: 90 cm X metro linear | F18: metro | G18: 339039.63 | H18: 49.5 | J18: =I18-(SUM(L18:X18)) -> 0 | K18: =IF(J18<0,"ATENÇÃO","OK") -> OK
A19: Webergrafic Comércio de Materiais Gráficos LTDA - ME | B19: 3 | C19: 16 | D19: Banner em tecido. Impressão digital em tecido. Policromia: 4 x 0 cores. Resolução mínima de 1200 dpi´s. Acabamento em madeira (cabo redondo) nas duas extremidades menores, sendo encaixado internamente na costura do tecido para fechamento escondendo o varão, com ponteiras em PVC e corda trançada de no mínimo 4 mm e com resistência suficiente para sustentar o banner de tecido. | E19: 90 cm x metro linear | F19: metro | G19: 339039.63 | H19: 40.19 | I19: 40 | J19: =I19-(SUM(L19:X19)) -> 26 | K19: =IF(J19<0,"ATENÇÃO","OK") -> OK | M19: 1 | O19: 9 | V19: 4
A20: Webergrafic Comércio de Materiais Gráficos LTDA - ME | B20: 4 | C20: 17 | D20: Frontlight em lona, impressão digital 4x0 cores, resolução mínima 1200 dpi's e 440 g/m² de gramatura mínima; fixado com ilhóses dispostos de 20 em 20 cm, em ferro ou alumínio e de diâmetro compatível com a corda utilizada - corda trançada de no mínimo 4mm e de resistência suficiente e compatível com o frontlight. INSTALADO E RETIRADA. | E20: 255 X 275 cm | F20: Unidade | G20: 339039.63 | H20: 429.72 | J20: =I20-(SUM(L20:X20)) -> 0 | K20: =IF(J20<0,"ATENÇÃO","OK") -> OK
C21: 18 | E21: 295 X 875 cm | F21: Unidade | G21: 339039.63 | H21: 1055.06 | J21: =I21-(SUM(L21:X21)) -> 0 | K21: =IF(J21<0,"ATENÇÃO","OK") -> OK
C22: 19 | E22: 310 X 914 cm | F22: Unidade | G22: 339039.63 | H22: 1157.2 | J22: =I22-(SUM(L22:X22)) -> 0 | K22: =IF(J22<0,"ATENÇÃO","OK") -> OK
A23: Webergrafic Comércio de Materiais Gráficos LTDA - ME | B23: 5 | C23: 20 | D23: Adesivo perfurado para vidro traseiro de automóveis, impressão digital 4x0 cores, resolução mínima 720 dpi's; com no mínimo 40% de transmissão luminosa (nos termos da RES 254/2007 CONTRAN). | E23: 35 X 90 cm | F23: Unidade | G23: 339039.63 | H23: 11.33 | J23: =I23-(SUM(L23:X23)) -> 0 | K23: =IF(J23<0,"ATENÇÃO","OK") -> OK
A24: Webergrafic Comércio de Materiais Gráficos LTDA - ME | B24: 6 | C24: 21 | D24: Adesivo em vinil, impressão digital 4x0 cores, resolução mínima 300 dpi's e 26 a 30 g/m² de gramatura mínima de cola; acabamento meio corte especial com faca. | E24: 7 X 9 cm | F24: Unidade | G24: 339039.63 | H24: 0.4 | J24: =I24-(SUM(L24:X24)) -> 0 | K24: =IF(J24<0,"ATENÇÃO","OK") -> OK
C25: 22 | D25: Adesivo em vinil transparente para vidro, impressão digital 4x0 cores, resolução mínima 300 dpi's e 26 a 30 g/m² de gramatura mínima de cola; acabamento corte reto. | E25: 5 X 20 cm | F25: Unidade | G25: 339039.63 | H25: 0.5 | J25: =I25-(SUM(L25:X25)) -> 0 | K25: =IF(J25<0,"ATENÇÃO","OK") -> OK
C26: 23 | E26: 10 X 25 cm | F26: Unidade | G26: 339039.63 | H26: 1.27 | J26: =I26-(SUM(L26:X26)) -> 0 | K26: =IF(J26<0,"ATENÇÃO","OK") -> OK
C27: 24 | D27: Adesivo em vinil resistente a água e cloro, próprio para áreas com piscinas, impressão digital 4x0 cores, resolução mínima 300 dpi's e 26 a 30 g/m2 de gramatura mínima de cola; acabamento corte reto. | E27: 5 X 20 cm | F27: Unidade | G27: 339039.63 | H27: 0.5 | J27: =I27-(SUM(L27:X27)) -> 0 | K27: =IF(J27<0,"ATENÇÃO","OK") -> OK
C28: 25 | E28: 10 X 25 cm | F28: Unidade | G28: 339039.63 | H28: 1.27 | J28: =I28-(SUM(L28:X28)) -> 0 | K28: =IF(J28<0,"ATENÇÃO","OK") -> OK
C29: 26 | D29: Adesivo recortado em vinil colorido (cores diversas a escolher), para adesivagem. | E29: 90 cm x metro linear | F29: metro | G29: 339039.63 | H29: 38.16 | I29: 550 | J29: =I29-(SUM(L29:X29)) -> 550 | K29: =IF(J29<0,"ATENÇÃO","OK") -> OK
C30: 27 | D30: Adesivo em vinil, impressão digital 4x0 cores, resolução mínima 300 dpi's e 26 a 30 g/m² de gramatura mínima de cola; acabamento meio corte especial com faca. | E30: 75 cm X metro linear | F30: metro | G30: 339039.63 | H30: 44.5 | I30: 210 | J30: =I30-(SUM(L30:X30)) -> 156 | K30: =IF(J30<0,"ATENÇÃO","OK") -> OK | N30: 45 | V30: 9
C31: 28 | D31: Adesivo em vinil resistente a água e cloro, próprio para áreas com piscinas, impressão digital 4x0 cores, resolução mínima 300 dpi's e 26 a 30 g/m2 de gramatura mínima de cola; acabamento corte reto. | E31: 15 cm X metro linear | F31: metro | G31: 339039.63 | H31: 37.03 | J31: =I31-(SUM(L31:X31)) -> 0 | K31: =IF(J31<0,"ATENÇÃO","OK") -> OK
A32: Webergrafic Comércio de Materiais Gráficos LTDA - ME | B32: 7 | C32: 29 | D32: Adesivo com impressão digital em caixa metálica de plataforma elevatória ("elevador"); impressão digital em material vinil autoadesivo; acabamento em laminação fosca; instalado; inclui adequação de layout; sugere-se visita técnica para conhecimento. | E32: m² | F32: metro² | G32: 339039.63 | H32: 97.5 | J32: =I32-(SUM(L32:X32)) -> 0 | K32: =IF(J32<0,"ATENÇÃO","OK") -> OK
A33: Webergrafic Comércio de Materiais Gráficos LTDA - ME | B33: 8 | C33: 30 | D33: Crachá em cartão PVC laminado branco, impressão digital 4x1 cores, resolução mínima 300 dpi's e espessura de 0,70 a 0,80mm cantos arredondados, com perfuração entre 15 a 20mm compatível com grampo de metal tipo jacaré do cordão. | E33: 5,4 X 8,60 cm | F33: Unidade | G33: 339039.63 | H33: 5.99 | J33: =I33-(SUM(L33:X33)) -> 0 | K33: =IF(J33<0,"ATENÇÃO","OK") -> OK
C34: 31 | D34: Cordão para crachá personalizado em impressão digital, com grampo de metal tipo jacaré, em 100% poliéster. | E34: 1,3 a 1,6 X 80 a 90 cm | F34: Unidade | G34: 339039.63 | H34: 2.75 | J34: =I34-(SUM(L34:X34)) -> 0 | K34: =IF(J34<0,"ATENÇÃO","OK") -> OK
A35: Ferroprint Tecnologia LTDA - ME | B35: 9 | C35: 32 | D35: Placa em PVC branco, impressão digital 4x0 cores, resolução mínima 300 dpi's e espessura de 2mm, com fixação dupla face de espuma acrílica para ambiente externo de no mínimo 20mm de largura e de no mínimo 10 cm de tamanho para cada 150g de placa. | E35: 200 X 120 cm | F35: Unidade | G35: 339039.63 | H35: 360 | J35: =I35-(SUM(L35:X35)) -> 0 | K35: =IF(J35<0,"ATENÇÃO","OK") -> OK
C36: 33 | D36: Placa em PVC branco, impressão digital 4x0 cores, resolução mínima 300 dpi's e espessura de 2mm, com fixação dupla face de espuma acrílica para ambiente interno de no mínimo 20mm de largura e de no mínimo 10 cm de tamanho para cada 150g de placa. | E36: 25 x 10 cm | F36: Unidade | G36: 339039.63 | H36: 3.75 | I36: 200 | J36: =I36-(SUM(L36:X36)) -> 200 | K36: =IF(J36<0,"ATENÇÃO","OK") -> OK
C37: 34 | D37: Placa em PVC branco em formato "V" para ser apoiado sobre balção, impressão digital 4x0 cores, resolução mínima 300 dpi's e espessura de 2mm. | E37: 25 x 15 cm(plano) | F37: Unidade | G37: 339039.63 | H37: 35.06 | J37: =I37-(SUM(L37:X37)) -> 0 | K37: =IF(J37<0,"ATENÇÃO","OK") -> OK
A38: Webergrafic Comércio de Materiais Gráficos LTDA - ME | B38: 10 | C38: 35 | D38: Plotagem, impressão 4x0 cores, em papel sulfite de 75 g/m2 de gramatura mínima. | E38: Formato A0 ("A" Zero - 84,1 X 118,9cm) | F38: Unidade | G38: 339039.63 | H38: 73.39 | I38: 8 | J38: =I38-(SUM(L38:X38)) -> 1 | K38: =IF(J38<0,"ATENÇÃO","OK") -> OK | N38: 2 | O38: 2 | V38: 3
C39: 36 | D39: Plotagem, impressão monocromática, em papel sulfite de 75 g/m2 de gramatura mínima. | E39: Formato A0 ("A" Zero - 84,1 X 118,9cm) | F39: Unidade | G39: 339039.63 | H39: 73.38 | J39: =I39-(SUM(L39:X39)) -> 0 | K39: =IF(J39<0,"ATENÇÃO","OK") -> OK
A40: Webergrafic Comércio de Materiais Gráficos LTDA - ME | B40: 11 | C40: 37 | D40: Adesivo em vinil transparente para vidro de carro, impressão digital 4x0 cores, resolução mínima 300 dpi's e 26 a 30 g/m² de gramatura mínima de cola; acabamento corte especial a faca (adesivo circular). | E40: Diametro de 8cm | F40: Unidade | G40: 339039.63 | H40: 3 | J40: =I40-(SUM(L40:X40)) -> 0 | K40: =IF(J40<0,"ATENÇÃO","OK") -> OK
A41: Webergrafic Comércio de Materiais Gráficos LTDA - ME | B41: 12 | C41: 38 | D41: Adesivo recortado em vinil colorido Gold Max (cores diversas a escolher), para adesivagem, com instalação. | E41: 12m² | F41: Unidade | G41: 339039.63 | H41: 1050 | I41: 2 | J41: =I41-(SUM(L41:X41)) -> 2 | K41: =IF(J41<0,"ATENÇÃO","OK") -> OK
A42: Webergrafic Comércio de Materiais Gráficos LTDA - ME | B42: 13 | C42: 39 | D42: Adesivo vinílico colorido (cores diversas a escolher), para aplicação em Placa de MDF. | E42: 80 X 60 cm | F42: Unidade | G42: 339039.63 | H42: 26.95 | J42: =I42-(SUM(L42:X42)) -> 0 | K42: =IF(J42<0,"ATENÇÃO","OK") -> OK
C43: 40 | D43: Placa em MDF 3mm. Pintada e envernizada com texto em vinil colorido (cores diversas a escolher). | E43: 60 X 10 cm | F43: Unidade | G43: 339039.63 | H43: 16.85 | J43: =I43-(SUM(L43:X43)) -> 0 | K43: =IF(J43<0,"ATENÇÃO","OK") -> OK
C44: 41 | D44: Adesivo vinílico colorido (cores diversas a escolher), para aplicação em Placa de MDF. | E44: 60 X 40 cm | F44: Unidade | G44: 339039.63 | H44: 13.48 | J44: =I44-(SUM(L44:X44)) -> 0 | K44: =IF(J44<0,"ATENÇÃO","OK") -> OK
C45: 42 | D45: Adesivo vinílico colorido (cores diversas a escolher). Arredondamento do canto inferior direito é de 100 pontos. Para numeração sequencial. | E45: 10 X 6,5 cm | F45: Unidade | G45: 339039.63 | H45: 3.64 | J45: =I45-(SUM(L45:X45)) -> 0 | K45: =IF(J45<0,"ATENÇÃO","OK") -> OK
C46: 43 | D46: Adesivo para renovação do Totem de entrada. Texto em vinil recortado colorido (cores diversas a escolher). | E46: 1,70 X 0,60 m | F46: Unidade | G46: 339039.63 | H46: 59 | J46: =I46-(SUM(L46:X46)) -> 0 | K46: =IF(J46<0,"ATENÇÃO","OK") -> OK
A47: Webergrafic Comércio de Materiais Gráficos LTDA - ME | B47: 14 | C47: 44 | D47: Adesivo numerado com quatro digitos em vinil transparente para uso interno em veículo, impressão digital 4x0 cores, resolução mínima 300 dpi's e 26 a 30 g/m² de gramatura | E47: 9 x 6 cm | F47: Unidade | G47: 339039.63 | H47: 0.31 | J47: =I47-(SUM(L47:X47)) -> 0 | K47: =IF(J47<0,"ATENÇÃO","OK") -> OK

Sheet FAED
A1: PROCESSO: 0354/2015/UDESC | D1: OBJETO: SERVIÇOS GRÁFICOS PARA A UDESC | I1: VIGÊNCIA DA ATA: 01/07/2015 até 30/06/2016 | L1: AF/OS nº 1476/2015 Qtde. DT | M1: AF/OS nº 1621/2015 Qtde. DT - PRAPEG | N1: AF/OS nº 1660/2015 Qtde. DT | O1: AF/OS nº 1921/2015 Qtde. DT - PRAPEG | P1: AF/OS nº 2029/2015 Qtde. DT - PAEX | Q1: AF/OS nº 2187/2015 Qtde. DT | R1: AF/OS nº 337/2016 Qtde. DT | S1: AF/OS nº 512/2016 Qtde. DT
A2: CENTRO PARTICIPANTE: FAED
A3: FORNECEDOR | B3: LOTE | C3: ITEM | D3: PRODUTO - CARACTERÍSTICAS MÍNIMAS | E3: Dimensões | F3: Unidade | G3: DETALHAMENTO | H3: Preço UNITÁRIO (R$) | I3: Qtde Registrada | J3: Saldo / Automático | K3: ALERTA | L3: 42235 | M3: 42258 | N3: 42269 | O3: 42291 | P3: 42313 | Q3: 42325 | R3: 42464 | S3: 42508
A4: Seriprint Comunicação Visual LTDA - ME | B4: 1 | C4: 1 | D4: Banner em lona, impressão digital 4x0 cores, resolução mínima 720 dpi's e 280 g/m² de gramatura mínima; e suporte: 1) em madeira em duas das menores extremidades e acabamento com ponteira de PVC (grampeada) e corda trançada de no mínimo 4mm e de resistência suficiente e compatível com o banner; ou 2) com ilhóses dispostos de 20 em 20 cm, em ferro ou alumínio e de diâmetro compatível com a corda utilizada - corda trançada de no mínimo 4mm e de resistência suficiente e compatível com o banner. | E4: 50 X 70 cm | F4: Unidade | G4: 339039.63 | H4: 10.3 | I4: 10 | J4: =I4-(SUM(L4:S4)) -> 0 | K4: =IF(J4<0,"ATENÇÃO","OK") -> OK | S4: 10
C5: 2 | E5: 90 X 150 cm | F5: Unidade | G5: 339039.63 | H5: 36.2 | I5: 20 | J5: =I5-(SUM(L5:S5)) -> 19 | K5: =IF(J5<0,"ATENÇÃO","OK") -> OK | L5: 1
C6: 3 | E6: 90 X 120 cm | F6: Unidade | G6: 339039.63 | H6: 33 | I6: =20-5 -> 15 | J6: =I6-(SUM(L6:S6)) -> 0 | K6: =IF(J6<0,"ATENÇÃO","OK") -> OK | L6: 1 | M6: 2 | N6: 4 | O6: 1 | S6: 7
C7: 4 | E7: 110 X 150 cm | F7: Unidade | G7: 339039.63 | H7: 39 | I7: 20 | J7: =I7-(SUM(L7:S7)) -> 12 | K7: =IF(J7<0,"ATENÇÃO","OK") -> OK | S7: 8
C8: 5 | E8: 130 X 180 cm | F8: Unidade | G8: 339039.63 | H8: 52.3 | I8: 10 | J8: =I8-(SUM(L8:S8)) -> 1 | K8: =IF(J8<0,"ATENÇÃO","OK") -> OK | N8: 1 | O8: 1 | P8: 2 | S8: 5
C9: 6 | E9: 50 X 300 cm | F9: Unidade | G9: 339039.63 | H9: 34 | J9: =I9-(SUM(L9:S9)) -> 0 | K9: =IF(J9<0,"ATENÇÃO","OK") -> OK
C10: 7 | E10: 70 X 400 cm | F10: Unidade | G10: 339039.63 | H10: 59 | J10: =I10-(SUM(L10:S10)) -> 0 | K10: =IF(J10<0,"ATENÇÃO","OK") -> OK
C11: 8 | E11: 140 cm X metro linear | F11: metro | G11: 339039.63 | H11: 26 | I11: 15 | J11: =I11-(SUM(L11:S11)) -> 15 | K11: =IF(J11<0,"ATENÇÃO","OK") -> OK
C12: 9 | E12: 80 X 110 cm | F12: Unidade | G12: 339039.63 | H12: 29.3 | J12: =I12-(SUM(L12:S12)) -> 0 | K12: =IF(J12<0,"ATENÇÃO","OK") -> OK
C13: 10 | E13: 80 X 120 cm | F13: Unidade | G13: 339039.63 | H13: 30 | J13: =I13-(SUM(L13:S13)) -> 0 | K13: =IF(J13<0,"ATENÇÃO","OK") -> OK
C14: 11 | E14: 90 X 110 cm | F14: Unidade | G14: 339039.63 | H14: 25 | J14: =I14-(SUM(L14:S14)) -> 0 | K14: =IF(J14<0,"ATENÇÃO","OK") -> OK
C15: 12 | D15: Frontlight em lona, impressão digital 4x0 cores, resolução mínima 1200 dpi's e 440 g/m² de gramatura mínima; fixado com ilhóses dispostos de 20 em 20 cm, em ferro ou alumínio e de diâmetro compatível com a corda utilizada - corda trançada de no mínimo 4mm e de resistência suficiente e compatível com o frontlight. | E15: 320 cm X metro linear | F15: metro | G15: 339039.63 | H15: 65 | I15: 10 | J15: =I15-(SUM(L15:S15)) -> 10 | K15: =IF(J15<0,"ATENÇÃO","OK") -> OK
C16: 13 | E16: 650 X 150 cm | F16: Unidade | G16: 339039.63 | H16: 189.86 | J16: =I16-(SUM(L16:S16)) -> 0 | K16: =IF(J16<0,"ATENÇÃO","OK") -> OK
C17: 14 | E17: 250 X 120 cm | F17: Unidade | G17: 339039.63 | H17: 73 | I17: 5 | J17: =I17-(SUM(L17:S17)) -> 5 | K17: =IF(J17<0,"ATENÇÃO","OK") -> OK
A18: Webergrafic Comércio de Materiais Gráficos LTDA - ME | B18: 2 | C18: 15 | D18: Banner em papel fotográfico com laminação brilhante, resolução mínima de 600 dpi's e 280g/m² de gramatura mínima, suporte em plástico em duas das menores extremidades e corda de no mínimo 1mm e de resistência suficiente e compatível com o banner. | E18: 90 cm X metro linear | F18: metro | G18: 339039.63 | H18: 49.5 | J18: =I18-(SUM(L18:S18)) -> 0 | K18: =IF(J18<0,"ATENÇÃO","OK") -> OK
A19: Webergrafic Comércio de Materiais Gráficos LTDA - ME | B19: 3 | C19: 16 | D19: Banner em tecido. Impressão digital em tecido. Policromia: 4 x 0 cores. Resolução mínima de 1200 dpi´s. Acabamento em madeira (cabo redondo) nas duas extremidades menores, sendo encaixado internamente na costura do tecido para fechamento escondendo o varão, com ponteiras em PVC e corda trançada de no mínimo 4 mm e com resistência suficiente para sustentar o banner de tecido. | E19: 90 cm x metro linear | F19: metro | G19: 339039.63 | H19: 40.19 | J19: =I19-(SUM(L19:S19)) -> 0 | K19: =IF(J19<0,"ATENÇÃO","OK") -> OK
A20: Webergrafic Comércio de Materiais Gráficos LTDA - ME | B20: 4 | C20: 17 | D20: Frontlight em lona, impressão digital 4x0 cores, resolução mínima 1200 dpi's e 440 g/m² de gramatura mínima; fixado com ilhóses dispostos de 20 em 20 cm, em ferro ou alumínio e de diâmetro compatível com a corda utilizada - corda trançada de no mínimo 4mm e de resistência suficiente e compatível com o frontlight. INSTALADO E RETIRADA. | E20: 255 X 275 cm | F20: Unidade | G20: 339039.63 | H20: 429.72 | I20: 3 | J20: =I20-(SUM(L20:S20)) -> 3 | K20: =IF(J20<0,"ATENÇÃO","OK") -> OK
C21: 18 | E21: 295 X 875 cm | F21: Unidade | G21: 339039.63 | H21: 1055.06 | I21: 3 | J21: =I21-(SUM(L21:S21)) -> 3 | K21: =IF(J21<0,"ATENÇÃO","OK") -> OK
C22: 19 | E22: 310 X 914 cm | F22: Unidade | G22: 339039.63 | H22: 1157.2 | J22: =I22-(SUM(L22:S22)) -> 0 | K22: =IF(J22<0,"ATENÇÃO","OK") -> OK
A23: Webergrafic Comércio de Materiais Gráficos LTDA - ME | B23: 5 | C23: 20 | D23: Adesivo perfurado para vidro traseiro de automóveis, impressão digital 4x0 cores, resolução mínima 720 dpi's; com no mínimo 40% de transmissão luminosa (nos termos da RES 254/2007 CONTRAN). | E23: 35 X 90 cm | F23: Unidade | G23: 339039.63 | H23: 11.33 | J23: =I23-(SUM(L23:S23)) -> 0 | K23: =IF(J23<0,"ATENÇÃO","OK") -> OK
A24: Webergrafic Comércio de Materiais Gráficos LTDA - ME | B24: 6 | C24: 21 | D24: Adesivo em vinil, impressão digital 4x0 cores, resolução mínima 300 dpi's e 26 a 30 g/m² de gramatura mínima de cola; acabamento meio corte especial com faca. | E24: 7 X 9 cm | F24: Unidade | G24: 339039.63 | H24: 0.4 | I24: 1000 | J24: =I24-(SUM(L24:S24)) -> 500 | K24: =IF(J24<0,"ATENÇÃO","OK") -> OK | Q24: 500
C25: 22 | D25: Adesivo em vinil transparente para vidro, impressão digital 4x0 cores, resolução mínima 300 dpi's e 26 a 30 g/m² de gramatura mínima de cola; acabamento corte reto. | E25: 5 X 20 cm | F25: Unidade | G25: 339039.63 | H25: 0.5 | I25: 600 | J25: =I25-(SUM(L25:S25)) -> 510 | K25: =IF(J25<0,"ATENÇÃO","OK") -> OK | R25: 90
C26: 23 | E26: 10 X 25 cm | F26: Unidade | G26: 339039.63 | H26: 1.27 | I26: 100 | J26: =I26-(SUM(L26:S26)) -> 26 | K26: =IF(J26<0,"ATENÇÃO","OK") -> OK | Q26: 24 | R26: 50
C27: 24 | D27: Adesivo em vinil resistente a água e cloro, próprio para áreas com piscinas, impressão digital 4x0 cores, resolução mínima 300 dpi's e 26 a 30 g/m2 de gramatura mínima de cola; acabamento corte reto. | E27: 5 X 20 cm | F27: Unidade | G27: 339039.63 | H27: 0.5 | I27: 140 | J27: =I27-(SUM(L27:S27)) -> 40 | K27: =IF(J27<0,"ATENÇÃO","OK") -> OK | Q27: 100
C28: 25 | E28: 10 X 25 cm | F28: Unidade | G28: 339039.63 | H28: 1.27 | J28: =I28-(SUM(L28:S28)) -> 0 | K28: =IF(J28<0,"ATENÇÃO","OK") -> OK
C29: 26 | D29: Adesivo recortado em vinil colorido (cores diversas a escolher), para adesivagem. | E29: 90 cm x metro linear | F29: metro | G29: 339039.63 | H29: 38.16 | I29: 3 | J29: =I29-(SUM(L29:S29)) -> 2 | K29: =IF(J29<0,"ATENÇÃO","OK") -> OK | R29: 1
C30: 27 | D30: Adesivo em vinil, impressão digital 4x0 cores, resolução mínima 300 dpi's e 26 a 30 g/m² de gramatura mínima de cola; acabamento meio corte especial com faca. | E30: 75 cm X metro linear | F30: metro | G30: 339039.63 | H30: 44.5 | I30: 3 | J30: =I30-(SUM(L30:S30)) -> 3 | K30: =IF(J30<0,"ATENÇÃO","OK") -> OK
C31: 28 | D31: Adesivo em vinil resistente a água e cloro, próprio para áreas com piscinas, impressão digital 4x0 cores, resolução mínima 300 dpi's e 26 a 30 g/m2 de gramatura mínima de cola; acabamento corte reto. | E31: 15 cm X metro linear | F31: metro | G31: 339039.63 | H31: 37.03 | J31: =I31-(SUM(L31:S31)) -> 0 | K31: =IF(J31<0,"ATENÇÃO","OK") -> OK
A32: Webergrafic Comércio de Materiais Gráficos LTDA - ME | B32: 7 | C32: 29 | D32: Adesivo com impressão digital em caixa metálica de plataforma elevatória ("elevador"); impressão digital em material vinil autoadesivo; acabamento em laminação fosca; instalado; inclui adequação de layout; sugere-se visita técnica para conhecimento. | E32: m² | F32: metro² | G32: 339039.63 | H32: 97.5 | J32: =I32-(SUM(L32:S32)) -> 0 | K32: =IF(J32<0,"ATENÇÃO","OK") -> OK
A33: Webergrafic Comércio de Materiais Gráficos LTDA - ME | B33: 8 | C33: 30 | D33: Crachá em cartão PVC laminado branco, impressão digital 4x1 cores, resolução mínima 300 dpi's e espessura de 0,70 a 0,80mm cantos arredondados, com perfuração entre 15 a 20mm compatível com grampo de metal tipo jacaré do cordão. | E33: 5,4 X 8,60 cm | F33: Unidade | G33: 339039.63 | H33: 5.99 | I33: 150 | J33: =I33-(SUM(L33:S33)) -> 150 | K33: =IF(J33<0,"ATENÇÃO","OK") -> OK
C34: 31 | D34: Cordão para crachá personalizado em impressão digital, com grampo de metal tipo jacaré, em 100% poliéster. | E34: 1,3 a 1,6 X 80 a 90 cm | F34: Unidade | G34: 339039.63 | H34: 2.75 | I34: 150 | J34: =I34-(SUM(L34:S34)) -> 150 | K34: =IF(J34<0,"ATENÇÃO","OK") -> OK
A35: Ferroprint Tecnologia LTDA - ME | B35: 9 | C35: 32 | D35: Placa em PVC branco, impressão digital 4x0 cores, resolução mínima 300 dpi's e espessura de 2mm, com fixação dupla face de espuma acrílica para ambiente externo de no mínimo 20mm de largura e de no mínimo 10 cm de tamanho para cada 150g de placa. | E35: 200 X 120 cm | F35: Unidade | G35: 339039.63 | H35: 360 | J35: =I35-(SUM(L35:S35)) -> 0 | K35: =IF(J35<0,"ATENÇÃO","OK") -> OK
C36: 33 | D36: Placa em PVC branco, impressão digital 4x0 cores, resolução mínima 300 dpi's e espessura de 2mm, com fixação dupla face de espuma acrílica para ambiente interno de no mínimo 20mm de largura e de no mínimo 10 cm de tamanho para cada 150g de placa. | E36: 25 x 10 cm | F36: Unidade | G36: 339039.63 | H36: 3.75 | J36: =I36-(SUM(L36:S36)) -> 0 | K36: =IF(J36<0,"ATENÇÃO","OK") -> OK
C37: 34 | D37: Placa em PVC branco em formato "V" para ser apoiado sobre balção, impressão digital 4x0 cores, resolução mínima 300 dpi's e espessura de 2mm. | E37: 25 x 15 cm(plano) | F37: Unidade | G37: 339039.63 | H37: 35.06 | J37: =I37-(SUM(L37:S37)) -> 0 | K37: =IF(J37<0,"ATENÇÃO","OK") -> OK
A38: Webergrafic Comércio de Materiais Gráficos LTDA - ME | B38: 10 | C38: 35 | D38: Plotagem, impressão 4x0 cores, em papel sulfite de 75 g/m2 de gramatura mínima. | E38: Formato A0 ("A" Zero - 84,1 X 118,9cm) | F38: Unidade | G38: 339039.63 | H38: 73.39 | J38: =I38-(SUM(L38:S38)) -> 0 | K38: =IF(J38<0,"ATENÇÃO","OK") -> OK
C39: 36 | D39: Plotagem, impressão monocromática, em papel sulfite de 75 g/m2 de gramatura mínima. | E39: Formato A0 ("A" Zero - 84,1 X 118,9cm) | F39: Unidade | G39: 339039.63 | H39: 73.38 | J39: =I39-(SUM(L39:S39)) -> 0 | K39: =IF(J39<0,"ATENÇÃO","OK") -> OK
A40: Webergrafic Comércio de Materiais Gráficos LTDA - ME | B40: 11 | C40: 37 | D40: Adesivo em vinil transparente para vidro de carro, impressão digital 4x0 cores, resolução mínima 300 dpi's e 26 a 30 g/m² de gramatura mínima de cola; acabamento corte especial a faca (adesivo circular). | E40: Diametro de 8cm | F40: Unidade | G40: 339039.63 | H40: 3 | J40: =I40-(SUM(L40:S40)) -> 0 | K40: =IF(J40<0,"ATENÇÃO","OK") -> OK
A41: Webergrafic Comércio de Materiais Gráficos LTDA - ME | B41: 12 | C41: 38 | D41: Adesivo recortado em vinil colorido Gold Max (cores diversas a escolher), para adesivagem, com instalação. | E41: 12m² | F41: Unidade | G41: 339039.63 | H41: 1050 | J41: =I41-(SUM(L41:S41)) -> 0 | K41: =IF(J41<0,"ATENÇÃO","OK") -> OK
A42: Webergrafic Comércio de Materiais Gráficos LTDA - ME | B42: 13 | C42: 39 | D42: Adesivo vinílico colorido (cores diversas a escolher), para aplicação em Placa de MDF. | E42: 80 X 60 cm | F42: Unidade | G42: 339039.63 | H42: 26.95 | J42: =I42-(SUM(L42:S42)) -> 0 | K42: =IF(J42<0,"ATENÇÃO","OK") -> OK
C43: 40 | D43: Placa em MDF 3mm. Pintada e envernizada com texto em vinil colorido (cores diversas a escolher). | E43: 60 X 10 cm | F43: Unidade | G43: 339039.63 | H43: 16.85 | J43: =I43-(SUM(L43:S43)) -> 0 | K43: =IF(J43<0,"ATENÇÃO","OK") -> OK
C44: 41 | D44: Adesivo vinílico colorido (cores diversas a escolher), para aplicação em Placa de MDF. | E44: 60 X 40 cm | F44: Unidade | G44: 339039.63 | H44: 13.48 | J44: =I44-(SUM(L44:S44)) -> 0 | K44: =IF(J44<0,"ATENÇÃO","OK") -> OK
C45: 42 | D45: Adesivo vinílico colorido (cores diversas a escolher). Arredondamento do canto inferior direito é de 100 pontos. Para numeração sequencial. | E45: 10 X 6,5 cm | F45: Unidade | G45: 339039.63 | H45: 3.64 | J45: =I45-(SUM(L45:S45)) -> 0 | K45: =IF(J45<0,"ATENÇÃO","OK") -> OK
C46: 43 | D46: Adesivo para renovação do Totem de entrada. Texto em vinil recortado colorido (cores diversas a escolher). | E46: 1,70 X 0,60 m | F46: Unidade | G46: 339039.63 | H46: 59 | J46: =I46-(SUM(L46:S46)) -> 0 | K46: =IF(J46<0,"ATENÇÃO","OK") -> OK
A47: Webergrafic Comércio de Materiais Gráficos LTDA - ME | B47: 14 | C47: 44 | D47: Adesivo numerado com quatro digitos em vinil transparente para uso interno em veículo, impressão digital 4x0 cores, resolução mínima 300 dpi's e 26 a 30 g/m² de gramatura | E47: 9 x 6 cm | F47: Unidade | G47: 339039.63 | H47: 0.31 | J47: =I47-(SUM(L47:S47)) -> 0 | K47: =IF(J47<0,"ATENÇÃO","OK") -> OK

Sheet CEAD
A1: PROCESSO: 0354/2015/UDESC | D1: OBJETO: SERVIÇOS GRÁFICOS PARA A UDESC | I1: VIGÊNCIA DA ATA: 01/07/2015 até 30/06/2016 | L1: AF/OS nº xxxx/2015 Qtde. DT
A2: CENTRO PARTICIPANTE: CEAD
A3: FORNECEDOR | B3: LOTE | C3: ITEM | D3: PRODUTO - CARACTERÍSTICAS MÍNIMAS | E3: Dimensões | F3: Unidade | G3: DETALHAMENTO | H3: Preço UNITÁRIO (R$) | I3: Qtde Registrada | J3: Saldo / Automático | K3: ALERTA | L3: 42258
A4: Seriprint Comunicação Visual LTDA - ME | B4: 1 | C4: 1 | D4: Banner em lona, impressão digital 4x0 cores, resolução mínima 720 dpi's e 280 g/m² de gramatura mínima; e suporte: 1) em madeira em duas das menores extremidades e acabamento com ponteira de PVC (grampeada) e corda trançada de no mínimo 4mm e de resistência suficiente e compatível com o banner; ou 2) com ilhóses dispostos de 20 em 20 cm, em ferro ou alumínio e de diâmetro compatível com a corda utilizada - corda trançada de no mínimo 4mm e de resistência suficiente e compatível com o banner. | E4: 50 X 70 cm | F4: Unidade | G4: 339039.63 | H4: 10.3 | I4: 20 | J4: =I4-(SUM(L4:L4)) -> 10 | K4: =IF(J4<0,"ATENÇÃO","OK") -> OK | L4: 10
C5: 2 | E5: 90 X 150 cm | F5: Unidade | G5: 339039.63 | H5: 36.2 | I5: 19 | J5: =I5-(SUM(L5:L5)) -> 17 | K5: =IF(J5<0,"ATENÇÃO","OK") -> OK | L5: 2
C6: 3 | E6: 90 X 120 cm | F6: Unidade | G6: 339039.63 | H6: 33 | I6: =51-8 -> 43 | J6: =I6-(SUM(L6:L6)) -> 41 | K6: =IF(J6<0,"ATENÇÃO","OK") -> OK | L6: 2
C7: 4 | E7: 110 X 150 cm | F7: Unidade | G7: 339039.63 | H7: 39 | I7: 4 | J7: =I7-(SUM(L7:L7)) -> 4 | K7: =IF(J7<0,"ATENÇÃO","OK") -> OK
C8: 5 | E8: 130 X 180 cm | F8: Unidade | G8: 339039.63 | H8: 52.3 | J8: =I8-(SUM(L8:L8)) -> 0 | K8: =IF(J8<0,"ATENÇÃO","OK") -> OK
C9: 6 | E9: 50 X 300 cm | F9: Unidade | G9: 339039.63 | H9: 34 | J9: =I9-(SUM(L9:L9)) -> 0 | K9: =IF(J9<0,"ATENÇÃO","OK") -> OK
C10: 7 | E10: 70 X 400 cm | F10: Unidade | G10: 339039.63 | H10: 59 | J10: =I10-(SUM(L10:L10)) -> 0 | K10: =IF(J10<0,"ATENÇÃO","OK") -> OK
C11: 8 | E11: 140 cm X metro linear | F11: metro | G11: 339039.63 | H11: 26 | J11: =I11-(SUM(L11:L11)) -> 0 | K11: =IF(J11<0,"ATENÇÃO","OK") -> OK
C12: 9 | E12: 80 X 110 cm | F12: Unidade | G12: 339039.63 | H12: 29.3 | J12: =I12-(SUM(L12:L12)) -> 0 | K12: =IF(J12<0,"ATENÇÃO","OK") -> OK
C13: 10 | E13: 80 X 120 cm | F13: Unidade | G13: 339039.63 | H13: 30 | J13: =I13-(SUM(L13:L13)) -> 0 | K13: =IF(J13<0,"ATENÇÃO","OK") -> OK
C14: 11 | E14: 90 X 110 cm | F14: Unidade | G14: 339039.63 | H14: 25 | J14: =I14-(SUM(L14:L14)) -> 0 | K14: =IF(J14<0,"ATENÇÃO","OK") -> OK
C15: 12 | D15: Frontlight em lona, impressão digital 4x0 cores, resolução mínima 1200 dpi's e 440 g/m² de gramatura mínima; fixado com ilhóses dispostos de 20 em 20 cm, em ferro ou alumínio e de diâmetro compatível com a corda utilizada - corda trançada de no mínimo 4mm e de resistência suficiente e compatível com o frontlight. | E15: 320 cm X metro linear | F15: metro | G15: 339039.63 | H15: 65 | J15: =I15-(SUM(L15:L15)) -> 0 | K15: =IF(J15<0,"ATENÇÃO","OK") -> OK
C16: 13 | E16: 650 X 150 cm | F16: Unidade | G16: 339039.63 | H16: 189.86 | J16: =I16-(SUM(L16:L16)) -> 0 | K16: =IF(J16<0,"ATENÇÃO","OK") -> OK
C17: 14 | E17: 250 X 120 cm | F17: Unidade | G17: 339039.63 | H17: 73 | J17: =I17-(SUM(L17:L17)) -> 0 | K17: =IF(J17<0,"ATENÇÃO","OK") -> OK
A18: Webergrafic Comércio de Materiais Gráficos LTDA - ME | B18: 2 | C18: 15 | D18: Banner em papel fotográfico com laminação brilhante, resolução mínima de 600 dpi's e 280g/m² de gramatura mínima, suporte em plástico em duas das menores extremidades e corda de no mínimo 1mm e de resistência suficiente e compatível com o banner. | E18: 90 cm X metro linear | F18: metro | G18: 339039.63 | H18: 49.5 | J18: =I18-(SUM(L18:L18)) -> 0 | K18: =IF(J18<0,"ATENÇÃO","OK") -> OK
A19: Webergrafic Comércio de Materiais Gráficos LTDA - ME | B19: 3 | C19: 16 | D19: Banner em tecido. Impressão digital em tecido. Policromia: 4 x 0 cores. Resolução mínima de 1200 dpi´s. Acabamento em madeira (cabo redondo) nas duas extremidades menores, sendo encaixado internamente na costura do tecido para fechamento escondendo o varão, com ponteiras em PVC e corda trançada de no mínimo 4 mm e com resistência suficiente para sustentar o banner de tecido. | E19: 90 cm x metro linear | F19: metro | G19: 339039.63 | H19: 40.19 | J19: =I19-(SUM(L19:L19)) -> 0 | K19: =IF(J19<0,"ATENÇÃO","OK") -> OK
A20: Webergrafic Comércio de Materiais Gráficos LTDA - ME | B20: 4 | C20: 17 | D20: Frontlight em lona, impressão digital 4x0 cores, resolução mínima 1200 dpi's e 440 g/m² de gramatura mínima; fixado com ilhóses dispostos de 20 em 20 cm, em ferro ou alumínio e de diâmetro compatível com a corda utilizada - corda trançada de no mínimo 4mm e de resistência suficiente e compatível com o frontlight. INSTALADO E RETIRADA. | E20: 255 X 275 cm | F20: Unidade | G20: 339039.63 | H20: 429.72 | J20: =I20-(SUM(L20:L20)) -> 0 | K20: =IF(J20<0,"ATENÇÃO","OK") -> OK
C21: 18 | E21: 295 X 875 cm | F21: Unidade | G21: 339039.63 | H21: 1055.06 | J21: =I21-(SUM(L21:L21)) -> 0 | K21: =IF(J21<0,"ATENÇÃO","OK") -> OK
C22: 19 | E22: 310 X 914 cm | F22: Unidade | G22: 339039.63 | H22: 1157.2 | J22: =I22-(SUM(L22:L22)) -> 0 | K22: =IF(J22<0,"ATENÇÃO","OK") -> OK
A23: Webergrafic Comércio de Materiais Gráficos LTDA - ME | B23: 5 | C23: 20 | D23: Adesivo perfurado para vidro traseiro de automóveis, impressão digital 4x0 cores, resolução mínima 720 dpi's; com no mínimo 40% de transmissão luminosa (nos termos da RES 254/2007 CONTRAN). | E23: 35 X 90 cm | F23: Unidade | G23: 339039.63 | H23: 11.33 | J23: =I23-(SUM(L23:L23)) -> 0 | K23: =IF(J23<0,"ATENÇÃO","OK") -> OK
A24: Webergrafic Comércio de Materiais Gráficos LTDA - ME | B24: 6 | C24: 21 | D24: Adesivo em vinil, impressão digital 4x0 cores, resolução mínima 300 dpi's e 26 a 30 g/m² de gramatura mínima de cola; acabamento meio corte especial com faca. | E24: 7 X 9 cm | F24: Unidade | G24: 339039.63 | H24: 0.4 | I24: 24 | J24: =I24-(SUM(L24:L24)) -> 24 | K24: =IF(J24<0,"ATENÇÃO","OK") -> OK
C25: 22 | D25: Adesivo em vinil transparente para vidro, impressão digital 4x0 cores, resolução mínima 300 dpi's e 26 a 30 g/m² de gramatura mínima de cola; acabamento corte reto. | E25: 5 X 20 cm | F25: Unidade | G25: 339039.63 | H25: 0.5 | J25: =I25-(SUM(L25:L25)) -> 0 | K25: =IF(J25<0,"ATENÇÃO","OK") -> OK
C26: 23 | E26: 10 X 25 cm | F26: Unidade | G26: 339039.63 | H26: 1.27 | J26: =I26-(SUM(L26:L26)) -> 0 | K26: =IF(J26<0,"ATENÇÃO","OK") -> OK
C27: 24 | D27: Adesivo em vinil resistente a água e cloro, próprio para áreas com piscinas, impressão digital 4x0 cores, resolução mínima 300 dpi's e 26 a 30 g/m2 de gramatura mínima de cola; acabamento corte reto. | E27: 5 X 20 cm | F27: Unidade | G27: 339039.63 | H27: 0.5 | J27: =I27-(SUM(L27:L27)) -> 0 | K27: =IF(J27<0,"ATENÇÃO","OK") -> OK
C28: 25 | E28: 10 X 25 cm | F28: Unidade | G28: 339039.63 | H28: 1.27 | J28: =I28-(SUM(L28:L28)) -> 0 | K28: =IF(J28<0,"ATENÇÃO","OK") -> OK
C29: 26 | D29: Adesivo recortado em vinil colorido (cores diversas a escolher), para adesivagem. | E29: 90 cm x metro linear | F29: metro | G29: 339039.63 | H29: 38.16 | J29: =I29-(SUM(L29:L29)) -> 0 | K29: =IF(J29<0,"ATENÇÃO","OK") -> OK
C30: 27 | D30: Adesivo em vinil, impressão digital 4x0 cores, resolução mínima 300 dpi's e 26 a 30 g/m² de gramatura mínima de cola; acabamento meio corte especial com faca. | E30: 75 cm X metro linear | F30: metro | G30: 339039.63 | H30: 44.5 | J30: =I30-(SUM(L30:L30)) -> 0 | K30: =IF(J30<0,"ATENÇÃO","OK") -> OK
C31: 28 | D31: Adesivo em vinil resistente a água e cloro, próprio para áreas com piscinas, impressão digital 4x0 cores, resolução mínima 300 dpi's e 26 a 30 g/m2 de gramatura mínima de cola; acabamento corte reto. | E31: 15 cm X metro linear | F31: metro | G31: 339039.63 | H31: 37.03 | J31: =I31-(SUM(L31:L31)) -> 0 | K31: =IF(J31<0,"ATENÇÃO","OK") -> OK
A32: Webergrafic Comércio de Materiais Gráficos LTDA - ME | B32: 7 | C32: 29 | D32: Adesivo com impressão digital em caixa metálica de plataforma elevatória ("elevador"); impressão digital em material vinil autoadesivo; acabamento em laminação fosca; instalado; inclui adequação de layout; sugere-se visita técnica para conhecimento. | E32: m² | F32: metro² | G32: 339039.63 | H32: 97.5 | I32: 24 | J32: =I32-(SUM(L32:L32)) -> 24 | K32: =IF(J32<0,"ATENÇÃO","OK") -> OK
A33: Webergrafic Comércio de Materiais Gráficos LTDA - ME | B33: 8 | C33: 30 | D33: Crachá em cartão PVC laminado branco, impressão digital 4x1 cores, resolução mínima 300 dpi's e espessura de 0,70 a 0,80mm cantos arredondados, com perfuração entre 15 a 20mm compatível com grampo de metal tipo jacaré do cordão. | E33: 5,4 X 8,60 cm | F33: Unidade | G33: 339039.63 | H33: 5.99 | J33: =I33-(SUM(L33:L33)) -> 0 | K33: =IF(J33<0,"ATENÇÃO","OK") -> OK
C34: 31 | D34: Cordão para crachá personalizado em impressão digital, com grampo de metal tipo jacaré, em 100% poliéster. | E34: 1,3 a 1,6 X 80 a 90 cm | F34: Unidade | G34: 339039.63 | H34: 2.75 | J34: =I34-(SUM(L34:L34)) -> 0 | K34: =IF(J34<0,"ATENÇÃO","OK") -> OK
A35: Ferroprint Tecnologia LTDA - ME | B35: 9 | C35: 32 | D35: Placa em PVC branco, impressão digital 4x0 cores, resolução mínima 300 dpi's e espessura de 2mm, com fixação dupla face de espuma acrílica para ambiente externo de no mínimo 20mm de largura e de no mínimo 10 cm de tamanho para cada 150g de placa. | E35: 200 X 120 cm | F35: Unidade | G35: 339039.63 | H35: 360 | J35: =I35-(SUM(L35:L35)) -> 0 | K35: =IF(J35<0,"ATENÇÃO","OK") -> OK
C36: 33 | D36: Placa em PVC branco, impressão digital 4x0 cores, resolução mínima 300 dpi's e espessura de 2mm, com fixação dupla face de espuma acrílica para ambiente interno de no mínimo 20mm de largura e de no mínimo 10 cm de tamanho para cada 150g de placa. | E36: 25 x 10 cm | F36: Unidade | G36: 339039.63 | H36: 3.75 | J36: =I36-(SUM(L36:L36)) -> 0 | K36: =IF(J36<0,"ATENÇÃO","OK") -> OK
C37: 34 | D37: Placa em PVC branco em formato "V" para ser apoiado sobre balção, impressão digital 4x0 cores, resolução mínima 300 dpi's e espessura de 2mm. | E37: 25 x 15 cm(plano) | F37: Unidade | G37: 339039.63 | H37: 35.06 | J37: =I37-(SUM(L37:L37)) -> 0 | K37: =IF(J37<0,"ATENÇÃO","OK") -> OK
A38: Webergrafic Comércio de Materiais Gráficos LTDA - ME | B38: 10 | C38: 35 | D38: Plotagem, impressão 4x0 cores, em papel sulfite de 75 g/m2 de gramatura mínima. | E38: Formato A0 ("A" Zero - 84,1 X 118,9cm) | F38: Unidade | G38: 339039.63 | H38: 73.39 | J38: =I38-(SUM(L38:L38)) -> 0 | K38: =IF(J38<0,"ATENÇÃO","OK") -> OK
C39: 36 | D39: Plotagem, impressão monocromática, em papel sulfite de 75 g/m2 de gramatura mínima. | E39: Formato A0 ("A" Zero - 84,1 X 118,9cm) | F39: Unidade | G39: 339039.63 | H39: 73.38 | J39: =I39-(SUM(L39:L39)) -> 0 | K39: =IF(J39<0,"ATENÇÃO","OK") -> OK
A40: Webergrafic Comércio de Materiais Gráficos LTDA - ME | B40: 11 | C40: 37 | D40: Adesivo em vinil transparente para vidro de carro, impressão digital 4x0 cores, resolução mínima 300 dpi's e 26 a 30 g/m² de gramatura mínima de cola; acabamento corte especial a faca (adesivo circular). | E40: Diametro de 8cm | F40: Unidade | G40: 339039.63 | H40: 3 | J40: =I40-(SUM(L40:L40)) -> 0 | K40: =IF(J40<0,"ATENÇÃO","OK") -> OK
A41: Webergrafic Comércio de Materiais Gráficos LTDA - ME | B41: 12 | C41: 38 | D41: Adesivo recortado em vinil colorido Gold Max (cores diversas a escolher), para adesivagem, com instalação. | E41: 12m² | F41: Unidade | G41: 339039.63 | H41: 1050 | J41: =I41-(SUM(L41:L41)) -> 0 | K41: =IF(J41<0,"ATENÇÃO","OK") -> OK
A42: Webergrafic Comércio de Materiais Gráficos LTDA - ME | B42: 13 | C42: 39 | D42: Adesivo vinílico colorido (cores diversas a escolher), para aplicação em Placa de MDF. | E42: 80 X 60 cm | F42: Unidade | G42: 339039.63 | H42: 26.95 | J42: =I42-(SUM(L42:L42)) -> 0 | K42: =IF(J42<0,"ATENÇÃO","OK") -> OK
C43: 40 | D43: Placa em MDF 3mm. Pintada e envernizada com texto em vinil colorido (cores diversas a escolher). | E43: 60 X 10 cm | F43: Unidade | G43: 339039.63 | H43: 16.85 | J43: =I43-(SUM(L43:L43)) -> 0 | K43: =IF(J43<0,"ATENÇÃO","OK") -> OK
C44: 41 | D44: Adesivo vinílico colorido (cores diversas a escolher), para aplicação em Placa de MDF. | E44: 60 X 40 cm | F44: Unidade | G44: 339039.63 | H44: 13.48 | J44: =I44-(SUM(L44:L44)) -> 0 | K44: =IF(J44<0,"ATENÇÃO","OK") -> OK
C45: 42 | D45: Adesivo vinílico colorido (cores diversas a escolher). Arredondamento do canto inferior direito é de 100 pontos. Para numeração sequencial. | E45: 10 X 6,5 cm | F45: Unidade | G45: 339039.63 | H45: 3.64 | J45: =I45-(SUM(L45:L45)) -> 0 | K45: =IF(J45<0,"ATENÇÃO","OK") -> OK
C46: 43 | D46: Adesivo para renovação do Totem de entrada. Texto em vinil recortado colorido (cores diversas a escolher). | E46: 1,70 X 0,60 m | F46: Unidade | G46: 339039.63 | H46: 59 | J46: =I46-(SUM(L46:L46)) -> 0 | K46: =IF(J46<0,"ATENÇÃO","OK") -> OK
A47: Webergrafic Comércio de Materiais Gráficos LTDA - ME | B47: 14 | C47: 44 | D47: Adesivo numerado com quatro digitos em vinil transparente para uso interno em veículo, impressão digital 4x0 cores, resolução mínima 300 dpi's e 26 a 30 g/m² de gramatura | E47: 9 x 6 cm | F47: Unidade | G47: 339039.63 | H47: 0.31 | J47: =I47-(SUM(L47:L47)) -> 0 | K47: =IF(J47<0,"ATENÇÃO","OK") -> OK

Sheet CEFID
A1: PROCESSO: 0354/2015/UDESC | D1: OBJETO: SERVIÇOS GRÁFICOS PARA A UDESC | I1: VIGÊNCIA DA ATA: 01/07/2015 até 30/06/2016 | L1: AF/OS nº 1575/2015 Qtde. DT | M1: AF/OS nº 1969/2015 Qtde. DT | N1: AF/OS nº 1974/2015 Qtde. DT | O1: AF/OS nº 320/2015 Qtde. DT
A2: CENTRO PARTICIPANTE: CEFID
A3: FORNECEDOR | B3: LOTE | C3: ITEM | D3: PRODUTO - CARACTERÍSTICAS MÍNIMAS | E3: Dimensões | F3: Unidade | G3: DETALHAMENTO | H3: Preço UNITÁRIO (R$) | I3: Qtde Registrada | J3: Saldo / Automático | K3: ALERTA | L3: 42249 | M3: 42297 | N3: 42298 | O3: 42095
A4: Seriprint Comunicação Visual LTDA - ME | B4: 1 | C4: 1 | D4: Banner em lona, impressão digital 4x0 cores, resolução mínima 720 dpi's e 280 g/m² de gramatura mínima; e suporte: 1) em madeira em duas das menores extremidades e acabamento com ponteira de PVC (grampeada) e corda trançada de no mínimo 4mm e de resistência suficiente e compatível com o banner; ou 2) com ilhóses dispostos de 20 em 20 cm, em ferro ou alumínio e de diâmetro compatível com a corda utilizada - corda trançada de no mínimo 4mm e de resistência suficiente e compatível com o banner. | E4: 50 X 70 cm | F4: Unidade | G4: 339039.63 | H4: 10.3 | I4: 10 | J4: =I4-(SUM(L4:O4)) -> 10 | K4: =IF(J4<0,"ATENÇÃO","OK") -> OK
C5: 2 | E5: 90 X 150 cm | F5: Unidade | G5: 339039.63 | H5: 36.2 | I5: 30 | J5: =I5-(SUM(L5:O5)) -> 0 | K5: =IF(J5<0,"ATENÇÃO","OK") -> OK | N5: 20 | O5: 10
C6: 3 | E6: 90 X 120 cm | F6: Unidade | G6: 339039.63 | H6: 33 | I6: 30 | J6: =I6-(SUM(L6:O6)) -> 0 | K6: =IF(J6<0,"ATENÇÃO","OK") -> OK | L6: 30
C7: 4 | E7: 110 X 150 cm | F7: Unidade | G7: 339039.63 | H7: 39 | I7: 20 | J7: =I7-(SUM(L7:O7)) -> 10 | K7: =IF(J7<0,"ATENÇÃO","OK") -> OK | O7: 10
C8: 5 | E8: 130 X 180 cm | F8: Unidade | G8: 339039.63 | H8: 52.3 | J8: =I8-(SUM(L8:O8)) -> 0 | K8: =IF(J8<0,"ATENÇÃO","OK") -> OK
C9: 6 | E9: 50 X 300 cm | F9: Unidade | G9: 339039.63 | H9: 34 | J9: =I9-(SUM(L9:O9)) -> 0 | K9: =IF(J9<0,"ATENÇÃO","OK") -> OK
C10: 7 | E10: 70 X 400 cm | F10: Unidade | G10: 339039.63 | H10: 59 | J10: =I10-(SUM(L10:O10)) -> 0 | K10: =IF(J10<0,"ATENÇÃO","OK") -> OK
C11: 8 | E11: 140 cm X metro linear | F11: metro | G11: 339039.63 | H11: 26 | J11: =I11-(SUM(L11:O11)) -> 0 | K11: =IF(J11<0,"ATENÇÃO","OK") -> OK
C12: 9 | E12: 80 X 110 cm | F12: Unidade | G12: 339039.63 | H12: 29.3 | I12: 20 | J12: =I12-(SUM(L12:O12)) -> 0 | K12: =IF(J12<0,"ATENÇÃO","OK") -> OK | L12: 10 | N12: 10
C13: 10 | E13: 80 X 120 cm | F13: Unidade | G13: 339039.63 | H13: 30 | J13: =I13-(SUM(L13:O13)) -> 0 | K13: =IF(J13<0,"ATENÇÃO","OK") -> OK
C14: 11 | E14: 90 X 110 cm | F14: Unidade | G14: 339039.63 | H14: 25 | I14: 50 | J14: =I14-(SUM(L14:O14)) -> 0 | K14: =IF(J14<0,"ATENÇÃO","OK") -> OK | L14: 30 | N14: 20
C15: 12 | D15: Frontlight em lona, impressão digital 4x0 cores, resolução mínima 1200 dpi's e 440 g/m² de gramatura mínima; fixado com ilhóses dispostos de 20 em 20 cm, em ferro ou alumínio e de diâmetro compatível com a corda utilizada - corda trançada de no mínimo 4mm e de resistência suficiente e compatível com o frontlight. | E15: 320 cm X metro linear | F15: metro | G15: 339039.63 | H15: 65 | J15: =I15-(SUM(L15:O15)) -> 0 | K15: =IF(J15<0,"ATENÇÃO","OK") -> OK
C16: 13 | E16: 650 X 150 cm | F16: Unidade | G16: 339039.63 | H16: 189.86 | J16: =I16-(SUM(L16:O16)) -> 0 | K16: =IF(J16<0,"ATENÇÃO","OK") -> OK
C17: 14 | E17: 250 X 120 cm | F17: Unidade | G17: 339039.63 | H17: 73 | J17: =I17-(SUM(L17:O17)) -> 0 | K17: =IF(J17<0,"ATENÇÃO","OK") -> OK
A18: Webergrafic Comércio de Materiais Gráficos LTDA - ME | B18: 2 | C18: 15 | D18: Banner em papel fotográfico com laminação brilhante, resolução mínima de 600 dpi's e 280g/m² de gramatura mínima, suporte em plástico em duas das menores extremidades e corda de no mínimo 1mm e de resistência suficiente e compatível com o banner. | E18: 90 cm X metro linear | F18: metro | G18: 339039.63 | H18: 49.5 | J18: =I18-(SUM(L18:O18)) -> 0 | K18: =IF(J18<0,"ATENÇÃO","OK") -> OK
A19: Webergrafic Comércio de Materiais Gráficos LTDA - ME | B19: 3 | C19: 16 | D19: Banner em tecido. Impressão digital em tecido. Policromia: 4 x 0 cores. Resolução mínima de 1200 dpi´s. Acabamento em madeira (cabo redondo) nas duas extremidades menores, sendo encaixado internamente na costura do tecido para fechamento escondendo o varão, com ponteiras em PVC e corda trançada de no mínimo 4 mm e com resistência suficiente para sustentar o banner de tecido. | E19: 90 cm x metro linear | F19: metro | G19: 339039.63 | H19: 40.19 | J19: =I19-(SUM(L19:O19)) -> 0 | K19: =IF(J19<0,"ATENÇÃO","OK") -> OK
A20: Webergrafic Comércio de Materiais Gráficos LTDA - ME | B20: 4 | C20: 17 | D20: Frontlight em lona, impressão digital 4x0 cores, resolução mínima 1200 dpi's e 440 g/m² de gramatura mínima; fixado com ilhóses dispostos de 20 em 20 cm, em ferro ou alumínio e de diâmetro compatível com a corda utilizada - corda trançada de no mínimo 4mm e de resistência suficiente e compatível com o frontlight. INSTALADO E RETIRADA. | E20: 255 X 275 cm | F20: Unidade | G20: 339039.63 | H20: 429.72 | J20: =I20-(SUM(L20:O20)) -> 0 | K20: =IF(J20<0,"ATENÇÃO","OK") -> OK
C21: 18 | E21: 295 X 875 cm | F21: Unidade | G21: 339039.63 | H21: 1055.06 | J21: =I21-(SUM(L21:O21)) -> 0 | K21: =IF(J21<0,"ATENÇÃO","OK") -> OK
C22: 19 | E22: 310 X 914 cm | F22: Unidade | G22: 339039.63 | H22: 1157.2 | J22: =I22-(SUM(L22:O22)) -> 0 | K22: =IF(J22<0,"ATENÇÃO","OK") -> OK
A23: Webergrafic Comércio de Materiais Gráficos LTDA - ME | B23: 5 | C23: 20 | D23: Adesivo perfurado para vidro traseiro de automóveis, impressão digital 4x0 cores, resolução mínima 720 dpi's; com no mínimo 40% de transmissão luminosa (nos termos da RES 254/2007 CONTRAN). | E23: 35 X 90 cm | F23: Unidade | G23: 339039.63 | H23: 11.33 | J23: =I23-(SUM(L23:O23)) -> 0 | K23: =IF(J23<0,"ATENÇÃO","OK") -> OK
A24: Webergrafic Comércio de Materiais Gráficos LTDA - ME | B24: 6 | C24: 21 | D24: Adesivo em vinil, impressão digital 4x0 cores, resolução mínima 300 dpi's e 26 a 30 g/m² de gramatura mínima de cola; acabamento meio corte especial com faca. | E24: 7 X 9 cm | F24: Unidade | G24: 339039.63 | H24: 0.4 | I24: 50 | J24: =I24-(SUM(L24:O24)) -> 50 | K24: =IF(J24<0,"ATENÇÃO","OK") -> OK
C25: 22 | D25: Adesivo em vinil transparente para vidro, impressão digital 4x0 cores, resolução mínima 300 dpi's e 26 a 30 g/m² de gramatura mínima de cola; acabamento corte reto. | E25: 5 X 20 cm | F25: Unidade | G25: 339039.63 | H25: 0.5 | I25: 50 | J25: =I25-(SUM(L25:O25)) -> 50 | K25: =IF(J25<0,"ATENÇÃO","OK") -> OK
C26: 23 | E26: 10 X 25 cm | F26: Unidade | G26: 339039.63 | H26: 1.27 | I26: 50 | J26: =I26-(SUM(L26:O26)) -> 50 | K26: =IF(J26<0,"ATENÇÃO","OK") -> OK
C27: 24 | D27: Adesivo em vinil resistente a água e cloro, próprio para áreas com piscinas, impressão digital 4x0 cores, resolução mínima 300 dpi's e 26 a 30 g/m2 de gramatura mínima de cola; acabamento corte reto. | E27: 5 X 20 cm | F27: Unidade | G27: 339039.63 | H27: 0.5 | J27: =I27-(SUM(L27:O27)) -> 0 | K27: =IF(J27<0,"ATENÇÃO","OK") -> OK
C28: 25 | E28: 10 X 25 cm | F28: Unidade | G28: 339039.63 | H28: 1.27 | J28: =I28-(SUM(L28:O28)) -> 0 | K28: =IF(J28<0,"ATENÇÃO","OK") -> OK
C29: 26 | D29: Adesivo recortado em vinil colorido (cores diversas a escolher), para adesivagem. | E29: 90 cm x metro linear | F29: metro | G29: 339039.63 | H29: 38.16 | J29: =I29-(SUM(L29:O29)) -> 0 | K29: =IF(J29<0,"ATENÇÃO","OK") -> OK
C30: 27 | D30: Adesivo em vinil, impressão digital 4x0 cores, resolução mínima 300 dpi's e 26 a 30 g/m² de gramatura mínima de cola; acabamento meio corte especial com faca. | E30: 75 cm X metro linear | F30: metro | G30: 339039.63 | H30: 44.5 | J30: =I30-(SUM(L30:O30)) -> 0 | K30: =IF(J30<0,"ATENÇÃO","OK") -> OK
C31: 28 | D31: Adesivo em vinil resistente a água e cloro, próprio para áreas com piscinas, impressão digital 4x0 cores, resolução mínima 300 dpi's e 26 a 30 g/m2 de gramatura mínima de cola; acabamento corte reto. | E31: 15 cm X metro linear | F31: metro | G31: 339039.63 | H31: 37.03 | J31: =I31-(SUM(L31:O31)) -> 0 | K31: =IF(J31<0,"ATENÇÃO","OK") -> OK
A32: Webergrafic Comércio de Materiais Gráficos LTDA - ME | B32: 7 | C32: 29 | D32: Adesivo com impressão digital em caixa metálica de plataforma elevatória ("elevador"); impressão digital em material vinil autoadesivo; acabamento em laminação fosca; instalado; inclui adequação de layout; sugere-se visita técnica para conhecimento. | E32: m² | F32: metro² | G32: 339039.63 | H32: 97.5 | J32: =I32-(SUM(L32:O32)) -> 0 | K32: =IF(J32<0,"ATENÇÃO","OK") -> OK
A33: Webergrafic Comércio de Materiais Gráficos LTDA - ME | B33: 8 | C33: 30 | D33: Crachá em cartão PVC laminado branco, impressão digital 4x1 cores, resolução mínima 300 dpi's e espessura de 0,70 a 0,80mm cantos arredondados, com perfuração entre 15 a 20mm compatível com grampo de metal tipo jacaré do cordão. | E33: 5,4 X 8,60 cm | F33: Unidade | G33: 339039.63 | H33: 5.99 | I33: 50 | J33: =I33-(SUM(L33:O33)) -> 20 | K33: =IF(J33<0,"ATENÇÃO","OK") -> OK | M33: 30
C34: 31 | D34: Cordão para crachá personalizado em impressão digital, com grampo de metal tipo jacaré, em 100% poliéster. | E34: 1,3 a 1,6 X 80 a 90 cm | F34: Unidade | G34: 339039.63 | H34: 2.75 | I34: 50 | J34: =I34-(SUM(L34:O34)) -> 20 | K34: =IF(J34<0,"ATENÇÃO","OK") -> OK | M34: 30
A35: Ferroprint Tecnologia LTDA - ME | B35: 9 | C35: 32 | D35: Placa em PVC branco, impressão digital 4x0 cores, resolução mínima 300 dpi's e espessura de 2mm, com fixação dupla face de espuma acrílica para ambiente externo de no mínimo 20mm de largura e de no mínimo 10 cm de tamanho para cada 150g de placa. | E35: 200 X 120 cm | F35: Unidade | G35: 339039.63 | H35: 360 | I35: 5 | J35: =I35-(SUM(L35:O35)) -> 5 | K35: =IF(J35<0,"ATENÇÃO","OK") -> OK
C36: 33 | D36: Placa em PVC branco, impressão digital 4x0 cores, resolução mínima 300 dpi's e espessura de 2mm, com fixação dupla face de espuma acrílica para ambiente interno de no mínimo 20mm de largura e de no mínimo 10 cm de tamanho para cada 150g de placa. | E36: 25 x 10 cm | F36: Unidade | G36: 339039.63 | H36: 3.75 | I36: 20 | J36: =I36-(SUM(L36:O36)) -> 20 | K36: =IF(J36<0,"ATENÇÃO","OK") -> OK
C37: 34 | D37: Placa em PVC branco em formato "V" para ser apoiado sobre balção, impressão digital 4x0 cores, resolução mínima 300 dpi's e espessura de 2mm. | E37: 25 x 15 cm(plano) | F37: Unidade | G37: 339039.63 | H37: 35.06 | J37: =I37-(SUM(L37:O37)) -> 0 | K37: =IF(J37<0,"ATENÇÃO","OK") -> OK
A38: Webergrafic Comércio de Materiais Gráficos LTDA - ME | B38: 10 | C38: 35 | D38: Plotagem, impressão 4x0 cores, em papel sulfite de 75 g/m2 de gramatura mínima. | E38: Formato A0 ("A" Zero - 84,1 X 118,9cm) | F38: Unidade | G38: 339039.63 | H38: 73.39 | J38: =I38-(SUM(L38:O38)) -> 0 | K38: =IF(J38<0,"ATENÇÃO","OK") -> OK
C39: 36 | D39: Plotagem, impressão monocromática, em papel sulfite de 75 g/m2 de gramatura mínima. | E39: Formato A0 ("A" Zero - 84,1 X 118,9cm) | F39: Unidade | G39: 339039.63 | H39: 73.38 | J39: =I39-(SUM(L39:O39)) -> 0 | K39: =IF(J39<0,"ATENÇÃO","OK") -> OK
A40: Webergrafic Comércio de Materiais Gráficos LTDA - ME | B40: 11 | C40: 37 | D40: Adesivo em vinil transparente para vidro de carro, impressão digital 4x0 cores, resolução mínima 300 dpi's e 26 a 30 g/m² de gramatura mínima de cola; acabamento corte especial a faca (adesivo circular). | E40: Diametro de 8cm | F40: Unidade | G40: 339039.63 | H40: 3 | I40: 50 | J40: =I40-(SUM(L40:O40)) -> 50 | K40: =IF(J40<0,"ATENÇÃO","OK") -> OK
A41: Webergrafic Comércio de Materiais Gráficos LTDA - ME | B41: 12 | C41: 38 | D41: Adesivo recortado em vinil colorido Gold Max (cores diversas a escolher), para adesivagem, com instalação. | E41: 12m² | F41: Unidade | G41: 339039.63 | H41: 1050 | J41: =I41-(SUM(L41:O41)) -> 0 | K41: =IF(J41<0,"ATENÇÃO","OK") -> OK
A42: Webergrafic Comércio de Materiais Gráficos LTDA - ME | B42: 13 | C42: 39 | D42: Adesivo vinílico colorido (cores diversas a escolher), para aplicação em Placa de MDF. | E42: 80 X 60 cm | F42: Unidade | G42: 339039.63 | H42: 26.95 | J42: =I42-(SUM(L42:O42)) -> 0 | K42: =IF(J42<0,"ATENÇÃO","OK") -> OK
C43: 40 | D43: Placa em MDF 3mm. Pintada e envernizada com texto em vinil colorido (cores diversas a escolher). | E43: 60 X 10 cm | F43: Unidade | G43: 339039.63 | H43: 16.85 | J43: =I43-(SUM(L43:O43)) -> 0 | K43: =IF(J43<0,"ATENÇÃO","OK") -> OK
C44: 41 | D44: Adesivo vinílico colorido (cores diversas a escolher), para aplicação em Placa de MDF. | E44: 60 X 40 cm | F44: Unidade | G44: 339039.63 | H44: 13.48 | J44: =I44-(SUM(L44:O44)) -> 0 | K44: =IF(J44<0,"ATENÇÃO","OK") -> OK
C45: 42 | D45: Adesivo vinílico colorido (cores diversas a escolher). Arredondamento do canto inferior direito é de 100 pontos. Para numeração sequencial. | E45: 10 X 6,5 cm | F45: Unidade | G45: 339039.63 | H45: 3.64 | J45: =I45-(SUM(L45:O45)) -> 0 | K45: =IF(J45<0,"ATENÇÃO","OK") -> OK
C46: 43 | D46: Adesivo para renovação do Totem de entrada. Texto em vinil recortado colorido (cores diversas a escolher). | E46: 1,70 X 0,60 m | F46: Unidade | G46: 339039.63 | H46: 59 | J46: =I46-(SUM(L46:O46)) -> 0 | K46: =IF(J46<0,"ATENÇÃO","OK") -> OK
A47: Webergrafic Comércio de Materiais Gráficos LTDA - ME | B47: 14 | C47: 44 | D47: Adesivo numerado com quatro digitos em vinil transparente para uso interno em veículo, impressão digital 4x0 cores, resolução mínima 300 dpi's e 26 a 30 g/m² de gramatura | E47: 9 x 6 cm | F47: Unidade | G47: 339039.63 | H47: 0.31 | J47: =I47-(SUM(L47:O47)) -> 0 | K47: =IF(J47<0,"ATENÇÃO","OK") -> OK

Sheet CERES
A1: PROCESSO: 0354/2015/UDESC | D1: OBJETO: SERVIÇOS GRÁFICOS PARA A UDESC | I1: VIGÊNCIA DA ATA: 01/07/2015 até 30/06/2016 | L1: AF/OS nº 283/2016 Qtde. DT | M1: AF/OS nº 709/2016 Qtde. DT
A2: CENTRO PARTICIPANTE: CERES
A3: FORNECEDOR | B3: LOTE | C3: ITEM | D3: PRODUTO - CARACTERÍSTICAS MÍNIMAS | E3: Dimensões | F3: Unidade | G3: DETALHAMENTO | H3: Preço UNITÁRIO (R$) | I3: Qtde Registrada | J3: Saldo / Automático | K3: ALERTA | L3: 42452 | M3: 42550
A4: Seriprint Comunicação Visual LTDA - ME | B4: 1 | C4: 1 | D4: Banner em lona, impressão digital 4x0 cores, resolução mínima 720 dpi's e 280 g/m² de gramatura mínima; e suporte: 1) em madeira em duas das menores extremidades e acabamento com ponteira de PVC (grampeada) e corda trançada de no mínimo 4mm e de resistência suficiente e compatível com o banner; ou 2) com ilhóses dispostos de 20 em 20 cm, em ferro ou alumínio e de diâmetro compatível com a corda utilizada - corda trançada de no mínimo 4mm e de resistência suficiente e compatível com o banner. | E4: 50 X 70 cm | F4: Unidade | G4: 339039.63 | H4: 10.3 | J4: =I4-(SUM(L4:M4)) -> 0 | K4: =IF(J4<0,"ATENÇÃO","OK") -> OK
C5: 2 | E5: 90 X 150 cm | F5: Unidade | G5: 339039.63 | H5: 36.2 | J5: =I5-(SUM(L5:M5)) -> 0 | K5: =IF(J5<0,"ATENÇÃO","OK") -> OK
C6: 3 | E6: 90 X 120 cm | F6: Unidade | G6: 339039.63 | H6: 33 | I6: 61 | J6: =I6-(SUM(L6:M6)) -> 58 | K6: =IF(J6<0,"ATENÇÃO","OK") -> OK | M6: 3
C7: 4 | E7: 110 X 150 cm | F7: Unidade | G7: 339039.63 | H7: 39 | I7: 50 | J7: =I7-(SUM(L7:M7)) -> 42 | K7: =IF(J7<0,"ATENÇÃO","OK") -> OK | L7: 8
C8: 5 | E8: 130 X 180 cm | F8: Unidade | G8: 339039.63 | H8: 52.3 | J8: =I8-(SUM(L8:M8)) -> 0 | K8: =IF(J8<0,"ATENÇÃO","OK") -> OK
C9: 6 | E9: 50 X 300 cm | F9: Unidade | G9: 339039.63 | H9: 34 | J9: =I9-(SUM(L9:M9)) -> 0 | K9: =IF(J9<0,"ATENÇÃO","OK") -> OK
C10: 7 | E10: 70 X 400 cm | F10: Unidade | G10: 339039.63 | H10: 59 | J10: =I10-(SUM(L10:M10)) -> 0 | K10: =IF(J10<0,"ATENÇÃO","OK") -> OK
C11: 8 | E11: 140 cm X metro linear | F11: metro | G11: 339039.63 | H11: 26 | J11: =I11-(SUM(L11:M11)) -> 0 | K11: =IF(J11<0,"ATENÇÃO","OK") -> OK
C12: 9 | E12: 80 X 110 cm | F12: Unidade | G12: 339039.63 | H12: 29.3 | J12: =I12-(SUM(L12:M12)) -> 0 | K12: =IF(J12<0,"ATENÇÃO","OK") -> OK
C13: 10 | E13: 80 X 120 cm | F13: Unidade | G13: 339039.63 | H13: 30 | J13: =I13-(SUM(L13:M13)) -> 0 | K13: =IF(J13<0,"ATENÇÃO","OK") -> OK
C14: 11 | E14: 90 X 110 cm | F14: Unidade | G14: 339039.63 | H14: 25 | J14: =I14-(SUM(L14:M14)) -> 0 | K14: =IF(J14<0,"ATENÇÃO","OK") -> OK
C15: 12 | D15: Frontlight em lona, impressão digital 4x0 cores, resolução mínima 1200 dpi's e 440 g/m² de gramatura mínima; fixado com ilhóses dispostos de 20 em 20 cm, em ferro ou alumínio e de diâmetro compatível com a corda utilizada - corda trançada de no mínimo 4mm e de resistência suficiente e compatível com o frontlight. | E15: 320 cm X metro linear | F15: metro | G15: 339039.63 | H15: 65 | J15: =I15-(SUM(L15:M15)) -> 0 | K15: =IF(J15<0,"ATENÇÃO","OK") -> OK
C16: 13 | E16: 650 X 150 cm | F16: Unidade | G16: 339039.63 | H16: 189.86 | J16: =I16-(SUM(L16:M16)) -> 0 | K16: =IF(J16<0,"ATENÇÃO","OK") -> OK
C17: 14 | E17: 250 X 120 cm | F17: Unidade | G17: 339039.63 | H17: 73 | J17: =I17-(SUM(L17:M17)) -> 0 | K17: =IF(J17<0,"ATENÇÃO","OK") -> OK
A18: Webergrafic Comércio de Materiais Gráficos LTDA - ME | B18: 2 | C18: 15 | D18: Banner em papel fotográfico com laminação brilhante, resolução mínima de 600 dpi's e 280g/m² de gramatura mínima, suporte em plástico em duas das menores extremidades e corda de no mínimo 1mm e de resistência suficiente e compatível com o banner. | E18: 90 cm X metro linear | F18: metro | G18: 339039.63 | H18: 49.5 | I18: 10 | J18: =I18-(SUM(L18:M18)) -> 10 | K18: =IF(J18<0,"ATENÇÃO","OK") -> OK
A19: Webergrafic Comércio de Materiais Gráficos LTDA - ME | B19: 3 | C19: 16 | D19: Banner em tecido. Impressão digital em tecido. Policromia: 4 x 0 cores. Resolução mínima de 1200 dpi´s. Acabamento em madeira (cabo redondo) nas duas extremidades menores, sendo encaixado internamente na costura do tecido para fechamento escondendo o varão, com ponteiras em PVC e corda trançada de no mínimo 4 mm e com resistência suficiente para sustentar o banner de tecido. | E19: 90 cm x metro linear | F19: metro | G19: 339039.63 | H19: 40.19 | J19: =I19-(SUM(L19:M19)) -> 0 | K19: =IF(J19<0,"ATENÇÃO","OK") -> OK
A20: Webergrafic Comércio de Materiais Gráficos LTDA - ME | B20: 4 | C20: 17 | D20: Frontlight em lona, impressão digital 4x0 cores, resolução mínima 1200 dpi's e 440 g/m² de gramatura mínima; fixado com ilhóses dispostos de 20 em 20 cm, em ferro ou alumínio e de diâmetro compatível com a corda utilizada - corda trançada de no mínimo 4mm e de resistência suficiente e compatível com o frontlight. INSTALADO E RETIRADA. | E20: 255 X 275 cm | F20: Unidade | G20: 339039.63 | H20: 429.72 | J20: =I20-(SUM(L20:M20)) -> 0 | K20: =IF(J20<0,"ATENÇÃO","OK") -> OK
C21: 18 | E21: 295 X 875 cm | F21: Unidade | G21: 339039.63 | H21: 1055.06 | I21: 2 | J21: =I21-(SUM(L21:M21)) -> 2 | K21: =IF(J21<0,"ATENÇÃO","OK") -> OK
C22: 19 | E22: 310 X 914 cm | F22: Unidade | G22: 339039.63 | H22: 1157.2 | J22: =I22-(SUM(L22:M22)) -> 0 | K22: =IF(J22<0,"ATENÇÃO","OK") -> OK
A23: Webergrafic Comércio de Materiais Gráficos LTDA - ME | B23: 5 | C23: 20 | D23: Adesivo perfurado para vidro traseiro de automóveis, impressão digital 4x0 cores, resolução mínima 720 dpi's; com no mínimo 40% de transmissão luminosa (nos termos da RES 254/2007 CONTRAN). | E23: 35 X 90 cm | F23: Unidade | G23: 339039.63 | H23: 11.33 | J23: =I23-(SUM(L23:M23)) -> 0 | K23: =IF(J23<0,"ATENÇÃO","OK") -> OK
A24: Webergrafic Comércio de Materiais Gráficos LTDA - ME | B24: 6 | C24: 21 | D24: Adesivo em vinil, impressão digital 4x0 cores, resolução mínima 300 dpi's e 26 a 30 g/m² de gramatura mínima de cola; acabamento meio corte especial com faca. | E24: 7 X 9 cm | F24: Unidade | G24: 339039.63 | H24: 0.4 | I24: 240 | J24: =I24-(SUM(L24:M24)) -> 240 | K24: =IF(J24<0,"ATENÇÃO","OK") -> OK
C25: 22 | D25: Adesivo em vinil transparente para vidro, impressão digital 4x0 cores, resolução mínima 300 dpi's e 26 a 30 g/m² de gramatura mínima de cola; acabamento corte reto. | E25: 5 X 20 cm | F25: Unidade | G25: 339039.63 | H25: 0.5 | I25: 120 | J25: =I25-(SUM(L25:M25)) -> 120 | K25: =IF(J25<0,"ATENÇÃO","OK") -> OK
C26: 23 | E26: 10 X 25 cm | F26: Unidade | G26: 339039.63 | H26: 1.27 | I26: 180 | J26: =I26-(SUM(L26:M26)) -> 180 | K26: =IF(J26<0,"ATENÇÃO","OK") -> OK
C27: 24 | D27: Adesivo em vinil resistente a água e cloro, próprio para áreas com piscinas, impressão digital 4x0 cores, resolução mínima 300 dpi's e 26 a 30 g/m2 de gramatura mínima de cola; acabamento corte reto. | E27: 5 X 20 cm | F27: Unidade | G27: 339039.63 | H27: 0.5 | J27: =I27-(SUM(L27:M27)) -> 0 | K27: =IF(J27<0,"ATENÇÃO","OK") -> OK
C28: 25 | E28: 10 X 25 cm | F28: Unidade | G28: 339039.63 | H28: 1.27 | I28: 100 | J28: =I28-(SUM(L28:M28)) -> 100 | K28: =IF(J28<0,"ATENÇÃO","OK") -> OK
C29: 26 | D29: Adesivo recortado em vinil colorido (cores diversas a escolher), para adesivagem. | E29: 90 cm x metro linear | F29: metro | G29: 339039.63 | H29: 38.16 | I29: 5 | J29: =I29-(SUM(L29:M29)) -> 5 | K29: =IF(J29<0,"ATENÇÃO","OK") -> OK
C30: 27 | D30: Adesivo em vinil, impressão digital 4x0 cores, resolução mínima 300 dpi's e 26 a 30 g/m² de gramatura mínima de cola; acabamento meio corte especial com faca. | E30: 75 cm X metro linear | F30: metro | G30: 339039.63 | H30: 44.5 | J30: =I30-(SUM(L30:M30)) -> 0 | K30: =IF(J30<0,"ATENÇÃO","OK") -> OK
C31: 28 | D31: Adesivo em vinil resistente a água e cloro, próprio para áreas com piscinas, impressão digital 4x0 cores, resolução mínima 300 dpi's e 26 a 30 g/m2 de gramatura mínima de cola; acabamento corte reto. | E31: 15 cm X metro linear | F31: metro | G31: 339039.63 | H31: 37.03 | J31: =I31-(SUM(L31:M31)) -> 0 | K31: =IF(J31<0,"ATENÇÃO","OK") -> OK
A32: Webergrafic Comércio de Materiais Gráficos LTDA - ME | B32: 7 | C32: 29 | D32: Adesivo com impressão digital em caixa metálica de plataforma elevatória ("elevador"); impressão digital em material vinil autoadesivo; acabamento em laminação fosca; instalado; inclui adequação de layout; sugere-se visita técnica para conhecimento. | E32: m² | F32: metro² | G32: 339039.63 | H32: 97.5 | J32: =I32-(SUM(L32:M32)) -> 0 | K32: =IF(J32<0,"ATENÇÃO","OK") -> OK
A33: Webergrafic Comércio de Materiais Gráficos LTDA - ME | B33: 8 | C33: 30 | D33: Crachá em cartão PVC laminado branco, impressão digital 4x1 cores, resolução mínima 300 dpi's e espessura de 0,70 a 0,80mm cantos arredondados, com perfuração entre 15 a 20mm compatível com grampo de metal tipo jacaré do cordão. | E33: 5,4 X 8,60 cm | F33: Unidade | G33: 339039.63 | H33: 5.99 | I33: 40 | J33: =I33-(SUM(L33:M33)) -> 40 | K33: =IF(J33<0,"ATENÇÃO","OK") -> OK
C34: 31 | D34: Cordão para crachá personalizado em impressão digital, com grampo de metal tipo jacaré, em 100% poliéster. | E34: 1,3 a 1,6 X 80 a 90 cm | F34: Unidade | G34: 339039.63 | H34: 2.75 | I34: 40 | J34: =I34-(SUM(L34:M34)) -> 40 | K34: =IF(J34<0,"ATENÇÃO","OK") -> OK
A35: Ferroprint Tecnologia LTDA - ME | B35: 9 | C35: 32 | D35: Placa em PVC branco, impressão digital 4x0 cores, resolução mínima 300 dpi's e espessura de 2mm, com fixação dupla face de espuma acrílica para ambiente externo de no mínimo 20mm de largura e de no mínimo 10 cm de tamanho para cada 150g de placa. | E35: 200 X 120 cm | F35: Unidade | G35: 339039.63 | H35: 360 | J35: =I35-(SUM(L35:M35)) -> 0 | K35: =IF(J35<0,"ATENÇÃO","OK") -> OK
C36: 33 | D36: Placa em PVC branco, impressão digital 4x0 cores, resolução mínima 300 dpi's e espessura de 2mm, com fixação dupla face de espuma acrílica para ambiente interno de no mínimo 20mm de largura e de no mínimo 10 cm de tamanho para cada 150g de placa. | E36: 25 x 10 cm | F36: Unidade | G36: 339039.63 | H36: 3.75 | I36: 12 | J36: =I36-(SUM(L36:M36)) -> 12 | K36: =IF(J36<0,"ATENÇÃO","OK") -> OK
C37: 34 | D37: Placa em PVC branco em formato "V" para ser apoiado sobre balção, impressão digital 4x0 cores, resolução mínima 300 dpi's e espessura de 2mm. | E37: 25 x 15 cm(plano) | F37: Unidade | G37: 339039.63 | H37: 35.06 | J37: =I37-(SUM(L37:M37)) -> 0 | K37: =IF(J37<0,"ATENÇÃO","OK") -> OK
A38: Webergrafic Comércio de Materiais Gráficos LTDA - ME | B38: 10 | C38: 35 | D38: Plotagem, impressão 4x0 cores, em papel sulfite de 75 g/m2 de gramatura mínima. | E38: Formato A0 ("A" Zero - 84,1 X 118,9cm) | F38: Unidade | G38: 339039.63 | H38: 73.39 | J38: =I38-(SUM(L38:M38)) -> 0 | K38: =IF(J38<0,"ATENÇÃO","OK") -> OK
C39: 36 | D39: Plotagem, impressão monocromática, em papel sulfite de 75 g/m2 de gramatura mínima. | E39: Formato A0 ("A" Zero - 84,1 X 118,9cm) | F39: Unidade | G39: 339039.63 | H39: 73.38 | J39: =I39-(SUM(L39:M39)) -> 0 | K39: =IF(J39<0,"ATENÇÃO","OK") -> OK
A40: Webergrafic Comércio de Materiais Gráficos LTDA - ME | B40: 11 | C40: 37 | D40: Adesivo em vinil transparente para vidro de carro, impressão digital 4x0 cores, resolução mínima 300 dpi's e 26 a 30 g/m² de gramatura mínima de cola; acabamento corte especial a faca (adesivo circular). | E40: Diametro de 8cm | F40: Unidade | G40: 339039.63 | H40: 3 | J40: =I40-(SUM(L40:M40)) -> 0 | K40: =IF(J40<0,"ATENÇÃO","OK") -> OK
A41: Webergrafic Comércio de Materiais Gráficos LTDA - ME | B41: 12 | C41: 38 | D41: Adesivo recortado em vinil colorido Gold Max (cores diversas a escolher), para adesivagem, com instalação. | E41: 12m² | F41: Unidade | G41: 339039.63 | H41: 1050 | J41: =I41-(SUM(L41:M41)) -> 0 | K41: =IF(J41<0,"ATENÇÃO","OK") -> OK
A42: Webergrafic Comércio de Materiais Gráficos LTDA - ME | B42: 13 | C42: 39 | D42: Adesivo vinílico colorido (cores diversas a escolher), para aplicação em Placa de MDF. | E42: 80 X 60 cm | F42: Unidade | G42: 339039.63 | H42: 26.95 | J42: =I42-(SUM(L42:M42)) -> 0 | K42: =IF(J42<0,"ATENÇÃO","OK") -> OK
C43: 40 | D43: Placa em MDF 3mm. Pintada e envernizada com texto em vinil colorido (cores diversas a escolher). | E43: 60 X 10 cm | F43: Unidade | G43: 339039.63 | H43: 16.85 | J43: =I43-(SUM(L43:M43)) -> 0 | K43: =IF(J43<0,"ATENÇÃO","OK") -> OK
C44: 41 | D44: Adesivo vinílico colorido (cores diversas a escolher), para aplicação em Placa de MDF. | E44: 60 X 40 cm | F44: Unidade | G44: 339039.63 | H44: 13.48 | J44: =I44-(SUM(L44:M44)) -> 0 | K44: =IF(J44<0,"ATENÇÃO","OK") -> OK
C45: 42 | D45: Adesivo vinílico colorido (cores diversas a escolher). Arredondamento do canto inferior direito é de 100 pontos. Para numeração sequencial. | E45: 10 X 6,5 cm | F45: Unidade | G45: 339039.63 | H45: 3.64 | J45: =I45-(SUM(L45:M45)) -> 0 | K45: =IF(J45<0,"ATENÇÃO","OK") -> OK
C46: 43 | D46: Adesivo para renovação do Totem de entrada. Texto em vinil recortado colorido (cores diversas a escolher). | E46: 1,70 X 0,60 m | F46: Unidade | G46: 339039.63 | H46: 59 | J46: =I46-(SUM(L46:M46)) -> 0 | K46: =IF(J46<0,"ATENÇÃO","OK") -> OK
A47: Webergrafic Comércio de Materiais Gráficos LTDA - ME | B47: 14 | C47: 44 | D47: Adesivo numerado com quatro digitos em vinil transparente para uso interno em veículo, impressão digital 4x0 cores, resolução mínima 300 dpi's e 26 a 30 g/m² de gramatura | E47: 9 x 6 cm | F47: Unidade | G47: 339039.63 | H47: 0.31 | J47: =I47-(SUM(L47:M47)) -> 0 | K47: =IF(J47<0,"ATENÇÃO","OK") -> OK

Sheet CESFI
A1: PROCESSO: 0354/2015/UDESC | D1: OBJETO: SERVIÇOS GRÁFICOS PARA A UDESC | I1: VIGÊNCIA DA ATA: 01/07/2015 até 30/06/2016 | L1: AF/OS nº xxxx/2015 Qtde. DT | M1: AF/OS nº xxxx/2015 Qtde. DT
A2: CENTRO PARTICIPANTE: CESFI
A3: FORNECEDOR | B3: LOTE | C3: ITEM | D3: PRODUTO - CARACTERÍSTICAS MÍNIMAS | E3: Dimensões | F3: Unidade | G3: DETALHAMENTO | H3: Preço UNITÁRIO (R$) | I3: Qtde Registrada | J3: Saldo / Automático | K3: ALERTA | L3: ...../...../...... | M3: ...../...../......
A4: Seriprint Comunicação Visual LTDA - ME | B4: 1 | C4: 1 | D4: Banner em lona, impressão digital 4x0 cores, resolução mínima 720 dpi's e 280 g/m² de gramatura mínima; e suporte: 1) em madeira em duas das menores extremidades e acabamento com ponteira de PVC (grampeada) e corda trançada de no mínimo 4mm e de resistência suficiente e compatível com o banner; ou 2) com ilhóses dispostos de 20 em 20 cm, em ferro ou alumínio e de diâmetro compatível com a corda utilizada - corda trançada de no mínimo 4mm e de resistência suficiente e compatível com o banner. | E4: 50 X 70 cm | F4: Unidade | G4: 339039.63 | H4: 10.3 | I4: 10 | J4: =I4-(SUM(L4:M4)) -> 10 | K4: =IF(J4<0,"ATENÇÃO","OK") -> OK
C5: 2 | E5: 90 X 150 cm | F5: Unidade | G5: 339039.63 | H5: 36.2 | I5: 10 | J5: =I5-(SUM(L5:M5)) -> 10 | K5: =IF(J5<0,"ATENÇÃO","OK") -> OK
C6: 3 | E6: 90 X 120 cm | F6: Unidade | G6: 339039.63 | H6: 33 | I6: 10 | J6: =I6-(SUM(L6:M6)) -> 10 | K6: =IF(J6<0,"ATENÇÃO","OK") -> OK
C7: 4 | E7: 110 X 150 cm | F7: Unidade | G7: 339039.63 | H7: 39 | I7: 10 | J7: =I7-(SUM(L7:M7)) -> 10 | K7: =IF(J7<0,"ATENÇÃO","OK") -> OK
C8: 5 | E8: 130 X 180 cm | F8: Unidade | G8: 339039.63 | H8: 52.3 | I8: 10 | J8: =I8-(SUM(L8:M8)) -> 10 | K8: =IF(J8<0,"ATENÇÃO","OK") -> OK
C9: 6 | E9: 50 X 300 cm | F9: Unidade | G9: 339039.63 | H9: 34 | I9: 10 | J9: =I9-(SUM(L9:M9)) -> 10 | K9: =IF(J9<0,"ATENÇÃO","OK") -> OK
C10: 7 | E10: 70 X 400 cm | F10: Unidade | G10: 339039.63 | H10: 59 | I10: 10 | J10: =I10-(SUM(L10:M10)) -> 10 | K10: =IF(J10<0,"ATENÇÃO","OK") -> OK
C11: 8 | E11: 140 cm X metro linear | F11: metro | G11: 339039.63 | H11: 26 | I11: 10 | J11: =I11-(SUM(L11:M11)) -> 10 | K11: =IF(J11<0,"ATENÇÃO","OK") -> OK
C12: 9 | E12: 80 X 110 cm | F12: Unidade | G12: 339039.63 | H12: 29.3 | I12: 10 | J12: =I12-(SUM(L12:M12)) -> 10 | K12: =IF(J12<0,"ATENÇÃO","OK") -> OK
C13: 10 | E13: 80 X 120 cm | F13: Unidade | G13: 339039.63 | H13: 30 | I13: 10 | J13: =I13-(SUM(L13:M13)) -> 10 | K13: =IF(J13<0,"ATENÇÃO","OK") -> OK
C14: 11 | E14: 90 X 110 cm | F14: Unidade | G14: 339039.63 | H14: 25 | I14: 10 | J14: =I14-(SUM(L14:M14)) -> 10 | K14: =IF(J14<0,"ATENÇÃO","OK") -> OK
C15: 12 | D15: Frontlight em lona, impressão digital 4x0 cores, resolução mínima 1200 dpi's e 440 g/m² de gramatura mínima; fixado com ilhóses dispostos de 20 em 20 cm, em ferro ou alumínio e de diâmetro compatível com a corda utilizada - corda trançada de no mínimo 4mm e de resistência suficiente e compatível com o frontlight. | E15: 320 cm X metro linear | F15: metro | G15: 339039.63 | H15: 65 | I15: 5 | J15: =I15-(SUM(L15:M15)) -> 5 | K15: =IF(J15<0,"ATENÇÃO","OK") -> OK
C16: 13 | E16: 650 X 150 cm | F16: Unidade | G16: 339039.63 | H16: 189.86 | I16: 5 | J16: =I16-(SUM(L16:M16)) -> 5 | K16: =IF(J16<0,"ATENÇÃO","OK") -> OK
C17: 14 | E17: 250 X 120 cm | F17: Unidade | G17: 339039.63 | H17: 73 | I17: 10 | J17: =I17-(SUM(L17:M17)) -> 10 | K17: =IF(J17<0,"ATENÇÃO","OK") -> OK
A18: Webergrafic Comércio de Materiais Gráficos LTDA - ME | B18: 2 | C18: 15 | D18: Banner em papel fotográfico com laminação brilhante, resolução mínima de 600 dpi's e 280g/m² de gramatura mínima, suporte em plástico em duas das menores extremidades e corda de no mínimo 1mm e de resistência suficiente e compatível com o banner. | E18: 90 cm X metro linear | F18: metro | G18: 339039.63 | H18: 49.5 | I18: 5 | J18: =I18-(SUM(L18:M18)) -> 5 | K18: =IF(J18<0,"ATENÇÃO","OK") -> OK
A19: Webergrafic Comércio de Materiais Gráficos LTDA - ME | B19: 3 | C19: 16 | D19: Banner em tecido. Impressão digital em tecido. Policromia: 4 x 0 cores. Resolução mínima de 1200 dpi´s. Acabamento em madeira (cabo redondo) nas duas extremidades menores, sendo encaixado internamente na costura do tecido para fechamento escondendo o varão, com ponteiras em PVC e corda trançada de no mínimo 4 mm e com resistência suficiente para sustentar o banner de tecido. | E19: 90 cm x metro linear | F19: metro | G19: 339039.63 | H19: 40.19 | I19: 5 | J19: =I19-(SUM(L19:M19)) -> 5 | K19: =IF(J19<0,"ATENÇÃO","OK") -> OK
A20: Webergrafic Comércio de Materiais Gráficos LTDA - ME | B20: 4 | C20: 17 | D20: Frontlight em lona, impressão digital 4x0 cores, resolução mínima 1200 dpi's e 440 g/m² de gramatura mínima; fixado com ilhóses dispostos de 20 em 20 cm, em ferro ou alumínio e de diâmetro compatível com a corda utilizada - corda trançada de no mínimo 4mm e de resistência suficiente e compatível com o frontlight. INSTALADO E RETIRADA. | E20: 255 X 275 cm | F20: Unidade | G20: 339039.63 | H20: 429.72 | I20: 5 | J20: =I20-(SUM(L20:M20)) -> 5 | K20: =IF(J20<0,"ATENÇÃO","OK") -> OK
C21: 18 | E21: 295 X 875 cm | F21: Unidade | G21: 339039.63 | H21: 1055.06 | I21: 1 | J21: =I21-(SUM(L21:M21)) -> 1 | K21: =IF(J21<0,"ATENÇÃO","OK") -> OK
C22: 19 | E22: 310 X 914 cm | F22: Unidade | G22: 339039.63 | H22: 1157.2 | I22: 1 | J22: =I22-(SUM(L22:M22)) -> 1 | K22: =IF(J22<0,"ATENÇÃO","OK") -> OK
A23: Webergrafic Comércio de Materiais Gráficos LTDA - ME | B23: 5 | C23: 20 | D23: Adesivo perfurado para vidro traseiro de automóveis, impressão digital 4x0 cores, resolução mínima 720 dpi's; com no mínimo 40% de transmissão luminosa (nos termos da RES 254/2007 CONTRAN). | E23: 35 X 90 cm | F23: Unidade | G23: 339039.63 | H23: 11.33 | I23: 20 | J23: =I23-(SUM(L23:M23)) -> 20 | K23: =IF(J23<0,"ATENÇÃO","OK") -> OK
A24: Webergrafic Comércio de Materiais Gráficos LTDA - ME | B24: 6 | C24: 21 | D24: Adesivo em vinil, impressão digital 4x0 cores, resolução mínima 300 dpi's e 26 a 30 g/m² de gramatura mínima de cola; acabamento meio corte especial com faca. | E24: 7 X 9 cm | F24: Unidade | G24: 339039.63 | H24: 0.4 | I24: 100 | J24: =I24-(SUM(L24:M24)) -> 100 | K24: =IF(J24<0,"ATENÇÃO","OK") -> OK
C25: 22 | D25: Adesivo em vinil transparente para vidro, impressão digital 4x0 cores, resolução mínima 300 dpi's e 26 a 30 g/m² de gramatura mínima de cola; acabamento corte reto. | E25: 5 X 20 cm | F25: Unidade | G25: 339039.63 | H25: 0.5 | I25: 10 | J25: =I25-(SUM(L25:M25)) -> 10 | K25: =IF(J25<0,"ATENÇÃO","OK") -> OK
C26: 23 | E26: 10 X 25 cm | F26: Unidade | G26: 339039.63 | H26: 1.27 | I26: 10 | J26: =I26-(SUM(L26:M26)) -> 10 | K26: =IF(J26<0,"ATENÇÃO","OK") -> OK
C27: 24 | D27: Adesivo em vinil resistente a água e cloro, próprio para áreas com piscinas, impressão digital 4x0 cores, resolução mínima 300 dpi's e 26 a 30 g/m2 de gramatura mínima de cola; acabamento corte reto. | E27: 5 X 20 cm | F27: Unidade | G27: 339039.63 | H27: 0.5 | J27: =I27-(SUM(L27:M27)) -> 0 | K27: =IF(J27<0,"ATENÇÃO","OK") -> OK
C28: 25 | E28: 10 X 25 cm | F28: Unidade | G28: 339039.63 | H28: 1.27 | J28: =I28-(SUM(L28:M28)) -> 0 | K28: =IF(J28<0,"ATENÇÃO","OK") -> OK
C29: 26 | D29: Adesivo recortado em vinil colorido (cores diversas a escolher), para adesivagem. | E29: 90 cm x metro linear | F29: metro | G29: 339039.63 | H29: 38.16 | I29: 5 | J29: =I29-(SUM(L29:M29)) -> 5 | K29: =IF(J29<0,"ATENÇÃO","OK") -> OK
C30: 27 | D30: Adesivo em vinil, impressão digital 4x0 cores, resolução mínima 300 dpi's e 26 a 30 g/m² de gramatura mínima de cola; acabamento meio corte especial com faca. | E30: 75 cm X metro linear | F30: metro | G30: 339039.63 | H30: 44.5 | I30: 5 | J30: =I30-(SUM(L30:M30)) -> 5 | K30: =IF(J30<0,"ATENÇÃO","OK") -> OK
C31: 28 | D31: Adesivo em vinil resistente a água e cloro, próprio para áreas com piscinas, impressão digital 4x0 cores, resolução mínima 300 dpi's e 26 a 30 g/m2 de gramatura mínima de cola; acabamento corte reto. | E31: 15 cm X metro linear | F31: metro | G31: 339039.63 | H31: 37.03 | J31: =I31-(SUM(L31:M31)) -> 0 | K31: =IF(J31<0,"ATENÇÃO","OK") -> OK
A32: Webergrafic Comércio de Materiais Gráficos LTDA - ME | B32: 7 | C32: 29 | D32: Adesivo com impressão digital em caixa metálica de plataforma elevatória ("elevador"); impressão digital em material vinil autoadesivo; acabamento em laminação fosca; instalado; inclui adequação de layout; sugere-se visita técnica para conhecimento. | E32: m² | F32: metro² | G32: 339039.63 | H32: 97.5 | I32: 16 | J32: =I32-(SUM(L32:M32)) -> 16 | K32: =IF(J32<0,"ATENÇÃO","OK") -> OK
A33: Webergrafic Comércio de Materiais Gráficos LTDA - ME | B33: 8 | C33: 30 | D33: Crachá em cartão PVC laminado branco, impressão digital 4x1 cores, resolução mínima 300 dpi's e espessura de 0,70 a 0,80mm cantos arredondados, com perfuração entre 15 a 20mm compatível com grampo de metal tipo jacaré do cordão. | E33: 5,4 X 8,60 cm | F33: Unidade | G33: 339039.63 | H33: 5.99 | I33: 50 | J33: =I33-(SUM(L33:M33)) -> 50 | K33: =IF(J33<0,"ATENÇÃO","OK") -> OK
C34: 31 | D34: Cordão para crachá personalizado em impressão digital, com grampo de metal tipo jacaré, em 100% poliéster. | E34: 1,3 a 1,6 X 80 a 90 cm | F34: Unidade | G34: 339039.63 | H34: 2.75 | I34: 50 | J34: =I34-(SUM(L34:M34)) -> 50 | K34: =IF(J34<0,"ATENÇÃO","OK") -> OK
A35: Ferroprint Tecnologia LTDA - ME | B35: 9 | C35: 32 | D35: Placa em PVC branco, impressão digital 4x0 cores, resolução mínima 300 dpi's e espessura de 2mm, com fixação dupla face de espuma acrílica para ambiente externo de no mínimo 20mm de largura e de no mínimo 10 cm de tamanho para cada 150g de placa. | E35: 200 X 120 cm | F35: Unidade | G35: 339039.63 | H35: 360 | I35: 5 | J35: =I35-(SUM(L35:M35)) -> 5 | K35: =IF(J35<0,"ATENÇÃO","OK") -> OK
C36: 33 | D36: Placa em PVC branco, impressão digital 4x0 cores, resolução mínima 300 dpi's e espessura de 2mm, com fixação dupla face de espuma acrílica para ambiente interno de no mínimo 20mm de largura e de no mínimo 10 cm de tamanho para cada 150g de placa. | E36: 25 x 10 cm | F36: Unidade | G36: 339039.63 | H36: 3.75 | I36: 5 | J36: =I36-(SUM(L36:M36)) -> 5 | K36: =IF(J36<0,"ATENÇÃO","OK") -> OK
C37: 34 | D37: Placa em PVC branco em formato "V" para ser apoiado sobre balção, impressão digital 4x0 cores, resolução mínima 300 dpi's e espessura de 2mm. | E37: 25 x 15 cm(plano) | F37: Unidade | G37: 339039.63 | H37: 35.06 | I37: =40-9 -> 31 | J37: =I37-(SUM(L37:M37)) -> 31 | K37: =IF(J37<0,"ATENÇÃO","OK") -> OK
A38: Webergrafic Comércio de Materiais Gráficos LTDA - ME | B38: 10 | C38: 35 | D38: Plotagem, impressão 4x0 cores, em papel sulfite de 75 g/m2 de gramatura mínima. | E38: Formato A0 ("A" Zero - 84,1 X 118,9cm) | F38: Unidade | G38: 339039.63 | H38: 73.39 | I38: 20 | J38: =I38-(SUM(L38:M38)) -> 20 | K38: =IF(J38<0,"ATENÇÃO","OK") -> OK
C39: 36 | D39: Plotagem, impressão monocromática, em papel sulfite de 75 g/m2 de gramatura mínima. | E39: Formato A0 ("A" Zero - 84,1 X 118,9cm) | F39: Unidade | G39: 339039.63 | H39: 73.38 | I39: 20 | J39: =I39-(SUM(L39:M39)) -> 20 | K39: =IF(J39<0,"ATENÇÃO","OK") -> OK
A40: Webergrafic Comércio de Materiais Gráficos LTDA - ME | B40: 11 | C40: 37 | D40: Adesivo em vinil transparente para vidro de carro, impressão digital 4x0 cores, resolução mínima 300 dpi's e 26 a 30 g/m² de gramatura mínima de cola; acabamento corte especial a faca (adesivo circular). | E40: Diametro de 8cm | F40: Unidade | G40: 339039.63 | H40: 3 | J40: =I40-(SUM(L40:M40)) -> 0 | K40: =IF(J40<0,"ATENÇÃO","OK") -> OK
A41: Webergrafic Comércio de Materiais Gráficos LTDA - ME | B41: 12 | C41: 38 | D41: Adesivo recortado em vinil colorido Gold Max (cores diversas a escolher), para adesivagem, com instalação. | E41: 12m² | F41: Unidade | G41: 339039.63 | H41: 1050 | J41: =I41-(SUM(L41:M41)) -> 0 | K41: =IF(J41<0,"ATENÇÃO","OK") -> OK
A42: Webergrafic Comércio de Materiais Gráficos LTDA - ME | B42: 13 | C42: 39 | D42: Adesivo vinílico colorido (cores diversas a escolher), para aplicação em Placa de MDF. | E42: 80 X 60 cm | F42: Unidade | G42: 339039.63 | H42: 26.95 | J42: =I42-(SUM(L42:M42)) -> 0 | K42: =IF(J42<0,"ATENÇÃO","OK") -> OK
C43: 40 | D43: Placa em MDF 3mm. Pintada e envernizada com texto em vinil colorido (cores diversas a escolher). | E43: 60 X 10 cm | F43: Unidade | G43: 339039.63 | H43: 16.85 | J43: =I43-(SUM(L43:M43)) -> 0 | K43: =IF(J43<0,"ATENÇÃO","OK") -> OK
C44: 41 | D44: Adesivo vinílico colorido (cores diversas a escolher), para aplicação em Placa de MDF. | E44: 60 X 40 cm | F44: Unidade | G44: 339039.63 | H44: 13.48 | J44: =I44-(SUM(L44:M44)) -> 0 | K44: =IF(J44<0,"ATENÇÃO","OK") -> OK
C45: 42 | D45: Adesivo vinílico colorido (cores diversas a escolher). Arredondamento do canto inferior direito é de 100 pontos. Para numeração sequencial. | E45: 10 X 6,5 cm | F45: Unidade | G45: 339039.63 | H45: 3.64 | J45: =I45-(SUM(L45:M45)) -> 0 | K45: =IF(J45<0,"ATENÇÃO","OK") -> OK
C46: 43 | D46: Adesivo para renovação do Totem de entrada. Texto em vinil recortado colorido (cores diversas a escolher). | E46: 1,70 X 0,60 m | F46: Unidade | G46: 339039.63 | H46: 59 | J46: =I46-(SUM(L46:M46)) -> 0 | K46: =IF(J46<0,"ATENÇÃO","OK") -> OK
A47: Webergrafic Comércio de Materiais Gráficos LTDA - ME | B47: 14 | C47: 44 | D47: Adesivo numerado com quatro digitos em vinil transparente para uso interno em veículo, impressão digital 4x0 cores, resolução mínima 300 dpi's e 26 a 30 g/m² de gramatura | E47: 9 x 6 cm | F47: Unidade | G47: 339039.63 | H47: 0.31 | J47: =I47-(SUM(L47:M47)) -> 0 | K47: =IF(J47<0,"ATENÇÃO","OK") -> OK

Sheet CCT
A1: PROCESSO: 0354/2015/UDESC | D1: OBJETO: SERVIÇOS GRÁFICOS PARA A UDESC | I1: VIGÊNCIA DA ATA: 01/07/2015 até 30/06/2016 | L1: AF/OS nº 1976/2015 Qtde. DT | M1: AF/OS nº 2171/2015 Qtde. DT | N1: AF/OS nº 278/2016 Qtde. DT | O1: AF/OS nº 576/2016
A2: CENTRO PARTICIPANTE: CCT
A3: FORNECEDOR | B3: LOTE | C3: ITEM | D3: PRODUTO - CARACTERÍSTICAS MÍNIMAS | E3: Dimensões | F3: Unidade | G3: DETALHAMENTO | H3: Preço UNITÁRIO (R$) | I3: Qtde Registrada | J3: Saldo / Automático | K3: ALERTA | L3: 42298 | M3: 42321 | N3: 42451 | O3: 42515
A4: Seriprint Comunicação Visual LTDA - ME | B4: 1 | C4: 1 | D4: Banner em lona, impressão digital 4x0 cores, resolução mínima 720 dpi's e 280 g/m² de gramatura mínima; e suporte: 1) em madeira em duas das menores extremidades e acabamento com ponteira de PVC (grampeada) e corda trançada de no mínimo 4mm e de resistência suficiente e compatível com o banner; ou 2) com ilhóses dispostos de 20 em 20 cm, em ferro ou alumínio e de diâmetro compatível com a corda utilizada - corda trançada de no mínimo 4mm e de resistência suficiente e compatível com o banner. | E4: 50 X 70 cm | F4: Unidade | G4: 339039.63 | H4: 10.3 | J4: =I4-(SUM(L4:O4)) -> 0 | K4: =IF(J4<0,"ATENÇÃO","OK") -> OK
C5: 2 | E5: 90 X 150 cm | F5: Unidade | G5: 339039.63 | H5: 36.2 | J5: =I5-(SUM(L5:O5)) -> 0 | K5: =IF(J5<0,"ATENÇÃO","OK") -> OK
C6: 3 | E6: 90 X 120 cm | F6: Unidade | G6: 339039.63 | H6: 33 | J6: =I6-(SUM(L6:O6)) -> 0 | K6: =IF(J6<0,"ATENÇÃO","OK") -> OK
C7: 4 | E7: 110 X 150 cm | F7: Unidade | G7: 339039.63 | H7: 39 | J7: =I7-(SUM(L7:O7)) -> 0 | K7: =IF(J7<0,"ATENÇÃO","OK") -> OK
C8: 5 | E8: 130 X 180 cm | F8: Unidade | G8: 339039.63 | H8: 52.3 | J8: =I8-(SUM(L8:O8)) -> 0 | K8: =IF(J8<0,"ATENÇÃO","OK") -> OK
C9: 6 | E9: 50 X 300 cm | F9: Unidade | G9: 339039.63 | H9: 34 | I9: 2 | J9: =I9-(SUM(L9:O9)) -> 2 | K9: =IF(J9<0,"ATENÇÃO","OK") -> OK
C10: 7 | E10: 70 X 400 cm | F10: Unidade | G10: 339039.63 | H10: 59 | I10: 5 | J10: =I10-(SUM(L10:O10)) -> 5 | K10: =IF(J10<0,"ATENÇÃO","OK") -> OK
C11: 8 | E11: 140 cm X metro linear | F11: metro | G11: 339039.63 | H11: 26 | I11: 30 | J11: =I11-(SUM(L11:O11)) -> 0 | K11: =IF(J11<0,"ATENÇÃO","OK") -> OK | O11: 30
C12: 9 | E12: 80 X 110 cm | F12: Unidade | G12: 339039.63 | H12: 29.3 | J12: =I12-(SUM(L12:O12)) -> 0 | K12: =IF(J12<0,"ATENÇÃO","OK") -> OK
C13: 10 | E13: 80 X 120 cm | F13: Unidade | G13: 339039.63 | H13: 30 | I13: 60 | J13: =I13-(SUM(L13:O13)) -> 30 | K13: =IF(J13<0,"ATENÇÃO","OK") -> OK | L13: 10 | M13: 10 | N13: 10
C14: 11 | E14: 90 X 110 cm | F14: Unidade | G14: 339039.63 | H14: 25 | I14: 5 | J14: =I14-(SUM(L14:O14)) -> 5 | K14: =IF(J14<0,"ATENÇÃO","OK") -> OK
C15: 12 | D15: Frontlight em lona, impressão digital 4x0 cores, resolução mínima 1200 dpi's e 440 g/m² de gramatura mínima; fixado com ilhóses dispostos de 20 em 20 cm, em ferro ou alumínio e de diâmetro compatível com a corda utilizada - corda trançada de no mínimo 4mm e de resistência suficiente e compatível com o frontlight. | E15: 320 cm X metro linear | F15: metro | G15: 339039.63 | H15: 65 | J15: =I15-(SUM(L15:O15)) -> 0 | K15: =IF(J15<0,"ATENÇÃO","OK") -> OK
C16: 13 | E16: 650 X 150 cm | F16: Unidade | G16: 339039.63 | H16: 189.86 | J16: =I16-(SUM(L16:O16)) -> 0 | K16: =IF(J16<0,"ATENÇÃO","OK") -> OK
C17: 14 | E17: 250 X 120 cm | F17: Unidade | G17: 339039.63 | H17: 73 | J17: =I17-(SUM(L17:O17)) -> 0 | K17: =IF(J17<0,"ATENÇÃO","OK") -> OK
A18: Webergrafic Comércio de Materiais Gráficos LTDA - ME | B18: 2 | C18: 15 | D18: Banner em papel fotográfico com laminação brilhante, resolução mínima de 600 dpi's e 280g/m² de gramatura mínima, suporte em plástico em duas das menores extremidades e corda de no mínimo 1mm e de resistência suficiente e compatível com o banner. | E18: 90 cm X metro linear | F18: metro | G18: 339039.63 | H18: 49.5 | J18: =I18-(SUM(L18:O18)) -> 0 | K18: =IF(J18<0,"ATENÇÃO","OK") -> OK
A19: Webergrafic Comércio de Materiais Gráficos LTDA - ME | B19: 3 | C19: 16 | D19: Banner em tecido. Impressão digital em tecido. Policromia: 4 x 0 cores. Resolução mínima de 1200 dpi´s. Acabamento em madeira (cabo redondo) nas duas extremidades menores, sendo encaixado internamente na costura do tecido para fechamento escondendo o varão, com ponteiras em PVC e corda trançada de no mínimo 4 mm e com resistência suficiente para sustentar o banner de tecido. | E19: 90 cm x metro linear | F19: metro | G19: 339039.63 | H19: 40.19 | J19: =I19-(SUM(L19:O19)) -> 0 | K19: =IF(J19<0,"ATENÇÃO","OK") -> OK
A20: Webergrafic Comércio de Materiais Gráficos LTDA - ME | B20: 4 | C20: 17 | D20: Frontlight em lona, impressão digital 4x0 cores, resolução mínima 1200 dpi's e 440 g/m² de gramatura mínima; fixado com ilhóses dispostos de 20 em 20 cm, em ferro ou alumínio e de diâmetro compatível com a corda utilizada - corda trançada de no mínimo 4mm e de resistência suficiente e compatível com o frontlight. INSTALADO E RETIRADA. | E20: 255 X 275 cm | F20: Unidade | G20: 339039.63 | H20: 429.72 | I20: 12 | J20: =I20-(SUM(L20:O20)) -> 12 | K20: =IF(J20<0,"ATENÇÃO","OK") -> OK
C21: 18 | E21: 295 X 875 cm | F21: Unidade | G21: 339039.63 | H21: 1055.06 | J21: =I21-(SUM(L21:O21)) -> 0 | K21: =IF(J21<0,"ATENÇÃO","OK") -> OK
C22: 19 | E22: 310 X 914 cm | F22: Unidade | G22: 339039.63 | H22: 1157.2 | J22: =I22-(SUM(L22:O22)) -> 0 | K22: =IF(J22<0,"ATENÇÃO","OK") -> OK
A23: Webergrafic Comércio de Materiais Gráficos LTDA - ME | B23: 5 | C23: 20 | D23: Adesivo perfurado para vidro traseiro de automóveis, impressão digital 4x0 cores, resolução mínima 720 dpi's; com no mínimo 40% de transmissão luminosa (nos termos da RES 254/2007 CONTRAN). | E23: 35 X 90 cm | F23: Unidade | G23: 339039.63 | H23: 11.33 | J23: =I23-(SUM(L23:O23)) -> 0 | K23: =IF(J23<0,"ATENÇÃO","OK") -> OK
A24: Webergrafic Comércio de Materiais Gráficos LTDA - ME | B24: 6 | C24: 21 | D24: Adesivo em vinil, impressão digital 4x0 cores, resolução mínima 300 dpi's e 26 a 30 g/m² de gramatura mínima de cola; acabamento meio corte especial com faca. | E24: 7 X 9 cm | F24: Unidade | G24: 339039.63 | H24: 0.4 | I24: 300 | J24: =I24-(SUM(L24:O24)) -> 300 | K24: =IF(J24<0,"ATENÇÃO","OK") -> OK
C25: 22 | D25: Adesivo em vinil transparente para vidro, impressão digital 4x0 cores, resolução mínima 300 dpi's e 26 a 30 g/m² de gramatura mínima de cola; acabamento corte reto. | E25: 5 X 20 cm | F25: Unidade | G25: 339039.63 | H25: 0.5 | J25: =I25-(SUM(L25:O25)) -> 0 | K25: =IF(J25<0,"ATENÇÃO","OK") -> OK
C26: 23 | E26: 10 X 25 cm | F26: Unidade | G26: 339039.63 | H26: 1.27 | J26: =I26-(SUM(L26:O26)) -> 0 | K26: =IF(J26<0,"ATENÇÃO","OK") -> OK
C27: 24 | D27: Adesivo em vinil resistente a água e cloro, próprio para áreas com piscinas, impressão digital 4x0 cores, resolução mínima 300 dpi's e 26 a 30 g/m2 de gramatura mínima de cola; acabamento corte reto. | E27: 5 X 20 cm | F27: Unidade | G27: 339039.63 | H27: 0.5 | J27: =I27-(SUM(L27:O27)) -> 0 | K27: =IF(J27<0,"ATENÇÃO","OK") -> OK
C28: 25 | E28: 10 X 25 cm | F28: Unidade | G28: 339039.63 | H28: 1.27 | J28: =I28-(SUM(L28:O28)) -> 0 | K28: =IF(J28<0,"ATENÇÃO","OK") -> OK
C29: 26 | D29: Adesivo recortado em vinil colorido (cores diversas a escolher), para adesivagem. | E29: 90 cm x metro linear | F29: metro | G29: 339039.63 | H29: 38.16 | I29: 25 | J29: =I29-(SUM(L29:O29)) -> 25 | K29: =IF(J29<0,"ATENÇÃO","OK") -> OK
C30: 27 | D30: Adesivo em vinil, impressão digital 4x0 cores, resolução mínima 300 dpi's e 26 a 30 g/m² de gramatura mínima de cola; acabamento meio corte especial com faca. | E30: 75 cm X metro linear | F30: metro | G30: 339039.63 | H30: 44.5 | J30: =I30-(SUM(L30:O30)) -> 0 | K30: =IF(J30<0,"ATENÇÃO","OK") -> OK
C31: 28 | D31: Adesivo em vinil resistente a água e cloro, próprio para áreas com piscinas, impressão digital 4x0 cores, resolução mínima 300 dpi's e 26 a 30 g/m2 de gramatura mínima de cola; acabamento corte reto. | E31: 15 cm X metro linear | F31: metro | G31: 339039.63 | H31: 37.03 | J31: =I31-(SUM(L31:O31)) -> 0 | K31: =IF(J31<0,"ATENÇÃO","OK") -> OK
A32: Webergrafic Comércio de Materiais Gráficos LTDA - ME | B32: 7 | C32: 29 | D32: Adesivo com impressão digital em caixa metálica de plataforma elevatória ("elevador"); impressão digital em material vinil autoadesivo; acabamento em laminação fosca; instalado; inclui adequação de layout; sugere-se visita técnica para conhecimento. | E32: m² | F32: metro² | G32: 339039.63 | H32: 97.5 | J32: =I32-(SUM(L32:O32)) -> 0 | K32: =IF(J32<0,"ATENÇÃO","OK") -> OK
A33: Webergrafic Comércio de Materiais Gráficos LTDA - ME | B33: 8 | C33: 30 | D33: Crachá em cartão PVC laminado branco, impressão digital 4x1 cores, resolução mínima 300 dpi's e espessura de 0,70 a 0,80mm cantos arredondados, com perfuração entre 15 a 20mm compatível com grampo de metal tipo jacaré do cordão. | E33: 5,4 X 8,60 cm | F33: Unidade | G33: 339039.63 | H33: 5.99 | J33: =I33-(SUM(L33:O33)) -> 0 | K33: =IF(J33<0,"ATENÇÃO","OK") -> OK
C34: 31 | D34: Cordão para crachá personalizado em impressão digital, com grampo de metal tipo jacaré, em 100% poliéster. | E34: 1,3 a 1,6 X 80 a 90 cm | F34: Unidade | G34: 339039.63 | H34: 2.75 | J34: =I34-(SUM(L34:O34)) -> 0 | K34: =IF(J34<0,"ATENÇÃO","OK") -> OK
A35: Ferroprint Tecnologia LTDA - ME | B35: 9 | C35: 32 | D35: Placa em PVC branco, impressão digital 4x0 cores, resolução mínima 300 dpi's e espessura de 2mm, com fixação dupla face de espuma acrílica para ambiente externo de no mínimo 20mm de largura e de no mínimo 10 cm de tamanho para cada 150g de placa. | E35: 200 X 120 cm | F35: Unidade | G35: 339039.63 | H35: 360 | J35: =I35-(SUM(L35:O35)) -> 0 | K35: =IF(J35<0,"ATENÇÃO","OK") -> OK
C36: 33 | D36: Placa em PVC branco, impressão digital 4x0 cores, resolução mínima 300 dpi's e espessura de 2mm, com fixação dupla face de espuma acrílica para ambiente interno de no mínimo 20mm de largura e de no mínimo 10 cm de tamanho para cada 150g de placa. | E36: 25 x 10 cm | F36: Unidade | G36: 339039.63 | H36: 3.75 | J36: =I36-(SUM(L36:O36)) -> 0 | K36: =IF(J36<0,"ATENÇÃO","OK") -> OK
C37: 34 | D37: Placa em PVC branco em formato "V" para ser apoiado sobre balção, impressão digital 4x0 cores, resolução mínima 300 dpi's e espessura de 2mm. | E37: 25 x 15 cm(plano) | F37: Unidade | G37: 339039.63 | H37: 35.06 | J37: =I37-(SUM(L37:O37)) -> 0 | K37: =IF(J37<0,"ATENÇÃO","OK") -> OK
A38: Webergrafic Comércio de Materiais Gráficos LTDA - ME | B38: 10 | C38: 35 | D38: Plotagem, impressão 4x0 cores, em papel sulfite de 75 g/m2 de gramatura mínima. | E38: Formato A0 ("A" Zero - 84,1 X 118,9cm) | F38: Unidade | G38: 339039.63 | H38: 73.39 | J38: =I38-(SUM(L38:O38)) -> 0 | K38: =IF(J38<0,"ATENÇÃO","OK") -> OK
C39: 36 | D39: Plotagem, impressão monocromática, em papel sulfite de 75 g/m2 de gramatura mínima. | E39: Formato A0 ("A" Zero - 84,1 X 118,9cm) | F39: Unidade | G39: 339039.63 | H39: 73.38 | J39: =I39-(SUM(L39:O39)) -> 0 | K39: =IF(J39<0,"ATENÇÃO","OK") -> OK
A40: Webergrafic Comércio de Materiais Gráficos LTDA - ME | B40: 11 | C40: 37 | D40: Adesivo em vinil transparente para vidro de carro, impressão digital 4x0 cores, resolução mínima 300 dpi's e 26 a 30 g/m² de gramatura mínima de cola; acabamento corte especial a faca (adesivo circular). | E40: Diametro de 8cm | F40: Unidade | G40: 339039.63 | H40: 3 | J40: =I40-(SUM(L40:O40)) -> 0 | K40: =IF(J40<0,"ATENÇÃO","OK") -> OK
A41: Webergrafic Comércio de Materiais Gráficos LTDA - ME | B41: 12 | C41: 38 | D41: Adesivo recortado em vinil colorido Gold Max (cores diversas a escolher), para adesivagem, com instalação. | E41: 12m² | F41: Unidade | G41: 339039.63 | H41: 1050 | J41: =I41-(SUM(L41:O41)) -> 0 | K41: =IF(J41<0,"ATENÇÃO","OK") -> OK
A42: Webergrafic Comércio de Materiais Gráficos LTDA - ME | B42: 13 | C42: 39 | D42: Adesivo vinílico colorido (cores diversas a escolher), para aplicação em Placa de MDF. | E42: 80 X 60 cm | F42: Unidade | G42: 339039.63 | H42: 26.95 | J42: =I42-(SUM(L42:O42)) -> 0 | K42: =IF(J42<0,"ATENÇÃO","OK") -> OK
C43: 40 | D43: Placa em MDF 3mm. Pintada e envernizada com texto em vinil colorido (cores diversas a escolher). | E43: 60 X 10 cm | F43: Unidade | G43: 339039.63 | H43: 16.85 | J43: =I43-(SUM(L43:O43)) -> 0 | K43: =IF(J43<0,"ATENÇÃO","OK") -> OK
C44: 41 | D44: Adesivo vinílico colorido (cores diversas a escolher), para aplicação em Placa de MDF. | E44: 60 X 40 cm | F44: Unidade | G44: 339039.63 | H44: 13.48 | J44: =I44-(SUM(L44:O44)) -> 0 | K44: =IF(J44<0,"ATENÇÃO","OK") -> OK
C45: 42 | D45: Adesivo vinílico colorido (cores diversas a escolher). Arredondamento do canto inferior direito é de 100 pontos. Para numeração sequencial. | E45: 10 X 6,5 cm | F45: Unidade | G45: 339039.63 | H45: 3.64 | J45: =I45-(SUM(L45:O45)) -> 0 | K45: =IF(J45<0,"ATENÇÃO","OK") -> OK
C46: 43 | D46: Adesivo para renovação do Totem de entrada. Texto em vinil recortado colorido (cores diversas a escolher). | E46: 1,70 X 0,60 m | F46: Unidade | G46: 339039.63 | H46: 59 | J46: =I46-(SUM(L46:O46)) -> 0 | K46: =IF(J46<0,"ATENÇÃO","OK") -> OK
A47: Webergrafic Comércio de Materiais Gráficos LTDA - ME | B47: 14 | C47: 44 | D47: Adesivo numerado com quatro digitos em vinil transparente para uso interno em veículo, impressão digital 4x0 cores, resolução mínima 300 dpi's e 26 a 30 g/m² de gramatura | E47: 9 x 6 cm | F47: Unidade | G47: 339039.63 | H47: 0.31 | J47: =I47-(SUM(L47:O47)) -> 0 | K47: =IF(J47<0,"ATENÇÃO","OK") -> OK

Sheet CAV
A1: PROCESSO: 0354/2015/UDESC | D1: OBJETO: SERVIÇOS GRÁFICOS PARA A UDESC | I1: VIGÊNCIA DA ATA: 01/07/2015 até 30/06/2016 | L1: AF/OS nº xxxx/2015 Qtde. DT | M1: AF/OS nº xxxx/2015 Qtde. DT
A2: CENTRO PARTICIPANTE: CAV
A3: FORNECEDOR | B3: LOTE | C3: ITEM | D3: PRODUTO - CARACTERÍSTICAS MÍNIMAS | E3: Dimensões | F3: Unidade | G3: DETALHAMENTO | H3: Preço UNITÁRIO (R$) | I3: Qtde Registrada | J3: Saldo / Automático | K3: ALERTA | L3: ...../...../...... | M3: ...../...../......
A4: Seriprint Comunicação Visual LTDA - ME | B4: 1 | C4: 1 | D4: Banner em lona, impressão digital 4x0 cores, resolução mínima 720 dpi's e 280 g/m² de gramatura mínima; e suporte: 1) em madeira em duas das menores extremidades e acabamento com ponteira de PVC (grampeada) e corda trançada de no mínimo 4mm e de resistência suficiente e compatível com o banner; ou 2) com ilhóses dispostos de 20 em 20 cm, em ferro ou alumínio e de diâmetro compatível com a corda utilizada - corda trançada de no mínimo 4mm e de resistência suficiente e compatível com o banner. | E4: 50 X 70 cm | F4: Unidade | G4: 339039.63 | H4: 10.3 | I4: 50 | J4: =I4-(SUM(L4:M4)) -> 50 | K4: =IF(J4<0,"ATENÇÃO","OK") -> OK
C5: 2 | E5: 90 X 150 cm | F5: Unidade | G5: 339039.63 | H5: 36.2 | J5: =I5-(SUM(L5:M5)) -> 0 | K5: =IF(J5<0,"ATENÇÃO","OK") -> OK
C6: 3 | E6: 90 X 120 cm | F6: Unidade | G6: 339039.63 | H6: 33 | I6: 250 | J6: =I6-(SUM(L6:M6)) -> 244 | K6: =IF(J6<0,"ATENÇÃO","OK") -> OK | L6: 6
C7: 4 | E7: 110 X 150 cm | F7: Unidade | G7: 339039.63 | H7: 39 | J7: =I7-(SUM(L7:M7)) -> 0 | K7: =IF(J7<0,"ATENÇÃO","OK") -> OK
C8: 5 | E8: 130 X 180 cm | F8: Unidade | G8: 339039.63 | H8: 52.3 | J8: =I8-(SUM(L8:M8)) -> 0 | K8: =IF(J8<0,"ATENÇÃO","OK") -> OK
C9: 6 | E9: 50 X 300 cm | F9: Unidade | G9: 339039.63 | H9: 34 | I9: 10 | J9: =I9-(SUM(L9:M9)) -> 10 | K9: =IF(J9<0,"ATENÇÃO","OK") -> OK
C10: 7 | E10: 70 X 400 cm | F10: Unidade | G10: 339039.63 | H10: 59 | I10: 10 | J10: =I10-(SUM(L10:M10)) -> 10 | K10: =IF(J10<0,"ATENÇÃO","OK") -> OK
C11: 8 | E11: 140 cm X metro linear | F11: metro | G11: 339039.63 | H11: 26 | J11: =I11-(SUM(L11:M11)) -> 0 | K11: =IF(J11<0,"ATENÇÃO","OK") -> OK
C12: 9 | E12: 80 X 110 cm | F12: Unidade | G12: 339039.63 | H12: 29.3 | J12: =I12-(SUM(L12:M12)) -> 0 | K12: =IF(J12<0,"ATENÇÃO","OK") -> OK
C13: 10 | E13: 80 X 120 cm | F13: Unidade | G13: 339039.63 | H13: 30 | J13: =I13-(SUM(L13:M13)) -> 0 | K13: =IF(J13<0,"ATENÇÃO","OK") -> OK
C14: 11 | E14: 90 X 110 cm | F14: Unidade | G14: 339039.63 | H14: 25 | I14: 200 | J14: =I14-(SUM(L14:M14)) -> 200 | K14: =IF(J14<0,"ATENÇÃO","OK") -> OK
C15: 12 | D15: Frontlight em lona, impressão digital 4x0 cores, resolução mínima 1200 dpi's e 440 g/m² de gramatura mínima; fixado com ilhóses dispostos de 20 em 20 cm, em ferro ou alumínio e de diâmetro compatível com a corda utilizada - corda trançada de no mínimo 4mm e de resistência suficiente e compatível com o frontlight. | E15: 320 cm X metro linear | F15: metro | G15: 339039.63 | H15: 65 | I15: 20 | J15: =I15-(SUM(L15:M15)) -> 20 | K15: =IF(J15<0,"ATENÇÃO","OK") -> OK
C16: 13 | E16: 650 X 150 cm | F16: Unidade | G16: 339039.63 | H16: 189.86 | J16: =I16-(SUM(L16:M16)) -> 0 | K16: =IF(J16<0,"ATENÇÃO","OK") -> OK
C17: 14 | E17: 250 X 120 cm | F17: Unidade | G17: 339039.63 | H17: 73 | J17: =I17-(SUM(L17:M17)) -> 0 | K17: =IF(J17<0,"ATENÇÃO","OK") -> OK
A18: Webergrafic Comércio de Materiais Gráficos LTDA - ME | B18: 2 | C18: 15 | D18: Banner em papel fotográfico com laminação brilhante, resolução mínima de 600 dpi's e 280g/m² de gramatura mínima, suporte em plástico em duas das menores extremidades e corda de no mínimo 1mm e de resistência suficiente e compatível com o banner. | E18: 90 cm X metro linear | F18: metro | G18: 339039.63 | H18: 49.5 | I18: 200 | J18: =I18-(SUM(L18:M18)) -> 140 | K18: =IF(J18<0,"ATENÇÃO","OK") -> OK | M18: 60
A19: Webergrafic Comércio de Materiais Gráficos LTDA - ME | B19: 3 | C19: 16 | D19: Banner em tecido. Impressão digital em tecido. Policromia: 4 x 0 cores. Resolução mínima de 1200 dpi´s. Acabamento em madeira (cabo redondo) nas duas extremidades menores, sendo encaixado internamente na costura do tecido para fechamento escondendo o varão, com ponteiras em PVC e corda trançada de no mínimo 4 mm e com resistência suficiente para sustentar o banner de tecido. | E19: 90 cm x metro linear | F19: metro | G19: 339039.63 | H19: 40.19 | I19: 5 | J19: =I19-(SUM(L19:M19)) -> 5 | K19: =IF(J19<0,"ATENÇÃO","OK") -> OK
A20: Webergrafic Comércio de Materiais Gráficos LTDA - ME | B20: 4 | C20: 17 | D20: Frontlight em lona, impressão digital 4x0 cores, resolução mínima 1200 dpi's e 440 g/m² de gramatura mínima; fixado com ilhóses dispostos de 20 em 20 cm, em ferro ou alumínio e de diâmetro compatível com a corda utilizada - corda trançada de no mínimo 4mm e de resistência suficiente e compatível com o frontlight. INSTALADO E RETIRADA. | E20: 255 X 275 cm | F20: Unidade | G20: 339039.63 | H20: 429.72 | I20: 10 | J20: =I20-(SUM(L20:M20)) -> 10 | K20: =IF(J20<0,"ATENÇÃO","OK") -> OK
C21: 18 | E21: 295 X 875 cm | F21: Unidade | G21: 339039.63 | H21: 1055.06 | I21: 10 | J21: =I21-(SUM(L21:M21)) -> 10 | K21: =IF(J21<0,"ATENÇÃO","OK") -> OK
C22: 19 | E22: 310 X 914 cm | F22: Unidade | G22: 339039.63 | H22: 1157.2 | I22: 5 | J22: =I22-(SUM(L22:M22)) -> 5 | K22: =IF(J22<0,"ATENÇÃO","OK") -> OK
A23: Webergrafic Comércio de Materiais Gráficos LTDA - ME | B23: 5 | C23: 20 | D23: Adesivo perfurado para vidro traseiro de automóveis, impressão digital 4x0 cores, resolução mínima 720 dpi's; com no mínimo 40% de transmissão luminosa (nos termos da RES 254/2007 CONTRAN). | E23: 35 X 90 cm | F23: Unidade | G23: 339039.63 | H23: 11.33 | I23: 30 | J23: =I23-(SUM(L23:M23)) -> 30 | K23: =IF(J23<0,"ATENÇÃO","OK") -> OK
A24: Webergrafic Comércio de Materiais Gráficos LTDA - ME | B24: 6 | C24: 21 | D24: Adesivo em vinil, impressão digital 4x0 cores, resolução mínima 300 dpi's e 26 a 30 g/m² de gramatura mínima de cola; acabamento meio corte especial com faca. | E24: 7 X 9 cm | F24: Unidade | G24: 339039.63 | H24: 0.4 | J24: =I24-(SUM(L24:M24)) -> 0 | K24: =IF(J24<0,"ATENÇÃO","OK") -> OK
C25: 22 | D25: Adesivo em vinil transparente para vidro, impressão digital 4x0 cores, resolução mínima 300 dpi's e 26 a 30 g/m² de gramatura mínima de cola; acabamento corte reto. | E25: 5 X 20 cm | F25: Unidade | G25: 339039.63 | H25: 0.5 | J25: =I25-(SUM(L25:M25)) -> 0 | K25: =IF(J25<0,"ATENÇÃO","OK") -> OK
C26: 23 | E26: 10 X 25 cm | F26: Unidade | G26: 339039.63 | H26: 1.27 | J26: =I26-(SUM(L26:M26)) -> 0 | K26: =IF(J26<0,"ATENÇÃO","OK") -> OK
C27: 24 | D27: Adesivo em vinil resistente a água e cloro, próprio para áreas com piscinas, impressão digital 4x0 cores, resolução mínima 300 dpi's e 26 a 30 g/m2 de gramatura mínima de cola; acabamento corte reto. | E27: 5 X 20 cm | F27: Unidade | G27: 339039.63 | H27: 0.5 | J27: =I27-(SUM(L27:M27)) -> 0 | K27: =IF(J27<0,"ATENÇÃO","OK") -> OK
C28: 25 | E28: 10 X 25 cm | F28: Unidade | G28: 339039.63 | H28: 1.27 | I28: 150 | J28: =I28-(SUM(L28:M28)) -> 150 | K28: =IF(J28<0,"ATENÇÃO","OK") -> OK
C29: 26 | D29: Adesivo recortado em vinil colorido (cores diversas a escolher), para adesivagem. | E29: 90 cm x metro linear | F29: metro | G29: 339039.63 | H29: 38.16 | J29: =I29-(SUM(L29:M29)) -> 0 | K29: =IF(J29<0,"ATENÇÃO","OK") -> OK
C30: 27 | D30: Adesivo em vinil, impressão digital 4x0 cores, resolução mínima 300 dpi's e 26 a 30 g/m² de gramatura mínima de cola; acabamento meio corte especial com faca. | E30: 75 cm X metro linear | F30: metro | G30: 339039.63 | H30: 44.5 | J30: =I30-(SUM(L30:M30)) -> 0 | K30: =IF(J30<0,"ATENÇÃO","OK") -> OK
C31: 28 | D31: Adesivo em vinil resistente a água e cloro, próprio para áreas com piscinas, impressão digital 4x0 cores, resolução mínima 300 dpi's e 26 a 30 g/m2 de gramatura mínima de cola; acabamento corte reto. | E31: 15 cm X metro linear | F31: metro | G31: 339039.63 | H31: 37.03 | J31: =I31-(SUM(L31:M31)) -> 0 | K31: =IF(J31<0,"ATENÇÃO","OK") -> OK
A32: Webergrafic Comércio de Materiais Gráficos LTDA - ME | B32: 7 | C32: 29 | D32: Adesivo com impressão digital em caixa metálica de plataforma elevatória ("elevador"); impressão digital em material vinil autoadesivo; acabamento em laminação fosca; instalado; inclui adequação de layout; sugere-se visita técnica para conhecimento. | E32: m² | F32: metro² | G32: 339039.63 | H32: 97.5 | J32: =I32-(SUM(L32:M32)) -> 0 | K32: =IF(J32<0,"ATENÇÃO","OK") -> OK
A33: Webergrafic Comércio de Materiais Gráficos LTDA - ME | B33: 8 | C33: 30 | D33: Crachá em cartão PVC laminado branco, impressão digital 4x1 cores, resolução mínima 300 dpi's e espessura de 0,70 a 0,80mm cantos arredondados, com perfuração entre 15 a 20mm compatível com grampo de metal tipo jacaré do cordão. | E33: 5,4 X 8,60 cm | F33: Unidade | G33: 339039.63 | H33: 5.99 | J33: =I33-(SUM(L33:M33)) -> 0 | K33: =IF(J33<0,"ATENÇÃO","OK") -> OK
C34: 31 | D34: Cordão para crachá personalizado em impressão digital, com grampo de metal tipo jacaré, em 100% poliéster. | E34: 1,3 a 1,6 X 80 a 90 cm | F34: Unidade | G34: 339039.63 | H34: 2.75 | J34: =I34-(SUM(L34:M34)) -> 0 | K34: =IF(J34<0,"ATENÇÃO","OK") -> OK
A35: Ferroprint Tecnologia LTDA - ME | B35: 9 | C35: 32 | D35: Placa em PVC branco, impressão digital 4x0 cores, resolução mínima 300 dpi's e espessura de 2mm, com fixação dupla face de espuma acrílica para ambiente externo de no mínimo 20mm de largura e de no mínimo 10 cm de tamanho para cada 150g de placa. | E35: 200 X 120 cm | F35: Unidade | G35: 339039.63 | H35: 360 | J35: =I35-(SUM(L35:M35)) -> 0 | K35: =IF(J35<0,"ATENÇÃO","OK") -> OK
C36: 33 | D36: Placa em PVC branco, impressão digital 4x0 cores, resolução mínima 300 dpi's e espessura de 2mm, com fixação dupla face de espuma acrílica para ambiente interno de no mínimo 20mm de largura e de no mínimo 10 cm de tamanho para cada 150g de placa. | E36: 25 x 10 cm | F36: Unidade | G36: 339039.63 | H36: 3.75 | J36: =I36-(SUM(L36:M36)) -> 0 | K36: =IF(J36<0,"ATENÇÃO","OK") -> OK
C37: 34 | D37: Placa em PVC branco em formato "V" para ser apoiado sobre balção, impressão digital 4x0 cores, resolução mínima 300 dpi's e espessura de 2mm. | E37: 25 x 15 cm(plano) | F37: Unidade | G37: 339039.63 | H37: 35.06 | J37: =I37-(SUM(L37:M37)) -> 0 | K37: =IF(J37<0,"ATENÇÃO","OK") -> OK
A38: Webergrafic Comércio de Materiais Gráficos LTDA - ME | B38: 10 | C38: 35 | D38: Plotagem, impressão 4x0 cores, em papel sulfite de 75 g/m2 de gramatura mínima. | E38: Formato A0 ("A" Zero - 84,1 X 118,9cm) | F38: Unidade | G38: 339039.63 | H38: 73.39 | I38: 20 | J38: =I38-(SUM(L38:M38)) -> 20 | K38: =IF(J38<0,"ATENÇÃO","OK") -> OK
C39: 36 | D39: Plotagem, impressão monocromática, em papel sulfite de 75 g/m2 de gramatura mínima. | E39: Formato A0 ("A" Zero - 84,1 X 118,9cm) | F39: Unidade | G39: 339039.63 | H39: 73.38 | I39: 20 | J39: =I39-(SUM(L39:M39)) -> 20 | K39: =IF(J39<0,"ATENÇÃO","OK") -> OK
A40: Webergrafic Comércio de Materiais Gráficos LTDA - ME | B40: 11 | C40: 37 | D40: Adesivo em vinil transparente para vidro de carro, impressão digital 4x0 cores, resolução mínima 300 dpi's e 26 a 30 g/m² de gramatura mínima de cola; acabamento corte especial a faca (adesivo circular). | E40: Diametro de 8cm | F40: Unidade | G40: 339039.63 | H40: 3 | J40: =I40-(SUM(L40:M40)) -> 0 | K40: =IF(J40<0,"ATENÇÃO","OK") -> OK
A41: Webergrafic Comércio de Materiais Gráficos LTDA - ME | B41: 12 | C41: 38 | D41: Adesivo recortado em vinil colorido Gold Max (cores diversas a escolher), para adesivagem, com instalação. | E41: 12m² | F41: Unidade | G41: 339039.63 | H41: 1050 | J41: =I41-(SUM(L41:M41)) -> 0 | K41: =IF(J41<0,"ATENÇÃO","OK") -> OK
A42: Webergrafic Comércio de Materiais Gráficos LTDA - ME | B42: 13 | C42: 39 | D42: Adesivo vinílico colorido (cores diversas a escolher), para aplicação em Placa de MDF. | E42: 80 X 60 cm | F42: Unidade | G42: 339039.63 | H42: 26.95 | J42: =I42-(SUM(L42:M42)) -> 0 | K42: =IF(J42<0,"ATENÇÃO","OK") -> OK
C43: 40 | D43: Placa em MDF 3mm. Pintada e envernizada com texto em vinil colorido (cores diversas a escolher). | E43: 60 X 10 cm | F43: Unidade | G43: 339039.63 | H43: 16.85 | J43: =I43-(SUM(L43:M43)) -> 0 | K43: =IF(J43<0,"ATENÇÃO","OK") -> OK
C44: 41 | D44: Adesivo vinílico colorido (cores diversas a escolher), para aplicação em Placa de MDF. | E44: 60 X 40 cm | F44: Unidade | G44: 339039.63 | H44: 13.48 | J44: =I44-(SUM(L44:M44)) -> 0 | K44: =IF(J44<0,"ATENÇÃO","OK") -> OK
C45: 42 | D45: Adesivo vinílico colorido (cores diversas a escolher). Arredondamento do canto inferior direito é de 100 pontos. Para numeração sequencial. | E45: 10 X 6,5 cm | F45: Unidade | G45: 339039.63 | H45: 3.64 | J45: =I45-(SUM(L45:M45)) -> 0 | K45: =IF(J45<0,"ATENÇÃO","OK") -> OK
C46: 43 | D46: Adesivo para renovação do Totem de entrada. Texto em vinil recortado colorido (cores diversas a escolher). | E46: 1,70 X 0,60 m | F46: Unidade | G46: 339039.63 | H46: 59 | J46: =I46-(SUM(L46:M46)) -> 0 | K46: =IF(J46<0,"ATENÇÃO","OK") -> OK
A47: Webergrafic Comércio de Materiais Gráficos LTDA - ME | B47: 14 | C47: 44 | D47: Adesivo numerado com quatro digitos em vinil transparente para uso interno em veículo, impressão digital 4x0 cores, resolução mínima 300 dpi's e 26 a 30 g/m² de gramatura | E47: 9 x 6 cm | F47: Unidade | G47: 339039.63 | H47: 0.31 | J47: =I47-(SUM(L47:M47)) -> 0 | K47: =IF(J47<0,"ATENÇÃO","OK") -> OK

Sheet CEO
A1: PROCESSO: 0354/2015/UDESC | D1: OBJETO: SERVIÇOS GRÁFICOS PARA A UDESC | I1: VIGÊNCIA DA ATA: 01/07/2015 até 30/06/2016 | L1: AF/OS nº xxxx/2015 Qtde. DT | M1: AF/OS nº xxxx/2015 Qtde. DT | N1: AF/OS nº xxxx/2015 Qtde. DT | O1: AF/OS nº xxxx/2015 Qtde. DT | P1: AF/OS nº xxxx/2015 Qtde. DT | Q1: AF/OS nº xxxx/2015 Qtde. DT | R1: AF/OS nº xxxx/2015 Qtde. DT | S1: AF/OS nº xxxx/2015 Qtde. DT | T1: AF/OS nº xxxx/2015 Qtde. DT | U1: AF/OS nº xxxx/2015 Qtde. DT | V1: AF/OS nº xxxx/2015 Qtde. DT | W1: AF/OS nº xxxx/2015 Qtde. DT
A2: CENTRO PARTICIPANTE: CEO
A3: FORNECEDOR | B3: LOTE | C3: ITEM | D3: PRODUTO - CARACTERÍSTICAS MÍNIMAS | E3: Dimensões | F3: Unidade | G3: DETALHAMENTO | H3: Preço UNITÁRIO (R$) | I3: Qtde Registrada | J3: Saldo / Automático | K3: ALERTA | L3: ...../...../...... | M3: ...../...../...... | N3: ...../...../...... | O3: ...../...../...... | P3: ...../...../...... | Q3: ...../...../...... | R3: ...../...../...... | S3: ...../...../...... | T3: ...../...../...... | U3: ...../...../...... | V3: ...../...../...... | W3: ...../...../......
A4: Seriprint Comunicação Visual LTDA - ME | B4: 1 | C4: 1 | D4: Banner em lona, impressão digital 4x0 cores, resolução mínima 720 dpi's e 280 g/m² de gramatura mínima; e suporte: 1) em madeira em duas das menores extremidades e acabamento com ponteira de PVC (grampeada) e corda trançada de no mínimo 4mm e de resistência suficiente e compatível com o banner; ou 2) com ilhóses dispostos de 20 em 20 cm, em ferro ou alumínio e de diâmetro compatível com a corda utilizada - corda trançada de no mínimo 4mm e de resistência suficiente e compatível com o banner. | E4: 50 X 70 cm | F4: Unidade | G4: 339039.63 | H4: 10.3 | J4: =I4-(SUM(L4:W4)) -> 0 | K4: =IF(J4<0,"ATENÇÃO","OK") -> OK
C5: 2 | E5: 90 X 150 cm | F5: Unidade | G5: 339039.63 | H5: 36.2 | J5: =I5-(SUM(L5:W5)) -> 0 | K5: =IF(J5<0,"ATENÇÃO","OK") -> OK
C6: 3 | E6: 90 X 120 cm | F6: Unidade | G6: 339039.63 | H6: 33 | J6: =I6-(SUM(L6:W6)) -> 0 | K6: =IF(J6<0,"ATENÇÃO","OK") -> OK
C7: 4 | E7: 110 X 150 cm | F7: Unidade | G7: 339039.63 | H7: 39 | J7: =I7-(SUM(L7:W7)) -> 0 | K7: =IF(J7<0,"ATENÇÃO","OK") -> OK
C8: 5 | E8: 130 X 180 cm | F8: Unidade | G8: 339039.63 | H8: 52.3 | J8: =I8-(SUM(L8:W8)) -> 0 | K8: =IF(J8<0,"ATENÇÃO","OK") -> OK
C9: 6 | E9: 50 X 300 cm | F9: Unidade | G9: 339039.63 | H9: 34 | J9: =I9-(SUM(L9:W9)) -> 0 | K9: =IF(J9<0,"ATENÇÃO","OK") -> OK
C10: 7 | E10: 70 X 400 cm | F10: Unidade | G10: 339039.63 | H10: 59 | J10: =I10-(SUM(L10:W10)) -> 0 | K10: =IF(J10<0,"ATENÇÃO","OK") -> OK
C11: 8 | E11: 140 cm X metro linear | F11: metro | G11: 339039.63 | H11: 26 | J11: =I11-(SUM(L11:W11)) -> 0 | K11: =IF(J11<0,"ATENÇÃO","OK") -> OK
C12: 9 | E12: 80 X 110 cm | F12: Unidade | G12: 339039.63 | H12: 29.3 | J12: =I12-(SUM(L12:W12)) -> 0 | K12: =IF(J12<0,"ATENÇÃO","OK") -> OK
C13: 10 | E13: 80 X 120 cm | F13: Unidade | G13: 339039.63 | H13: 30 | J13: =I13-(SUM(L13:W13)) -> 0 | K13: =IF(J13<0,"ATENÇÃO","OK") -> OK
C14: 11 | E14: 90 X 110 cm | F14: Unidade | G14: 339039.63 | H14: 25 | J14: =I14-(SUM(L14:W14)) -> 0 | K14: =IF(J14<0,"ATENÇÃO","OK") -> OK
C15: 12 | D15: Frontlight em lona, impressão digital 4x0 cores, resolução mínima 1200 dpi's e 440 g/m² de gramatura mínima; fixado com ilhóses dispostos de 20 em 20 cm, em ferro ou alumínio e de diâmetro compatível com a corda utilizada - corda trançada de no mínimo 4mm e de resistência suficiente e compatível com o frontlight. | E15: 320 cm X metro linear | F15: metro | G15: 339039.63 | H15: 65 | J15: =I15-(SUM(L15:W15)) -> 0 | K15: =IF(J15<0,"ATENÇÃO","OK") -> OK
C16: 13 | E16: 650 X 150 cm | F16: Unidade | G16: 339039.63 | H16: 189.86 | J16: =I16-(SUM(L16:W16)) -> 0 | K16: =IF(J16<0,"ATENÇÃO","OK") -> OK
C17: 14 | E17: 250 X 120 cm | F17: Unidade | G17: 339039.63 | H17: 73 | J17: =I17-(SUM(L17:W17)) -> 0 | K17: =IF(J17<0,"ATENÇÃO","OK") -> OK
A18: Webergrafic Comércio de Materiais Gráficos LTDA - ME | B18: 2 | C18: 15 | D18: Banner em papel fotográfico com laminação brilhante, resolução mínima de 600 dpi's e 280g/m² de gramatura mínima, suporte em plástico em duas das menores extremidades e corda de no mínimo 1mm e de resistência suficiente e compatível com o banner. | E18: 90 cm X metro linear | F18: metro | G18: 339039.63 | H18: 49.5 | J18: =I18-(SUM(L18:W18)) -> 0 | K18: =IF(J18<0,"ATENÇÃO","OK") -> OK
A19: Webergrafic Comércio de Materiais Gráficos LTDA - ME | B19: 3 | C19: 16 | D19: Banner em tecido. Impressão digital em tecido. Policromia: 4 x 0 cores. Resolução mínima de 1200 dpi´s. Acabamento em madeira (cabo redondo) nas duas extremidades menores, sendo encaixado internamente na costura do tecido para fechamento escondendo o varão, com ponteiras em PVC e corda trançada de no mínimo 4 mm e com resistência suficiente para sustentar o banner de tecido. | E19: 90 cm x metro linear | F19: metro | G19: 339039.63 | H19: 40.19 | J19: =I19-(SUM(L19:W19)) -> 0 | K19: =IF(J19<0,"ATENÇÃO","OK") -> OK
A20: Webergrafic Comércio de Materiais Gráficos LTDA - ME | B20: 4 | C20: 17 | D20: Frontlight em lona, impressão digital 4x0 cores, resolução mínima 1200 dpi's e 440 g/m² de gramatura mínima; fixado com ilhóses dispostos de 20 em 20 cm, em ferro ou alumínio e de diâmetro compatível com a corda utilizada - corda trançada de no mínimo 4mm e de resistência suficiente e compatível com o frontlight. INSTALADO E RETIRADA. | E20: 255 X 275 cm | F20: Unidade | G20: 339039.63 | H20: 429.72 | J20: =I20-(SUM(L20:W20)) -> 0 | K20: =IF(J20<0,"ATENÇÃO","OK") -> OK
C21: 18 | E21: 295 X 875 cm | F21: Unidade | G21: 339039.63 | H21: 1055.06 | J21: =I21-(SUM(L21:W21)) -> 0 | K21: =IF(J21<0,"ATENÇÃO","OK") -> OK
C22: 19 | E22: 310 X 914 cm | F22: Unidade | G22: 339039.63 | H22: 1157.2 | J22: =I22-(SUM(L22:W22)) -> 0 | K22: =IF(J22<0,"ATENÇÃO","OK") -> OK
A23: Webergrafic Comércio de Materiais Gráficos LTDA - ME | B23: 5 | C23: 20 | D23: Adesivo perfurado para vidro traseiro de automóveis, impressão digital 4x0 cores, resolução mínima 720 dpi's; com no mínimo 40% de transmissão luminosa (nos termos da RES 254/2007 CONTRAN). | E23: 35 X 90 cm | F23: Unidade | G23: 339039.63 | H23: 11.33 | I23: 100 | J23: =I23-(SUM(L23:W23)) -> 100 | K23: =IF(J23<0,"ATENÇÃO","OK") -> OK
A24: Webergrafic Comércio de Materiais Gráficos LTDA - ME | B24: 6 | C24: 21 | D24: Adesivo em vinil, impressão digital 4x0 cores, resolução mínima 300 dpi's e 26 a 30 g/m² de gramatura mínima de cola; acabamento meio corte especial com faca. | E24: 7 X 9 cm | F24: Unidade | G24: 339039.63 | H24: 0.4 | I24: 800 | J24: =I24-(SUM(L24:W24)) -> 800 | K24: =IF(J24<0,"ATENÇÃO","OK") -> OK
C25: 22 | D25: Adesivo em vinil transparente para vidro, impressão digital 4x0 cores, resolução mínima 300 dpi's e 26 a 30 g/m² de gramatura mínima de cola; acabamento corte reto. | E25: 5 X 20 cm | F25: Unidade | G25: 339039.63 | H25: 0.5 | I25: 100 | J25: =I25-(SUM(L25:W25)) -> 100 | K25: =IF(J25<0,"ATENÇÃO","OK") -> OK
C26: 23 | E26: 10 X 25 cm | F26: Unidade | G26: 339039.63 | H26: 1.27 | I26: 20 | J26: =I26-(SUM(L26:W26)) -> 20 | K26: =IF(J26<0,"ATENÇÃO","OK") -> OK
C27: 24 | D27: Adesivo em vinil resistente a água e cloro, próprio para áreas com piscinas, impressão digital 4x0 cores, resolução mínima 300 dpi's e 26 a 30 g/m2 de gramatura mínima de cola; acabamento corte reto. | E27: 5 X 20 cm | F27: Unidade | G27: 339039.63 | H27: 0.5 | J27: =I27-(SUM(L27:W27)) -> 0 | K27: =IF(J27<0,"ATENÇÃO","OK") -> OK
C28: 25 | E28: 10 X 25 cm | F28: Unidade | G28: 339039.63 | H28: 1.27 | J28: =I28-(SUM(L28:W28)) -> 0 | K28: =IF(J28<0,"ATENÇÃO","OK") -> OK
C29: 26 | D29: Adesivo recortado em vinil colorido (cores diversas a escolher), para adesivagem. | E29: 90 cm x metro linear | F29: metro | G29: 339039.63 | H29: 38.16 | J29: =I29-(SUM(L29:W29)) -> 0 | K29: =IF(J29<0,"ATENÇÃO","OK") -> OK
C30: 27 | D30: Adesivo em vinil, impressão digital 4x0 cores, resolução mínima 300 dpi's e 26 a 30 g/m² de gramatura mínima de cola; acabamento meio corte especial com faca. | E30: 75 cm X metro linear | F30: metro | G30: 339039.63 | H30: 44.5 | J30: =I30-(SUM(L30:W30)) -> 0 | K30: =IF(J30<0,"ATENÇÃO","OK") -> OK
C31: 28 | D31: Adesivo em vinil resistente a água e cloro, próprio para áreas com piscinas, impressão digital 4x0 cores, resolução mínima 300 dpi's e 26 a 30 g/m2 de gramatura mínima de cola; acabamento corte reto. | E31: 15 cm X metro linear | F31: metro | G31: 339039.63 | H31: 37.03 | I31: 20 | J31: =I31-(SUM(L31:W31)) -> 20 | K31: =IF(J31<0,"ATENÇÃO","OK") -> OK
A32: Webergrafic Comércio de Materiais Gráficos LTDA - ME | B32: 7 | C32: 29 | D32: Adesivo com impressão digital em caixa metálica de plataforma elevatória ("elevador"); impressão digital em material vinil autoadesivo; acabamento em laminação fosca; instalado; inclui adequação de layout; sugere-se visita técnica para conhecimento. | E32: m² | F32: metro² | G32: 339039.63 | H32: 97.5 | J32: =I32-(SUM(L32:W32)) -> 0 | K32: =IF(J32<0,"ATENÇÃO","OK") -> OK
A33: Webergrafic Comércio de Materiais Gráficos LTDA - ME | B33: 8 | C33: 30 | D33: Crachá em cartão PVC laminado branco, impressão digital 4x1 cores, resolução mínima 300 dpi's e espessura de 0,70 a 0,80mm cantos arredondados, com perfuração entre 15 a 20mm compatível com grampo de metal tipo jacaré do cordão. | E33: 5,4 X 8,60 cm | F33: Unidade | G33: 339039.63 | H33: 5.99 | I33: 150 | J33: =I33-(SUM(L33:W33)) -> 150 | K33: =IF(J33<0,"ATENÇÃO","OK") -> OK
C34: 31 | D34: Cordão para crachá personalizado em impressão digital, com grampo de metal tipo jacaré, em 100% poliéster. | E34: 1,3 a 1,6 X 80 a 90 cm | F34: Unidade | G34: 339039.63 | H34: 2.75 | I34: 150 | J34: =I34-(SUM(L34:W34)) -> 150 | K34: =IF(J34<0,"ATENÇÃO","OK") -> OK
A35: Ferroprint Tecnologia LTDA - ME | B35: 9 | C35: 32 | D35: Placa em PVC branco, impressão digital 4x0 cores, resolução mínima 300 dpi's e espessura de 2mm, com fixação dupla face de espuma acrílica para ambiente externo de no mínimo 20mm de largura e de no mínimo 10 cm de tamanho para cada 150g de placa. | E35: 200 X 120 cm | F35: Unidade | G35: 339039.63 | H35: 360 | J35: =I35-(SUM(L35:W35)) -> 0 | K35: =IF(J35<0,"ATENÇÃO","OK") -> OK
C36: 33 | D36: Placa em PVC branco, impressão digital 4x0 cores, resolução mínima 300 dpi's e espessura de 2mm, com fixação dupla face de espuma acrílica para ambiente interno de no mínimo 20mm de largura e de no mínimo 10 cm de tamanho para cada 150g de placa. | E36: 25 x 10 cm | F36: Unidade | G36: 339039.63 | H36: 3.75 | I36: 30 | J36: =I36-(SUM(L36:W36)) -> 30 | K36: =IF(J36<0,"ATENÇÃO","OK") -> OK
