Workbook
Name diasuteis: #REF!
Name diasuteis: #REF!
Name diasuteis: #REF!
Name diasuteis: #REF!
Name diasuteis: #REF!
Name diasuteis: #REF!
Name diasuteis: #REF!
Name diasuteis: #REF!
Name diasuteis: #REF!
Name diasuteis: #REF!
Name diasuteis: #REF!
Name diasuteis: #REF!
Name diasuteis: #REF!
Name diasuteis: #REF!
Name diasuteis: #REF!
Name diasuteis: #REF!
Name diasuteis: #REF!
Name Ferias: #REF!
Name Ferias: #REF!
Name Ferias: #REF!
Name Ferias: #REF!
Name Ferias: #REF!
Name Ferias: #REF!
Name Ferias: #REF!
Name Ferias: #REF!
Name Ferias: #REF!
Name RD: OFFSET(#REF!,(MATCH(SMALL(#REF!,ROW()-10),#REF!,0)-1),0)
Name RD: OFFSET(#REF!,(MATCH(SMALL(#REF!,ROW()-10),#REF!,0)-1),0)
Name RD: OFFSET(#REF!,(MATCH(SMALL(#REF!,ROW()-10),#REF!,0)-1),0)
Name RD: OFFSET(#REF!,(MATCH(SMALL(#REF!,ROW()-10),#REF!,0)-1),0)
Name RD: OFFSET(#REF!,(MATCH(SMALL(#REF!,ROW()-10),#REF!,0)-1),0)
Name RD: OFFSET(#REF!,(MATCH(SMALL(#REF!,ROW()-10),#REF!,0)-1),0)
Name RD: OFFSET(#REF!,(MATCH(SMALL(#REF!,ROW()-10),#REF!,0)-1),0)
Name RD: OFFSET(#REF!,(MATCH(SMALL(#REF!,ROW()-10),#REF!,0)-1),0)
Name RD: OFFSET(#REF!,(MATCH(SMALL(#REF!,ROW()-10),#REF!,0)-1),0)

Sheet Reit-PROAD
A1: PROCESSO: 0097/2015/UDESC | D1: OBJETO: : CONTRATAÇÃO DE AGÊNCIA DE TURISMO PARA PRESTAÇÃO DE SERVIÇOS RELATIVOS À COTAÇÃO, RESERVA E EMISSÃO DE HOSPEDAGENS EM HOTÉIS E DEMAIS SERVIÇOS NECESSÁRIOS E CORRELATOS À UDESC. | F1: VIGÊNCIA DA ATA 11/05/2015 até 10/05/2016 | I1: OS nº 893/2015 Qtde. DT | J1: OS nº 1053/2015 Qtde. DT | K1: OS nº 1323/2015 Qtde. DT | L1: OS nº 1766/2015 Qtde. DT | M1: AF/OS nº xxxx/2015 Qtde. DT | N1: AF/OS nº xxxx/2015 Qtde. DT | O1: AF/OS nº xxxx/2015 Qtde. DT | P1: AF/OS nº xxxx/2015 Qtde. DT | Q1: AF/OS nº xxxx/2015 Qtde. DT | R1: AF/OS nº xxxx/2015 Qtde. DT | S1: AF/OS nº xxxx/2015 Qtde. DT | T1: AF/OS nº xxxx/2015 Qtde. DT
A2: CENTRO PARTICIPANTE: REITORIA PROAD
A3: FORNECEDOR | B3: LOTE | C3: ITEM | D3: PRODUTO - CARACTERÍSTICAS MÍNIMAS | E3: DESCONTO % | F3: Qtde Registrada | G3: Saldo / Automático | H3: ALERTA | I3: 42157 | J3: 42180 | K3: 42215 | L3: 42276 | M3: ...../...../...... | N3: ...../...../...... | O3: ...../...../...... | P3: ...../...../...... | Q3: ...../...../...... | R3: ...../...../...... | S3: ...../...../...... | T3: ...../...../......
A4: Arancíbia Turismo Ltda (MA Travel - Soluções em viagens) | B4: 1 | C4: 1 | D4: HOSPEDAGEM (diária) de R$ 500,00 a 301,00 | E4: 0.085 | F4: 15 | G4: =F4-(SUM(I4:T4)) -> 15 | H4: =IF(G4<0,"ATENÇÃO","OK") -> OK | J4: 0 | K4: 0 | L4: 0 | M4: 0 | N4: 0 | O4: 0 | P4: 0 | Q4: 0 | R4: 0 | S4: 0 | T4: 0
C5: 2 | D5: HOSPEDAGEM (diária) de R$ 300,00 a 201,00 | E5: 0.08 | F5: =35 -> 35 | G5: =F5-(SUM(I5:T5)) -> 0 | H5: =IF(G5<0,"ATENÇÃO","OK") -> OK | I5: 35 | J5: 0 | K5: 0 | L5: 0 | M5: 0 | N5: 0 | O5: 0 | P5: 0 | Q5: 0 | R5: 0 | S5: 0 | T5: 0
C6: 3 | D6: HOSPEDAGEM (diária) de R$ 200,00 a 101,00 | E6: 0.077 | F6: =90-15-26+269-15-30 -> 273 | G6: =F6-(SUM(I6:T6)) -> 223 | H6: =IF(G6<0,"ATENÇÃO","OK") -> OK | I6: 50 | J6: 0 | K6: 0 | L6: 0 | M6: 0 | N6: 0 | O6: 0 | P6: 0 | Q6: 0 | R6: 0 | S6: 0 | T6: 0
C7: 4 | D7: HOSPEDAGEM (diária) Abaixo de R$ 100,00 | E7: 0.08 | F7: =30-19 -> 11 | G7: =F7-(SUM(I7:T7)) -> 1 | H7: =IF(G7<0,"ATENÇÃO","OK") -> OK | I7: 10 | J7: 0 | K7: 0 | L7: 0 | M7: 0 | N7: 0 | O7: 0 | P7: 0 | Q7: 0 | R7: 0 | S7: 0 | T7: 0
C8: 5 | D8: ALIMENTAÇÃO Almoço e/ou Jantar (por pessoa) de R$ 100,00 a 51,00 | E8: 0.08 | F8: 50 | G8: =F8-(SUM(I8:T8)) -> 30 | H8: =IF(G8<0,"ATENÇÃO","OK") -> OK | I8: 20 | J8: 0 | K8: 0 | L8: 0 | M8: 0 | N8: 0 | O8: 0 | P8: 0 | Q8: 0 | R8: 0 | S8: 0 | T8: 0
C9: 6 | D9: ALIMENTAÇÃO Almoço e/ou Jantar (por pessoa) Abaixo de R$ 50,00 | E9: 0.068 | F9: =150+357+20+20+24 -> 571 | G9: =F9-(SUM(I9:T9)) -> 64 | H9: =IF(G9<0,"ATENÇÃO","OK") -> OK | I9: 60 | J9: 90 | K9: 320 | L9: 37 | M9: 0 | N9: 0 | O9: 0 | P9: 0 | Q9: 0 | R9: 0 | S9: 0 | T9: 0

Sheet Reit-PROEN
A1: PROCESSO: 0097/2015/UDESC | D1: OBJETO: : CONTRATAÇÃO DE AGÊNCIA DE TURISMO PARA PRESTAÇÃO DE SERVIÇOS RELATIVOS À COTAÇÃO, RESERVA E EMISSÃO DE HOSPEDAGENS EM HOTÉIS E DEMAIS SERVIÇOS NECESSÁRIOS E CORRELATOS À UDESC. | F1: VIGÊNCIA DA ATA 11/05/2015 até 10/05/2016 | I1: OS nº 1053/2015 Qtde. DT | J1: AF/OS nº xxxx/2015 Qtde. DT | K1: AF/OS nº xxxx/2015 Qtde. DT | L1: AF/OS nº xxxx/2015 Qtde. DT | M1: AF/OS nº xxxx/2015 Qtde. DT | N1: AF/OS nº xxxx/2015 Qtde. DT | O1: AF/OS nº xxxx/2015 Qtde. DT | P1: AF/OS nº xxxx/2015 Qtde. DT | Q1: AF/OS nº xxxx/2015 Qtde. DT | R1: AF/OS nº xxxx/2015 Qtde. DT | S1: AF/OS nº xxxx/2015 Qtde. DT | T1: AF/OS nº xxxx/2015 Qtde. DT
A2: CENTRO PARTICIPANTE: REITORIA PROEN
A3: FORNECEDOR | B3: LOTE | C3: ITEM | D3: PRODUTO - CARACTERÍSTICAS MÍNIMAS | E3: DESCONTO % | F3: Qtde Registrada | G3: Saldo / Automático | H3: ALERTA | I3: 42180 | J3: ...../...../...... | K3: ...../...../...... | L3: ...../...../...... | M3: ...../...../...... | N3: ...../...../...... | O3: ...../...../...... | P3: ...../...../...... | Q3: ...../...../...... | R3: ...../...../...... | S3: ...../...../...... | T3: ...../...../......
A4: Arancíbia Turismo Ltda (MA Travel - Soluções em viagens) | B4: 1 | C4: 1 | D4: HOSPEDAGEM (diária) de R$ 500,00 a 301,00 | E4: 0.085 | G4: =F4-(SUM(I4:T4)) -> 0 | H4: =IF(G4<0,"ATENÇÃO","OK") -> OK | J4: 0 | K4: 0 | L4: 0 | M4: 0 | N4: 0 | O4: 0 | P4: 0 | Q4: 0 | R4: 0 | S4: 0 | T4: 0
C5: 2 | D5: HOSPEDAGEM (diária) de R$ 300,00 a 201,00 | E5: 0.08 | F5: 6 | G5: =F5-(SUM(I5:T5)) -> 6 | H5: =IF(G5<0,"ATENÇÃO","OK") -> OK | I5: 0 | J5: 0 | K5: 0 | L5: 0 | M5: 0 | N5: 0 | O5: 0 | P5: 0 | Q5: 0 | R5: 0 | S5: 0 | T5: 0
C6: 3 | D6: HOSPEDAGEM (diária) de R$ 200,00 a 101,00 | E6: 0.077 | F6: =65-50 -> 15 | G6: =F6-(SUM(I6:T6)) -> 15 | H6: =IF(G6<0,"ATENÇÃO","OK") -> OK | I6: 0 | J6: 0 | K6: 0 | L6: 0 | M6: 0 | N6: 0 | O6: 0 | P6: 0 | Q6: 0 | R6: 0 | S6: 0 | T6: 0
C7: 4 | D7: HOSPEDAGEM (diária) Abaixo de R$ 100,00 | E7: 0.08 | G7: =F7-(SUM(I7:T7)) -> 0 | H7: =IF(G7<0,"ATENÇÃO","OK") -> OK | I7: 0 | J7: 0 | K7: 0 | L7: 0 | M7: 0 | N7: 0 | O7: 0 | P7: 0 | Q7: 0 | R7: 0 | S7: 0 | T7: 0
C8: 5 | D8: ALIMENTAÇÃO Almoço e/ou Jantar (por pessoa) de R$ 100,00 a 51,00 | E8: 0.08 | F8: 12 | G8: =F8-(SUM(I8:T8)) -> 12 | H8: =IF(G8<0,"ATENÇÃO","OK") -> OK | I8: 0 | J8: 0 | K8: 0 | L8: 0 | M8: 0 | N8: 0 | O8: 0 | P8: 0 | Q8: 0 | R8: 0 | S8: 0 | T8: 0
C9: 6 | D9: ALIMENTAÇÃO Almoço e/ou Jantar (por pessoa) Abaixo de R$ 50,00 | E9: 0.068 | F9: =65-55 -> 10 | G9: =F9-(SUM(I9:T9)) -> 0 | H9: =IF(G9<0,"ATENÇÃO","OK") -> OK | I9: 10 | J9: 0 | K9: 0 | L9: 0 | M9: 0 | N9: 0 | O9: 0 | P9: 0 | Q9: 0 | R9: 0 | S9: 0 | T9: 0

Sheet Reit-PROEX
A1: PROCESSO: 0097/2015/UDESC | D1: OBJETO: : CONTRATAÇÃO DE AGÊNCIA DE TURISMO PARA PRESTAÇÃO DE SERVIÇOS RELATIVOS À COTAÇÃO, RESERVA E EMISSÃO DE HOSPEDAGENS EM HOTÉIS E DEMAIS SERVIÇOS NECESSÁRIOS E CORRELATOS À UDESC. | F1: VIGÊNCIA DA ATA 11/05/2015 até 10/05/2016 | I1: OS nº 1019/2015 Qtde. DT | J1: OS nº 1053/2015 Qtde. DT | K1: AF/OS nº xxxx/2015 Qtde. DT | L1: AF/OS nº xxxx/2015 Qtde. DT | M1: AF/OS nº xxxx/2015 Qtde. DT | N1: AF/OS nº xxxx/2015 Qtde. DT | O1: AF/OS nº xxxx/2015 Qtde. DT | P1: AF/OS nº xxxx/2015 Qtde. DT | Q1: AF/OS nº xxxx/2015 Qtde. DT | R1: AF/OS nº xxxx/2015 Qtde. DT | S1: AF/OS nº xxxx/2015 Qtde. DT | T1: AF/OS nº xxxx/2015 Qtde. DT
A2: CENTRO PARTICIPANTE: REITORIA PROEX
A3: FORNECEDOR | B3: LOTE | C3: ITEM | D3: PRODUTO - CARACTERÍSTICAS MÍNIMAS | E3: DESCONTO % | F3: Qtde Registrada | G3: Saldo / Automático | H3: ALERTA | I3: 42174 | J3: 42180 | K3: ...../...../...... | L3: ...../...../...... | M3: ...../...../...... | N3: ...../...../...... | O3: ...../...../...... | P3: ...../...../...... | Q3: ...../...../...... | R3: ...../...../...... | S3: ...../...../...... | T3: ...../...../......
A4: Arancíbia Turismo Ltda (MA Travel - Soluções em viagens) | B4: 1 | C4: 1 | D4: HOSPEDAGEM (diária) de R$ 500,00 a 301,00 | E4: 0.085 | G4: =F4-(SUM(I4:T4)) -> 0 | H4: =IF(G4<0,"ATENÇÃO","OK") -> OK | J4: 0 | K4: 0 | L4: 0 | M4: 0 | N4: 0 | O4: 0 | P4: 0 | Q4: 0 | R4: 0 | S4: 0 | T4: 0
C5: 2 | D5: HOSPEDAGEM (diária) de R$ 300,00 a 201,00 | E5: 0.08 | F5: =150-20-8 -> 122 | G5: =F5-(SUM(I5:T5)) -> 122 | H5: =IF(G5<0,"ATENÇÃO","OK") -> OK | I5: 0 | J5: 0 | K5: 0 | L5: 0 | M5: 0 | N5: 0 | O5: 0 | P5: 0 | Q5: 0 | R5: 0 | S5: 0 | T5: 0
C6: 3 | D6: HOSPEDAGEM (diária) de R$ 200,00 a 101,00 | E6: 0.077 | F6: 225 | G6: =F6-(SUM(I6:T6)) -> 105 | H6: =IF(G6<0,"ATENÇÃO","OK") -> OK | I6: 0 | J6: 120 | K6: 0 | L6: 0 | M6: 0 | N6: 0 | O6: 0 | P6: 0 | Q6: 0 | R6: 0 | S6: 0 | T6: 0
C7: 4 | D7: HOSPEDAGEM (diária) Abaixo de R$ 100,00 | E7: 0.08 | F7: =50-5 -> 45 | G7: =F7-(SUM(I7:T7)) -> 45 | H7: =IF(G7<0,"ATENÇÃO","OK") -> OK | I7: 0 | J7: 0 | K7: 0 | L7: 0 | M7: 0 | N7: 0 | O7: 0 | P7: 0 | Q7: 0 | R7: 0 | S7: 0 | T7: 0
C8: 5 | D8: ALIMENTAÇÃO Almoço e/ou Jantar (por pessoa) de R$ 100,00 a 51,00 | E8: 0.08 | F8: 125 | G8: =F8-(SUM(I8:T8)) -> 125 | H8: =IF(G8<0,"ATENÇÃO","OK") -> OK | I8: 0 | J8: 0 | K8: 0 | L8: 0 | M8: 0 | N8: 0 | O8: 0 | P8: 0 | Q8: 0 | R8: 0 | S8: 0 | T8: 0
C9: 6 | D9: ALIMENTAÇÃO Almoço e/ou Jantar (por pessoa) Abaixo de R$ 50,00 | E9: 0.068 | F9: 300 | G9: =F9-(SUM(I9:T9)) -> 0 | H9: =IF(G9<0,"ATENÇÃO","OK") -> OK | I9: 155 | J9: 145 | K9: 0 | L9: 0 | M9: 0 | N9: 0 | O9: 0 | P9: 0 | Q9: 0 | R9: 0 | S9: 0 | T9: 0

Sheet Museu
A1: PROCESSO: 0097/2015/UDESC | D1: OBJETO: : CONTRATAÇÃO DE AGÊNCIA DE TURISMO PARA PRESTAÇÃO DE SERVIÇOS RELATIVOS À COTAÇÃO, RESERVA E EMISSÃO DE HOSPEDAGENS EM HOTÉIS E DEMAIS SERVIÇOS NECESSÁRIOS E CORRELATOS À UDESC. | F1: VIGÊNCIA DA ATA 11/05/2015 até 10/05/2016 | I1: AF/OS nº xxxx/2015 Qtde. DT | J1: AF/OS nº xxxx/2015 Qtde. DT | K1: AF/OS nº xxxx/2015 Qtde. DT | L1: AF/OS nº xxxx/2015 Qtde. DT | M1: AF/OS nº xxxx/2015 Qtde. DT | N1: AF/OS nº xxxx/2015 Qtde. DT | O1: AF/OS nº xxxx/2015 Qtde. DT | P1: AF/OS nº xxxx/2015 Qtde. DT | Q1: AF/OS nº xxxx/2015 Qtde. DT | R1: AF/OS nº xxxx/2015 Qtde. DT | S1: AF/OS nº xxxx/2015 Qtde. DT | T1: AF/OS nº xxxx/2015 Qtde. DT
A2: CENTRO PARTICIPANTE: MUSEU
A3: FORNECEDOR | B3: LOTE | C3: ITEM | D3: PRODUTO - CARACTERÍSTICAS MÍNIMAS | E3: DESCONTO % | F3: Qtde Registrada | G3: Saldo / Automático | H3: ALERTA | I3: ...../...../...... | J3: ...../...../...... | K3: ...../...../...... | L3: ...../...../...... | M3: ...../...../...... | N3: ...../...../...... | O3: ...../...../...... | P3: ...../...../...... | Q3: ...../...../...... | R3: ...../...../...... | S3: ...../...../...... | T3: ...../...../......
A4: Arancíbia Turismo Ltda (MA Travel - Soluções em viagens) | B4: 1 | C4: 1 | D4: HOSPEDAGEM (diária) de R$ 500,00 a 301,00 | E4: 0.085 | G4: =F4-(SUM(I4:T4)) -> 0 | H4: =IF(G4<0,"ATENÇÃO","OK") -> OK | J4: 0 | K4: 0 | L4: 0 | M4: 0 | N4: 0 | O4: 0 | P4: 0 | Q4: 0 | R4: 0 | S4: 0 | T4: 0
C5: 2 | D5: HOSPEDAGEM (diária) de R$ 300,00 a 201,00 | E5: 0.08 | F5: 10 | G5: =F5-(SUM(I5:T5)) -> 10 | H5: =IF(G5<0,"ATENÇÃO","OK") -> OK | I5: 0 | J5: 0 | K5: 0 | L5: 0 | M5: 0 | N5: 0 | O5: 0 | P5: 0 | Q5: 0 | R5: 0 | S5: 0 | T5: 0
C6: 3 | D6: HOSPEDAGEM (diária) de R$ 200,00 a 101,00 | E6: 0.077 | G6: =F6-(SUM(I6:T6)) -> 0 | H6: =IF(G6<0,"ATENÇÃO","OK") -> OK | I6: 0 | J6: 0 | K6: 0 | L6: 0 | M6: 0 | N6: 0 | O6: 0 | P6: 0 | Q6: 0 | R6: 0 | S6: 0 | T6: 0
C7: 4 | D7: HOSPEDAGEM (diária) Abaixo de R$ 100,00 | E7: 0.08 | G7: =F7-(SUM(I7:T7)) -> 0 | H7: =IF(G7<0,"ATENÇÃO","OK") -> OK | I7: 0 | J7: 0 | K7: 0 | L7: 0 | M7: 0 | N7: 0 | O7: 0 | P7: 0 | Q7: 0 | R7: 0 | S7: 0 | T7: 0
C8: 5 | D8: ALIMENTAÇÃO Almoço e/ou Jantar (por pessoa) de R$ 100,00 a 51,00 | E8: 0.08 | F8: 10 | G8: =F8-(SUM(I8:T8)) -> 10 | H8: =IF(G8<0,"ATENÇÃO","OK") -> OK | I8: 0 | J8: 0 | K8: 0 | L8: 0 | M8: 0 | N8: 0 | O8: 0 | P8: 0 | Q8: 0 | R8: 0 | S8: 0 | T8: 0
C9: 6 | D9: ALIMENTAÇÃO Almoço e/ou Jantar (por pessoa) Abaixo de R$ 50,00 | E9: 0.068 | G9: =F9-(SUM(I9:T9)) -> 0 | H9: =IF(G9<0,"ATENÇÃO","OK") -> OK | I9: 0 | J9: 0 | K9: 0 | L9: 0 | M9: 0 | N9: 0 | O9: 0 | P9: 0 | Q9: 0 | R9: 0 | S9: 0 | T9: 0

Sheet ESAG
A1: PROCESSO: 0097/2015/UDESC | D1: OBJETO: : CONTRATAÇÃO DE AGÊNCIA DE TURISMO PARA PRESTAÇÃO DE SERVIÇOS RELATIVOS À COTAÇÃO, RESERVA E EMISSÃO DE HOSPEDAGENS EM HOTÉIS E DEMAIS SERVIÇOS NECESSÁRIOS E CORRELATOS À UDESC. | F1: VIGÊNCIA DA ATA 11/05/2015 até 10/05/2016 | I1: AF/OS nº 1277/2015 Qtde. DT | J1: AF/OS nº 1836/2015 Qtde. DT | K1: AF/OS nº xxxx/2015 Qtde. DT | L1: AF/OS nº xxxx/2015 Qtde. DT | M1: AF/OS nº xxxx/2015 Qtde. DT | N1: AF/OS nº xxxx/2015 Qtde. DT | O1: AF/OS nº xxxx/2015 Qtde. DT | P1: AF/OS nº xxxx/2015 Qtde. DT | Q1: AF/OS nº xxxx/2015 Qtde. DT | R1: AF/OS nº xxxx/2015 Qtde. DT | S1: AF/OS nº xxxx/2015 Qtde. DT | T1: AF/OS nº xxxx/2015 Qtde. DT
A2: CENTRO PARTICIPANTE: ESAG
A3: FORNECEDOR | B3: LOTE | C3: ITEM | D3: PRODUTO - CARACTERÍSTICAS MÍNIMAS | E3: DESCONTO % | F3: Qtde Registrada | G3: Saldo / Automático | H3: ALERTA | I3: ...../...../...... | J3: ...../...../...... | K3: ...../...../...... | L3: ...../...../...... | M3: ...../...../...... | N3: ...../...../...... | O3: ...../...../...... | P3: ...../...../...... | Q3: ...../...../...... | R3: ...../...../...... | S3: ...../...../...... | T3: ...../...../......
A4: Arancíbia Turismo Ltda (MA Travel - Soluções em viagens) | B4: 1 | C4: 1 | D4: HOSPEDAGEM (diária) de R$ 500,00 a 301,00 | E4: 0.085 | F4: 5 | G4: =F4-(SUM(I4:T4)) -> 5 | H4: =IF(G4<0,"ATENÇÃO","OK") -> OK | K4: 0 | L4: 0 | M4: 0 | N4: 0 | O4: 0 | P4: 0 | Q4: 0 | R4: 0 | S4: 0 | T4: 0
C5: 2 | D5: HOSPEDAGEM (diária) de R$ 300,00 a 201,00 | E5: 0.08 | F5: 5 | G5: =F5-(SUM(I5:T5)) -> 5 | H5: =IF(G5<0,"ATENÇÃO","OK") -> OK | K5: 0 | L5: 0 | M5: 0 | N5: 0 | O5: 0 | P5: 0 | Q5: 0 | R5: 0 | S5: 0 | T5: 0
C6: 3 | D6: HOSPEDAGEM (diária) de R$ 200,00 a 101,00 | E6: 0.077 | F6: 15 | G6: =F6-(SUM(I6:T6)) -> 0 | H6: =IF(G6<0,"ATENÇÃO","OK") -> OK | I6: 10 | J6: 5 | K6: 0 | L6: 0 | M6: 0 | N6: 0 | O6: 0 | P6: 0 | Q6: 0 | R6: 0 | S6: 0 | T6: 0
C7: 4 | D7: HOSPEDAGEM (diária) Abaixo de R$ 100,00 | E7: 0.08 | G7: =F7-(SUM(I7:T7)) -> 0 | H7: =IF(G7<0,"ATENÇÃO","OK") -> OK | K7: 0 | L7: 0 | M7: 0 | N7: 0 | O7: 0 | P7: 0 | Q7: 0 | R7: 0 | S7: 0 | T7: 0
C8: 5 | D8: ALIMENTAÇÃO Almoço e/ou Jantar (por pessoa) de R$ 100,00 a 51,00 | E8: 0.08 | F8: 10 | G8: =F8-(SUM(I8:T8)) -> 10 | H8: =IF(G8<0,"ATENÇÃO","OK") -> OK | K8: 0 | L8: 0 | M8: 0 | N8: 0 | O8: 0 | P8: 0 | Q8: 0 | R8: 0 | S8: 0 | T8: 0
C9: 6 | D9: ALIMENTAÇÃO Almoço e/ou Jantar (por pessoa) Abaixo de R$ 50,00 | E9: 0.068 | F9: 15 | G9: =F9-(SUM(I9:T9)) -> 0 | H9: =IF(G9<0,"ATENÇÃO","OK") -> OK | I9: 10 | J9: 5 | K9: 0 | L9: 0 | M9: 0 | N9: 0 | O9: 0 | P9: 0 | Q9: 0 | R9: 0 | S9: 0 | T9: 0

Sheet CEART
A1: PROCESSO: 0097/2015/UDESC | D1: OBJETO: : CONTRATAÇÃO DE AGÊNCIA DE TURISMO PARA PRESTAÇÃO DE SERVIÇOS RELATIVOS À COTAÇÃO, RESERVA E EMISSÃO DE HOSPEDAGENS EM HOTÉIS E DEMAIS SERVIÇOS NECESSÁRIOS E CORRELATOS À UDESC. | F1: VIGÊNCIA DA ATA 11/05/2015 até 10/05/2016 | I1: OS846/2015 | J1: OS847/2015 | K1: OS995/2015 PRAPEG | L1: AF/OS nº 1112/2015 Qtde. DT | M1: AF/OS nº 1137/2015 40 | N1: AF/OS nº 1188/2015 90 | O1: AF/OS nº 1688/2015 Qtde. DT | P1: AF/OS nº 1689/2015 Qtde. DT | Q1: AF/OS nº 1775/2015 Qtde. DT
A2: CENTRO PARTICIPANTE: CEART
A3: FORNECEDOR | B3: LOTE | C3: ITEM | D3: PRODUTO - CARACTERÍSTICAS MÍNIMAS | E3: DESCONTO % | F3: Qtde Registrada | G3: Saldo / Automático | H3: ALERTA | I3: 42146 | J3: 42146 | K3: 42172 | L3: 42187 | M3: 42191 | N3: 42198 | O3: 42265 | P3: 42265 | Q3: 42277
A4: Arancíbia Turismo Ltda (MA Travel - Soluções em viagens) | B4: 1 | C4: 1 | D4: HOSPEDAGEM (diária) de R$ 500,00 a 301,00 | E4: 0.085 | F4: 5 | G4: =F4-(SUM(I4:Q4)) -> 5 | H4: =IF(G4<0,"ATENÇÃO","OK") -> OK | I4: 0 | J4: 0 | K4: 0 | L4: 0 | M4: 0 | N4: 0 | O4: 0 | P4: 0 | Q4: 0
C5: 2 | D5: HOSPEDAGEM (diária) de R$ 300,00 a 201,00 | E5: 0.08 | F5: =5+8 -> 13 | G5: =F5-(SUM(I5:Q5)) -> 0 | H5: =IF(G5<0,"ATENÇÃO","OK") -> OK | I5: 0 | J5: 0 | K5: 0 | L5: 0 | M5: 0 | N5: 0 | O5: 5 | P5: 8 | Q5: 0
C6: 3 | D6: HOSPEDAGEM (diária) de R$ 200,00 a 101,00 | E6: 0.077 | F6: =225-15 -> 210 | G6: =F6-(SUM(I6:Q6)) -> 60 | H6: =IF(G6<0,"ATENÇÃO","OK") -> OK | I6: 25 | J6: 25 | K6: 5 | L6: 25 | M6: 20 | N6: 30 | O6: 0 | P6: 0 | Q6: 20
C7: 4 | D7: HOSPEDAGEM (diária) Abaixo de R$ 100,00 | E7: 0.08 | G7: =F7-(SUM(I7:Q7)) -> 0 | H7: =IF(G7<0,"ATENÇÃO","OK") -> OK | I7: 0 | J7: 0 | K7: 0 | L7: 0 | M7: 0 | N7: 0 | O7: 0 | P7: 0 | Q7: 0
C8: 5 | D8: ALIMENTAÇÃO Almoço e/ou Jantar (por pessoa) de R$ 100,00 a 51,00 | E8: 0.08 | F8: 14 | G8: =F8-(SUM(I8:Q8)) -> 14 | H8: =IF(G8<0,"ATENÇÃO","OK") -> OK | I8: 0 | J8: 0 | K8: 0 | L8: 0 | M8: 0 | N8: 0 | O8: 0 | P8: 0 | Q8: 0
C9: 6 | D9: ALIMENTAÇÃO Almoço e/ou Jantar (por pessoa) Abaixo de R$ 50,00 | E9: 0.068 | F9: =305-20-60+15 -> 240 | G9: =F9-(SUM(I9:Q9)) -> 35 | H9: =IF(G9<0,"ATENÇÃO","OK") -> OK | I9: 25 | J9: 25 | K9: 10 | L9: 25 | M9: 20 | N9: 60 | O9: 0 | P9: 0 | Q9: 40

Sheet FAED
A1: PROCESSO: 0097/2015/UDESC | D1: OBJETO: : CONTRATAÇÃO DE AGÊNCIA DE TURISMO PARA PRESTAÇÃO DE SERVIÇOS RELATIVOS À COTAÇÃO, RESERVA E EMISSÃO DE HOSPEDAGENS EM HOTÉIS E DEMAIS SERVIÇOS NECESSÁRIOS E CORRELATOS À UDESC. | F1: VIGÊNCIA DA ATA 11/05/2015 até 10/05/2016 | I1: AF/OS nº 840/2015 Qtde. DT | J1: AF/OS nº 938/2015 Qtde. DT | K1: AF/OS nº xxxx/2015 Qtde. DT | L1: AF/OS nº xxxx/2015 Qtde. DT | M1: AF/OS nº xxxx/2015 Qtde. DT | N1: AF/OS nº xxxx/2015 Qtde. DT | O1: AF/OS nº xxxx/2015 Qtde. DT | P1: AF/OS nº xxxx/2015 Qtde. DT | Q1: AF/OS nº xxxx/2015 Qtde. DT | R1: AF/OS nº xxxx/2015 Qtde. DT | S1: AF/OS nº xxxx/2015 Qtde. DT | T1: AF/OS nº xxxx/2015 Qtde. DT
A2: CENTRO PARTICIPANTE: FAED
A3: FORNECEDOR | B3: LOTE | C3: ITEM | D3: PRODUTO - CARACTERÍSTICAS MÍNIMAS | E3: DESCONTO % | F3: Qtde Registrada | G3: Saldo / Automático | H3: ALERTA | I3: 42146 | J3: 42166 | K3: 42181 | L3: ...../...../...... | M3: ...../...../...... | N3: ...../...../...... | O3: ...../...../...... | P3: ...../...../...... | Q3: ...../...../...... | R3: ...../...../...... | S3: ...../...../...... | T3: ...../...../......
A4: Arancíbia Turismo Ltda (MA Travel - Soluções em viagens) | B4: 1 | C4: 1 | D4: HOSPEDAGEM (diária) de R$ 500,00 a 301,00 | E4: 0.085 | G4: =F4-(SUM(I4:T4)) -> 0 | H4: =IF(G4<0,"ATENÇÃO","OK") -> OK | J4: 0 | K4: 0 | L4: 0 | M4: 0 | N4: 0 | O4: 0 | P4: 0 | Q4: 0 | R4: 0 | S4: 0 | T4: 0
C5: 2 | D5: HOSPEDAGEM (diária) de R$ 300,00 a 201,00 | E5: 0.08 | F5: 50 | G5: =F5-(SUM(I5:T5)) -> 14 | H5: =IF(G5<0,"ATENÇÃO","OK") -> OK | I5: 25 | J5: 11 | K5: 0 | L5: 0 | M5: 0 | N5: 0 | O5: 0 | P5: 0 | Q5: 0 | R5: 0 | S5: 0 | T5: 0
C6: 3 | D6: HOSPEDAGEM (diária) de R$ 200,00 a 101,00 | E6: 0.077 | F6: 175 | G6: =F6-(SUM(I6:T6)) -> 29 | H6: =IF(G6<0,"ATENÇÃO","OK") -> OK | I6: 87 | J6: 35 | K6: 24 | L6: 0 | M6: 0 | N6: 0 | O6: 0 | P6: 0 | Q6: 0 | R6: 0 | S6: 0 | T6: 0
C7: 4 | D7: HOSPEDAGEM (diária) Abaixo de R$ 100,00 | E7: 0.08 | G7: =F7-(SUM(I7:T7)) -> 0 | H7: =IF(G7<0,"ATENÇÃO","OK") -> OK | I7: 0 | J7: 0 | K7: 0 | L7: 0 | M7: 0 | N7: 0 | O7: 0 | P7: 0 | Q7: 0 | R7: 0 | S7: 0 | T7: 0
C8: 5 | D8: ALIMENTAÇÃO Almoço e/ou Jantar (por pessoa) de R$ 100,00 a 51,00 | E8: 0.08 | F8: 75 | G8: =F8-(SUM(I8:T8)) -> 20 | H8: =IF(G8<0,"ATENÇÃO","OK") -> OK | I8: 37 | J8: 18 | K8: 0 | L8: 0 | M8: 0 | N8: 0 | O8: 0 | P8: 0 | Q8: 0 | R8: 0 | S8: 0 | T8: 0
C9: 6 | D9: ALIMENTAÇÃO Almoço e/ou Jantar (por pessoa) Abaixo de R$ 50,00 | E9: 0.068 | F9: 200 | G9: =F9-(SUM(I9:T9)) -> 58 | H9: =IF(G9<0,"ATENÇÃO","OK") -> OK | I9: 100 | J9: 42 | K9: 0 | L9: 0 | M9: 0 | N9: 0 | O9: 0 | P9: 0 | Q9: 0 | R9: 0 | S9: 0 | T9: 0

Sheet CEAD
A1: PROCESSO: 0097/2015/UDESC | D1: OBJETO: : CONTRATAÇÃO DE AGÊNCIA DE TURISMO PARA PRESTAÇÃO DE SERVIÇOS RELATIVOS À COTAÇÃO, RESERVA E EMISSÃO DE HOSPEDAGENS EM HOTÉIS E DEMAIS SERVIÇOS NECESSÁRIOS E CORRELATOS À UDESC. | F1: VIGÊNCIA DA ATA 11/05/2015 até 10/05/2016 | I1: AF/OS nº 1427/2015 Qtde. DT | J1: AF/OS nº xxxx/2015 Qtde. DT | K1: AF/OS nº xxxx/2015 Qtde. DT | L1: AF/OS nº xxxx/2015 Qtde. DT | M1: AF/OS nº xxxx/2015 Qtde. DT | N1: AF/OS nº xxxx/2015 Qtde. DT | O1: AF/OS nº xxxx/2015 Qtde. DT | P1: AF/OS nº xxxx/2015 Qtde. DT | Q1: AF/OS nº xxxx/2015 Qtde. DT | R1: AF/OS nº xxxx/2015 Qtde. DT | S1: AF/OS nº xxxx/2015 Qtde. DT | T1: AF/OS nº xxxx/2015 Qtde. DT
A2: CENTRO PARTICIPANTE: CEAD
A3: FORNECEDOR | B3: LOTE | C3: ITEM | D3: PRODUTO - CARACTERÍSTICAS MÍNIMAS | E3: DESCONTO % | F3: Qtde Registrada | G3: Saldo / Automático | H3: ALERTA | I3: 42228 | J3: ...../...../...... | K3: ...../...../...... | L3: ...../...../...... | M3: ...../...../...... | N3: ...../...../...... | O3: ...../...../...... | P3: ...../...../...... | Q3: ...../...../...... | R3: ...../...../...... | S3: ...../...../...... | T3: ...../...../......
A4: Arancíbia Turismo Ltda (MA Travel - Soluções em viagens) | B4: 1 | C4: 1 | D4: HOSPEDAGEM (diária) de R$ 500,00 a 301,00 | E4: 0.085 | G4: =F4-(SUM(I4:T4)) -> 0 | H4: =IF(G4<0,"ATENÇÃO","OK") -> OK | J4: 0 | K4: 0 | L4: 0 | M4: 0 | N4: 0 | O4: 0 | P4: 0 | Q4: 0 | R4: 0 | S4: 0 | T4: 0
C5: 2 | D5: HOSPEDAGEM (diária) de R$ 300,00 a 201,00 | E5: 0.08 | F5: 75 | G5: =F5-(SUM(I5:T5)) -> 0 | H5: =IF(G5<0,"ATENÇÃO","OK") -> OK | I5: 75 | J5: 0 | K5: 0 | L5: 0 | M5: 0 | N5: 0 | O5: 0 | P5: 0 | Q5: 0 | R5: 0 | S5: 0 | T5: 0
C6: 3 | D6: HOSPEDAGEM (diária) de R$ 200,00 a 101,00 | E6: 0.077 | F6: 40 | G6: =F6-(SUM(I6:T6)) -> 32 | H6: =IF(G6<0,"ATENÇÃO","OK") -> OK | I6: =40-32 -> 8 | J6: 0 | K6: 0 | L6: 0 | M6: 0 | N6: 0 | O6: 0 | P6: 0 | Q6: 0 | R6: 0 | S6: 0 | T6: 0
C7: 4 | D7: HOSPEDAGEM (diária) Abaixo de R$ 100,00 | E7: 0.08 | F7: 20 | G7: =F7-(SUM(I7:T7)) -> 10 | H7: =IF(G7<0,"ATENÇÃO","OK") -> OK | I7: 10 | J7: 0 | K7: 0 | L7: 0 | M7: 0 | N7: 0 | O7: 0 | P7: 0 | Q7: 0 | R7: 0 | S7: 0 | T7: 0
C8: 5 | D8: ALIMENTAÇÃO Almoço e/ou Jantar (por pessoa) de R$ 100,00 a 51,00 | E8: 0.08 | F8: 190 | G8: =F8-(SUM(I8:T8)) -> 14 | H8: =IF(G8<0,"ATENÇÃO","OK") -> OK | I8: =190-14 -> 176 | J8: 0 | K8: 0 | L8: 0 | M8: 0 | N8: 0 | O8: 0 | P8: 0 | Q8: 0 | R8: 0 | S8: 0 | T8: 0
C9: 6 | D9: ALIMENTAÇÃO Almoço e/ou Jantar (por pessoa) Abaixo de R$ 50,00 | E9: 0.068 | G9: =F9-(SUM(I9:T9)) -> 0 | H9: =IF(G9<0,"ATENÇÃO","OK") -> OK | I9: 0 | J9: 0 | K9: 0 | L9: 0 | M9: 0 | N9: 0 | O9: 0 | P9: 0 | Q9: 0 | R9: 0 | S9: 0 | T9: 0

Sheet CEFID
A1: PROCESSO: 0097/2015/UDESC | D1: OBJETO: : CONTRATAÇÃO DE AGÊNCIA DE TURISMO PARA PRESTAÇÃO DE SERVIÇOS RELATIVOS À COTAÇÃO, RESERVA E EMISSÃO DE HOSPEDAGENS EM HOTÉIS E DEMAIS SERVIÇOS NECESSÁRIOS E CORRELATOS À UDESC. | F1: VIGÊNCIA DA ATA 11/05/2015 até 10/05/2016 | I1: AF/OS nº 907/2015 Qtde. DT | J1: AF/OS nº 1148/2015 Qtde. DT | K1: AF/OS nº 1480/2015 Qtde. DT | L1: AF/OS nº 1528/2015 Qtde. DT | M1: AF/OS nº 2031/2015 Qtde. DT | N1: AF/OS nº xxxx/2015 Qtde. DT | O1: AF/OS nº xxxx/2015 Qtde. DT | P1: AF/OS nº xxxx/2015 Qtde. DT | Q1: AF/OS nº xxxx/2015 Qtde. DT | R1: AF/OS nº xxxx/2015 Qtde. DT | S1: AF/OS nº xxxx/2015 Qtde. DT | T1: AF/OS nº xxxx/2015 Qtde. DT
A2: CENTRO PARTICIPANTE: CEFID
A3: FORNECEDOR | B3: LOTE | C3: ITEM | D3: PRODUTO - CARACTERÍSTICAS MÍNIMAS | E3: DESCONTO % | F3: Qtde Registrada | G3: Saldo / Automático | H3: ALERTA | I3: 42132 | J3: 42192 | K3: 42236 | L3: 42243 | M3: 42303 | N3: ...../...../...... | O3: ...../...../...... | P3: ...../...../...... | Q3: ...../...../...... | R3: ...../...../...... | S3: ...../...../...... | T3: ...../...../......
A4: Arancíbia Turismo Ltda (MA Travel - Soluções em viagens) | B4: 1 | C4: 1 | D4: HOSPEDAGEM (diária) de R$ 500,00 a 301,00 | E4: 0.085 | G4: =F4-(SUM(I4:T4)) -> 0 | H4: =IF(G4<0,"ATENÇÃO","OK") -> OK | J4: 0 | K4: 0 | L4: 0 | M4: 0 | N4: 0 | O4: 0 | P4: 0 | Q4: 0 | R4: 0 | S4: 0 | T4: 0
C5: 2 | D5: HOSPEDAGEM (diária) de R$ 300,00 a 201,00 | E5: 0.08 | F5: 5 | G5: =F5-(SUM(I5:T5)) -> 3 | H5: =IF(G5<0,"ATENÇÃO","OK") -> OK | I5: 0 | J5: 0 | K5: 0 | L5: 2 | M5: 0 | N5: 0 | O5: 0 | P5: 0 | Q5: 0 | R5: 0 | S5: 0 | T5: 0
C6: 3 | D6: HOSPEDAGEM (diária) de R$ 200,00 a 101,00 | E6: 0.077 | F6: =50+26+50 -> 126 | G6: =F6-(SUM(I6:T6)) -> 51 | H6: =IF(G6<0,"ATENÇÃO","OK") -> OK | I6: 20 | J6: 42 | K6: 10 | L6: 0 | M6: 3 | N6: 0 | O6: 0 | P6: 0 | Q6: 0 | R6: 0 | S6: 0 | T6: 0
C7: 4 | D7: HOSPEDAGEM (diária) Abaixo de R$ 100,00 | E7: 0.08 | G7: =F7-(SUM(I7:T7)) -> 0 | H7: =IF(G7<0,"ATENÇÃO","OK") -> OK | I7: 0 | J7: 0 | K7: 0 | L7: 0 | M7: 0 | N7: 0 | O7: 0 | P7: 0 | Q7: 0 | R7: 0 | S7: 0 | T7: 0
C8: 5 | D8: ALIMENTAÇÃO Almoço e/ou Jantar (por pessoa) de R$ 100,00 a 51,00 | E8: 0.08 | G8: =F8-(SUM(I8:T8)) -> 0 | H8: =IF(G8<0,"ATENÇÃO","OK") -> OK | I8: 0 | J8: 0 | K8: 0 | L8: 0 | M8: 0 | N8: 0 | O8: 0 | P8: 0 | Q8: 0 | R8: 0 | S8: 0 | T8: 0
C9: 6 | D9: ALIMENTAÇÃO Almoço e/ou Jantar (por pessoa) Abaixo de R$ 50,00 | E9: 0.068 | F9: =110+55 -> 165 | G9: =F9-(SUM(I9:T9)) -> 6 | H9: =IF(G9<0,"ATENÇÃO","OK") -> OK | I9: 40 | J9: 100 | K9: 10 | L9: 3 | M9: 6 | N9: 0 | O9: 0 | P9: 0 | Q9: 0 | R9: 0 | S9: 0 | T9: 0

Sheet CERES
A1: PROCESSO: 0097/2015/UDESC | D1: OBJETO: : CONTRATAÇÃO DE AGÊNCIA DE TURISMO PARA PRESTAÇÃO DE SERVIÇOS RELATIVOS À COTAÇÃO, RESERVA E EMISSÃO DE HOSPEDAGENS EM HOTÉIS E DEMAIS SERVIÇOS NECESSÁRIOS E CORRELATOS À UDESC. | F1: VIGÊNCIA DA ATA 11/05/2015 até 10/05/2016 | I1: AF/OS nº 0844/2015 Qtde. DT | J1: AF/OS nº 1256/2015 Qtde. DT | K1: AF/OS nº 1605/2015 Qtde. DT | L1: AF/OS nº xxxx/2015 Qtde. DT | M1: AF/OS nº xxxx/2015 Qtde. DT | N1: AF/OS nº xxxx/2015 Qtde. DT | O1: AF/OS nº xxxx/2015 Qtde. DT | P1: AF/OS nº xxxx/2015 Qtde. DT | Q1: AF/OS nº xxxx/2015 Qtde. DT | R1: AF/OS nº xxxx/2015 Qtde. DT | S1: AF/OS nº xxxx/2015 Qtde. DT | T1: AF/OS nº xxxx/2015 Qtde. DT
A2: CENTRO PARTICIPANTE: CERES
A3: FORNECEDOR | B3: LOTE | C3: ITEM | D3: PRODUTO - CARACTERÍSTICAS MÍNIMAS | E3: DESCONTO % | F3: Qtde Registrada | G3: Saldo / Automático | H3: ALERTA | I3: 42149 | J3: 42226 | K3: 42255 | L3: ...../...../...... | M3: ...../...../...... | N3: ...../...../...... | O3: ...../...../...... | P3: ...../...../...... | Q3: ...../...../...... | R3: ...../...../...... | S3: ...../...../...... | T3: ...../...../......
A4: Arancíbia Turismo Ltda (MA Travel - Soluções em viagens) | B4: 1 | C4: 1 | D4: HOSPEDAGEM (diária) de R$ 500,00 a 301,00 | E4: 0.085 | G4: =F4-(SUM(I4:T4)) -> 0 | H4: =IF(G4<0,"ATENÇÃO","OK") -> OK | J4: 0 | K4: 0 | L4: 0 | M4: 0 | N4: 0 | O4: 0 | P4: 0 | Q4: 0 | R4: 0 | S4: 0 | T4: 0
C5: 2 | D5: HOSPEDAGEM (diária) de R$ 300,00 a 201,00 | E5: 0.08 | F5: 10 | G5: =F5-(SUM(I5:T5)) -> 10 | H5: =IF(G5<0,"ATENÇÃO","OK") -> OK | I5: 0 | J5: 0 | K5: 0 | L5: 0 | M5: 0 | N5: 0 | O5: 0 | P5: 0 | Q5: 0 | R5: 0 | S5: 0 | T5: 0
C6: 3 | D6: HOSPEDAGEM (diária) de R$ 200,00 a 101,00 | E6: 0.077 | F6: 50 | G6: =F6-(SUM(I6:T6)) -> 7 | H6: =IF(G6<0,"ATENÇÃO","OK") -> OK | I6: 20 | J6: 13 | K6: 10 | L6: 0 | M6: 0 | N6: 0 | O6: 0 | P6: 0 | Q6: 0 | R6: 0 | S6: 0 | T6: 0
C7: 4 | D7: HOSPEDAGEM (diária) Abaixo de R$ 100,00 | E7: 0.08 | F7: 5 | G7: =F7-(SUM(I7:T7)) -> 5 | H7: =IF(G7<0,"ATENÇÃO","OK") -> OK | I7: 0 | J7: 0 | K7: 0 | L7: 0 | M7: 0 | N7: 0 | O7: 0 | P7: 0 | Q7: 0 | R7: 0 | S7: 0 | T7: 0
C8: 5 | D8: ALIMENTAÇÃO Almoço e/ou Jantar (por pessoa) de R$ 100,00 a 51,00 | E8: 0.08 | F8: 18 | G8: =F8-(SUM(I8:T8)) -> 18 | H8: =IF(G8<0,"ATENÇÃO","OK") -> OK | I8: 0 | J8: 0 | K8: 0 | L8: 0 | M8: 0 | N8: 0 | O8: 0 | P8: 0 | Q8: 0 | R8: 0 | S8: 0 | T8: 0
C9: 6 | D9: ALIMENTAÇÃO Almoço e/ou Jantar (por pessoa) Abaixo de R$ 50,00 | E9: 0.068 | F9: =113-24 -> 89 | G9: =F9-(SUM(I9:T9)) -> 33 | H9: =IF(G9<0,"ATENÇÃO","OK") -> OK | I9: 35 | J9: 21 | K9: 0 | L9: 0 | M9: 0 | N9: 0 | O9: 0 | P9: 0 | Q9: 0 | R9: 0 | S9: 0 | T9: 0

Sheet CESFI
A1: PROCESSO: 0097/2015/UDESC | D1: OBJETO: : CONTRATAÇÃO DE AGÊNCIA DE TURISMO PARA PRESTAÇÃO DE SERVIÇOS RELATIVOS À COTAÇÃO, RESERVA E EMISSÃO DE HOSPEDAGENS EM HOTÉIS E DEMAIS SERVIÇOS NECESSÁRIOS E CORRELATOS À UDESC. | F1: VIGÊNCIA DA ATA 11/05/2015 até 10/05/2016 | I1: AF/OS nº 1090/2015 Qtde. DT | J1: AF/OS nº 1149/2015 Qtde. DT | K1: AF/OS nº 1649/2015 Qtde. DT | L1: AF/OS nº xxxx/2015 Qtde. DT | M1: AF/OS nº xxxx/2015 Qtde. DT | N1: AF/OS nº xxxx/2015 Qtde. DT | O1: AF/OS nº xxxx/2015 Qtde. DT | P1: AF/OS nº xxxx/2015 Qtde. DT | Q1: AF/OS nº xxxx/2015 Qtde. DT | R1: AF/OS nº xxxx/2015 Qtde. DT | S1: AF/OS nº xxxx/2015 Qtde. DT | T1: AF/OS nº xxxx/2015 Qtde. DT
A2: CENTRO PARTICIPANTE: CESFI
A3: FORNECEDOR | B3: LOTE | C3: ITEM | D3: PRODUTO - CARACTERÍSTICAS MÍNIMAS | E3: DESCONTO % | F3: Qtde Registrada | G3: Saldo / Automático | H3: ALERTA | I3: 42185 | J3: 42192 | K3: 42262 | L3: ...../...../...... | M3: ...../...../...... | N3: ...../...../...... | O3: ...../...../...... | P3: ...../...../...... | Q3: ...../...../...... | R3: ...../...../...... | S3: ...../...../...... | T3: ...../...../......
A4: Arancíbia Turismo Ltda (MA Travel - Soluções em viagens) | B4: 1 | C4: 1 | D4: HOSPEDAGEM (diária) de R$ 500,00 a 301,00 | E4: 0.085 | F4: 5 | G4: =F4-(SUM(I4:T4)) -> 5 | H4: =IF(G4<0,"ATENÇÃO","OK") -> OK | J4: 0 | K4: 0 | L4: 0 | M4: 0 | N4: 0 | O4: 0 | P4: 0 | Q4: 0 | R4: 0 | S4: 0 | T4: 0
C5: 2 | D5: HOSPEDAGEM (diária) de R$ 300,00 a 201,00 | E5: 0.08 | F5: 5 | G5: =F5-(SUM(I5:T5)) -> 5 | H5: =IF(G5<0,"ATENÇÃO","OK") -> OK | I5: 0 | J5: 0 | K5: 0 | L5: 0 | M5: 0 | N5: 0 | O5: 0 | P5: 0 | Q5: 0 | R5: 0 | S5: 0 | T5: 0
C6: 3 | D6: HOSPEDAGEM (diária) de R$ 200,00 a 101,00 | E6: 0.077 | F6: =30+15+15 -> 60 | G6: =F6-(SUM(I6:T6)) -> 0 | H6: =IF(G6<0,"ATENÇÃO","OK") -> OK | I6: 30 | J6: 30 | K6: 0 | L6: 0 | M6: 0 | N6: 0 | O6: 0 | P6: 0 | Q6: 0 | R6: 0 | S6: 0 | T6: 0
C7: 4 | D7: HOSPEDAGEM (diária) Abaixo de R$ 100,00 | E7: 0.08 | F7: =19+5 -> 24 | G7: =F7-(SUM(I7:T7)) -> 0 | H7: =IF(G7<0,"ATENÇÃO","OK") -> OK | I7: 0 | J7: 0 | K7: 24 | L7: 0 | M7: 0 | N7: 0 | O7: 0 | P7: 0 | Q7: 0 | R7: 0 | S7: 0 | T7: 0
C8: 5 | D8: ALIMENTAÇÃO Almoço e/ou Jantar (por pessoa) de R$ 100,00 a 51,00 | E8: 0.08 | F8: 10 | G8: =F8-(SUM(I8:T8)) -> 10 | H8: =IF(G8<0,"ATENÇÃO","OK") -> OK | I8: 0 | J8: 0 | K8: 0 | L8: 0 | M8: 0 | N8: 0 | O8: 0 | P8: 0 | Q8: 0 | R8: 0 | S8: 0 | T8: 0
C9: 6 | D9: ALIMENTAÇÃO Almoço e/ou Jantar (por pessoa) Abaixo de R$ 50,00 | E9: 0.068 | F9: =70+60 -> 130 | G9: =F9-(SUM(I9:T9)) -> 0 | H9: =IF(G9<0,"ATENÇÃO","OK") -> OK | I9: 70 | J9: 60 | K9: 0 | L9: 0 | M9: 0 | N9: 0 | O9: 0 | P9: 0 | Q9: 0 | R9: 0 | S9: 0 | T9: 0

Sheet CCT
A1: PROCESSO: 0097/2015/UDESC | D1: OBJETO: : CONTRATAÇÃO DE AGÊNCIA DE TURISMO PARA PRESTAÇÃO DE SERVIÇOS RELATIVOS À COTAÇÃO, RESERVA E EMISSÃO DE HOSPEDAGENS EM HOTÉIS E DEMAIS SERVIÇOS NECESSÁRIOS E CORRELATOS À UDESC. | F1: VIGÊNCIA DA ATA 11/05/2015 até 10/05/2016 | I1: AF/OS nº 930/2015 Qtde. DT | J1: AF/OS nº 1059/2015 Qtde. DT | K1: AF/OS nº 1527/2015 Qtde. DT | L1: AF/OS nº 1982/2015 Qtde. DT | M1: AF/OS nº xxxx/2015 Qtde. DT | N1: AF/OS nº xxxx/2015 Qtde. DT | O1: AF/OS nº xxxx/2015 Qtde. DT | P1: AF/OS nº xxxx/2015 Qtde. DT | Q1: AF/OS nº xxxx/2015 Qtde. DT | R1: AF/OS nº xxxx/2015 Qtde. DT | S1: AF/OS nº xxxx/2015 Qtde. DT
A2: CENTRO PARTICIPANTE: CCT
A3: FORNECEDOR | B3: LOTE | C3: ITEM | D3: PRODUTO - CARACTERÍSTICAS MÍNIMAS | E3: DESCONTO % | F3: Qtde Registrada | G3: Saldo / Automático | H3: ALERTA | I3: 42165 | J3: 42181 | K3: 42243 | L3: 42298 | M3: ...../...../...... | N3: ...../...../...... | O3: ...../...../...... | P3: ...../...../...... | Q3: ...../...../...... | R3: ...../...../...... | S3: ...../...../......
A4: Arancíbia Turismo Ltda (MA Travel - Soluções em viagens) | B4: 1 | C4: 1 | D4: HOSPEDAGEM (diária) de R$ 500,00 a 301,00 | E4: 0.085 | F4: 5 | G4: =F4-(SUM(I4:S4)) -> 5 | H4: =IF(G4<0,"ATENÇÃO","OK") -> OK | K4: 0 | L4: 0 | M4: 0 | N4: 0 | O4: 0 | P4: 0 | Q4: 0 | R4: 0 | S4: 0
C5: 2 | D5: HOSPEDAGEM (diária) de R$ 300,00 a 201,00 | E5: 0.08 | F5: =25+20+2 -> 47 | G5: =F5-(SUM(I5:S5)) -> 20 | H5: =IF(G5<0,"ATENÇÃO","OK") -> OK | I5: 4 | J5: 10 | K5: 11 | L5: =5-3 -> 2 | M5: 0 | N5: 0 | O5: 0 | P5: 0 | Q5: 0 | R5: 0 | S5: 0
C6: 3 | D6: HOSPEDAGEM (diária) de R$ 200,00 a 101,00 | E6: 0.077 | F6: 50 | G6: =F6-(SUM(I6:S6)) -> 8 | H6: =IF(G6<0,"ATENÇÃO","OK") -> OK | I6: 0 | J6: 10 | K6: 20 | L6: =20-8 -> 12 | M6: 0 | N6: 0 | O6: 0 | P6: 0 | Q6: 0 | R6: 0 | S6: 0
C7: 4 | D7: HOSPEDAGEM (diária) Abaixo de R$ 100,00 | E7: 0.08 | F7: 50 | G7: =F7-(SUM(I7:S7)) -> 40 | H7: =IF(G7<0,"ATENÇÃO","OK") -> OK | I7: 0 | J7: 0 | K7: 10 | L7: 0 | M7: 0 | N7: 0 | O7: 0 | P7: 0 | Q7: 0 | R7: 0 | S7: 0
C8: 5 | D8: ALIMENTAÇÃO Almoço e/ou Jantar (por pessoa) de R$ 100,00 a 51,00 | E8: 0.08 | F8: 10 | G8: =F8-(SUM(I8:S8)) -> 10 | H8: =IF(G8<0,"ATENÇÃO","OK") -> OK | I8: 0 | J8: 0 | K8: 0 | L8: 0 | M8: 0 | N8: 0 | O8: 0 | P8: 0 | Q8: 0 | R8: 0 | S8: 0
C9: 6 | D9: ALIMENTAÇÃO Almoço e/ou Jantar (por pessoa) Abaixo de R$ 50,00 | E9: 0.068 | F9: 25 | G9: =F9-(SUM(I9:S9)) -> 25 | H9: =IF(G9<0,"ATENÇÃO","OK") -> OK | I9: 0 | J9: 0 | K9: 0 | L9: 0 | M9: 0 | N9: 0 | O9: 0 | P9: 0 | Q9: 0 | R9: 0 | S9: 0

Sheet CEO
A1: PROCESSO: 0097/2015/UDESC | D1: OBJETO: : CONTRATAÇÃO DE AGÊNCIA DE TURISMO PARA PRESTAÇÃO DE SERVIÇOS RELATIVOS À COTAÇÃO, RESERVA E EMISSÃO DE HOSPEDAGENS EM HOTÉIS E DEMAIS SERVIÇOS NECESSÁRIOS E CORRELATOS À UDESC. | F1: VIGÊNCIA DA ATA 11/05/2015 até 10/05/2016 | I1: AF/OS nº 1032/2015 Qtde. DT | J1: AF/OS nº 2019/2015 Qtde. DT | K1: AF/OS nº 2039/2015 Qtde. DT | L1: AF/OS nº 2052/2015 Qtde. DT | M1: AF/OS nº 2080/2015 Qtde. DT | N1: AF/OS nº 2236/2015 Qtde. DT | O1: AF/OS nº xxxx/2015 Qtde. DT | P1: AF/OS nº xxxx/2015 Qtde. DT | Q1: AF/OS nº xxxx/2015 Qtde. DT | R1: AF/OS nº xxxx/2015 Qtde. DT | S1: AF/OS nº xxxx/2015 Qtde. DT | T1: AF/OS nº xxxx/2015 Qtde. DT
A2: CENTRO PARTICIPANTE: CEO
A3: FORNECEDOR | B3: LOTE | C3: ITEM | D3: PRODUTO - CARACTERÍSTICAS MÍNIMAS | E3: DESCONTO % | F3: Qtde Registrada | G3: Saldo / Automático | H3: ALERTA | I3: 42184 | J3: 04/11/205 | K3: 42312 | L3: 42312 | M3: 42313 | N3: 42340 | O3: ...../...../...... | P3: ...../...../...... | Q3: ...../...../...... | R3: ...../...../...... | S3: ...../...../...... | T3: ...../...../......
A4: Arancíbia Turismo Ltda (MA Travel - Soluções em viagens) | B4: 1 | C4: 1 | D4: HOSPEDAGEM (diária) de R$ 500,00 a 301,00 | E4: 0.085 | F4: 3 | G4: =F4-(SUM(I4:T4)) -> 3 | H4: =IF(G4<0,"ATENÇÃO","OK") -> OK | J4: 0 | K4: 0 | L4: 0 | M4: 0 | N4: 0 | O4: 0 | P4: 0 | Q4: 0 | R4: 0 | S4: 0 | T4: 0
C5: 2 | D5: HOSPEDAGEM (diária) de R$ 300,00 a 201,00 | E5: 0.08 | F5: 5 | G5: =F5-(SUM(I5:T5)) -> 1 | H5: =IF(G5<0,"ATENÇÃO","OK") -> OK | I5: 0 | J5: 2 | K5: 2 | L5: 0 | M5: 0 | N5: 0 | O5: 0 | P5: 0 | Q5: 0 | R5: 0 | S5: 0 | T5: 0
C6: 3 | D6: HOSPEDAGEM (diária) de R$ 200,00 a 101,00 | E6: 0.077 | F6: =20+15+5+30 -> 70 | G6: =F6-(SUM(I6:T6)) -> 6 | H6: =IF(G6<0,"ATENÇÃO","OK") -> OK | I6: 16 | J6: 1 | K6: 0 | L6: 21 | M6: =32-6 -> 26 | N6: 0 | O6: 0 | P6: 0 | Q6: 0 | R6: 0 | S6: 0 | T6: 0
C7: 4 | D7: HOSPEDAGEM (diária) Abaixo de R$ 100,00 | E7: 0.08 | G7: =F7-(SUM(I7:T7)) -> 0 | H7: =IF(G7<0,"ATENÇÃO","OK") -> OK | I7: 0 | J7: 0 | K7: 0 | L7: 0 | M7: 0 | N7: 0 | O7: 0 | P7: 0 | Q7: 0 | R7: 0 | S7: 0 | T7: 0
C8: 5 | D8: ALIMENTAÇÃO Almoço e/ou Jantar (por pessoa) de R$ 100,00 a 51,00 | E8: 0.08 | F8: 20 | G8: =F8-(SUM(I8:T8)) -> 5 | H8: =IF(G8<0,"ATENÇÃO","OK") -> OK | I8: 0 | J8: 0 | K8: 0 | L8: 0 | M8: 0 | N8: 15 | O8: 0 | P8: 0 | Q8: 0 | R8: 0 | S8: 0 | T8: 0
C9: 6 | D9: ALIMENTAÇÃO Almoço e/ou Jantar (por pessoa) Abaixo de R$ 50,00 | E9: 0.068 | F9: 8 | G9: =F9-(SUM(I9:T9)) -> 8 | H9: =IF(G9<0,"ATENÇÃO","OK") -> OK | I9: 0 | J9: 0 | K9: 0 | L9: 0 | M9: 0 | N9: 0 | O9: 0 | P9: 0 | Q9: 0 | R9: 0 | S9: 0 | T9: 0
B10: Lote 1 | C10: 3 | D10: QUANTITATIVO CEDIDO PARA O CEO: 15 diárias cedidas pela Reitoria/CAD conforme e-mail em 14/10/2015. 05 diárias cedidas pelo CEPLAN conforme e-mail em 20/10/2015
B12: Lote 1 | C12: 3 | D12: QUANTITATIVO CEDIDO PARA O CEO: 30 diárias cedidas pela Reitoria/CAD conforme e-mail em 04/11/2015.
B14: 1º TERMO ADITIVO DE SUPRESSÃO - ORDEM DE SERVIÇO 2080/2015- RETORNO PARA SALDO DA ATA DO QUANTITATIVO DE 6 DIÁRIAS REFERENTE LOTE 1 - ITEM 03 - TERMO ADITIVO ASSINADO EM 18/12/2015- PUBLICADO DOE E SICON EM 03/02/2016

Sheet CEAVI
A1: PROCESSO: 0097/2015/UDESC | D1: OBJETO: : CONTRATAÇÃO DE AGÊNCIA DE TURISMO PARA PRESTAÇÃO DE SERVIÇOS RELATIVOS À COTAÇÃO, RESERVA E EMISSÃO DE HOSPEDAGENS EM HOTÉIS E DEMAIS SERVIÇOS NECESSÁRIOS E CORRELATOS À UDESC. | F1: VIGÊNCIA DA ATA 11/05/2015 até 10/05/2016 | I1: AF/OS nº 843/2015 Qtde. DT | J1: AF/OS nº 924/2015 Qtde. DT | K1: AF/OS nº xxxx/2015 Qtde. DT | L1: AF/OS nº xxxx/2015 Qtde. DT | M1: AF/OS nº xxxx/2015 Qtde. DT | N1: AF/OS nº xxxx/2015 Qtde. DT | O1: AF/OS nº xxxx/2015 Qtde. DT | P1: AF/OS nº xxxx/2015 Qtde. DT | Q1: AF/OS nº xxxx/2015 Qtde. DT | R1: AF/OS nº xxxx/2015 Qtde. DT | S1: AF/OS nº xxxx/2015 Qtde. DT | T1: AF/OS nº xxxx/2015 Qtde. DT
A2: CENTRO PARTICIPANTE: CEAVI
A3: FORNECEDOR | B3: LOTE | C3: ITEM | D3: PRODUTO - CARACTERÍSTICAS MÍNIMAS | E3: DESCONTO % | F3: Qtde Registrada | G3: Saldo / Automático | H3: ALERTA | I3: 42152 | J3: 11/06/2015. | K3: ...../...../...... | L3: ...../...../...... | M3: ...../...../...... | N3: ...../...../...... | O3: ...../...../...... | P3: ...../...../...... | Q3: ...../...../...... | R3: ...../...../...... | S3: ...../...../...... | T3: ...../...../......
A4: Arancíbia Turismo Ltda (MA Travel - Soluções em viagens) | B4: 1 | C4: 1 | D4: HOSPEDAGEM (diária) de R$ 500,00 a 301,00 | E4: 0.085 | F4: 10 | G4: =F4-(SUM(I4:T4)) -> 10 | H4: =IF(G4<0,"ATENÇÃO","OK") -> OK | J4: 0 | K4: 0 | L4: 0 | M4: 0 | N4: 0 | O4: 0 | P4: 0 | Q4: 0 | R4: 0 | S4: 0 | T4: 0
C5: 2 | D5: HOSPEDAGEM (diária) de R$ 300,00 a 201,00 | E5: 0.08 | F5: 15 | G5: =F5-(SUM(I5:T5)) -> 11 | H5: =IF(G5<0,"ATENÇÃO","OK") -> OK | I5: 0 | J5: 4 | K5: 0 | L5: 0 | M5: 0 | N5: 0 | O5: 0 | P5: 0 | Q5: 0 | R5: 0 | S5: 0 | T5: 0
C6: 3 | D6: HOSPEDAGEM (diária) de R$ 200,00 a 101,00 | E6: 0.077 | F6: 25 | G6: =F6-(SUM(I6:T6)) -> 19 | H6: =IF(G6<0,"ATENÇÃO","OK") -> OK | I6: 2 | J6: 4 | K6: 0 | L6: 0 | M6: 0 | N6: 0 | O6: 0 | P6: 0 | Q6: 0 | R6: 0 | S6: 0 | T6: 0
C7: 4 | D7: HOSPEDAGEM (diária) Abaixo de R$ 100,00 | E7: 0.08 | F7: 15 | G7: =F7-(SUM(I7:T7)) -> 15 | H7: =IF(G7<0,"ATENÇÃO","OK") -> OK | I7: 0 | J7: 0 | K7: 0 | L7: 0 | M7: 0 | N7: 0 | O7: 0 | P7: 0 | Q7: 0 | R7: 0 | S7: 0 | T7: 0
C8: 5 | D8: ALIMENTAÇÃO Almoço e/ou Jantar (por pessoa) de R$ 100,00 a 51,00 | E8: 0.08 | F8: 15 | G8: =F8-(SUM(I8:T8)) -> 15 | H8: =IF(G8<0,"ATENÇÃO","OK") -> OK | I8: 0 | J8: 0 | K8: 0 | L8: 0 | M8: 0 | N8: 0 | O8: 0 | P8: 0 | Q8: 0 | R8: 0 | S8: 0 | T8: 0
C9: 6 | D9: ALIMENTAÇÃO Almoço e/ou Jantar (por pessoa) Abaixo de R$ 50,00 | E9: 0.068 | F9: 15 | G9: =F9-(SUM(I9:T9)) -> 15 | H9: =IF(G9<0,"ATENÇÃO","OK") -> OK | I9: 0 | J9: 0 | K9: 0 | L9: 0 | M9: 0 | N9: 0 | O9: 0 | P9: 0 | Q9: 0 | R9: 0 | S9: 0 | T9: 0

Sheet CEPLAN
A1: PROCESSO: 0097/2015/UDESC | D1: OBJETO: : CONTRATAÇÃO DE AGÊNCIA DE TURISMO PARA PRESTAÇÃO DE SERVIÇOS RELATIVOS À COTAÇÃO, RESERVA E EMISSÃO DE HOSPEDAGENS EM HOTÉIS E DEMAIS SERVIÇOS NECESSÁRIOS E CORRELATOS À UDESC. | F1: VIGÊNCIA DA ATA 11/05/2015 até 10/05/2016 | I1: AF/OS nº 1888/2015 Qtde. DT | J1: AF/OS nº xxxx/2015 Qtde. DT | K1: AF/OS nº xxxx/2015 Qtde. DT | L1: AF/OS nº xxxx/2015 Qtde. DT | M1: AF/OS nº xxxx/2015 Qtde. DT | N1: AF/OS nº xxxx/2015 Qtde. DT | O1: AF/OS nº xxxx/2015 Qtde. DT | P1: AF/OS nº xxxx/2015 Qtde. DT | Q1: AF/OS nº xxxx/2015 Qtde. DT | R1: AF/OS nº xxxx/2015 Qtde. DT | S1: AF/OS nº xxxx/2015 Qtde. DT | T1: AF/OS nº xxxx/2015 Qtde. DT
A2: CENTRO PARTICIPANTE: CEPLAN
A3: FORNECEDOR | B3: LOTE | C3: ITEM | D3: PRODUTO - CARACTERÍSTICAS MÍNIMAS | E3: DESCONTO % | F3: Qtde Registrada | G3: Saldo / Automático | H3: ALERTA | I3: ...../...../...... | J3: ...../...../...... | K3: ...../...../...... | L3: ...../...../...... | M3: ...../...../...... | N3: ...../...../...... | O3: ...../...../...... | P3: ...../...../...... | Q3: ...../...../...... | R3: ...../...../...... | S3: ...../...../...... | T3: ...../...../......
A4: Arancíbia Turismo Ltda (MA Travel - Soluções em viagens) | B4: 1 | C4: 1 | D4: HOSPEDAGEM (diária) de R$ 500,00 a 301,00 | E4: 0.085 | G4: =F4-(SUM(I4:T4)) -> 0 | H4: =IF(G4<0,"ATENÇÃO","OK") -> OK | J4: 0 | K4: 0 | L4: 0 | M4: 0 | N4: 0 | O4: 0 | P4: 0 | Q4: 0 | R4: 0 | S4: 0 | T4: 0
C5: 2 | D5: HOSPEDAGEM (diária) de R$ 300,00 a 201,00 | E5: 0.08 | F5: =5-2 -> 3 | G5: =F5-(SUM(I5:T5)) -> 3 | H5: =IF(G5<0,"ATENÇÃO","OK") -> OK | I5: 0 | J5: 0 | K5: 0 | L5: 0 | M5: 0 | N5: 0 | O5: 0 | P5: 0 | Q5: 0 | R5: 0 | S5: 0 | T5: 0
C6: 3 | D6: HOSPEDAGEM (diária) de R$ 200,00 a 101,00 | E6: 0.077 | F6: =15-5 -> 10 | G6: =F6-(SUM(I6:T6)) -> 9 | H6: =IF(G6<0,"ATENÇÃO","OK") -> OK | I6: 1 | J6: 0 | K6: 0 | L6: 0 | M6: 0 | N6: 0 | O6: 0 | P6: 0 | Q6: 0 | R6: 0 | S6: 0 | T6: 0
C7: 4 | D7: HOSPEDAGEM (diária) Abaixo de R$ 100,00 | E7: 0.08 | G7: =F7-(SUM(I7:T7)) -> 0 | H7: =IF(G7<0,"ATENÇÃO","OK") -> OK | I7: 0 | J7: 0 | K7: 0 | L7: 0 | M7: 0 | N7: 0 | O7: 0 | P7: 0 | Q7: 0 | R7: 0 | S7: 0 | T7: 0
C8: 5 | D8: ALIMENTAÇÃO Almoço e/ou Jantar (por pessoa) de R$ 100,00 a 51,00 | E8: 0.08 | G8: =F8-(SUM(I8:T8)) -> 0 | H8: =IF(G8<0,"ATENÇÃO","OK") -> OK | I8: 0 | J8: 0 | K8: 0 | L8: 0 | M8: 0 | N8: 0 | O8: 0 | P8: 0 | Q8: 0 | R8: 0 | S8: 0 | T8: 0
C9: 6 | D9: ALIMENTAÇÃO Almoço e/ou Jantar (por pessoa) Abaixo de R$ 50,00 | E9: 0.068 | F9: =50-20-15 -> 15 | G9: =F9-(SUM(I9:T9)) -> 15 | H9: =IF(G9<0,"ATENÇÃO","OK") -> OK | I9: 0 | J9: 0 | K9: 0 | L9: 0 | M9: 0 | N9: 0 | O9: 0 | P9: 0 | Q9: 0 | R9: 0 | S9: 0 | T9: 0

Sheet GESTOR
A1: PROCESSO: 0097/2015/UDESC | D1: OBJETO: : CONTRATAÇÃO DE AGÊNCIA DE TURISMO PARA PRESTAÇÃO DE SERVIÇOS RELATIVOS À COTAÇÃO, RESERVA E EMISSÃO DE HOSPEDAGENS EM HOTÉIS E DEMAIS SERVIÇOS NECESSÁRIOS E CORRELATOS À UDESC. | F1: VIGÊNCIA DA ATA 11/05/2015 até 10/05/2016 | I1: 1º ADITIVO
A2: FORNECEDOR | B2: LOTE | C2: ITEM | D2: PRODUTO - CARACTERÍSTICAS MÍNIMAS | E2: DESCONTO % | F2: QTT REGISTRADA | G2: QTT UTILIZADA | H2: SALDO | I2: QTT | J2: PERCENT %
A3: Arancíbia Turismo Ltda (MA Travel - Soluções em viagens) | B3: 1 | C3: 1 | D3: HOSPEDAGEM (diária) de R$ 500,00 a 301,00 | E3: 0.085 | F3: =SUM('Reit-PROAD'!F4,'Reit-PROEN'!F4,'Reit-PROEX'!F4,Museu!F4,ESAG!F4,CEART!F4,FAED!F4,CEAD!F4,CEFID!F4,CERES!F4,CESFI!F4,CCT!F4,CEO!F4,CEAVI!F4,CEPLAN!F4) -> 48 | G3: =SUM(('Reit-PROAD'!F4-'Reit-PROAD'!G4),('Reit-PROEN'!F4-'Reit-PROEN'!G4),('Reit-PROEX'!F4-'Reit-PROEX'!G4),(Museu!F4-Museu!G4),(ESAG!F4-ESAG!G4),(CEART!F4-CEART!G4),(FAED!F4-FAED!G4),(CEAD!F4-CEAD!G4),(CEFID!F4-CEFID!G4),(CERES!F4-CERES!G4),(CESFI!F4-CESFI!G4),(CCT!F4-CCT!G4),(CEO!F4-CEO!G4),(CEAVI!F4-CEAVI!G4),(CEPLAN!F4-CEPLAN!G4)) -> 0 | H3: =F3-G3 -> 48
C4: 2 | D4: HOSPEDAGEM (diária) de R$ 300,00 a 201,00 | E4: 0.08 | F4: =SUM('Reit-PROAD'!F5,'Reit-PROEN'!F5,'Reit-PROEX'!F5,Museu!F5,ESAG!F5,CEART!F5,FAED!F5,CEAD!F5,CEFID!F5,CERES!F5,CESFI!F5,CCT!F5,CEO!F5,CEAVI!F5,CEPLAN!F5) -> 406 | G4: =SUM(('Reit-PROAD'!F5-'Reit-PROAD'!G5),('Reit-PROEN'!F5-'Reit-PROEN'!G5),('Reit-PROEX'!F5-'Reit-PROEX'!G5),(Museu!F5-Museu!G5),(ESAG!F5-ESAG!G5),(CEART!F5-CEART!G5),(FAED!F5-FAED!G5),(CEAD!F5-CEAD!G5),(CEFID!F5-CEFID!G5),(CERES!F5-CERES!G5),(CESFI!F5-CESFI!G5),(CCT!F5-CCT!G5),(CEO!F5-CEO!G5),(CEAVI!F5-CEAVI!G5),(CEPLAN!F5-CEPLAN!G5)) -> 196 | H4: =F4-G4 -> 210
C5: 3 | D5: HOSPEDAGEM (diária) de R$ 200,00 a 101,00 | E5: 0.077 | F5: =SUM('Reit-PROAD'!F6,'Reit-PROEN'!F6,'Reit-PROEX'!F6,Museu!F6,ESAG!F6,CEART!F6,FAED!F6,CEAD!F6,CEFID!F6,CERES!F6,CESFI!F6,CCT!F6,CEO!F6,CEAVI!F6,CEPLAN!F6) -> 1344 | G5: =SUM(('Reit-PROAD'!F6-'Reit-PROAD'!G6),('Reit-PROEN'!F6-'Reit-PROEN'!G6),('Reit-PROEX'!F6-'Reit-PROEX'!G6),(Museu!F6-Museu!G6),(ESAG!F6-ESAG!G6),(CEART!F6-CEART!G6),(FAED!F6-FAED!G6),(CEAD!F6-CEAD!G6),(CEFID!F6-CEFID!G6),(CERES!F6-CERES!G6),(CESFI!F6-CESFI!G6),(CCT!F6-CCT!G6),(CEO!F6-CEO!G6),(CEAVI!F6-CEAVI!G6),(CEPLAN!F6-CEPLAN!G6)) -> 780 | H5: =F5-G5 -> 564 | I5: 269 | J5: =(I5*100)/1075 -> 25.023256
C6: 4 | D6: HOSPEDAGEM (diária) Abaixo de R$ 100,00 | E6: 0.08 | F6: =SUM('Reit-PROAD'!F7,'Reit-PROEN'!F7,'Reit-PROEX'!F7,Museu!F7,ESAG!F7,CEART!F7,FAED!F7,CEAD!F7,CEFID!F7,CERES!F7,CESFI!F7,CCT!F7,CEO!F7,CEAVI!F7,CEPLAN!F7) -> 170 | G6: =SUM(('Reit-PROAD'!F7-'Reit-PROAD'!G7),('Reit-PROEN'!F7-'Reit-PROEN'!G7),('Reit-PROEX'!F7-'Reit-PROEX'!G7),(Museu!F7-Museu!G7),(ESAG!F7-ESAG!G7),(CEART!F7-CEART!G7),(FAED!F7-FAED!G7),(CEAD!F7-CEAD!G7),(CEFID!F7-CEFID!G7),(CERES!F7-CERES!G7),(CESFI!F7-CESFI!G7),(CCT!F7-CCT!G7),(CEO!F7-CEO!G7),(CEAVI!F7-CEAVI!G7),(CEPLAN!F7-CEPLAN!G7)) -> 54 | H6: =F6-G6 -> 116
C7: 5 | D7: ALIMENTAÇÃO Almoço e/ou Jantar (por pessoa) de R$ 100,00 a 51,00 | E7: 0.08 | F7: =SUM('Reit-PROAD'!F8,'Reit-PROEN'!F8,'Reit-PROEX'!F8,Museu!F8,ESAG!F8,CEART!F8,FAED!F8,CEAD!F8,CEFID!F8,CERES!F8,CESFI!F8,CCT!F8,CEO!F8,CEAVI!F8,CEPLAN!F8) -> 559 | G7: =SUM(('Reit-PROAD'!F8-'Reit-PROAD'!G8),('Reit-PROEN'!F8-'Reit-PROEN'!G8),('Reit-PROEX'!F8-'Reit-PROEX'!G8),(Museu!F8-Museu!G8),(ESAG!F8-ESAG!G8),(CEART!F8-CEART!G8),(FAED!F8-FAED!G8),(CEAD!F8-CEAD!G8),(CEFID!F8-CEFID!G8),(CERES!F8-CERES!G8),(CESFI!F8-CESFI!G8),(CCT!F8-CCT!G8),(CEO!F8-CEO!G8),(CEAVI!F8-CEAVI!G8),(CEPLAN!F8-CEPLAN!G8)) -> 266 | H7: =F7-G7 -> 293
C8: 6 | D8: ALIMENTAÇÃO Almoço e/ou Jantar (por pessoa) Abaixo de R$ 50,00 | E8: 0.068 | F8: =SUM('Reit-PROAD'!F9,'Reit-PROEN'!F9,'Reit-PROEX'!F9,Museu!F9,ESAG!F9,CEART!F9,FAED!F9,CEAD!F9,CEFID!F9,CERES!F9,CESFI!F9,CCT!F9,CEO!F9,CEAVI!F9,CEPLAN!F9) -> 1783 | G8: =SUM(('Reit-PROAD'!F9-'Reit-PROAD'!G9),('Reit-PROEN'!F9-'Reit-PROEN'!G9),('Reit-PROEX'!F9-'Reit-PROEX'!G9),(Museu!F9-Museu!G9),(ESAG!F9-ESAG!G9),(CEART!F9-CEART!G9),(FAED!F9-FAED!G9),(CEAD!F9-CEAD!G9),(CEFID!F9-CEFID!G9),(CERES!F9-CERES!G9),(CESFI!F9-CESFI!G9),(CCT!F9-CCT!G9),(CEO!F9-CEO!G9),(CEAVI!F9-CEAVI!G9),(CEPLAN!F9-CEPLAN!G9)) -> 1524 | H8: =F8-G8 -> 259 | I8: 357 | J8: =(I8*100)/1426 -> 25.035063

Sheet Modelo Anexo II IN 002_2014
A1: ANEXO II – Instrução Normativa n.º 002/2014
A3: DECLARAÇÃO DE DISPONIBILIDADE DE QUANTITATIVO PARA EMISSÃO DE AUTORIZAÇÃO DE FORNECIMENTO/ORDEM DE SERVIÇO – SISTEMA DE REGISTRO DE PREÇOS/UDESC
A5: Processo CPA n.º XXXX/2014
A6: Pregão n.º XXXX/2014
A7: Objeto:
A8: Vigência da Ata de Registro de Preços: XX/XX/XXXX até XX/XX/XXXXX
A10: Declaro que o Centro XXXXXXX, participante da Ata de Registro de Preços proveniente do Pregão n.º XXXX/2014, possui saldo em seu quantitativo para a emissão da Autorização de Fornecimento/Ordem de Serviço n.º XXXX/2014, no valor de R$ X.XXX,XX, a ser firmada com a empresa XXXXXXX, restando ainda em sua cota para próximas contratações com o referido fornecedor os seguintes quantitativos:
A12: Lote | B12: Item | C12: Descrição Resumida | D12: Unidade | E12: Valor Unitário (R$) | F12: Saldo Quantitativo (antes da emissão desta AF/OS) | G12: Quantitativo da AF/OS | H12: Saldo Atualizado
A19: __________________, ____/_____/____
A20: Cidade Data
A24: _____________________________________________
A25: Diretor(a) de Administração
A26: (carimbo e assinatura)
