Workbook
Name diasuteis: #REF!
Name diasuteis: #REF!
Name diasuteis: #REF!
Name diasuteis: #REF!
Name diasuteis: #REF!
Name diasuteis: #REF!
Name diasuteis: #REF!
Name diasuteis: #REF!
Name diasuteis: #REF!
Name diasuteis: #REF!
Name diasuteis: #REF!
Name diasuteis: #REF!
Name diasuteis: #REF!
Name diasuteis: #REF!
Name diasuteis: #REF!
Name Ferias: #REF!
Name Ferias: #REF!
Name Ferias: #REF!
Name Ferias: #REF!
Name Ferias: #REF!
Name Ferias: #REF!
Name Ferias: #REF!
Name Ferias: #REF!
Name Ferias: #REF!
Name RD: OFFSET(#REF!,(MATCH(SMALL(#REF!,ROW()-10),#REF!,0)-1),0)
Name RD: OFFSET(#REF!,(MATCH(SMALL(#REF!,ROW()-10),#REF!,0)-1),0)
Name RD: OFFSET(#REF!,(MATCH(SMALL(#REF!,ROW()-10),#REF!,0)-1),0)
Name RD: OFFSET(#REF!,(MATCH(SMALL(#REF!,ROW()-10),#REF!,0)-1),0)
Name RD: OFFSET(#REF!,(MATCH(SMALL(#REF!,ROW()-10),#REF!,0)-1),0)
Name RD: OFFSET(#REF!,(MATCH(SMALL(#REF!,ROW()-10),#REF!,0)-1),0)
Name RD: OFFSET(#REF!,(MATCH(SMALL(#REF!,ROW()-10),#REF!,0)-1),0)
Name RD: OFFSET(#REF!,(MATCH(SMALL(#REF!,ROW()-10),#REF!,0)-1),0)
Name RD: OFFSET(#REF!,(MATCH(SMALL(#REF!,ROW()-10),#REF!,0)-1),0)

Sheet Reitoria
A1: PROCESSO: 0068/2015/UDESC | D1: OBJETO:AQUISIÇÃO DE MATERIAIS DE CARIMBOS (TODA A UDESC) E CONTRATAÇÃO DE EMPRESA PARA PRESTAÇÃO DE SERVIÇOS DE CHAVEIRO (CAMPUS I, CESFI, CERES, CCT, CEAVI E CEPLAN) | H1: VIGÊNCIA DA ATA 30/04/2015 até 29/04/2016 | K1: AF nº 0928/2015 Qtde. DT | L1: AF nº 0023/2016 Qtde. DT | M1: AF nº 0200/2016 Qtde. DT | N1: AF nº 367/2016 Qtde. DT
A2: CENTRO PARTICIPANTE: REITORIA
A3: FORNECEDOR | B3: LOTE | C3: ITEM | D3: PRODUTO - CARACTERÍSTICAS MÍNIMAS | E3: UNIDADE | F3: DETALHAMENTO | G3: Preço UNITÁRIO (R$) | H3: Qtde Registrada | I3: Saldo / Automático | J3: ALERTA | K3: 42165 | L3: 42390 | M3: 42439 | N3: 42474
A4: Thaline Huyer da Roza ME | B4: 1 - Carimbos Udesc | C4: 1 | D4: Carimbo confeccionado em fotopolymero, com base em madeira, medindo até 6cm² - valor unitário. | E4: Peça | F4: 339030.16 | G4: 8 | H4: 1 | I4: =H4-(SUM(K4:N4)) -> 1 | J4: =IF(I4<0,"ATENÇÃO","OK") -> OK | K4: 0 | L4: 0 | M4: 0 | N4: 0
C5: 2 | D5: Carimbo confeccionado em fotopolymero, com base em madeira, medindo de 6cm² até 10cm² - valor unitário. | E5: Peça | F5: 339030.16 | G5: 10 | H5: 1 | I5: =H5-(SUM(K5:N5)) -> 1 | J5: =IF(I5<0,"ATENÇÃO","OK") -> OK | K5: 0 | L5: 0 | M5: 0 | N5: 0
C6: 3 | D6: Carimbo confeccionado em fotopolymero, com base em madeira, medindo acima de 10cm² até 20cm² - valor unitário. | E6: Peça | F6: 339030.16 | G6: 16 | H6: 1 | I6: =H6-(SUM(K6:N6)) -> 1 | J6: =IF(I6<0,"ATENÇÃO","OK") -> OK | K6: 0 | L6: 0 | M6: 0 | N6: 0
C7: 4 | D7: Carimbo confeccionado em fotopolymero, com base em madeira, medindo acima de 20cm² - valor unitário. | E7: Peça | F7: 339030.16 | G7: 22 | H7: 1 | I7: =H7-(SUM(K7:N7)) -> 1 | J7: =IF(I7<0,"ATENÇÃO","OK") -> OK | K7: 0 | L7: 0 | M7: 0 | N7: 0
C8: 5 | D8: Carimbo confeccionado em fotopolymero, com base em madeira, redondo, medindo até 3cm de diâmetro - valor unitário. | E8: Peça | F8: 339030.16 | G8: 12 | H8: 1 | I8: =H8-(SUM(K8:N8)) -> 1 | J8: =IF(I8<0,"ATENÇÃO","OK") -> OK | K8: 0 | L8: 0 | M8: 0 | N8: 0
C9: 6 | D9: Carimbo automático, auto-entintado, acrílico, resina, retangular, retrátil com mola, refil medindo 10mmX27mm, parte descritiva a ser confeccionada em fotopolymero, com área superior com visão do gravado na parte descritiva - valor unitário. | E9: Peça | F9: 339030.16 | G9: 18 | H9: 15 | I9: =H9-(SUM(K9:N9)) -> 7 | J9: =IF(I9<0,"ATENÇÃO","OK") -> OK | K9: 5 | L9: 3 | M9: 0 | N9: 0
C10: 7 | D10: Carimbo automático, auto-entintado, acrílico, resina, retangular, retrátil com mola, refil medindo 14mmX38mm, parte descritiva a ser confeccionada em fotopolymero, com área superior com visão do gravado na parte descritiva - valor unitário. | E10: Peça | F10: 339030.16 | G10: 23 | H10: 70 | I10: =H10-(SUM(K10:N10)) -> 44 | J10: =IF(I10<0,"ATENÇÃO","OK") -> OK | K10: 15 | L10: 3 | M10: 0 | N10: 8
C11: 8 | D11: Carimbo automático, auto-entintado, acrílico, resina, retangular, retrátil com mola, refil medindo 18mmX47mm, parte descritiva a ser confeccionada em fotopolymero, com área superior com visão do gravado na parte descritiva - valor unitário. | E11: Peça | F11: 339030.16 | G11: 27 | H11: 70 | I11: =H11-(SUM(K11:N11)) -> 34 | J11: =IF(I11<0,"ATENÇÃO","OK") -> OK | K11: 15 | L11: 3 | M11: 0 | N11: 18
C12: 9 | D12: Carimbo automático, auto-entintado, acrílico, resina, retangular, retrátil com mola, refil medindo 23mmX59mm, parte descritiva a ser confeccionada em fotopolymero, com área superior com visão do gravado na parte descritiva - valor unitário. | E12: Peça | F12: 339030.16 | G12: 32 | H12: 20 | I12: =H12-(SUM(K12:N12)) -> 0 | J12: =IF(I12<0,"ATENÇÃO","OK") -> OK | K12: 5 | L12: 3 | M12: 0 | N12: 12
C13: 10 | D13: Carimbo automático, auto-entintado, acrílico, resina, retangular, retrátil com mola, refil medindo 30mmX69mm, parte descritiva a ser confeccionada em fotopolymero, com área superior com visão do gravado na parte descritiva - valor unitário. | E13: Peça | F13: 339030.16 | G13: 45 | H13: 20 | I13: =H13-(SUM(K13:N13)) -> 0 | J13: =IF(I13<0,"ATENÇÃO","OK") -> OK | K13: 5 | L13: 3 | M13: 0 | N13: 12
C14: 11 | D14: Carimbo automático, auto-entintado, acrílico, resina, retangular, retrátil com mola, refil medindo 37mmX76mm, parte descritiva a ser confeccionada em fotopolymero, com área superior com visão do gravado na parte descritiva - valor unitário. | E14: Peça | F14: 339030.16 | G14: 45 | H14: 20 | I14: =H14-(SUM(K14:N14)) -> 2 | J14: =IF(I14<0,"ATENÇÃO","OK") -> OK | K14: 5 | L14: 3 | M14: 0 | N14: 10
C15: 12 | D15: Carimbo automático, auto-entintado, acrílico, resina, retangular, retrátil com mola, refil medindo 40mmX60mm, parte descritiva a ser confeccionada em fotopolymero, valor unitário, com área superior com visão do gravado na parte descritiva. | E15: Peça | F15: 339030.16 | G15: 45 | H15: 12 | I15: =H15-(SUM(K15:N15)) -> 0 | J15: =IF(I15<0,"ATENÇÃO","OK") -> OK | K15: 5 | L15: 3 | M15: 4 | N15: 0
C16: 13 | D16: Carimbo automático, auto-entintado, acrílico, resina, quadrado, retrátil com mola, refil medindo 30mmX30mm, parte descritiva a ser confeccionada em fotopolymero, com área superior com visão do gravado na parte descritiva - valor unitário. | E16: peça | F16: 339030.16 | G16: 35 | H16: 20 | I16: =H16-(SUM(K16:N16)) -> 1 | J16: =IF(I16<0,"ATENÇÃO","OK") -> OK | K16: 5 | L16: 3 | M16: 0 | N16: 11
... C31: 28 | D31: Chancela com selo nacional – conforme imagem memorial descritivo. | E31: Peça | F31: 339030.16 | G31: 305 | H31: 2 | I31: =H31-(SUM(K31:N31)) -> 1 | J31: =IF(I31<0,"ATENÇÃO","OK") -> OK | K31: 0 | L31: 0 | M31: 1 | N31: 0
A32: Thaline Huyer da Roza ME | B32: 2 - Chaveiro Campus I | C32: 29 | D32: Confecção de chave simples/gorge/yale, com cópia a partir de modelo existente | E32: serviço | F32: 339039.16 | G32: 6 | H32: =300-50 -> 250 | I32: =H32-(SUM(K32:N32)) -> 90 | J32: =IF(I32<0,"ATENÇÃO","OK") -> OK | K32: 80 | L32: 30 | M32: 0 | N32: 50
C33: 30 | D33: Confecção de chave simples/gorge/yale, com cópia a partir do miolo/cilindro | E33: serviço | F33: 339039.16 | G33: 40 | H33: =20-2 -> 18 | I33: =H33-(SUM(K33:N33)) -> 0 | J33: =IF(I33<0,"ATENÇÃO","OK") -> OK | K33: 10 | L33: 5 | M33: 0 | N33: 3
C34: 31 | D34: Confecção de chave cofre, com cópia a partir de modelo existente | E34: serviço | F34: 339039.16 | G34: 100 | H34: 4 | I34: =H34-(SUM(K34:N34)) -> 4 | J34: =IF(I34<0,"ATENÇÃO","OK") -> OK | K34: 0 | L34: 0 | M34: 0 | N34: 0
C35: 32 | D35: Confecção de chave cofre, com cópia a partir do miolo/cilindro | E35: serviço | F35: 339039.16 | G35: 140 | H35: 4 | I35: =H35-(SUM(K35:N35)) -> 4 | J35: =IF(I35<0,"ATENÇÃO","OK") -> OK | K35: 0 | L35: 0 | M35: 0 | N35: 0
C36: 33 | D36: Confecção de chave tetra-chave, com cópia a partir de modelo existente | E36: serviço | F36: 339039.16 | G36: 15 | H36: 90 | I36: =H36-(SUM(K36:N36)) -> 0 | J36: =IF(I36<0,"ATENÇÃO","OK") -> OK | K36: 40 | L36: 20 | M36: 0 | N36: 30
C37: 34 | D37: Confecção de chave tetra-chave, com cópia a partir do miolo/cilindro | E37: serviço | F37: 339039.16 | G37: 50 | H37: 20 | I37: =H37-(SUM(K37:N37)) -> 4 | J37: =IF(I37<0,"ATENÇÃO","OK") -> OK | K37: 5 | L37: 5 | M37: 0 | N37: 6
C38: 35 | D38: Fornecimento e substituição de miolo/cilindro de fechadura simples/gorge/cofre/yale, com fornecimento de 02 (duas) cópias de chaves | E38: serviço | F38: 339039.16 | G38: 50 | H38: 20 | I38: =H38-(SUM(K38:N38)) -> 12 | J38: =IF(I38<0,"ATENÇÃO","OK") -> OK | K38: 5 | L38: 3 | M38: 0 | N38: 0
C39: 36 | D39: Fornecimento e substituição de miolo/cilindro de fechadura tetra-chave, com fornecimento de 02 (duas) cópias de chaves | E39: serviço | F39: 339039.16 | G39: 63 | H39: 20 | I39: =H39-(SUM(K39:N39)) -> 6 | J39: =IF(I39<0,"ATENÇÃO","OK") -> OK | K39: 5 | L39: 3 | M39: 0 | N39: 6
C40: 37 | D40: Abertura de porta com fechadura simples/gorge/yale | E40: serviço | F40: 339039.16 | G40: 50 | H40: 10 | I40: =H40-(SUM(K40:N40)) -> 2 | J40: =IF(I40<0,"ATENÇÃO","OK") -> OK | K40: 5 | L40: 1 | M40: 0 | N40: 2
C41: 38 | D41: Abertura de porta com fechadura tetra-chave | E41: serviço | F41: 339039.16 | G41: 55 | H41: 10 | I41: =H41-(SUM(K41:N41)) -> 0 | J41: =IF(I41<0,"ATENÇÃO","OK") -> OK | K41: 5 | L41: 1 | M41: 0 | N41: 4
C42: 39 | D42: Conserto de fechaduras em geral quando ocorrer a quebra da chave dentro do miolo/cilindro | E42: serviço | F42: 339039.16 | G42: 53 | H42: 15 | I42: =H42-(SUM(K42:N42)) -> 2 | J42: =IF(I42<0,"ATENÇÃO","OK") -> OK | K42: 5 | L42: 1 | M42: 0 | N42: 7
C43: 40 | D43: Abertura de cofre no segredo | E43: serviço | F43: 339039.16 | G43: 120 | H43: 4 | I43: =H43-(SUM(K43:N43)) -> 3 | J43: =IF(I43<0,"ATENÇÃO","OK") -> OK | K43: 0 | L43: 0 | M43: 0 | N43: 1
C44: 41 | D44: Troca de segredo em cofre | E44: serviço | F44: 339039.16 | G44: 121 | H44: 4 | I44: =H44-(SUM(K44:N44)) -> 3 | J44: =IF(I44<0,"ATENÇÃO","OK") -> OK | K44: 0 | L44: 0 | M44: 0 | N44: 1
C45: 42 | D45: Instalação de fechadura em mesa (com fornecimento de fechadura) | E45: serviço | F45: 339039-16 | G45: 55 | H45: 10 | I45: =H45-(SUM(K45:N45)) -> 7 | J45: =IF(I45<0,"ATENÇÃO","OK") -> OK | K45: 2 | L45: 1 | M45: 0 | N45: 0
... C51: 48 | D51: Instalação de fechadura simples em porta (com fornecimento de fechadura) | E51: serviço | F51: 339039-16 | G51: 134.2 | H51: 12 | I51: =H51-(SUM(K51:N51)) -> 9 | J51: =IF(I51<0,"ATENÇÃO","OK") -> OK | K51: 2 | L51: 1 | M51: 0 | N51: 0
A52: Thaline Huyer da Roza ME | B52: 8 - peças UDESC | C52: 91 | D52: Fornecimento de fechadura para divisoria | E52: Peça | F52: 339030-24 | G52: 85 | H52: 10 | I52: =H52-(SUM(K52:N52)) -> 0 | J52: =IF(I52<0,"ATENÇÃO","OK") -> OK | K52: 2 | L52: 2 | M52: 0 | N52: 6
C53: 92 | D53: Fornecimento de fechadura simples/yale/gorge | E53: Peça | F53: 339030-24 | G53: 87 | H53: 10 | I53: =H53-(SUM(K53:N53)) -> 0 | J53: =IF(I53<0,"ATENÇÃO","OK") -> OK | K53: 2 | L53: 2 | M53: 0 | N53: 6
C54: 93 | D54: Fornecimento de fechadura tipo tetra | E54: Peça | F54: 339030-24 | G54: 83 | H54: 10 | I54: =H54-(SUM(K54:N54)) -> 0 | J54: =IF(I54<0,"ATENÇÃO","OK") -> OK | K54: 2 | L54: 2 | M54: 0 | N54: 6
C55: 94 | D55: Fornecimento Mola hidráulica aérea para portas | E55: Peça | F55: 339030-24 | G55: 239.97 | H55: 4 | I55: =H55-(SUM(K55:N55)) -> 0 | J55: =IF(I55<0,"ATENÇÃO","OK") -> OK | K55: 0 | L55: 0 | M55: 0 | N55: 4
C56: 95 | D56: Fornecimento de maçaneta para fechadura simples/gorge/yale | E56: Peça | F56: 339030-24 | G56: 35 | H56: 10 | I56: =H56-(SUM(K56:N56)) -> 0 | J56: =IF(I56<0,"ATENÇÃO","OK") -> OK | K56: 2 | L56: 0 | M56: 0 | N56: 8
C57: 96 | D57: Fornecimento de cadeado 20mm com haste curta em latão | E57: Peça | F57: 339030-24 | G57: 15.5 | H57: 10 | I57: =H57-(SUM(K57:N57)) -> 0 | J57: =IF(I57<0,"ATENÇÃO","OK") -> OK | K57: 2 | L57: 0 | M57: 0 | N57: 8
C58: 97 | D58: Fornecimento de cadeado 25mm com haste curta em latão | E58: Peça | F58: 339030-24 | G58: 20 | H58: 10 | I58: =H58-(SUM(K58:N58)) -> 0 | J58: =IF(I58<0,"ATENÇÃO","OK") -> OK | K58: 2 | L58: 0 | M58: 0 | N58: 8
C59: 98 | D59: Fornecimento de cadeado 35mm com haste curta em latão | E59: Peça | F59: 339030-24 | G59: 25 | H59: 10 | I59: =H59-(SUM(K59:N59)) -> 0 | J59: =IF(I59<0,"ATENÇÃO","OK") -> OK | K59: 2 | L59: 0 | M59: 0 | N59: 8
...

Sheet ESAG
A1: PROCESSO: 0068/2015/UDESC | D1: OBJETO:AQUISIÇÃO DE MATERIAIS DE CARIMBOS (TODA A UDESC) E CONTRATAÇÃO DE EMPRESA PARA PRESTAÇÃO DE SERVIÇOS DE CHAVEIRO (CAMPUS I, CESFI, CERES, CCT, CEAVI E CEPLAN) | H1: VIGÊNCIA DA ATA 30/04/2015 até 29/04/2016 | K1: 1458/2015 | L1: 1579/2015 | M1: 162/2016 | N1: 163/2016
A2: CENTRO PARTICIPANTE: ESAG
A3: FORNECEDOR | B3: LOTE | C3: ITEM | D3: PRODUTO - CARACTERÍSTICAS MÍNIMAS | E3: UNIDADE | F3: DETALHAMENTO | G3: Preço UNITÁRIO (R$) | H3: Qtde Registrada | I3: Saldo / Automático | J3: ALERTA | K3: ...../...../...... | L3: ...../...../...... | M3: ...../...../...... | N3: ...../...../......
A4: Thaline Huyer da Roza ME | B4: 1 - Carimbos Udesc | C4: 1 | D4: Carimbo confeccionado em fotopolymero, com base em madeira, medindo até 6cm² - valor unitário. | E4: Peça | F4: 339030.16 | G4: 8 | I4: =H4-(SUM(K4:N4)) -> 0 | J4: =IF(I4<0,"ATENÇÃO","OK") -> OK
C5: 2 | D5: Carimbo confeccionado em fotopolymero, com base em madeira, medindo de 6cm² até 10cm² - valor unitário. | E5: Peça | F5: 339030.16 | G5: 10 | I5: =H5-(SUM(K5:N5)) -> 0 | J5: =IF(I5<0,"ATENÇÃO","OK") -> OK
C6: 3 | D6: Carimbo confeccionado em fotopolymero, com base em madeira, medindo acima de 10cm² até 20cm² - valor unitário. | E6: Peça | F6: 339030.16 | G6: 16 | I6: =H6-(SUM(K6:N6)) -> 0 | J6: =IF(I6<0,"ATENÇÃO","OK") -> OK
C7: 4 | D7: Carimbo confeccionado em fotopolymero, com base em madeira, medindo acima de 20cm² - valor unitário. | E7: Peça | F7: 339030.16 | G7: 22 | I7: =H7-(SUM(K7:N7)) -> 0 | J7: =IF(I7<0,"ATENÇÃO","OK") -> OK
C8: 5 | D8: Carimbo confeccionado em fotopolymero, com base em madeira, redondo, medindo até 3cm de diâmetro - valor unitário. | E8: Peça | F8: 339030.16 | G8: 12 | I8: =H8-(SUM(K8:N8)) -> 0 | J8: =IF(I8<0,"ATENÇÃO","OK") -> OK
C9: 6 | D9: Carimbo automático, auto-entintado, acrílico, resina, retangular, retrátil com mola, refil medindo 10mmX27mm, parte descritiva a ser confeccionada em fotopolymero, com área superior com visão do gravado na parte descritiva - valor unitário. | E9: Peça | F9: 339030.16 | G9: 18 | H9: 10 | I9: =H9-(SUM(K9:N9)) -> 5 | J9: =IF(I9<0,"ATENÇÃO","OK") -> OK | K9: 3 | M9: 2
C10: 7 | D10: Carimbo automático, auto-entintado, acrílico, resina, retangular, retrátil com mola, refil medindo 14mmX38mm, parte descritiva a ser confeccionada em fotopolymero, com área superior com visão do gravado na parte descritiva - valor unitário. | E10: Peça | F10: 339030.16 | G10: 23 | H10: 10 | I10: =H10-(SUM(K10:N10)) -> 5 | J10: =IF(I10<0,"ATENÇÃO","OK") -> OK | K10: 3 | M10: 2
C11: 8 | D11: Carimbo automático, auto-entintado, acrílico, resina, retangular, retrátil com mola, refil medindo 18mmX47mm, parte descritiva a ser confeccionada em fotopolymero, com área superior com visão do gravado na parte descritiva - valor unitário. | E11: Peça | F11: 339030.16 | G11: 27 | H11: 10 | I11: =H11-(SUM(K11:N11)) -> 5 | J11: =IF(I11<0,"ATENÇÃO","OK") -> OK | K11: 3 | M11: 2
C12: 9 | D12: Carimbo automático, auto-entintado, acrílico, resina, retangular, retrátil com mola, refil medindo 23mmX59mm, parte descritiva a ser confeccionada em fotopolymero, com área superior com visão do gravado na parte descritiva - valor unitário. | E12: Peça | F12: 339030.16 | G12: 32 | H12: 10 | I12: =H12-(SUM(K12:N12)) -> 5 | J12: =IF(I12<0,"ATENÇÃO","OK") -> OK | K12: 3 | M12: 2
C13: 10 | D13: Carimbo automático, auto-entintado, acrílico, resina, retangular, retrátil com mola, refil medindo 30mmX69mm, parte descritiva a ser confeccionada em fotopolymero, com área superior com visão do gravado na parte descritiva - valor unitário. | E13: Peça | F13: 339030.16 | G13: 45 | H13: 10 | I13: =H13-(SUM(K13:N13)) -> 5 | J13: =IF(I13<0,"ATENÇÃO","OK") -> OK | K13: 3 | M13: 2
C14: 11 | D14: Carimbo automático, auto-entintado, acrílico, resina, retangular, retrátil com mola, refil medindo 37mmX76mm, parte descritiva a ser confeccionada em fotopolymero, com área superior com visão do gravado na parte descritiva - valor unitário. | E14: Peça | F14: 339030.16 | G14: 45 | H14: 10 | I14: =H14-(SUM(K14:N14)) -> 5 | J14: =IF(I14<0,"ATENÇÃO","OK") -> OK | K14: 3 | M14: 2
C15: 12 | D15: Carimbo automático, auto-entintado, acrílico, resina, retangular, retrátil com mola, refil medindo 40mmX60mm, parte descritiva a ser confeccionada em fotopolymero, valor unitário, com área superior com visão do gravado na parte descritiva. | E15: Peça | F15: 339030.16 | G15: 45 | H15: 10 | I15: =H15-(SUM(K15:N15)) -> 5 | J15: =IF(I15<0,"ATENÇÃO","OK") -> OK | K15: 3 | M15: 2
C16: 13 | D16: Carimbo automático, auto-entintado, acrílico, resina, quadrado, retrátil com mola, refil medindo 30mmX30mm, parte descritiva a ser confeccionada em fotopolymero, com área superior com visão do gravado na parte descritiva - valor unitário. | E16: peça | F16: 339030.16 | G16: 35 | I16: =H16-(SUM(K16:N16)) -> 0 | J16: =IF(I16<0,"ATENÇÃO","OK") -> OK
C17: 14 | D17: Carimbo automático, auto-entintado, acrílico, resina, quadrado, retrátil com mola, refil medindo 40mmX40mm, parte descritiva a ser confeccionada em fotopolymero, com área superior com visão do gravado na parte descritiva - valor unitário. | E17: peça | F17: 339030.16 | G17: 40 | I17: =H17-(SUM(K17:N17)) -> 0 | J17: =IF(I17<0,"ATENÇÃO","OK") -> OK
C18: 15 | D18: Carimbo automático, auto-entintado, acrílico, resina, redondo, retrátil com mola, refil medindo 17mmX17mm, parte descritiva a ser confeccionada em fotopolymero, com área superior com visão do gravado na parte descritiva - valor unitário. | E18: Peça | F18: 339030.16 | G18: 35 | I18: =H18-(SUM(K18:N18)) -> 0 | J18: =IF(I18<0,"ATENÇÃO","OK") -> OK
C19: 16 | D19: Refil de reposição para carimbo automático, medindo 10mmX27mm. | E19: Peça | F19: 339030.16 | G19: 7 | H19: 15 | I19: =H19-(SUM(K19:N19)) -> 7 | J19: =IF(I19<0,"ATENÇÃO","OK") -> OK | K19: 5 | M19: 3
C20: 17 | D20: Refil de reposição para carimbo automático, medindo 14mmX38mm. | E20: Peça | F20: 339030.16 | G20: 8 | H20: 15 | I20: =H20-(SUM(K20:N20)) -> 7 | J20: =IF(I20<0,"ATENÇÃO","OK") -> OK | K20: 5 | M20: 3
C21: 18 | D21: Refil de reposição para carimbo automático, medindo 18mmX47mm. | E21: Peça | F21: 339030.16 | G21: 11 | H21: 15 | I21: =H21-(SUM(K21:N21)) -> 7 | J21: =IF(I21<0,"ATENÇÃO","OK") -> OK | K21: 5 | M21: 3
C22: 19 | D22: Refil de reposição para carimbo automático, medindo 23mmX59mm. | E22: Peça | F22: 339030.16 | G22: 12 | H22: 15 | I22: =H22-(SUM(K22:N22)) -> 7 | J22: =IF(I22<0,"ATENÇÃO","OK") -> OK | K22: 5 | M22: 3
C23: 20 | D23: Refil de reposição para carimbo automático, medindo 30mmX69mm. | E23: Peça | F23: 339030.16 | G23: 15 | H23: 15 | I23: =H23-(SUM(K23:N23)) -> 7 | J23: =IF(I23<0,"ATENÇÃO","OK") -> OK | K23: 5 | M23: 3
C24: 21 | D24: Refil de reposição para carimbo automático, medindo 37mmX76mm. | E24: Peça | F24: 339030.16 | G24: 16 | H24: 15 | I24: =H24-(SUM(K24:N24)) -> 7 | J24: =IF(I24<0,"ATENÇÃO","OK") -> OK | K24: 5 | M24: 3
C25: 22 | D25: Refil de reposição para carimbo automático, medindo 40mmX60mm. | E25: Peça | F25: 339030.16 | G25: 15.5 | H25: 15 | I25: =H25-(SUM(K25:N25)) -> 7 | J25: =IF(I25<0,"ATENÇÃO","OK") -> OK | K25: 5 | M25: 3
C26: 23 | D26: Refil de reposição para carimbo automático, medindo 20mmX20mm. (para os carimbos de paginação) | E26: Peça | F26: 339030.16 | G26: 15 | I26: =H26-(SUM(K26:N26)) -> 0 | J26: =IF(I26<0,"ATENÇÃO","OK") -> OK
C27: 24 | D27: Película de fotopolymero, para colocação em carimbos – por cm² (1cmX1cm). | E27: Peça | F27: 339030.16 | G27: 2.7 | H27: 50 | I27: =H27-(SUM(K27:N27)) -> 20 | J27: =IF(I27<0,"ATENÇÃO","OK") -> OK | K27: 20 | M27: 10
C28: 25 | D28: Carimbo datador, manual, alfanumérico, 6 chapas metálicas, medindo até 20cm², parte descritiva em fotopolymero – com refil incluso. | E28: Peça | F28: 339030.16 | G28: 108 | H28: 1 | I28: =H28-(SUM(K28:N28)) -> 1 | J28: =IF(I28<0,"ATENÇÃO","OK") -> OK
C29: 26 | D29: Carimbo metal, plástico, metal niquelado, medindo até 10cm², numerador automático, 4 chapas (numeração 0000 até 9999), retangular, auto-entintado com mola. | E29: Peça | F29: 339030.16 | G29: 119 | H29: 1 | I29: =H29-(SUM(K29:N29)) -> 1 | J29: =IF(I29<0,"ATENÇÃO","OK") -> OK
C30: 27 | D30: Carimbo metal, plástico, metal niquelado, medindo até 20cm², numerador automático, 6 chapas (numeração 0000 até 999999), retangular, auto-entintado com mola. | E30: Peça | F30: 339030.16 | G30: 110 | H30: 1 | I30: =H30-(SUM(K30:N30)) -> 1 | J30: =IF(I30<0,"ATENÇÃO","OK") -> OK
C31: 28 | D31: Chancela com selo nacional – conforme imagem memorial descritivo. | E31: Peça | F31: 339030.16 | G31: 305 | I31: =H31-(SUM(K31:N31)) -> 0 | J31: =IF(I31<0,"ATENÇÃO","OK") -> OK
A32: Thaline Huyer da Roza ME | B32: 2 - Chaveiro Campus I | C32: 29 | D32: Confecção de chave simples/gorge/yale, com cópia a partir de modelo existente | E32: serviço | F32: 339039.16 | G32: 6 | H32: 200 | I32: =H32-(SUM(K32:N32)) -> 130 | J32: =IF(I32<0,"ATENÇÃO","OK") -> OK | L32: 50 | N32: 20
C33: 30 | D33: Confecção de chave simples/gorge/yale, com cópia a partir do miolo/cilindro | E33: serviço | F33: 339039.16 | G33: 40 | H33: 30 | I33: =H33-(SUM(K33:N33)) -> 14 | J33: =IF(I33<0,"ATENÇÃO","OK") -> OK | L33: 10 | N33: 6
C34: 31 | D34: Confecção de chave cofre, com cópia a partir de modelo existente | E34: serviço | F34: 339039.16 | G34: 100 | H34: 1 | I34: =H34-(SUM(K34:N34)) -> 1 | J34: =IF(I34<0,"ATENÇÃO","OK") -> OK
C35: 32 | D35: Confecção de chave cofre, com cópia a partir do miolo/cilindro | E35: serviço | F35: 339039.16 | G35: 140 | H35: 1 | I35: =H35-(SUM(K35:N35)) -> 1 | J35: =IF(I35<0,"ATENÇÃO","OK") -> OK
C36: 33 | D36: Confecção de chave tetra-chave, com cópia a partir de modelo existente | E36: serviço | F36: 339039.16 | G36: 15 | H36: 50 | I36: =H36-(SUM(K36:N36)) -> 20 | J36: =IF(I36<0,"ATENÇÃO","OK") -> OK | L36: 20 | N36: 10
C37: 34 | D37: Confecção de chave tetra-chave, com cópia a partir do miolo/cilindro | E37: serviço | F37: 339039.16 | G37: 50 | H37: 10 | I37: =H37-(SUM(K37:N37)) -> 1 | J37: =IF(I37<0,"ATENÇÃO","OK") -> OK | L37: 5 | N37: 4
C38: 35 | D38: Fornecimento e substituição de miolo/cilindro de fechadura simples/gorge/cofre/yale, com fornecimento de 02 (duas) cópias de chaves | E38: serviço | F38: 339039.16 | G38: 50 | H38: 20 | I38: =H38-(SUM(K38:N38)) -> 11 | J38: =IF(I38<0,"ATENÇÃO","OK") -> OK | L38: 5 | N38: 4
C39: 36 | D39: Fornecimento e substituição de miolo/cilindro de fechadura tetra-chave, com fornecimento de 02 (duas) cópias de chaves | E39: serviço | F39: 339039.16 | G39: 63 | H39: 10 | I39: =H39-(SUM(K39:N39)) -> 5 | J39: =IF(I39<0,"ATENÇÃO","OK") -> OK | L39: 3 | N39: 2
C40: 37 | D40: Abertura de porta com fechadura simples/gorge/yale | E40: serviço | F40: 339039.16 | G40: 50 | H40: 20 | I40: =H40-(SUM(K40:N40)) -> 12 | J40: =IF(I40<0,"ATENÇÃO","OK") -> OK | L40: 5 | N40: 3
...

Sheet CEAD
A1: PROCESSO: 0068/2015/UDESC | D1: OBJETO:AQUISIÇÃO DE MATERIAIS DE CARIMBOS (TODA A UDESC) E CONTRATAÇÃO DE EMPRESA PARA PRESTAÇÃO DE SERVIÇOS DE CHAVEIRO (CAMPUS I, CESFI, CERES, CCT, CEAVI E CEPLAN) | H1: VIGÊNCIA DA ATA 30/04/2015 até 29/04/2016 | K1: AF/OS nº 901/2015 Qtde. DT | L1: AF/OS nº 1340/2015 Qtde. DT | M1: AF/OS nº 101/2016 Qtde. DT | N1: AF/OS nº 339/2016 Qtde. DT
A2: CENTRO PARTICIPANTE: CEAD
A3: FORNECEDOR | B3: LOTE | C3: ITEM | D3: PRODUTO - CARACTERÍSTICAS MÍNIMAS | E3: UNIDADE | F3: DETALHAMENTO | G3: Preço UNITÁRIO (R$) | H3: Qtde Registrada | I3: Saldo / Automático | J3: ALERTA | K3: 42158 | L3: 42219 | M3: 42412 | N3: 42466
A4: Thaline Huyer da Roza ME | B4: 1 - Carimbos Udesc | C4: 1 | D4: Carimbo confeccionado em fotopolymero, com base em madeira, medindo até 6cm² - valor unitário. | E4: Peça | F4: 339030.16 | G4: 8 | I4: =H4-(SUM(K4:N4)) -> 0 | J4: =IF(I4<0,"ATENÇÃO","OK") -> OK | L4: 0 | M4: 0 | N4: 0
C5: 2 | D5: Carimbo confeccionado em fotopolymero, com base em madeira, medindo de 6cm² até 10cm² - valor unitário. | E5: Peça | F5: 339030.16 | G5: 10 | I5: =H5-(SUM(K5:N5)) -> 0 | J5: =IF(I5<0,"ATENÇÃO","OK") -> OK | K5: 0 | L5: 0 | M5: 0 | N5: 0
C6: 3 | D6: Carimbo confeccionado em fotopolymero, com base em madeira, medindo acima de 10cm² até 20cm² - valor unitário. | E6: Peça | F6: 339030.16 | G6: 16 | I6: =H6-(SUM(K6:N6)) -> 0 | J6: =IF(I6<0,"ATENÇÃO","OK") -> OK | K6: 0 | L6: 0 | M6: 0 | N6: 0
C7: 4 | D7: Carimbo confeccionado em fotopolymero, com base em madeira, medindo acima de 20cm² - valor unitário. | E7: Peça | F7: 339030.16 | G7: 22 | I7: =H7-(SUM(K7:N7)) -> 0 | J7: =IF(I7<0,"ATENÇÃO","OK") -> OK | K7: 0 | L7: 0 | M7: 0 | N7: 0
C8: 5 | D8: Carimbo confeccionado em fotopolymero, com base em madeira, redondo, medindo até 3cm de diâmetro - valor unitário. | E8: Peça | F8: 339030.16 | G8: 12 | I8: =H8-(SUM(K8:N8)) -> 0 | J8: =IF(I8<0,"ATENÇÃO","OK") -> OK | K8: 0 | L8: 0 | M8: 0 | N8: 0
C9: 6 | D9: Carimbo automático, auto-entintado, acrílico, resina, retangular, retrátil com mola, refil medindo 10mmX27mm, parte descritiva a ser confeccionada em fotopolymero, com área superior com visão do gravado na parte descritiva - valor unitário. | E9: Peça | F9: 339030.16 | G9: 18 | H9: 20 | I9: =H9-(SUM(K9:N9)) -> 18 | J9: =IF(I9<0,"ATENÇÃO","OK") -> OK | K9: 1 | L9: 1 | M9: 0 | N9: 0
C10: 7 | D10: Carimbo automático, auto-entintado, acrílico, resina, retangular, retrátil com mola, refil medindo 14mmX38mm, parte descritiva a ser confeccionada em fotopolymero, com área superior com visão do gravado na parte descritiva - valor unitário. | E10: Peça | F10: 339030.16 | G10: 23 | H10: 20 | I10: =H10-(SUM(K10:N10)) -> 18 | J10: =IF(I10<0,"ATENÇÃO","OK") -> OK | K10: 1 | L10: 1 | M10: 0 | N10: 0
C11: 8 | D11: Carimbo automático, auto-entintado, acrílico, resina, retangular, retrátil com mola, refil medindo 18mmX47mm, parte descritiva a ser confeccionada em fotopolymero, com área superior com visão do gravado na parte descritiva - valor unitário. | E11: Peça | F11: 339030.16 | G11: 27 | H11: 40 | I11: =H11-(SUM(K11:N11)) -> 38 | J11: =IF(I11<0,"ATENÇÃO","OK") -> OK | K11: 1 | L11: 1 | M11: 0 | N11: 0
C12: 9 | D12: Carimbo automático, auto-entintado, acrílico, resina, retangular, retrátil com mola, refil medindo 23mmX59mm, parte descritiva a ser confeccionada em fotopolymero, com área superior com visão do gravado na parte descritiva - valor unitário. | E12: Peça | F12: 339030.16 | G12: 32 | H12: 10 | I12: =H12-(SUM(K12:N12)) -> 3 | J12: =IF(I12<0,"ATENÇÃO","OK") -> OK | K12: 1 | L12: 1 | M12: 5 | N12: 0
C13: 10 | D13: Carimbo automático, auto-entintado, acrílico, resina, retangular, retrátil com mola, refil medindo 30mmX69mm, parte descritiva a ser confeccionada em fotopolymero, com área superior com visão do gravado na parte descritiva - valor unitário. | E13: Peça | F13: 339030.16 | G13: 45 | H13: 10 | I13: =H13-(SUM(K13:N13)) -> 6 | J13: =IF(I13<0,"ATENÇÃO","OK") -> OK | K13: 1 | L13: 1 | M13: 2 | N13: 0
C14: 11 | D14: Carimbo automático, auto-entintado, acrílico, resina, retangular, retrátil com mola, refil medindo 37mmX76mm, parte descritiva a ser confeccionada em fotopolymero, com área superior com visão do gravado na parte descritiva - valor unitário. | E14: Peça | F14: 339030.16 | G14: 45 | H14: 10 | I14: =H14-(SUM(K14:N14)) -> 8 | J14: =IF(I14<0,"ATENÇÃO","OK") -> OK | K14: 1 | L14: 1 | M14: 0 | N14: 0
C15: 12 | D15: Carimbo automático, auto-entintado, acrílico, resina, retangular, retrátil com mola, refil medindo 40mmX60mm, parte descritiva a ser confeccionada em fotopolymero, valor unitário, com área superior com visão do gravado na parte descritiva. | E15: Peça | F15: 339030.16 | G15: 45 | H15: 10 | I15: =H15-(SUM(K15:N15)) -> 8 | J15: =IF(I15<0,"ATENÇÃO","OK") -> OK | K15: 1 | L15: 1 | M15: 0 | N15: 0
C16: 13 | D16: Carimbo automático, auto-entintado, acrílico, resina, quadrado, retrátil com mola, refil medindo 30mmX30mm, parte descritiva a ser confeccionada em fotopolymero, com área superior com visão do gravado na parte descritiva - valor unitário. | E16: peça | F16: 339030.16 | G16: 35 | H16: 10 | I16: =H16-(SUM(K16:N16)) -> 9 | J16: =IF(I16<0,"ATENÇÃO","OK") -> OK | K16: 0 | L16: 1 | M16: 0 | N16: 0
C17: 14 | D17: Carimbo automático, auto-entintado, acrílico, resina, quadrado, retrátil com mola, refil medindo 40mmX40mm, parte descritiva a ser confeccionada em fotopolymero, com área superior com visão do gravado na parte descritiva - valor unitário. | E17: peça | F17: 339030.16 | G17: 40 | H17: 10 | I17: =H17-(SUM(K17:N17)) -> 9 | J17: =IF(I17<0,"ATENÇÃO","OK") -> OK | K17: 0 | L17: 1 | M17: 0 | N17: 0
C18: 15 | D18: Carimbo automático, auto-entintado, acrílico, resina, redondo, retrátil com mola, refil medindo 17mmX17mm, parte descritiva a ser confeccionada em fotopolymero, com área superior com visão do gravado na parte descritiva - valor unitário. | E18: Peça | F18: 339030.16 | G18: 35 | H18: 10 | I18: =H18-(SUM(K18:N18)) -> 9 | J18: =IF(I18<0,"ATENÇÃO","OK") -> OK | K18: 0 | L18: 1 | M18: 0 | N18: 0
C19: 16 | D19: Refil de reposição para carimbo automático, medindo 10mmX27mm. | E19: Peça | F19: 339030.16 | G19: 7 | H19: 35 | I19: =H19-(SUM(K19:N19)) -> 34 | J19: =IF(I19<0,"ATENÇÃO","OK") -> OK | K19: 0 | L19: 1 | M19: 0 | N19: 0
C20: 17 | D20: Refil de reposição para carimbo automático, medindo 14mmX38mm. | E20: Peça | F20: 339030.16 | G20: 8 | H20: 35 | I20: =H20-(SUM(K20:N20)) -> 34 | J20: =IF(I20<0,"ATENÇÃO","OK") -> OK | K20: 0 | L20: 1 | M20: 0 | N20: 0
... C31: 28 | D31: Chancela com selo nacional – conforme imagem memorial descritivo. | E31: Peça | F31: 339030.16 | G31: 305 | H31: 5 | I31: =H31-(SUM(K31:N31)) -> 5 | J31: =IF(I31<0,"ATENÇÃO","OK") -> OK | K31: 0 | L31: 0 | M31: 0 | N31: 0
A32: Thaline Huyer da Roza ME | B32: 2 - Chaveiro Campus I | C32: 29 | D32: Confecção de chave simples/gorge/yale, com cópia a partir de modelo existente | E32: serviço | F32: 339039.16 | G32: 6 | H32: 30 | I32: =H32-(SUM(K32:N32)) -> 24 | J32: =IF(I32<0,"ATENÇÃO","OK") -> OK | K32: 0 | L32: 0 | M32: 0 | N32: 6
C33: 30 | D33: Confecção de chave simples/gorge/yale, com cópia a partir do miolo/cilindro | E33: serviço | F33: 339039.16 | G33: 40 | H33: 20 | I33: =H33-(SUM(K33:N33)) -> 20 | J33: =IF(I33<0,"ATENÇÃO","OK") -> OK | K33: 0 | L33: 0 | M33: 0 | N33: 0
C34: 31 | D34: Confecção de chave cofre, com cópia a partir de modelo existente | E34: serviço | F34: 339039.16 | G34: 100 | H34: 2 | I34: =H34-(SUM(K34:N34)) -> 2 | J34: =IF(I34<0,"ATENÇÃO","OK") -> OK | K34: 0 | L34: 0 | M34: 0 | N34: 0
C35: 32 | D35: Confecção de chave cofre, com cópia a partir do miolo/cilindro | E35: serviço | F35: 339039.16 | G35: 140 | H35: 2 | I35: =H35-(SUM(K35:N35)) -> 2 | J35: =IF(I35<0,"ATENÇÃO","OK") -> OK | K35: 0 | L35: 0 | M35: 0 | N35: 0
C36: 33 | D36: Confecção de chave tetra-chave, com cópia a partir de modelo existente | E36: serviço | F36: 339039.16 | G36: 15 | H36: 20 | I36: =H36-(SUM(K36:N36)) -> 20 | J36: =IF(I36<0,"ATENÇÃO","OK") -> OK | K36: 0 | L36: 0 | M36: 0 | N36: 0
C37: 34 | D37: Confecção de chave tetra-chave, com cópia a partir do miolo/cilindro | E37: serviço | F37: 339039.16 | G37: 50 | H37: 10 | I37: =H37-(SUM(K37:N37)) -> 10 | J37: =IF(I37<0,"ATENÇÃO","OK") -> OK | K37: 0 | L37: 0 | M37: 0 | N37: 0
C38: 35 | D38: Fornecimento e substituição de miolo/cilindro de fechadura simples/gorge/cofre/yale, com fornecimento de 02 (duas) cópias de chaves | E38: serviço | F38: 339039.16 | G38: 50 | H38: 10 | I38: =H38-(SUM(K38:N38)) -> 10 | J38: =IF(I38<0,"ATENÇÃO","OK") -> OK | K38: 0 | L38: 0 | M38: 0 | N38: 0
C39: 36 | D39: Fornecimento e substituição de miolo/cilindro de fechadura tetra-chave, com fornecimento de 02 (duas) cópias de chaves | E39: serviço | F39: 339039.16 | G39: 63 | H39: 10 | I39: =H39-(SUM(K39:N39)) -> 10 | J39: =IF(I39<0,"ATENÇÃO","OK") -> OK | K39: 0 | L39: 0 | M39: 0 | N39: 0
C40: 37 | D40: Abertura de porta com fechadura simples/gorge/yale | E40: serviço | F40: 339039.16 | G40: 50 | H40: 10 | I40: =H40-(SUM(K40:N40)) -> 10 | J40: =IF(I40<0,"ATENÇÃO","OK") -> OK | K40: 0 | L40: 0 | M40: 0 | N40: 0
C41: 38 | D41: Abertura de porta com fechadura tetra-chave | E41: serviço | F41: 339039.16 | G41: 55 | H41: 10 | I41: =H41-(SUM(K41:N41)) -> 10 | J41: =IF(I41<0,"ATENÇÃO","OK") -> OK | K41: 0 | L41: 0 | M41: 0 | N41: 0
C42: 39 | D42: Conserto de fechaduras em geral quando ocorrer a quebra da chave dentro do miolo/cilindro | E42: serviço | F42: 339039.16 | G42: 53 | H42: 10 | I42: =H42-(SUM(K42:N42)) -> 10 | J42: =IF(I42<0,"ATENÇÃO","OK") -> OK | K42: 0 | L42: 0 | M42: 0 | N42: 0
C43: 40 | D43: Abertura de cofre no segredo | E43: serviço | F43: 339039.16 | G43: 120 | H43: 1 | I43: =H43-(SUM(K43:N43)) -> 1 | J43: =IF(I43<0,"ATENÇÃO","OK") -> OK | K43: 0 | L43: 0 | M43: 0 | N43: 0
C44: 41 | D44: Troca de segredo em cofre | E44: serviço | F44: 339039.16 | G44: 121 | H44: 1 | I44: =H44-(SUM(K44:N44)) -> 1 | J44: =IF(I44<0,"ATENÇÃO","OK") -> OK | K44: 0 | L44: 0 | M44: 0 | N44: 0
... C51: 48 | D51: Instalação de fechadura simples em porta (com fornecimento de fechadura) | E51: serviço | F51: 339039-16 | G51: 134.2 | H51: 10 | I51: =H51-(SUM(K51:N51)) -> 10 | J51: =IF(I51<0,"ATENÇÃO","OK") -> OK | K51: 0 | L51: 0 | M51: 0 | N51: 0
A52: Thaline Huyer da Roza ME | B52: 8 - peças UDESC | C52: 91 | D52: Fornecimento de fechadura para divisoria | E52: Peça | F52: 339030-24 | G52: 85 | H52: 10 | I52: =H52-(SUM(K52:N52)) -> 6 | J52: =IF(I52<0,"ATENÇÃO","OK") -> OK | K52: 0 | L52: 0 | M52: 1 | N52: 3
C53: 92 | D53: Fornecimento de fechadura simples/yale/gorge | E53: Peça | F53: 339030-24 | G53: 87 | H53: 10 | I53: =H53-(SUM(K53:N53)) -> 10 | J53: =IF(I53<0,"ATENÇÃO","OK") -> OK | K53: 0 | L53: 0 | M53: 0 | N53: 0
C54: 93 | D54: Fornecimento de fechadura tipo tetra | E54: Peça | F54: 339030-24 | G54: 83 | H54: 10 | I54: =H54-(SUM(K54:N54)) -> 10 | J54: =IF(I54<0,"ATENÇÃO","OK") -> OK | K54: 0 | L54: 0 | M54: 0 | N54: 0
C55: 94 | D55: Fornecimento Mola hidráulica aérea para portas | E55: Peça | F55: 339030-24 | G55: 239.97 | H55: 15 | I55: =H55-(SUM(K55:N55)) -> 15 | J55: =IF(I55<0,"ATENÇÃO","OK") -> OK | K55: 0 | L55: 0 | M55: 0 | N55: 0
C56: 95 | D56: Fornecimento de maçaneta para fechadura simples/gorge/yale | E56: Peça | F56: 339030-24 | G56: 35 | H56: 10 | I56: =H56-(SUM(K56:N56)) -> 10 | J56: =IF(I56<0,"ATENÇÃO","OK") -> OK | K56: 0 | L56: 0 | M56: 0 | N56: 0
...

Sheet CEART
A1: PROCESSO: 0068/2015/UDESC | D1: OBJETO:AQUISIÇÃO DE MATERIAIS DE CARIMBOS (TODA A UDESC) E CONTRATAÇÃO DE EMPRESA PARA PRESTAÇÃO DE SERVIÇOS DE CHAVEIRO (CAMPUS I, CESFI, CERES, CCT, CEAVI E CEPLAN) | H1: VIGÊNCIA DA ATA 30/04/2015 até 29/04/2016 | K1: AF1255/2015 | L1: AF 2078/2015 | M1: AF 2123/2015 | N1: AF 191/2016 | O1: AF 194/2016 | P1: AF 195/2016 | Q1: AF 402/2016
A2: CENTRO PARTICIPANTE: CEART
A3: FORNECEDOR | B3: LOTE | C3: ITEM | D3: PRODUTO - CARACTERÍSTICAS MÍNIMAS | E3: UNIDADE | F3: DETALHAMENTO | G3: Preço UNITÁRIO (R$) | H3: Qtde Registrada | I3: Saldo / Automático | J3: ALERTA | K3: 42206 | L3: 42311 | M3: 42314 | N3: 42437 | O3: 42437 | P3: 42437 | Q3: 42479
A4: Thaline Huyer da Roza ME | B4: 1 - Carimbos Udesc | C4: 1 | D4: Carimbo confeccionado em fotopolymero, com base em madeira, medindo até 6cm² - valor unitário. | E4: Peça | F4: 339030.16 | G4: 8 | I4: =H4-(SUM(K4:Q4)) -> 0 | J4: =IF(I4<0,"ATENÇÃO","OK") -> OK | L4: 0 | M4: 0 | N4: 0 | O4: 0 | P4: 0 | Q4: 0
C5: 2 | D5: Carimbo confeccionado em fotopolymero, com base em madeira, medindo de 6cm² até 10cm² - valor unitário. | E5: Peça | F5: 339030.16 | G5: 10 | I5: =H5-(SUM(K5:Q5)) -> 0 | J5: =IF(I5<0,"ATENÇÃO","OK") -> OK | K5: 0 | L5: 0 | M5: 0 | N5: 0 | O5: 0 | P5: 0 | Q5: 0
C6: 3 | D6: Carimbo confeccionado em fotopolymero, com base em madeira, medindo acima de 10cm² até 20cm² - valor unitário. | E6: Peça | F6: 339030.16 | G6: 16 | I6: =H6-(SUM(K6:Q6)) -> 0 | J6: =IF(I6<0,"ATENÇÃO","OK") -> OK | K6: 0 | L6: 0 | M6: 0 | N6: 0 | O6: 0 | P6: 0 | Q6: 0
C7: 4 | D7: Carimbo confeccionado em fotopolymero, com base em madeira, medindo acima de 20cm² - valor unitário. | E7: Peça | F7: 339030.16 | G7: 22 | I7: =H7-(SUM(K7:Q7)) -> 0 | J7: =IF(I7<0,"ATENÇÃO","OK") -> OK | K7: 0 | L7: 0 | M7: 0 | N7: 0 | O7: 0 | P7: 0 | Q7: 0
C8: 5 | D8: Carimbo confeccionado em fotopolymero, com base em madeira, redondo, medindo até 3cm de diâmetro - valor unitário. | E8: Peça | F8: 339030.16 | G8: 12 | I8: =H8-(SUM(K8:Q8)) -> 0 | J8: =IF(I8<0,"ATENÇÃO","OK") -> OK | K8: 0 | L8: 0 | M8: 0 | N8: 0 | O8: 0 | P8: 0 | Q8: 0
C9: 6 | D9: Carimbo automático, auto-entintado, acrílico, resina, retangular, retrátil com mola, refil medindo 10mmX27mm, parte descritiva a ser confeccionada em fotopolymero, com área superior com visão do gravado na parte descritiva - valor unitário. | E9: Peça | F9: 339030.16 | G9: 18 | H9: 12 | I9: =H9-(SUM(K9:Q9)) -> 6 | J9: =IF(I9<0,"ATENÇÃO","OK") -> OK | K9: 6 | L9: 0 | M9: 0 | N9: 0 | O9: 0 | P9: 0 | Q9: 0
C10: 7 | D10: Carimbo automático, auto-entintado, acrílico, resina, retangular, retrátil com mola, refil medindo 14mmX38mm, parte descritiva a ser confeccionada em fotopolymero, com área superior com visão do gravado na parte descritiva - valor unitário. | E10: Peça | F10: 339030.16 | G10: 23 | H10: 15 | I10: =H10-(SUM(K10:Q10)) -> 0 | J10: =IF(I10<0,"ATENÇÃO","OK") -> OK | K10: 15 | L10: 0 | M10: 0 | N10: 0 | O10: 0 | P10: 0 | Q10: 0
C11: 8 | D11: Carimbo automático, auto-entintado, acrílico, resina, retangular, retrátil com mola, refil medindo 18mmX47mm, parte descritiva a ser confeccionada em fotopolymero, com área superior com visão do gravado na parte descritiva - valor unitário. | E11: Peça | F11: 339030.16 | G11: 27 | H11: 12 | I11: =H11-(SUM(K11:Q11)) -> 5 | J11: =IF(I11<0,"ATENÇÃO","OK") -> OK | K11: 6 | L11: 0 | M11: 0 | N11: 1 | O11: 0 | P11: 0 | Q11: 0
C12: 9 | D12: Carimbo automático, auto-entintado, acrílico, resina, retangular, retrátil com mola, refil medindo 23mmX59mm, parte descritiva a ser confeccionada em fotopolymero, com área superior com visão do gravado na parte descritiva - valor unitário. | E12: Peça | F12: 339030.16 | G12: 32 | H12: 7 | I12: =H12-(SUM(K12:Q12)) -> 2 | J12: =IF(I12<0,"ATENÇÃO","OK") -> OK | K12: 4 | L12: 0 | M12: 0 | N12: 1 | O12: 0 | P12: 0 | Q12: 0
C13: 10 | D13: Carimbo automático, auto-entintado, acrílico, resina, retangular, retrátil com mola, refil medindo 30mmX69mm, parte descritiva a ser confeccionada em fotopolymero, com área superior com visão do gravado na parte descritiva - valor unitário. | E13: Peça | F13: 339030.16 | G13: 45 | H13: 6 | I13: =H13-(SUM(K13:Q13)) -> 2 | J13: =IF(I13<0,"ATENÇÃO","OK") -> OK | K13: 3 | L13: 0 | M13: 0 | N13: 1 | O13: 0 | P13: 0 | Q13: 0
C14: 11 | D14: Carimbo automático, auto-entintado, acrílico, resina, retangular, retrátil com mola, refil medindo 37mmX76mm, parte descritiva a ser confeccionada em fotopolymero, com área superior com visão do gravado na parte descritiva - valor unitário. | E14: Peça | F14: 339030.16 | G14: 45 | H14: 5 | I14: =H14-(SUM(K14:Q14)) -> 2 | J14: =IF(I14<0,"ATENÇÃO","OK") -> OK | K14: 2 | L14: 0 | M14: 0 | N14: 1 | O14: 0 | P14: 0 | Q14: 0
C15: 12 | D15: Carimbo automático, auto-entintado, acrílico, resina, retangular, retrátil com mola, refil medindo 40mmX60mm, parte descritiva a ser confeccionada em fotopolymero, valor unitário, com área superior com visão do gravado na parte descritiva. | E15: Peça | F15: 339030.16 | G15: 45 | H15: 5 | I15: =H15-(SUM(K15:Q15)) -> 2 | J15: =IF(I15<0,"ATENÇÃO","OK") -> OK | K15: 2 | L15: 0 | M15: 0 | N15: 1 | O15: 0 | P15: 0 | Q15: 0
C16: 13 | D16: Carimbo automático, auto-entintado, acrílico, resina, quadrado, retrátil com mola, refil medindo 30mmX30mm, parte descritiva a ser confeccionada em fotopolymero, com área superior com visão do gravado na parte descritiva - valor unitário. | E16: peça | F16: 339030.16 | G16: 35 | H16: 6 | I16: =H16-(SUM(K16:Q16)) -> 2 | J16: =IF(I16<0,"ATENÇÃO","OK") -> OK | K16: 3 | L16: 0 | M16: 0 | N16: 1 | O16: 0 | P16: 0 | Q16: 0
C17: 14 | D17: Carimbo automático, auto-entintado, acrílico, resina, quadrado, retrátil com mola, refil medindo 40mmX40mm, parte descritiva a ser confeccionada em fotopolymero, com área superior com visão do gravado na parte descritiva - valor unitário. | E17: peça | F17: 339030.16 | G17: 40 | H17: 5 | I17: =H17-(SUM(K17:Q17)) -> 2 | J17: =IF(I17<0,"ATENÇÃO","OK") -> OK | K17: 2 | L17: 0 | M17: 0 | N17: 1 | O17: 0 | P17: 0 | Q17: 0
C18: 15 | D18: Carimbo automático, auto-entintado, acrílico, resina, redondo, retrátil com mola, refil medindo 17mmX17mm, parte descritiva a ser confeccionada em fotopolymero, com área superior com visão do gravado na parte descritiva - valor unitário. | E18: Peça | F18: 339030.16 | G18: 35 | H18: 10 | I18: =H18-(SUM(K18:Q18)) -> 5 | J18: =IF(I18<0,"ATENÇÃO","OK") -> OK | K18: 5 | L18: 0 | M18: 0 | N18: 0 | O18: 0 | P18: 0 | Q18: 0
C19: 16 | D19: Refil de reposição para carimbo automático, medindo 10mmX27mm. | E19: Peça | F19: 339030.16 | G19: 7 | H19: 7 | I19: =H19-(SUM(K19:Q19)) -> 3 | J19: =IF(I19<0,"ATENÇÃO","OK") -> OK | K19: 3 | L19: 0 | M19: 0 | N19: 1 | O19: 0 | P19: 0 | Q19: 0
C20: 17 | D20: Refil de reposição para carimbo automático, medindo 14mmX38mm. | E20: Peça | F20: 339030.16 | G20: 8 | H20: 7 | I20: =H20-(SUM(K20:Q20)) -> 0 | J20: =IF(I20<0,"ATENÇÃO","OK") -> OK | K20: 7 | L20: 0 | M20: 0 | N20: 0 | O20: 0 | P20: 0 | Q20: 0
... C31: 28 | D31: Chancela com selo nacional – conforme imagem memorial descritivo. | E31: Peça | F31: 339030.16 | G31: 305 | H31: 1 | I31: =H31-(SUM(K31:Q31)) -> 1 | J31: =IF(I31<0,"ATENÇÃO","OK") -> OK | K31: 0 | L31: 0 | M31: 0 | N31: 0 | O31: 0 | P31: 0 | Q31: 0
A32: Thaline Huyer da Roza ME | B32: 2 - Chaveiro Campus I | C32: 29 | D32: Confecção de chave simples/gorge/yale, com cópia a partir de modelo existente | E32: serviço | F32: 339039.16 | G32: 6 | H32: 100 | I32: =H32-(SUM(K32:Q32)) -> 60 | J32: =IF(I32<0,"ATENÇÃO","OK") -> OK | K32: 0 | L32: 10 | M32: 0 | O32: 0 | P32: 10 | Q32: 20
C33: 30 | D33: Confecção de chave simples/gorge/yale, com cópia a partir do miolo/cilindro | E33: serviço | F33: 339039.16 | G33: 40 | H33: 30 | I33: =H33-(SUM(K33:Q33)) -> 19 | J33: =IF(I33<0,"ATENÇÃO","OK") -> OK | K33: 0 | L33: 5 | M33: 0 | O33: 0 | P33: 1 | Q33: 5
C34: 31 | D34: Confecção de chave cofre, com cópia a partir de modelo existente | E34: serviço | F34: 339039.16 | G34: 100 | H34: 1 | I34: =H34-(SUM(K34:Q34)) -> 1 | J34: =IF(I34<0,"ATENÇÃO","OK") -> OK | K34: 0 | M34: 0 | N34: 0 | O34: 0 | P34: 0 | Q34: 0
C35: 32 | D35: Confecção de chave cofre, com cópia a partir do miolo/cilindro | E35: serviço | F35: 339039.16 | G35: 140 | H35: 1 | I35: =H35-(SUM(K35:Q35)) -> 1 | J35: =IF(I35<0,"ATENÇÃO","OK") -> OK | K35: 0 | M35: 0 | N35: 0 | O35: 0 | P35: 0 | Q35: 0
C36: 33 | D36: Confecção de chave tetra-chave, com cópia a partir de modelo existente | E36: serviço | F36: 339039.16 | G36: 15 | H36: 10 | I36: =H36-(SUM(K36:Q36)) -> 5 | J36: =IF(I36<0,"ATENÇÃO","OK") -> OK | K36: 0 | L36: 2 | M36: 0 | O36: 0 | P36: 1 | Q36: 2
C37: 34 | D37: Confecção de chave tetra-chave, com cópia a partir do miolo/cilindro | E37: serviço | F37: 339039.16 | G37: 50 | H37: 7 | I37: =H37-(SUM(K37:Q37)) -> 0 | J37: =IF(I37<0,"ATENÇÃO","OK") -> OK | K37: 0 | L37: 2 | M37: 0 | O37: 0 | P37: 1 | Q37: 4
C38: 35 | D38: Fornecimento e substituição de miolo/cilindro de fechadura simples/gorge/cofre/yale, com fornecimento de 02 (duas) cópias de chaves | E38: serviço | F38: 339039.16 | G38: 50 | H38: 20 | I38: =H38-(SUM(K38:Q38)) -> 9 | J38: =IF(I38<0,"ATENÇÃO","OK") -> OK | K38: 0 | L38: 5 | M38: 0 | O38: 0 | P38: 1 | Q38: 5
C39: 36 | D39: Fornecimento e substituição de miolo/cilindro de fechadura tetra-chave, com fornecimento de 02 (duas) cópias de chaves | E39: serviço | F39: 339039.16 | G39: 63 | H39: 10 | I39: =H39-(SUM(K39:Q39)) -> 0 | J39: =IF(I39<0,"ATENÇÃO","OK") -> OK | K39: 0 | L39: 5 | M39: 0 | O39: 0 | P39: 1 | Q39: 4
C40: 37 | D40: Abertura de porta com fechadura simples/gorge/yale | E40: serviço | F40: 339039.16 | G40: 50 | H40: 16 | I40: =H40-(SUM(K40:Q40)) -> 7 | J40: =IF(I40<0,"ATENÇÃO","OK") -> OK | K40: 0 | L40: 3 | M40: 0 | O40: 0 | P40: 1 | Q40: 5
C41: 38 | D41: Abertura de porta com fechadura tetra-chave | E41: serviço | F41: 339039.16 | G41: 55 | H41: 8 | I41: =H41-(SUM(K41:Q41)) -> 4 | J41: =IF(I41<0,"ATENÇÃO","OK") -> OK | K41: 0 | L41: 1 | M41: 0 | O41: 0 | P41: 1 | Q41: 2
C42: 39 | D42: Conserto de fechaduras em geral quando ocorrer a quebra da chave dentro do miolo/cilindro | E42: serviço | F42: 339039.16 | G42: 53 | H42: 20 | I42: =H42-(SUM(K42:Q42)) -> 12 | J42: =IF(I42<0,"ATENÇÃO","OK") -> OK | K42: 0 | L42: 2 | M42: 0 | O42: 0 | P42: 1 | Q42: 5
C43: 40 | D43: Abertura de cofre no segredo | E43: serviço | F43: 339039.16 | G43: 120 | H43: 1 | I43: =H43-(SUM(K43:Q43)) -> 1 | J43: =IF(I43<0,"ATENÇÃO","OK") -> OK | K43: 0 | L43: 0 | M43: 0 | N43: 0 | O43: 0 | P43: 0 | Q43: 0
C44: 41 | D44: Troca de segredo em cofre | E44: serviço | F44: 339039.16 | G44: 121 | H44: 1 | I44: =H44-(SUM(K44:Q44)) -> 1 | J44: =IF(I44<0,"ATENÇÃO","OK") -> OK | K44: 0 | L44: 0 | M44: 0 | N44: 0 | O44: 0 | P44: 0 | Q44: 0
C45: 42 | D45: Instalação de fechadura em mesa (com fornecimento de fechadura) | E45: serviço | F45: 339039-16 | G45: 55 | H45: 20 | I45: =H45-(SUM(K45:Q45)) -> 12 | J45: =IF(I45<0,"ATENÇÃO","OK") -> OK | K45: 0 | L45: 2 | M45: 0 | O45: 0 | P45: 1 | Q45: 5
C46: 43 | D46: Instalação de fechadura tetra (com fornecimento de fechadura) | E46: serviço | F46: 339039-16 | G46: 120 | H46: 14 | I46: =H46-(SUM(K46:Q46)) -> 13 | J46: =IF(I46<0,"ATENÇÃO","OK") -> OK | K46: 0 | L46: 1 | M46: 0 | N46: 0 | O46: 0 | P46: 0 | Q46: 0
C47: 44 | D47: Instalação de fechadura simples em portas | E47: serviço | F47: 339039-16 | G47: 55 | H47: 30 | I47: =H47-(SUM(K47:Q47)) -> 26 | J47: =IF(I47<0,"ATENÇÃO","OK") -> OK | K47: 0 | L47: 1 | M47: 0 | O47: 0 | P47: 1 | Q47: 2
C48: 45 | D48: Instalação de fechadura simples/gorge/cofre/yale | E48: serviço | F48: 339039-16 | G48: 50 | H48: 5 | I48: =H48-(SUM(K48:Q48)) -> 2 | J48: =IF(I48<0,"ATENÇÃO","OK") -> OK | K48: 0 | L48: 1 | M48: 0 | O48: 0 | P48: 1 | Q48: 1
C49: 46 | D49: Instalação de fechadura tetra | E49: serviço | F49: 339039-16 | G49: 70 | H49: 5 | I49: =H49-(SUM(K49:Q49)) -> 2 | J49: =IF(I49<0,"ATENÇÃO","OK") -> OK | K49: 0 | L49: 1 | M49: 0 | O49: 0 | P49: 1 | Q49: 1
C50: 47 | D50: Instalação de fechadura em armario/mesa/escaninho/gaveteiro | E50: serviço | F50: 339039-16 | G50: 45 | H50: 5 | I50: =H50-(SUM(K50:Q50)) -> 2 | J50: =IF(I50<0,"ATENÇÃO","OK") -> OK | K50: 0 | L50: 1 | M50: 0 | O50: 0 | P50: 1 | Q50: 1
...

Sheet FAED
A1: PROCESSO: 0068/2015/UDESC | D1: OBJETO:AQUISIÇÃO DE MATERIAIS DE CARIMBOS (TODA A UDESC) E CONTRATAÇÃO DE EMPRESA PARA PRESTAÇÃO DE SERVIÇOS DE CHAVEIRO (CAMPUS I, CESFI, CERES, CCT, CEAVI E CEPLAN) | H1: VIGÊNCIA DA ATA 30/04/2015 até 29/04/2016 | K1: AF/OS nº 1482/2015 Qtde. DT | L1: AF/OS nº 43/2016 Qtde. DT
A2: CENTRO PARTICIPANTE: FAED
A3: FORNECEDOR | B3: LOTE | C3: ITEM | D3: PRODUTO - CARACTERÍSTICAS MÍNIMAS | E3: UNIDADE | F3: DETALHAMENTO | G3: Preço UNITÁRIO (R$) | H3: Qtde Registrada | I3: Saldo / Automático | J3: ALERTA | K3: 42236 | L3: 42401
A4: Thaline Huyer da Roza ME | B4: 1 - Carimbos Udesc | C4: 1 | D4: Carimbo confeccionado em fotopolymero, com base em madeira, medindo até 6cm² - valor unitário. | E4: Peça | F4: 339030.16 | G4: 8 | I4: =H4-(SUM(K4:L4)) -> 0 | J4: =IF(I4<0,"ATENÇÃO","OK") -> OK | K4: 0 | L4: 0
C5: 2 | D5: Carimbo confeccionado em fotopolymero, com base em madeira, medindo de 6cm² até 10cm² - valor unitário. | E5: Peça | F5: 339030.16 | G5: 10 | I5: =H5-(SUM(K5:L5)) -> 0 | J5: =IF(I5<0,"ATENÇÃO","OK") -> OK | K5: 0 | L5: 0
C6: 3 | D6: Carimbo confeccionado em fotopolymero, com base em madeira, medindo acima de 10cm² até 20cm² - valor unitário. | E6: Peça | F6: 339030.16 | G6: 16 | I6: =H6-(SUM(K6:L6)) -> 0 | J6: =IF(I6<0,"ATENÇÃO","OK") -> OK | K6: 0 | L6: 0
C7: 4 | D7: Carimbo confeccionado em fotopolymero, com base em madeira, medindo acima de 20cm² - valor unitário. | E7: Peça | F7: 339030.16 | G7: 22 | I7: =H7-(SUM(K7:L7)) -> 0 | J7: =IF(I7<0,"ATENÇÃO","OK") -> OK | K7: 0 | L7: 0
C8: 5 | D8: Carimbo confeccionado em fotopolymero, com base em madeira, redondo, medindo até 3cm de diâmetro - valor unitário. | E8: Peça | F8: 339030.16 | G8: 12 | I8: =H8-(SUM(K8:L8)) -> 0 | J8: =IF(I8<0,"ATENÇÃO","OK") -> OK | K8: 0 | L8: 0
C9: 6 | D9: Carimbo automático, auto-entintado, acrílico, resina, retangular, retrátil com mola, refil medindo 10mmX27mm, parte descritiva a ser confeccionada em fotopolymero, com área superior com visão do gravado na parte descritiva - valor unitário. | E9: Peça | F9: 339030.16 | G9: 18 | H9: 5 | I9: =H9-(SUM(K9:L9)) -> 2 | J9: =IF(I9<0,"ATENÇÃO","OK") -> OK | K9: 0 | L9: 3
C10: 7 | D10: Carimbo automático, auto-entintado, acrílico, resina, retangular, retrátil com mola, refil medindo 14mmX38mm, parte descritiva a ser confeccionada em fotopolymero, com área superior com visão do gravado na parte descritiva - valor unitário. | E10: Peça | F10: 339030.16 | G10: 23 | H10: 10 | I10: =H10-(SUM(K10:L10)) -> 2 | J10: =IF(I10<0,"ATENÇÃO","OK") -> OK | K10: 0 | L10: 8
C11: 8 | D11: Carimbo automático, auto-entintado, acrílico, resina, retangular, retrátil com mola, refil medindo 18mmX47mm, parte descritiva a ser confeccionada em fotopolymero, com área superior com visão do gravado na parte descritiva - valor unitário. | E11: Peça | F11: 339030.16 | G11: 27 | H11: 15 | I11: =H11-(SUM(K11:L11)) -> 5 | J11: =IF(I11<0,"ATENÇÃO","OK") -> OK | K11: 0 | L11: 10
C12: 9 | D12: Carimbo automático, auto-entintado, acrílico, resina, retangular, retrátil com mola, refil medindo 23mmX59mm, parte descritiva a ser confeccionada em fotopolymero, com área superior com visão do gravado na parte descritiva - valor unitário. | E12: Peça | F12: 339030.16 | G12: 32 | H12: 20 | I12: =H12-(SUM(K12:L12)) -> 15 | J12: =IF(I12<0,"ATENÇÃO","OK") -> OK | K12: 0 | L12: 5
C13: 10 | D13: Carimbo automático, auto-entintado, acrílico, resina, retangular, retrátil com mola, refil medindo 30mmX69mm, parte descritiva a ser confeccionada em fotopolymero, com área superior com visão do gravado na parte descritiva - valor unitário. | E13: Peça | F13: 339030.16 | G13: 45 | H13: 20 | I13: =H13-(SUM(K13:L13)) -> 15 | J13: =IF(I13<0,"ATENÇÃO","OK") -> OK | K13: 0 | L13: 5
C14: 11 | D14: Carimbo automático, auto-entintado, acrílico, resina, retangular, retrátil com mola, refil medindo 37mmX76mm, parte descritiva a ser confeccionada em fotopolymero, com área superior com visão do gravado na parte descritiva - valor unitário. | E14: Peça | F14: 339030.16 | G14: 45 | H14: 15 | I14: =H14-(SUM(K14:L14)) -> 10 | J14: =IF(I14<0,"ATENÇÃO","OK") -> OK | K14: 0 | L14: 5
C15: 12 | D15: Carimbo automático, auto-entintado, acrílico, resina, retangular, retrátil com mola, refil medindo 40mmX60mm, parte descritiva a ser confeccionada em fotopolymero, valor unitário, com área superior com visão do gravado na parte descritiva. | E15: Peça | F15: 339030.16 | G15: 45 | H15: 10 | I15: =H15-(SUM(K15:L15)) -> 5 | J15: =IF(I15<0,"ATENÇÃO","OK") -> OK | K15: 0 | L15: 5
C16: 13 | D16: Carimbo automático, auto-entintado, acrílico, resina, quadrado, retrátil com mola, refil medindo 30mmX30mm, parte descritiva a ser confeccionada em fotopolymero, com área superior com visão do gravado na parte descritiva - valor unitário. | E16: peça | F16: 339030.16 | G16: 35 | H16: 5 | I16: =H16-(SUM(K16:L16)) -> 5 | J16: =IF(I16<0,"ATENÇÃO","OK") -> OK | K16: 0 | L16: 0
C17: 14 | D17: Carimbo automático, auto-entintado, acrílico, resina, quadrado, retrátil com mola, refil medindo 40mmX40mm, parte descritiva a ser confeccionada em fotopolymero, com área superior com visão do gravado na parte descritiva - valor unitário. | E17: peça | F17: 339030.16 | G17: 40 | H17: 5 | I17: =H17-(SUM(K17:L17)) -> 5 | J17: =IF(I17<0,"ATENÇÃO","OK") -> OK | K17: 0 | L17: 0
C18: 15 | D18: Carimbo automático, auto-entintado, acrílico, resina, redondo, retrátil com mola, refil medindo 17mmX17mm, parte descritiva a ser confeccionada em fotopolymero, com área superior com visão do gravado na parte descritiva - valor unitário. | E18: Peça | F18: 339030.16 | G18: 35 | H18: 5 | I18: =H18-(SUM(K18:L18)) -> 5 | J18: =IF(I18<0,"ATENÇÃO","OK") -> OK | K18: 0 | L18: 0
C19: 16 | D19: Refil de reposição para carimbo automático, medindo 10mmX27mm. | E19: Peça | F19: 339030.16 | G19: 7 | H19: 5 | I19: =H19-(SUM(K19:L19)) -> 3 | J19: =IF(I19<0,"ATENÇÃO","OK") -> OK | K19: 0 | L19: 2
C20: 17 | D20: Refil de reposição para carimbo automático, medindo 14mmX38mm. | E20: Peça | F20: 339030.16 | G20: 8 | H20: 10 | I20: =H20-(SUM(K20:L20)) -> 8 | J20: =IF(I20<0,"ATENÇÃO","OK") -> OK | K20: 0 | L20: 2
... C27: 24 | D27: Película de fotopolymero, para colocação em carimbos – por cm² (1cmX1cm). | E27: Peça | F27: 339030.16 | G27: 2.7 | H27: 200 | I27: =H27-(SUM(K27:L27)) -> 100 | J27: =IF(I27<0,"ATENÇÃO","OK") -> OK | K27: 0 | L27: 100
C28: 25 | D28: Carimbo datador, manual, alfanumérico, 6 chapas metálicas, medindo até 20cm², parte descritiva em fotopolymero – com refil incluso. | E28: Peça | F28: 339030.16 | G28: 108 | I28: =H28-(SUM(K28:L28)) -> 0 | J28: =IF(I28<0,"ATENÇÃO","OK") -> OK | K28: 0 | L28: 0
C29: 26 | D29: Carimbo metal, plástico, metal niquelado, medindo até 10cm², numerador automático, 4 chapas (numeração 0000 até 9999), retangular, auto-entintado com mola. | E29: Peça | F29: 339030.16 | G29: 119 | I29: =H29-(SUM(K29:L29)) -> 0 | J29: =IF(I29<0,"ATENÇÃO","OK") -> OK | K29: 0 | L29: 0
C30: 27 | D30: Carimbo metal, plástico, metal niquelado, medindo até 20cm², numerador automático, 6 chapas (numeração 0000 até 999999), retangular, auto-entintado com mola. | E30: Peça | F30: 339030.16 | G30: 110 | I30: =H30-(SUM(K30:L30)) -> 0 | J30: =IF(I30<0,"ATENÇÃO","OK") -> OK | K30: 0 | L30: 0
C31: 28 | D31: Chancela com selo nacional – conforme imagem memorial descritivo. | E31: Peça | F31: 339030.16 | G31: 305 | I31: =H31-(SUM(K31:L31)) -> 0 | J31: =IF(I31<0,"ATENÇÃO","OK") -> OK | K31: 0 | L31: 0
A32: Thaline Huyer da Roza ME | B32: 2 - Chaveiro Campus I | C32: 29 | D32: Confecção de chave simples/gorge/yale, com cópia a partir de modelo existente | E32: serviço | F32: 339039.16 | G32: 6 | H32: 100 | I32: =H32-(SUM(K32:L32)) -> 35 | J32: =IF(I32<0,"ATENÇÃO","OK") -> OK | K32: 15 | L32: 50
C33: 30 | D33: Confecção de chave simples/gorge/yale, com cópia a partir do miolo/cilindro | E33: serviço | F33: 339039.16 | G33: 40 | H33: 25 | I33: =H33-(SUM(K33:L33)) -> 14 | J33: =IF(I33<0,"ATENÇÃO","OK") -> OK | K33: 3 | L33: 8
C34: 31 | D34: Confecção de chave cofre, com cópia a partir de modelo existente | E34: serviço | F34: 339039.16 | G34: 100 | H34: 1 | I34: =H34-(SUM(K34:L34)) -> 1 | J34: =IF(I34<0,"ATENÇÃO","OK") -> OK | K34: 0 | L34: 0
C35: 32 | D35: Confecção de chave cofre, com cópia a partir do miolo/cilindro | E35: serviço | F35: 339039.16 | G35: 140 | H35: 1 | I35: =H35-(SUM(K35:L35)) -> 1 | J35: =IF(I35<0,"ATENÇÃO","OK") -> OK | K35: 0 | L35: 0
C36: 33 | D36: Confecção de chave tetra-chave, com cópia a partir de modelo existente | E36: serviço | F36: 339039.16 | G36: 15 | H36: 20 | I36: =H36-(SUM(K36:L36)) -> 12 | J36: =IF(I36<0,"ATENÇÃO","OK") -> OK | K36: 2 | L36: 6
C37: 34 | D37: Confecção de chave tetra-chave, com cópia a partir do miolo/cilindro | E37: serviço | F37: 339039.16 | G37: 50 | H37: 10 | I37: =H37-(SUM(K37:L37)) -> 7 | J37: =IF(I37<0,"ATENÇÃO","OK") -> OK | K37: 0 | L37: 3
C38: 35 | D38: Fornecimento e substituição de miolo/cilindro de fechadura simples/gorge/cofre/yale, com fornecimento de 02 (duas) cópias de chaves | E38: serviço | F38: 339039.16 | G38: 50 | H38: 50 | I38: =H38-(SUM(K38:L38)) -> 43 | J38: =IF(I38<0,"ATENÇÃO","OK") -> OK | K38: 2 | L38: 5
C39: 36 | D39: Fornecimento e substituição de miolo/cilindro de fechadura tetra-chave, com fornecimento de 02 (duas) cópias de chaves | E39: serviço | F39: 339039.16 | G39: 63 | H39: 10 | I39: =H39-(SUM(K39:L39)) -> 7 | J39: =IF(I39<0,"ATENÇÃO","OK") -> OK | K39: 0 | L39: 3
C40: 37 | D40: Abertura de porta com fechadura simples/gorge/yale | E40: serviço | F40: 339039.16 | G40: 50 | H40: 100 | I40: =H40-(SUM(K40:L40)) -> 65 | J40: =IF(I40<0,"ATENÇÃO","OK") -> OK | K40: 20 | L40: 15
C41: 38 | D41: Abertura de porta com fechadura tetra-chave | E41: serviço | F41: 339039.16 | G41: 55 | H41: 10 | I41: =H41-(SUM(K41:L41)) -> 6 | J41: =IF(I41<0,"ATENÇÃO","OK") -> OK | K41: 1 | L41: 3
C42: 39 | D42: Conserto de fechaduras em geral quando ocorrer a quebra da chave dentro do miolo/cilindro | E42: serviço | F42: 339039.16 | G42: 53 | H42: 20 | I42: =H42-(SUM(K42:L42)) -> 12 | J42: =IF(I42<0,"ATENÇÃO","OK") -> OK | K42: 3 | L42: 5
C43: 40 | D43: Abertura de cofre no segredo | E43: serviço | F43: 339039.16 | G43: 120 | H43: 1 | I43: =H43-(SUM(K43:L43)) -> 1 | J43: =IF(I43<0,"ATENÇÃO","OK") -> OK | K43: 0 | L43: 0
C44: 41 | D44: Troca de segredo em cofre | E44: serviço | F44: 339039.16 | G44: 121 | H44: 1 | I44: =H44-(SUM(K44:L44)) -> 1 | J44: =IF(I44<0,"ATENÇÃO","OK") -> OK | K44: 0 | L44: 0
... C51: 48 | D51: Instalação de fechadura simples em porta (com fornecimento de fechadura) | E51: serviço | F51: 339039-16 | G51: 134.2 | H51: 40 | I51: =H51-(SUM(K51:L51)) -> 29 | J51: =IF(I51<0,"ATENÇÃO","OK") -> OK | K51: 1 | L51: 10
A52: Thaline Huyer da Roza ME | B52: 8 - peças UDESC | C52: 91 | D52: Fornecimento de fechadura para divisoria | E52: Peça | F52: 339030-24 | G52: 85 | H52: 60 | I52: =H52-(SUM(K52:L52)) -> 49 | J52: =IF(I52<0,"ATENÇÃO","OK") -> OK | K52: 6 | L52: 5
...

Sheet CEFID
A1: PROCESSO: 0068/2015/UDESC | D1: OBJETO:AQUISIÇÃO DE MATERIAIS DE CARIMBOS (TODA A UDESC) E CONTRATAÇÃO DE EMPRESA PARA PRESTAÇÃO DE SERVIÇOS DE CHAVEIRO (CAMPUS I, CESFI, CERES, CCT, CEAVI E CEPLAN) | H1: VIGÊNCIA DA ATA 30/04/2015 até 29/04/2016 | K1: AF/OS nº 789/2015 Qtde. DT | L1: AF/OS nº 904/2015 Qtde. DT | M1: AF/OS nº 1252/2015 Qtde. DT | N1: AF/OS nº 1406/2015 Qtde. DT | O1: AF/OS nº 1831/2015 Qtde. DT | P1: AF/OS nº 2204/2015 Qtde. DT | Q1: AF/OS nº 2233/2015 Qtde. DT | R1: AF/OS nº 216/2016 Qtde. DT | S1: AF/OS nº 361/2016 Qtde. DT
A2: CENTRO PARTICIPANTE: CEFID
A3: FORNECEDOR | B3: LOTE | C3: ITEM | D3: PRODUTO - CARACTERÍSTICAS MÍNIMAS | E3: UNIDADE | F3: DETALHAMENTO | G3: Preço UNITÁRIO (R$) | H3: Qtde Registrada | I3: Saldo / Automático | J3: ALERTA | K3: 42142 | L3: 42163 | M3: 42200 | N3: 42227 | O3: 42282 | P3: ...../...../...... | Q3: 42338 | R3: 42440 | S3: 42473
A4: Thaline Huyer da Roza ME | B4: 1 - Carimbos Udesc | C4: 1 | D4: Carimbo confeccionado em fotopolymero, com base em madeira, medindo até 6cm² - valor unitário. | E4: Peça | F4: 339030.16 | G4: 8 | I4: =H4-(SUM(K4:S4)) -> 0 | J4: =IF(I4<0,"ATENÇÃO","OK") -> OK | L4: 0 | M4: 0 | N4: 0 | O4: 0 | P4: 0 | Q4: 0 | R4: 0 | S4: 0
C5: 2 | D5: Carimbo confeccionado em fotopolymero, com base em madeira, medindo de 6cm² até 10cm² - valor unitário. | E5: Peça | F5: 339030.16 | G5: 10 | I5: =H5-(SUM(K5:S5)) -> 0 | J5: =IF(I5<0,"ATENÇÃO","OK") -> OK | K5: 0 | L5: 0 | M5: 0 | N5: 0 | O5: 0 | P5: 0 | Q5: 0 | R5: 0 | S5: 0
C6: 3 | D6: Carimbo confeccionado em fotopolymero, com base em madeira, medindo acima de 10cm² até 20cm² - valor unitário. | E6: Peça | F6: 339030.16 | G6: 16 | I6: =H6-(SUM(K6:S6)) -> 0 | J6: =IF(I6<0,"ATENÇÃO","OK") -> OK | K6: 0 | L6: 0 | M6: 0 | N6: 0 | O6: 0 | P6: 0 | Q6: 0 | R6: 0 | S6: 0
C7: 4 | D7: Carimbo confeccionado em fotopolymero, com base em madeira, medindo acima de 20cm² - valor unitário. | E7: Peça | F7: 339030.16 | G7: 22 | I7: =H7-(SUM(K7:S7)) -> 0 | J7: =IF(I7<0,"ATENÇÃO","OK") -> OK | K7: 0 | L7: 0 | M7: 0 | N7: 0 | O7: 0 | P7: 0 | Q7: 0 | R7: 0 | S7: 0
