Workbook
Name diasuteis: #REF!
Name diasuteis: #REF!
Name diasuteis: #REF!
Name diasuteis: #REF!
Name diasuteis: #REF!
Name diasuteis: #REF!
Name diasuteis: #REF!
Name diasuteis: #REF!
Name diasuteis: #REF!
Name diasuteis: #REF!
Name diasuteis: #REF!
Name diasuteis: #REF!
Name diasuteis: #REF!
Name diasuteis: #REF!
Name diasuteis: #REF!
Name Ferias: #REF!
Name Ferias: #REF!
Name Ferias: #REF!
Name Ferias: #REF!
Name Ferias: #REF!
Name Ferias: #REF!
Name Ferias: #REF!
Name Ferias: #REF!
Name Ferias: #REF!
Name RD: OFFSET(#REF!,(MATCH(SMALL(#REF!,ROW()-10),#REF!,0)-1),0)
Name RD: OFFSET(#REF!,(MATCH(SMALL(#REF!,ROW()-10),#REF!,0)-1),0)
Name RD: OFFSET(#REF!,(MATCH(SMALL(#REF!,ROW()-10),#REF!,0)-1),0)
Name RD: OFFSET(#REF!,(MATCH(SMALL(#REF!,ROW()-10),#REF!,0)-1),0)
Name RD: OFFSET(#REF!,(MATCH(SMALL(#REF!,ROW()-10),#REF!,0)-1),0)
Name RD: OFFSET(#REF!,(MATCH(SMALL(#REF!,ROW()-10),#REF!,0)-1),0)
Name RD: OFFSET(#REF!,(MATCH(SMALL(#REF!,ROW()-10),#REF!,0)-1),0)
Name RD: OFFSET(#REF!,(MATCH(SMALL(#REF!,ROW()-10),#REF!,0)-1),0)
Name RD: OFFSET(#REF!,(MATCH(SMALL(#REF!,ROW()-10),#REF!,0)-1),0)

Sheet Reitoria
A1: PROCESSO: 0067/2015/UDESC | D1: OBJETO: AQUISIÇÃO DE MATERIAL DE HIGIENE E LIMPEZA PARA A UDESC | I1: VIGÊNCIA DA ATA 06/05/2015 até 05/05/2016 | L1: AF/OS nº 698/2015 Qtde. DT | M1: AF/OS nº 699/2015 Qtde. DT | N1: AF/OS nº 700/2015 Qtde. DT | O1: AF/OS nº 701/2015 Qtde. DT | P1: AF/OS nº 702/2015 Qtde. DT | Q1: AF/OS nº 703/2015 Qtde. DT | R1: AF nº 1194/2015 Qtde. DT | S1: AF nº 1363/2015 Qtde. DT | T1: AF nº 1366/2015 Qtde. DT | U1: AF nº 1717/2015 Qtde. DT | V1: AF nº 1979/2015 Qtde. DT | W1: AF nº 2041/2015 Qtde. DT | X1: AF nº 2141/2015 Qtde. DT | Y1: AF nº 2142/2015 Qtde. DT | Z1: AF nº 0089/2016 Qtde. DT | AA1: AF nº 0199/2016 Qtde. DT | AB1: AF nº 310/2016 Qtde. DT | AC1: AF nº 311/2016 Qtde. DT | AD1: AF nº 0385/2016 Qtde. DT | AE1: AF nº 0386/2016 Qtde. DT | AF1: AF nº 0387/2016 Qtde. DT | AG1: AF nº 0388/2016 Qtde. DT
A2: CENTRO PARTICIPANTE: REITORIA
A3: FORNECEDOR | B3: LOTE | C3: ITEM | D3: PRODUTO - CARACTERÍSTICAS MÍNIMAS | E3: UNIDADE | F3: MARCA | G3: DETALHAMENTO | H3: Preço UNITÁRIO (R$) | I3: Qtde Registrada | J3: Saldo / Automático | K3: ALERTA | L3: 42135 | M3: 42135 | N3: 42135 | O3: 42135 | P3: 42135 | Q3: 42135 | R3: 42199 | S3: 42221 | T3: 42221 | U3: 42271 | V3: 42298 | W3: 42304 | X3: 42318 | Y3: 42318 | Z3: 42405 | AA3: 42437 | AB3: 42459 | AC3: 42459 | AD3: 42478 | AE3: 42478 | AF3: 42478 | AG3: 42478
A4: INFRUTÍFERO | B4: 1 | C4: 1 | D4: Sabonete glicerinado, em barra, para uso geral, com aproximadamente 90 gramas, embalagem individual e acondicionados em caixa. (Apresentar: AFE-Autorização de Funcionamento da Empresa e Notificação no MS ANVISA, cfe DECRETO Nº 79.094/77, RDC 343/2005). | E4: Peça | G4: 339030.22 | H4: 0 | J4: =I4-(SUM(L4:AG4)) -> 0 | K4: =IF(J4<0,"ATENÇÃO","OK") -> OK | L4: 0 | M4: 0 | N4: 0 | O4: 0 | P4: 0 | Q4: 0 | R4: 0 | S4: 0 | T4: 0 | U4: 0 | V4: 0 | W4: 0 | X4: 0 | Y4: 0 | Z4: 0 | AA4: 0 | AB4: 0 | AC4: 0 | AD4: 0 | AE4: 0 | AF4: 0 | AG4: 0
C5: 2 | D5: Sabonete líquido aromatizado, fragrância suave, alta viscosidade, hipoalergênico, frasco com 5 litros, acondicionados em caixa de papelão resistente que suporte empilhamento. (Apresentar: Laudo de Irritabilidade Dérmica, conclusivo, que comprove ser HIPOALERGÊNICO, expedido por laboratório credenciado pela ANVISA, AFE-Autorização de Funcionamento da Empresa e Notificação no MS ANVISA, cfe DECRETO Nº 79.094/77, RDC 343/2005). | E5: Galão | G5: 339030.22 | H5: 0 | J5: =I5-(SUM(L5:AG5)) -> 0 | K5: =IF(J5<0,"ATENÇÃO","OK") -> OK | L5: 0 | M5: 0 | N5: 0 | O5: 0 | P5: 0 | Q5: 0 | R5: 0 | S5: 0 | T5: 0 | U5: 0 | V5: 0 | W5: 0 | X5: 0 | Y5: 0 | Z5: 0 | AA5: 0 | AB5: 0 | AC5: 0 | AD5: 0 | AE5: 0 | AF5: 0 | AG5: 0
C6: 3 | D6: Saboneteira em plástico ABS, com válvula, para uso de sabonete em espuma refil 800ml, com abertura em "chave". Cor branca ou bege. | E6: Peça | G6: 339030.22 | H6: 0 | I6: 20 | J6: =I6-(SUM(L6:AG6)) -> 20 | K6: =IF(J6<0,"ATENÇÃO","OK") -> OK | L6: 0 | M6: 0 | N6: 0 | O6: 0 | P6: 0 | Q6: 0 | R6: 0 | S6: 0 | T6: 0 | U6: 0 | V6: 0 | W6: 0 | X6: 0 | Y6: 0 | Z6: 0 | AA6: 0 | AB6: 0 | AC6: 0 | AD6: 0 | AE6: 0 | AF6: 0 | AG6: 0
C7: 4 | D7: Sabonete para uso em saboneteira espumante, sem válvula, refil com 800ml, fragrância erva doce. (Apresentar: Laudo de Irritabilidade Dérmica, conclusivo, que comprove ser HIPOALERGÊNICO, expedido por laboratório credenciado pela ANVISA, AFE-Autorização de Funcionamento da Empresa e Notificação no MS ANVISA, cfe DECRETO Nº 79.094/77, RDC 343/2005). | E7: Peça | G7: 339030.22 | H7: 0 | I7: 350 | J7: =I7-(SUM(L7:AG7)) -> 350 | K7: =IF(J7<0,"ATENÇÃO","OK") -> OK | L7: 0 | M7: 0 | N7: 0 | O7: 0 | P7: 0 | Q7: 0 | R7: 0 | S7: 0 | T7: 0 | U7: 0 | V7: 0 | W7: 0 | X7: 0 | Y7: 0 | Z7: 0 | AA7: 0 | AB7: 0 | AC7: 0 | AD7: 0 | AE7: 0 | AF7: 0 | AG7: 0
A8: Comercial Multiville LTDA EPP | B8: 2 | C8: 5 | D8: Água sanitária para limpeza à base de hipoclocorito de sódio, hidróxido de sódio e água, teor e cloro ativo entre 2,0 e 2,5%. Produto biodegradável, bactericida e germicida, deverá apresentar no O produto deverá apresentar: rótulo indicando data de validade, dados do fabricante, marca, precauções, principio ativo e composição do produto e conteúdo líquido.Embalagem individual, em plástico resistente (que não estoure no empilhamento e de acordo com ABNT/NBR 13390: 05/1995), de material flexível e resistente, com 01 litro, e acondicionado em caixa de papelão resistente que suporte empilhamento. Validade mínima: 6 meses a contar da entrega de cada pedido. (Apresentar AFE-Autorização de Funcionamento da Empresa e Registro no MS ANVISA, cfe DECRETO Nº 79.094/77 e RDC 184/2001). | E8: Litro | F8: Nascente | G8: 339030.22 | H8: 1.21 | I8: 1080 | J8: =I8-(SUM(L8:AG8)) -> 180 | K8: =IF(J8<0,"ATENÇÃO","OK") -> OK | L8: 0 | M8: 180 | N8: 0 | O8: 0 | P8: 0 | Q8: 0 | R8: 0 | S8: 0 | T8: 180 | U8: 0 | V8: 0 | W8: 180 | X8: 0 | Y8: 0 | Z8: 0 | AA8: 240 | AB8: 0 | AC8: 0 | AD8: 0 | AE8: 0 | AF8: 0 | AG8: 120
A9: PKB Prodrutos Químicos LTDA EPP | B9: 3 | C9: 6 | D9: Desinfetante líquido, fragrância talco ou lavanda, com ação bactericida para eliminar germes e bactérias. Princípio ativo: Cloreto de benzalcônio, (Tensoativo Catiônico, teor 0,85% a 1,15 %). O produto deverá apresentar rótulo com: modo de usar, precauções, composição e validade. Embalagem com 500ml de material não reciclado flexível e resistente, acondicionados em caixa de papelão resistente que suporte empilhamento. Data de fabricação e data de validade indicados no produto e na caixa. Validade mínima: 18 meses a contar da entrega de cada pedido. (Apresentar AFE-Autorização de Funcionamento da Empresa e Registro no MS ANVISA, cfe DECRETO Nº 79.094/77 e RDC 184/2001). | E9: Frasco | F9: Sauba | G9: 339030.22 | H9: 1.1 | I9: 840 | J9: =I9-(SUM(L9:AG9)) -> 60 | K9: =IF(J9<0,"ATENÇÃO","OK") -> OK | L9: 0 | M9: 0 | N9: 0 | O9: 240 | P9: 0 | Q9: 0 | R9: 0 | S9: 180 | T9: 0 | U9: 0 | V9: 0 | W9: 0 | X9: 0 | Y9: 180 | Z9: 0 | AA9: 0 | AB9: 0 | AC9: 180 | AD9: 0 | AE9: 0 | AF9: 0 | AG9: 0
C10: 7 | D10: Desinfetante líquido, de uso geral, (tipo creolina), com ação germicida e bactericida. Composição: mistura de fenóis e cresóis, emulsificante e água. Princípio ativo: ácido cresílico a 2,74% de cresóis, embalagem em lata com aproximadamente 750ml, acondicionado caixa de papelão resistente que suporte empilhamento. Apresentar no rótulo no mínimo: data de validade, dados do fabricante, marca, precauções, modo de usar e composição do produto. Data de fabricação e data de validade indicados no produto e na caixa. Validade mínima: 10 meses a contar da entrega de cada pedido. (Apresentar AFE-Autorização de Funcionamento da Empresa e Registro no MS ANVISA, cfe DECRETO Nº 79.094/77 e RDC 184/2001). | E10: Frasco | F10: Ufe | G10: 339030.22 | H10: 6.8 | J10: =I10-(SUM(L10:AG10)) -> 0 | K10: =IF(J10<0,"ATENÇÃO","OK") -> OK | L10: 0 | M10: 0 | N10: 0 | O10: 0 | P10: 0 | Q10: 0 | R10: 0 | S10: 0 | T10: 0 | U10: 0 | V10: 0 | W10: 0 | X10: 0 | Y10: 0 | Z10: 0 | AA10: 0 | AB10: 0 | AC10: 0 | AD10: 0 | AE10: 0 | AF10: 0 | AG10: 0
C11: 8 | D11: Desodorizante aromático para banheiro, (desinfetante para WC), tipo "pedra sanitária de pendurar", com suporte para vaso sanitário, com no mínimo 35 gramas, bactericida, perfume lavanda/floral, devendo a pedra ser embalada em saco plástico lacrado e este em caixa individual. Embalagem/rótulo contendo: especificações, indicações, precauções e modo de usar, nome, endereço, CNPJ do fabricante, registro no Ministério da Saúde, bem como a composição química, nome e registro do técnico ou profissional responsável na entidade profissional competente. Composição: Paradiclorobenzeno, essência. O produto deverá estar acondicionado em caixa de papelão resistente que suporte empilhamento e deverá ter validade mínima de 01 ano a partir da data de fabricação e ser fabricado a menos de 4 meses da data de entrega. (Apresentar: AFE-Autorização de Funcionamento da Empresa e Notificação no MS/ANVISA, cfe. DECRETO Nº 79.094/77 e RDC 184/2001). | E11: Peça | F11: Sany | G11: 339030.22 | H11: 0.73 | I11: 200 | J11: =I11-(SUM(L11:AG11)) -> 200 | K11: =IF(J11<0,"ATENÇÃO","OK") -> OK | L11: 0 | M11: 0 | N11: 0 | O11: 0 | P11: 0 | Q11: 0 | R11: 0 | S11: 0 | T11: 0 | U11: 0 | V11: 0 | W11: 0 | X11: 0 | Y11: 0 | Z11: 0 | AA11: 0 | AB11: 0 | AC11: 0 | AD11: 0 | AE11: 0 | AF11: 0 | AG11: 0
A12: PKB Prodrutos Químicos LTDA EPP | B12: 4 | C12: 9 | D12: Detergente líquido, de alto rendimento, para lavar louças manualmente, neutro, testado dermatologicamente, biodegradável, com aspecto líquido viscoso e transparente, embalado em frasco de 500ml, em plástico flexível, incolor, resistente (que não estoure no empilhamento), de material não reciclado com tampa de bico dosador. Princípio ativo: linear alquilbenzeno sulfonato de sódio. O produto deverá apresentar no rótulo da embalagem: especificações, indicações, precauções e modo de usar, nome, endereço, CNPJ do fabricante, serviço de atendimento ao consumidor, registro, ou notificação válidos no MS/ANVISA, bem como a composição química, nome e registro do técnico ou profissional responsável na entidade profissional competente. Embalagens acondicionadas em caixa com 24 frascos de papelão resistente que suporte empilhamento. Validade mínima: 24 meses a partir da entrega de cada pedido. (Apresentar AFE-Autorização de Funcionamento da Empresa e Notificação no MS/ANVISA, cfe. DECRETO Nº 79.094/77 e RDC 184/2001). | E12: Frasco | F12: Sauba | G12: 339030.22 | H12: 1.1 | I12: 240 | J12: =I12-(SUM(L12:AG12)) -> 0 | K12: =IF(J12<0,"ATENÇÃO","OK") -> OK | L12: 0 | M12: 0 | N12: 0 | O12: 96 | P12: 0 | Q12: 0 | R12: 0 | S12: 36 | T12: 0 | V12: 0 | W12: 0 | X12: 0 | Y12: 108 | Z12: 0 | AA12: 0 | AB12: 0 | AC12: 0 | AD12: 0 | AE12: 0 | AF12: 0 | AG12: 0
C13: 10 | D13: Limpa vidro, em frasco com borrifador com pescante ou pistola spray, embalagem com 500ml em plástico resistente (que não estoure no empilhamento). Princípio ativo: lauril éter sulfato de sódio. Embalagem transparente contendo: especificações, indicações, precauções e modo de usar, nome, endereço, CNPJ do fabricante, serviço de atendimento ao consumidor, registro no Ministério da Saúde, bem como a composição química, nome e registro do técnico ou profissional responsável na entidade profissional competente, com registro ou notificação válidos na ANVISA. Acondicionado em caixa com 12 frascos, em papelão resistente que suporte empilhamento, com identificação na caixa do nome do fabricante e nome do produto. Data de fabricação e data de validade indicados no produto e na caixa. Validade mínima: 24 meses a partir de cada pedido de entrega. (Apresentar AFE-Autorização de Funcionamento da Empresa e Notificação no MS/ANVISA, cfe. DECRETO Nº 79.094/77 e RDC 184/2001). | E13: Frasco | F13: Sauba | G13: 339030.22 | H13: 1.52 | I13: 120 | J13: =I13-(SUM(L13:AG13)) -> 72 | K13: =IF(J13<0,"ATENÇÃO","OK") -> OK | L13: 0 | M13: 0 | N13: 0 | O13: 48 | P13: 0 | Q13: 0 | R13: 0 | S13: 0 | T13: 0 | U13: 0 | V13: 0 | W13: 0 | X13: 0 | Y13: 0 | Z13: 0 | AA13: 0 | AB13: 0 | AC13: 0 | AD13: 0 | AE13: 0 | AF13: 0 | AG13: 0
C14: 11 | D14: Lustra móveis, cremoso, não engordurante, com aroma floral. Contém em sua composição: cera microcristalina, cera de parafina, silicone, emulsificante, espessante, conservante, solventes alifáticos, perfume e água. Embalado em frasco de material resistente, com aproximadamente 200ml. No rotulo do produto deverá conter: especificações, indicações, precauções e modo de usar, nome, endereço, CNPJ do fabricante, serviço de atendimento ao consumidor, registro no Ministério da Saúde, bem como a composição química, nome e registro do técnico ou profissional responsável na entidade profissional competente, com registro ou notificação válidos na ANVISA. Acondicionados em caixa com 12 ou 24 frascos, com identificação do nome do fabricante e o nome do produto. Acondicionados em caixa de papelão resistente que suporte empilhamento. Com data de fabricação e validade indicados no frasco e na caixa. Validade mínima 24 meses a partir de cada pedido de entrega. (Apresentar: AFE-Autorização de Funcionamento da Empresa e Notificação no MS/ANVISA, cfe. DECRETO Nº 79.094/77 e RDC 184/2001). | E14: Frasco | F14: Sauba | G14: 339030.22 | H14: 1.4 | I14: 120 | J14: =I14-(SUM(L14:AG14)) -> 48 | K14: =IF(J14<0,"ATENÇÃO","OK") -> OK | L14: 0 | M14: 0 | N14: 0 | O14: 48 | P14: 0 | Q14: 0 | R14: 0 | S14: 24 | T14: 0 | U14: 0 | V14: 0 | W14: 0 | X14: 0 | Y14: 0 | Z14: 0 | AA14: 0 | AB14: 0 | AC14: 0 | AD14: 0 | AE14: 0 | AF14: 0 | AG14: 0
A15: PKB Prodrutos Químicos LTDA EPP | B15: 5 | C15: 12 | D15: Detergente liquido (Limpador), limpeza pesada, concentrado, (indicação: dispersão e dissolução de gorduras, graxas e manchas em geral). Princípio ativo: Linear dodecil benzeno sulfonato de sódio (LASNa). Apresentar no rótulo no mínimo: data de validade, dados do fabricante, marca, precauções, modo de usar e composição do produto. Embalagem em frasco de material flexível e resistente, com 500ml, com tampa medida e acondicionados em caixa de papelão resistente que suporte empilhamento. Validade mínima: 24 meses a contar da entrega de cada pedido. (Apresentar AFE-Autorização de Funcionamento da Empresa e Notificação no MS ANVISA, cfe DECRETO Nº 79.094/77 e RDC 184/2001). | E15: Peça | F15: Sauba | G15: 339030.22 | H15: 2.2 | I15: =480-240 -> 240 | J15: =I15-(SUM(L15:AG15)) -> 192 | K15: =IF(J15<0,"ATENÇÃO","OK") -> OK | L15: 0 | M15: 0 | N15: 0 | O15: 48 | P15: 0 | Q15: 0 | R15: 0 | S15: 0 | T15: 0 | U15: 0 | V15: 0 | W15: 0 | X15: 0 | Y15: 0 | Z15: 0 | AA15: 0 | AB15: 0 | AC15: 0 | AD15: 0 | AE15: 0 | AF15: 0 | AG15: 0
C16: 13 | D16: Detergente liquido (limpador multiuso), destinado a uso geral, (pisos, louças de banheiros, etc), embalado em frasco de 500ml em plástico flexível, resistente (que não estoure no empilhamento), de material não reciclado com tampa de bico dosador. Princípio ativo: linear alquilbenzeno sulfonato de sódio. O produto deverá apresentar no rótulo da embalagem: especificações, indicações, precauções e modo de usar, nome, endereço, CNPJ do fabricante, serviço de atendimento ao consumidor, registro, ou notificação válidos no MS/ANVISA, bem como a composição química, nome e registro do técnico ou profissional responsável na entidade profissional competente. Embalagens acondicionadas em caixa com 24 frascos de papelão resistente que suporte empilhamento. Validade mínima: 24 meses a partir da entrega de cada pedido. (Apresentar: AFE-Autorização de Funcionamento da Empresa e Notificação no MS/ANVISA, cfe. DECRETO Nº 79.094/77 e RDC 184/2001). | E16: Peça | F16: Sauba | G16: 339030.22 | H16: 1.45 | I16: 840 | J16: =I16-(SUM(L16:AG16)) -> 60 | K16: =IF(J16<0,"ATENÇÃO","OK") -> OK | L16: 0 | M16: 0 | N16: 0 | O16: 240 | P16: 0 | Q16: 0 | R16: 0 | S16: 120 | T16: 0 | U16: 0 | V16: 0 | W16: 0 | X16: 0 | Y16: 180 | Z16: 0 | AA16: 0 | AB16: 0 | AC16: 240 | AD16: 0 | AE16: 0 | AF16: 0 | AG16: 0
A17: Goedert LTDA | B17: 6 | C17: 14 | D17: Saponácea (tipo cristal) para limpeza, com ação abrasiva e desengraxante, a base de mistura de sabão de coco, tensoativo aniônico, carboidrato, quartzo, corante, essência e água, embalado em frasco com 500 gramas, acondicionados em caixa de papelão resistente contendo: especificações, indicações, precauções e modo de usar, nome, endereço, CNPJ do fabricante, bem como a composição química, nome e registro do técnico ou profissional responsável na entidade profissional competente. O produto deverá ter validade mínima de 01 ano a partir da data de fabricação. O produto da não poderá ser fabricado a menos de 4 meses data de cada pedido de entrega. No rotulo do produto deverá conter: composição, prazo de validade, dados do fabricante. (Apresentar: AFE-Autorização de Funcionamento da Empresa e Notificação no MS/ANVISA, cfe. DECRETO Nº 79.094/77 e RDC 184/2001). | E17: Peça | F17: Cristal | G17: 339030.22 | H17: 2.43 | I17: 120 | J17: =I17-(SUM(L17:AG17)) -> 120 | K17: =IF(J17<0,"ATENÇÃO","OK") -> OK | L17: 0 | M17: 0 | N17: 0 | O17: 0 | P17: 0 | Q17: 0 | R17: 0 | S17: 0 | T17: 0 | U17: 0 | V17: 0 | W17: 0 | X17: 0 | Y17: 0 | Z17: 0 | AA17: 0 | AB17: 0 | AC17: 0 | AD17: 0 | AE17: 0 | AF17: 0 | AG17: 0
A18: Luiz Fernando Sebold Comercial | B18: 7 | C18: 15 | D18: Sabão comum, em barra, glicerinado. Composição: Sebo bovino, óleo de babaçu, hidróxido de sódio, glicerina, carga, conservante, sequestrante, fragrância, corantes e veículo. Embalagem (pacote) em filme de polietileno, com no máximo 5 (cinco) barras (peças) de 200g e acondicionados em caixa de papelão resistente que suporte empilhamento. Embalagem/rótulo contendo: especificações, indicações, precauções e modo de usar, nome, endereço, CNPJ do fabricante, bem como a composição química, nome e registro do técnico ou profissional responsável na entidade profissional competente.Obs.: validade mínima de 2 anos a contar da entrega. (Apresentar AFE-Autorização de Funcionamento da Empresa e Notificação no MS/ANVISA, cfe. DECRETO Nº 79.094/77 e RDC 184/2001). | E18: Peça | F18: Zavaski | G18: 339030.22 | H18: 0.63 | I18: 200 | J18: =I18-(SUM(L18:AG18)) -> 0 | K18: =IF(J18<0,"ATENÇÃO","OK") -> OK | L18: 0 | M18: 0 | N18: 0 | O18: 0 | P18: 0 | Q18: 100 | R18: 0 | S18: 0 | T18: 0 | U18: 0 | V18: 0 | W18: 0 | X18: 100 | Y18: 0 | Z18: 0 | AA18: 0 | AB18: 0 | AC18: 0 | AD18: 0 | AE18: 0 | AF18: 0 | AG18: 0
C19: 16 | D19: Sabão de côco, em barra. Composição: ácido graxo, óleo de côco, hidróxido de sódio, carbonato de sódio, cloreto de sódio, branqueador óptico e veículo. Embalagem em filme de polietileno com 5 peças (unidades) de 200g e acondicionados em caixa de papelão resistente que suporte empilhamento. Na rotulagem do produto deverá conter modo de usar, composição, dados do fabricante. (Apresentar AFE-Autorização de Funcionamento da Empresa e Notificação no MS/ANVISA, cfe. DECRETO Nº 79.094/77 e RDC 184/2001). | E19: Peça | F19: Zavaski | G19: 339030.22 | H19: 1.08 | J19: =I19-(SUM(L19:AG19)) -> 0 | K19: =IF(J19<0,"ATENÇÃO","OK") -> OK | L19: 0 | M19: 0 | N19: 0 | O19: 0 | P19: 0 | Q19: 0 | R19: 0 | S19: 0 | T19: 0 | U19: 0 | V19: 0 | W19: 0 | X19: 0 | Y19: 0 | Z19: 0 | AA19: 0 | AB19: 0 | AC19: 0 | AD19: 0 | AE19: 0 | AF19: 0 | AG19: 0
C20: 17 | D20: Saponáceo em pó, em frasco com 300g, com aplicador econômico. Composição: tensoativo aniônico e não iônicos, biodegradável, alcalizante, agente abrasivo, corante e essência. Princípio ativo: Linear Alquilbezeno Sulfonato de Sódio. Embalagens acondicionadas em caixa de papelão resistente que suporte empilhamento. Embalagem/rótulo contendo: especificações, indicações, precauções e modo de usar, nome, endereço, CNPJ do fabricante, bem como a composição química, nome e registro do técnico ou profissional responsável na entidade profissional competente. (Apresentar: AFE-Autorização de Funcionamento da Empresa e Notificação no MS/ANVISA, cfe. DECRETO Nº 79.094/77 e RDC 184/2001). | E20: Frasco | F20: Sany | G20: 339030.22 | H20: 1.35 | I20: 720 | J20: =I20-(SUM(L20:AG20)) -> 720 | K20: =IF(J20<0,"ATENÇÃO","OK") -> OK | L20: 0 | M20: 0 | N20: 0 | O20: 0 | P20: 0 | Q20: 0 | R20: 0 | S20: 0 | T20: 0 | U20: 0 | V20: 0 | W20: 0 | X20: 0 | Y20: 0 | Z20: 0 | AA20: 0 | AB20: 0 | AC20: 0 | AD20: 0 | AE20: 0 | AF20: 0 | AG20: 0
C21: 18 | D21: Sabão em pó, sem amaciante, atomizado (granulado). Princípio ativo: Linear Alquil Benzeno Sulfonato de Sódio. O produto deverá apresentar: rótulo indicando data de validade, dados do fabricante, marca, precauções, principio ativo e composição do produto e peso líquido. O produto deverá ter validade de 18 meses a partir da data do pedido de entrega. Embalagens primárias com no mínimo 900 gramas, acondicionados em caixa de papelão resistente. (Apresentar: AFE-Autorização de Funcionamento da Empresa e Notificação no MS/ANVISA, cfe. DECRETO Nº 79.094/77 e RDC 184/2001). | E21: Peça | F21: Ultra Class | G21: 339030.22 | H21: 3.32 | I21: 150 | J21: =I21-(SUM(L21:AG21)) -> 10 | K21: =IF(J21<0,"ATENÇÃO","OK") -> OK | L21: 0 | M21: 0 | N21: 0 | O21: 0 | P21: 0 | Q21: 50 | R21: 0 | S21: 0 | T21: 0 | U21: 0 | V21: 0 | W21: 0 | X21: 50 | Y21: 0 | Z21: 0 | AA21: 0 | AB21: 0 | AC21: 0 | AD21: 0 | AE21: 0 | AF21: 40 | AG21: 0
A22: PKB Prodrutos Químicos LTDA EPP | B22: 8 | C22: 19 | D22: Álcool etílico em gel, com concentração de 68% a 72%, para uso geral em higienização e desinfecção de superfícies, (móveis, etc) embalado em frasco com 500g. Obs.: Embalagem contendo: especificações, indicações, precauções e modo de usar, nome, endereço, CNPJ do fabricante, serviço de atendimento ao consumidor, registro no Ministério da Saúde, nome e registro do técnico ou profissional responsável na entidade profissional competente. Acondicionado em caixa com 12 litros, confeccionada em papelão resistente que suporte empilhamento; com identificação do nome do produto e do fabricante. A embalagem deverá ostentar a identificação de certidão obtida no âmbito do Sistema Brasileiro de Certificação - SBC, demonstrando conformidade à norma BNR 5991:1997, da Associação Brasileira de Normas Técnicas - ABNT, conforme exigência da Portaria n. 15 do INMETRO, de 29-01-2001. Data de fabricação, data de validade indicados no produto e na caixa. Validade mínima: 24 meses a partir de cada pedido de entrega. (Apresentar: AFE-Autorização de Funcionamento da Empresa e Registro no MS ANVISA, cfe. Lei 6360/76, DECRETO Nº 79.094/77, RDC 184/2001). | E22: Frasco | F22: Sauba | G22: 339030.22 | H22: 3.03 | I22: =1080-500 -> 580 | J22: =I22-(SUM(L22:AG22)) -> 364 | K22: =IF(J22<0,"ATENÇÃO","OK") -> OK | L22: 0 | M22: 0 | N22: 0 | O22: 72 | P22: 0 | Q22: 0 | R22: 0 | S22: 48 | T22: 0 | U22: 0 | V22: 0 | W22: 0 | X22: 0 | Y22: 48 | Z22: 0 | AA22: 0 | AB22: 0 | AC22: 48 | AD22: 0 | AE22: 0 | AF22: 0 | AG22: 0
A23: Vencoli Brasil Distribuidora LTDA ME | B23: 9 | C23: 20 | D23: Álcool etílico hidratado, para uso geral, com teor alcoólico de 70º INPM, sem perfume, embalagem plástica de 1 litro (que não estoure no empilhamento). Embalagem contendo: especificações, indicações, precauções e modo de usar, nome, endereço, CNPJ do fabricante, serviço de atendimento ao consumidor, nome e registro do técnico ou profissional responsável na entidade profissional competente. Acondicionado em caixa com 12 litros, confeccionada em papelão resistente que suporte empilhamento; com identificação do nome do produto e do fabricante. A embalagem deverá ostentar a identificação de certidão obtida no âmbito do Sistema Brasileiro de Certificação - SBC, demonstrando conformidade à norma BNR 5991:1997, da Associação Brasileira de Normas Técnicas - ABNT, conforme exigência da Portaria n. 15 do INMETRO, de 29-01-2001. Data de fabricação, data de validade indicados no produto e na caixa. Validade mínima: 24 meses a partir de cada pedido de entrega. (Apresentar: AFE-Autorização de Funcionamento da Empresa e Registro no MS ANVISA, cfe. Lei 6360/76, DECRETO Nº 79.094/77, RDC 184/2001). | E23: Frasco | F23: Mega/70º INPM/Mega Química Indústria e Comercio LTDA | G23: 339030.22 | H23: 3.24 | I23: =150+300 -> 450 | J23: =I23-(SUM(L23:AG23)) -> 0 | K23: =IF(J23<0,"ATENÇÃO","OK") -> OK | L23: 150 | M23: 0 | N23: 0 | O23: 0 | P23: 0 | Q23: 0 | R23: 0 | S23: 0 | T23: 0 | U23: 300 | V23: 0 | W23: 0 | X23: 0 | Y23: 0 | Z23: 0 | AA23: 0 | AB23: 0 | AC23: 0 | AD23: 0 | AE23: 0 | AF23: 0 | AG23: 0
A24: Goedert LTDA | B24: 10 | C24: 21 | D24: Copo de plástico (PP ou PS), descartável, cor branca, capacidade mínima para 180 ml, embalagem em mangas com 100 unidades, pesando no mínimo 162g, (1,62g por copo, com paredes homogêneas, sem falhas, amassamentos ou rebarbas e dobras oriundas de defeito na fabricação ou sujidade interna ou externa, com bordas não cortantes e com no máximo 02 amostras (unidades) por manga com massa abaixo do mínimo exigido), com Registro no INMETRO, acondicionados em caixa de papelão resistente que suporte empilhamento. (Será analisada a amostra pelo responsável técnico, de uma caixa lacrada de fábrica com 25 centos, através da pesagem aleatória dos pacotes). | E24: Cento | F24: Minaplast | G24: 339030.21 | H24: 2.47 | I24: 3000 | J24: =I24-(SUM(L24:AG24)) -> 375 | K24: =IF(J24<0,"ATENÇÃO","OK") -> OK | L24: 0 | M24: 0 | N24: 500 | O24: 0 | P24: 0 | Q24: 0 | R24: 500 | S24: 0 | T24: 0 | U24: 0 | V24: 1000 | W24: 0 | X24: 0 | Y24: 0 | Z24: 0 | AA24: 0 | AB24: 0 | AC24: 0 | AD24: 625 | AE24: 0 | AF24: 0 | AG24: 0
C25: 22 | D25: Copo de plástico (PP ou PS), descartável, cor branca, capacidade mínima para 50 ml, embalagem em mangas com 100 unidades, pesando no mínimo 75g, (0,75g por copo, com paredes homogêneas, sem falhas, amassamentos ou rebarbas e dobras oriundas de defeito na fabricação ou sujidade interna ou externa, com bordas não cortantes e com no máximo 02 amostras (unidades) por manga com massa abaixo do mínimo exigido), com Registro no INMETRO, acondicionados em caixa de papelão resistente que suporte empilhamento. (Será analisada a amostra pelo responsável técnico, de uma caixa lacrada de fábrica com 50 centos, através da pesagem aleatória dos pacotes). | E25: Cento | F25: Minaplast | G25: 339030.21 | H25: 1.21 | J25: =I25-(SUM(L25:AG25)) -> 0 | K25: =IF(J25<0,"ATENÇÃO","OK") -> OK | L25: 0 | M25: 0 | N25: 0 | O25: 0 | P25: 0 | Q25: 0 | R25: 0 | S25: 0 | T25: 0 | U25: 0 | V25: 0 | W25: 0 | X25: 0 | Y25: 0 | Z25: 0 | AA25: 0 | AB25: 0 | AC25: 0 | AD25: 0 | AE25: 0 | AF25: 0 | AG25: 0
A26: Elo Comércio e Serviços LTDA ME | B26: 11 | C26: 23 | D26: Garrafa térmica com alça, capacidade 1 litro, em material plástico resistente e ampola de vidro substituível, bomba-serve-a-jato (jato forte) e sistema anti-pingos, cores lisas (sem estampas), tempo de conservação térmico aproximado de 6h, testadas conforme NBR13282, da ABNT, acondicionadas em caixa de papelão resistente que suporte empilhamento. | E26: Peça | F26: Invicta | G26: 339030.21 | H26: 32.97 | I26: 60 | J26: =I26-(SUM(L26:AG26)) -> 12 | K26: =IF(J26<0,"ATENÇÃO","OK") -> OK | L26: 0 | M26: 0 | N26: 0 | O26: 0 | P26: 30 | Q26: 0 | R26: 0 | S26: 0 | T26: 0 | U26: 0 | V26: 0 | W26: 0 | X26: 0 | Y26: 0 | Z26: 0 | AA26: 0 | AB26: 18 | AC26: 0 | AD26: 0 | AE26: 0 | AF26: 0 | AG26: 0
A27: INFRUTÍFERO | B27: 12 | C27: 24 | D27: Pano de copa, em tecido 100% algodão, branco alvejado, medindo 0,70 x 0,50m, com bainha, com peso mínimo de 70g, admitindo-se variação de até 10% no peso e na medida; embalados individualmente, acondicionados em pacote com 50 unidades. O pano deverá conter etiqueta de fábrica indicando a composição do tecido e a metragem. Prazo de validade: 12 meses a partir de cada entrega de pedido. | E27: Peça | G27: 339030.22 | H27: 0 | I27: 150 | J27: =I27-(SUM(L27:AG27)) -> 150 | K27: =IF(J27<0,"ATENÇÃO","OK") -> OK | L27: 0 | M27: 0 | N27: 0 | O27: 0 | P27: 0 | Q27: 0 | R27: 0 | S27: 0 | T27: 0 | U27: 0 | V27: 0 | W27: 0 | X27: 0 | Y27: 0 | Z27: 0 | AA27: 0 | AB27: 0 | AC27: 0 | AD27: 0 | AE27: 0 | AF27: 0 | AG27: 0
C28: 25 | D28: Saco de tecido, 100% algodão, para limpeza, lavado e alvejado, medidas externas: 70 cm de altura x 50 cm de largura, com peso mínimo de 190 gramas (admitindo-se variação de até 10% no peso e nas medidas), embalados em pacote com 10 unidades e acondicionados em fardos com 5 pacotes. O pano deverá conter etiqueta de fábrica informando a composição do tecido e metragem. Prazo de validade: 12 meses a partir de cada pedido de entrega. | E28: Peça | G28: 339030.22 | H28: 0 | I28: 250 | J28: =I28-(SUM(L28:AG28)) -> 250 | K28: =IF(J28<0,"ATENÇÃO","OK") -> OK | L28: 0 | M28: 0 | N28: 0 | O28: 0 | P28: 0 | Q28: 0 | R28: 0 | S28: 0 | T28: 0 | U28: 0 | V28: 0 | W28: 0 | X28: 0 | Y28: 0 | Z28: 0 | AA28: 0 | AB28: 0 | AC28: 0 | AD28: 0 | AE28: 0 | AF28: 0 | AG28: 0
C29: 26 | D29: Flanela, peluciada em ambos os lados, para limpeza medindo 0,60 x 0,40 metros (admitindo-se variação de até 10%), com bordas chuleadas, embaladas individualmente e acondicionadas em pacote com 50 unidades. | E29: Peça | G29: 339030.22 | H29: 0 | I29: 300 | J29: =I29-(SUM(L29:AG29)) -> 300 | K29: =IF(J29<0,"ATENÇÃO","OK") -> OK | AC29: 0 | AD29: 0 | AE29: 0 | AF29: 0 | AG29: 0
A30: Vencoli Brasil Distribuidora LTDA ME | B30: 13 | C30: 27 | D30: Papel higiênico, folha dupla, gramatura 12g/m2 a 15g/m2 por folha, neutro, alta qualidade, gofrado, picotado, macio com alto poder de absorção, 100% celulose virgem, na cor branca, alta alvura, sem pigmentação aparente oriunda da utilização de aparas de material impresso; com distribuição homogênea das fibras ao longo do papel , sem rebarbas no corte lateral; rolo com 30 metros, embalados em pacotes com 4 unidades e acondicionados em fardos com 64 rolos. (A vencedora apresentará, em até 02 dias úteis: Laudo Microbiológico, conforme Portaria MS nº 1.480 de 31/12/90, de laboratório credenciado pelo INMETRO. | E30: Rolo | F30: Ouroppel/Supreme/Ouroppel Distribuidora de Prod. De Hig. E Limpeza LTDA | G30: 339030.22 | H30: 0.76 | I30: 6400 | J30: =I30-(SUM(L30:AG30)) -> 4032 | K30: =IF(J30<0,"ATENÇÃO","OK") -> OK | L30: 1600 | U30: 768 | AC30: 0 | AD30: 0 | AE30: 0 | AF30: 0 | AG30: 0
A31: AGUARDANDO RECURSO | B31: 14 | C31: 28 | D31: Papel higiênico, folha simples, de qualidade, na cor branca, 100% celulose virgem, fibras naturais, sem pigmentação aparente, gramatura mínima de 16g/m2, neutro, macio, com alto poder de absorção, com distribuição homogênea das fibras ao longo do papel, sem rebarbas no corte lateral; rolo com 500 metros X 10cm de largura, embalado em fardo com 08 rolos. (A vencedora apresentará, em até 02 dias úteis: Laudo Microbiológico, conforme Portaria MS nº 1.480 de 31/12/90, de laboratório credenciado pelo INMETRO, ou habilitado no REBLAS/ANVISA. Será analisada a amostra pelo responsável técnico, através da aplicação da fórmula - peso mínimo: 500X0,10X16=800 gramas). | E31: Rolo | F31: Indaial/Extra Luxo/Indaial papel e Embalagens LTDA | G31: 339030.22 | H31: 5.84 | I31: 1600 | J31: =I31-(SUM(L31:AG31)) -> 1600 | K31: =IF(J31<0,"ATENÇÃO","OK") -> OK | AC31: 0 | AD31: 0 | AE31: 0 | AF31: 0 | AG31: 0
A32: Vencoli Brasil Distribuidora LTDA ME | B32: 15 | C32: 29 | D32: Papel toalha, folha intercalada, gramatura mínima 28g/m2, cor branca, alta alvura, 100% celulose virgem; sem pigmentação oriunda da utilização de aparas de material impresso, com alto poder de absorção, com distribuição homogênea das fibras ao longo do papel, macio, sem rebarbas no corte lateral; medindo: 23 cm de largura X 20 cm de comprimento (0,5cm de tolerância acima ou abaixo). Para efeito de cotação considerar a embalagem primária: fardo com 05 maços de 250 folhas, totalizando 1.250 folhas. (Obs.: exclusivamente para facilitar o manuseio, acondicionar em embalagem secundaria, em grandes fardos, em plástico resistente, contendo 5 (cinco) embalagens primarias). (A vencedora apresentará, em até 02 dias úteis: Laudo Microbiológico, conforme Portaria MS nº 1.480 de 31/12/90 de laboratório credenciado pelo INMETRO. Será analisada a amostra pelo responsável técnico, verificando as medidas e aplicando a fórmula: 0,225X0,195X28X1250=1535 gramas) | E32: Fardo | F32: Delicattol/Extra Luxo/Fortpel | G32: 339030.22 | H32: 11.05 | I32: 2000 | J32: =I32-(SUM(L32:AG32)) -> 850 | K32: =IF(J32<0,"ATENÇÃO","OK") -> OK | L32: 350 | U32: 200 | Z32: 300 | AC32: 0 | AD32: 0 | AE32: 300 | AF32: 0 | AG32: 0
A33: INFRUTÍFERO | B33: 16 | C33: 30 | D33: Papel toalha rolão, gramatura mínima 28g/m2, cor branca, 100% celulose virgem, sem pigmentação aparente oriunda da utilização de aparas de material impresso, gofrado, macio, com alto poder de absorção, distribuição homogênea das fibras ao longo do papel, sem rebarbas no corte lateral; rolo com 0,20x100 metros; embalado em fardo com 8 rolos. (A vencedora apresentará, em até 02 dias úteis: laudo microbiológico, conforme Portaria MS nº 1.480 de 31/12/90., de laboratório credenciado pelo INMETRO, ou habilitado no REBLAS/ANVISA. Será analisada a amostra pelo responsável técnico, através da aplicação da fórmula - peso mínimo: 0,20X100X28=560 gramas). | E33: Rolo | G33: 339030.22 | H33: 0 | J33: =I33-(SUM(L33:AG33)) -> 0 | K33: =IF(J33<0,"ATENÇÃO","OK") -> OK | AC33: 0 | AD33: 0 | AE33: 0 | AF33: 0 | AG33: 0
A34: INFRUTÍFERO | B34: 17 | C34: 31 | D34: Balde plástico com alça, borda reforçada, com capacidade para aproximadamente 15 (quinze) litros, cores diversas. Balde plástico polietileno de alta densidade (PAED), alta resistência a impacto, paredes e fundos reforçados, alça em aço zincado e com reforço na borda e no encaixe da alça, com capacidade para aproximadamente 15 (quinze) litros, cores diversas. | E34: Peça | G34: 339030.22 | H34: 0 | I34: 30 | J34: =I34-(SUM(L34:AG34)) -> 30 | K34: =IF(J34<0,"ATENÇÃO","OK") -> OK | AC34: 0 | AD34: 0 | AE34: 0 | AF34: 0 | AG34: 0
C35: 32 | D35: Escova para limpeza de vaso sanitário com suporte (do tipo vassoura, em forma de bola ou meia bola), com cerdas arredondadas em nylon; cabo e suporte em polipropileno; dimensão: 36x7.5x36cm, aproximadamente. | E35: Peça | G35: 339030.22 | H35: 0 | I35: 30 | J35: =I35-(SUM(L35:AG35)) -> 30 | K35: =IF(J35<0,"ATENÇÃO","OK") -> OK | AC35: 0 | AD35: 0 | AE35: 0 | AF35: 0 | AG35: 0
C36: 33 | D36: Escovão para limpeza, com cerdas de nylon, base em material plástico ou polipropileno resistente com aproximadamente 25 cm e cabo de madeira isenta de farpas, revestido em material plástico ou polipropileno, medindo aproximadamente 1,20 metros, fixação com sistema de rosca (resistente). | E36: Peça | G36: 339030.22 | H36: 0 | I36: 10 | J36: =I36-(SUM(L36:AG36)) -> 10 | K36: =IF(J36<0,"ATENÇÃO","OK") -> OK | AC36: 0 | AD36: 0 | AE36: 0 | AF36: 0 | AG36: 0
C37: 34 | D37: Esfregão (esponja) de aço, para limpeza de panela, com 15g (admitindo-se variação de até 1g), embalagem individual, em invólucro plástico lacrado, acondicionados em caixa de papelão resistente que suporte empilhamento. Prazo de validade: 12 meses a partir de cada entrega de pedido. | E37: Peça | G37: 339030.22 | H37: 0 | I37: 50 | J37: =I37-(SUM(L37:AG37)) -> 50 | K37: =IF(J37<0,"ATENÇÃO","OK") -> OK | AC37: 0 | AD37: 0 | AE37: 0 | AF37: 0 | AG37: 0
C38: 35 | D38: Lã de aço, (em aço carbono), para limpeza e brilho, embalagem em pacote plástico lacrado com 08 unidades, pesando no mínimo 60g e acondicionadas em caixa de papelão resistente que suporte empilhamento. | E38: Pacote | G38: 339030.22 | H38: 0 | I38: 50 | J38: =I38-(SUM(L38:AG38)) -> 50 | K38: =IF(J38<0,"ATENÇÃO","OK") -> OK | AC38: 0 | AD38: 0 | AE38: 0 | AF38: 0 | AG38: 0
C39: 36 | D39: Pá para lixo, de material plástico resistente, cabo curto, corpo único, acondicionadas em caixa de papelão resistente que suporte empilhamento. | E39: Peça | G39: 339030.22 | H39: 0 | I39: 25 | J39: =I39-(SUM(L39:AG39)) -> 25 | K39: =IF(J39<0,"ATENÇÃO","OK") -> OK | AC39: 0 | AD39: 0 | AE39: 0 | AF39: 0 | AG39: 0
C40: 37 | D40: Guardanapo de papel, cor branca, macio, com alto poder de absorção, gramatura 19g a 22g/m2, medindo 30cm x 30cm, sem rebarbas no corte lateral, em embalagem com 50 (cinqüenta) unidades, acondicionado em caixa de papelão resistente que suporte empilhamento. (A vencedora apresentará, em até 02 dias úteis: Laudo Microbiológico, conforme Portaria MS nº 1.480 de 31/12/90., de laboratório credenciado pelo INMETRO, ou habilitado no REBLAS/ANVISA. | E40: Pacote | G40: 339030.22 | H40: 0 | I40: 1000 | J40: =I40-(SUM(L40:AG40)) -> 1000 | K40: =IF(J40<0,"ATENÇÃO","OK") -> OK | AC40: 0 | AD40: 0 | AE40: 0 | AF40: 0 | AG40: 0
...

Sheet ESAG
A1: PROCESSO: 0067/2015/UDESC | D1: OBJETO: AQUISIÇÃO DE MATERIAL DE HIGIENE E LIMPEZA PARA A UDESC | I1: VIGÊNCIA DA ATA 06/05/2015 até 05/05/2016 | L1: AF/OS nº 803/2015/2015 Qtde. DT | M1: AF/OS nº 804/2015 Qtde. DT | N1: AF/OS nº 805/2015 Qtde. DT | O1: AF/OS nº 806/2015 Qtde. DT | P1: AF/OS nº 807/2015 Qtde. DT | Q1: AF/OS nº 1150/2015 Qtde. DT | R1: AF/OS nº 1153/2015Qtde. DT | S1: AF/OS nº 1740/2015 Qtde. DT | T1: AF/OS nº 1150/2015 Qtde. DT | U1: AF/OS nº 126/2016 Qtde. DT | V1: AF/OS nº 136/2016 Qtde. DT | W1: AF/OS nº 137/2016 Qtde. DT | X1: 257/2016 | Y1: 411/2016
A2: CENTRO PARTICIPANTE: ESAG
A3: FORNECEDOR | B3: LOTE | C3: ITEM | D3: PRODUTO - CARACTERÍSTICAS MÍNIMAS | E3: UNIDADE | F3: MARCA | G3: DETALHAMENTO | H3: Preço UNITÁRIO (R$) | I3: Qtde Registrada | J3: Saldo / Automático | K3: ALERTA | L3: ...../...../...... | M3: ...../...../...... | N3: ...../...../...... | O3: ...../...../...... | P3: ...../...../...... | Q3: ...../...../...... | R3: ...../...../...... | S3: ...../...../...... | T3: ...../...../...... | U3: ...../...../...... | V3: ...../...../...... | W3: ...../...../......
A4: INFRUTÍFERO | B4: 1 | C4: 1 | D4: Sabonete glicerinado, em barra, para uso geral, com aproximadamente 90 gramas, embalagem individual e acondicionados em caixa. (Apresentar: AFE-Autorização de Funcionamento da Empresa e Notificação no MS ANVISA, cfe DECRETO Nº 79.094/77, RDC 343/2005). | E4: Peça | G4: 339030.22 | H4: 0 | J4: =I4-(SUM(L4:Y4)) -> 0 | K4: =IF(J4<0,"ATENÇÃO","OK") -> OK | T4: 0 | U4: 0
C5: 2 | D5: Sabonete líquido aromatizado, fragrância suave, alta viscosidade, hipoalergênico, frasco com 5 litros, acondicionados em caixa de papelão resistente que suporte empilhamento. (Apresentar: Laudo de Irritabilidade Dérmica, conclusivo, que comprove ser HIPOALERGÊNICO, expedido por laboratório credenciado pela ANVISA, AFE-Autorização de Funcionamento da Empresa e Notificação no MS ANVISA, cfe DECRETO Nº 79.094/77, RDC 343/2005). | E5: Galão | G5: 339030.22 | H5: 0 | I5: 390 | J5: =I5-(SUM(L5:Y5)) -> 390 | K5: =IF(J5<0,"ATENÇÃO","OK") -> OK | U5: 0
C6: 3 | D6: Saboneteira em plástico ABS, com válvula, para uso de sabonete em espuma refil 800ml, com abertura em "chave". Cor branca ou bege. | E6: Peça | G6: 339030.22 | H6: 0 | J6: =I6-(SUM(L6:Y6)) -> 0 | K6: =IF(J6<0,"ATENÇÃO","OK") -> OK | U6: 0
C7: 4 | D7: Sabonete para uso em saboneteira espumante, sem válvula, refil com 800ml, fragrância erva doce. (Apresentar: Laudo de Irritabilidade Dérmica, conclusivo, que comprove ser HIPOALERGÊNICO, expedido por laboratório credenciado pela ANVISA, AFE-Autorização de Funcionamento da Empresa e Notificação no MS ANVISA, cfe DECRETO Nº 79.094/77, RDC 343/2005). | E7: Peça | G7: 339030.22 | H7: 0 | J7: =I7-(SUM(L7:Y7)) -> 0 | K7: =IF(J7<0,"ATENÇÃO","OK") -> OK
A8: Comercial Multiville LTDA EPP | B8: 2 | C8: 5 | D8: Água sanitária para limpeza à base de hipoclocorito de sódio, hidróxido de sódio e água, teor e cloro ativo entre 2,0 e 2,5%. Produto biodegradável, bactericida e germicida, deverá apresentar no O produto deverá apresentar: rótulo indicando data de validade, dados do fabricante, marca, precauções, principio ativo e composição do produto e conteúdo líquido.Embalagem individual, em plástico resistente (que não estoure no empilhamento e de acordo com ABNT/NBR 13390: 05/1995), de material flexível e resistente, com 01 litro, e acondicionado em caixa de papelão resistente que suporte empilhamento. Validade mínima: 6 meses a contar da entrega de cada pedido. (Apresentar AFE-Autorização de Funcionamento da Empresa e Registro no MS ANVISA, cfe DECRETO Nº 79.094/77 e RDC 184/2001). | E8: Litro | F8: Nascente | G8: 339030.22 | H8: 1.21 | I8: 936 | J8: =I8-(SUM(L8:Y8)) -> 720 | K8: =IF(J8<0,"ATENÇÃO","OK") -> OK | M8: 96 | W8: 120
A9: PKB Prodrutos Químicos LTDA EPP | B9: 3 | C9: 6 | D9: Desinfetante líquido, fragrância talco ou lavanda, com ação bactericida para eliminar germes e bactérias. Princípio ativo: Cloreto de benzalcônio, (Tensoativo Catiônico, teor 0,85% a 1,15 %). O produto deverá apresentar rótulo com: modo de usar, precauções, composição e validade. Embalagem com 500ml de material não reciclado flexível e resistente, acondicionados em caixa de papelão resistente que suporte empilhamento. Data de fabricação e data de validade indicados no produto e na caixa. Validade mínima: 18 meses a contar da entrega de cada pedido. (Apresentar AFE-Autorização de Funcionamento da Empresa e Registro no MS ANVISA, cfe DECRETO Nº 79.094/77 e RDC 184/2001). | E9: Frasco | F9: Sauba | G9: 339030.22 | H9: 1.1 | I9: 936 | J9: =I9-(SUM(L9:Y9)) -> 672 | K9: =IF(J9<0,"ATENÇÃO","OK") -> OK | P9: 120 | S9: 48 | Y9: 96
C10: 7 | D10: Desinfetante líquido, de uso geral, (tipo creolina), com ação germicida e bactericida. Composição: mistura de fenóis e cresóis, emulsificante e água. Princípio ativo: ácido cresílico a 2,74% de cresóis, embalagem em lata com aproximadamente 750ml, acondicionado caixa de papelão resistente que suporte empilhamento. Apresentar no rótulo no mínimo: data de validade, dados do fabricante, marca, precauções, modo de usar e composição do produto. Data de fabricação e data de validade indicados no produto e na caixa. Validade mínima: 10 meses a contar da entrega de cada pedido. (Apresentar AFE-Autorização de Funcionamento da Empresa e Registro no MS ANVISA, cfe DECRETO Nº 79.094/77 e RDC 184/2001). | E10: Frasco | F10: Ufe | G10: 339030.22 | H10: 6.8 | J10: =I10-(SUM(L10:Y10)) -> 0 | K10: =IF(J10<0,"ATENÇÃO","OK") -> OK
C11: 8 | D11: Desodorizante aromático para banheiro, (desinfetante para WC), tipo "pedra sanitária de pendurar", com suporte para vaso sanitário, com no mínimo 35 gramas, bactericida, perfume lavanda/floral, devendo a pedra ser embalada em saco plástico lacrado e este em caixa individual. Embalagem/rótulo contendo: especificações, indicações, precauções e modo de usar, nome, endereço, CNPJ do fabricante, registro no Ministério da Saúde, bem como a composição química, nome e registro do técnico ou profissional responsável na entidade profissional competente. Composição: Paradiclorobenzeno, essência. O produto deverá estar acondicionado em caixa de papelão resistente que suporte empilhamento e deverá ter validade mínima de 01 ano a partir da data de fabricação e ser fabricado a menos de 4 meses da data de entrega. (Apresentar: AFE-Autorização de Funcionamento da Empresa e Notificação no MS/ANVISA, cfe. DECRETO Nº 79.094/77 e RDC 184/2001). | E11: Peça | F11: Sany | G11: 339030.22 | H11: 0.73 | J11: =I11-(SUM(L11:Y11)) -> 0 | K11: =IF(J11<0,"ATENÇÃO","OK") -> OK
A12: PKB Prodrutos Químicos LTDA EPP | B12: 4 | C12: 9 | D12: Detergente líquido, de alto rendimento, para lavar louças manualmente, neutro, testado dermatologicamente, biodegradável, com aspecto líquido viscoso e transparente, embalado em frasco de 500ml, em plástico flexível, incolor, resistente (que não estoure no empilhamento), de material não reciclado com tampa de bico dosador. Princípio ativo: linear alquilbenzeno sulfonato de sódio. O produto deverá apresentar no rótulo da embalagem: especificações, indicações, precauções e modo de usar, nome, endereço, CNPJ do fabricante, serviço de atendimento ao consumidor, registro, ou notificação válidos no MS/ANVISA, bem como a composição química, nome e registro do técnico ou profissional responsável na entidade profissional competente. Embalagens acondicionadas em caixa com 24 frascos de papelão resistente que suporte empilhamento. Validade mínima: 24 meses a partir da entrega de cada pedido. (Apresentar AFE-Autorização de Funcionamento da Empresa e Notificação no MS/ANVISA, cfe. DECRETO Nº 79.094/77 e RDC 184/2001). | E12: Frasco | F12: Sauba | G12: 339030.22 | H12: 1.1 | I12: 390 | J12: =I12-(SUM(L12:Y12)) -> 174 | K12: =IF(J12<0,"ATENÇÃO","OK") -> OK | P12: 48 | S12: 120 | Y12: 48
C13: 10 | D13: Limpa vidro, em frasco com borrifador com pescante ou pistola spray, embalagem com 500ml em plástico resistente (que não estoure no empilhamento). Princípio ativo: lauril éter sulfato de sódio. Embalagem transparente contendo: especificações, indicações, precauções e modo de usar, nome, endereço, CNPJ do fabricante, serviço de atendimento ao consumidor, registro no Ministério da Saúde, bem como a composição química, nome e registro do técnico ou profissional responsável na entidade profissional competente, com registro ou notificação válidos na ANVISA. Acondicionado em caixa com 12 frascos, em papelão resistente que suporte empilhamento, com identificação na caixa do nome do fabricante e nome do produto. Data de fabricação e data de validade indicados no produto e na caixa. Validade mínima: 24 meses a partir de cada pedido de entrega. (Apresentar AFE-Autorização de Funcionamento da Empresa e Notificação no MS/ANVISA, cfe. DECRETO Nº 79.094/77 e RDC 184/2001). | E13: Frasco | F13: Sauba | G13: 339030.22 | H13: 1.52 | I13: 234 | J13: =I13-(SUM(L13:Y13)) -> 210 | K13: =IF(J13<0,"ATENÇÃO","OK") -> OK | P13: 24
C14: 11 | D14: Lustra móveis, cremoso, não engordurante, com aroma floral. Contém em sua composição: cera microcristalina, cera de parafina, silicone, emulsificante, espessante, conservante, solventes alifáticos, perfume e água. Embalado em frasco de material resistente, com aproximadamente 200ml. No rotulo do produto deverá conter: especificações, indicações, precauções e modo de usar, nome, endereço, CNPJ do fabricante, serviço de atendimento ao consumidor, registro no Ministério da Saúde, bem como a composição química, nome e registro do técnico ou profissional responsável na entidade profissional competente, com registro ou notificação válidos na ANVISA. Acondicionados em caixa com 12 ou 24 frascos, com identificação do nome do fabricante e o nome do produto. Acondicionados em caixa de papelão resistente que suporte empilhamento. Com data de fabricação e validade indicados no frasco e na caixa. Validade mínima 24 meses a partir de cada pedido de entrega. (Apresentar: AFE-Autorização de Funcionamento da Empresa e Notificação no MS/ANVISA, cfe. DECRETO Nº 79.094/77 e RDC 184/2001). | E14: Frasco | F14: Sauba | G14: 339030.22 | H14: 1.4 | I14: 390 | J14: =I14-(SUM(L14:Y14)) -> 306 | K14: =IF(J14<0,"ATENÇÃO","OK") -> OK | Y14: 84
A15: PKB Prodrutos Químicos LTDA EPP | B15: 5 | C15: 12 | D15: Detergente liquido (Limpador), limpeza pesada, concentrado, (indicação: dispersão e dissolução de gorduras, graxas e manchas em geral). Princípio ativo: Linear dodecil benzeno sulfonato de sódio (LASNa). Apresentar no rótulo no mínimo: data de validade, dados do fabricante, marca, precauções, modo de usar e composição do produto. Embalagem em frasco de material flexível e resistente, com 500ml, com tampa medida e acondicionados em caixa de papelão resistente que suporte empilhamento. Validade mínima: 24 meses a contar da entrega de cada pedido. (Apresentar AFE-Autorização de Funcionamento da Empresa e Notificação no MS ANVISA, cfe DECRETO Nº 79.094/77 e RDC 184/2001). | E15: Peça | F15: Sauba | G15: 339030.22 | H15: 2.2 | I15: 390 | J15: =I15-(SUM(L15:Y15)) -> 210 | K15: =IF(J15<0,"ATENÇÃO","OK") -> OK | P15: 48 | S15: 48 | Y15: 84
C16: 13 | D16: Detergente liquido (limpador multiuso), destinado a uso geral, (pisos, louças de banheiros, etc), embalado em frasco de 500ml em plástico flexível, resistente (que não estoure no empilhamento), de material não reciclado com tampa de bico dosador. Princípio ativo: linear alquilbenzeno sulfonato de sódio. O produto deverá apresentar no rótulo da embalagem: especificações, indicações, precauções e modo de usar, nome, endereço, CNPJ do fabricante, serviço de atendimento ao consumidor, registro, ou notificação válidos no MS/ANVISA, bem como a composição química, nome e registro do técnico ou profissional responsável na entidade profissional competente. Embalagens acondicionadas em caixa com 24 frascos de papelão resistente que suporte empilhamento. Validade mínima: 24 meses a partir da entrega de cada pedido. (Apresentar: AFE-Autorização de Funcionamento da Empresa e Notificação no MS/ANVISA, cfe. DECRETO Nº 79.094/77 e RDC 184/2001). | E16: Peça | F16: Sauba | G16: 339030.22 | H16: 1.45 | I16: 936 | J16: =I16-(SUM(L16:Y16)) -> 672 | K16: =IF(J16<0,"ATENÇÃO","OK") -> OK | P16: 72 | S16: 48 | Y16: 144
A17: Goedert LTDA | B17: 6 | C17: 14 | D17: Saponácea (tipo cristal) para limpeza, com ação abrasiva e desengraxante, a base de mistura de sabão de coco, tensoativo aniônico, carboidrato, quartzo, corante, essência e água, embalado em frasco com 500 gramas, acondicionados em caixa de papelão resistente contendo: especificações, indicações, precauções e modo de usar, nome, endereço, CNPJ do fabricante, bem como a composição química, nome e registro do técnico ou profissional responsável na entidade profissional competente. O produto deverá ter validade mínima de 01 ano a partir da data de fabricação. O produto da não poderá ser fabricado a menos de 4 meses data de cada pedido de entrega. No rotulo do produto deverá conter: composição, prazo de validade, dados do fabricante. (Apresentar: AFE-Autorização de Funcionamento da Empresa e Notificação no MS/ANVISA, cfe. DECRETO Nº 79.094/77 e RDC 184/2001). | E17: Peça | F17: Cristal | G17: 339030.22 | H17: 2.43 | I17: 260 | J17: =I17-(SUM(L17:Y17)) -> 260 | K17: =IF(J17<0,"ATENÇÃO","OK") -> OK
A18: Luiz Fernando Sebold Comercial | B18: 7 | C18: 15 | D18: Sabão comum, em barra, glicerinado. Composição: Sebo bovino, óleo de babaçu, hidróxido de sódio, glicerina, carga, conservante, sequestrante, fragrância, corantes e veículo. Embalagem (pacote) em filme de polietileno, com no máximo 5 (cinco) barras (peças) de 200g e acondicionados em caixa de papelão resistente que suporte empilhamento. Embalagem/rótulo contendo: especificações, indicações, precauções e modo de usar, nome, endereço, CNPJ do fabricante, bem como a composição química, nome e registro do técnico ou profissional responsável na entidade profissional competente.Obs.: validade mínima de 2 anos a contar da entrega. (Apresentar AFE-Autorização de Funcionamento da Empresa e Notificação no MS/ANVISA, cfe. DECRETO Nº 79.094/77 e RDC 184/2001). | E18: Peça | F18: Zavaski | G18: 339030.22 | H18: 0.63 | I18: 390 | J18: =I18-(SUM(L18:Y18)) -> 160 | K18: =IF(J18<0,"ATENÇÃO","OK") -> OK | L18: 150 | U18: 80
C19: 16 | D19: Sabão de côco, em barra. Composição: ácido graxo, óleo de côco, hidróxido de sódio, carbonato de sódio, cloreto de sódio, branqueador óptico e veículo. Embalagem em filme de polietileno com 5 peças (unidades) de 200g e acondicionados em caixa de papelão resistente que suporte empilhamento. Na rotulagem do produto deverá conter modo de usar, composição, dados do fabricante. (Apresentar AFE-Autorização de Funcionamento da Empresa e Notificação no MS/ANVISA, cfe. DECRETO Nº 79.094/77 e RDC 184/2001). | E19: Peça | F19: Zavaski | G19: 339030.22 | H19: 1.08 | J19: =I19-(SUM(L19:Y19)) -> 0 | K19: =IF(J19<0,"ATENÇÃO","OK") -> OK
C20: 17 | D20: Saponáceo em pó, em frasco com 300g, com aplicador econômico. Composição: tensoativo aniônico e não iônicos, biodegradável, alcalizante, agente abrasivo, corante e essência. Princípio ativo: Linear Alquilbezeno Sulfonato de Sódio. Embalagens acondicionadas em caixa de papelão resistente que suporte empilhamento. Embalagem/rótulo contendo: especificações, indicações, precauções e modo de usar, nome, endereço, CNPJ do fabricante, bem como a composição química, nome e registro do técnico ou profissional responsável na entidade profissional competente. (Apresentar: AFE-Autorização de Funcionamento da Empresa e Notificação no MS/ANVISA, cfe. DECRETO Nº 79.094/77 e RDC 184/2001). | E20: Frasco | F20: Sany | G20: 339030.22 | H20: 1.35 | I20: 156 | J20: =I20-(SUM(L20:Y20)) -> 156 | K20: =IF(J20<0,"ATENÇÃO","OK") -> OK
C21: 18 | D21: Sabão em pó, sem amaciante, atomizado (granulado). Princípio ativo: Linear Alquil Benzeno Sulfonato de Sódio. O produto deverá apresentar: rótulo indicando data de validade, dados do fabricante, marca, precauções, principio ativo e composição do produto e peso líquido. O produto deverá ter validade de 18 meses a partir da data do pedido de entrega. Embalagens primárias com no mínimo 900 gramas, acondicionados em caixa de papelão resistente. (Apresentar: AFE-Autorização de Funcionamento da Empresa e Notificação no MS/ANVISA, cfe. DECRETO Nº 79.094/77 e RDC 184/2001). | E21: Peça | F21: Ultra Class | G21: 339030.22 | H21: 3.32 | I21: 78 | J21: =I21-(SUM(L21:Y21)) -> 68 | K21: =IF(J21<0,"ATENÇÃO","OK") -> OK | U21: 10
A22: PKB Prodrutos Químicos LTDA EPP | B22: 8 | C22: 19 | D22: Álcool etílico em gel, com concentração de 68% a 72%, para uso geral em higienização e desinfecção de superfícies, (móveis, etc) embalado em frasco com 500g. Obs.: Embalagem contendo: especificações, indicações, precauções e modo de usar, nome, endereço, CNPJ do fabricante, serviço de atendimento ao consumidor, registro no Ministério da Saúde, nome e registro do técnico ou profissional responsável na entidade profissional competente. Acondicionado em caixa com 12 litros, confeccionada em papelão resistente que suporte empilhamento; com identificação do nome do produto e do fabricante. A embalagem deverá ostentar a identificação de certidão obtida no âmbito do Sistema Brasileiro de Certificação - SBC, demonstrando conformidade à norma BNR 5991:1997, da Associação Brasileira de Normas Técnicas - ABNT, conforme exigência da Portaria n. 15 do INMETRO, de 29-01-2001. Data de fabricação, data de validade indicados no produto e na caixa. Validade mínima: 24 meses a partir de cada pedido de entrega. (Apresentar: AFE-Autorização de Funcionamento da Empresa e Registro no MS ANVISA, cfe. Lei 6360/76, DECRETO Nº 79.094/77, RDC 184/2001). | E22: Frasco | F22: Sauba | G22: 339030.22 | H22: 3.03 | I22: 312 | J22: =I22-(SUM(L22:Y22)) -> 312 | K22: =IF(J22<0,"ATENÇÃO","OK") -> OK
A23: Vencoli Brasil Distribuidora LTDA ME | B23: 9 | C23: 20 | D23: Álcool etílico hidratado, para uso geral, com teor alcoólico de 70º INPM, sem perfume, embalagem plástica de 1 litro (que não estoure no empilhamento). Embalagem contendo: especificações, indicações, precauções e modo de usar, nome, endereço, CNPJ do fabricante, serviço de atendimento ao consumidor, nome e registro do técnico ou profissional responsável na entidade profissional competente. Acondicionado em caixa com 12 litros, confeccionada em papelão resistente que suporte empilhamento; com identificação do nome do produto e do fabricante. A embalagem deverá ostentar a identificação de certidão obtida no âmbito do Sistema Brasileiro de Certificação - SBC, demonstrando conformidade à norma BNR 5991:1997, da Associação Brasileira de Normas Técnicas - ABNT, conforme exigência da Portaria n. 15 do INMETRO, de 29-01-2001. Data de fabricação, data de validade indicados no produto e na caixa. Validade mínima: 24 meses a partir de cada pedido de entrega. (Apresentar: AFE-Autorização de Funcionamento da Empresa e Registro no MS ANVISA, cfe. Lei 6360/76, DECRETO Nº 79.094/77, RDC 184/2001). | E23: Frasco | F23: Mega/70º INPM/Mega Química Indústria e Comercio LTDA | G23: 339030.22 | H23: 3.24 | I23: =936-300 -> 636 | J23: =I23-(SUM(L23:Y23)) -> 366 | K23: =IF(J23<0,"ATENÇÃO","OK") -> OK | N23: 120 | V23: 150
A24: Goedert LTDA | B24: 10 | C24: 21 | D24: Copo de plástico (PP ou PS), descartável, cor branca, capacidade mínima para 180 ml, embalagem em mangas com 100 unidades, pesando no mínimo 162g, (1,62g por copo, com paredes homogêneas, sem falhas, amassamentos ou rebarbas e dobras oriundas de defeito na fabricação ou sujidade interna ou externa, com bordas não cortantes e com no máximo 02 amostras (unidades) por manga com massa abaixo do mínimo exigido), com Registro no INMETRO, acondicionados em caixa de papelão resistente que suporte empilhamento. (Será analisada a amostra pelo responsável técnico, de uma caixa lacrada de fábrica com 25 centos, através da pesagem aleatória dos pacotes). | E24: Cento | F24: Minaplast | G24: 339030.21 | H24: 2.47 | I24: 3900 | J24: =I24-(SUM(L24:Y24)) -> 3300 | K24: =IF(J24<0,"ATENÇÃO","OK") -> OK | O24: 300 | X24: 300
C25: 22 | D25: Copo de plástico (PP ou PS), descartável, cor branca, capacidade mínima para 50 ml, embalagem em mangas com 100 unidades, pesando no mínimo 75g, (0,75g por copo, com paredes homogêneas, sem falhas, amassamentos ou rebarbas e dobras oriundas de defeito na fabricação ou sujidade interna ou externa, com bordas não cortantes e com no máximo 02 amostras (unidades) por manga com massa abaixo do mínimo exigido), com Registro no INMETRO, acondicionados em caixa de papelão resistente que suporte empilhamento. (Será analisada a amostra pelo responsável técnico, de uma caixa lacrada de fábrica com 50 centos, através da pesagem aleatória dos pacotes). | E25: Cento | F25: Minaplast | G25: 339030.21 | H25: 1.21 | J25: =I25-(SUM(L25:Y25)) -> 0 | K25: =IF(J25<0,"ATENÇÃO","OK") -> OK
A26: Elo Comércio e Serviços LTDA ME | B26: 11 | C26: 23 | D26: Garrafa térmica com alça, capacidade 1 litro, em material plástico resistente e ampola de vidro substituível, bomba-serve-a-jato (jato forte) e sistema anti-pingos, cores lisas (sem estampas), tempo de conservação térmico aproximado de 6h, testadas conforme NBR13282, da ABNT, acondicionadas em caixa de papelão resistente que suporte empilhamento. | E26: Peça | F26: Invicta | G26: 339030.21 | H26: 32.97 | I26: 50 | J26: =I26-(SUM(L26:Y26)) -> 50 | K26: =IF(J26<0,"ATENÇÃO","OK") -> OK
A27: INFRUTÍFERO | B27: 12 | C27: 24 | D27: Pano de copa, em tecido 100% algodão, branco alvejado, medindo 0,70 x 0,50m, com bainha, com peso mínimo de 70g, admitindo-se variação de até 10% no peso e na medida; embalados individualmente, acondicionados em pacote com 50 unidades. O pano deverá conter etiqueta de fábrica indicando a composição do tecido e a metragem. Prazo de validade: 12 meses a partir de cada entrega de pedido. | E27: Peça | G27: 339030.22 | H27: 0 | I27: 300 | J27: =I27-(SUM(L27:Y27)) -> 300 | K27: =IF(J27<0,"ATENÇÃO","OK") -> OK
C28: 25 | D28: Saco de tecido, 100% algodão, para limpeza, lavado e alvejado, medidas externas: 70 cm de altura x 50 cm de largura, com peso mínimo de 190 gramas (admitindo-se variação de até 10% no peso e nas medidas), embalados em pacote com 10 unidades e acondicionados em fardos com 5 pacotes. O pano deverá conter etiqueta de fábrica informando a composição do tecido e metragem. Prazo de validade: 12 meses a partir de cada pedido de entrega. | E28: Peça | G28: 339030.22 | H28: 0 | I28: 390 | J28: =I28-(SUM(L28:Y28)) -> 390 | K28: =IF(J28<0,"ATENÇÃO","OK") -> OK
C29: 26 | D29: Flanela, peluciada em ambos os lados, para limpeza medindo 0,60 x 0,40 metros (admitindo-se variação de até 10%), com bordas chuleadas, embaladas individualmente e acondicionadas em pacote com 50 unidades. | E29: Peça | G29: 339030.22 | H29: 0 | I29: 390 | J29: =I29-(SUM(L29:Y29)) -> 390 | K29: =IF(J29<0,"ATENÇÃO","OK") -> OK
