Workbook
Name diasuteis: #REF!
Name diasuteis: #REF!
Name diasuteis: #REF!
Name diasuteis: #REF!
Name Ferias: #REF!
Name Ferias: #REF!
Name Ferias: #REF!
Name RD: OFFSET(#REF!,(MATCH(SMALL(#REF!,ROW()-10),#REF!,0)-1),0)
Name RD: OFFSET(#REF!,(MATCH(SMALL(#REF!,ROW()-10),#REF!,0)-1),0)
Name RD: OFFSET(#REF!,(MATCH(SMALL(#REF!,ROW()-10),#REF!,0)-1),0)

Sheet Reitoria
A1: PROCESSO: 0066/2015/UDESC | D1: OBJETO: AQUISIÇÃO DE PNEUS PARA A UDESC | I1: VIGÊNCIA DA ATA: 03/03/2015 até 02/03/2016 | L1: AF nº 0574/2015 Qtde. DT | M1: AF nº 822/2015 Qtde. DT | N1: AFnº 1807/2015 Qtde. DT | O1: AF/OS nº xxxx/2015 Qtde. DT | P1: AF/OS nº xxxx/2015 Qtde. DT | Q1: AF/OS nº xxxx/2015 Qtde. DT | R1: AF/OS nº xxxx/2015 Qtde. DT | S1: AF/OS nº xxxx/2015 Qtde. DT | T1: AF/OS nº xxxx/2015 Qtde. DT | U1: AF/OS nº xxxx/2015 Qtde. DT | V1: AF/OS nº xxxx/2015 Qtde. DT | W1: AF/OS nº xxxx/2015 Qtde. DT
A2: CENTRO PARTICIPANTE: Reitoria
A3: FORNECEDOR | B3: LOTE | C3: ITEM | D3: PRODUTO - CARACTERÍSTICAS MÍNIMAS | E3: UNIDADE | F3: MARCA | G3: ELEMENTO | H3: Preço UNITÁRIO (R$) | I3: Qtde Registrada | J3: Saldo / Automático | K3: ALERTA | L3: 42122 | M3: 42143 | N3: 42279 | O3: ...../...../...... | P3: ...../...../...... | Q3: ...../...../...... | R3: ...../...../...... | S3: ...../...../...... | T3: ...../...../...... | U3: ...../...../...... | V3: ...../...../...... | W3: ...../...../......
A4: Cantu Comércio de Pneumáticos Ltda | B4: 1 | C4: 1 | D4: PNEUS PARA VEICULOS LEVES, PNEU PARA RODA 14", 185/60, Pneus novos, certificados pelo INMETRO. Não recondicionados, não remoldados, não remanufaturados e não recapados - medidas 185/60 R-14. | E4: Peça | F4: KH 17 KUMHO 82 T | G4: 339030.39 | H4: 193 | I4: 6 | J4: =I4-(SUM(L4:W4)) -> 6 | K4: =IF(J4<0,"ATENÇÃO","OK") -> OK | L4: 0 | M4: 0 | N4: 0 | O4: 0 | P4: 0 | Q4: 0 | R4: 0 | S4: 0 | T4: 0 | U4: 0 | V4: 0 | W4: 0
C5: 2 | D5: PNEUS PARA VEICULOS LEVES, PNEU PARA RODA 14", 185/65, Pneus novos, certificados pelo INMETRO. Não recondicionados, não remoldados, não remanufaturados e não recapados - medidas 185/65 R-14. | E5: Peça | F5: GENERAL EVERTREK RT CONTINENTAL 86T | G5: 339030.39 | H5: 222 | J5: =I5-(SUM(L5:W5)) -> 0 | K5: =IF(J5<0,"ATENÇÃO","OK") -> OK | L5: 0 | M5: 0 | N5: 0 | O5: 0 | P5: 0 | Q5: 0 | R5: 0 | S5: 0 | T5: 0 | U5: 0 | V5: 0 | W5: 0
C6: 3 | D6: PNEUS PARA VEICULOS LEVES, PNEU PARA RODA 14", 185/70, Pneus novos, certificados pelo INMETRO. Não recondicionados, não remoldados, não remanufaturados e não recapados - medidas 185/70 R-14. | E6: Peça | F6: KH 17 KUMHO 88H | G6: 339030.39 | H6: 187.2 | J6: =I6-(SUM(L6:W6)) -> 0 | K6: =IF(J6<0,"ATENÇÃO","OK") -> OK | L6: 0 | M6: 0 | N6: 0 | O6: 0 | P6: 0 | Q6: 0 | R6: 0 | S6: 0 | T6: 0 | U6: 0 | V6: 0 | W6: 0
C7: 4 | D7: PNEUS PARA VEICULOS LEVES, PNEU PARA RODA 14", 185/70, Pneus novos, certificados pelo INMETRO. Não recondicionados, não remoldados, não remanufaturados e não recapados - medidas 185/70 R-14C (pneus para KOMBI). | E7: Peça | F7: AL01 AELOUS 102/100R | G7: 339030.39 | H7: 258 | J7: =I7-(SUM(L7:W7)) -> 0 | K7: =IF(J7<0,"ATENÇÃO","OK") -> OK | L7: 0 | M7: 0 | N7: 0 | O7: 0 | P7: 0 | Q7: 0 | R7: 0 | S7: 0 | T7: 0 | U7: 0 | V7: 0 | W7: 0
C8: 5 | D8: PNEUS PARA VEICULOS LEVES, PNEU PARA RODA 15",185/65, Pneus novos, certificados pelo INMETRO. Não recondicionados, não remoldados, não remanufaturados e não recapados - medidas 185/65 R-15. | E8: Peça | F8: AH01 AEOLUS 88H | G8: 339030.39 | H8: 199 | I8: 20 | J8: =I8-(SUM(L8:W8)) -> 4 | K8: =IF(J8<0,"ATENÇÃO","OK") -> OK | L8: 0 | M8: 16 | N8: 0 | O8: 0 | P8: 0 | Q8: 0 | R8: 0 | S8: 0 | T8: 0 | U8: 0 | V8: 0 | W8: 0
C9: 6 | D9: PNEUS PARA VEICULOS LEVES, PNEU PARA RODA 15", 195/60, Pneus novos, certificados pelo INMETRO. Não recondicionados, não remoldados, não remanufaturados e não recapados - medidas 195/60 R-15. | E9: Peça | F9: AH01 AEOLUS 88H | G9: 339030.39 | H9: 211 | I9: 6 | J9: =I9-(SUM(L9:W9)) -> 2 | K9: =IF(J9<0,"ATENÇÃO","OK") -> OK | L9: 4 | M9: 0 | N9: 0 | O9: 0 | P9: 0 | Q9: 0 | R9: 0 | S9: 0 | T9: 0 | U9: 0 | V9: 0 | W9: 0
C10: 7 | D10: PNEUS PARA VEICULOS LEVES, PNEU PARA RODA 15", 195/65, Pneus novos, certificados pelo INMETRO; não recondicionados, não remoldados, não remanufaturados e não recapados - medida 195/65. R-15 | E10: Peça | F10: AH01 AEOLUS 91H | G10: 339030.39 | H10: 199 | I10: =10+5 -> 15 | J10: =I10-(SUM(L10:W10)) -> 1 | K10: =IF(J10<0,"ATENÇÃO","OK") -> OK | L10: 10 | M10: 0 | N10: 4 | O10: 0 | P10: 0 | Q10: 0 | R10: 0 | S10: 0 | T10: 0 | U10: 0 | V10: 0 | W10: 0
C11: 8 | D11: PNEUS PARA VEICULOS LEVES, PNEU PARA RODA 15", 225/70, Pneus novos, certificados pelo INMETRO. Não recondicionados, não remoldados, não remanufaturados e não recapados - medidas 225/70 R-15. | E11: Peça | F11: KR21 MARSHAL 100T | G11: 339030.39 | H11: 351 | J11: =I11-(SUM(L11:W11)) -> 0 | K11: =IF(J11<0,"ATENÇÃO","OK") -> OK | L11: 0 | M11: 0 | N11: 0 | O11: 0 | P11: 0 | Q11: 0 | R11: 0 | S11: 0 | T11: 0 | U11: 0 | V11: 0 | W11: 0
C12: 9 | D12: PNEUS PARA VEICULOS LEVES, PNEU PARA RODA 15", 235/75, Pneus novos, certificados pelo INMETRO. Não recondicionados, não remoldados, não remanufaturados e não recapados - medidas 235/75 R-15. | E12: Peça | F12: AS02 AELOUS 105T | G12: 339030.39 | H12: 328 | I12: 4 | J12: =I12-(SUM(L12:W12)) -> 4 | K12: =IF(J12<0,"ATENÇÃO","OK") -> OK | L12: 0 | M12: 0 | N12: 0 | O12: 0 | P12: 0 | Q12: 0 | R12: 0 | S12: 0 | T12: 0 | U12: 0 | V12: 0 | W12: 0
C13: 10 | D13: PNEUS PARA VEICULOS LEVES, PNEU PARA RODA 16", 205/55, Pneus novos, certificados pelo INMETRO. Não recondicionados, não remoldados, não remanufaturados e não recapados - medidas 205/55 R-16. | E13: Peça | F13: KH 25 KUMHO 91H | G13: 339030.39 | H13: 270 | I13: 4 | J13: =I13-(SUM(L13:W13)) -> 0 | K13: =IF(J13<0,"ATENÇÃO","OK") -> OK | L13: 4 | M13: 0 | N13: 0 | O13: 0 | P13: 0 | Q13: 0 | R13: 0 | S13: 0 | T13: 0 | U13: 0 | V13: 0 | W13: 0
C14: 11 | D14: PNEUS PARA VEICULOS LEVES, PNEU PARA RODA 16", 205/75, Pneus novos, certificados pelo INMETRO. Não recondicionados, não remoldados, não remanufaturados e não recapados - medidas 205/75 R-16. | E14: Peça | F14: 857 MARSHAL 110/108R 8PR | G14: 339030.39 | H14: 410 | J14: =I14-(SUM(L14:W14)) -> 0 | K14: =IF(J14<0,"ATENÇÃO","OK") -> OK | L14: 0 | M14: 0 | N14: 0 | O14: 0 | P14: 0 | Q14: 0 | R14: 0 | S14: 0 | T14: 0 | U14: 0 | V14: 0 | W14: 0
C15: 12 | D15: PNEUS PARA VEICULOS LEVES, PNEU PARA RODA 16", 215/70, Pneus novos, certificados pelo INMETRO. Não recondicionados, não remoldados, não remanufaturados e não recapados - medidas 215/70 R-16. | E15: Peça | F15: KL21 KUMHO 100H | G15: 339030.39 | H15: 375 | I15: 10 | J15: =I15-(SUM(L15:W15)) -> 10 | K15: =IF(J15<0,"ATENÇÃO","OK") -> OK | L15: 0 | M15: 0 | N15: 0 | O15: 0 | P15: 0 | Q15: 0 | R15: 0 | S15: 0 | T15: 0 | U15: 0 | V15: 0 | W15: 0
C16: 13 | D16: PNEUS PARA VEICULOS LEVES, PNEU PARA RODA 16", 235/70, "PNEUS PARA VEICULOS LEVES, PNEU PARA RODA 16", 235/70, Pneus novos, certificados pelo INMETRO. Não recondicionados, não remoldados, não remanufaturados e não recapados - medidas 235/70 R-16." | E16: Peça | F16: AS02 AELOUS 106S | G16: 339030.39 | H16: 328 | J16: =I16-(SUM(L16:W16)) -> 0 | K16: =IF(J16<0,"ATENÇÃO","OK") -> OK | L16: 0 | M16: 0 | N16: 0 | O16: 0 | P16: 0 | Q16: 0 | R16: 0 | S16: 0 | T16: 0 | U16: 0 | V16: 0 | W16: 0
C17: 14 | D17: PNEUS PARA VEICULOS LEVES, PNEU PARA RODA 16", 245/70, Pneus novos, certificados pelo INMETRO. Não recondicionados, não remoldados, não remanufaturados e não recapados - medidas 245/70 R-16 - 111s. | E17: Peça | F17: AS01 AELOUS 107T | G17: 339030.39 | H17: 335 | J17: =I17-(SUM(L17:W17)) -> 0 | K17: =IF(J17<0,"ATENÇÃO","OK") -> OK | L17: 0 | M17: 0 | N17: 0 | O17: 0 | P17: 0 | Q17: 0 | R17: 0 | S17: 0 | T17: 0 | U17: 0 | V17: 0 | W17: 0
C18: 15 | D18: PNEUS PARA VEICULOS LEVES, PNEU PARA RODA 16", 245/70, Pneus novos, certificados pelo INMETRO. Não recondicionados, não remoldados, não remanufaturados e não recapados - medidas 245/70 R-16. | E18: Peça | F18: AS01 AELOUS 107T | G18: 339030.39 | H18: 335 | J18: =I18-(SUM(L18:W18)) -> 0 | K18: =IF(J18<0,"ATENÇÃO","OK") -> OK | L18: 0 | M18: 0 | N18: 0 | O18: 0 | P18: 0 | Q18: 0 | R18: 0 | S18: 0 | T18: 0 | U18: 0 | V18: 0 | W18: 0
C19: 16 | D19: PNEUS PARA VEICULOS LEVES, PNEU PARA RODA 16", 255/70, Pneus novos, não recondicionados, não remoldados, não remanufaturados e não recapados, certificados pelo INMETRO - medidas – 255/70 - R16. | E19: Peça | F19: AS02 AEOLUS 111S | G19: 339030.39 | H19: 421 | J19: =I19-(SUM(L19:W19)) -> 0 | K19: =IF(J19<0,"ATENÇÃO","OK") -> OK | L19: 0 | M19: 0 | N19: 0 | O19: 0 | P19: 0 | Q19: 0 | R19: 0 | S19: 0 | T19: 0 | U19: 0 | V19: 0 | W19: 0
A20: Modelo Pneus Ltda | B20: 2 | C20: 17 | D20: PNEUS PARA VEICULOS PESADOS, PNEU PARA RODA 12", 5.00, 4 LONAS, Pneu de construção diagonal 5.00/6-12 G-10 - 4 lonas. Colocado com montagem. Pneus novos, certificados pelo INMETRO. Não recondicionados, não remoldados, não remanufaturados e não recapados. | E20: Peça | F20: Firestone T2 4 lonas | G20: 339030.39 | H20: 167 | J20: =I20-(SUM(L20:W20)) -> 0 | K20: =IF(J20<0,"ATENÇÃO","OK") -> OK | L20: 0 | M20: 0 | N20: 0 | O20: 0 | P20: 0 | Q20: 0 | R20: 0 | S20: 0 | T20: 0 | U20: 0 | V20: 0 | W20: 0
C21: 18 | D21: PNEUS PARA VEICULOS PESADOS, PNEU PARA RODA 14", 6.00, Pneu de construção diagonal 6.00x14 R1 - Capacidade de carga “C”. Colocado com montagem. Pneus novos, certificados pelo INMETRO. Não recondicionados, não remoldados, não remanufaturados e não recapados. | E21: Peça | F21: Rinaldi RGA 34 - 6 lonas | G21: 339030.39 | H21: 324 | J21: =I21-(SUM(L21:W21)) -> 0 | K21: =IF(J21<0,"ATENÇÃO","OK") -> OK | L21: 0 | M21: 0 | N21: 0 | O21: 0 | P21: 0 | Q21: 0 | R21: 0 | S21: 0 | T21: 0 | U21: 0 | V21: 0 | W21: 0
C22: 19 | D22: PNEUS PARA VEICULOS PESADOS, PNEU PARA RODA 16", 7.5, 8 LONAS, Pneu direcional 7.5x16 F2 Multi-raiado 8 lonas. Colocado com montagem. Pneus novos, certificados pelo INMETRO. Não recondicionados, não remoldados, não remanufaturados e não recapados. | E22: Peça | F22: Firestone G-Grip 8 lonas | G22: 339030.39 | H22: 510 | J22: =I22-(SUM(L22:W22)) -> 0 | K22: =IF(J22<0,"ATENÇÃO","OK") -> OK | L22: 0 | M22: 0 | N22: 0 | O22: 0 | P22: 0 | Q22: 0 | R22: 0 | S22: 0 | T22: 0 | U22: 0 | V22: 0 | W22: 0
C23: 20 | D23: PNEUS PARA VEICULOS PESADOS, PNEU PARA RODA 24", 12.4, 6 LONAS, Pneu de construção radial 12.4-24 R1 - 6 lonas. Colocado com montagem. Pneus novos, certificados pelo INMETRO. Não recondicionados, não remoldados, não remanufaturados e não recapados. | E23: Peça | F23: Firestone SAT - 23G | G23: 339030.39 | H23: 1001 | J23: =I23-(SUM(L23:W23)) -> 0 | K23: =IF(J23<0,"ATENÇÃO","OK") -> OK | L23: 0 | M23: 0 | N23: 0 | O23: 0 | P23: 0 | Q23: 0 | R23: 0 | S23: 0 | T23: 0 | U23: 0 | V23: 0 | W23: 0
C24: 21 | D24: PNEUS PARA VEICULOS PESADOS, PNEU PARA RODA 24", 9.5, 6 LONAS, Pneu de construção diagonal 9.5x24 R1 – 6 Lonas. Colocado com montagem. Pneus novos, certificados pelo INMETRO. Não recondicionados, não remoldados, não remanufaturados e não recapados. | E24: Peça | F24: Firestone SAT - 23G | G24: 339030.39 | H24: 883 | J24: =I24-(SUM(L24:W24)) -> 0 | K24: =IF(J24<0,"ATENÇÃO","OK") -> OK | L24: 0 | M24: 0 | N24: 0 | O24: 0 | P24: 0 | Q24: 0 | R24: 0 | S24: 0 | T24: 0 | U24: 0 | V24: 0 | W24: 0
C25: 22 | D25: PNEUS PARA VEICULOS PESADOS, PNEU PARA RODA 28", 14.9, 8 LONAS, Pneu de construção diagonal 14.9-28 R1 - 8 lonas. Colocado com montagem. Pneus novos, certificados pelo INMETRO. Não recondicionados, não remoldados, não remanufaturados e não recapados. | E25: Peça | F25: Firestone SAT - 23G 10 lonas | G25: 339030.39 | H25: 1507.5 | J25: =I25-(SUM(L25:W25)) -> 0 | K25: =IF(J25<0,"ATENÇÃO","OK") -> OK | L25: 0 | M25: 0 | N25: 0 | O25: 0 | P25: 0 | Q25: 0 | R25: 0 | S25: 0 | T25: 0 | U25: 0 | V25: 0 | W25: 0
C26: 23 | D26: PNEUS PARA VEÍCULOS PESADOS, PNEU PARA RODA 30", Pneu de construção radial 18.4-30 R1 - 10 lonas. Colocado com montagem. Pneus novos, certificados pelo INMETRO. Não recondicionados, não remoldados, não remanufaturados e não recapados. | E26: Peça | F26: Firestone SAT - 23G 10 lonas | G26: 339030.39 | H26: 2097.5 | J26: =I26-(SUM(L26:W26)) -> 0 | K26: =IF(J26<0,"ATENÇÃO","OK") -> OK | L26: 0 | M26: 0 | N26: 0 | O26: 0 | P26: 0 | Q26: 0 | R26: 0 | S26: 0 | T26: 0 | U26: 0 | V26: 0 | W26: 0
A27: Cantu Comércio de Pneumáticos Ltda | B27: 3 | C27: 24 | D27: PNEUS PARA VEICULOS PESADOS, PNEU PARA RODA 17,5", 215/75, Pneus novos, certificados pelo INMETRO. Não recondicionados, não remoldados, não remanufaturados e não recapados - medidas 215/75 R-17,5. | E27: Peça | F27: ASR35 AELOUS 16PR 127/124M | G27: 339030.39 | H27: 585 | J27: =I27-(SUM(L27:W27)) -> 0 | K27: =IF(J27<0,"ATENÇÃO","OK") -> OK | L27: 0 | M27: 0 | N27: 0 | O27: 0 | P27: 0 | Q27: 0 | R27: 0 | S27: 0 | T27: 0 | U27: 0 | V27: 0 | W27: 0
C28: 25 | D28: PNEUS PARA VEICULOS PESADOS, PNEU PARA RODA 22,5", 275/80, LISO, Pneus novos, certificados pelo INMETRO. Não recondicionados, não remoldados, não remanufaturados e não recapados - medidas 275/80 R-22,5. | E28: Peça | F28: D621 DRC 16PR 147/144L | G28: 339030.39 | H28: 1170 | J28: =I28-(SUM(L28:W28)) -> 0 | K28: =IF(J28<0,"ATENÇÃO","OK") -> OK | L28: 0 | M28: 0 | N28: 0 | O28: 0 | P28: 0 | Q28: 0 | R28: 0 | S28: 0 | T28: 0 | U28: 0 | V28: 0 | W28: 0
D30: *Prazos de Entrega e Pagamento conforme edital

Sheet CEAD
A1: PROCESSO: 0066/2015/UDESC | D1: OBJETO: AQUISIÇÃO DE PNEUS PARA A UDESC | I1: VIGÊNCIA DA ATA: 03/03/2015 até 02/03/2016 | L1: AF/OS nº 1580/2015 Qtde. DT | M1: AF/OS nº xxxx/2015 Qtde. DT | N1: AF/OS nº xxxx/2015 Qtde. DT | O1: AF/OS nº xxxx/2015 Qtde. DT | P1: AF/OS nº xxxx/2015 Qtde. DT | Q1: AF/OS nº xxxx/2015 Qtde. DT | R1: AF/OS nº xxxx/2015 Qtde. DT | S1: AF/OS nº xxxx/2015 Qtde. DT | T1: AF/OS nº xxxx/2015 Qtde. DT | U1: AF/OS nº xxxx/2015 Qtde. DT | V1: AF/OS nº xxxx/2015 Qtde. DT | W1: AF/OS nº xxxx/2015 Qtde. DT
A2: CENTRO PARTICIPANTE: CEAD
A3: FORNECEDOR | B3: LOTE | C3: ITEM | D3: PRODUTO - CARACTERÍSTICAS MÍNIMAS | E3: UNIDADE | F3: MARCA | G3: ELEMENTO | H3: Preço UNITÁRIO (R$) | I3: Qtde Registrada | J3: Saldo / Automático | K3: ALERTA | L3: 42249 | M3: ...../...../...... | N3: ...../...../...... | O3: ...../...../...... | P3: ...../...../...... | Q3: ...../...../...... | R3: ...../...../...... | S3: ...../...../...... | T3: ...../...../...... | U3: ...../...../...... | V3: ...../...../...... | W3: ...../...../......
A4: Cantu Comércio de Pneumáticos Ltda | B4: 1 | C4: 1 | D4: PNEUS PARA VEICULOS LEVES, PNEU PARA RODA 14", 185/60, Pneus novos, certificados pelo INMETRO. Não recondicionados, não remoldados, não remanufaturados e não recapados - medidas 185/60 R-14. | E4: Peça | F4: KH 17 KUMHO 82 T | G4: 339030.39 | H4: 193 | I4: =1+5 -> 6 | J4: =I4-(SUM(L4:W4)) -> 6 | K4: =IF(J4<0,"ATENÇÃO","OK") -> OK | L4: 0 | M4: 0 | N4: 0 | O4: 0 | P4: 0 | Q4: 0 | R4: 0 | S4: 0 | T4: 0 | U4: 0 | V4: 0 | W4: 0
C5: 2 | D5: PNEUS PARA VEICULOS LEVES, PNEU PARA RODA 14", 185/65, Pneus novos, certificados pelo INMETRO. Não recondicionados, não remoldados, não remanufaturados e não recapados - medidas 185/65 R-14. | E5: Peça | F5: GENERAL EVERTREK RT CONTINENTAL 86T | G5: 339030.39 | H5: 222 | I5: 6 | J5: =I5-(SUM(L5:W5)) -> 0 | K5: =IF(J5<0,"ATENÇÃO","OK") -> OK | L5: 6 | M5: 0 | N5: 0 | O5: 0 | P5: 0 | Q5: 0 | R5: 0 | S5: 0 | T5: 0 | U5: 0 | V5: 0 | W5: 0
C6: 3 | D6: PNEUS PARA VEICULOS LEVES, PNEU PARA RODA 14", 185/70, Pneus novos, certificados pelo INMETRO. Não recondicionados, não remoldados, não remanufaturados e não recapados - medidas 185/70 R-14. | E6: Peça | F6: KH 17 KUMHO 88H | G6: 339030.39 | H6: 187.2 | J6: =I6-(SUM(L6:W6)) -> 0 | K6: =IF(J6<0,"ATENÇÃO","OK") -> OK | L6: 0 | M6: 0 | N6: 0 | O6: 0 | P6: 0 | Q6: 0 | R6: 0 | S6: 0 | T6: 0 | U6: 0 | V6: 0 | W6: 0
C7: 4 | D7: PNEUS PARA VEICULOS LEVES, PNEU PARA RODA 14", 185/70, Pneus novos, certificados pelo INMETRO. Não recondicionados, não remoldados, não remanufaturados e não recapados - medidas 185/70 R-14C (pneus para KOMBI). | E7: Peça | F7: AL01 AELOUS 102/100R | G7: 339030.39 | H7: 258 | J7: =I7-(SUM(L7:W7)) -> 0 | K7: =IF(J7<0,"ATENÇÃO","OK") -> OK | L7: 0 | M7: 0 | N7: 0 | O7: 0 | P7: 0 | Q7: 0 | R7: 0 | S7: 0 | T7: 0 | U7: 0 | V7: 0 | W7: 0
C8: 5 | D8: PNEUS PARA VEICULOS LEVES, PNEU PARA RODA 15",185/65, Pneus novos, certificados pelo INMETRO. Não recondicionados, não remoldados, não remanufaturados e não recapados - medidas 185/65 R-15. | E8: Peça | F8: AH01 AEOLUS 88H | G8: 339030.39 | H8: 199 | I8: =1+7 -> 8 | J8: =I8-(SUM(L8:W8)) -> 0 | K8: =IF(J8<0,"ATENÇÃO","OK") -> OK | L8: 8 | M8: 0 | N8: 0 | O8: 0 | P8: 0 | Q8: 0 | R8: 0 | S8: 0 | T8: 0 | U8: 0 | V8: 0 | W8: 0
C9: 6 | D9: PNEUS PARA VEICULOS LEVES, PNEU PARA RODA 15", 195/60, Pneus novos, certificados pelo INMETRO. Não recondicionados, não remoldados, não remanufaturados e não recapados - medidas 195/60 R-15. | E9: Peça | F9: AH01 AEOLUS 88H | G9: 339030.39 | H9: 211 | J9: =I9-(SUM(L9:W9)) -> 0 | K9: =IF(J9<0,"ATENÇÃO","OK") -> OK | L9: 0 | M9: 0 | N9: 0 | O9: 0 | P9: 0 | Q9: 0 | R9: 0 | S9: 0 | T9: 0 | U9: 0 | V9: 0 | W9: 0
C10: 7 | D10: PNEUS PARA VEICULOS LEVES, PNEU PARA RODA 15", 195/65, Pneus novos, certificados pelo INMETRO; não recondicionados, não remoldados, não remanufaturados e não recapados - medida 195/65. R-15 | E10: Peça | F10: AH01 AEOLUS 91H | G10: 339030.39 | H10: 199 | J10: =I10-(SUM(L10:W10)) -> 0 | K10: =IF(J10<0,"ATENÇÃO","OK") -> OK | L10: 0 | M10: 0 | N10: 0 | O10: 0 | P10: 0 | Q10: 0 | R10: 0 | S10: 0 | T10: 0 | U10: 0 | V10: 0 | W10: 0
C11: 8 | D11: PNEUS PARA VEICULOS LEVES, PNEU PARA RODA 15", 225/70, Pneus novos, certificados pelo INMETRO. Não recondicionados, não remoldados, não remanufaturados e não recapados - medidas 225/70 R-15. | E11: Peça | F11: KR21 MARSHAL 100T | G11: 339030.39 | H11: 351 | I11: 6 | J11: =I11-(SUM(L11:W11)) -> 0 | K11: =IF(J11<0,"ATENÇÃO","OK") -> OK | L11: 6 | M11: 0 | N11: 0 | O11: 0 | P11: 0 | Q11: 0 | R11: 0 | S11: 0 | T11: 0 | U11: 0 | V11: 0 | W11: 0
C12: 9 | D12: PNEUS PARA VEICULOS LEVES, PNEU PARA RODA 15", 235/75, Pneus novos, certificados pelo INMETRO. Não recondicionados, não remoldados, não remanufaturados e não recapados - medidas 235/75 R-15. | E12: Peça | F12: AS02 AELOUS 105T | G12: 339030.39 | H12: 328 | J12: =I12-(SUM(L12:W12)) -> 0 | K12: =IF(J12<0,"ATENÇÃO","OK") -> OK | L12: 0 | M12: 0 | N12: 0 | O12: 0 | P12: 0 | Q12: 0 | R12: 0 | S12: 0 | T12: 0 | U12: 0 | V12: 0 | W12: 0
C13: 10 | D13: PNEUS PARA VEICULOS LEVES, PNEU PARA RODA 16", 205/55, Pneus novos, certificados pelo INMETRO. Não recondicionados, não remoldados, não remanufaturados e não recapados - medidas 205/55 R-16. | E13: Peça | F13: KH 25 KUMHO 91H | G13: 339030.39 | H13: 270 | J13: =I13-(SUM(L13:W13)) -> 0 | K13: =IF(J13<0,"ATENÇÃO","OK") -> OK | L13: 0 | M13: 0 | N13: 0 | O13: 0 | P13: 0 | Q13: 0 | R13: 0 | S13: 0 | T13: 0 | U13: 0 | V13: 0 | W13: 0
C14: 11 | D14: PNEUS PARA VEICULOS LEVES, PNEU PARA RODA 16", 205/75, Pneus novos, certificados pelo INMETRO. Não recondicionados, não remoldados, não remanufaturados e não recapados - medidas 205/75 R-16. | E14: Peça | F14: 857 MARSHAL 110/108R 8PR | G14: 339030.39 | H14: 410 | J14: =I14-(SUM(L14:W14)) -> 0 | K14: =IF(J14<0,"ATENÇÃO","OK") -> OK | L14: 0 | M14: 0 | N14: 0 | O14: 0 | P14: 0 | Q14: 0 | R14: 0 | S14: 0 | T14: 0 | U14: 0 | V14: 0 | W14: 0
C15: 12 | D15: PNEUS PARA VEICULOS LEVES, PNEU PARA RODA 16", 215/70, Pneus novos, certificados pelo INMETRO. Não recondicionados, não remoldados, não remanufaturados e não recapados - medidas 215/70 R-16. | E15: Peça | F15: KL21 KUMHO 100H | G15: 339030.39 | H15: 375 | J15: =I15-(SUM(L15:W15)) -> 0 | K15: =IF(J15<0,"ATENÇÃO","OK") -> OK | L15: 0 | M15: 0 | N15: 0 | O15: 0 | P15: 0 | Q15: 0 | R15: 0 | S15: 0 | T15: 0 | U15: 0 | V15: 0 | W15: 0
C16: 13 | D16: PNEUS PARA VEICULOS LEVES, PNEU PARA RODA 16", 235/70, "PNEUS PARA VEICULOS LEVES, PNEU PARA RODA 16", 235/70, Pneus novos, certificados pelo INMETRO. Não recondicionados, não remoldados, não remanufaturados e não recapados - medidas 235/70 R-16." | E16: Peça | F16: AS02 AELOUS 106S | G16: 339030.39 | H16: 328 | J16: =I16-(SUM(L16:W16)) -> 0 | K16: =IF(J16<0,"ATENÇÃO","OK") -> OK | L16: 0 | M16: 0 | N16: 0 | O16: 0 | P16: 0 | Q16: 0 | R16: 0 | S16: 0 | T16: 0 | U16: 0 | V16: 0 | W16: 0
C17: 14 | D17: PNEUS PARA VEICULOS LEVES, PNEU PARA RODA 16", 245/70, Pneus novos, certificados pelo INMETRO. Não recondicionados, não remoldados, não remanufaturados e não recapados - medidas 245/70 R-16 - 111s. | E17: Peça | F17: AS01 AELOUS 107T | G17: 339030.39 | H17: 335 | J17: =I17-(SUM(L17:W17)) -> 0 | K17: =IF(J17<0,"ATENÇÃO","OK") -> OK | L17: 0 | M17: 0 | N17: 0 | O17: 0 | P17: 0 | Q17: 0 | R17: 0 | S17: 0 | T17: 0 | U17: 0 | V17: 0 | W17: 0
C18: 15 | D18: PNEUS PARA VEICULOS LEVES, PNEU PARA RODA 16", 245/70, Pneus novos, certificados pelo INMETRO. Não recondicionados, não remoldados, não remanufaturados e não recapados - medidas 245/70 R-16. | E18: Peça | F18: AS01 AELOUS 107T | G18: 339030.39 | H18: 335 | J18: =I18-(SUM(L18:W18)) -> 0 | K18: =IF(J18<0,"ATENÇÃO","OK") -> OK | L18: 0 | M18: 0 | N18: 0 | O18: 0 | P18: 0 | Q18: 0 | R18: 0 | S18: 0 | T18: 0 | U18: 0 | V18: 0 | W18: 0
C19: 16 | D19: PNEUS PARA VEICULOS LEVES, PNEU PARA RODA 16", 255/70, Pneus novos, não recondicionados, não remoldados, não remanufaturados e não recapados, certificados pelo INMETRO - medidas – 255/70 - R16. | E19: Peça | F19: AS02 AEOLUS 111S | G19: 339030.39 | H19: 421 | J19: =I19-(SUM(L19:W19)) -> 0 | K19: =IF(J19<0,"ATENÇÃO","OK") -> OK | L19: 0 | M19: 0 | N19: 0 | O19: 0 | P19: 0 | Q19: 0 | R19: 0 | S19: 0 | T19: 0 | U19: 0 | V19: 0 | W19: 0
A20: Modelo Pneus Ltda | B20: 2 | C20: 17 | D20: PNEUS PARA VEICULOS PESADOS, PNEU PARA RODA 12", 5.00, 4 LONAS, Pneu de construção diagonal 5.00/6-12 G-10 - 4 lonas. Colocado com montagem. Pneus novos, certificados pelo INMETRO. Não recondicionados, não remoldados, não remanufaturados e não recapados. | E20: Peça | F20: Firestone T2 4 lonas | G20: 339030.39 | H20: 167 | J20: =I20-(SUM(L20:W20)) -> 0 | K20: =IF(J20<0,"ATENÇÃO","OK") -> OK | L20: 0 | M20: 0 | N20: 0 | O20: 0 | P20: 0 | Q20: 0 | R20: 0 | S20: 0 | T20: 0 | U20: 0 | V20: 0 | W20: 0
C21: 18 | D21: PNEUS PARA VEICULOS PESADOS, PNEU PARA RODA 14", 6.00, Pneu de construção diagonal 6.00x14 R1 - Capacidade de carga “C”. Colocado com montagem. Pneus novos, certificados pelo INMETRO. Não recondicionados, não remoldados, não remanufaturados e não recapados. | E21: Peça | F21: Rinaldi RGA 34 - 6 lonas | G21: 339030.39 | H21: 324 | J21: =I21-(SUM(L21:W21)) -> 0 | K21: =IF(J21<0,"ATENÇÃO","OK") -> OK | L21: 0 | M21: 0 | N21: 0 | O21: 0 | P21: 0 | Q21: 0 | R21: 0 | S21: 0 | T21: 0 | U21: 0 | V21: 0 | W21: 0
C22: 19 | D22: PNEUS PARA VEICULOS PESADOS, PNEU PARA RODA 16", 7.5, 8 LONAS, Pneu direcional 7.5x16 F2 Multi-raiado 8 lonas. Colocado com montagem. Pneus novos, certificados pelo INMETRO. Não recondicionados, não remoldados, não remanufaturados e não recapados. | E22: Peça | F22: Firestone G-Grip 8 lonas | G22: 339030.39 | H22: 510 | J22: =I22-(SUM(L22:W22)) -> 0 | K22: =IF(J22<0,"ATENÇÃO","OK") -> OK | L22: 0 | M22: 0 | N22: 0 | O22: 0 | P22: 0 | Q22: 0 | R22: 0 | S22: 0 | T22: 0 | U22: 0 | V22: 0 | W22: 0
C23: 20 | D23: PNEUS PARA VEICULOS PESADOS, PNEU PARA RODA 24", 12.4, 6 LONAS, Pneu de construção radial 12.4-24 R1 - 6 lonas. Colocado com montagem. Pneus novos, certificados pelo INMETRO. Não recondicionados, não remoldados, não remanufaturados e não recapados. | E23: Peça | F23: Firestone SAT - 23G | G23: 339030.39 | H23: 1001 | J23: =I23-(SUM(L23:W23)) -> 0 | K23: =IF(J23<0,"ATENÇÃO","OK") -> OK | L23: 0 | M23: 0 | N23: 0 | O23: 0 | P23: 0 | Q23: 0 | R23: 0 | S23: 0 | T23: 0 | U23: 0 | V23: 0 | W23: 0
C24: 21 | D24: PNEUS PARA VEICULOS PESADOS, PNEU PARA RODA 24", 9.5, 6 LONAS, Pneu de construção diagonal 9.5x24 R1 – 6 Lonas. Colocado com montagem. Pneus novos, certificados pelo INMETRO. Não recondicionados, não remoldados, não remanufaturados e não recapados. | E24: Peça | F24: Firestone SAT - 23G | G24: 339030.39 | H24: 883 | J24: =I24-(SUM(L24:W24)) -> 0 | K24: =IF(J24<0,"ATENÇÃO","OK") -> OK | L24: 0 | M24: 0 | N24: 0 | O24: 0 | P24: 0 | Q24: 0 | R24: 0 | S24: 0 | T24: 0 | U24: 0 | V24: 0 | W24: 0
C25: 22 | D25: PNEUS PARA VEICULOS PESADOS, PNEU PARA RODA 28", 14.9, 8 LONAS, Pneu de construção diagonal 14.9-28 R1 - 8 lonas. Colocado com montagem. Pneus novos, certificados pelo INMETRO. Não recondicionados, não remoldados, não remanufaturados e não recapados. | E25: Peça | F25: Firestone SAT - 23G 10 lonas | G25: 339030.39 | H25: 1507.5 | J25: =I25-(SUM(L25:W25)) -> 0 | K25: =IF(J25<0,"ATENÇÃO","OK") -> OK | L25: 0 | M25: 0 | N25: 0 | O25: 0 | P25: 0 | Q25: 0 | R25: 0 | S25: 0 | T25: 0 | U25: 0 | V25: 0 | W25: 0
C26: 23 | D26: PNEUS PARA VEÍCULOS PESADOS, PNEU PARA RODA 30", Pneu de construção radial 18.4-30 R1 - 10 lonas. Colocado com montagem. Pneus novos, certificados pelo INMETRO. Não recondicionados, não remoldados, não remanufaturados e não recapados. | E26: Peça | F26: Firestone SAT - 23G 10 lonas | G26: 339030.39 | H26: 2097.5 | J26: =I26-(SUM(L26:W26)) -> 0 | K26: =IF(J26<0,"ATENÇÃO","OK") -> OK | L26: 0 | M26: 0 | N26: 0 | O26: 0 | P26: 0 | Q26: 0 | R26: 0 | S26: 0 | T26: 0 | U26: 0 | V26: 0 | W26: 0
A27: Cantu Comércio de Pneumáticos Ltda | B27: 3 | C27: 24 | D27: PNEUS PARA VEICULOS PESADOS, PNEU PARA RODA 17,5", 215/75, Pneus novos, certificados pelo INMETRO. Não recondicionados, não remoldados, não remanufaturados e não recapados - medidas 215/75 R-17,5. | E27: Peça | F27: ASR35 AELOUS 16PR 127/124M | G27: 339030.39 | H27: 585 | J27: =I27-(SUM(L27:W27)) -> 0 | K27: =IF(J27<0,"ATENÇÃO","OK") -> OK | L27: 0 | M27: 0 | N27: 0 | O27: 0 | P27: 0 | Q27: 0 | R27: 0 | S27: 0 | T27: 0 | U27: 0 | V27: 0 | W27: 0
C28: 25 | D28: PNEUS PARA VEICULOS PESADOS, PNEU PARA RODA 22,5", 275/80, LISO, Pneus novos, certificados pelo INMETRO. Não recondicionados, não remoldados, não remanufaturados e não recapados - medidas 275/80 R-22,5. | E28: Peça | F28: D621 DRC 16PR 147/144L | G28: 339030.39 | H28: 1170 | J28: =I28-(SUM(L28:W28)) -> 0 | K28: =IF(J28<0,"ATENÇÃO","OK") -> OK | L28: 0 | M28: 0 | N28: 0 | O28: 0 | P28: 0 | Q28: 0 | R28: 0 | S28: 0 | T28: 0 | U28: 0 | V28: 0 | W28: 0
D30: *Prazos de Entrega e Pagamento conforme edital

Sheet ESAG
A1: PROCESSO: 0066/2015/UDESC | D1: OBJETO: AQUISIÇÃO DE PNEUS PARA A UDESC | I1: VIGÊNCIA DA ATA: 03/03/2015 até 02/03/2016 | L1: AF/OS nº 1175/2015 Qtde. DT | M1: AF/OS nº xxxx/2015 Qtde. DT | N1: AF/OS nº xxxx/2015 Qtde. DT | O1: AF/OS nº xxxx/2015 Qtde. DT | P1: AF/OS nº xxxx/2015 Qtde. DT | Q1: AF/OS nº xxxx/2015 Qtde. DT | R1: AF/OS nº xxxx/2015 Qtde. DT | S1: AF/OS nº xxxx/2015 Qtde. DT | T1: AF/OS nº xxxx/2015 Qtde. DT | U1: AF/OS nº xxxx/2015 Qtde. DT | V1: AF/OS nº xxxx/2015 Qtde. DT | W1: AF/OS nº xxxx/2015 Qtde. DT
A2: CENTRO PARTICIPANTE: ESAG
A3: FORNECEDOR | B3: LOTE | C3: ITEM | D3: PRODUTO - CARACTERÍSTICAS MÍNIMAS | E3: UNIDADE | F3: MARCA | G3: ELEMENTO | H3: Preço UNITÁRIO (R$) | I3: Qtde Registrada | J3: Saldo / Automático | K3: ALERTA | L3: ...../...../...... | M3: ...../...../...... | N3: ...../...../...... | O3: ...../...../...... | P3: ...../...../...... | Q3: ...../...../...... | R3: ...../...../...... | S3: ...../...../...... | T3: ...../...../...... | U3: ...../...../...... | V3: ...../...../...... | W3: ...../...../......
A4: Cantu Comércio de Pneumáticos Ltda | B4: 1 | C4: 1 | D4: PNEUS PARA VEICULOS LEVES, PNEU PARA RODA 14", 185/60, Pneus novos, certificados pelo INMETRO. Não recondicionados, não remoldados, não remanufaturados e não recapados - medidas 185/60 R-14. | E4: Peça | F4: KH 17 KUMHO 82 T | G4: 339030.39 | H4: 193 | J4: =I4-(SUM(L4:W4)) -> 0 | K4: =IF(J4<0,"ATENÇÃO","OK") -> OK | M4: 0 | N4: 0 | O4: 0 | P4: 0 | Q4: 0 | R4: 0 | S4: 0 | T4: 0 | U4: 0 | V4: 0 | W4: 0
C5: 2 | D5: PNEUS PARA VEICULOS LEVES, PNEU PARA RODA 14", 185/65, Pneus novos, certificados pelo INMETRO. Não recondicionados, não remoldados, não remanufaturados e não recapados - medidas 185/65 R-14. | E5: Peça | F5: GENERAL EVERTREK RT CONTINENTAL 86T | G5: 339030.39 | H5: 222 | J5: =I5-(SUM(L5:W5)) -> 0 | K5: =IF(J5<0,"ATENÇÃO","OK") -> OK | M5: 0 | N5: 0 | O5: 0 | P5: 0 | Q5: 0 | R5: 0 | S5: 0 | T5: 0 | U5: 0 | V5: 0 | W5: 0
C6: 3 | D6: PNEUS PARA VEICULOS LEVES, PNEU PARA RODA 14", 185/70, Pneus novos, certificados pelo INMETRO. Não recondicionados, não remoldados, não remanufaturados e não recapados - medidas 185/70 R-14. | E6: Peça | F6: KH 17 KUMHO 88H | G6: 339030.39 | H6: 187.2 | J6: =I6-(SUM(L6:W6)) -> 0 | K6: =IF(J6<0,"ATENÇÃO","OK") -> OK | M6: 0 | N6: 0 | O6: 0 | P6: 0 | Q6: 0 | R6: 0 | S6: 0 | T6: 0 | U6: 0 | V6: 0 | W6: 0
C7: 4 | D7: PNEUS PARA VEICULOS LEVES, PNEU PARA RODA 14", 185/70, Pneus novos, certificados pelo INMETRO. Não recondicionados, não remoldados, não remanufaturados e não recapados - medidas 185/70 R-14C (pneus para KOMBI). | E7: Peça | F7: AL01 AELOUS 102/100R | G7: 339030.39 | H7: 258 | J7: =I7-(SUM(L7:W7)) -> 0 | K7: =IF(J7<0,"ATENÇÃO","OK") -> OK | M7: 0 | N7: 0 | O7: 0 | P7: 0 | Q7: 0 | R7: 0 | S7: 0 | T7: 0 | U7: 0 | V7: 0 | W7: 0
C8: 5 | D8: PNEUS PARA VEICULOS LEVES, PNEU PARA RODA 15",185/65, Pneus novos, certificados pelo INMETRO. Não recondicionados, não remoldados, não remanufaturados e não recapados - medidas 185/65 R-15. | E8: Peça | F8: AH01 AEOLUS 88H | G8: 339030.39 | H8: 199 | I8: 4 | J8: =I8-(SUM(L8:W8)) -> 0 | K8: =IF(J8<0,"ATENÇÃO","OK") -> OK | L8: 4 | M8: 0 | N8: 0 | O8: 0 | P8: 0 | Q8: 0 | R8: 0 | S8: 0 | T8: 0 | U8: 0 | V8: 0 | W8: 0
C9: 6 | D9: PNEUS PARA VEICULOS LEVES, PNEU PARA RODA 15", 195/60, Pneus novos, certificados pelo INMETRO. Não recondicionados, não remoldados, não remanufaturados e não recapados - medidas 195/60 R-15. | E9: Peça | F9: AH01 AEOLUS 88H | G9: 339030.39 | H9: 211 | I9: 2 | J9: =I9-(SUM(L9:W9)) -> 0 | K9: =IF(J9<0,"ATENÇÃO","OK") -> OK | L9: 2 | M9: 0 | N9: 0 | O9: 0 | P9: 0 | Q9: 0 | R9: 0 | S9: 0 | T9: 0 | U9: 0 | V9: 0 | W9: 0
C10: 7 | D10: PNEUS PARA VEICULOS LEVES, PNEU PARA RODA 15", 195/65, Pneus novos, certificados pelo INMETRO; não recondicionados, não remoldados, não remanufaturados e não recapados - medida 195/65. R-15 | E10: Peça | F10: AH01 AEOLUS 91H | G10: 339030.39 | H10: 199 | J10: =I10-(SUM(L10:W10)) -> 0 | K10: =IF(J10<0,"ATENÇÃO","OK") -> OK | L10: 0 | M10: 0 | N10: 0 | O10: 0 | P10: 0 | Q10: 0 | R10: 0 | S10: 0 | T10: 0 | U10: 0 | V10: 0 | W10: 0
C11: 8 | D11: PNEUS PARA VEICULOS LEVES, PNEU PARA RODA 15", 225/70, Pneus novos, certificados pelo INMETRO. Não recondicionados, não remoldados, não remanufaturados e não recapados - medidas 225/70 R-15. | E11: Peça | F11: KR21 MARSHAL 100T | G11: 339030.39 | H11: 351 | J11: =I11-(SUM(L11:W11)) -> 0 | K11: =IF(J11<0,"ATENÇÃO","OK") -> OK | L11: 0 | M11: 0 | N11: 0 | O11: 0 | P11: 0 | Q11: 0 | R11: 0 | S11: 0 | T11: 0 | U11: 0 | V11: 0 | W11: 0
C12: 9 | D12: PNEUS PARA VEICULOS LEVES, PNEU PARA RODA 15", 235/75, Pneus novos, certificados pelo INMETRO. Não recondicionados, não remoldados, não remanufaturados e não recapados - medidas 235/75 R-15. | E12: Peça | F12: AS02 AELOUS 105T | G12: 339030.39 | H12: 328 | J12: =I12-(SUM(L12:W12)) -> 0 | K12: =IF(J12<0,"ATENÇÃO","OK") -> OK | L12: 0 | M12: 0 | N12: 0 | O12: 0 | P12: 0 | Q12: 0 | R12: 0 | S12: 0 | T12: 0 | U12: 0 | V12: 0 | W12: 0
C13: 10 | D13: PNEUS PARA VEICULOS LEVES, PNEU PARA RODA 16", 205/55, Pneus novos, certificados pelo INMETRO. Não recondicionados, não remoldados, não remanufaturados e não recapados - medidas 205/55 R-16. | E13: Peça | F13: KH 25 KUMHO 91H | G13: 339030.39 | H13: 270 | J13: =I13-(SUM(L13:W13)) -> 0 | K13: =IF(J13<0,"ATENÇÃO","OK") -> OK | L13: 0 | M13: 0 | N13: 0 | O13: 0 | P13: 0 | Q13: 0 | R13: 0 | S13: 0 | T13: 0 | U13: 0 | V13: 0 | W13: 0
C14: 11 | D14: PNEUS PARA VEICULOS LEVES, PNEU PARA RODA 16", 205/75, Pneus novos, certificados pelo INMETRO. Não recondicionados, não remoldados, não remanufaturados e não recapados - medidas 205/75 R-16. | E14: Peça | F14: 857 MARSHAL 110/108R 8PR | G14: 339030.39 | H14: 410 | J14: =I14-(SUM(L14:W14)) -> 0 | K14: =IF(J14<0,"ATENÇÃO","OK") -> OK | L14: 0 | M14: 0 | N14: 0 | O14: 0 | P14: 0 | Q14: 0 | R14: 0 | S14: 0 | T14: 0 | U14: 0 | V14: 0 | W14: 0
C15: 12 | D15: PNEUS PARA VEICULOS LEVES, PNEU PARA RODA 16", 215/70, Pneus novos, certificados pelo INMETRO. Não recondicionados, não remoldados, não remanufaturados e não recapados - medidas 215/70 R-16. | E15: Peça | F15: KL21 KUMHO 100H | G15: 339030.39 | H15: 375 | J15: =I15-(SUM(L15:W15)) -> 0 | K15: =IF(J15<0,"ATENÇÃO","OK") -> OK | L15: 0 | M15: 0 | N15: 0 | O15: 0 | P15: 0 | Q15: 0 | R15: 0 | S15: 0 | T15: 0 | U15: 0 | V15: 0 | W15: 0
C16: 13 | D16: PNEUS PARA VEICULOS LEVES, PNEU PARA RODA 16", 235/70, "PNEUS PARA VEICULOS LEVES, PNEU PARA RODA 16", 235/70, Pneus novos, certificados pelo INMETRO. Não recondicionados, não remoldados, não remanufaturados e não recapados - medidas 235/70 R-16." | E16: Peça | F16: AS02 AELOUS 106S | G16: 339030.39 | H16: 328 | J16: =I16-(SUM(L16:W16)) -> 0 | K16: =IF(J16<0,"ATENÇÃO","OK") -> OK | L16: 0 | M16: 0 | N16: 0 | O16: 0 | P16: 0 | Q16: 0 | R16: 0 | S16: 0 | T16: 0 | U16: 0 | V16: 0 | W16: 0
C17: 14 | D17: PNEUS PARA VEICULOS LEVES, PNEU PARA RODA 16", 245/70, Pneus novos, certificados pelo INMETRO. Não recondicionados, não remoldados, não remanufaturados e não recapados - medidas 245/70 R-16 - 111s. | E17: Peça | F17: AS01 AELOUS 107T | G17: 339030.39 | H17: 335 | J17: =I17-(SUM(L17:W17)) -> 0 | K17: =IF(J17<0,"ATENÇÃO","OK") -> OK | L17: 0 | M17: 0 | N17: 0 | O17: 0 | P17: 0 | Q17: 0 | R17: 0 | S17: 0 | T17: 0 | U17: 0 | V17: 0 | W17: 0
C18: 15 | D18: PNEUS PARA VEICULOS LEVES, PNEU PARA RODA 16", 245/70, Pneus novos, certificados pelo INMETRO. Não recondicionados, não remoldados, não remanufaturados e não recapados - medidas 245/70 R-16. | E18: Peça | F18: AS01 AELOUS 107T | G18: 339030.39 | H18: 335 | J18: =I18-(SUM(L18:W18)) -> 0 | K18: =IF(J18<0,"ATENÇÃO","OK") -> OK | L18: 0 | M18: 0 | N18: 0 | O18: 0 | P18: 0 | Q18: 0 | R18: 0 | S18: 0 | T18: 0 | U18: 0 | V18: 0 | W18: 0
C19: 16 | D19: PNEUS PARA VEICULOS LEVES, PNEU PARA RODA 16", 255/70, Pneus novos, não recondicionados, não remoldados, não remanufaturados e não recapados, certificados pelo INMETRO - medidas – 255/70 - R16. | E19: Peça | F19: AS02 AEOLUS 111S | G19: 339030.39 | H19: 421 | J19: =I19-(SUM(L19:W19)) -> 0 | K19: =IF(J19<0,"ATENÇÃO","OK") -> OK | L19: 0 | M19: 0 | N19: 0 | O19: 0 | P19: 0 | Q19: 0 | R19: 0 | S19: 0 | T19: 0 | U19: 0 | V19: 0 | W19: 0
A20: Modelo Pneus Ltda | B20: 2 | C20: 17 | D20: PNEUS PARA VEICULOS PESADOS, PNEU PARA RODA 12", 5.00, 4 LONAS, Pneu de construção diagonal 5.00/6-12 G-10 - 4 lonas. Colocado com montagem. Pneus novos, certificados pelo INMETRO. Não recondicionados, não remoldados, não remanufaturados e não recapados. | E20: Peça | F20: Firestone T2 4 lonas | G20: 339030.39 | H20: 167 | J20: =I20-(SUM(L20:W20)) -> 0 | K20: =IF(J20<0,"ATENÇÃO","OK") -> OK | L20: 0 | M20: 0 | N20: 0 | O20: 0 | P20: 0 | Q20: 0 | R20: 0 | S20: 0 | T20: 0 | U20: 0 | V20: 0 | W20: 0
C21: 18 | D21: PNEUS PARA VEICULOS PESADOS, PNEU PARA RODA 14", 6.00, Pneu de construção diagonal 6.00x14 R1 - Capacidade de carga “C”. Colocado com montagem. Pneus novos, certificados pelo INMETRO. Não recondicionados, não remoldados, não remanufaturados e não recapados. | E21: Peça | F21: Rinaldi RGA 34 - 6 lonas | G21: 339030.39 | H21: 324 | J21: =I21-(SUM(L21:W21)) -> 0 | K21: =IF(J21<0,"ATENÇÃO","OK") -> OK | L21: 0 | M21: 0 | N21: 0 | O21: 0 | P21: 0 | Q21: 0 | R21: 0 | S21: 0 | T21: 0 | U21: 0 | V21: 0 | W21: 0
C22: 19 | D22: PNEUS PARA VEICULOS PESADOS, PNEU PARA RODA 16", 7.5, 8 LONAS, Pneu direcional 7.5x16 F2 Multi-raiado 8 lonas. Colocado com montagem. Pneus novos, certificados pelo INMETRO. Não recondicionados, não remoldados, não remanufaturados e não recapados. | E22: Peça | F22: Firestone G-Grip 8 lonas | G22: 339030.39 | H22: 510 | J22: =I22-(SUM(L22:W22)) -> 0 | K22: =IF(J22<0,"ATENÇÃO","OK") -> OK | L22: 0 | M22: 0 | N22: 0 | O22: 0 | P22: 0 | Q22: 0 | R22: 0 | S22: 0 | T22: 0 | U22: 0 | V22: 0 | W22: 0
C23: 20 | D23: PNEUS PARA VEICULOS PESADOS, PNEU PARA RODA 24", 12.4, 6 LONAS, Pneu de construção radial 12.4-24 R1 - 6 lonas. Colocado com montagem. Pneus novos, certificados pelo INMETRO. Não recondicionados, não remoldados, não remanufaturados e não recapados. | E23: Peça | F23: Firestone SAT - 23G | G23: 339030.39 | H23: 1001 | J23: =I23-(SUM(L23:W23)) -> 0 | K23: =IF(J23<0,"ATENÇÃO","OK") -> OK | L23: 0 | M23: 0 | N23: 0 | O23: 0 | P23: 0 | Q23: 0 | R23: 0 | S23: 0 | T23: 0 | U23: 0 | V23: 0 | W23: 0
C24: 21 | D24: PNEUS PARA VEICULOS PESADOS, PNEU PARA RODA 24", 9.5, 6 LONAS, Pneu de construção diagonal 9.5x24 R1 – 6 Lonas. Colocado com montagem. Pneus novos, certificados pelo INMETRO. Não recondicionados, não remoldados, não remanufaturados e não recapados. | E24: Peça | F24: Firestone SAT - 23G | G24: 339030.39 | H24: 883 | J24: =I24-(SUM(L24:W24)) -> 0 | K24: =IF(J24<0,"ATENÇÃO","OK") -> OK | L24: 0 | M24: 0 | N24: 0 | O24: 0 | P24: 0 | Q24: 0 | R24: 0 | S24: 0 | T24: 0 | U24: 0 | V24: 0 | W24: 0
C25: 22 | D25: PNEUS PARA VEICULOS PESADOS, PNEU PARA RODA 28", 14.9, 8 LONAS, Pneu de construção diagonal 14.9-28 R1 - 8 lonas. Colocado com montagem. Pneus novos, certificados pelo INMETRO. Não recondicionados, não remoldados, não remanufaturados e não recapados. | E25: Peça | F25: Firestone SAT - 23G 10 lonas | G25: 339030.39 | H25: 1507.5 | J25: =I25-(SUM(L25:W25)) -> 0 | K25: =IF(J25<0,"ATENÇÃO","OK") -> OK | L25: 0 | M25: 0 | N25: 0 | O25: 0 | P25: 0 | Q25: 0 | R25: 0 | S25: 0 | T25: 0 | U25: 0 | V25: 0 | W25: 0
C26: 23 | D26: PNEUS PARA VEÍCULOS PESADOS, PNEU PARA RODA 30", Pneu de construção radial 18.4-30 R1 - 10 lonas. Colocado com montagem. Pneus novos, certificados pelo INMETRO. Não recondicionados, não remoldados, não remanufaturados e não recapados. | E26: Peça | F26: Firestone SAT - 23G 10 lonas | G26: 339030.39 | H26: 2097.5 | J26: =I26-(SUM(L26:W26)) -> 0 | K26: =IF(J26<0,"ATENÇÃO","OK") -> OK | L26: 0 | M26: 0 | N26: 0 | O26: 0 | P26: 0 | Q26: 0 | R26: 0 | S26: 0 | T26: 0 | U26: 0 | V26: 0 | W26: 0
A27: Cantu Comércio de Pneumáticos Ltda | B27: 3 | C27: 24 | D27: PNEUS PARA VEICULOS PESADOS, PNEU PARA RODA 17,5", 215/75, Pneus novos, certificados pelo INMETRO. Não recondicionados, não remoldados, não remanufaturados e não recapados - medidas 215/75 R-17,5. | E27: Peça | F27: ASR35 AELOUS 16PR 127/124M | G27: 339030.39 | H27: 585 | J27: =I27-(SUM(L27:W27)) -> 0 | K27: =IF(J27<0,"ATENÇÃO","OK") -> OK | L27: 0 | M27: 0 | N27: 0 | O27: 0 | P27: 0 | Q27: 0 | R27: 0 | S27: 0 | T27: 0 | U27: 0 | V27: 0 | W27: 0
C28: 25 | D28: PNEUS PARA VEICULOS PESADOS, PNEU PARA RODA 22,5", 275/80, LISO, Pneus novos, certificados pelo INMETRO. Não recondicionados, não remoldados, não remanufaturados e não recapados - medidas 275/80 R-22,5. | E28: Peça | F28: D621 DRC 16PR 147/144L | G28: 339030.39 | H28: 1170 | J28: =I28-(SUM(L28:W28)) -> 0 | K28: =IF(J28<0,"ATENÇÃO","OK") -> OK | L28: 0 | M28: 0 | N28: 0 | O28: 0 | P28: 0 | Q28: 0 | R28: 0 | S28: 0 | T28: 0 | U28: 0 | V28: 0 | W28: 0
D30: *Prazos de Entrega e Pagamento conforme edital

Sheet CEART
A1: PROCESSO: 0066/2015/UDESC | D1: OBJETO: AQUISIÇÃO DE PNEUS PARA A UDESC | I1: VIGÊNCIA DA ATA: 03/03/2015 até 02/03/2016 | L1: AF/OS nº xxxx/2015 Qtde. DT | M1: AF/OS nº xxxx/2015 Qtde. DT | N1: AF/OS nº xxxx/2015 Qtde. DT | O1: AF/OS nº xxxx/2015 Qtde. DT | P1: AF/OS nº xxxx/2015 Qtde. DT | Q1: AF/OS nº xxxx/2015 Qtde. DT | R1: AF/OS nº xxxx/2015 Qtde. DT | S1: AF/OS nº xxxx/2015 Qtde. DT | T1: AF/OS nº xxxx/2015 Qtde. DT | U1: AF/OS nº xxxx/2015 Qtde. DT | V1: AF/OS nº xxxx/2015 Qtde. DT | W1: AF/OS nº xxxx/2015 Qtde. DT
A2: CENTRO PARTICIPANTE: CEART
A3: FORNECEDOR | B3: LOTE | C3: ITEM | D3: PRODUTO - CARACTERÍSTICAS MÍNIMAS | E3: UNIDADE | F3: MARCA | G3: ELEMENTO | H3: Preço UNITÁRIO (R$) | I3: Qtde Registrada | J3: Saldo / Automático | K3: ALERTA | L3: ...../...../...... | M3: ...../...../...... | N3: ...../...../...... | O3: ...../...../...... | P3: ...../...../...... | Q3: ...../...../...... | R3: ...../...../...... | S3: ...../...../...... | T3: ...../...../...... | U3: ...../...../...... | V3: ...../...../...... | W3: ...../...../......
A4: Cantu Comércio de Pneumáticos Ltda | B4: 1 | C4: 1 | D4: PNEUS PARA VEICULOS LEVES, PNEU PARA RODA 14", 185/60, Pneus novos, certificados pelo INMETRO. Não recondicionados, não remoldados, não remanufaturados e não recapados - medidas 185/60 R-14. | E4: Peça | F4: KH 17 KUMHO 82 T | G4: 339030.39 | H4: 193 | I4: 6 | J4: =I4-(SUM(L4:W4)) -> 6 | K4: =IF(J4<0,"ATENÇÃO","OK") -> OK | L4: 0 | M4: 0 | N4: 0 | O4: 0 | P4: 0 | Q4: 0 | R4: 0 | S4: 0 | T4: 0 | U4: 0 | V4: 0 | W4: 0
C5: 2 | D5: PNEUS PARA VEICULOS LEVES, PNEU PARA RODA 14", 185/65, Pneus novos, certificados pelo INMETRO. Não recondicionados, não remoldados, não remanufaturados e não recapados - medidas 185/65 R-14. | E5: Peça | F5: GENERAL EVERTREK RT CONTINENTAL 86T | G5: 339030.39 | H5: 222 | J5: =I5-(SUM(L5:W5)) -> 0 | K5: =IF(J5<0,"ATENÇÃO","OK") -> OK | L5: 0 | M5: 0 | N5: 0 | O5: 0 | P5: 0 | Q5: 0 | R5: 0 | S5: 0 | T5: 0 | U5: 0 | V5: 0 | W5: 0
C6: 3 | D6: PNEUS PARA VEICULOS LEVES, PNEU PARA RODA 14", 185/70, Pneus novos, certificados pelo INMETRO. Não recondicionados, não remoldados, não remanufaturados e não recapados - medidas 185/70 R-14. | E6: Peça | F6: KH 17 KUMHO 88H | G6: 339030.39 | H6: 187.2 | J6: =I6-(SUM(L6:W6)) -> 0 | K6: =IF(J6<0,"ATENÇÃO","OK") -> OK | L6: 0 | M6: 0 | N6: 0 | O6: 0 | P6: 0 | Q6: 0 | R6: 0 | S6: 0 | T6: 0 | U6: 0 | V6: 0 | W6: 0
C7: 4 | D7: PNEUS PARA VEICULOS LEVES, PNEU PARA RODA 14", 185/70, Pneus novos, certificados pelo INMETRO. Não recondicionados, não remoldados, não remanufaturados e não recapados - medidas 185/70 R-14C (pneus para KOMBI). | E7: Peça | F7: AL01 AELOUS 102/100R | G7: 339030.39 | H7: 258 | J7: =I7-(SUM(L7:W7)) -> 0 | K7: =IF(J7<0,"ATENÇÃO","OK") -> OK | L7: 0 | M7: 0 | N7: 0 | O7: 0 | P7: 0 | Q7: 0 | R7: 0 | S7: 0 | T7: 0 | U7: 0 | V7: 0 | W7: 0
C8: 5 | D8: PNEUS PARA VEICULOS LEVES, PNEU PARA RODA 15",185/65, Pneus novos, certificados pelo INMETRO. Não recondicionados, não remoldados, não remanufaturados e não recapados - medidas 185/65 R-15. | E8: Peça | F8: AH01 AEOLUS 88H | G8: 339030.39 | H8: 199 | I8: 4 | J8: =I8-(SUM(L8:W8)) -> 4 | K8: =IF(J8<0,"ATENÇÃO","OK") -> OK | L8: 0 | M8: 0 | N8: 0 | O8: 0 | P8: 0 | Q8: 0 | R8: 0 | S8: 0 | T8: 0 | U8: 0 | V8: 0 | W8: 0
C9: 6 | D9: PNEUS PARA VEICULOS LEVES, PNEU PARA RODA 15", 195/60, Pneus novos, certificados pelo INMETRO. Não recondicionados, não remoldados, não remanufaturados e não recapados - medidas 195/60 R-15. | E9: Peça | F9: AH01 AEOLUS 88H | G9: 339030.39 | H9: 211 | I9: 2 | J9: =I9-(SUM(L9:W9)) -> 2 | K9: =IF(J9<0,"ATENÇÃO","OK") -> OK | L9: 0 | M9: 0 | N9: 0 | O9: 0 | P9: 0 | Q9: 0 | R9: 0 | S9: 0 | T9: 0 | U9: 0 | V9: 0 | W9: 0
C10: 7 | D10: PNEUS PARA VEICULOS LEVES, PNEU PARA RODA 15", 195/65, Pneus novos, certificados pelo INMETRO; não recondicionados, não remoldados, não remanufaturados e não recapados - medida 195/65. R-15 | E10: Peça | F10: AH01 AEOLUS 91H | G10: 339030.39 | H10: 199 | I10: =2-2 -> 0 | J10: =I10-(SUM(L10:W10)) -> 0 | K10: =IF(J10<0,"ATENÇÃO","OK") -> OK | L10: 0 | M10: 0 | N10: 0 | O10: 0 | P10: 0 | Q10: 0 | R10: 0 | S10: 0 | T10: 0 | U10: 0 | V10: 0 | W10: 0
C11: 8 | D11: PNEUS PARA VEICULOS LEVES, PNEU PARA RODA 15", 225/70, Pneus novos, certificados pelo INMETRO. Não recondicionados, não remoldados, não remanufaturados e não recapados - medidas 225/70 R-15. | E11: Peça | F11: KR21 MARSHAL 100T | G11: 339030.39 | H11: 351 | I11: 6 | J11: =I11-(SUM(L11:W11)) -> 6 | K11: =IF(J11<0,"ATENÇÃO","OK") -> OK | L11: 0 | M11: 0 | N11: 0 | O11: 0 | P11: 0 | Q11: 0 | R11: 0 | S11: 0 | T11: 0 | U11: 0 | V11: 0 | W11: 0
C12: 9 | D12: PNEUS PARA VEICULOS LEVES, PNEU PARA RODA 15", 235/75, Pneus novos, certificados pelo INMETRO. Não recondicionados, não remoldados, não remanufaturados e não recapados - medidas 235/75 R-15. | E12: Peça | F12: AS02 AELOUS 105T | G12: 339030.39 | H12: 328 | J12: =I12-(SUM(L12:W12)) -> 0 | K12: =IF(J12<0,"ATENÇÃO","OK") -> OK | L12: 0 | M12: 0 | N12: 0 | O12: 0 | P12: 0 | Q12: 0 | R12: 0 | S12: 0 | T12: 0 | U12: 0 | V12: 0 | W12: 0
C13: 10 | D13: PNEUS PARA VEICULOS LEVES, PNEU PARA RODA 16", 205/55, Pneus novos, certificados pelo INMETRO. Não recondicionados, não remoldados, não remanufaturados e não recapados - medidas 205/55 R-16. | E13: Peça | F13: KH 25 KUMHO 91H | G13: 339030.39 | H13: 270 | J13: =I13-(SUM(L13:W13)) -> 0 | K13: =IF(J13<0,"ATENÇÃO","OK") -> OK | L13: 0 | M13: 0 | N13: 0 | O13: 0 | P13: 0 | Q13: 0 | R13: 0 | S13: 0 | T13: 0 | U13: 0 | V13: 0 | W13: 0
C14: 11 | D14: PNEUS PARA VEICULOS LEVES, PNEU PARA RODA 16", 205/75, Pneus novos, certificados pelo INMETRO. Não recondicionados, não remoldados, não remanufaturados e não recapados - medidas 205/75 R-16. | E14: Peça | F14: 857 MARSHAL 110/108R 8PR | G14: 339030.39 | H14: 410 | I14: 2 | J14: =I14-(SUM(L14:W14)) -> 2 | K14: =IF(J14<0,"ATENÇÃO","OK") -> OK | L14: 0 | M14: 0 | N14: 0 | O14: 0 | P14: 0 | Q14: 0 | R14: 0 | S14: 0 | T14: 0 | U14: 0 | V14: 0 | W14: 0
C15: 12 | D15: PNEUS PARA VEICULOS LEVES, PNEU PARA RODA 16", 215/70, Pneus novos, certificados pelo INMETRO. Não recondicionados, não remoldados, não remanufaturados e não recapados - medidas 215/70 R-16. | E15: Peça | F15: KL21 KUMHO 100H | G15: 339030.39 | H15: 375 | J15: =I15-(SUM(L15:W15)) -> 0 | K15: =IF(J15<0,"ATENÇÃO","OK") -> OK | L15: 0 | M15: 0 | N15: 0 | O15: 0 | P15: 0 | Q15: 0 | R15: 0 | S15: 0 | T15: 0 | U15: 0 | V15: 0 | W15: 0
C16: 13 | D16: PNEUS PARA VEICULOS LEVES, PNEU PARA RODA 16", 235/70, "PNEUS PARA VEICULOS LEVES, PNEU PARA RODA 16", 235/70, Pneus novos, certificados pelo INMETRO. Não recondicionados, não remoldados, não remanufaturados e não recapados - medidas 235/70 R-16." | E16: Peça | F16: AS02 AELOUS 106S | G16: 339030.39 | H16: 328 | J16: =I16-(SUM(L16:W16)) -> 0 | K16: =IF(J16<0,"ATENÇÃO","OK") -> OK | L16: 0 | M16: 0 | N16: 0 | O16: 0 | P16: 0 | Q16: 0 | R16: 0 | S16: 0 | T16: 0 | U16: 0 | V16: 0 | W16: 0
C17: 14 | D17: PNEUS PARA VEICULOS LEVES, PNEU PARA RODA 16", 245/70, Pneus novos, certificados pelo INMETRO. Não recondicionados, não remoldados, não remanufaturados e não recapados - medidas 245/70 R-16 - 111s. | E17: Peça | F17: AS01 AELOUS 107T | G17: 339030.39 | H17: 335 | J17: =I17-(SUM(L17:W17)) -> 0 | K17: =IF(J17<0,"ATENÇÃO","OK") -> OK | L17: 0 | M17: 0 | N17: 0 | O17: 0 | P17: 0 | Q17: 0 | R17: 0 | S17: 0 | T17: 0 | U17: 0 | V17: 0 | W17: 0
C18: 15 | D18: PNEUS PARA VEICULOS LEVES, PNEU PARA RODA 16", 245/70, Pneus novos, certificados pelo INMETRO. Não recondicionados, não remoldados, não remanufaturados e não recapados - medidas 245/70 R-16. | E18: Peça | F18: AS01 AELOUS 107T | G18: 339030.39 | H18: 335 | J18: =I18-(SUM(L18:W18)) -> 0 | K18: =IF(J18<0,"ATENÇÃO","OK") -> OK | L18: 0 | M18: 0 | N18: 0 | O18: 0 | P18: 0 | Q18: 0 | R18: 0 | S18: 0 | T18: 0 | U18: 0 | V18: 0 | W18: 0
C19: 16 | D19: PNEUS PARA VEICULOS LEVES, PNEU PARA RODA 16", 255/70, Pneus novos, não recondicionados, não remoldados, não remanufaturados e não recapados, certificados pelo INMETRO - medidas – 255/70 - R16. | E19: Peça | F19: AS02 AEOLUS 111S | G19: 339030.39 | H19: 421 | J19: =I19-(SUM(L19:W19)) -> 0 | K19: =IF(J19<0,"ATENÇÃO","OK") -> OK | L19: 0 | M19: 0 | N19: 0 | O19: 0 | P19: 0 | Q19: 0 | R19: 0 | S19: 0 | T19: 0 | U19: 0 | V19: 0 | W19: 0
A20: Modelo Pneus Ltda | B20: 2 | C20: 17 | D20: PNEUS PARA VEICULOS PESADOS, PNEU PARA RODA 12", 5.00, 4 LONAS, Pneu de construção diagonal 5.00/6-12 G-10 - 4 lonas. Colocado com montagem. Pneus novos, certificados pelo INMETRO. Não recondicionados, não remoldados, não remanufaturados e não recapados. | E20: Peça | F20: Firestone T2 4 lonas | G20: 339030.39 | H20: 167 | J20: =I20-(SUM(L20:W20)) -> 0 | K20: =IF(J20<0,"ATENÇÃO","OK") -> OK | L20: 0 | M20: 0 | N20: 0 | O20: 0 | P20: 0 | Q20: 0 | R20: 0 | S20: 0 | T20: 0 | U20: 0 | V20: 0 | W20: 0
C21: 18 | D21: PNEUS PARA VEICULOS PESADOS, PNEU PARA RODA 14", 6.00, Pneu de construção diagonal 6.00x14 R1 - Capacidade de carga “C”. Colocado com montagem. Pneus novos, certificados pelo INMETRO. Não recondicionados, não remoldados, não remanufaturados e não recapados. | E21: Peça | F21: Rinaldi RGA 34 - 6 lonas | G21: 339030.39 | H21: 324 | J21: =I21-(SUM(L21:W21)) -> 0 | K21: =IF(J21<0,"ATENÇÃO","OK") -> OK | L21: 0 | M21: 0 | N21: 0 | O21: 0 | P21: 0 | Q21: 0 | R21: 0 | S21: 0 | T21: 0 | U21: 0 | V21: 0 | W21: 0
C22: 19 | D22: PNEUS PARA VEICULOS PESADOS, PNEU PARA RODA 16", 7.5, 8 LONAS, Pneu direcional 7.5x16 F2 Multi-raiado 8 lonas. Colocado com montagem. Pneus novos, certificados pelo INMETRO. Não recondicionados, não remoldados, não remanufaturados e não recapados. | E22: Peça | F22: Firestone G-Grip 8 lonas | G22: 339030.39 | H22: 510 | J22: =I22-(SUM(L22:W22)) -> 0 | K22: =IF(J22<0,"ATENÇÃO","OK") -> OK | L22: 0 | M22: 0 | N22: 0 | O22: 0 | P22: 0 | Q22: 0 | R22: 0 | S22: 0 | T22: 0 | U22: 0 | V22: 0 | W22: 0
C23: 20 | D23: PNEUS PARA VEICULOS PESADOS, PNEU PARA RODA 24", 12.4, 6 LONAS, Pneu de construção radial 12.4-24 R1 - 6 lonas. Colocado com montagem. Pneus novos, certificados pelo INMETRO. Não recondicionados, não remoldados, não remanufaturados e não recapados. | E23: Peça | F23: Firestone SAT - 23G | G23: 339030.39 | H23: 1001 | J23: =I23-(SUM(L23:W23)) -> 0 | K23: =IF(J23<0,"ATENÇÃO","OK") -> OK | L23: 0 | M23: 0 | N23: 0 | O23: 0 | P23: 0 | Q23: 0 | R23: 0 | S23: 0 | T23: 0 | U23: 0 | V23: 0 | W23: 0
C24: 21 | D24: PNEUS PARA VEICULOS PESADOS, PNEU PARA RODA 24", 9.5, 6 LONAS, Pneu de construção diagonal 9.5x24 R1 – 6 Lonas. Colocado com montagem. Pneus novos, certificados pelo INMETRO. Não recondicionados, não remoldados, não remanufaturados e não recapados. | E24: Peça | F24: Firestone SAT - 23G | G24: 339030.39 | H24: 883 | J24: =I24-(SUM(L24:W24)) -> 0 | K24: =IF(J24<0,"ATENÇÃO","OK") -> OK | L24: 0 | M24: 0 | N24: 0 | O24: 0 | P24: 0 | Q24: 0 | R24: 0 | S24: 0 | T24: 0 | U24: 0 | V24: 0 | W24: 0
C25: 22 | D25: PNEUS PARA VEICULOS PESADOS, PNEU PARA RODA 28", 14.9, 8 LONAS, Pneu de construção diagonal 14.9-28 R1 - 8 lonas. Colocado com montagem. Pneus novos, certificados pelo INMETRO. Não recondicionados, não remoldados, não remanufaturados e não recapados. | E25: Peça | F25: Firestone SAT - 23G 10 lonas | G25: 339030.39 | H25: 1507.5 | J25: =I25-(SUM(L25:W25)) -> 0 | K25: =IF(J25<0,"ATENÇÃO","OK") -> OK | L25: 0 | M25: 0 | N25: 0 | O25: 0 | P25: 0 | Q25: 0 | R25: 0 | S25: 0 | T25: 0 | U25: 0 | V25: 0 | W25: 0
C26: 23 | D26: PNEUS PARA VEÍCULOS PESADOS, PNEU PARA RODA 30", Pneu de construção radial 18.4-30 R1 - 10 lonas. Colocado com montagem. Pneus novos, certificados pelo INMETRO. Não recondicionados, não remoldados, não remanufaturados e não recapados. | E26: Peça | F26: Firestone SAT - 23G 10 lonas | G26: 339030.39 | H26: 2097.5 | J26: =I26-(SUM(L26:W26)) -> 0 | K26: =IF(J26<0,"ATENÇÃO","OK") -> OK | L26: 0 | M26: 0 | N26: 0 | O26: 0 | P26: 0 | Q26: 0 | R26: 0 | S26: 0 | T26: 0 | U26: 0 | V26: 0 | W26: 0
A27: Cantu Comércio de Pneumáticos Ltda | B27: 3 | C27: 24 | D27: PNEUS PARA VEICULOS PESADOS, PNEU PARA RODA 17,5", 215/75, Pneus novos, certificados pelo INMETRO. Não recondicionados, não remoldados, não remanufaturados e não recapados - medidas 215/75 R-17,5. | E27: Peça | F27: ASR35 AELOUS 16PR 127/124M | G27: 339030.39 | H27: 585 | J27: =I27-(SUM(L27:W27)) -> 0 | K27: =IF(J27<0,"ATENÇÃO","OK") -> OK | L27: 0 | M27: 0 | N27: 0 | O27: 0 | P27: 0 | Q27: 0 | R27: 0 | S27: 0 | T27: 0 | U27: 0 | V27: 0 | W27: 0
C28: 25 | D28: PNEUS PARA VEICULOS PESADOS, PNEU PARA RODA 22,5", 275/80, LISO, Pneus novos, certificados pelo INMETRO. Não recondicionados, não remoldados, não remanufaturados e não recapados - medidas 275/80 R-22,5. | E28: Peça | F28: D621 DRC 16PR 147/144L | G28: 339030.39 | H28: 1170 | J28: =I28-(SUM(L28:W28)) -> 0 | K28: =IF(J28<0,"ATENÇÃO","OK") -> OK | L28: 0 | M28: 0 | N28: 0 | O28: 0 | P28: 0 | Q28: 0 | R28: 0 | S28: 0 | T28: 0 | U28: 0 | V28: 0 | W28: 0
D30: *Prazos de Entrega e Pagamento conforme edital

Sheet CCT
A1: PROCESSO: 0066/2015/UDESC | D1: OBJETO: AQUISIÇÃO DE PNEUS PARA A UDESC | I1: VIGÊNCIA DA ATA: 03/03/2015 até 02/03/2016 | L1: AF/OS nº 1278/2015 Qtde. DT | M1: AF/OS nº xxxx/2015 Qtde. DT | N1: AF/OS nº xxxx/2015 Qtde. DT | O1: AF/OS nº xxxx/2015 Qtde. DT | P1: AF/OS nº xxxx/2015 Qtde. DT | Q1: AF/OS nº xxxx/2015 Qtde. DT | R1: AF/OS nº xxxx/2015 Qtde. DT | S1: AF/OS nº xxxx/2015 Qtde. DT | T1: AF/OS nº xxxx/2015 Qtde. DT | U1: AF/OS nº xxxx/2015 Qtde. DT | V1: AF/OS nº xxxx/2015 Qtde. DT | W1: AF/OS nº xxxx/2015 Qtde. DT
A2: CENTRO PARTICIPANTE: CCT
A3: FORNECEDOR | B3: LOTE | C3: ITEM | D3: PRODUTO - CARACTERÍSTICAS MÍNIMAS | E3: UNIDADE | F3: MARCA | G3: ELEMENTO | H3: Preço UNITÁRIO (R$) | I3: Qtde Registrada | J3: Saldo / Automático | K3: ALERTA | L3: 42209 | M3: ...../...../...... | N3: ...../...../...... | O3: ...../...../...... | P3: ...../...../...... | Q3: ...../...../...... | R3: ...../...../...... | S3: ...../...../...... | T3: ...../...../...... | U3: ...../...../...... | V3: ...../...../...... | W3: ...../...../......
A4: Cantu Comércio de Pneumáticos Ltda | B4: 1 | C4: 1 | D4: PNEUS PARA VEICULOS LEVES, PNEU PARA RODA 14", 185/60, Pneus novos, certificados pelo INMETRO. Não recondicionados, não remoldados, não remanufaturados e não recapados - medidas 185/60 R-14. | E4: Peça | F4: KH 17 KUMHO 82 T | G4: 339030.39 | H4: 193 | J4: =I4-(SUM(L4:W4)) -> 0 | K4: =IF(J4<0,"ATENÇÃO","OK") -> OK | L4: 0 | M4: 0 | N4: 0 | O4: 0 | P4: 0 | Q4: 0 | R4: 0 | S4: 0 | T4: 0 | U4: 0 | V4: 0 | W4: 0
C5: 2 | D5: PNEUS PARA VEICULOS LEVES, PNEU PARA RODA 14", 185/65, Pneus novos, certificados pelo INMETRO. Não recondicionados, não remoldados, não remanufaturados e não recapados - medidas 185/65 R-14. | E5: Peça | F5: GENERAL EVERTREK RT CONTINENTAL 86T | G5: 339030.39 | H5: 222 | J5: =I5-(SUM(L5:W5)) -> 0 | K5: =IF(J5<0,"ATENÇÃO","OK") -> OK | L5: 0 | M5: 0 | N5: 0 | O5: 0 | P5: 0 | Q5: 0 | R5: 0 | S5: 0 | T5: 0 | U5: 0 | V5: 0 | W5: 0
C6: 3 | D6: PNEUS PARA VEICULOS LEVES, PNEU PARA RODA 14", 185/70, Pneus novos, certificados pelo INMETRO. Não recondicionados, não remoldados, não remanufaturados e não recapados - medidas 185/70 R-14. | E6: Peça | F6: KH 17 KUMHO 88H | G6: 339030.39 | H6: 187.2 | J6: =I6-(SUM(L6:W6)) -> 0 | K6: =IF(J6<0,"ATENÇÃO","OK") -> OK | L6: 0 | M6: 0 | N6: 0 | O6: 0 | P6: 0 | Q6: 0 | R6: 0 | S6: 0 | T6: 0 | U6: 0 | V6: 0 | W6: 0
C7: 4 | D7: PNEUS PARA VEICULOS LEVES, PNEU PARA RODA 14", 185/70, Pneus novos, certificados pelo INMETRO. Não recondicionados, não remoldados, não remanufaturados e não recapados - medidas 185/70 R-14C (pneus para KOMBI). | E7: Peça | F7: AL01 AELOUS 102/100R | G7: 339030.39 | H7: 258 | J7: =I7-(SUM(L7:W7)) -> 0 | K7: =IF(J7<0,"ATENÇÃO","OK") -> OK | L7: 0 | M7: 0 | N7: 0 | O7: 0 | P7: 0 | Q7: 0 | R7: 0 | S7: 0 | T7: 0 | U7: 0 | V7: 0 | W7: 0
C8: 5 | D8: PNEUS PARA VEICULOS LEVES, PNEU PARA RODA 15",185/65, Pneus novos, certificados pelo INMETRO. Não recondicionados, não remoldados, não remanufaturados e não recapados - medidas 185/65 R-15. | E8: Peça | F8: AH01 AEOLUS 88H | G8: 339030.39 | H8: 199 | I8: 12 | J8: =I8-(SUM(L8:W8)) -> 0 | K8: =IF(J8<0,"ATENÇÃO","OK") -> OK | L8: 12 | M8: 0 | N8: 0 | O8: 0 | P8: 0 | Q8: 0 | R8: 0 | S8: 0 | T8: 0 | U8: 0 | V8: 0 | W8: 0
C9: 6 | D9: PNEUS PARA VEICULOS LEVES, PNEU PARA RODA 15", 195/60, Pneus novos, certificados pelo INMETRO. Não recondicionados, não remoldados, não remanufaturados e não recapados - medidas 195/60 R-15. | E9: Peça | F9: AH01 AEOLUS 88H | G9: 339030.39 | H9: 211 | J9: =I9-(SUM(L9:W9)) -> 0 | K9: =IF(J9<0,"ATENÇÃO","OK") -> OK | L9: 0 | M9: 0 | N9: 0 | O9: 0 | P9: 0 | Q9: 0 | R9: 0 | S9: 0 | T9: 0 | U9: 0 | V9: 0 | W9: 0
C10: 7 | D10: PNEUS PARA VEICULOS LEVES, PNEU PARA RODA 15", 195/65, Pneus novos, certificados pelo INMETRO; não recondicionados, não remoldados, não remanufaturados e não recapados - medida 195/65. R-15 | E10: Peça | F10: AH01 AEOLUS 91H | G10: 339030.39 | H10: 199 | J10: =I10-(SUM(L10:W10)) -> 0 | K10: =IF(J10<0,"ATENÇÃO","OK") -> OK | L10: 0 | M10: 0 | N10: 0 | O10: 0 | P10: 0 | Q10: 0 | R10: 0 | S10: 0 | T10: 0 | U10: 0 | V10: 0 | W10: 0
C11: 8 | D11: PNEUS PARA VEICULOS LEVES, PNEU PARA RODA 15", 225/70, Pneus novos, certificados pelo INMETRO. Não recondicionados, não remoldados, não remanufaturados e não recapados - medidas 225/70 R-15. | E11: Peça | F11: KR21 MARSHAL 100T | G11: 339030.39 | H11: 351 | I11: 4 | J11: =I11-(SUM(L11:W11)) -> 0 | K11: =IF(J11<0,"ATENÇÃO","OK") -> OK | L11: 4 | M11: 0 | N11: 0 | O11: 0 | P11: 0 | Q11: 0 | R11: 0 | S11: 0 | T11: 0 | U11: 0 | V11: 0 | W11: 0
C12: 9 | D12: PNEUS PARA VEICULOS LEVES, PNEU PARA RODA 15", 235/75, Pneus novos, certificados pelo INMETRO. Não recondicionados, não remoldados, não remanufaturados e não recapados - medidas 235/75 R-15. | E12: Peça | F12: AS02 AELOUS 105T | G12: 339030.39 | H12: 328 | J12: =I12-(SUM(L12:W12)) -> 0 | K12: =IF(J12<0,"ATENÇÃO","OK") -> OK | L12: 0 | M12: 0 | N12: 0 | O12: 0 | P12: 0 | Q12: 0 | R12: 0 | S12: 0 | T12: 0 | U12: 0 | V12: 0 | W12: 0
C13: 10 | D13: PNEUS PARA VEICULOS LEVES, PNEU PARA RODA 16", 205/55, Pneus novos, certificados pelo INMETRO. Não recondicionados, não remoldados, não remanufaturados e não recapados - medidas 205/55 R-16. | E13: Peça | F13: KH 25 KUMHO 91H | G13: 339030.39 | H13: 270 | J13: =I13-(SUM(L13:W13)) -> 0 | K13: =IF(J13<0,"ATENÇÃO","OK") -> OK | L13: 0 | M13: 0 | N13: 0 | O13: 0 | P13: 0 | Q13: 0 | R13: 0 | S13: 0 | T13: 0 | U13: 0 | V13: 0 | W13: 0
C14: 11 | D14: PNEUS PARA VEICULOS LEVES, PNEU PARA RODA 16", 205/75, Pneus novos, certificados pelo INMETRO. Não recondicionados, não remoldados, não remanufaturados e não recapados - medidas 205/75 R-16. | E14: Peça | F14: 857 MARSHAL 110/108R 8PR | G14: 339030.39 | H14: 410 | J14: =I14-(SUM(L14:W14)) -> 0 | K14: =IF(J14<0,"ATENÇÃO","OK") -> OK | L14: 0 | M14: 0 | N14: 0 | O14: 0 | P14: 0 | Q14: 0 | R14: 0 | S14: 0 | T14: 0 | U14: 0 | V14: 0 | W14: 0
C15: 12 | D15: PNEUS PARA VEICULOS LEVES, PNEU PARA RODA 16", 215/70, Pneus novos, certificados pelo INMETRO. Não recondicionados, não remoldados, não remanufaturados e não recapados - medidas 215/70 R-16. | E15: Peça | F15: KL21 KUMHO 100H | G15: 339030.39 | H15: 375 | J15: =I15-(SUM(L15:W15)) -> 0 | K15: =IF(J15<0,"ATENÇÃO","OK") -> OK | L15: 0 | M15: 0 | N15: 0 | O15: 0 | P15: 0 | Q15: 0 | R15: 0 | S15: 0 | T15: 0 | U15: 0 | V15: 0 | W15: 0
C16: 13 | D16: PNEUS PARA VEICULOS LEVES, PNEU PARA RODA 16", 235/70, "PNEUS PARA VEICULOS LEVES, PNEU PARA RODA 16", 235/70, Pneus novos, certificados pelo INMETRO. Não recondicionados, não remoldados, não remanufaturados e não recapados - medidas 235/70 R-16." | E16: Peça | F16: AS02 AELOUS 106S | G16: 339030.39 | H16: 328 | J16: =I16-(SUM(L16:W16)) -> 0 | K16: =IF(J16<0,"ATENÇÃO","OK") -> OK | L16: 0 | M16: 0 | N16: 0 | O16: 0 | P16: 0 | Q16: 0 | R16: 0 | S16: 0 | T16: 0 | U16: 0 | V16: 0 | W16: 0
C17: 14 | D17: PNEUS PARA VEICULOS LEVES, PNEU PARA RODA 16", 245/70, Pneus novos, certificados pelo INMETRO. Não recondicionados, não remoldados, não remanufaturados e não recapados - medidas 245/70 R-16 - 111s. | E17: Peça | F17: AS01 AELOUS 107T | G17: 339030.39 | H17: 335 | J17: =I17-(SUM(L17:W17)) -> 0 | K17: =IF(J17<0,"ATENÇÃO","OK") -> OK | L17: 0 | M17: 0 | N17: 0 | O17: 0 | P17: 0 | Q17: 0 | R17: 0 | S17: 0 | T17: 0 | U17: 0 | V17: 0 | W17: 0
C18: 15 | D18: PNEUS PARA VEICULOS LEVES, PNEU PARA RODA 16", 245/70, Pneus novos, certificados pelo INMETRO. Não recondicionados, não remoldados, não remanufaturados e não recapados - medidas 245/70 R-16. | E18: Peça | F18: AS01 AELOUS 107T | G18: 339030.39 | H18: 335 | J18: =I18-(SUM(L18:W18)) -> 0 | K18: =IF(J18<0,"ATENÇÃO","OK") -> OK | L18: 0 | M18: 0 | N18: 0 | O18: 0 | P18: 0 | Q18: 0 | R18: 0 | S18: 0 | T18: 0 | U18: 0 | V18: 0 | W18: 0
C19: 16 | D19: PNEUS PARA VEICULOS LEVES, PNEU PARA RODA 16", 255/70, Pneus novos, não recondicionados, não remoldados, não remanufaturados e não recapados, certificados pelo INMETRO - medidas – 255/70 - R16. | E19: Peça | F19: AS02 AEOLUS 111S | G19: 339030.39 | H19: 421 | J19: =I19-(SUM(L19:W19)) -> 0 | K19: =IF(J19<0,"ATENÇÃO","OK") -> OK | L19: 0 | M19: 0 | N19: 0 | O19: 0 | P19: 0 | Q19: 0 | R19: 0 | S19: 0 | T19: 0 | U19: 0 | V19: 0 | W19: 0
A20: Modelo Pneus Ltda | B20: 2 | C20: 17 | D20: PNEUS PARA VEICULOS PESADOS, PNEU PARA RODA 12", 5.00, 4 LONAS, Pneu de construção diagonal 5.00/6-12 G-10 - 4 lonas. Colocado com montagem. Pneus novos, certificados pelo INMETRO. Não recondicionados, não remoldados, não remanufaturados e não recapados. | E20: Peça | F20: Firestone T2 4 lonas | G20: 339030.39 | H20: 167 | J20: =I20-(SUM(L20:W20)) -> 0 | K20: =IF(J20<0,"ATENÇÃO","OK") -> OK | L20: 0 | M20: 0 | N20: 0 | O20: 0 | P20: 0 | Q20: 0 | R20: 0 | S20: 0 | T20: 0 | U20: 0 | V20: 0 | W20: 0
C21: 18 | D21: PNEUS PARA VEICULOS PESADOS, PNEU PARA RODA 14", 6.00, Pneu de construção diagonal 6.00x14 R1 - Capacidade de carga “C”. Colocado com montagem. Pneus novos, certificados pelo INMETRO. Não recondicionados, não remoldados, não remanufaturados e não recapados. | E21: Peça | F21: Rinaldi RGA 34 - 6 lonas | G21: 339030.39 | H21: 324 | J21: =I21-(SUM(L21:W21)) -> 0 | K21: =IF(J21<0,"ATENÇÃO","OK") -> OK | L21: 0 | M21: 0 | N21: 0 | O21: 0 | P21: 0 | Q21: 0 | R21: 0 | S21: 0 | T21: 0 | U21: 0 | V21: 0 | W21: 0
C22: 19 | D22: PNEUS PARA VEICULOS PESADOS, PNEU PARA RODA 16", 7.5, 8 LONAS, Pneu direcional 7.5x16 F2 Multi-raiado 8 lonas. Colocado com montagem. Pneus novos, certificados pelo INMETRO. Não recondicionados, não remoldados, não remanufaturados e não recapados. | E22: Peça | F22: Firestone G-Grip 8 lonas | G22: 339030.39 | H22: 510 | J22: =I22-(SUM(L22:W22)) -> 0 | K22: =IF(J22<0,"ATENÇÃO","OK") -> OK | L22: 0 | M22: 0 | N22: 0 | O22: 0 | P22: 0 | Q22: 0 | R22: 0 | S22: 0 | T22: 0 | U22: 0 | V22: 0 | W22: 0
C23: 20 | D23: PNEUS PARA VEICULOS PESADOS, PNEU PARA RODA 24", 12.4, 6 LONAS, Pneu de construção radial 12.4-24 R1 - 6 lonas. Colocado com montagem. Pneus novos, certificados pelo INMETRO. Não recondicionados, não remoldados, não remanufaturados e não recapados. | E23: Peça | F23: Firestone SAT - 23G | G23: 339030.39 | H23: 1001 | J23: =I23-(SUM(L23:W23)) -> 0 | K23: =IF(J23<0,"ATENÇÃO","OK") -> OK | L23: 0 | M23: 0 | N23: 0 | O23: 0 | P23: 0 | Q23: 0 | R23: 0 | S23: 0 | T23: 0 | U23: 0 | V23: 0 | W23: 0
C24: 21 | D24: PNEUS PARA VEICULOS PESADOS, PNEU PARA RODA 24", 9.5, 6 LONAS, Pneu de construção diagonal 9.5x24 R1 – 6 Lonas. Colocado com montagem. Pneus novos, certificados pelo INMETRO. Não recondicionados, não remoldados, não remanufaturados e não recapados. | E24: Peça | F24: Firestone SAT - 23G | G24: 339030.39 | H24: 883 | J24: =I24-(SUM(L24:W24)) -> 0 | K24: =IF(J24<0,"ATENÇÃO","OK") -> OK | L24: 0 | M24: 0 | N24: 0 | O24: 0 | P24: 0 | Q24: 0 | R24: 0 | S24: 0 | T24: 0 | U24: 0 | V24: 0 | W24: 0
C25: 22 | D25: PNEUS PARA VEICULOS PESADOS, PNEU PARA RODA 28", 14.9, 8 LONAS, Pneu de construção diagonal 14.9-28 R1 - 8 lonas. Colocado com montagem. Pneus novos, certificados pelo INMETRO. Não recondicionados, não remoldados, não remanufaturados e não recapados. | E25: Peça | F25: Firestone SAT - 23G 10 lonas | G25: 339030.39 | H25: 1507.5 | J25: =I25-(SUM(L25:W25)) -> 0 | K25: =IF(J25<0,"ATENÇÃO","OK") -> OK | L25: 0 | M25: 0 | N25: 0 | O25: 0 | P25: 0 | Q25: 0 | R25: 0 | S25: 0 | T25: 0 | U25: 0 | V25: 0 | W25: 0
C26: 23 | D26: PNEUS PARA VEÍCULOS PESADOS, PNEU PARA RODA 30", Pneu de construção radial 18.4-30 R1 - 10 lonas. Colocado com montagem. Pneus novos, certificados pelo INMETRO. Não recondicionados, não remoldados, não remanufaturados e não recapados. | E26: Peça | F26: Firestone SAT - 23G 10 lonas | G26: 339030.39 | H26: 2097.5 | J26: =I26-(SUM(L26:W26)) -> 0 | K26: =IF(J26<0,"ATENÇÃO","OK") -> OK | L26: 0 | M26: 0 | N26: 0 | O26: 0 | P26: 0 | Q26: 0 | R26: 0 | S26: 0 | T26: 0 | U26: 0 | V26: 0 | W26: 0
A27: Cantu Comércio de Pneumáticos Ltda | B27: 3 | C27: 24 | D27: PNEUS PARA VEICULOS PESADOS, PNEU PARA RODA 17,5", 215/75, Pneus novos, certificados pelo INMETRO. Não recondicionados, não remoldados, não remanufaturados e não recapados - medidas 215/75 R-17,5. | E27: Peça | F27: ASR35 AELOUS 16PR 127/124M | G27: 339030.39 | H27: 585 | I27: 6 | J27: =I27-(SUM(L27:W27)) -> 0 | K27: =IF(J27<0,"ATENÇÃO","OK") -> OK | L27: 6 | M27: 0 | N27: 0 | O27: 0 | P27: 0 | Q27: 0 | R27: 0 | S27: 0 | T27: 0 | U27: 0 | V27: 0 | W27: 0
C28: 25 | D28: PNEUS PARA VEICULOS PESADOS, PNEU PARA RODA 22,5", 275/80, LISO, Pneus novos, certificados pelo INMETRO. Não recondicionados, não remoldados, não remanufaturados e não recapados - medidas 275/80 R-22,5. | E28: Peça | F28: D621 DRC 16PR 147/144L | G28: 339030.39 | H28: 1170 | J28: =I28-(SUM(L28:W28)) -> 0 | K28: =IF(J28<0,"ATENÇÃO","OK") -> OK | L28: 0 | M28: 0 | N28: 0 | O28: 0 | P28: 0 | Q28: 0 | R28: 0 | S28: 0 | T28: 0 | U28: 0 | V28: 0 | W28: 0
D30: *Prazos de Entrega e Pagamento conforme edital

Sheet CEPLAN
A1: PROCESSO: 0066/2015/UDESC | D1: OBJETO: AQUISIÇÃO DE PNEUS PARA A UDESC | I1: VIGÊNCIA DA ATA: 03/03/2015 até 02/03/2016 | L1: AF/OS nº 559/2015 Qtde. DT | M1: AF/OS nº 98/2015 Qtde. DT | N1: AF/OS nº xxxx/2015 Qtde. DT | O1: AF/OS nº xxxx/2015 Qtde. DT | P1: AF/OS nº xxxx/2015 Qtde. DT | Q1: AF/OS nº xxxx/2015 Qtde. DT | R1: AF/OS nº xxxx/2015 Qtde. DT | S1: AF/OS nº xxxx/2015 Qtde. DT | T1: AF/OS nº xxxx/2015 Qtde. DT | U1: AF/OS nº xxxx/2015 Qtde. DT | V1: AF/OS nº xxxx/2015 Qtde. DT | W1: AF/OS nº xxxx/2015 Qtde. DT
A2: CENTRO PARTICIPANTE: CEPLAN
A3: FORNECEDOR | B3: LOTE | C3: ITEM | D3: PRODUTO - CARACTERÍSTICAS MÍNIMAS | E3: UNIDADE | F3: MARCA | G3: ELEMENTO | H3: Preço UNITÁRIO (R$) | I3: Qtde Registrada | J3: Saldo / Automático | K3: ALERTA | L3: ...../...../...... | M3: ...../...../...... | N3: ...../...../...... | O3: ...../...../...... | P3: ...../...../...... | Q3: ...../...../...... | R3: ...../...../...... | S3: ...../...../...... | T3: ...../...../...... | U3: ...../...../...... | V3: ...../...../...... | W3: ...../...../......
A4: Cantu Comércio de Pneumáticos Ltda | B4: 1 | C4: 1 | D4: PNEUS PARA VEICULOS LEVES, PNEU PARA RODA 14", 185/60, Pneus novos, certificados pelo INMETRO. Não recondicionados, não remoldados, não remanufaturados e não recapados - medidas 185/60 R-14. | E4: Peça | F4: KH 17 KUMHO 82 T | G4: 339030.39 | H4: 193 | J4: =I4-(SUM(L4:W4)) -> 0 | K4: =IF(J4<0,"ATENÇÃO","OK") -> OK | L4: 0 | M4: 0 | N4: 0 | O4: 0 | P4: 0 | Q4: 0 | R4: 0 | S4: 0 | T4: 0 | U4: 0 | V4: 0 | W4: 0
C5: 2 | D5: PNEUS PARA VEICULOS LEVES, PNEU PARA RODA 14", 185/65, Pneus novos, certificados pelo INMETRO. Não recondicionados, não remoldados, não remanufaturados e não recapados - medidas 185/65 R-14. | E5: Peça | F5: GENERAL EVERTREK RT CONTINENTAL 86T | G5: 339030.39 | H5: 222 | J5: =I5-(SUM(L5:W5)) -> 0 | K5: =IF(J5<0,"ATENÇÃO","OK") -> OK | L5: 0 | M5: 0 | N5: 0 | O5: 0 | P5: 0 | Q5: 0 | R5: 0 | S5: 0 | T5: 0 | U5: 0 | V5: 0 | W5: 0
C6: 3 | D6: PNEUS PARA VEICULOS LEVES, PNEU PARA RODA 14", 185/70, Pneus novos, certificados pelo INMETRO. Não recondicionados, não remoldados, não remanufaturados e não recapados - medidas 185/70 R-14. | E6: Peça | F6: KH 17 KUMHO 88H | G6: 339030.39 | H6: 187.2 | J6: =I6-(SUM(L6:W6)) -> 0 | K6: =IF(J6<0,"ATENÇÃO","OK") -> OK | L6: 0 | M6: 0 | N6: 0 | O6: 0 | P6: 0 | Q6: 0 | R6: 0 | S6: 0 | T6: 0 | U6: 0 | V6: 0 | W6: 0
C7: 4 | D7: PNEUS PARA VEICULOS LEVES, PNEU PARA RODA 14", 185/70, Pneus novos, certificados pelo INMETRO. Não recondicionados, não remoldados, não remanufaturados e não recapados - medidas 185/70 R-14C (pneus para KOMBI). | E7: Peça | F7: AL01 AELOUS 102/100R | G7: 339030.39 | H7: 258 | J7: =I7-(SUM(L7:W7)) -> 0 | K7: =IF(J7<0,"ATENÇÃO","OK") -> OK | L7: 0 | M7: 0 | N7: 0 | O7: 0 | P7: 0 | Q7: 0 | R7: 0 | S7: 0 | T7: 0 | U7: 0 | V7: 0 | W7: 0
C8: 5 | D8: PNEUS PARA VEICULOS LEVES, PNEU PARA RODA 15",185/65, Pneus novos, certificados pelo INMETRO. Não recondicionados, não remoldados, não remanufaturados e não recapados - medidas 185/65 R-15. | E8: Peça | F8: AH01 AEOLUS 88H | G8: 339030.39 | H8: 199 | J8: =I8-(SUM(L8:W8)) -> 0 | K8: =IF(J8<0,"ATENÇÃO","OK") -> OK | L8: 0 | M8: 0 | N8: 0 | O8: 0 | P8: 0 | Q8: 0 | R8: 0 | S8: 0 | T8: 0 | U8: 0 | V8: 0 | W8: 0
C9: 6 | D9: PNEUS PARA VEICULOS LEVES, PNEU PARA RODA 15", 195/60, Pneus novos, certificados pelo INMETRO. Não recondicionados, não remoldados, não remanufaturados e não recapados - medidas 195/60 R-15. | E9: Peça | F9: AH01 AEOLUS 88H | G9: 339030.39 | H9: 211 | I9: 4 | J9: =I9-(SUM(L9:W9)) -> 0 | K9: =IF(J9<0,"ATENÇÃO","OK") -> OK | L9: 0 | M9: 4 | N9: 0 | O9: 0 | P9: 0 | Q9: 0 | R9: 0 | S9: 0 | T9: 0 | U9: 0 | V9: 0 | W9: 0
C10: 7 | D10: PNEUS PARA VEICULOS LEVES, PNEU PARA RODA 15", 195/65, Pneus novos, certificados pelo INMETRO; não recondicionados, não remoldados, não remanufaturados e não recapados - medida 195/65. R-15 | E10: Peça | F10: AH01 AEOLUS 91H | G10: 339030.39 | H10: 199 | I10: =4+2 -> 6 | J10: =I10-(SUM(L10:W10)) -> 2 | K10: =IF(J10<0,"ATENÇÃO","OK") -> OK | L10: 4 | M10: 0 | N10: 0 | O10: 0 | P10: 0 | Q10: 0 | R10: 0 | S10: 0 | T10: 0 | U10: 0 | V10: 0 | W10: 0
C11: 8 | D11: PNEUS PARA VEICULOS LEVES, PNEU PARA RODA 15", 225/70, Pneus novos, certificados pelo INMETRO. Não recondicionados, não remoldados, não remanufaturados e não recapados - medidas 225/70 R-15. | E11: Peça | F11: KR21 MARSHAL 100T | G11: 339030.39 | H11: 351 | J11: =I11-(SUM(L11:W11)) -> 0 | K11: =IF(J11<0,"ATENÇÃO","OK") -> OK | L11: 0 | M11: 0 | N11: 0 | O11: 0 | P11: 0 | Q11: 0 | R11: 0 | S11: 0 | T11: 0 | U11: 0 | V11: 0 | W11: 0
C12: 9 | D12: PNEUS PARA VEICULOS LEVES, PNEU PARA RODA 15", 235/75, Pneus novos, certificados pelo INMETRO. Não recondicionados, não remoldados, não remanufaturados e não recapados - medidas 235/75 R-15. | E12: Peça | F12: AS02 AELOUS 105T | G12: 339030.39 | H12: 328 | J12: =I12-(SUM(L12:W12)) -> 0 | K12: =IF(J12<0,"ATENÇÃO","OK") -> OK | L12: 0 | M12: 0 | N12: 0 | O12: 0 | P12: 0 | Q12: 0 | R12: 0 | S12: 0 | T12: 0 | U12: 0 | V12: 0 | W12: 0
C13: 10 | D13: PNEUS PARA VEICULOS LEVES, PNEU PARA RODA 16", 205/55, Pneus novos, certificados pelo INMETRO. Não recondicionados, não remoldados, não remanufaturados e não recapados - medidas 205/55 R-16. | E13: Peça | F13: KH 25 KUMHO 91H | G13: 339030.39 | H13: 270 | I13: 8 | J13: =I13-(SUM(L13:W13)) -> 0 | K13: =IF(J13<0,"ATENÇÃO","OK") -> OK | L13: 4 | M13: 4 | N13: 0 | O13: 0 | P13: 0 | Q13: 0 | R13: 0 | S13: 0 | T13: 0 | U13: 0 | V13: 0 | W13: 0
C14: 11 | D14: PNEUS PARA VEICULOS LEVES, PNEU PARA RODA 16", 205/75, Pneus novos, certificados pelo INMETRO. Não recondicionados, não remoldados, não remanufaturados e não recapados - medidas 205/75 R-16. | E14: Peça | F14: 857 MARSHAL 110/108R 8PR | G14: 339030.39 | H14: 410 | I14: 8 | J14: =I14-(SUM(L14:W14)) -> 8 | K14: =IF(J14<0,"ATENÇÃO","OK") -> OK | L14: 0 | M14: 0 | N14: 0 | O14: 0 | P14: 0 | Q14: 0 | R14: 0 | S14: 0 | T14: 0 | U14: 0 | V14: 0 | W14: 0
C15: 12 | D15: PNEUS PARA VEICULOS LEVES, PNEU PARA RODA 16", 215/70, Pneus novos, certificados pelo INMETRO. Não recondicionados, não remoldados, não remanufaturados e não recapados - medidas 215/70 R-16. | E15: Peça | F15: KL21 KUMHO 100H | G15: 339030.39 | H15: 375 | J15: =I15-(SUM(L15:W15)) -> 0 | K15: =IF(J15<0,"ATENÇÃO","OK") -> OK | L15: 0 | M15: 0 | N15: 0 | O15: 0 | P15: 0 | Q15: 0 | R15: 0 | S15: 0 | T15: 0 | U15: 0 | V15: 0 | W15: 0
C16: 13 | D16: PNEUS PARA VEICULOS LEVES, PNEU PARA RODA 16", 235/70, "PNEUS PARA VEICULOS LEVES, PNEU PARA RODA 16", 235/70, Pneus novos, certificados pelo INMETRO. Não recondicionados, não remoldados, não remanufaturados e não recapados - medidas 235/70 R-16." | E16: Peça | F16: AS02 AELOUS 106S | G16: 339030.39 | H16: 328 | I16: 8 | J16: =I16-(SUM(L16:W16)) -> 0 | K16: =IF(J16<0,"ATENÇÃO","OK") -> OK | L16: 4 | M16: 4 | N16: 0 | O16: 0 | P16: 0 | Q16: 0 | R16: 0 | S16: 0 | T16: 0 | U16: 0 | V16: 0 | W16: 0
C17: 14 | D17: PNEUS PARA VEICULOS LEVES, PNEU PARA RODA 16", 245/70, Pneus novos, certificados pelo INMETRO. Não recondicionados, não remoldados, não remanufaturados e não recapados - medidas 245/70 R-16 - 111s. | E17: Peça | F17: AS01 AELOUS 107T | G17: 339030.39 | H17: 335 | J17: =I17-(SUM(L17:W17)) -> 0 | K17: =IF(J17<0,"ATENÇÃO","OK") -> OK | L17: 0 | M17: 0 | N17: 0 | O17: 0 | P17: 0 | Q17: 0 | R17: 0 | S17: 0 | T17: 0 | U17: 0 | V17: 0 | W17: 0
C18: 15 | D18: PNEUS PARA VEICULOS LEVES, PNEU PARA RODA 16", 245/70, Pneus novos, certificados pelo INMETRO. Não recondicionados, não remoldados, não remanufaturados e não recapados - medidas 245/70 R-16. | E18: Peça | F18: AS01 AELOUS 107T | G18: 339030.39 | H18: 335 | J18: =I18-(SUM(L18:W18)) -> 0 | K18: =IF(J18<0,"ATENÇÃO","OK") -> OK | L18: 0 | M18: 0 | N18: 0 | O18: 0 | P18: 0 | Q18: 0 | R18: 0 | S18: 0 | T18: 0 | U18: 0 | V18: 0 | W18: 0
C19: 16 | D19: PNEUS PARA VEICULOS LEVES, PNEU PARA RODA 16", 255/70, Pneus novos, não recondicionados, não remoldados, não remanufaturados e não recapados, certificados pelo INMETRO - medidas – 255/70 - R16. | E19: Peça | F19: AS02 AEOLUS 111S | G19: 339030.39 | H19: 421 | J19: =I19-(SUM(L19:W19)) -> 0 | K19: =IF(J19<0,"ATENÇÃO","OK") -> OK | L19: 0 | M19: 0 | N19: 0 | O19: 0 | P19: 0 | Q19: 0 | R19: 0 | S19: 0 | T19: 0 | U19: 0 | V19: 0 | W19: 0
A20: Modelo Pneus Ltda | B20: 2 | C20: 17 | D20: PNEUS PARA VEICULOS PESADOS, PNEU PARA RODA 12", 5.00, 4 LONAS, Pneu de construção diagonal 5.00/6-12 G-10 - 4 lonas. Colocado com montagem. Pneus novos, certificados pelo INMETRO. Não recondicionados, não remoldados, não remanufaturados e não recapados. | E20: Peça | F20: Firestone T2 4 lonas | G20: 339030.39 | H20: 167 | J20: =I20-(SUM(L20:W20)) -> 0 | K20: =IF(J20<0,"ATENÇÃO","OK") -> OK | L20: 0 | M20: 0 | N20: 0 | O20: 0 | P20: 0 | Q20: 0 | R20: 0 | S20: 0 | T20: 0 | U20: 0 | V20: 0 | W20: 0
C21: 18 | D21: PNEUS PARA VEICULOS PESADOS, PNEU PARA RODA 14", 6.00, Pneu de construção diagonal 6.00x14 R1 - Capacidade de carga “C”. Colocado com montagem. Pneus novos, certificados pelo INMETRO. Não recondicionados, não remoldados, não remanufaturados e não recapados. | E21: Peça | F21: Rinaldi RGA 34 - 6 lonas | G21: 339030.39 | H21: 324 | J21: =I21-(SUM(L21:W21)) -> 0 | K21: =IF(J21<0,"ATENÇÃO","OK") -> OK | L21: 0 | M21: 0 | N21: 0 | O21: 0 | P21: 0 | Q21: 0 | R21: 0 | S21: 0 | T21: 0 | U21: 0 | V21: 0 | W21: 0
C22: 19 | D22: PNEUS PARA VEICULOS PESADOS, PNEU PARA RODA 16", 7.5, 8 LONAS, Pneu direcional 7.5x16 F2 Multi-raiado 8 lonas. Colocado com montagem. Pneus novos, certificados pelo INMETRO. Não recondicionados, não remoldados, não remanufaturados e não recapados. | E22: Peça | F22: Firestone G-Grip 8 lonas | G22: 339030.39 | H22: 510 | J22: =I22-(SUM(L22:W22)) -> 0 | K22: =IF(J22<0,"ATENÇÃO","OK") -> OK | L22: 0 | M22: 0 | N22: 0 | O22: 0 | P22: 0 | Q22: 0 | R22: 0 | S22: 0 | T22: 0 | U22: 0 | V22: 0 | W22: 0
C23: 20 | D23: PNEUS PARA VEICULOS PESADOS, PNEU PARA RODA 24", 12.4, 6 LONAS, Pneu de construção radial 12.4-24 R1 - 6 lonas. Colocado com montagem. Pneus novos, certificados pelo INMETRO. Não recondicionados, não remoldados, não remanufaturados e não recapados. | E23: Peça | F23: Firestone SAT - 23G | G23: 339030.39 | H23: 1001 | J23: =I23-(SUM(L23:W23)) -> 0 | K23: =IF(J23<0,"ATENÇÃO","OK") -> OK | L23: 0 | M23: 0 | N23: 0 | O23: 0 | P23: 0 | Q23: 0 | R23: 0 | S23: 0 | T23: 0 | U23: 0 | V23: 0 | W23: 0
C24: 21 | D24: PNEUS PARA VEICULOS PESADOS, PNEU PARA RODA 24", 9.5, 6 LONAS, Pneu de construção diagonal 9.5x24 R1 – 6 Lonas. Colocado com montagem. Pneus novos, certificados pelo INMETRO. Não recondicionados, não remoldados, não remanufaturados e não recapados. | E24: Peça | F24: Firestone SAT - 23G | G24: 339030.39 | H24: 883 | J24: =I24-(SUM(L24:W24)) -> 0 | K24: =IF(J24<0,"ATENÇÃO","OK") -> OK | L24: 0 | M24: 0 | N24: 0 | O24: 0 | P24: 0 | Q24: 0 | R24: 0 | S24: 0 | T24: 0 | U24: 0 | V24: 0 | W24: 0
C25: 22 | D25: PNEUS PARA VEICULOS PESADOS, PNEU PARA RODA 28", 14.9, 8 LONAS, Pneu de construção diagonal 14.9-28 R1 - 8 lonas. Colocado com montagem. Pneus novos, certificados pelo INMETRO. Não recondicionados, não remoldados, não remanufaturados e não recapados. | E25: Peça | F25: Firestone SAT - 23G 10 lonas | G25: 339030.39 | H25: 1507.5 | J25: =I25-(SUM(L25:W25)) -> 0 | K25: =IF(J25<0,"ATENÇÃO","OK") -> OK | L25: 0 | M25: 0 | N25: 0 | O25: 0 | P25: 0 | Q25: 0 | R25: 0 | S25: 0 | T25: 0 | U25: 0 | V25: 0 | W25: 0
C26: 23 | D26: PNEUS PARA VEÍCULOS PESADOS, PNEU PARA RODA 30", Pneu de construção radial 18.4-30 R1 - 10 lonas. Colocado com montagem. Pneus novos, certificados pelo INMETRO. Não recondicionados, não remoldados, não remanufaturados e não recapados. | E26: Peça | F26: Firestone SAT - 23G 10 lonas | G26: 339030.39 | H26: 2097.5 | J26: =I26-(SUM(L26:W26)) -> 0 | K26: =IF(J26<0,"ATENÇÃO","OK") -> OK | L26: 0 | M26: 0 | N26: 0 | O26: 0 | P26: 0 | Q26: 0 | R26: 0 | S26: 0 | T26: 0 | U26: 0 | V26: 0 | W26: 0
A27: Cantu Comércio de Pneumáticos Ltda | B27: 3 | C27: 24 | D27: PNEUS PARA VEICULOS PESADOS, PNEU PARA RODA 17,5", 215/75, Pneus novos, certificados pelo INMETRO. Não recondicionados, não remoldados, não remanufaturados e não recapados - medidas 215/75 R-17,5. | E27: Peça | F27: ASR35 AELOUS 16PR 127/124M | G27: 339030.39 | H27: 585 | I27: 8 | J27: =I27-(SUM(L27:W27)) -> 0 | K27: =IF(J27<0,"ATENÇÃO","OK") -> OK | L27: 4 | M27: 4 | N27: 0 | O27: 0 | P27: 0 | Q27: 0 | R27: 0 | S27: 0 | T27: 0 | U27: 0 | V27: 0 | W27: 0
C28: 25 | D28: PNEUS PARA VEICULOS PESADOS, PNEU PARA RODA 22,5", 275/80, LISO, Pneus novos, certificados pelo INMETRO. Não recondicionados, não remoldados, não remanufaturados e não recapados - medidas 275/80 R-22,5. | E28: Peça | F28: D621 DRC 16PR 147/144L | G28: 339030.39 | H28: 1170 | J28: =I28-(SUM(L28:W28)) -> 0 | K28: =IF(J28<0,"ATENÇÃO","OK") -> OK | L28: 0 | M28: 0 | N28: 0 | O28: 0 | P28: 0 | Q28: 0 | R28: 0 | S28: 0 | T28: 0 | U28: 0 | V28: 0 | W28: 0
D30: *Prazos de Entrega e Pagamento conforme edital

Sheet CERES
A1: PROCESSO: 0066/2015/UDESC | D1: OBJETO: AQUISIÇÃO DE PNEUS PARA A UDESC | I1: VIGÊNCIA DA ATA: 03/03/2015 até 02/03/2016 | L1: AF/OS nº 1741/2015 Qtde. DT | M1: AF/OS nº xxxx/2015 Qtde. DT | N1: AF/OS nº xxxx/2015 Qtde. DT | O1: AF/OS nº xxxx/2015 Qtde. DT | P1: AF/OS nº xxxx/2015 Qtde. DT | Q1: AF/OS nº xxxx/2015 Qtde. DT | R1: AF/OS nº xxxx/2015 Qtde. DT | S1: AF/OS nº xxxx/2015 Qtde. DT | T1: AF/OS nº xxxx/2015 Qtde. DT | U1: AF/OS nº xxxx/2015 Qtde. DT | V1: AF/OS nº xxxx/2015 Qtde. DT | W1: AF/OS nº xxxx/2015 Qtde. DT
A2: CENTRO PARTICIPANTE: CERES
A3: FORNECEDOR | B3: LOTE | C3: ITEM | D3: PRODUTO - CARACTERÍSTICAS MÍNIMAS | E3: UNIDADE | F3: MARCA | G3: ELEMENTO | H3: Preço UNITÁRIO (R$) | I3: Qtde Registrada | J3: Saldo / Automático | K3: ALERTA | L3: 42279 | M3: ...../...../...... | N3: ...../...../...... | O3: ...../...../...... | P3: ...../...../...... | Q3: ...../...../...... | R3: ...../...../...... | S3: ...../...../...... | T3: ...../...../...... | U3: ...../...../...... | V3: ...../...../...... | W3: ...../...../......
A4: Cantu Comércio de Pneumáticos Ltda | B4: 1 | C4: 1 | D4: PNEUS PARA VEICULOS LEVES, PNEU PARA RODA 14", 185/60, Pneus novos, certificados pelo INMETRO. Não recondicionados, não remoldados, não remanufaturados e não recapados - medidas 185/60 R-14. | E4: Peça | F4: KH 17 KUMHO 82 T | G4: 339030.39 | H4: 193 | I4: 8 | J4: =I4-(SUM(L4:W4)) -> 8 | K4: =IF(J4<0,"ATENÇÃO","OK") -> OK | L4: 0 | M4: 0 | N4: 0 | O4: 0 | P4: 0 | Q4: 0 | R4: 0 | S4: 0 | T4: 0 | U4: 0 | V4: 0 | W4: 0
C5: 2 | D5: PNEUS PARA VEICULOS LEVES, PNEU PARA RODA 14", 185/65, Pneus novos, certificados pelo INMETRO. Não recondicionados, não remoldados, não remanufaturados e não recapados - medidas 185/65 R-14. | E5: Peça | F5: GENERAL EVERTREK RT CONTINENTAL 86T | G5: 339030.39 | H5: 222 | J5: =I5-(SUM(L5:W5)) -> 0 | K5: =IF(J5<0,"ATENÇÃO","OK") -> OK | L5: 0 | M5: 0 | N5: 0 | O5: 0 | P5: 0 | Q5: 0 | R5: 0 | S5: 0 | T5: 0 | U5: 0 | V5: 0 | W5: 0
C6: 3 | D6: PNEUS PARA VEICULOS LEVES, PNEU PARA RODA 14", 185/70, Pneus novos, certificados pelo INMETRO. Não recondicionados, não remoldados, não remanufaturados e não recapados - medidas 185/70 R-14. | E6: Peça | F6: KH 17 KUMHO 88H | G6: 339030.39 | H6: 187.2 | J6: =I6-(SUM(L6:W6)) -> 0 | K6: =IF(J6<0,"ATENÇÃO","OK") -> OK | L6: 0 | M6: 0 | N6: 0 | O6: 0 | P6: 0 | Q6: 0 | R6: 0 | S6: 0 | T6: 0 | U6: 0 | V6: 0 | W6: 0
C7: 4 | D7: PNEUS PARA VEICULOS LEVES, PNEU PARA RODA 14", 185/70, Pneus novos, certificados pelo INMETRO. Não recondicionados, não remoldados, não remanufaturados e não recapados - medidas 185/70 R-14C (pneus para KOMBI). | E7: Peça | F7: AL01 AELOUS 102/100R | G7: 339030.39 | H7: 258 | J7: =I7-(SUM(L7:W7)) -> 0 | K7: =IF(J7<0,"ATENÇÃO","OK") -> OK | L7: 0 | M7: 0 | N7: 0 | O7: 0 | P7: 0 | Q7: 0 | R7: 0 | S7: 0 | T7: 0 | U7: 0 | V7: 0 | W7: 0
C8: 5 | D8: PNEUS PARA VEICULOS LEVES, PNEU PARA RODA 15",185/65, Pneus novos, certificados pelo INMETRO. Não recondicionados, não remoldados, não remanufaturados e não recapados - medidas 185/65 R-15. | E8: Peça | F8: AH01 AEOLUS 88H | G8: 339030.39 | H8: 199 | I8: 4 | J8: =I8-(SUM(L8:W8)) -> 4 | K8: =IF(J8<0,"ATENÇÃO","OK") -> OK | L8: 0 | M8: 0 | N8: 0 | O8: 0 | P8: 0 | Q8: 0 | R8: 0 | S8: 0 | T8: 0 | U8: 0 | V8: 0 | W8: 0
C9: 6 | D9: PNEUS PARA VEICULOS LEVES, PNEU PARA RODA 15", 195/60, Pneus novos, certificados pelo INMETRO. Não recondicionados, não remoldados, não remanufaturados e não recapados - medidas 195/60 R-15. | E9: Peça | F9: AH01 AEOLUS 88H | G9: 339030.39 | H9: 211 | J9: =I9-(SUM(L9:W9)) -> 0 | K9: =IF(J9<0,"ATENÇÃO","OK") -> OK | L9: 0 | M9: 0 | N9: 0 | O9: 0 | P9: 0 | Q9: 0 | R9: 0 | S9: 0 | T9: 0 | U9: 0 | V9: 0 | W9: 0
C10: 7 | D10: PNEUS PARA VEICULOS LEVES, PNEU PARA RODA 15", 195/65, Pneus novos, certificados pelo INMETRO; não recondicionados, não remoldados, não remanufaturados e não recapados - medida 195/65. R-15 | E10: Peça | F10: AH01 AEOLUS 91H | G10: 339030.39 | H10: 199 | I10: 4 | J10: =I10-(SUM(L10:W10)) -> 0 | K10: =IF(J10<0,"ATENÇÃO","OK") -> OK | L10: 4 | M10: 0 | N10: 0 | O10: 0 | P10: 0 | Q10: 0 | R10: 0 | S10: 0 | T10: 0 | U10: 0 | V10: 0 | W10: 0
C11: 8 | D11: PNEUS PARA VEICULOS LEVES, PNEU PARA RODA 15", 225/70, Pneus novos, certificados pelo INMETRO. Não recondicionados, não remoldados, não remanufaturados e não recapados - medidas 225/70 R-15. | E11: Peça | F11: KR21 MARSHAL 100T | G11: 339030.39 | H11: 351 | J11: =I11-(SUM(L11:W11)) -> 0 | K11: =IF(J11<0,"ATENÇÃO","OK") -> OK | L11: 0 | M11: 0 | N11: 0 | O11: 0 | P11: 0 | Q11: 0 | R11: 0 | S11: 0 | T11: 0 | U11: 0 | V11: 0 | W11: 0
C12: 9 | D12: PNEUS PARA VEICULOS LEVES, PNEU PARA RODA 15", 235/75, Pneus novos, certificados pelo INMETRO. Não recondicionados, não remoldados, não remanufaturados e não recapados - medidas 235/75 R-15. | E12: Peça | F12: AS02 AELOUS 105T | G12: 339030.39 | H12: 328 | J12: =I12-(SUM(L12:W12)) -> 0 | K12: =IF(J12<0,"ATENÇÃO","OK") -> OK | L12: 0 | M12: 0 | N12: 0 | O12: 0 | P12: 0 | Q12: 0 | R12: 0 | S12: 0 | T12: 0 | U12: 0 | V12: 0 | W12: 0
C13: 10 | D13: PNEUS PARA VEICULOS LEVES, PNEU PARA RODA 16", 205/55, Pneus novos, certificados pelo INMETRO. Não recondicionados, não remoldados, não remanufaturados e não recapados - medidas 205/55 R-16. | E13: Peça | F13: KH 25 KUMHO 91H | G13: 339030.39 | H13: 270 | J13: =I13-(SUM(L13:W13)) -> 0 | K13: =IF(J13<0,"ATENÇÃO","OK") -> OK | L13: 0 | M13: 0 | N13: 0 | O13: 0 | P13: 0 | Q13: 0 | R13: 0 | S13: 0 | T13: 0 | U13: 0 | V13: 0 | W13: 0
C14: 11 | D14: PNEUS PARA VEICULOS LEVES, PNEU PARA RODA 16", 205/75, Pneus novos, certificados pelo INMETRO. Não recondicionados, não remoldados, não remanufaturados e não recapados - medidas 205/75 R-16. | E14: Peça | F14: 857 MARSHAL 110/108R 8PR | G14: 339030.39 | H14: 410 | I14: 4 | J14: =I14-(SUM(L14:W14)) -> 4 | K14: =IF(J14<0,"ATENÇÃO","OK") -> OK | L14: 0 | M14: 0 | N14: 0 | O14: 0 | P14: 0 | Q14: 0 | R14: 0 | S14: 0 | T14: 0 | U14: 0 | V14: 0 | W14: 0
C15: 12 | D15: PNEUS PARA VEICULOS LEVES, PNEU PARA RODA 16", 215/70, Pneus novos, certificados pelo INMETRO. Não recondicionados, não remoldados, não remanufaturados e não recapados - medidas 215/70 R-16. | E15: Peça | F15: KL21 KUMHO 100H | G15: 339030.39 | H15: 375 | J15: =I15-(SUM(L15:W15)) -> 0 | K15: =IF(J15<0,"ATENÇÃO","OK") -> OK | L15: 0 | M15: 0 | N15: 0 | O15: 0 | P15: 0 | Q15: 0 | R15: 0 | S15: 0 | T15: 0 | U15: 0 | V15: 0 | W15: 0
C16: 13 | D16: PNEUS PARA VEICULOS LEVES, PNEU PARA RODA 16", 235/70, "PNEUS PARA VEICULOS LEVES, PNEU PARA RODA 16", 235/70, Pneus novos, certificados pelo INMETRO. Não recondicionados, não remoldados, não remanufaturados e não recapados - medidas 235/70 R-16." | E16: Peça | F16: AS02 AELOUS 106S | G16: 339030.39 | H16: 328 | J16: =I16-(SUM(L16:W16)) -> 0 | K16: =IF(J16<0,"ATENÇÃO","OK") -> OK | L16: 0 | M16: 0 | N16: 0 | O16: 0 | P16: 0 | Q16: 0 | R16: 0 | S16: 0 | T16: 0 | U16: 0 | V16: 0 | W16: 0
C17: 14 | D17: PNEUS PARA VEICULOS LEVES, PNEU PARA RODA 16", 245/70, Pneus novos, certificados pelo INMETRO. Não recondicionados, não remoldados, não remanufaturados e não recapados - medidas 245/70 R-16 - 111s. | E17: Peça | F17: AS01 AELOUS 107T | G17: 339030.39 | H17: 335 | J17: =I17-(SUM(L17:W17)) -> 0 | K17: =IF(J17<0,"ATENÇÃO","OK") -> OK | L17: 0 | M17: 0 | N17: 0 | O17: 0 | P17: 0 | Q17: 0 | R17: 0 | S17: 0 | T17: 0 | U17: 0 | V17: 0 | W17: 0
C18: 15 | D18: PNEUS PARA VEICULOS LEVES, PNEU PARA RODA 16", 245/70, Pneus novos, certificados pelo INMETRO. Não recondicionados, não remoldados, não remanufaturados e não recapados - medidas 245/70 R-16. | E18: Peça | F18: AS01 AELOUS 107T | G18: 339030.39 | H18: 335 | J18: =I18-(SUM(L18:W18)) -> 0 | K18: =IF(J18<0,"ATENÇÃO","OK") -> OK | L18: 0 | M18: 0 | N18: 0 | O18: 0 | P18: 0 | Q18: 0 | R18: 0 | S18: 0 | T18: 0 | U18: 0 | V18: 0 | W18: 0
C19: 16 | D19: PNEUS PARA VEICULOS LEVES, PNEU PARA RODA 16", 255/70, Pneus novos, não recondicionados, não remoldados, não remanufaturados e não recapados, certificados pelo INMETRO - medidas – 255/70 - R16. | E19: Peça | F19: AS02 AEOLUS 111S | G19: 339030.39 | H19: 421 | I19: 4 | J19: =I19-(SUM(L19:W19)) -> 4 | K19: =IF(J19<0,"ATENÇÃO","OK") -> OK | L19: 0 | M19: 0 | N19: 0 | O19: 0 | P19: 0 | Q19: 0 | R19: 0 | S19: 0 | T19: 0 | U19: 0 | V19: 0 | W19: 0
A20: Modelo Pneus Ltda | B20: 2 | C20: 17 | D20: PNEUS PARA VEICULOS PESADOS, PNEU PARA RODA 12", 5.00, 4 LONAS, Pneu de construção diagonal 5.00/6-12 G-10 - 4 lonas. Colocado com montagem. Pneus novos, certificados pelo INMETRO. Não recondicionados, não remoldados, não remanufaturados e não recapados. | E20: Peça | F20: Firestone T2 4 lonas | G20: 339030.39 | H20: 167 | J20: =I20-(SUM(L20:W20)) -> 0 | K20: =IF(J20<0,"ATENÇÃO","OK") -> OK | L20: 0 | M20: 0 | N20: 0 | O20: 0 | P20: 0 | Q20: 0 | R20: 0 | S20: 0 | T20: 0 | U20: 0 | V20: 0 | W20: 0
C21: 18 | D21: PNEUS PARA VEICULOS PESADOS, PNEU PARA RODA 14", 6.00, Pneu de construção diagonal 6.00x14 R1 - Capacidade de carga “C”. Colocado com montagem. Pneus novos, certificados pelo INMETRO. Não recondicionados, não remoldados, não remanufaturados e não recapados. | E21: Peça | F21: Rinaldi RGA 34 - 6 lonas | G21: 339030.39 | H21: 324 | J21: =I21-(SUM(L21:W21)) -> 0 | K21: =IF(J21<0,"ATENÇÃO","OK") -> OK | L21: 0 | M21: 0 | N21: 0 | O21: 0 | P21: 0 | Q21: 0 | R21: 0 | S21: 0 | T21: 0 | U21: 0 | V21: 0 | W21: 0
C22: 19 | D22: PNEUS PARA VEICULOS PESADOS, PNEU PARA RODA 16", 7.5, 8 LONAS, Pneu direcional 7.5x16 F2 Multi-raiado 8 lonas. Colocado com montagem. Pneus novos, certificados pelo INMETRO. Não recondicionados, não remoldados, não remanufaturados e não recapados. | E22: Peça | F22: Firestone G-Grip 8 lonas | G22: 339030.39 | H22: 510 | J22: =I22-(SUM(L22:W22)) -> 0 | K22: =IF(J22<0,"ATENÇÃO","OK") -> OK | L22: 0 | M22: 0 | N22: 0 | O22: 0 | P22: 0 | Q22: 0 | R22: 0 | S22: 0 | T22: 0 | U22: 0 | V22: 0 | W22: 0
C23: 20 | D23: PNEUS PARA VEICULOS PESADOS, PNEU PARA RODA 24", 12.4, 6 LONAS, Pneu de construção radial 12.4-24 R1 - 6 lonas. Colocado com montagem. Pneus novos, certificados pelo INMETRO. Não recondicionados, não remoldados, não remanufaturados e não recapados. | E23: Peça | F23: Firestone SAT - 23G | G23: 339030.39 | H23: 1001 | J23: =I23-(SUM(L23:W23)) -> 0 | K23: =IF(J23<0,"ATENÇÃO","OK") -> OK | L23: 0 | M23: 0 | N23: 0 | O23: 0 | P23: 0 | Q23: 0 | R23: 0 | S23: 0 | T23: 0 | U23: 0 | V23: 0 | W23: 0
C24: 21 | D24: PNEUS PARA VEICULOS PESADOS, PNEU PARA RODA 24", 9.5, 6 LONAS, Pneu de construção diagonal 9.5x24 R1 – 6 Lonas. Colocado com montagem. Pneus novos, certificados pelo INMETRO. Não recondicionados, não remoldados, não remanufaturados e não recapados. | E24: Peça | F24: Firestone SAT - 23G | G24: 339030.39 | H24: 883 | J24: =I24-(SUM(L24:W24)) -> 0 | K24: =IF(J24<0,"ATENÇÃO","OK") -> OK | L24: 0 | M24: 0 | N24: 0 | O24: 0 | P24: 0 | Q24: 0 | R24: 0 | S24: 0 | T24: 0 | U24: 0 | V24: 0 | W24: 0
C25: 22 | D25: PNEUS PARA VEICULOS PESADOS, PNEU PARA RODA 28", 14.9, 8 LONAS, Pneu de construção diagonal 14.9-28 R1 - 8 lonas. Colocado com montagem. Pneus novos, certificados pelo INMETRO. Não recondicionados, não remoldados, não remanufaturados e não recapados. | E25: Peça | F25: Firestone SAT - 23G 10 lonas | G25: 339030.39 | H25: 1507.5 | J25: =I25-(SUM(L25:W25)) -> 0 | K25: =IF(J25<0,"ATENÇÃO","OK") -> OK | L25: 0 | M25: 0 | N25: 0 | O25: 0 | P25: 0 | Q25: 0 | R25: 0 | S25: 0 | T25: 0 | U25: 0 | V25: 0 | W25: 0
C26: 23 | D26: PNEUS PARA VEÍCULOS PESADOS, PNEU PARA RODA 30", Pneu de construção radial 18.4-30 R1 - 10 lonas. Colocado com montagem. Pneus novos, certificados pelo INMETRO. Não recondicionados, não remoldados, não remanufaturados e não recapados. | E26: Peça | F26: Firestone SAT - 23G 10 lonas | G26: 339030.39 | H26: 2097.5 | J26: =I26-(SUM(L26:W26)) -> 0 | K26: =IF(J26<0,"ATENÇÃO","OK") -> OK | L26: 0 | M26: 0 | N26: 0 | O26: 0 | P26: 0 | Q26: 0 | R26: 0 | S26: 0 | T26: 0 | U26: 0 | V26: 0 | W26: 0
A27: Cantu Comércio de Pneumáticos Ltda | B27: 3 | C27: 24 | D27: PNEUS PARA VEICULOS PESADOS, PNEU PARA RODA 17,5", 215/75, Pneus novos, certificados pelo INMETRO. Não recondicionados, não remoldados, não remanufaturados e não recapados - medidas 215/75 R-17,5. | E27: Peça | F27: ASR35 AELOUS 16PR 127/124M | G27: 339030.39 | H27: 585 | J27: =I27-(SUM(L27:W27)) -> 0 | K27: =IF(J27<0,"ATENÇÃO","OK") -> OK | L27: 0 | M27: 0 | N27: 0 | O27: 0 | P27: 0 | Q27: 0 | R27: 0 | S27: 0 | T27: 0 | U27: 0 | V27: 0 | W27: 0
C28: 25 | D28: PNEUS PARA VEICULOS PESADOS, PNEU PARA RODA 22,5", 275/80, LISO, Pneus novos, certificados pelo INMETRO. Não recondicionados, não remoldados, não remanufaturados e não recapados - medidas 275/80 R-22,5. | E28: Peça | F28: D621 DRC 16PR 147/144L | G28: 339030.39 | H28: 1170 | J28: =I28-(SUM(L28:W28)) -> 0 | K28: =IF(J28<0,"ATENÇÃO","OK") -> OK | L28: 0 | M28: 0 | N28: 0 | O28: 0 | P28: 0 | Q28: 0 | R28: 0 | S28: 0 | T28: 0 | U28: 0 | V28: 0 | W28: 0
D30: *Prazos de Entrega e Pagamento conforme edital

Sheet CEAVI
A1: PROCESSO: 0066/2015/UDESC | D1: OBJETO: AQUISIÇÃO DE PNEUS PARA A UDESC | I1: VIGÊNCIA DA ATA: 03/03/2015 até 02/03/2016 | L1: AF/OS nº 536/2015 Qtde. DT | M1: AF/OS nº 887/2015 Qtde. DT | N1: AF/OS nº xxxx/2015 Qtde. DT | O1: AF/OS nº xxxx/2015 Qtde. DT | P1: AF/OS nº xxxx/2015 Qtde. DT | Q1: AF/OS nº xxxx/2015 Qtde. DT | R1: AF/OS nº xxxx/2015 Qtde. DT | S1: AF/OS nº xxxx/2015 Qtde. DT | T1: AF/OS nº xxxx/2015 Qtde. DT | U1: AF/OS nº xxxx/2015 Qtde. DT | V1: AF/OS nº xxxx/2015 Qtde. DT | W1: AF/OS nº xxxx/2015 Qtde. DT
A2: CENTRO PARTICIPANTE: CEAVI
A3: FORNECEDOR | B3: LOTE | C3: ITEM | D3: PRODUTO - CARACTERÍSTICAS MÍNIMAS | E3: UNIDADE | F3: MARCA | G3: ELEMENTO | H3: Preço UNITÁRIO (R$) | I3: Qtde Registrada | J3: Saldo / Automático | K3: ALERTA | L3: 42118 | M3: 42158 | N3: ...../...../...... | O3: ...../...../...... | P3: ...../...../...... | Q3: ...../...../...... | R3: ...../...../...... | S3: ...../...../...... | T3: ...../...../...... | U3: ...../...../...... | V3: ...../...../...... | W3: ...../...../......
A4: Cantu Comércio de Pneumáticos Ltda | B4: 1 | C4: 1 | D4: PNEUS PARA VEICULOS LEVES, PNEU PARA RODA 14", 185/60, Pneus novos, certificados pelo INMETRO. Não recondicionados, não remoldados, não remanufaturados e não recapados - medidas 185/60 R-14. | E4: Peça | F4: KH 17 KUMHO 82 T | G4: 339030.39 | H4: 193 | I4: 4 | J4: =I4-(SUM(L4:W4)) -> 4 | K4: =IF(J4<0,"ATENÇÃO","OK") -> OK | L4: 0 | M4: 0 | N4: 0 | O4: 0 | P4: 0 | Q4: 0 | R4: 0 | S4: 0 | T4: 0 | U4: 0 | V4: 0 | W4: 0
C5: 2 | D5: PNEUS PARA VEICULOS LEVES, PNEU PARA RODA 14", 185/65, Pneus novos, certificados pelo INMETRO. Não recondicionados, não remoldados, não remanufaturados e não recapados - medidas 185/65 R-14. | E5: Peça | F5: GENERAL EVERTREK RT CONTINENTAL 86T | G5: 339030.39 | H5: 222 | J5: =I5-(SUM(L5:W5)) -> 0 | K5: =IF(J5<0,"ATENÇÃO","OK") -> OK | L5: 0 | M5: 0 | N5: 0 | O5: 0 | P5: 0 | Q5: 0 | R5: 0 | S5: 0 | T5: 0 | U5: 0 | V5: 0 | W5: 0
C6: 3 | D6: PNEUS PARA VEICULOS LEVES, PNEU PARA RODA 14", 185/70, Pneus novos, certificados pelo INMETRO. Não recondicionados, não remoldados, não remanufaturados e não recapados - medidas 185/70 R-14. | E6: Peça | F6: KH 17 KUMHO 88H | G6: 339030.39 | H6: 187.2 | J6: =I6-(SUM(L6:W6)) -> 0 | K6: =IF(J6<0,"ATENÇÃO","OK") -> OK | L6: 0 | M6: 0 | N6: 0 | O6: 0 | P6: 0 | Q6: 0 | R6: 0 | S6: 0 | T6: 0 | U6: 0 | V6: 0 | W6: 0
C7: 4 | D7: PNEUS PARA VEICULOS LEVES, PNEU PARA RODA 14", 185/70, Pneus novos, certificados pelo INMETRO. Não recondicionados, não remoldados, não remanufaturados e não recapados - medidas 185/70 R-14C (pneus para KOMBI). | E7: Peça | F7: AL01 AELOUS 102/100R | G7: 339030.39 | H7: 258 | J7: =I7-(SUM(L7:W7)) -> 0 | K7: =IF(J7<0,"ATENÇÃO","OK") -> OK | L7: 0 | M7: 0 | N7: 0 | O7: 0 | P7: 0 | Q7: 0 | R7: 0 | S7: 0 | T7: 0 | U7: 0 | V7: 0 | W7: 0
C8: 5 | D8: PNEUS PARA VEICULOS LEVES, PNEU PARA RODA 15",185/65, Pneus novos, certificados pelo INMETRO. Não recondicionados, não remoldados, não remanufaturados e não recapados - medidas 185/65 R-15. | E8: Peça | F8: AH01 AEOLUS 88H | G8: 339030.39 | H8: 199 | J8: =I8-(SUM(L8:W8)) -> 0 | K8: =IF(J8<0,"ATENÇÃO","OK") -> OK | L8: 0 | M8: 0 | N8: 0 | O8: 0 | P8: 0 | Q8: 0 | R8: 0 | S8: 0 | T8: 0 | U8: 0 | V8: 0 | W8: 0
C9: 6 | D9: PNEUS PARA VEICULOS LEVES, PNEU PARA RODA 15", 195/60, Pneus novos, certificados pelo INMETRO. Não recondicionados, não remoldados, não remanufaturados e não recapados - medidas 195/60 R-15. | E9: Peça | F9: AH01 AEOLUS 88H | G9: 339030.39 | H9: 211 | I9: 8 | J9: =I9-(SUM(L9:W9)) -> 6 | K9: =IF(J9<0,"ATENÇÃO","OK") -> OK | L9: 0 | M9: 2 | N9: 0 | O9: 0 | P9: 0 | Q9: 0 | R9: 0 | S9: 0 | T9: 0 | U9: 0 | V9: 0 | W9: 0
C10: 7 | D10: PNEUS PARA VEICULOS LEVES, PNEU PARA RODA 15", 195/65, Pneus novos, certificados pelo INMETRO; não recondicionados, não remoldados, não remanufaturados e não recapados - medida 195/65. R-15 | E10: Peça | F10: AH01 AEOLUS 91H | G10: 339030.39 | H10: 199 | J10: =I10-(SUM(L10:W10)) -> 0 | K10: =IF(J10<0,"ATENÇÃO","OK") -> OK | L10: 0 | M10: 0 | N10: 0 | O10: 0 | P10: 0 | Q10: 0 | R10: 0 | S10: 0 | T10: 0 | U10: 0 | V10: 0 | W10: 0
C11: 8 | D11: PNEUS PARA VEICULOS LEVES, PNEU PARA RODA 15", 225/70, Pneus novos, certificados pelo INMETRO. Não recondicionados, não remoldados, não remanufaturados e não recapados - medidas 225/70 R-15. | E11: Peça | F11: KR21 MARSHAL 100T | G11: 339030.39 | H11: 351 | I11: 4 | J11: =I11-(SUM(L11:W11)) -> 0 | K11: =IF(J11<0,"ATENÇÃO","OK") -> OK | L11: 4 | M11: 0 | N11: 0 | O11: 0 | P11: 0 | Q11: 0 | R11: 0 | S11: 0 | T11: 0 | U11: 0 | V11: 0 | W11: 0
C12: 9 | D12: PNEUS PARA VEICULOS LEVES, PNEU PARA RODA 15", 235/75, Pneus novos, certificados pelo INMETRO. Não recondicionados, não remoldados, não remanufaturados e não recapados - medidas 235/75 R-15. | E12: Peça | F12: AS02 AELOUS 105T | G12: 339030.39 | H12: 328 | J12: =I12-(SUM(L12:W12)) -> 0 | K12: =IF(J12<0,"ATENÇÃO","OK") -> OK | L12: 0 | M12: 0 | N12: 0 | O12: 0 | P12: 0 | Q12: 0 | R12: 0 | S12: 0 | T12: 0 | U12: 0 | V12: 0 | W12: 0
C13: 10 | D13: PNEUS PARA VEICULOS LEVES, PNEU PARA RODA 16", 205/55, Pneus novos, certificados pelo INMETRO. Não recondicionados, não remoldados, não remanufaturados e não recapados - medidas 205/55 R-16. | E13: Peça | F13: KH 25 KUMHO 91H | G13: 339030.39 | H13: 270 | I13: 12 | J13: =I13-(SUM(L13:W13)) -> 8 | K13: =IF(J13<0,"ATENÇÃO","OK") -> OK | L13: 4 | M13: 0 | N13: 0 | O13: 0 | P13: 0 | Q13: 0 | R13: 0 | S13: 0 | T13: 0 | U13: 0 | V13: 0 | W13: 0
C14: 11 | D14: PNEUS PARA VEICULOS LEVES, PNEU PARA RODA 16", 205/75, Pneus novos, certificados pelo INMETRO. Não recondicionados, não remoldados, não remanufaturados e não recapados - medidas 205/75 R-16. | E14: Peça | F14: 857 MARSHAL 110/108R 8PR | G14: 339030.39 | H14: 410 | J14: =I14-(SUM(L14:W14)) -> 0 | K14: =IF(J14<0,"ATENÇÃO","OK") -> OK | L14: 0 | M14: 0 | N14: 0 | O14: 0 | P14: 0 | Q14: 0 | R14: 0 | S14: 0 | T14: 0 | U14: 0 | V14: 0 | W14: 0
C15: 12 | D15: PNEUS PARA VEICULOS LEVES, PNEU PARA RODA 16", 215/70, Pneus novos, certificados pelo INMETRO. Não recondicionados, não remoldados, não remanufaturados e não recapados - medidas 215/70 R-16. | E15: Peça | F15: KL21 KUMHO 100H | G15: 339030.39 | H15: 375 | J15: =I15-(SUM(L15:W15)) -> 0 | K15: =IF(J15<0,"ATENÇÃO","OK") -> OK | L15: 0 | M15: 0 | N15: 0 | O15: 0 | P15: 0 | Q15: 0 | R15: 0 | S15: 0 | T15: 0 | U15: 0 | V15: 0 | W15: 0
C16: 13 | D16: PNEUS PARA VEICULOS LEVES, PNEU PARA RODA 16", 235/70, "PNEUS PARA VEICULOS LEVES, PNEU PARA RODA 16", 235/70, Pneus novos, certificados pelo INMETRO. Não recondicionados, não remoldados, não remanufaturados e não recapados - medidas 235/70 R-16." | E16: Peça | F16: AS02 AELOUS 106S | G16: 339030.39 | H16: 328 | J16: =I16-(SUM(L16:W16)) -> 0 | K16: =IF(J16<0,"ATENÇÃO","OK") -> OK | L16: 0 | M16: 0 | N16: 0 | O16: 0 | P16: 0 | Q16: 0 | R16: 0 | S16: 0 | T16: 0 | U16: 0 | V16: 0 | W16: 0
C17: 14 | D17: PNEUS PARA VEICULOS LEVES, PNEU PARA RODA 16", 245/70, Pneus novos, certificados pelo INMETRO. Não recondicionados, não remoldados, não remanufaturados e não recapados - medidas 245/70 R-16 - 111s. | E17: Peça | F17: AS01 AELOUS 107T | G17: 339030.39 | H17: 335 | J17: =I17-(SUM(L17:W17)) -> 0 | K17: =IF(J17<0,"ATENÇÃO","OK") -> OK | L17: 0 | M17: 0 | N17: 0 | O17: 0 | P17: 0 | Q17: 0 | R17: 0 | S17: 0 | T17: 0 | U17: 0 | V17: 0 | W17: 0
C18: 15 | D18: PNEUS PARA VEICULOS LEVES, PNEU PARA RODA 16", 245/70, Pneus novos, certificados pelo INMETRO. Não recondicionados, não remoldados, não remanufaturados e não recapados - medidas 245/70 R-16. | E18: Peça | F18: AS01 AELOUS 107T | G18: 339030.39 | H18: 335 | J18: =I18-(SUM(L18:W18)) -> 0 | K18: =IF(J18<0,"ATENÇÃO","OK") -> OK | L18: 0 | M18: 0 | N18: 0 | O18: 0 | P18: 0 | Q18: 0 | R18: 0 | S18: 0 | T18: 0 | U18: 0 | V18: 0 | W18: 0
C19: 16 | D19: PNEUS PARA VEICULOS LEVES, PNEU PARA RODA 16", 255/70, Pneus novos, não recondicionados, não remoldados, não remanufaturados e não recapados, certificados pelo INMETRO - medidas – 255/70 - R16. | E19: Peça | F19: AS02 AEOLUS 111S | G19: 339030.39 | H19: 421 | J19: =I19-(SUM(L19:W19)) -> 0 | K19: =IF(J19<0,"ATENÇÃO","OK") -> OK | L19: 0 | M19: 0 | N19: 0 | O19: 0 | P19: 0 | Q19: 0 | R19: 0 | S19: 0 | T19: 0 | U19: 0 | V19: 0 | W19: 0
A20: Modelo Pneus Ltda | B20: 2 | C20: 17 | D20: PNEUS PARA VEICULOS PESADOS, PNEU PARA RODA 12", 5.00, 4 LONAS, Pneu de construção diagonal 5.00/6-12 G-10 - 4 lonas. Colocado com montagem. Pneus novos, certificados pelo INMETRO. Não recondicionados, não remoldados, não remanufaturados e não recapados. | E20: Peça | F20: Firestone T2 4 lonas | G20: 339030.39 | H20: 167 | J20: =I20-(SUM(L20:W20)) -> 0 | K20: =IF(J20<0,"ATENÇÃO","OK") -> OK | L20: 0 | M20: 0 | N20: 0 | O20: 0 | P20: 0 | Q20: 0 | R20: 0 | S20: 0 | T20: 0 | U20: 0 | V20: 0 | W20: 0
C21: 18 | D21: PNEUS PARA VEICULOS PESADOS, PNEU PARA RODA 14", 6.00, Pneu de construção diagonal 6.00x14 R1 - Capacidade de carga “C”. Colocado com montagem. Pneus novos, certificados pelo INMETRO. Não recondicionados, não remoldados, não remanufaturados e não recapados. | E21: Peça | F21: Rinaldi RGA 34 - 6 lonas | G21: 339030.39 | H21: 324 | J21: =I21-(SUM(L21:W21)) -> 0 | K21: =IF(J21<0,"ATENÇÃO","OK") -> OK | L21: 0 | M21: 0 | N21: 0 | O21: 0 | P21: 0 | Q21: 0 | R21: 0 | S21: 0 | T21: 0 | U21: 0 | V21: 0 | W21: 0
C22: 19 | D22: PNEUS PARA VEICULOS PESADOS, PNEU PARA RODA 16", 7.5, 8 LONAS, Pneu direcional 7.5x16 F2 Multi-raiado 8 lonas. Colocado com montagem. Pneus novos, certificados pelo INMETRO. Não recondicionados, não remoldados, não remanufaturados e não recapados. | E22: Peça | F22: Firestone G-Grip 8 lonas | G22: 339030.39 | H22: 510 | J22: =I22-(SUM(L22:W22)) -> 0 | K22: =IF(J22<0,"ATENÇÃO","OK") -> OK | L22: 0 | M22: 0 | N22: 0 | O22: 0 | P22: 0 | Q22: 0 | R22: 0 | S22: 0 | T22: 0 | U22: 0 | V22: 0 | W22: 0
C23: 20 | D23: PNEUS PARA VEICULOS PESADOS, PNEU PARA RODA 24", 12.4, 6 LONAS, Pneu de construção radial 12.4-24 R1 - 6 lonas. Colocado com montagem. Pneus novos, certificados pelo INMETRO. Não recondicionados, não remoldados, não remanufaturados e não recapados. | E23: Peça | F23: Firestone SAT - 23G | G23: 339030.39 | H23: 1001 | J23: =I23-(SUM(L23:W23)) -> 0 | K23: =IF(J23<0,"ATENÇÃO","OK") -> OK | L23: 0 | M23: 0 | N23: 0 | O23: 0 | P23: 0 | Q23: 0 | R23: 0 | S23: 0 | T23: 0 | U23: 0 | V23: 0 | W23: 0
C24: 21 | D24: PNEUS PARA VEICULOS PESADOS, PNEU PARA RODA 24", 9.5, 6 LONAS, Pneu de construção diagonal 9.5x24 R1 – 6 Lonas. Colocado com montagem. Pneus novos, certificados pelo INMETRO. Não recondicionados, não remoldados, não remanufaturados e não recapados. | E24: Peça | F24: Firestone SAT - 23G | G24: 339030.39 | H24: 883 | J24: =I24-(SUM(L24:W24)) -> 0 | K24: =IF(J24<0,"ATENÇÃO","OK") -> OK | L24: 0 | M24: 0 | N24: 0 | O24: 0 | P24: 0 | Q24: 0 | R24: 0 | S24: 0 | T24: 0 | U24: 0 | V24: 0 | W24: 0
C25: 22 | D25: PNEUS PARA VEICULOS PESADOS, PNEU PARA RODA 28", 14.9, 8 LONAS, Pneu de construção diagonal 14.9-28 R1 - 8 lonas. Colocado com montagem. Pneus novos, certificados pelo INMETRO. Não recondicionados, não remoldados, não remanufaturados e não recapados. | E25: Peça | F25: Firestone SAT - 23G 10 lonas | G25: 339030.39 | H25: 1507.5 | J25: =I25-(SUM(L25:W25)) -> 0 | K25: =IF(J25<0,"ATENÇÃO","OK") -> OK | L25: 0 | M25: 0 | N25: 0 | O25: 0 | P25: 0 | Q25: 0 | R25: 0 | S25: 0 | T25: 0 | U25: 0 | V25: 0 | W25: 0
C26: 23 | D26: PNEUS PARA VEÍCULOS PESADOS, PNEU PARA RODA 30", Pneu de construção radial 18.4-30 R1 - 10 lonas. Colocado com montagem. Pneus novos, certificados pelo INMETRO. Não recondicionados, não remoldados, não remanufaturados e não recapados. | E26: Peça | F26: Firestone SAT - 23G 10 lonas | G26: 339030.39 | H26: 2097.5 | J26: =I26-(SUM(L26:W26)) -> 0 | K26: =IF(J26<0,"ATENÇÃO","OK") -> OK | L26: 0 | M26: 0 | N26: 0 | O26: 0 | P26: 0 | Q26: 0 | R26: 0 | S26: 0 | T26: 0 | U26: 0 | V26: 0 | W26: 0
A27: Cantu Comércio de Pneumáticos Ltda | B27: 3 | C27: 24 | D27: PNEUS PARA VEICULOS PESADOS, PNEU PARA RODA 17,5", 215/75, Pneus novos, certificados pelo INMETRO. Não recondicionados, não remoldados, não remanufaturados e não recapados - medidas 215/75 R-17,5. | E27: Peça | F27: ASR35 AELOUS 16PR 127/124M | G27: 339030.39 | H27: 585 | J27: =I27-(SUM(L27:W27)) -> 0 | K27: =IF(J27<0,"ATENÇÃO","OK") -> OK | L27: 0 | M27: 0 | N27: 0 | O27: 0 | P27: 0 | Q27: 0 | R27: 0 | S27: 0 | T27: 0 | U27: 0 | V27: 0 | W27: 0
C28: 25 | D28: PNEUS PARA VEICULOS PESADOS, PNEU PARA RODA 22,5", 275/80, LISO, Pneus novos, certificados pelo INMETRO. Não recondicionados, não remoldados, não remanufaturados e não recapados - medidas 275/80 R-22,5. | E28: Peça | F28: D621 DRC 16PR 147/144L | G28: 339030.39 | H28: 1170 | J28: =I28-(SUM(L28:W28)) -> 0 | K28: =IF(J28<0,"ATENÇÃO","OK") -> OK | L28: 0 | M28: 0 | N28: 0 | O28: 0 | P28: 0 | Q28: 0 | R28: 0 | S28: 0 | T28: 0 | U28: 0 | V28: 0 | W28: 0
D30: *Prazos de Entrega e Pagamento conforme edital

Sheet CESFI
A1: PROCESSO: 0066/2015/UDESC | D1: OBJETO: AQUISIÇÃO DE PNEUS PARA A UDESC | I1: VIGÊNCIA DA ATA: 03/03/2015 até 02/03/2016 | L1: AF/OS nº xxxx/2015 Qtde. DT | M1: AF/OS nº xxxx/2015 Qtde. DT | N1: AF/OS nº xxxx/2015 Qtde. DT | O1: AF/OS nº xxxx/2015 Qtde. DT | P1: AF/OS nº xxxx/2015 Qtde. DT | Q1: AF/OS nº xxxx/2015 Qtde. DT | R1: AF/OS nº xxxx/2015 Qtde. DT | S1: AF/OS nº xxxx/2015 Qtde. DT | T1: AF/OS nº xxxx/2015 Qtde. DT | U1: AF/OS nº xxxx/2015 Qtde. DT | V1: AF/OS nº xxxx/2015 Qtde. DT | W1: AF/OS nº xxxx/2015 Qtde. DT
A2: CENTRO PARTICIPANTE: CESFI
A3: FORNECEDOR | B3: LOTE | C3: ITEM | D3: PRODUTO - CARACTERÍSTICAS MÍNIMAS | E3: UNIDADE | F3: MARCA | G3: ELEMENTO | H3: Preço UNITÁRIO (R$) | I3: Qtde Registrada | J3: Saldo / Automático | K3: ALERTA | L3: ...../...../...... | M3: ...../...../...... | N3: ...../...../...... | O3: ...../...../...... | P3: ...../...../...... | Q3: ...../...../...... | R3: ...../...../...... | S3: ...../...../...... | T3: ...../...../...... | U3: ...../...../...... | V3: ...../...../...... | W3: ...../...../......
A4: Cantu Comércio de Pneumáticos Ltda | B4: 1 | C4: 1 | D4: PNEUS PARA VEICULOS LEVES, PNEU PARA RODA 14", 185/60, Pneus novos, certificados pelo INMETRO. Não recondicionados, não remoldados, não remanufaturados e não recapados - medidas 185/60 R-14. | E4: Peça | F4: KH 17 KUMHO 82 T | G4: 339030.39 | H4: 193 | I4: 8 | J4: =I4-(SUM(L4:W4)) -> 8 | K4: =IF(J4<0,"ATENÇÃO","OK") -> OK | L4: 0 | M4: 0 | N4: 0 | O4: 0 | P4: 0 | Q4: 0 | R4: 0 | S4: 0 | T4: 0 | U4: 0 | V4: 0 | W4: 0
C5: 2 | D5: PNEUS PARA VEICULOS LEVES, PNEU PARA RODA 14", 185/65, Pneus novos, certificados pelo INMETRO. Não recondicionados, não remoldados, não remanufaturados e não recapados - medidas 185/65 R-14. | E5: Peça | F5: GENERAL EVERTREK RT CONTINENTAL 86T | G5: 339030.39 | H5: 222 | J5: =I5-(SUM(L5:W5)) -> 0 | K5: =IF(J5<0,"ATENÇÃO","OK") -> OK | L5: 0 | M5: 0 | N5: 0 | O5: 0 | P5: 0 | Q5: 0 | R5: 0 | S5: 0 | T5: 0 | U5: 0 | V5: 0 | W5: 0
C6: 3 | D6: PNEUS PARA VEICULOS LEVES, PNEU PARA RODA 14", 185/70, Pneus novos, certificados pelo INMETRO. Não recondicionados, não remoldados, não remanufaturados e não recapados - medidas 185/70 R-14. | E6: Peça | F6: KH 17 KUMHO 88H | G6: 339030.39 | H6: 187.2 | J6: =I6-(SUM(L6:W6)) -> 0 | K6: =IF(J6<0,"ATENÇÃO","OK") -> OK | L6: 0 | M6: 0 | N6: 0 | O6: 0 | P6: 0 | Q6: 0 | R6: 0 | S6: 0 | T6: 0 | U6: 0 | V6: 0 | W6: 0
C7: 4 | D7: PNEUS PARA VEICULOS LEVES, PNEU PARA RODA 14", 185/70, Pneus novos, certificados pelo INMETRO. Não recondicionados, não remoldados, não remanufaturados e não recapados - medidas 185/70 R-14C (pneus para KOMBI). | E7: Peça | F7: AL01 AELOUS 102/100R | G7: 339030.39 | H7: 258 | J7: =I7-(SUM(L7:W7)) -> 0 | K7: =IF(J7<0,"ATENÇÃO","OK") -> OK | L7: 0 | M7: 0 | N7: 0 | O7: 0 | P7: 0 | Q7: 0 | R7: 0 | S7: 0 | T7: 0 | U7: 0 | V7: 0 | W7: 0
C8: 5 | D8: PNEUS PARA VEICULOS LEVES, PNEU PARA RODA 15",185/65, Pneus novos, certificados pelo INMETRO. Não recondicionados, não remoldados, não remanufaturados e não recapados - medidas 185/65 R-15. | E8: Peça | F8: AH01 AEOLUS 88H | G8: 339030.39 | H8: 199 | J8: =I8-(SUM(L8:W8)) -> 0 | K8: =IF(J8<0,"ATENÇÃO","OK") -> OK | L8: 0 | M8: 0 | N8: 0 | O8: 0 | P8: 0 | Q8: 0 | R8: 0 | S8: 0 | T8: 0 | U8: 0 | V8: 0 | W8: 0
C9: 6 | D9: PNEUS PARA VEICULOS LEVES, PNEU PARA RODA 15", 195/60, Pneus novos, certificados pelo INMETRO. Não recondicionados, não remoldados, não remanufaturados e não recapados - medidas 195/60 R-15. | E9: Peça | F9: AH01 AEOLUS 88H | G9: 339030.39 | H9: 211 | J9: =I9-(SUM(L9:W9)) -> 0 | K9: =IF(J9<0,"ATENÇÃO","OK") -> OK | L9: 0 | M9: 0 | N9: 0 | O9: 0 | P9: 0 | Q9: 0 | R9: 0 | S9: 0 | T9: 0 | U9: 0 | V9: 0 | W9: 0
C10: 7 | D10: PNEUS PARA VEICULOS LEVES, PNEU PARA RODA 15", 195/65, Pneus novos, certificados pelo INMETRO; não recondicionados, não remoldados, não remanufaturados e não recapados - medida 195/65. R-15 | E10: Peça | F10: AH01 AEOLUS 91H | G10: 339030.39 | H10: 199 | J10: =I10-(SUM(L10:W10)) -> 0 | K10: =IF(J10<0,"ATENÇÃO","OK") -> OK | L10: 0 | M10: 0 | N10: 0 | O10: 0 | P10: 0 | Q10: 0 | R10: 0 | S10: 0 | T10: 0 | U10: 0 | V10: 0 | W10: 0
C11: 8 | D11: PNEUS PARA VEICULOS LEVES, PNEU PARA RODA 15", 225/70, Pneus novos, certificados pelo INMETRO. Não recondicionados, não remoldados, não remanufaturados e não recapados - medidas 225/70 R-15. | E11: Peça | F11: KR21 MARSHAL 100T | G11: 339030.39 | H11: 351 | J11: =I11-(SUM(L11:W11)) -> 0 | K11: =IF(J11<0,"ATENÇÃO","OK") -> OK | L11: 0 | M11: 0 | N11: 0 | O11: 0 | P11: 0 | Q11: 0 | R11: 0 | S11: 0 | T11: 0 | U11: 0 | V11: 0 | W11: 0
C12: 9 | D12: PNEUS PARA VEICULOS LEVES, PNEU PARA RODA 15", 235/75, Pneus novos, certificados pelo INMETRO. Não recondicionados, não remoldados, não remanufaturados e não recapados - medidas 235/75 R-15. | E12: Peça | F12: AS02 AELOUS 105T | G12: 339030.39 | H12: 328 | J12: =I12-(SUM(L12:W12)) -> 0 | K12: =IF(J12<0,"ATENÇÃO","OK") -> OK | L12: 0 | M12: 0 | N12: 0 | O12: 0 | P12: 0 | Q12: 0 | R12: 0 | S12: 0 | T12: 0 | U12: 0 | V12: 0 | W12: 0
C13: 10 | D13: PNEUS PARA VEICULOS LEVES, PNEU PARA RODA 16", 205/55, Pneus novos, certificados pelo INMETRO. Não recondicionados, não remoldados, não remanufaturados e não recapados - medidas 205/55 R-16. | E13: Peça | F13: KH 25 KUMHO 91H | G13: 339030.39 | H13: 270 | J13: =I13-(SUM(L13:W13)) -> 0 | K13: =IF(J13<0,"ATENÇÃO","OK") -> OK | L13: 0 | M13: 0 | N13: 0 | O13: 0 | P13: 0 | Q13: 0 | R13: 0 | S13: 0 | T13: 0 | U13: 0 | V13: 0 | W13: 0
C14: 11 | D14: PNEUS PARA VEICULOS LEVES, PNEU PARA RODA 16", 205/75, Pneus novos, certificados pelo INMETRO. Não recondicionados, não remoldados, não remanufaturados e não recapados - medidas 205/75 R-16. | E14: Peça | F14: 857 MARSHAL 110/108R 8PR | G14: 339030.39 | H14: 410 | J14: =I14-(SUM(L14:W14)) -> 0 | K14: =IF(J14<0,"ATENÇÃO","OK") -> OK | L14: 0 | M14: 0 | N14: 0 | O14: 0 | P14: 0 | Q14: 0 | R14: 0 | S14: 0 | T14: 0 | U14: 0 | V14: 0 | W14: 0
C15: 12 | D15: PNEUS PARA VEICULOS LEVES, PNEU PARA RODA 16", 215/70, Pneus novos, certificados pelo INMETRO. Não recondicionados, não remoldados, não remanufaturados e não recapados - medidas 215/70 R-16. | E15: Peça | F15: KL21 KUMHO 100H | G15: 339030.39 | H15: 375 | J15: =I15-(SUM(L15:W15)) -> 0 | K15: =IF(J15<0,"ATENÇÃO","OK") -> OK | L15: 0 | M15: 0 | N15: 0 | O15: 0 | P15: 0 | Q15: 0 | R15: 0 | S15: 0 | T15: 0 | U15: 0 | V15: 0 | W15: 0
C16: 13 | D16: PNEUS PARA VEICULOS LEVES, PNEU PARA RODA 16", 235/70, "PNEUS PARA VEICULOS LEVES, PNEU PARA RODA 16", 235/70, Pneus novos, certificados pelo INMETRO. Não recondicionados, não remoldados, não remanufaturados e não recapados - medidas 235/70 R-16." | E16: Peça | F16: AS02 AELOUS 106S | G16: 339030.39 | H16: 328 | J16: =I16-(SUM(L16:W16)) -> 0 | K16: =IF(J16<0,"ATENÇÃO","OK") -> OK | L16: 0 | M16: 0 | N16: 0 | O16: 0 | P16: 0 | Q16: 0 | R16: 0 | S16: 0 | T16: 0 | U16: 0 | V16: 0 | W16: 0
... C19: 16 | D19: PNEUS PARA VEICULOS LEVES, PNEU PARA RODA 16", 255/70, Pneus novos, não recondicionados, não remoldados, não remanufaturados e não recapados, certificados pelo INMETRO - medidas – 255/70 - R16. | E19: Peça | F19: AS02 AEOLUS 111S | G19: 339030.39 | H19: 421 | J19: =I19-(SUM(L19:W19)) -> 0 | K19: =IF(J19<0,"ATENÇÃO","OK") -> OK | L19: 0 | M19: 0 | N19: 0 | O19: 0 | P19: 0 | Q19: 0 | R19: 0 | S19: 0 | T19: 0 | U19: 0 | V19: 0 | W19: 0
A20: Modelo Pneus Ltda | B20: 2 | C20: 17 | D20: PNEUS PARA VEICULOS PESADOS, PNEU PARA RODA 12", 5.00, 4 LONAS, Pneu de construção diagonal 5.00/6-12 G-10 - 4 lonas. Colocado com montagem. Pneus novos, certificados pelo INMETRO. Não recondicionados, não remoldados, não remanufaturados e não recapados. | E20: Peça | F20: Firestone T2 4 lonas | G20: 339030.39 | H20: 167 | J20: =I20-(SUM(L20:W20)) -> 0 | K20: =IF(J20<0,"ATENÇÃO","OK") -> OK | L20: 0 | M20: 0 | N20: 0 | O20: 0 | P20: 0 | Q20: 0 | R20: 0 | S20: 0 | T20: 0 | U20: 0 | V20: 0 | W20: 0
C21: 18 | D21: PNEUS PARA VEICULOS PESADOS, PNEU PARA RODA 14", 6.00, Pneu de construção diagonal 6.00x14 R1 - Capacidade de carga “C”. Colocado com montagem. Pneus novos, certificados pelo INMETRO. Não recondicionados, não remoldados, não remanufaturados e não recapados. | E21: Peça | F21: Rinaldi RGA 34 - 6 lonas | G21: 339030.39 | H21: 324 | J21: =I21-(SUM(L21:W21)) -> 0 | K21: =IF(J21<0,"ATENÇÃO","OK") -> OK | L21: 0 | M21: 0 | N21: 0 | O21: 0 | P21: 0 | Q21: 0 | R21: 0 | S21: 0 | T21: 0 | U21: 0 | V21: 0 | W21: 0
C22: 19 | D22: PNEUS PARA VEICULOS PESADOS, PNEU PARA RODA 16", 7.5, 8 LONAS, Pneu direcional 7.5x16 F2 Multi-raiado 8 lonas. Colocado com montagem. Pneus novos, certificados pelo INMETRO. Não recondicionados, não remoldados, não remanufaturados e não recapados. | E22: Peça | F22: Firestone G-Grip 8 lonas | G22: 339030.39 | H22: 510 | J22: =I22-(SUM(L22:W22)) -> 0 | K22: =IF(J22<0,"ATENÇÃO","OK") -> OK | L22: 0 | M22: 0 | N22: 0 | O22: 0 | P22: 0 | Q22: 0 | R22: 0 | S22: 0 | T22: 0 | U22: 0 | V22: 0 | W22: 0
C23: 20 | D23: PNEUS PARA VEICULOS PESADOS, PNEU PARA RODA 24", 12.4, 6 LONAS, Pneu de construção radial 12.4-24 R1 - 6 lonas. Colocado com montagem. Pneus novos, certificados pelo INMETRO. Não recondicionados, não remoldados, não remanufaturados e não recapados. | E23: Peça | F23: Firestone SAT - 23G | G23: 339030.39 | H23: 1001 | J23: =I23-(SUM(L23:W23)) -> 0 | K23: =IF(J23<0,"ATENÇÃO","OK") -> OK | L23: 0 | M23: 0 | N23: 0 | O23: 0 | P23: 0 | Q23: 0 | R23: 0 | S23: 0 | T23: 0 | U23: 0 | V23: 0 | W23: 0
C24: 21 | D24: PNEUS PARA VEICULOS PESADOS, PNEU PARA RODA 24", 9.5, 6 LONAS, Pneu de construção diagonal 9.5x24 R1 – 6 Lonas. Colocado com montagem. Pneus novos, certificados pelo INMETRO. Não recondicionados, não remoldados, não remanufaturados e não recapados. | E24: Peça | F24: Firestone SAT - 23G | G24: 339030.39 | H24: 883 | J24: =I24-(SUM(L24:W24)) -> 0 | K24: =IF(J24<0,"ATENÇÃO","OK") -> OK | L24: 0 | M24: 0 | N24: 0 | O24: 0 | P24: 0 | Q24: 0 | R24: 0 | S24: 0 | T24: 0 | U24: 0 | V24: 0 | W24: 0
C25: 22 | D25: PNEUS PARA VEICULOS PESADOS, PNEU PARA RODA 28", 14.9, 8 LONAS, Pneu de construção diagonal 14.9-28 R1 - 8 lonas. Colocado com montagem. Pneus novos, certificados pelo INMETRO. Não recondicionados, não remoldados, não remanufaturados e não recapados. | E25: Peça | F25: Firestone SAT - 23G 10 lonas | G25: 339030.39 | H25: 1507.5 | J25: =I25-(SUM(L25:W25)) -> 0 | K25: =IF(J25<0,"ATENÇÃO","OK") -> OK | L25: 0 | M25: 0 | N25: 0 | O25: 0 | P25: 0 | Q25: 0 | R25: 0 | S25: 0 | T25: 0 | U25: 0 | V25: 0 | W25: 0
C26: 23 | D26: PNEUS PARA VEÍCULOS PESADOS, PNEU PARA RODA 30", Pneu de construção radial 18.4-30 R1 - 10 lonas. Colocado com montagem. Pneus novos, certificados pelo INMETRO. Não recondicionados, não remoldados, não remanufaturados e não recapados. | E26: Peça | F26: Firestone SAT - 23G 10 lonas | G26: 339030.39 | H26: 2097.5 | J26: =I26-(SUM(L26:W26)) -> 0 | K26: =IF(J26<0,"ATENÇÃO","OK") -> OK | L26: 0 | M26: 0 | N26: 0 | O26: 0 | P26: 0 | Q26: 0 | R26: 0 | S26: 0 | T26: 0 | U26: 0 | V26: 0 | W26: 0
A27: Cantu Comércio de Pneumáticos Ltda | B27: 3 | C27: 24 | D27: PNEUS PARA VEICULOS PESADOS, PNEU PARA RODA 17,5", 215/75, Pneus novos, certificados pelo INMETRO. Não recondicionados, não remoldados, não remanufaturados e não recapados - medidas 215/75 R-17,5. | E27: Peça | F27: ASR35 AELOUS 16PR 127/124M | G27: 339030.39 | H27: 585 | J27: =I27-(SUM(L27:W27)) -> 0 | K27: =IF(J27<0,"ATENÇÃO","OK") -> OK | L27: 0 | M27: 0 | N27: 0 | O27: 0 | P27: 0 | Q27: 0 | R27: 0 | S27: 0 | T27: 0 | U27: 0 | V27: 0 | W27: 0
C28: 25 | D28: PNEUS PARA VEICULOS PESADOS, PNEU PARA RODA 22,5", 275/80, LISO, Pneus novos, certificados pelo INMETRO. Não recondicionados, não remoldados, não remanufaturados e não recapados - medidas 275/80 R-22,5. | E28: Peça | F28: D621 DRC 16PR 147/144L | G28: 339030.39 | H28: 1170 | J28: =I28-(SUM(L28:W28)) -> 0 | K28: =IF(J28<0,"ATENÇÃO","OK") -> OK | L28: 0 | M28: 0 | N28: 0 | O28: 0 | P28: 0 | Q28: 0 | R28: 0 | S28: 0 | T28: 0 | U28: 0 | V28: 0 | W28: 0
D30: *Prazos de Entrega e Pagamento conforme edital

Sheet CEO
A1: PROCESSO: 0066/2015/UDESC | D1: OBJETO: AQUISIÇÃO DE PNEUS PARA A UDESC | I1: VIGÊNCIA DA ATA: 03/03/2015 até 02/03/2016 | L1: AF/OS nº 1204/2015 Qtde. DT | M1: AF/OS nº xxxx/2015 Qtde. DT | N1: AF/OS nº xxxx/2015 Qtde. DT | O1: AF/OS nº xxxx/2015 Qtde. DT | P1: AF/OS nº xxxx/2015 Qtde. DT | Q1: AF/OS nº xxxx/2015 Qtde. DT | R1: AF/OS nº xxxx/2015 Qtde. DT | S1: AF/OS nº xxxx/2015 Qtde. DT | T1: AF/OS nº xxxx/2015 Qtde. DT | U1: AF/OS nº xxxx/2015 Qtde. DT | V1: AF/OS nº xxxx/2015 Qtde. DT | W1: AF/OS nº xxxx/2015 Qtde. DT
A2: CENTRO PARTICIPANTE: CEO
A3: FORNECEDOR | B3: LOTE | C3: ITEM | D3: PRODUTO - CARACTERÍSTICAS MÍNIMAS | E3: UNIDADE | F3: MARCA | G3: ELEMENTO | H3: Preço UNITÁRIO (R$) | I3: Qtde Registrada | J3: Saldo / Automático | K3: ALERTA | L3: 42201 | M3: ...../...../...... | N3: ...../...../...... | O3: ...../...../...... | P3: ...../...../...... | Q3: ...../...../...... | R3: ...../...../...... | S3: ...../...../...... | T3: ...../...../...... | U3: ...../...../...... | V3: ...../...../...... | W3: ...../...../......
A4: Cantu Comércio de Pneumáticos Ltda | B4: 1 | C4: 1 | D4: PNEUS PARA VEICULOS LEVES, PNEU PARA RODA 14", 185/60, Pneus novos, certificados pelo INMETRO. Não recondicionados, não remoldados, não remanufaturados e não recapados - medidas 185/60 R-14. | E4: Peça | F4: KH 17 KUMHO 82 T | G4: 339030.39 | H4: 193 | J4: =I4-(SUM(L4:W4)) -> 0 | K4: =IF(J4<0,"ATENÇÃO","OK") -> OK | L4: 0 | M4: 0 | N4: 0 | O4: 0 | P4: 0 | Q4: 0 | R4: 0 | S4: 0 | T4: 0 | U4: 0 | V4: 0 | W4: 0
C5: 2 | D5: PNEUS PARA VEICULOS LEVES, PNEU PARA RODA 14", 185/65, Pneus novos, certificados pelo INMETRO. Não recondicionados, não remoldados, não remanufaturados e não recapados - medidas 185/65 R-14. | E5: Peça | F5: GENERAL EVERTREK RT CONTINENTAL 86T | G5: 339030.39 | H5: 222 | I5: 4 | J5: =I5-(SUM(L5:W5)) -> 0 | K5: =IF(J5<0,"ATENÇÃO","OK") -> OK | L5: 4 | M5: 0 | N5: 0 | O5: 0 | P5: 0 | Q5: 0 | R5: 0 | S5: 0 | T5: 0 | U5: 0 | V5: 0 | W5: 0
C6: 3 | D6: PNEUS PARA VEICULOS LEVES, PNEU PARA RODA 14", 185/70, Pneus novos, certificados pelo INMETRO. Não recondicionados, não remoldados, não remanufaturados e não recapados - medidas 185/70 R-14. | E6: Peça | F6: KH 17 KUMHO 88H | G6: 339030.39 | H6: 187.2 | J6: =I6-(SUM(L6:W6)) -> 0 | K6: =IF(J6<0,"ATENÇÃO","OK") -> OK | L6: 0 | M6: 0 | N6: 0 | O6: 0 | P6: 0 | Q6: 0 | R6: 0 | S6: 0 | T6: 0 | U6: 0 | V6: 0 | W6: 0
C7: 4 | D7: PNEUS PARA VEICULOS LEVES, PNEU PARA RODA 14", 185/70, Pneus novos, certificados pelo INMETRO. Não recondicionados, não remoldados, não remanufaturados e não recapados - medidas 185/70 R-14C (pneus para KOMBI). | E7: Peça | F7: AL01 AELOUS 102/100R | G7: 339030.39 | H7: 258 | J7: =I7-(SUM(L7:W7)) -> 0 | K7: =IF(J7<0,"ATENÇÃO","OK") -> OK | L7: 0 | M7: 0 | N7: 0 | O7: 0 | P7: 0 | Q7: 0 | R7: 0 | S7: 0 | T7: 0 | U7: 0 | V7: 0 | W7: 0
C8: 5 | D8: PNEUS PARA VEICULOS LEVES, PNEU PARA RODA 15",185/65, Pneus novos, certificados pelo INMETRO. Não recondicionados, não remoldados, não remanufaturados e não recapados - medidas 185/65 R-15. | E8: Peça | F8: AH01 AEOLUS 88H | G8: 339030.39 | H8: 199 | I8: 4 | J8: =I8-(SUM(L8:W8)) -> 0 | K8: =IF(J8<0,"ATENÇÃO","OK") -> OK | L8: 4 | M8: 0 | N8: 0 | O8: 0 | P8: 0 | Q8: 0 | R8: 0 | S8: 0 | T8: 0 | U8: 0 | V8: 0 | W8: 0
C9: 6 | D9: PNEUS PARA VEICULOS LEVES, PNEU PARA RODA 15", 195/60, Pneus novos, certificados pelo INMETRO. Não recondicionados, não remoldados, não remanufaturados e não recapados - medidas 195/60 R-15. | E9: Peça | F9: AH01 AEOLUS 88H | G9: 339030.39 | H9: 211 | J9: =I9-(SUM(L9:W9)) -> 0 | K9: =IF(J9<0,"ATENÇÃO","OK") -> OK | L9: 0 | M9: 0 | N9: 0 | O9: 0 | P9: 0 | Q9: 0 | R9: 0 | S9: 0 | T9: 0 | U9: 0 | V9: 0 | W9: 0
C10: 7 | D10: PNEUS PARA VEICULOS LEVES, PNEU PARA RODA 15", 195/65, Pneus novos, certificados pelo INMETRO; não recondicionados, não remoldados, não remanufaturados e não recapados - medida 195/65. R-15 | E10: Peça | F10: AH01 AEOLUS 91H | G10: 339030.39 | H10: 199 | J10: =I10-(SUM(L10:W10)) -> 0 | K10: =IF(J10<0,"ATENÇÃO","OK") -> OK | L10: 0 | M10: 0 | N10: 0 | O10: 0 | P10: 0 | Q10: 0 | R10: 0 | S10: 0 | T10: 0 | U10: 0 | V10: 0 | W10: 0
C11: 8 | D11: PNEUS PARA VEICULOS LEVES, PNEU PARA RODA 15", 225/70, Pneus novos, certificados pelo INMETRO. Não recondicionados, não remoldados, não remanufaturados e não recapados - medidas 225/70 R-15. | E11: Peça | F11: KR21 MARSHAL 100T | G11: 339030.39 | H11: 351 | I11: 10 | J11: =I11-(SUM(L11:W11)) -> 6 | K11: =IF(J11<0,"ATENÇÃO","OK") -> OK | L11: 4 | M11: 0 | N11: 0 | O11: 0 | P11: 0 | Q11: 0 | R11: 0 | S11: 0 | T11: 0 | U11: 0 | V11: 0 | W11: 0
C12: 9 | D12: PNEUS PARA VEICULOS LEVES, PNEU PARA RODA 15", 235/75, Pneus novos, certificados pelo INMETRO. Não recondicionados, não remoldados, não remanufaturados e não recapados - medidas 235/75 R-15. | E12: Peça | F12: AS02 AELOUS 105T | G12: 339030.39 | H12: 328 | J12: =I12-(SUM(L12:W12)) -> 0 | K12: =IF(J12<0,"ATENÇÃO","OK") -> OK | L12: 0 | M12: 0 | N12: 0 | O12: 0 | P12: 0 | Q12: 0 | R12: 0 | S12: 0 | T12: 0 | U12: 0 | V12: 0 | W12: 0
C13: 10 | D13: PNEUS PARA VEICULOS LEVES, PNEU PARA RODA 16", 205/55, Pneus novos, certificados pelo INMETRO. Não recondicionados, não remoldados, não remanufaturados e não recapados - medidas 205/55 R-16. | E13: Peça | F13: KH 25 KUMHO 91H | G13: 339030.39 | H13: 270 | J13: =I13-(SUM(L13:W13)) -> 0 | K13: =IF(J13<0,"ATENÇÃO","OK") -> OK | L13: 0 | M13: 0 | N13: 0 | O13: 0 | P13: 0 | Q13: 0 | R13: 0 | S13: 0 | T13: 0 | U13: 0 | V13: 0 | W13: 0
C14: 11 | D14: PNEUS PARA VEICULOS LEVES, PNEU PARA RODA 16", 205/75, Pneus novos, certificados pelo INMETRO. Não recondicionados, não remoldados, não remanufaturados e não recapados - medidas 205/75 R-16. | E14: Peça | F14: 857 MARSHAL 110/108R 8PR | G14: 339030.39 | H14: 410 | I14: 4 | J14: =I14-(SUM(L14:W14)) -> 4 | K14: =IF(J14<0,"ATENÇÃO","OK") -> OK | L14: 0 | M14: 0 | N14: 0 | O14: 0 | P14: 0 | Q14: 0 | R14: 0 | S14: 0 | T14: 0 | U14: 0 | V14: 0 | W14: 0
C15: 12 | D15: PNEUS PARA VEICULOS LEVES, PNEU PARA RODA 16", 215/70, Pneus novos, certificados pelo INMETRO. Não recondicionados, não remoldados, não remanufaturados e não recapados - medidas 215/70 R-16. | E15: Peça | F15: KL21 KUMHO 100H | G15: 339030.39 | H15: 375 | J15: =I15-(SUM(L15:W15)) -> 0 | K15: =IF(J15<0,"ATENÇÃO","OK") -> OK | L15: 0 | M15: 0 | N15: 0 | O15: 0 | P15: 0 | Q15: 0 | R15: 0 | S15: 0 | T15: 0 | U15: 0 | V15: 0 | W15: 0
C16: 13 | D16: PNEUS PARA VEICULOS LEVES, PNEU PARA RODA 16", 235/70, "PNEUS PARA VEICULOS LEVES, PNEU PARA RODA 16", 235/70, Pneus novos, certificados pelo INMETRO. Não recondicionados, não remoldados, não remanufaturados e não recapados - medidas 235/70 R-16." | E16: Peça | F16: AS02 AELOUS 106S | G16: 339030.39 | H16: 328 | J16: =I16-(SUM(L16:W16)) -> 0 | K16: =IF(J16<0,"ATENÇÃO","OK") -> OK | L16: 0 | M16: 0 | N16: 0 | O16: 0 | P16: 0 | Q16: 0 | R16: 0 | S16: 0 | T16: 0 | U16: 0 | V16: 0 | W16: 0
C17: 14 | D17: PNEUS PARA VEICULOS LEVES, PNEU PARA RODA 16", 245/70, Pneus novos, certificados pelo INMETRO. Não recondicionados, não remoldados, não remanufaturados e não recapados - medidas 245/70 R-16 - 111s. | E17: Peça | F17: AS01 AELOUS 107T | G17: 339030.39 | H17: 335 | J17: =I17-(SUM(L17:W17)) -> 0 | K17: =IF(J17<0,"ATENÇÃO","OK") -> OK | L17: 0 | M17: 0 | N17: 0 | O17: 0 | P17: 0 | Q17: 0 | R17: 0 | S17: 0 | T17: 0 | U17: 0 | V17: 0 | W17: 0
C18: 15 | D18: PNEUS PARA VEICULOS LEVES, PNEU PARA RODA 16", 245/70, Pneus novos, certificados pelo INMETRO. Não recondicionados, não remoldados, não remanufaturados e não recapados - medidas 245/70 R-16. | E18: Peça | F18: AS01 AELOUS 107T | G18: 339030.39 | H18: 335 | I18: 4 | J18: =I18-(SUM(L18:W18)) -> 0 | K18: =IF(J18<0,"ATENÇÃO","OK") -> OK | L18: 4 | M18: 0 | N18: 0 | O18: 0 | P18: 0 | Q18: 0 | R18: 0 | S18: 0 | T18: 0 | U18: 0 | V18: 0 | W18: 0
C19: 16 | D19: PNEUS PARA VEICULOS LEVES, PNEU PARA RODA 16", 255/70, Pneus novos, não recondicionados, não remoldados, não remanufaturados e não recapados, certificados pelo INMETRO - medidas – 255/70 - R16. | E19: Peça | F19: AS02 AEOLUS 111S | G19: 339030.39 | H19: 421 | J19: =I19-(SUM(L19:W19)) -> 0 | K19: =IF(J19<0,"ATENÇÃO","OK") -> OK | L19: 0 | M19: 0 | N19: 0 | O19: 0 | P19: 0 | Q19: 0 | R19: 0 | S19: 0 | T19: 0 | U19: 0 | V19: 0 | W19: 0
A20: Modelo Pneus Ltda | B20: 2 | C20: 17 | D20: PNEUS PARA VEICULOS PESADOS, PNEU PARA RODA 12", 5.00, 4 LONAS, Pneu de construção diagonal 5.00/6-12 G-10 - 4 lonas. Colocado com montagem. Pneus novos, certificados pelo INMETRO. Não recondicionados, não remoldados, não remanufaturados e não recapados. | E20: Peça | F20: Firestone T2 4 lonas | G20: 339030.39 | H20: 167 | J20: =I20-(SUM(L20:W20)) -> 0 | K20: =IF(J20<0,"ATENÇÃO","OK") -> OK | L20: 0 | M20: 0 | N20: 0 | O20: 0 | P20: 0 | Q20: 0 | R20: 0 | S20: 0 | T20: 0 | U20: 0 | V20: 0 | W20: 0
C21: 18 | D21: PNEUS PARA VEICULOS PESADOS, PNEU PARA RODA 14", 6.00, Pneu de construção diagonal 6.00x14 R1 - Capacidade de carga “C”. Colocado com montagem. Pneus novos, certificados pelo INMETRO. Não recondicionados, não remoldados, não remanufaturados e não recapados. | E21: Peça | F21: Rinaldi RGA 34 - 6 lonas | G21: 339030.39 | H21: 324 | J21: =I21-(SUM(L21:W21)) -> 0 | K21: =IF(J21<0,"ATENÇÃO","OK") -> OK | L21: 0 | M21: 0 | N21: 0 | O21: 0 | P21: 0 | Q21: 0 | R21: 0 | S21: 0 | T21: 0 | U21: 0 | V21: 0 | W21: 0
C22: 19 | D22: PNEUS PARA VEICULOS PESADOS, PNEU PARA RODA 16", 7.5, 8 LONAS, Pneu direcional 7.5x16 F2 Multi-raiado 8 lonas. Colocado com montagem. Pneus novos, certificados pelo INMETRO. Não recondicionados, não remoldados, não remanufaturados e não recapados. | E22: Peça | F22: Firestone G-Grip 8 lonas | G22: 339030.39 | H22: 510 | J22: =I22-(SUM(L22:W22)) -> 0 | K22: =IF(J22<0,"ATENÇÃO","OK") -> OK | L22: 0 | M22: 0 | N22: 0 | O22: 0 | P22: 0 | Q22: 0 | R22: 0 | S22: 0 | T22: 0 | U22: 0 | V22: 0 | W22: 0
C23: 20 | D23: PNEUS PARA VEICULOS PESADOS, PNEU PARA RODA 24", 12.4, 6 LONAS, Pneu de construção radial 12.4-24 R1 - 6 lonas. Colocado com montagem. Pneus novos, certificados pelo INMETRO. Não recondicionados, não remoldados, não remanufaturados e não recapados. | E23: Peça | F23: Firestone SAT - 23G | G23: 339030.39 | H23: 1001 | J23: =I23-(SUM(L23:W23)) -> 0 | K23: =IF(J23<0,"ATENÇÃO","OK") -> OK | L23: 0 | M23: 0 | N23: 0 | O23: 0 | P23: 0 | Q23: 0 | R23: 0 | S23: 0 | T23: 0 | U23: 0 | V23: 0 | W23: 0
C24: 21 | D24: PNEUS PARA VEICULOS PESADOS, PNEU PARA RODA 24", 9.5, 6 LONAS, Pneu de construção diagonal 9.5x24 R1 – 6 Lonas. Colocado com montagem. Pneus novos, certificados pelo INMETRO. Não recondicionados, não remoldados, não remanufaturados e não recapados. | E24: Peça | F24: Firestone SAT - 23G | G24: 339030.39 | H24: 883 | J24: =I24-(SUM(L24:W24)) -> 0 | K24: =IF(J24<0,"ATENÇÃO","OK") -> OK | L24: 0 | M24: 0 | N24: 0 | O24: 0 | P24: 0 | Q24: 0 | R24: 0 | S24: 0 | T24: 0 | U24: 0 | V24: 0 | W24: 0
C25: 22 | D25: PNEUS PARA VEICULOS PESADOS, PNEU PARA RODA 28", 14.9, 8 LONAS, Pneu de construção diagonal 14.9-28 R1 - 8 lonas. Colocado com montagem. Pneus novos, certificados pelo INMETRO. Não recondicionados, não remoldados, não remanufaturados e não recapados. | E25: Peça | F25: Firestone SAT - 23G 10 lonas | G25: 339030.39 | H25: 1507.5 | J25: =I25-(SUM(L25:W25)) -> 0 | K25: =IF(J25<0,"ATENÇÃO","OK") -> OK | L25: 0 | M25: 0 | N25: 0 | O25: 0 | P25: 0 | Q25: 0 | R25: 0 | S25: 0 | T25: 0 | U25: 0 | V25: 0 | W25: 0
C26: 23 | D26: PNEUS PARA VEÍCULOS PESADOS, PNEU PARA RODA 30", Pneu de construção radial 18.4-30 R1 - 10 lonas. Colocado com montagem. Pneus novos, certificados pelo INMETRO. Não recondicionados, não remoldados, não remanufaturados e não recapados. | E26: Peça | F26: Firestone SAT - 23G 10 lonas | G26: 339030.39 | H26: 2097.5 | J26: =I26-(SUM(L26:W26)) -> 0 | K26: =IF(J26<0,"ATENÇÃO","OK") -> OK | L26: 0 | M26: 0 | N26: 0 | O26: 0 | P26: 0 | Q26: 0 | R26: 0 | S26: 0 | T26: 0 | U26: 0 | V26: 0 | W26: 0
A27: Cantu Comércio de Pneumáticos Ltda | B27: 3 | C27: 24 | D27: PNEUS PARA VEICULOS PESADOS, PNEU PARA RODA 17,5", 215/75, Pneus novos, certificados pelo INMETRO. Não recondicionados, não remoldados, não remanufaturados e não recapados - medidas 215/75 R-17,5. | E27: Peça | F27: ASR35 AELOUS 16PR 127/124M | G27: 339030.39 | H27: 585 | I27: 15 | J27: =I27-(SUM(L27:W27)) -> 3 | K27: =IF(J27<0,"ATENÇÃO","OK") -> OK | L27: 12 | M27: 0 | N27: 0 | O27: 0 | P27: 0 | Q27: 0 | R27: 0 | S27: 0 | T27: 0 | U27: 0 | V27: 0 | W27: 0
C28: 25 | D28: PNEUS PARA VEICULOS PESADOS, PNEU PARA RODA 22,5", 275/80, LISO, Pneus novos, certificados pelo INMETRO. Não recondicionados, não remoldados, não remanufaturados e não recapados - medidas 275/80 R-22,5. | E28: Peça | F28: D621 DRC 16PR 147/144L | G28: 339030.39 | H28: 1170 | J28: =I28-(SUM(L28:W28)) -> 0 | K28: =IF(J28<0,"ATENÇÃO","OK") -> OK | L28: 0 | M28: 0 | N28: 0 | O28: 0 | P28: 0 | Q28: 0 | R28: 0 | S28: 0 | T28: 0 | U28: 0 | V28: 0 | W28: 0
D30: *Prazos de Entrega e Pagamento conforme edital

Sheet CAV
A1: PROCESSO: 0066/2015/UDESC | D1: OBJETO: AQUISIÇÃO DE PNEUS PARA A UDESC | I1: VIGÊNCIA DA ATA: 03/03/2015 até 02/03/2016 | L1: AF/OS nº não informado Qtde. DT | M1: AF/OS nº não informado Qtde. DT | N1: AF/OS nº não informado Qtde. DT | O1: AF/OS nº não informado Qtde. DT | P1: AF/OS nº xxxx/2015 Qtde. DT | Q1: AF/OS nº xxxx/2015 Qtde. DT | R1: AF/OS nº xxxx/2015 Qtde. DT | S1: AF/OS nº xxxx/2015 Qtde. DT | T1: AF/OS nº xxxx/2015 Qtde. DT | U1: AF/OS nº xxxx/2015 Qtde. DT | V1: AF/OS nº xxxx/2015 Qtde. DT | W1: AF/OS nº xxxx/2015 Qtde. DT
A2: CENTRO PARTICIPANTE: CAV
A3: FORNECEDOR | B3: LOTE | C3: ITEM | D3: PRODUTO - CARACTERÍSTICAS MÍNIMAS | E3: UNIDADE | F3: MARCA | G3: ELEMENTO | H3: Preço UNITÁRIO (R$) | I3: Qtde Registrada | J3: Saldo / Automático | K3: ALERTA | L3: ...../...../...... | M3: ...../...../...... | N3: ...../...../...... | O3: ...../...../...... | P3: ...../...../...... | Q3: ...../...../...... | R3: ...../...../...... | S3: ...../...../...... | T3: ...../...../...... | U3: ...../...../...... | V3: ...../...../...... | W3: ...../...../......
A4: Cantu Comércio de Pneumáticos Ltda | B4: 1 | C4: 1 | D4: PNEUS PARA VEICULOS LEVES, PNEU PARA RODA 14", 185/60, Pneus novos, certificados pelo INMETRO. Não recondicionados, não remoldados, não remanufaturados e não recapados - medidas 185/60 R-14. | E4: Peça | F4: KH 17 KUMHO 82 T | G4: 339030.39 | H4: 193 | I4: 8 | J4: =I4-(SUM(L4:W4)) -> 0 | K4: =IF(J4<0,"ATENÇÃO","OK") -> OK | L4: 0 | M4: 8 | N4: 0 | O4: 0 | P4: 0 | Q4: 0 | R4: 0 | S4: 0 | T4: 0 | U4: 0 | V4: 0 | W4: 0
C5: 2 | D5: PNEUS PARA VEICULOS LEVES, PNEU PARA RODA 14", 185/65, Pneus novos, certificados pelo INMETRO. Não recondicionados, não remoldados, não remanufaturados e não recapados - medidas 185/65 R-14. | E5: Peça | F5: GENERAL EVERTREK RT CONTINENTAL 86T | G5: 339030.39 | H5: 222 | J5: =I5-(SUM(L5:W5)) -> 0 | K5: =IF(J5<0,"ATENÇÃO","OK") -> OK | L5: 0 | M5: 0 | N5: 0 | O5: 0 | P5: 0 | Q5: 0 | R5: 0 | S5: 0 | T5: 0 | U5: 0 | V5: 0 | W5: 0
C6: 3 | D6: PNEUS PARA VEICULOS LEVES, PNEU PARA RODA 14", 185/70, Pneus novos, certificados pelo INMETRO. Não recondicionados, não remoldados, não remanufaturados e não recapados - medidas 185/70 R-14. | E6: Peça | F6: KH 17 KUMHO 88H | G6: 339030.39 | H6: 187.2 | I6: 4 | J6: =I6-(SUM(L6:W6)) -> 0 | K6: =IF(J6<0,"ATENÇÃO","OK") -> OK | L6: 4 | M6: 0 | N6: 0 | O6: 0 | P6: 0 | Q6: 0 | R6: 0 | S6: 0 | T6: 0 | U6: 0 | V6: 0 | W6: 0
C7: 4 | D7: PNEUS PARA VEICULOS LEVES, PNEU PARA RODA 14", 185/70, Pneus novos, certificados pelo INMETRO. Não recondicionados, não remoldados, não remanufaturados e não recapados - medidas 185/70 R-14C (pneus para KOMBI). | E7: Peça | F7: AL01 AELOUS 102/100R | G7: 339030.39 | H7: 258 | I7: 6 | J7: =I7-(SUM(L7:W7)) -> 0 | K7: =IF(J7<0,"ATENÇÃO","OK") -> OK | L7: 0 | M7: 4 | N7: 0 | O7: 2 | P7: 0 | Q7: 0 | R7: 0 | S7: 0 | T7: 0 | U7: 0 | V7: 0 | W7: 0
C8: 5 | D8: PNEUS PARA VEICULOS LEVES, PNEU PARA RODA 15",185/65, Pneus novos, certificados pelo INMETRO. Não recondicionados, não remoldados, não remanufaturados e não recapados - medidas 185/65 R-15. | E8: Peça | F8: AH01 AEOLUS 88H | G8: 339030.39 | H8: 199 | J8: =I8-(SUM(L8:W8)) -> 0 | K8: =IF(J8<0,"ATENÇÃO","OK") -> OK | L8: 0 | M8: 0 | N8: 0 | O8: 0 | P8: 0 | Q8: 0 | R8: 0 | S8: 0 | T8: 0 | U8: 0 | V8: 0 | W8: 0
C9: 6 | D9: PNEUS PARA VEICULOS LEVES, PNEU PARA RODA 15", 195/60, Pneus novos, certificados pelo INMETRO. Não recondicionados, não remoldados, não remanufaturados e não recapados - medidas 195/60 R-15. | E9: Peça | F9: AH01 AEOLUS 88H | G9: 339030.39 | H9: 211 | I9: 12 | J9: =I9-(SUM(L9:W9)) -> 0 | K9: =IF(J9<0,"ATENÇÃO","OK") -> OK | L9: 8 | M9: 0 | N9: 0 | O9: 4 | P9: 0 | Q9: 0 | R9: 0 | S9: 0 | T9: 0 | U9: 0 | V9: 0 | W9: 0
C10: 7 | D10: PNEUS PARA VEICULOS LEVES, PNEU PARA RODA 15", 195/65, Pneus novos, certificados pelo INMETRO; não recondicionados, não remoldados, não remanufaturados e não recapados - medida 195/65. R-15 | E10: Peça | F10: AH01 AEOLUS 91H | G10: 339030.39 | H10: 199 | J10: =I10-(SUM(L10:W10)) -> 0 | K10: =IF(J10<0,"ATENÇÃO","OK") -> OK | L10: 0 | M10: 0 | N10: 0 | O10: 0 | P10: 0 | Q10: 0 | R10: 0 | S10: 0 | T10: 0 | U10: 0 | V10: 0 | W10: 0
C11: 8 | D11: PNEUS PARA VEICULOS LEVES, PNEU PARA RODA 15", 225/70, Pneus novos, certificados pelo INMETRO. Não recondicionados, não remoldados, não remanufaturados e não recapados - medidas 225/70 R-15. | E11: Peça | F11: KR21 MARSHAL 100T | G11: 339030.39 | H11: 351 | I11: 14 | J11: =I11-(SUM(L11:W11)) -> 0 | K11: =IF(J11<0,"ATENÇÃO","OK") -> OK | L11: 8 | M11: 0 | N11: 0 | O11: 6 | P11: 0 | Q11: 0 | R11: 0 | S11: 0 | T11: 0 | U11: 0 | V11: 0 | W11: 0
C12: 9 | D12: PNEUS PARA VEICULOS LEVES, PNEU PARA RODA 15", 235/75, Pneus novos, certificados pelo INMETRO. Não recondicionados, não remoldados, não remanufaturados e não recapados - medidas 235/75 R-15. | E12: Peça | F12: AS02 AELOUS 105T | G12: 339030.39 | H12: 328 | J12: =I12-(SUM(L12:W12)) -> 0 | K12: =IF(J12<0,"ATENÇÃO","OK") -> OK | L12: 0 | M12: 0 | N12: 0 | O12: 0 | P12: 0 | Q12: 0 | R12: 0 | S12: 0 | T12: 0 | U12: 0 | V12: 0 | W12: 0
C13: 10 | D13: PNEUS PARA VEICULOS LEVES, PNEU PARA RODA 16", 205/55, Pneus novos, certificados pelo INMETRO. Não recondicionados, não remoldados, não remanufaturados e não recapados - medidas 205/55 R-16. | E13: Peça | F13: KH 25 KUMHO 91H | G13: 339030.39 | H13: 270 | I13: 12 | J13: =I13-(SUM(L13:W13)) -> 0 | K13: =IF(J13<0,"ATENÇÃO","OK") -> OK | L13: 4 | M13: 0 | N13: 0 | O13: 8 | P13: 0 | Q13: 0 | R13: 0 | S13: 0 | T13: 0 | U13: 0 | V13: 0 | W13: 0
C14: 11 | D14: PNEUS PARA VEICULOS LEVES, PNEU PARA RODA 16", 205/75, Pneus novos, certificados pelo INMETRO. Não recondicionados, não remoldados, não remanufaturados e não recapados - medidas 205/75 R-16. | E14: Peça | F14: 857 MARSHAL 110/108R 8PR | G14: 339030.39 | H14: 410 | J14: =I14-(SUM(L14:W14)) -> 0 | K14: =IF(J14<0,"ATENÇÃO","OK") -> OK | L14: 0 | M14: 0 | N14: 0 | O14: 0 | P14: 0 | Q14: 0 | R14: 0 | S14: 0 | T14: 0 | U14: 0 | V14: 0 | W14: 0
C15: 12 | D15: PNEUS PARA VEICULOS LEVES, PNEU PARA RODA 16", 215/70, Pneus novos, certificados pelo INMETRO. Não recondicionados, não remoldados, não remanufaturados e não recapados - medidas 215/70 R-16. | E15: Peça | F15: KL21 KUMHO 100H | G15: 339030.39 | H15: 375 | J15: =I15-(SUM(L15:W15)) -> 0 | K15: =IF(J15<0,"ATENÇÃO","OK") -> OK | L15: 0 | M15: 0 | N15: 0 | O15: 0 | P15: 0 | Q15: 0 | R15: 0 | S15: 0 | T15: 0 | U15: 0 | V15: 0 | W15: 0
C16: 13 | D16: PNEUS PARA VEICULOS LEVES, PNEU PARA RODA 16", 235/70, "PNEUS PARA VEICULOS LEVES, PNEU PARA RODA 16", 235/70, Pneus novos, certificados pelo INMETRO. Não recondicionados, não remoldados, não remanufaturados e não recapados - medidas 235/70 R-16." | E16: Peça | F16: AS02 AELOUS 106S | G16: 339030.39 | H16: 328 | J16: =I16-(SUM(L16:W16)) -> 0 | K16: =IF(J16<0,"ATENÇÃO","OK") -> OK | L16: 0 | M16: 0 | N16: 0 | O16: 0 | P16: 0 | Q16: 0 | R16: 0 | S16: 0 | T16: 0 | U16: 0 | V16: 0 | W16: 0
C17: 14 | D17: PNEUS PARA VEICULOS LEVES, PNEU PARA RODA 16", 245/70, Pneus novos, certificados pelo INMETRO. Não recondicionados, não remoldados, não remanufaturados e não recapados - medidas 245/70 R-16 - 111s. | E17: Peça | F17: AS01 AELOUS 107T | G17: 339030.39 | H17: 335 | I17: 10 | J17: =I17-(SUM(L17:W17)) -> 0 | K17: =IF(J17<0,"ATENÇÃO","OK") -> OK | L17: 4 | M17: 0 | N17: 0 | O17: 6 | P17: 0 | Q17: 0 | R17: 0 | S17: 0 | T17: 0 | U17: 0 | V17: 0 | W17: 0
C18: 15 | D18: PNEUS PARA VEICULOS LEVES, PNEU PARA RODA 16", 245/70, Pneus novos, certificados pelo INMETRO. Não recondicionados, não remoldados, não remanufaturados e não recapados - medidas 245/70 R-16. | E18: Peça | F18: AS01 AELOUS 107T | G18: 339030.39 | H18: 335 | J18: =I18-(SUM(L18:W18)) -> 0 | K18: =IF(J18<0,"ATENÇÃO","OK") -> OK | L18: 0 | M18: 0 | N18: 0 | O18: 0 | P18: 0 | Q18: 0 | R18: 0 | S18: 0 | T18: 0 | U18: 0 | V18: 0 | W18: 0
C19: 16 | D19: PNEUS PARA VEICULOS LEVES, PNEU PARA RODA 16", 255/70, Pneus novos, não recondicionados, não remoldados, não remanufaturados e não recapados, certificados pelo INMETRO - medidas – 255/70 - R16. | E19: Peça | F19: AS02 AEOLUS 111S | G19: 339030.39 | H19: 421 | J19: =I19-(SUM(L19:W19)) -> 0 | K19: =IF(J19<0,"ATENÇÃO","OK") -> OK | L19: 0 | M19: 0 | N19: 0 | O19: 0 | P19: 0 | Q19: 0 | R19: 0 | S19: 0 | T19: 0 | U19: 0 | V19: 0 | W19: 0
A20: Modelo Pneus Ltda | B20: 2 | C20: 17 | D20: PNEUS PARA VEICULOS PESADOS, PNEU PARA RODA 12", 5.00, 4 LONAS, Pneu de construção diagonal 5.00/6-12 G-10 - 4 lonas. Colocado com montagem. Pneus novos, certificados pelo INMETRO. Não recondicionados, não remoldados, não remanufaturados e não recapados. | E20: Peça | F20: Firestone T2 4 lonas | G20: 339030.39 | H20: 167 | I20: 4 | J20: =I20-(SUM(L20:W20)) -> 2 | K20: =IF(J20<0,"ATENÇÃO","OK") -> OK | L20: 2 | N20: 0 | O20: 0 | P20: 0 | Q20: 0 | R20: 0 | S20: 0 | T20: 0 | U20: 0 | V20: 0 | W20: 0
C21: 18 | D21: PNEUS PARA VEICULOS PESADOS, PNEU PARA RODA 14", 6.00, Pneu de construção diagonal 6.00x14 R1 - Capacidade de carga “C”. Colocado com montagem. Pneus novos, certificados pelo INMETRO. Não recondicionados, não remoldados, não remanufaturados e não recapados. | E21: Peça | F21: Rinaldi RGA 34 - 6 lonas | G21: 339030.39 | H21: 324 | I21: 4 | J21: =I21-(SUM(L21:W21)) -> 2 | K21: =IF(J21<0,"ATENÇÃO","OK") -> OK | L21: 2 | N21: 0 | O21: 0 | P21: 0 | Q21: 0 | R21: 0 | S21: 0 | T21: 0 | U21: 0 | V21: 0 | W21: 0
C22: 19 | D22: PNEUS PARA VEICULOS PESADOS, PNEU PARA RODA 16", 7.5, 8 LONAS, Pneu direcional 7.5x16 F2 Multi-raiado 8 lonas. Colocado com montagem. Pneus novos, certificados pelo INMETRO. Não recondicionados, não remoldados, não remanufaturados e não recapados. | E22: Peça | F22: Firestone G-Grip 8 lonas | G22: 339030.39 | H22: 510 | I22: 8 | J22: =I22-(SUM(L22:W22)) -> 4 | K22: =IF(J22<0,"ATENÇÃO","OK") -> OK | L22: 0 | N22: 4 | O22: 0 | P22: 0 | Q22: 0 | R22: 0 | S22: 0 | T22: 0 | U22: 0 | V22: 0 | W22: 0
C23: 20 | D23: PNEUS PARA VEICULOS PESADOS, PNEU PARA RODA 24", 12.4, 6 LONAS, Pneu de construção radial 12.4-24 R1 - 6 lonas. Colocado com montagem. Pneus novos, certificados pelo INMETRO. Não recondicionados, não remoldados, não remanufaturados e não recapados. | E23: Peça | F23: Firestone SAT - 23G | G23: 339030.39 | H23: 1001 | I23: 4 | J23: =I23-(SUM(L23:W23)) -> 2 | K23: =IF(J23<0,"ATENÇÃO","OK") -> OK | L23: 2 | M23: Cancelado | N23: 0 | O23: 0 | P23: 0 | Q23: 0 | R23: 0 | S23: 0 | T23: 0 | U23: 0 | V23: 0 | W23: 0
C24: 21 | D24: PNEUS PARA VEICULOS PESADOS, PNEU PARA RODA 24", 9.5, 6 LONAS, Pneu de construção diagonal 9.5x24 R1 – 6 Lonas. Colocado com montagem. Pneus novos, certificados pelo INMETRO. Não recondicionados, não remoldados, não remanufaturados e não recapados. | E24: Peça | F24: Firestone SAT - 23G | G24: 339030.39 | H24: 883 | I24: 4 | J24: =I24-(SUM(L24:W24)) -> 2 | K24: =IF(J24<0,"ATENÇÃO","OK") -> OK | L24: 2 | N24: 0 | O24: 0 | P24: 0 | Q24: 0 | R24: 0 | S24: 0 | T24: 0 | U24: 0 | V24: 0 | W24: 0
C25: 22 | D25: PNEUS PARA VEICULOS PESADOS, PNEU PARA RODA 28", 14.9, 8 LONAS, Pneu de construção diagonal 14.9-28 R1 - 8 lonas. Colocado com montagem. Pneus novos, certificados pelo INMETRO. Não recondicionados, não remoldados, não remanufaturados e não recapados. | E25: Peça | F25: Firestone SAT - 23G 10 lonas | G25: 339030.39 | H25: 1507.5 | I25: 4 | J25: =I25-(SUM(L25:W25)) -> 2 | K25: =IF(J25<0,"ATENÇÃO","OK") -> OK | L25: 0 | N25: 2 | O25: 0 | P25: 0 | Q25: 0 | R25: 0 | S25: 0 | T25: 0 | U25: 0 | V25: 0 | W25: 0
C26: 23 | D26: PNEUS PARA VEÍCULOS PESADOS, PNEU PARA RODA 30", Pneu de construção radial 18.4-30 R1 - 10 lonas. Colocado com montagem. Pneus novos, certificados pelo INMETRO. Não recondicionados, não remoldados, não remanufaturados e não recapados. | E26: Peça | F26: Firestone SAT - 23G 10 lonas | G26: 339030.39 | H26: 2097.5 | I26: 4 | J26: =I26-(SUM(L26:W26)) -> 2 | K26: =IF(J26<0,"ATENÇÃO","OK") -> OK | L26: 2 | M26: Cancelado | N26: 0 | O26: 0 | P26: 0 | Q26: 0 | R26: 0 | S26: 0 | T26: 0 | U26: 0 | V26: 0 | W26: 0
A27: Cantu Comércio de Pneumáticos Ltda | B27: 3 | C27: 24 | D27: PNEUS PARA VEICULOS PESADOS, PNEU PARA RODA 17,5", 215/75, Pneus novos, certificados pelo INMETRO. Não recondicionados, não remoldados, não remanufaturados e não recapados - medidas 215/75 R-17,5. | E27: Peça | F27: ASR35 AELOUS 16PR 127/124M | G27: 339030.39 | H27: 585 | I27: 6 | J27: =I27-(SUM(L27:W27)) -> 0 | K27: =IF(J27<0,"ATENÇÃO","OK") -> OK | L27: 6 | M27: 0 | N27: 0 | O27: 0 | P27: 0 | Q27: 0 | R27: 0 | S27: 0 | T27: 0 | U27: 0 | V27: 0 | W27: 0
C28: 25 | D28: PNEUS PARA VEICULOS PESADOS, PNEU PARA RODA 22,5", 275/80, LISO, Pneus novos, certificados pelo INMETRO. Não recondicionados, não remoldados, não remanufaturados e não recapados - medidas 275/80 R-22,5. | E28: Peça | F28: D621 DRC 16PR 147/144L | G28: 339030.39 | H28: 1170 | I28: 4 | J28: =I28-(SUM(L28:W28)) -> 0 | K28: =IF(J28<0,"ATENÇÃO","OK") -> OK | L28: 2 | M28: 0 | N28: 0 | O28: 2 | P28: 0 | Q28: 0 | R28: 0 | S28: 0 | T28: 0 | U28: 0 | V28: 0 | W28: 0
D30: *Prazos de Entrega e Pagamento conforme edital

Sheet GESTOR
A1: PROCESSO: 0066/2015/UDESC | D1: OBJETO: AQUISIÇÃO DE PNEUS PARA A UDESC | I1: VIGÊNCIA DA ATA: 03/03/2015 até 02/03/2016
A2: CENTRO PARTICIPANTE: GESTOR
A3: FORNECEDOR | B3: LOTE | C3: ITEM | D3: PRODUTO - CARACTERÍSTICAS MÍNIMAS | E3: UNIDADE | F3: MARCA | G3: ELEMENTO | H3: Preço UNITÁRIO (R$) | I3: Qtde Registrada | J3: Qtde Utilizada | K3: SALDO | L3: Valor Total Registrado | M3: Valor Total Utilizado
A4: Cantu Comércio de Pneumáticos Ltda | B4: 1 | C4: 1 | D4: PNEUS PARA VEICULOS LEVES, PNEU PARA RODA 14", 185/60, Pneus novos, certificados pelo INMETRO. Não recondicionados, não remoldados, não remanufaturados e não recapados - medidas 185/60 R-14. | E4: Peça | F4: KH 17 KUMHO 82 T | G4: 339030.39 | H4: 193 | I4: =Reitoria!I4+CEAD!I4+ESAG!I4+CEART!I4+CCT!I4+CEPLAN!I4+CERES!I4+CEAVI!I4+CESFI!I4+CEO!I4+CAV!I4 -> 46 | J4: =(Reitoria!I4-Reitoria!J4)+(CEAD!I4-CEAD!J4)+(ESAG!I4-ESAG!J4)+(CEART!I4-CEART!J4)+(CCT!I4-CCT!J4)+(CEPLAN!I4-CEPLAN!J4)+(CERES!I4-CERES!J4)+(CEAVI!I4-CEAVI!J4)+(CESFI!I4-CESFI!J4)+(CEO!I4-CEO!J4)+(CAV!I4-CAV!J4) -> 8 | K4: =I4-J4 -> 38 | L4: =H4*I4 -> 8878 | M4: =H4*J4 -> 1544
C5: 2 | D5: PNEUS PARA VEICULOS LEVES, PNEU PARA RODA 14", 185/65, Pneus novos, certificados pelo INMETRO. Não recondicionados, não remoldados, não remanufaturados e não recapados - medidas 185/65 R-14. | E5: Peça | F5: GENERAL EVERTREK RT CONTINENTAL 86T | G5: 339030.39 | H5: 222 | I5: =Reitoria!I5+CEAD!I5+ESAG!I5+CEART!I5+CCT!I5+CEPLAN!I5+CERES!I5+CEAVI!I5+CESFI!I5+CEO!I5+CAV!I5 -> 10 | J5: =(Reitoria!I5-Reitoria!J5)+(CEAD!I5-CEAD!J5)+(ESAG!I5-ESAG!J5)+(CEART!I5-CEART!J5)+(CCT!I5-CCT!J5)+(CEPLAN!I5-CEPLAN!J5)+(CERES!I5-CERES!J5)+(CEAVI!I5-CEAVI!J5)+(CESFI!I5-CESFI!J5)+(CEO!I5-CEO!J5)+(CAV!I5-CAV!J5) -> 10 | K5: =I5-J5 -> 0 | L5: =H5*I5 -> 2220 | M5: =H5*J5 -> 2220
C6: 3 | D6: PNEUS PARA VEICULOS LEVES, PNEU PARA RODA 14", 185/70, Pneus novos, certificados pelo INMETRO. Não recondicionados, não remoldados, não remanufaturados e não recapados - medidas 185/70 R-14. | E6: Peça | F6: KH 17 KUMHO 88H | G6: 339030.39 | H6: 187.2 | I6: =Reitoria!I6+CEAD!I6+ESAG!I6+CEART!I6+CCT!I6+CEPLAN!I6+CERES!I6+CEAVI!I6+CESFI!I6+CEO!I6+CAV!I6 -> 4 | J6: =(Reitoria!I6-Reitoria!J6)+(CEAD!I6-CEAD!J6)+(ESAG!I6-ESAG!J6)+(CEART!I6-CEART!J6)+(CCT!I6-CCT!J6)+(CEPLAN!I6-CEPLAN!J6)+(CERES!I6-CERES!J6)+(CEAVI!I6-CEAVI!J6)+(CESFI!I6-CESFI!J6)+(CEO!I6-CEO!J6)+(CAV!I6-CAV!J6) -> 4 | K6: =I6-J6 -> 0 | L6: =H6*I6 -> 748.8 | M6: =H6*J6 -> 748.8
C7: 4 | D7: PNEUS PARA VEICULOS LEVES, PNEU PARA RODA 14", 185/70, Pneus novos, certificados pelo INMETRO. Não recondicionados, não remoldados, não remanufaturados e não recapados - medidas 185/70 R-14C (pneus para KOMBI). | E7: Peça | F7: AL01 AELOUS 102/100R | G7: 339030.39 | H7: 258 | I7: =Reitoria!I7+CEAD!I7+ESAG!I7+CEART!I7+CCT!I7+CEPLAN!I7+CERES!I7+CEAVI!I7+CESFI!I7+CEO!I7+CAV!I7 -> 6 | J7: =(Reitoria!I7-Reitoria!J7)+(CEAD!I7-CEAD!J7)+(ESAG!I7-ESAG!J7)+(CEART!I7-CEART!J7)+(CCT!I7-CCT!J7)+(CEPLAN!I7-CEPLAN!J7)+(CERES!I7-CERES!J7)+(CEAVI!I7-CEAVI!J7)+(CESFI!I7-CESFI!J7)+(CEO!I7-CEO!J7)+(CAV!I7-CAV!J7) -> 6 | K7: =I7-J7 -> 0 | L7: =H7*I7 -> 1548 | M7: =H7*J7 -> 1548
C8: 5 | D8: PNEUS PARA VEICULOS LEVES, PNEU PARA RODA 15",185/65, Pneus novos, certificados pelo INMETRO. Não recondicionados, não remoldados, não remanufaturados e não recapados - medidas 185/65 R-15. | E8: Peça | F8: AH01 AEOLUS 88H | G8: 339030.39 | H8: 199 | I8: =Reitoria!I8+CEAD!I8+ESAG!I8+CEART!I8+CCT!I8+CEPLAN!I8+CERES!I8+CEAVI!I8+CESFI!I8+CEO!I8+CAV!I8 -> 56 | J8: =(Reitoria!I8-Reitoria!J8)+(CEAD!I8-CEAD!J8)+(ESAG!I8-ESAG!J8)+(CEART!I8-CEART!J8)+(CCT!I8-CCT!J8)+(CEPLAN!I8-CEPLAN!J8)+(CERES!I8-CERES!J8)+(CEAVI!I8-CEAVI!J8)+(CESFI!I8-CESFI!J8)+(CEO!I8-CEO!J8)+(CAV!I8-CAV!J8) -> 44 | K8: =I8-J8 -> 12 | L8: =H8*I8 -> 11144 | M8: =H8*J8 -> 8756
C9: 6 | D9: PNEUS PARA VEICULOS LEVES, PNEU PARA RODA 15", 195/60, Pneus novos, certificados pelo INMETRO. Não recondicionados, não remoldados, não remanufaturados e não recapados - medidas 195/60 R-15. | E9: Peça | F9: AH01 AEOLUS 88H | G9: 339030.39 | H9: 211 | I9: =Reitoria!I9+CEAD!I9+ESAG!I9+CEART!I9+CCT!I9+CEPLAN!I9+CERES!I9+CEAVI!I9+CESFI!I9+CEO!I9+CAV!I9 -> 34 | J9: =(Reitoria!I9-Reitoria!J9)+(CEAD!I9-CEAD!J9)+(ESAG!I9-ESAG!J9)+(CEART!I9-CEART!J9)+(CCT!I9-CCT!J9)+(CEPLAN!I9-CEPLAN!J9)+(CERES!I9-CERES!J9)+(CEAVI!I9-CEAVI!J9)+(CESFI!I9-CESFI!J9)+(CEO!I9-CEO!J9)+(CAV!I9-CAV!J9) -> 24 | K9: =I9-J9 -> 10 | L9: =H9*I9 -> 7174 | M9: =H9*J9 -> 5064
C10: 7 | D10: PNEUS PARA VEICULOS LEVES, PNEU PARA RODA 15", 195/65, Pneus novos, certificados pelo INMETRO; não recondicionados, não remoldados, não remanufaturados e não recapados - medida 195/65. R-15 | E10: Peça | F10: AH01 AEOLUS 91H | G10: 339030.39 | H10: 199 | I10: =Reitoria!I10+CEAD!I10+ESAG!I10+CEART!I10+CCT!I10+CEPLAN!I10+CERES!I10+CEAVI!I10+CESFI!I10+CEO!I10+CAV!I10 -> 25 | J10: =(Reitoria!I10-Reitoria!J10)+(CEAD!I10-CEAD!J10)+(ESAG!I10-ESAG!J10)+(CEART!I10-CEART!J10)+(CCT!I10-CCT!J10)+(CEPLAN!I10-CEPLAN!J10)+(CERES!I10-CERES!J10)+(CEAVI!I10-CEAVI!J10)+(CESFI!I10-CESFI!J10)+(CEO!I10-CEO!J10)+(CAV!I10-CAV!J10) -> 22 | K10: =I10-J10 -> 3 | L10: =H10*I10 -> 4975 | M10: =H10*J10 -> 4378
C11: 8 | D11: PNEUS PARA VEICULOS LEVES, PNEU PARA RODA 15", 225/70, Pneus novos, certificados pelo INMETRO. Não recondicionados, não remoldados, não remanufaturados e não recapados - medidas 225/70 R-15. | E11: Peça | F11: KR21 MARSHAL 100T | G11: 339030.39 | H11: 351 | I11: =Reitoria!I11+CEAD!I11+ESAG!I11+CEART!I11+CCT!I11+CEPLAN!I11+CERES!I11+CEAVI!I11+CESFI!I11+CEO!I11+CAV!I11 -> 44 | J11: =(Reitoria!I11-Reitoria!J11)+(CEAD!I11-CEAD!J11)+(ESAG!I11-ESAG!J11)+(CEART!I11-CEART!J11)+(CCT!I11-CCT!J11)+(CEPLAN!I11-CEPLAN!J11)+(CERES!I11-CERES!J11)+(CEAVI!I11-CEAVI!J11)+(CESFI!I11-CESFI!J11)+(CEO!I11-CEO!J11)+(CAV!I11-CAV!J11) -> 32 | K11: =I11-J11 -> 12 | L11: =H11*I11 -> 15444 | M11: =H11*J11 -> 11232
C12: 9 | D12: PNEUS PARA VEICULOS LEVES, PNEU PARA RODA 15", 235/75, Pneus novos, certificados pelo INMETRO. Não recondicionados, não remoldados, não remanufaturados e não recapados - medidas 235/75 R-15. | E12: Peça | F12: AS02 AELOUS 105T | G12: 339030.39 | H12: 328 | I12: =Reitoria!I12+CEAD!I12+ESAG!I12+CEART!I12+CCT!I12+CEPLAN!I12+CERES!I12+CEAVI!I12+CESFI!I12+CEO!I12+CAV!I12 -> 4 | J12: =(Reitoria!I12-Reitoria!J12)+(CEAD!I12-CEAD!J12)+(ESAG!I12-ESAG!J12)+(CEART!I12-CEART!J12)+(CCT!I12-CCT!J12)+(CEPLAN!I12-CEPLAN!J12)+(CERES!I12-CERES!J12)+(CEAVI!I12-CEAVI!J12)+(CESFI!I12-CESFI!J12)+(CEO!I12-CEO!J12)+(CAV!I12-CAV!J12) -> 0 | K12: =I12-J12 -> 4 | L12: =H12*I12 -> 1312 | M12: =H12*J12 -> 0
C13: 10 | D13: PNEUS PARA VEICULOS LEVES, PNEU PARA RODA 16", 205/55, Pneus novos, certificados pelo INMETRO. Não recondicionados, não remoldados, não remanufaturados e não recapados - medidas 205/55 R-16. | E13: Peça | F13: KH 25 KUMHO 91H | G13: 339030.39 | H13: 270 | I13: =Reitoria!I13+CEAD!I13+ESAG!I13+CEART!I13+CCT!I13+CEPLAN!I13+CERES!I13+CEAVI!I13+CESFI!I13+CEO!I13+CAV!I13 -> 36 | J13: =(Reitoria!I13-Reitoria!J13)+(CEAD!I13-CEAD!J13)+(ESAG!I13-ESAG!J13)+(CEART!I13-CEART!J13)+(CCT!I13-CCT!J13)+(CEPLAN!I13-CEPLAN!J13)+(CERES!I13-CERES!J13)+(CEAVI!I13-CEAVI!J13)+(CESFI!I13-CESFI!J13)+(CEO!I13-CEO!J13)+(CAV!I13-CAV!J13) -> 28 | K13: =I13-J13 -> 8 | L13: =H13*I13 -> 9720 | M13: =H13*J13 -> 7560
C14: 11 | D14: PNEUS PARA VEICULOS LEVES, PNEU PARA RODA 16", 205/75, Pneus novos, certificados pelo INMETRO. Não recondicionados, não remoldados, não remanufaturados e não recapados - medidas 205/75 R-16. | E14: Peça | F14: 857 MARSHAL 110/108R 8PR | G14: 339030.39 | H14: 410 | I14: =Reitoria!I14+CEAD!I14+ESAG!I14+CEART!I14+CCT!I14+CEPLAN!I14+CERES!I14+CEAVI!I14+CESFI!I14+CEO!I14+CAV!I14 -> 18 | J14: =(Reitoria!I14-Reitoria!J14)+(CEAD!I14-CEAD!J14)+(ESAG!I14-ESAG!J14)+(CEART!I14-CEART!J14)+(CCT!I14-CCT!J14)+(CEPLAN!I14-CEPLAN!J14)+(CERES!I14-CERES!J14)+(CEAVI!I14-CEAVI!J14)+(CESFI!I14-CESFI!J14)+(CEO!I14-CEO!J14)+(CAV!I14-CAV!J14) -> 0 | K14: =I14-J14 -> 18 | L14: =H14*I14 -> 7380 | M14: =H14*J14 -> 0
C15: 12 | D15: PNEUS PARA VEICULOS LEVES, PNEU PARA RODA 16", 215/70, Pneus novos, certificados pelo INMETRO. Não recondicionados, não remoldados, não remanufaturados e não recapados - medidas 215/70 R-16. | E15: Peça | F15: KL21 KUMHO 100H | G15: 339030.39 | H15: 375 | I15: =Reitoria!I15+CEAD!I15+ESAG!I15+CEART!I15+CCT!I15+CEPLAN!I15+CERES!I15+CEAVI!I15+CESFI!I15+CEO!I15+CAV!I15 -> 10 | J15: =(Reitoria!I15-Reitoria!J15)+(CEAD!I15-CEAD!J15)+(ESAG!I15-ESAG!J15)+(CEART!I15-CEART!J15)+(CCT!I15-CCT!J15)+(CEPLAN!I15-CEPLAN!J15)+(CERES!I15-CERES!J15)+(CEAVI!I15-CEAVI!J15)+(CESFI!I15-CESFI!J15)+(CEO!I15-CEO!J15)+(CAV!I15-CAV!J15) -> 0 | K15: =I15-J15 -> 10 | L15: =H15*I15 -> 3750 | M15: =H15*J15 -> 0
C16: 13 | D16: PNEUS PARA VEICULOS LEVES, PNEU PARA RODA 16", 235/70, "PNEUS PARA VEICULOS LEVES, PNEU PARA RODA 16", 235/70, Pneus novos, certificados pelo INMETRO. Não recondicionados, não remoldados, não remanufaturados e não recapados - medidas 235/70 R-16." | E16: Peça | F16: AS02 AELOUS 106S | G16: 339030.39 | H16: 328 | I16: =Reitoria!I16+CEAD!I16+ESAG!I16+CEART!I16+CCT!I16+CEPLAN!I16+CERES!I16+CEAVI!I16+CESFI!I16+CEO!I16+CAV!I16 -> 8 | J16: =(Reitoria!I16-Reitoria!J16)+(CEAD!I16-CEAD!J16)+(ESAG!I16-ESAG!J16)+(CEART!I16-CEART!J16)+(CCT!I16-CCT!J16)+(CEPLAN!I16-CEPLAN!J16)+(CERES!I16-CERES!J16)+(CEAVI!I16-CEAVI!J16)+(CESFI!I16-CESFI!J16)+(CEO!I16-CEO!J16)+(CAV!I16-CAV!J16) -> 8 | K16: =I16-J16 -> 0 | L16: =H16*I16 -> 2624 | M16: =H16*J16 -> 2624
... C19: 16 | D19: PNEUS PARA VEICULOS LEVES, PNEU PARA RODA 16", 255/70, Pneus novos, não recondicionados, não remoldados, não remanufaturados e não recapados, certificados pelo INMETRO - medidas – 255/70 - R16. | E19: Peça | F19: AS02 AEOLUS 111S | G19: 339030.39 | H19: 421 | I19: =Reitoria!I19+CEAD!I19+ESAG!I19+CEART!I19+CCT!I19+CEPLAN!I19+CERES!I19+CEAVI!I19+CESFI!I19+CEO!I19+CAV!I19 -> 4 | J19: =(Reitoria!I19-Reitoria!J19)+(CEAD!I19-CEAD!J19)+(ESAG!I19-ESAG!J19)+(CEART!I19-CEART!J19)+(CCT!I19-CCT!J19)+(CEPLAN!I19-CEPLAN!J19)+(CERES!I19-CERES!J19)+(CEAVI!I19-CEAVI!J19)+(CESFI!I19-CESFI!J19)+(CEO!I19-CEO!J19)+(CAV!I19-CAV!J19) -> 0 | K19: =I19-J19 -> 4 | L19: =H19*I19 -> 1684 | M19: =H19*J19 -> 0
A20: Modelo Pneus Ltda | B20: 2 | C20: 17 | D20: PNEUS PARA VEICULOS PESADOS, PNEU PARA RODA 12", 5.00, 4 LONAS, Pneu de construção diagonal 5.00/6-12 G-10 - 4 lonas. Colocado com montagem. Pneus novos, certificados pelo INMETRO. Não recondicionados, não remoldados, não remanufaturados e não recapados. | E20: Peça | F20: Firestone T2 4 lonas | G20: 339030.39 | H20: 167 | I20: =Reitoria!I20+CEAD!I20+ESAG!I20+CEART!I20+CCT!I20+CEPLAN!I20+CERES!I20+CEAVI!I20+CESFI!I20+CEO!I20+CAV!I20 -> 4 | J20: =(Reitoria!I20-Reitoria!J20)+(CEAD!I20-CEAD!J20)+(ESAG!I20-ESAG!J20)+(CEART!I20-CEART!J20)+(CCT!I20-CCT!J20)+(CEPLAN!I20-CEPLAN!J20)+(CERES!I20-CERES!J20)+(CEAVI!I20-CEAVI!J20)+(CESFI!I20-CESFI!J20)+(CEO!I20-CEO!J20)+(CAV!I20-CAV!J20) -> 2 | K20: =I20-J20 -> 2 | L20: =H20*I20 -> 668 | M20: =H20*J20 -> 334
C21: 18 | D21: PNEUS PARA VEICULOS PESADOS, PNEU PARA RODA 14", 6.00, Pneu de construção diagonal 6.00x14 R1 - Capacidade de carga “C”. Colocado com montagem. Pneus novos, certificados pelo INMETRO. Não recondicionados, não remoldados, não remanufaturados e não recapados. | E21: Peça | F21: Rinaldi RGA 34 - 6 lonas | G21: 339030.39 | H21: 324 | I21: =Reitoria!I21+CEAD!I21+ESAG!I21+CEART!I21+CCT!I21+CEPLAN!I21+CERES!I21+CEAVI!I21+CESFI!I21+CEO!I21+CAV!I21 -> 4 | J21: =(Reitoria!I21-Reitoria!J21)+(CEAD!I21-CEAD!J21)+(ESAG!I21-ESAG!J21)+(CEART!I21-CEART!J21)+(CCT!I21-CCT!J21)+(CEPLAN!I21-CEPLAN!J21)+(CERES!I21-CERES!J21)+(CEAVI!I21-CEAVI!J21)+(CESFI!I21-CESFI!J21)+(CEO!I21-CEO!J21)+(CAV!I21-CAV!J21) -> 2 | K21: =I21-J21 -> 2 | L21: =H21*I21 -> 1296 | M21: =H21*J21 -> 648
C22: 19 | D22: PNEUS PARA VEICULOS PESADOS, PNEU PARA RODA 16", 7.5, 8 LONAS, Pneu direcional 7.5x16 F2 Multi-raiado 8 lonas. Colocado com montagem. Pneus novos, certificados pelo INMETRO. Não recondicionados, não remoldados, não remanufaturados e não recapados. | E22: Peça | F22: Firestone G-Grip 8 lonas | G22: 339030.39 | H22: 510 | I22: =Reitoria!I22+CEAD!I22+ESAG!I22+CEART!I22+CCT!I22+CEPLAN!I22+CERES!I22+CEAVI!I22+CESFI!I22+CEO!I22+CAV!I22 -> 8 | J22: =(Reitoria!I22-Reitoria!J22)+(CEAD!I22-CEAD!J22)+(ESAG!I22-ESAG!J22)+(CEART!I22-CEART!J22)+(CCT!I22-CCT!J22)+(CEPLAN!I22-CEPLAN!J22)+(CERES!I22-CERES!J22)+(CEAVI!I22-CEAVI!J22)+(CESFI!I22-CESFI!J22)+(CEO!I22-CEO!J22)+(CAV!I22-CAV!J22) -> 4 | K22: =I22-J22 -> 4 | L22: =H22*I22 -> 4080 | M22: =H22*J22 -> 2040
C23: 20 | D23: PNEUS PARA VEICULOS PESADOS, PNEU PARA RODA 24", 12.4, 6 LONAS, Pneu de construção radial 12.4-24 R1 - 6 lonas. Colocado com montagem. Pneus novos, certificados pelo INMETRO. Não recondicionados, não remoldados, não remanufaturados e não recapados. | E23: Peça | F23: Firestone SAT - 23G | G23: 339030.39 | H23: 1001 | I23: =Reitoria!I23+CEAD!I23+ESAG!I23+CEART!I23+CCT!I23+CEPLAN!I23+CERES!I23+CEAVI!I23+CESFI!I23+CEO!I23+CAV!I23 -> 4 | J23: =(Reitoria!I23-Reitoria!J23)+(CEAD!I23-CEAD!J23)+(ESAG!I23-ESAG!J23)+(CEART!I23-CEART!J23)+(CCT!I23-CCT!J23)+(CEPLAN!I23-CEPLAN!J23)+(CERES!I23-CERES!J23)+(CEAVI!I23-CEAVI!J23)+(CESFI!I23-CESFI!J23)+(CEO!I23-CEO!J23)+(CAV!I23-CAV!J23) -> 2 | K23: =I23-J23 -> 2 | L23: =H23*I23 -> 4004 | M23: =H23*J23 -> 2002
C24: 21 | D24: PNEUS PARA VEICULOS PESADOS, PNEU PARA RODA 24", 9.5, 6 LONAS, Pneu de construção diagonal 9.5x24 R1 – 6 Lonas. Colocado com montagem. Pneus novos, certificados pelo INMETRO. Não recondicionados, não remoldados, não remanufaturados e não recapados. | E24: Peça | F24: Firestone SAT - 23G | G24: 339030.39 | H24: 883 | I24: =Reitoria!I24+CEAD!I24+ESAG!I24+CEART!I24+CCT!I24+CEPLAN!I24+CERES!I24+CEAVI!I24+CESFI!I24+CEO!I24+CAV!I24 -> 4 | J24: =(Reitoria!I24-Reitoria!J24)+(CEAD!I24-CEAD!J24)+(ESAG!I24-ESAG!J24)+(CEART!I24-CEART!J24)+(CCT!I24-CCT!J24)+(CEPLAN!I24-CEPLAN!J24)+(CERES!I24-CERES!J24)+(CEAVI!I24-CEAVI!J24)+(CESFI!I24-CESFI!J24)+(CEO!I24-CEO!J24)+(CAV!I24-CAV!J24) -> 2 | K24: =I24-J24 -> 2 | L24: =H24*I24 -> 3532 | M24: =H24*J24 -> 1766
C25: 22 | D25: PNEUS PARA VEICULOS PESADOS, PNEU PARA RODA 28", 14.9, 8 LONAS, Pneu de construção diagonal 14.9-28 R1 - 8 lonas. Colocado com montagem. Pneus novos, certificados pelo INMETRO. Não recondicionados, não remoldados, não remanufaturados e não recapados. | E25: Peça | F25: Firestone SAT - 23G 10 lonas | G25: 339030.39 | H25: 1507.5 | I25: =Reitoria!I25+CEAD!I25+ESAG!I25+CEART!I25+CCT!I25+CEPLAN!I25+CERES!I25+CEAVI!I25+CESFI!I25+CEO!I25+CAV!I25 -> 4 | J25: =(Reitoria!I25-Reitoria!J25)+(CEAD!I25-CEAD!J25)+(ESAG!I25-ESAG!J25)+(CEART!I25-CEART!J25)+(CCT!I25-CCT!J25)+(CEPLAN!I25-CEPLAN!J25)+(CERES!I25-CERES!J25)+(CEAVI!I25-CEAVI!J25)+(CESFI!I25-CESFI!J25)+(CEO!I25-CEO!J25)+(CAV!I25-CAV!J25) -> 2 | K25: =I25-J25 -> 2 | L25: =H25*I25 -> 6030 | M25: =H25*J25 -> 3015
C26: 23 | D26: PNEUS PARA VEÍCULOS PESADOS, PNEU PARA RODA 30", Pneu de construção radial 18.4-30 R1 - 10 lonas. Colocado com montagem. Pneus novos, certificados pelo INMETRO. Não recondicionados, não remoldados, não remanufaturados e não recapados. | E26: Peça | F26: Firestone SAT - 23G 10 lonas | G26: 339030.39 | H26: 2097.5 | I26: =Reitoria!I26+CEAD!I26+ESAG!I26+CEART!I26+CCT!I26+CEPLAN!I26+CERES!I26+CEAVI!I26+CESFI!I26+CEO!I26+CAV!I26 -> 4 | J26: =(Reitoria!I26-Reitoria!J26)+(CEAD!I26-CEAD!J26)+(ESAG!I26-ESAG!J26)+(CEART!I26-CEART!J26)+(CCT!I26-CCT!J26)+(CEPLAN!I26-CEPLAN!J26)+(CERES!I26-CERES!J26)+(CEAVI!I26-CEAVI!J26)+(CESFI!I26-CESFI!J26)+(CEO!I26-CEO!J26)+(CAV!I26-CAV!J26) -> 2 | K26: =I26-J26 -> 2 | L26: =H26*I26 -> 8390 | M26: =H26*J26 -> 4195
A27: Cantu Comércio de Pneumáticos Ltda | B27: 3 | C27: 24 | D27: PNEUS PARA VEICULOS PESADOS, PNEU PARA RODA 17,5", 215/75, Pneus novos, certificados pelo INMETRO. Não recondicionados, não remoldados, não remanufaturados e não recapados - medidas 215/75 R-17,5. | E27: Peça | F27: ASR35 AELOUS 16PR 127/124M | G27: 339030.39 | H27: 585 | I27: =Reitoria!I27+CEAD!I27+ESAG!I27+CEART!I27+CCT!I27+CEPLAN!I27+CERES!I27+CEAVI!I27+CESFI!I27+CEO!I27+CAV!I27 -> 35 | J27: =(Reitoria!I27-Reitoria!J27)+(CEAD!I27-CEAD!J27)+(ESAG!I27-ESAG!J27)+(CEART!I27-CEART!J27)+(CCT!I27-CCT!J27)+(CEPLAN!I27-CEPLAN!J27)+(CERES!I27-CERES!J27)+(CEAVI!I27-CEAVI!J27)+(CESFI!I27-CESFI!J27)+(CEO!I27-CEO!J27)+(CAV!I27-CAV!J27) -> 32 | K27: =I27-J27 -> 3 | L27: =H27*I27 -> 20475 | M27: =H27*J27 -> 18720
C28: 25 | D28: PNEUS PARA VEICULOS PESADOS, PNEU PARA RODA 22,5", 275/80, LISO, Pneus novos, certificados pelo INMETRO. Não recondicionados, não remoldados, não remanufaturados e não recapados - medidas 275/80 R-22,5. | E28: Peça | F28: D621 DRC 16PR 147/144L | G28: 339030.39 | H28: 1170 | I28: =Reitoria!I28+CEAD!I28+ESAG!I28+CEART!I28+CCT!I28+CEPLAN!I28+CERES!I28+CEAVI!I28+CESFI!I28+CEO!I28+CAV!I28 -> 4 | J28: =(Reitoria!I28-Reitoria!J28)+(CEAD!I28-CEAD!J28)+(ESAG!I28-ESAG!J28)+(CEART!I28-CEART!J28)+(CCT!I28-CCT!J28)+(CEPLAN!I28-CEPLAN!J28)+(CERES!I28-CERES!J28)+(CEAVI!I28-CEAVI!J28)+(CESFI!I28-CESFI!J28)+(CEO!I28-CEO!J28)+(CAV!I28-CAV!J28) -> 4 | K28: =I28-J28 -> 0 | L28: =H28*I28 -> 4680 | M28: =H28*J28 -> 4680
L29: =SUM(L4:L28) -> 136446.8 | M29: =SUM(M4:M28) -> 87764.8
D30: *Prazos de Entrega e Pagamento conforme edital
I31: Pregão 0066/2015/UDESC - SRP
I32: AQUISIÇÃO DE PNEUS PARA A UDESC
I33: Vigência da Ata: 03/03/2015 até 02/03/2016
I34: Valor Total da Ata com Aditivo | M34: =L29 -> 136446.8
I35: Valor Utilizado | M35: =M29 -> 87764.8
I36: % Aditivos
I37: % Utilizado | M37: =M35/M34 -> 0.64321626
I38: Resumo Atualizado em Abril/2016

Sheet 1º Aditivo - CEAD
A1: PROCESSO: 0066/2015/UDESC | D1: OBJETO: AQUISIÇÃO DE PNEUS PARA A UDESC | H1: VIGÊNCIA DA ATA: 03/03/2015 até 02/03/2016
A2: CENTRO PARTICIPANTE: GESTOR
A3: FORNECEDOR | B3: LOTE | C3: ITEM | D3: PRODUTO - CARACTERÍSTICAS MÍNIMAS | E3: UNIDADE | F3: MARCA | G3: Preço UNITÁRIO (R$) | H3: Qtde Total Registrada | I3: Valor Total Registrado | J3: Qtde Aditivo | K3: Valor Aditivado
A4: Cantu Comércio de Pneumáticos Ltda | B4: 1 | C4: 1 | D4: PNEUS PARA VEICULOS LEVES, PNEU PARA RODA 14", 185/60, Pneus novos, certificados pelo INMETRO. Não recondicionados, não remoldados, não remanufaturados e não recapados - medidas 185/60 R-14. | E4: Peça | F4: KH 17 KUMHO 82 T | G4: 193 | H4: 41 | I4: =H4*G4 -> 7913 | J4: 5 | K4: =J4*G4 -> 965
C5: 5 | D5: PNEUS PARA VEICULOS LEVES, PNEU PARA RODA 15",185/65, Pneus novos, certificados pelo INMETRO. Não recondicionados, não remoldados, não remanufaturados e não recapados - medidas 185/65 R-15. | E5: Peça | F5: AH01 AEOLUS 88H | G5: 199 | H5: 49 | I5: =H5*G5 -> 9751 | J5: 7 | K5: =J5*G5 -> 1393
K6: =SUM(K4:K5) -> 2358
D8: Valor Total Registrado item 1 | E8: =I4 -> 7913
D9: Valor Aditivo item 1 | E9: =K4 -> 965
D10: Percentual Aditivo item 1 | E10: =E9/E8 -> 0.12195122
D12: Valor Total Registrado item 5 | E12: =I5 -> 9751
D13: Valor Aditivo item 5 | E13: =K5 -> 1393
D14: Percentual Aditivo item 5 | E14: =E13/E12 -> 0.14285714

Sheet 2º Aditivo - SETRAN
A1: PROCESSO: 0066/2015/UDESC | D1: OBJETO: AQUISIÇÃO DE PNEUS PARA A UDESC | H1: VIGÊNCIA DA ATA: 03/03/2015 até 02/03/2016
A2: CENTRO PARTICIPANTE: GESTOR
A3: FORNECEDOR | B3: LOTE | C3: ITEM | D3: PRODUTO - CARACTERÍSTICAS MÍNIMAS | E3: UNIDADE | F3: MARCA | G3: Preço UNITÁRIO (R$) | H3: Qtde Total Registrada | I3: Valor Total Registrado | J3: Qtde Aditivo | K3: Valor Aditivado
A4: Cantu Comércio de Pneumáticos Ltda | B4: 1 | C4: 7 | D4: PNEUS PARA VEICULOS LEVES, PNEU PARA RODA 15", 195/65, Pneus novos, certificados pelo INMETRO; não recondicionados, não remoldados, não remanufaturados e não recapados - medida 195/65. R-15 | E4: Peça | F4: AH01 AEOLUS 91H | G4: 199 | H4: 20 | I4: =H4*G4 -> 3980 | J4: 5 | K4: =J4*G4 -> 995
D6: Valor Total Registrado item 7 | E6: =I4 -> 3980
D7: Valor Aditivo item 7 | E7: =K4 -> 995
D8: Percentual Aditivo item 7 | E8: =E7/E6 -> 0.25

Sheet Modelo Anexo II IN 002_2014
A1: ANEXO II – Instrução Normativa n.º 002/2014
A3: DECLARAÇÃO DE DISPONIBILIDADE DE QUANTITATIVO PARA EMISSÃO DE AUTORIZAÇÃO DE FORNECIMENTO/ORDEM DE SERVIÇO – SISTEMA DE REGISTRO DE PREÇOS/UDESC
A5: Processo CPA n.º XXXX/2014
A6: Pregão n.º XXXX/2014
A7: Objeto:
A8: Vigência da Ata de Registro de Preços: XX/XX/XXXX até XX/XX/XXXXX
A10: Declaro que o Centro XXXXXXX, participante da Ata de Registro de Preços proveniente do Pregão n.º XXXX/2014, possui saldo em seu quantitativo para a emissão da Autorização de Fornecimento/Ordem de Serviço n.º XXXX/2014, no valor de R$ X.XXX,XX, a ser firmada com a empresa XXXXXXX, restando ainda em sua cota para próximas contratações com o referido fornecedor os seguintes quantitativos:
A12: Lote | B12: Item | C12: Descrição Resumida | D12: Unidade | E12: Valor Unitário (R$) | F12: Saldo Quantitativo (antes da emissão desta AF/OS) | G12: Quantitativo da AF/OS | H12: Saldo Atualizado
A19: __________________, ____/_____/____
A20: Cidade Data
A24: _____________________________________________
A25: Diretor(a) de Administração
A26: (carimbo e assinatura)
