Workbook
Name diasuteis: #REF!
Name diasuteis: #REF!
Name diasuteis: #REF!
Name diasuteis: #REF!
Name Ferias: #REF!
Name Ferias: #REF!
Name Ferias: #REF!
Name RD: OFFSET(#REF!,(MATCH(SMALL(#REF!,ROW()-10),#REF!,0)-1),0)
Name RD: OFFSET(#REF!,(MATCH(SMALL(#REF!,ROW()-10),#REF!,0)-1),0)
Name RD: OFFSET(#REF!,(MATCH(SMALL(#REF!,ROW()-10),#REF!,0)-1),0)

Sheet Reitoria
A1: PROCESSO: 0066/2015/UDESC | D1: OBJETO: AQUISIÇÃO DE PNEUS PARA A UDESC | I1: VIGÊNCIA DA ATA: 03/03/2015 até 02/03/2016 | L1: AF nº 0574/2015 Qtde. DT | M1: AF nº 822/2015 Qtde. DT | N1: AFnº 1807/2015 Qtde. DT | O1: AF/OS nº xxxx/2015 Qtde. DT | P1: AF/OS nº xxxx/2015 Qtde. DT | Q1: AF/OS nº xxxx/2015 Qtde. DT | R1: AF/OS nº xxxx/2015 Qtde. DT | S1: AF/OS nº xxxx/2015 Qtde. DT | T1: AF/OS nº xxxx/2015 Qtde. DT | U1: AF/OS nº xxxx/2015 Qtde. DT | V1: AF/OS nº xxxx/2015 Qtde. DT | W1: AF/OS nº xxxx/2015 Qtde. DT
A2: CENTRO PARTICIPANTE: Reitoria
A3: FORNECEDOR | B3: LOTE | C3: ITEM | D3: PRODUTO - CARACTERÍSTICAS MÍNIMAS | E3: UNIDADE | F3: MARCA | G3: ELEMENTO | H3: Preço UNITÁRIO (R$) | I3: Qtde Registrada | J3: Saldo / Automático | K3: ALERTA | L3: 42122 | M3: 42143 | N3: 42279 | O3: ...../...../...... | P3: ...../...../...... | Q3: ...../...../...... | R3: ...../...../...... | S3: ...../...../...... | T3: ...../...../...... | U3: ...../...../...... | V3: ...../...../...... | W3: ...../...../......
A4: Cantu Comércio de Pneumáticos Ltda | B4: 1 | C4: 1 | D4: PNEUS PARA VEICULOS LEVES, PNEU PARA RODA 14", 185/60, Pneus novos, certificados pelo INMETRO. Não recondicionados, não remoldados, não remanufaturados e não recapados - medidas 185/60 R-14. | E4: Peça | F4: KH 17 KUMHO 82 T | G4: 339030.39 | H4: 193 | I4: 6 | J4: =I4-(SUM(L4:W4)) -> 6 | K4: =IF(J4<0,"ATENÇÃO","OK") -> OK | L4: 0 | M4: 0 | N4: 0 | O4: 0 | P4: 0 | Q4: 0 | R4: 0 | S4: 0 | T4: 0 | U4: 0 | V4: 0 | W4: 0
C5: 2 | D5: PNEUS PARA VEICULOS LEVES, PNEU PARA RODA 14", 185/65, Pneus novos, certificados pelo INMETRO. Não recondicionados, não remoldados, não remanufaturados e não recapados - medidas 185/65 R-14. | E5: Peça | F5: GENERAL EVERTREK RT CONTINENTAL 86T | G5: 339030.39 | H5: 222 | J5: =I5-(SUM(L5:W5)) -> 0 | K5: =IF(J5<0,"ATENÇÃO","OK") -> OK | L5: 0 | M5: 0 | N5: 0 | O5: 0 | P5: 0 | Q5: 0 | R5: 0 | S5: 0 | T5: 0 | U5: 0 | V5: 0 | W5: 0
C6: 3 | D6: PNEUS PARA VEICULOS LEVES, PNEU PARA RODA 14", 185/70, Pneus novos, certificados pelo INMETRO. Não recondicionados, não remoldados, não remanufaturados e não recapados - medidas 185/70 R-14. | E6: Peça | F6: KH 17 KUMHO 88H | G6: 339030.39 | H6: 187.2 | J6: =I6-(SUM(L6:W6)) -> 0 | K6: =IF(J6<0,"ATENÇÃO","OK") -> OK | L6: 0 | M6: 0 | N6: 0 | O6: 0 | P6: 0 | Q6: 0 | R6: 0 | S6: 0 | T6: 0 | U6: 0 | V6: 0 | W6: 0
C7: 4 | D7: PNEUS PARA VEICULOS LEVES, PNEU PARA RODA 14", 185/70, Pneus novos, certificados pelo INMETRO. Não recondicionados, não remoldados, não remanufaturados e não recapados - medidas 185/70 R-14C (pneus para KOMBI). | E7: Peça | F7: AL01 AELOUS 102/100R | G7: 339030.39 | H7: 258 | J7: =I7-(SUM(L7:W7)) -> 0 | K7: =IF(J7<0,"ATENÇÃO","OK") -> OK | L7: 0 | M7: 0 | N7: 0 | O7: 0 | P7: 0 | Q7: 0 | R7: 0 | S7: 0 | T7: 0 | U7: 0 | V7: 0 | W7: 0
C8: 5 | D8: PNEUS PARA VEICULOS LEVES, PNEU PARA RODA 15",185/65, Pneus novos, certificados pelo INMETRO. Não recondicionados, não remoldados, não remanufaturados e não recapados - medidas 185/65 R-15. | E8: Peça | F8: AH01 AEOLUS 88H | G8: 339030.39 | H8: 199 | I8: 20 | J8: =I8-(SUM(L8:W8)) -> 4 | K8: =IF(J8<0,"ATENÇÃO","OK") -> OK | L8: 0 | M8: 16 | N8: 0 | O8: 0 | P8: 0 | Q8: 0 | R8: 0 | S8: 0 | T8: 0 | U8: 0 | V8: 0 | W8: 0
C9: 6 | D9: PNEUS PARA VEICULOS LEVES, PNEU PARA RODA 15", 195/60, Pneus novos, certificados pelo INMETRO. Não recondicionados, não remoldados, não remanufaturados e não recapados - medidas 195/60 R-15. | E9: Peça | F9: AH01 AEOLUS 88H | G9: 339030.39 | H9: 211 | I9: 6 | J9: =I9-(SUM(L9:W9)) -> 2 | K9: =IF(J9<0,"ATENÇÃO","OK") -> OK | L9: 4 | M9: 0 | N9: 0 | O9: 0 | P9: 0 | Q9: 0 | R9: 0 | S9: 0 | T9: 0 | U9: 0 | V9: 0 | W9: 0
C10: 7 | D10: PNEUS PARA VEICULOS LEVES, PNEU PARA RODA 15", 195/65, Pneus novos, certificados pelo INMETRO; não recondicionados, não remoldados, não remanufaturados e não recapados - medida 195/65. R-15 | E10: Peça | F10: AH01 AEOLUS 91H | G10: 339030.39 | H10: 199 | I10: =10+5 -> 15 | J10: =I10-(SUM(L10:W10)) -> 1 | K10: =IF(J10<0,"ATENÇÃO","OK") -> OK | L10: 10 | M10: 0 | N10: 4 | O10: 0 | P10: 0 | Q10: 0 | R10: 0 | S10: 0 | T10: 0 | U10: 0 | V10: 0 | W10: 0
C11: 8 | D11: PNEUS PARA VEICULOS LEVES, PNEU PARA RODA 15", 225/70, Pneus novos, certificados pelo INMETRO. Não recondicionados, não remoldados, não remanufaturados e não recapados - medidas 225/70 R-15. | E11: Peça | F11: KR21 MARSHAL 100T | G11: 339030.39 | H11: 351 | J11: =I11-(SUM(L11:W11)) -> 0 | K11: =IF(J11<0,"ATENÇÃO","OK") -> OK | L11: 0 | M11: 0 | N11: 0 | O11: 0 | P11: 0 | Q11: 0 | R11: 0 | S11: 0 | T11: 0 | U11: 0 | V11: 0 | W11: 0
C12: 9 | D12: PNEUS PARA VEICULOS LEVES, PNEU PARA RODA 15", 235/75, Pneus novos, certificados pelo INMETRO. Não recondicionados, não remoldados, não remanufaturados e não recapados - medidas 235/75 R-15. | E12: Peça | F12: AS02 AELOUS 105T | G12: 339030.39 | H12: 328 | I12: 4 | J12: =I12-(SUM(L12:W12)) -> 4 | K12: =IF(J12<0,"ATENÇÃO","OK") -> OK | L12: 0 | M12: 0 | N12: 0 | O12: 0 | P12: 0 | Q12: 0 | R12: 0 | S12: 0 | T12: 0 | U12: 0 | V12: 0 | W12: 0
C13: 10 | D13: PNEUS PARA VEICULOS LEVES, PNEU PARA RODA 16", 205/55, Pneus novos, certificados pelo INMETRO. Não recondicionados, não remoldados, não remanufaturados e não recapados - medidas 205/55 R-16. | E13: Peça | F13: KH 25 KUMHO 91H | G13: 339030.39 | H13: 270 | I13: 4 | J13: =I13-(SUM(L13:W13)) -> 0 | K13: =IF(J13<0,"ATENÇÃO","OK") -> OK | L13: 4 | M13: 0 | N13: 0 | O13: 0 | P13: 0 | Q13: 0 | R13: 0 | S13: 0 | T13: 0 | U13: 0 | V13: 0 | W13: 0
C14: 11 | D14: PNEUS PARA VEICULOS LEVES, PNEU PARA RODA 16", 205/75, Pneus novos, certificados pelo INMETRO. Não recondicionados, não remoldados, não remanufaturados e não recapados - medidas 205/75 R-16. | E14: Peça | F14: 857 MARSHAL 110/108R 8PR | G14: 339030.39 | H14: 410 | J14: =I14-(SUM(L14:W14)) -> 0 | K14: =IF(J14<0,"ATENÇÃO","OK") -> OK | L14: 0 | M14: 0 | N14: 0 | O14: 0 | P14: 0 | Q14: 0 | R14: 0 | S14: 0 | T14: 0 | U14: 0 | V14: 0 | W14: 0
C15: 12 | D15: PNEUS PARA VEICULOS LEVES, PNEU PARA RODA 16", 215/70, Pneus novos, certificados pelo INMETRO. Não recondicionados, não remoldados, não remanufaturados e não recapados - medidas 215/70 R-16. | E15: Peça | F15: KL21 KUMHO 100H | G15: 339030.39 | H15: 375 | I15: 10 | J15: =I15-(SUM(L15:W15)) -> 10 | K15: =IF(J15<0,"ATENÇÃO","OK") -> OK | L15: 0 | M15: 0 | N15: 0 | O15: 0 | P15: 0 | Q15: 0 | R15: 0 | S15: 0 | T15: 0 | U15: 0 | V15: 0 | W15: 0
C16: 13 | D16: PNEUS PARA VEICULOS LEVES, PNEU PARA RODA 16", 235/70, "PNEUS PARA VEICULOS LEVES, PNEU PARA RODA 16", 235/70, Pneus novos, certificados pelo INMETRO. Não recondicionados, não remoldados, não remanufaturados e não recapados - medidas 235/70 R-16." | E16: Peça | F16: AS02 AELOUS 106S | G16: 339030.39 | H16: 328 | J16: =I16-(SUM(L16:W16)) -> 0 | K16: =IF(J16<0,"ATENÇÃO","OK") -> OK | L16: 0 | M16: 0 | N16: 0 | O16: 0 | P16: 0 | Q16: 0 | R16: 0 | S16: 0 | T16: 0 | U16: 0 | V16: 0 | W16: 0
C17: 14 | D17: PNEUS PARA VEICULOS LEVES, PNEU PARA RODA 16", 245/70, Pneus novos, certificados pelo INMETRO. Não recondicionados, não remoldados, não remanufaturados e não recapados - medidas 245/70 R-16 - 111s. | E17: Peça | F17: AS01 AELOUS 107T | G17: 339030.39 | H17: 335 | J17: =I17-(SUM(L17:W17)) -> 0 | K17: =IF(J17<0,"ATENÇÃO","OK") -> OK | L17: 0 | M17: 0 | N17: 0 | O17: 0 | P17: 0 | Q17: 0 | R17: 0 | S17: 0 | T17: 0 | U17: 0 | V17: 0 | W17: 0
C18: 15 | D18: PNEUS PARA VEICULOS LEVES, PNEU PARA RODA 16", 245/70, Pneus novos, certificados pelo INMETRO. Não recondicionados, não remoldados, não remanufaturados e não recapados - medidas 245/70 R-16. | E18: Peça | F18: AS01 AELOUS 107T | G18: 339030.39 | H18: 335 | J18: =I18-(SUM(L18:W18)) -> 0 | K18: =IF(J18<0,"ATENÇÃO","OK") -> OK | L18: 0 | M18: 0 | N18: 0 | O18: 0 | P18: 0 | Q18: 0 | R18: 0 | S18: 0 | T18: 0 | U18: 0 | V18: 0 | W18: 0
C19: 16 | D19: PNEUS PARA VEICULOS LEVES, PNEU PARA RODA 16", 255/70, Pneus novos, não recondicionados, não remoldados, não remanufaturados e não recapados, certificados pelo INMETRO - medidas – 255/70 - R16. | E19: Peça | F19: AS02 AEOLUS 111S | G19: 339030.39 | H19: 421 | J19: =I19-(SUM(L19:W19)) -> 0 | K19: =IF(J19<0,"ATENÇÃO","OK") -> OK | L19: 0 | M19: 0 | N19: 0 | O19: 0 | P19: 0 | Q19: 0 | R19: 0 | S19: 0 | T19: 0 | U19: 0 | V19: 0 | W19: 0
A20: Modelo Pneus Ltda | B20: 2 | C20: 17 | D20: PNEUS PARA VEICULOS PESADOS, PNEU PARA RODA 12", 5.00, 4 LONAS, Pneu de construção diagonal 5.00/6-12 G-10 - 4 lonas. Colocado com montagem. Pneus novos, certificados pelo INMETRO. Não recondicionados, não remoldados, não remanufaturados e não recapados. | E20: Peça | F20: Firestone T2 4 lonas | G20: 339030.39 | H20: 167 | J20: =I20-(SUM(L20:W20)) -> 0 | K20: =IF(J20<0,"ATENÇÃO","OK") -> OK | L20: 0 | M20: 0 | N20: 0 | O20: 0 | P20: 0 | Q20: 0 | R20: 0 | S20: 0 | T20: 0 | U20: 0 | V20: 0 | W20: 0
C21: 18 | D21: PNEUS PARA VEICULOS PESADOS, PNEU PARA RODA 14", 6.00, Pneu de construção diagonal 6.00x14 R1 - Capacidade de carga “C”. Colocado com montagem. Pneus novos, certificados pelo INMETRO. Não recondicionados, não remoldados, não remanufaturados e não recapados. | E21: Peça | F21: Rinaldi RGA 34 - 6 lonas | G21: 339030.39 | H21: 324 | J21: =I21-(SUM(L21:W21)) -> 0 | K21: =IF(J21<0,"ATENÇÃO","OK") -> OK | L21: 0 | M21: 0 | N21: 0 | O21: 0 | P21: 0 | Q21: 0 | R21: 0 | S21: 0 | T21: 0 | U21: 0 | V21: 0 | W21: 0
C22: 19 | D22: PNEUS PARA VEICULOS PESADOS, PNEU PARA RODA 16", 7.5, 8 LONAS, Pneu direcional 7.5x16 F2 Multi-raiado 8 lonas. Colocado com montagem. Pneus novos, certificados pelo INMETRO. Não recondicionados, não remoldados, não remanufaturados e não recapados. | E22: Peça | F22: Firestone G-Grip 8 lonas | G22: 339030.39 | H22: 510 | J22: =I22-(SUM(L22:W22)) -> 0 | K22: =IF(J22<0,"ATENÇÃO","OK") -> OK | L22: 0 | M22: 0 | N22: 0 | O22: 0 | P22: 0 | Q22: 0 | R22: 0 | S22: 0 | T22: 0 | U22: 0 | V22: 0 | W22: 0
C23: 20 | D23: PNEUS PARA VEICULOS PESADOS, PNEU PARA RODA 24", 12.4, 6 LONAS, Pneu de construção radial 12.4-24 R1 - 6 lonas. Colocado com montagem. Pneus novos, certificados pelo INMETRO. Não recondicionados, não remoldados, não remanufaturados e não recapados. | E23: Peça | F23: Firestone SAT - 23G | G23: 339030.39 | H23: 1001 | J23: =I23-(SUM(L23:W23)) -> 0 | K23: =IF(J23<0,"ATENÇÃO","OK") -> OK | L23: 0 | M23: 0 | N23: 0 | O23: 0 | P23: 0 | Q23: 0 | R23: 0 | S23: 0 | T23: 0 | U23: 0 | V23: 0 | W23: 0
C24: 21 | D24: PNEUS PARA VEICULOS PESADOS, PNEU PARA RODA 24", 9.5, 6 LONAS, Pneu de construção diagonal 9.5x24 R1 – 6 Lonas. Colocado com montagem. Pneus novos, certificados pelo INMETRO. Não recondicionados, não remoldados, não remanufaturados e não recapados. | E24: Peça | F24: Firestone SAT - 23G | G24: 339030.39 | H24: 883 | J24: =I24-(SUM(L24:W24)) -> 0 | K24: =IF(J24<0,"ATENÇÃO","OK") -> OK | L24: 0 | M24: 0 | N24: 0 | O24: 0 | P24: 0 | Q24: 0 | R24: 0 | S24: 0 | T24: 0 | U24: 0 | V24: 0 | W24: 0
C25: 22 | D25: PNEUS PARA VEICULOS PESADOS, PNEU PARA RODA 28", 14.9, 8 LONAS, Pneu de construção diagonal 14.9-28 R1 - 8 lonas. Colocado com montagem. Pneus novos, certificados pelo INMETRO. Não recondicionados, não remoldados, não remanufaturados e não recapados. | E25: Peça | F25: Firestone SAT - 23G 10 lonas | G25: 339030.39 | H25: 1507.5 | J25: =I25-(SUM(L25:W25)) -> 0 | K25: =IF(J25<0,"ATENÇÃO","OK") -> OK | L25: 0 | M25: 0 | N25: 0 | O25: 0 | P25: 0 | Q25: 0 | R25: 0 | S25: 0 | T25: 0 | U25: 0 | V25: 0 | W25: 0
C26: 23 | D26: PNEUS PARA VEÍCULOS PESADOS, PNEU PARA RODA 30", Pneu de construção radial 18.4-30 R1 - 10 lonas. Colocado com montagem. Pneus novos, certificados pelo INMETRO. Não recondicionados, não remoldados, não remanufaturados e não recapados. | E26: Peça | F26: Firestone SAT - 23G 10 lonas | G26: 339030.39 | H26: 2097.5 | J26: =I26-(SUM(L26:W26)) -> 0 | K26: =IF(J26<0,"ATENÇÃO","OK") -> OK | L26: 0 | M26: 0 | N26: 0 | O26: 0 | P26: 0 | Q26: 0 | R26: 0 | S26: 0 | T26: 0 | U26: 0 | V26: 0 | W26: 0
A27: Cantu Comércio de Pneumáticos Ltda | B27: 3 | C27: 24 | D27: PNEUS PARA VEICULOS PESADOS, PNEU PARA RODA 17,5", 215/75, Pneus novos, certificados pelo INMETRO. Não recondicionados, não remoldados, não remanufaturados e não recapados - medidas 215/75 R-17,5. | E27: Peça | F27: ASR35 AELOUS 16PR 127/124M | G27: 339030.39 | H27: 585 | J27: =I27-(SUM(L27:W27)) -> 0 | K27: =IF(J27<0,"ATENÇÃO","OK") -> OK | L27: 0 | M27: 0 | N27: 0 | O27: 0 | P27: 0 | Q27: 0 | R27: 0 | S27: 0 | T27: 0 | U27: 0 | V27: 0 | W27: 0
C28: 25 | D28: PNEUS PARA VEICULOS PESADOS, PNEU PARA RODA 22,5", 275/80, LISO, Pneus novos, certificados pelo INMETRO. Não recondicionados, não remoldados, não remanufaturados e não recapados - medidas 275/80 R-22,5. | E28: Peça | F28: D621 DRC 16PR 147/144L | G28: 339030.39 | H28: 1170 | J28: =I28-(SUM(L28:W28)) -> 0 | K28: =IF(J28<0,"ATENÇÃO","OK") -> OK | L28: 0 | M28: 0 | N28: 0 | O28: 0 | P28: 0 | Q28: 0 | R28: 0 | S28: 0 | T28: 0 | U28: 0 | V28: 0 | W28: 0
D30: *Prazos de Entrega e Pagamento conforme edital

Sheet CEAD
A1: PROCESSO: 0066/2015/UDESC | D1: OBJETO: AQUISIÇÃO DE PNEUS PARA A UDESC | I1: VIGÊNCIA DA ATA: 03/03/2015 até 02/03/2016 | L1: AF/OS nº 1580/2015 Qtde. DT | M1: AF/OS nº xxxx/2015 Qtde. DT | N1: AF/OS nº xxxx/2015 Qtde. DT | O1: AF/OS nº xxxx/2015 Qtde. DT | P1: AF/OS nº xxxx/2015 Qtde. DT | Q1: AF/OS nº xxxx/2015 Qtde. DT | R1: AF/OS nº xxxx/2015 Qtde. DT | S1: AF/OS nº xxxx/2015 Qtde. DT | T1: AF/OS nº xxxx/2015 Qtde. DT | U1: AF/OS nº xxxx/2015 Qtde. DT | V1: AF/OS nº xxxx/2015 Qtde. DT | W1: AF/OS nº xxxx/2015 Qtde. DT
A2: CENTRO PARTICIPANTE: CEAD
A3: FORNECEDOR | B3: LOTE | C3: ITEM | D3: PRODUTO - CARACTERÍSTICAS MÍNIMAS | E3: UNIDADE | F3: MARCA | G3: ELEMENTO | H3: Preço UNITÁRIO (R$) | I3: Qtde Registrada | J3: Saldo / Automático | K3: ALERTA | L3: 42249 | M3: ...../...../...... | N3: ...../...../...... | O3: ...../...../...... | P3: ...../...../...... | Q3: ...../...../...... | R3: ...../...../...... | S3: ...../...../...... | T3: ...../...../...... | U3: ...../...../...... | V3: ...../...../...... | W3: ...../...../......
A4: Cantu Comércio de Pneumáticos Ltda | B4: 1 | C4: 1 | D4: PNEUS PARA VEICULOS LEVES, PNEU PARA RODA 14", 185/60, Pneus novos, certificados pelo INMETRO. Não recondicionados, não remoldados, não remanufaturados e não recapados - medidas 185/60 R-14. | E4: Peça | F4: KH 17 KUMHO 82 T | G4: 339030.39 | H4: 193 | I4: =1+5 -> 6 | J4: =I4-(SUM(L4:W4)) -> 6 | K4: =IF(J4<0,"ATENÇÃO","OK") -> OK | L4: 0 | M4: 0 | N4: 0 | O4: 0 | P4: 0 | Q4: 0 | R4: 0 | S4: 0 | T4: 0 | U4: 0 | V4: 0 | W4: 0
C5: 2 | D5: PNEUS PARA VEICULOS LEVES, PNEU PARA RODA 14", 185/65, Pneus novos, certificados pelo INMETRO. Não recondicionados, não remoldados, não remanufaturados e não recapados - medidas 185/65 R-14. | E5: Peça | F5: GENERAL EVERTREK RT CONTINENTAL 86T | G5: 339030.39 | H5: 222 | I5: 6 | J5: =I5-(SUM(L5:W5)) -> 0 | K5: =IF(J5<0,"ATENÇÃO","OK") -> OK | L5: 6 | M5: 0 | N5: 0 | O5: 0 | P5: 0 | Q5: 0 | R5: 0 | S5: 0 | T5: 0 | U5: 0 | V5: 0 | W5: 0
C6: 3 | D6: PNEUS PARA VEICULOS LEVES, PNEU PARA RODA 14", 185/70, Pneus novos, certificados pelo INMETRO. Não recondicionados, não remoldados, não remanufaturados e não recapados - medidas 185/70 R-14. | E6: Peça | F6: KH 17 KUMHO 88H | G6: 339030.39 | H6: 187.2 | J6: =I6-(SUM(L6:W6)) -> 0 | K6: =IF(J6<0,"ATENÇÃO","OK") -> OK | L6: 0 | M6: 0 | N6: 0 | O6: 0 | P6: 0 | Q6: 0 | R6: 0 | S6: 0 | T6: 0 | U6: 0 | V6: 0 | W6: 0
C7: 4 | D7: PNEUS PARA VEICULOS LEVES, PNEU PARA RODA 14", 185/70, Pneus novos, certificados pelo INMETRO. Não recondicionados, não remoldados, não remanufaturados e não recapados - medidas 185/70 R-14C (pneus para KOMBI). | E7: Peça | F7: AL01 AELOUS 102/100R | G7: 339030.39 | H7: 258 | J7: =I7-(SUM(L7:W7)) -> 0 | K7: =IF(J7<0,"ATENÇÃO","OK") -> OK | L7: 0 | M7: 0 | N7: 0 | O7: 0 | P7: 0 | Q7: 0 | R7: 0 | S7: 0 | T7: 0 | U7: 0 | V7: 0 | W7: 0
C8: 5 | D8: PNEUS PARA VEICULOS LEVES, PNEU PARA RODA 15",185/65, Pneus novos, certificados pelo INMETRO. Não recondicionados, não remoldados, não remanufaturados e não recapados - medidas 185/65 R-15. | E8: Peça | F8: AH01 AEOLUS 88H | G8: 339030.39 | H8: 199 | I8: =1+7 -> 8 | J8: =I8-(SUM(L8:W8)) -> 0 | K8: =IF(J8<0,"ATENÇÃO","OK") -> OK | L8: 8 | M8: 0 | N8: 0 | O8: 0 | P8: 0 | Q8: 0 | R8: 0 | S8: 0 | T8: 0 | U8: 0 | V8: 0 | W8: 0
C9: 6 | D9: PNEUS PARA VEICULOS LEVES, PNEU PARA RODA 15", 195/60, Pneus novos, certificados pelo INMETRO. Não recondicionados, não remoldados, não remanufaturados e não recapados - medidas 195/60 R-15. | E9: Peça | F9: AH01 AEOLUS 88H | G9: 339030.39 | H9: 211 | J9: =I9-(SUM(L9:W9)) -> 0 | K9: =IF(J9<0,"ATENÇÃO","OK") -> OK | L9: 0 | M9: 0 | N9: 0 | O9: 0 | P9: 0 | Q9: 0 | R9: 0 | S9: 0 | T9: 0 | U9: 0 | V9: 0 | W9: 0
C10: 7 | D10: PNEUS PARA VEICULOS LEVES, PNEU PARA RODA 15", 195/65, Pneus novos, certificados pelo INMETRO; não recondicionados, não remoldados, não remanufaturados e não recapados - medida 195/65. R-15 | E10: Peça | F10: AH01 AEOLUS 91H | G10: 339030.39 | H10: 199 | J10: =I10-(SUM(L10:W10)) -> 0 | K10: =IF(J10<0,"ATENÇÃO","OK") -> OK | L10: 0 | M10: 0 | N10: 0 | O10: 0 | P10: 0 | Q10: 0 | R10: 0 | S10: 0 | T10: 0 | U10: 0 | V10: 0 | W10: 0
C11: 8 | D11: PNEUS PARA VEICULOS LEVES, PNEU PARA RODA 15", 225/70, Pneus novos, certificados pelo INMETRO. Não recondicionados, não remoldados, não remanufaturados e não recapados - medidas 225/70 R-15. | E11: Peça | F11: KR21 MARSHAL 100T | G11: 339030.39 | H11: 351 | I11: 6 | J11: =I11-(SUM(L11:W11)) -> 0 | K11: =IF(J11<0,"ATENÇÃO","OK") -> OK | L11: 6 | M11: 0 | N11: 0 | O11: 0 | P11: 0 | Q11: 0 | R11: 0 | S11: 0 | T11: 0 | U11: 0 | V11: 0 | W11: 0
C12: 9 | D12: PNEUS PARA VEICULOS LEVES, PNEU PARA RODA 15", 235/75, Pneus novos, certificados pelo INMETRO. Não recondicionados, não remoldados, não remanufaturados e não recapados - medidas 235/75 R-15. | E12: Peça | F12: AS02 AELOUS 105T | G12: 339030.39 | H12: 328 | J12: =I12-(SUM(L12:W12)) -> 0 | K12: =IF(J12<0,"ATENÇÃO","OK") -> OK | L12: 0 | M12: 0 | N12: 0 | O12: 0 | P12: 0 | Q12: 0 | R12: 0 | S12: 0 | T12: 0 | U12: 0 | V12: 0 | W12: 0
C13: 10 | D13: PNEUS PARA VEICULOS LEVES, PNEU PARA RODA 16", 205/55, Pneus novos, certificados pelo INMETRO. Não recondicionados, não remoldados, não remanufaturados e não recapados - medidas 205/55 R-16. | E13: Peça | F13: KH 25 KUMHO 91H | G13: 339030.39 | H13: 270 | J13: =I13-(SUM(L13:W13)) -> 0 | K13: =IF(J13<0,"ATENÇÃO","OK") -> OK | L13: 0 | M13: 0 | N13: 0 | O13: 0 | P13: 0 | Q13: 0 | R13: 0 | S13: 0 | T13: 0 | U13: 0 | V13: 0 | W13: 0
C14: 11 | D14: PNEUS PARA VEICULOS LEVES, PNEU PARA RODA 16", 205/75, Pneus novos, certificados pelo INMETRO. Não recondicionados, não remoldados, não remanufaturados e não recapados - medidas 205/75 R-16. | E14: Peça | F14: 857 MARSHAL 110/108R 8PR | G14: 339030.39 | H14: 410 | J14: =I14-(SUM(L14:W14)) -> 0 | K14: =IF(J14<0,"ATENÇÃO","OK") -> OK | L14: 0 | M14: 0 | N14: 0 | O14: 0 | P14: 0 | Q14: 0 | R14: 0 | S14: 0 | T14: 0 | U14: 0 | V14: 0 | W14: 0
C15: 12 | D15: PNEUS PARA VEICULOS LEVES, PNEU PARA RODA 16", 215/70, Pneus novos, certificados pelo INMETRO. Não recondicionados, não remoldados, não remanufaturados e não recapados - medidas 215/70 R-16. | E15: Peça | F15: KL21 KUMHO 100H | G15: 339030.39 | H15: 375 | J15: =I15-(SUM(L15:W15)) -> 0 | K15: =IF(J15<0,"ATENÇÃO","OK") -> OK | L15: 0 | M15: 0 | N15: 0 | O15: 0 | P15: 0 | Q15: 0 | R15: 0 | S15: 0 | T15: 0 | U15: 0 | V15: 0 | W15: 0
C16: 13 | D16: PNEUS PARA VEICULOS LEVES, PNEU PARA RODA 16", 235/70, "PNEUS PARA VEICULOS LEVES, PNEU PARA RODA 16", 235/70, Pneus novos, certificados pelo INMETRO. Não recondicionados, não remoldados, não remanufaturados e não recapados - medidas 235/70 R-16." | E16: Peça | F16: AS02 AELOUS 106S | G16: 339030.39 | H16: 328 | J16: =I16-(SUM(L16:W16)) -> 0 | K16: =IF(J16<0,"ATENÇÃO","OK") -> OK | L16: 0 | M16: 0 | N16: 0 | O16: 0 | P16: 0 | Q16: 0 | R16: 0 | S16: 0 | T16: 0 | U16: 0 | V16: 0 | W16: 0
C17: 14 | D17: PNEUS PARA VEICULOS LEVES, PNEU PARA RODA 16", 245/70, Pneus novos, certificados pelo INMETRO. Não recondicionados, não remoldados, não remanufaturados e não recapados - medidas 245/70 R-16 - 111s. | E17: Peça | F17: AS01 AELOUS 107T | G17: 339030.39 | H17: 335 | J17: =I17-(SUM(L17:W17)) -> 0 | K17: =IF(J17<0,"ATENÇÃO","OK") -> OK | L17: 0 | M17: 0 | N17: 0 | O17: 0 | P17: 0 | Q17: 0 | R17: 0 | S17: 0 | T17: 0 | U17: 0 | V17: 0 | W17: 0
C18: 15 | D18: PNEUS PARA VEICULOS LEVES, PNEU PARA RODA 16", 245/70, Pneus novos, certificados pelo INMETRO. Não recondicionados, não remoldados, não remanufaturados e não recapados - medidas 245/70 R-16. | E18: Peça | F18: AS01 AELOUS 107T | G18: 339030.39 | H18: 335 | J18: =I18-(SUM(L18:W18)) -> 0 | K18: =IF(J18<0,"ATENÇÃO","OK") -> OK | L18: 0 | M18: 0 | N18: 0 | O18: 0 | P18: 0 | Q18: 0 | R18: 0 | S18: 0 | T18: 0 | U18: 0 | V18: 0 | W18: 0
C19: 16 | D19: PNEUS PARA VEICULOS LEVES, PNEU PARA RODA 16", 255/70, Pneus novos, não recondicionados, não remoldados, não remanufaturados e não recapados, certificados pelo INMETRO - medidas – 255/70 - R16. | E19: Peça | F19: AS02 AEOLUS 111S | G19: 339030.39 | H19: 421 | J19: =I19-(SUM(L19:W19)) -> 0 | K19: =IF(J19<0,"ATENÇÃO","OK") -> OK | L19: 0 | M19: 0 | N19: 0 | O19: 0 | P19: 0 | Q19: 0 | R19: 0 | S19: 0 | T19: 0 | U19: 0 | V19: 0 | W19: 0
A20: Modelo Pneus Ltda | B20: 2 | C20: 17 | D20: PNEUS PARA VEICULOS PESADOS, PNEU PARA RODA 12", 5.00, 4 LONAS, Pneu de construção diagonal 5.00/6-12 G-10 - 4 lonas. Colocado com montagem. Pneus novos, certificados pelo INMETRO. Não recondicionados, não remoldados, não remanufaturados e não recapados. | E20: Peça | F20: Firestone T2 4 lonas | G20: 339030.39 | H20: 167 | J20: =I20-(SUM(L20:W20)) -> 0 | K20: =IF(J20<0,"ATENÇÃO","OK") -> OK | L20: 0 | M20: 0 | N20: 0 | O20: 0 | P20: 0 | Q20: 0 | R20: 0 | S20: 0 | T20: 0 | U20: 0 | V20: 0 | W20: 0
C21: 18 | D21: PNEUS PARA VEICULOS PESADOS, PNEU PARA RODA 14", 6.00, Pneu de construção diagonal 6.00x14 R1 - Capacidade de carga “C”. Colocado com montagem. Pneus novos, certificados pelo INMETRO. Não recondicionados, não remoldados, não remanufaturados e não recapados. | E21: Peça | F21: Rinaldi RGA 34 - 6 lonas | G21: 339030.39 | H21: 324 | J21: =I21-(SUM(L21:W21)) -> 0 | K21: =IF(J21<0,"ATENÇÃO","OK") -> OK | L21: 0 | M21: 0 | N21: 0 | O21: 0 | P21: 0 | Q21: 0 | R21: 0 | S21: 0 | T21: 0 | U21: 0 | V21: 0 | W21: 0
C22: 19 | D22: PNEUS PARA VEICULOS PESADOS, PNEU PARA RODA 16", 7.5, 8 LONAS, Pneu direcional 7.5x16 F2 Multi-raiado 8 lonas. Colocado com montagem. Pneus novos, certificados pelo INMETRO. Não recondicionados, não remoldados, não remanufaturados e não recapados. | E22: Peça | F22: Firestone G-Grip 8 lonas | G22: 339030.39 | H22: 510 | J22: =I22-(SUM(L22:W22)) -> 0 | K22: =IF(J22<0,"ATENÇÃO","OK") -> OK | L22: 0 | M22: 0 | N22: 0 | O22: 0 | P22: 0 | Q22: 0 | R22: 0 | S22: 0 | T22: 0 | U22: 0 | V22: 0 | W22: 0
C23: 20 | D23: PNEUS PARA VEICULOS PESADOS, PNEU PARA RODA 24", 12.4, 6 LONAS, Pneu de construção radial 12.4-24 R1 - 6 lonas. Colocado com montagem. Pneus novos, certificados pelo INMETRO. Não recondicionados, não remoldados, não remanufaturados e não recapados. | E23: Peça | F23: Firestone SAT - 23G | G23: 339030.39 | H23: 1001 | J23: =I23-(SUM(L23:W23)) -> 0 | K23: =IF(J23<0,"ATENÇÃO","OK") -> OK | L23: 0 | M23: 0 | N23: 0 | O23: 0 | P23: 0 | Q23: 0 | R23: 0 | S23: 0 | T23: 0 | U23: 0 | V23: 0 | W23: 0
C24: 21 | D24: PNEUS PARA VEICULOS PESADOS, PNEU PARA RODA 24", 9.5, 6 LONAS, Pneu de construção diagonal 9.5x24 R1 – 6 Lonas. Colocado com montagem. Pneus novos, certificados pelo INMETRO. Não recondicionados, não remoldados, não remanufaturados e não recapados. | E24: Peça | F24: Firestone SAT - 23G | G24: 339030.39 | H24: 883 | J24: =I24-(SUM(L24:W24)) -> 0 | K24: =IF(J24<0,"ATENÇÃO","OK") -> OK | L24: 0 | M24: 0 | N24: 0 | O24: 0 | P24: 0 | Q24: 0 | R24: 0 | S24: 0 | T24: 0 | U24: 0 | V24: 0 | W24: 0
C25: 22 | D25: PNEUS PARA VEICULOS PESADOS, PNEU PARA RODA 28", 14.9, 8 LONAS, Pneu de construção diagonal 14.9-28 R1 - 8 lonas. Colocado com montagem. Pneus novos, certificados pelo INMETRO. Não recondicionados, não remoldados, não remanufaturados e não recapados. | E25: Peça | F25: Firestone SAT - 23G 10 lonas | G25: 339030.39 | H25: 1507.5 | J25: =I25-(SUM(L25:W25)) -> 0 | K25: =IF(J25<0,"ATENÇÃO","OK") -> OK | L25: 0 | M25: 0 | N25: 0 | O25: 0 | P25: 0 | Q25: 0 | R25: 0 | S25: 0 | T25: 0 | U25: 0 | V25: 0 | W25: 0
C26: 23 | D26: PNEUS PARA VEÍCULOS PESADOS, PNEU PARA RODA 30", Pneu de construção radial 18.4-30 R1 - 10 lonas. Colocado com montagem. Pneus novos, certificados pelo INMETRO. Não recondicionados, não remoldados, não remanufaturados e não recapados. | E26: Peça | F26: Firestone SAT - 23G 10 lonas | G26: 339030.39 | H26: 2097.5 | J26: =I26-(SUM(L26:W26)) -> 0 | K26: =IF(J26<0,"ATENÇÃO","OK") -> OK | L26: 0 | M26: 0 | N26: 0 | O26: 0 | P26: 0 | Q26: 0 | R26: 0 | S26: 0 | T26: 0 | U26: 0 | V26: 0 | W26: 0
A27: Cantu Comércio de Pneumáticos Ltda | B27: 3 | C27: 24 | D27: PNEUS PARA VEICULOS PESADOS, PNEU PARA RODA 17,5", 215/75, Pneus novos, certificados pelo INMETRO. Não recondicionados, não remoldados, não remanufaturados e não recapados - medidas 215/75 R-17,5. | E27: Peça | F27: ASR35 AELOUS 16PR 127/124M | G27: 339030.39 | H27: 585 | J27: =I27-(SUM(L27:W27)) -> 0 | K27: =IF(J27<0,"ATENÇÃO","OK") -> OK | L27: 0 | M27: 0 | N27: 0 | O27: 0 | P27: 0 | Q27: 0 | R27: 0 | S27: 0 | T27: 0 | U27: 0 | V27: 0 | W27: 0
C28: 25 | D28: PNEUS PARA VEICULOS PESADOS, PNEU PARA RODA 22,5", 275/80, LISO, Pneus novos, certificados pelo INMETRO. Não recondicionados, não remoldados, não remanufaturados e não recapados - medidas 275/80 R-22,5. | E28: Peça | F28: D621 DRC 16PR 147/144L | G28: 339030.39 | H28: 1170 | J28: =I28-(SUM(L28:W28)) -> 0 | K28: =IF(J28<0,"ATENÇÃO","OK") -> OK | L28: 0 | M28: 0 | N28: 0 | O28: 0 | P28: 0 | Q28: 0 | R28: 0 | S28: 0 | T28: 0 | U28: 0 | V28: 0 | W28: 0
D30: *Prazos de Entrega e Pagamento conforme edital

Sheet ESAG
A1: PROCESSO: 0066/2015/UDESC | D1: OBJETO: AQUISIÇÃO DE PNEUS PARA A UDESC | I1: VIGÊNCIA DA ATA: 03/03/2015 até 02/03/2016 | L1: AF/OS nº 1175/2015 Qtde. DT | M1: AF/OS nº xxxx/2015 Qtde. DT | N1: AF/OS nº xxxx/2015 Qtde. DT | O1: AF/OS nº xxxx/2015 Qtde. DT | P1: AF/OS nº xxxx/2015 Qtde. DT | Q1: AF/OS nº xxxx/2015 Qtde. DT | R1: AF/OS nº xxxx/2015 Qtde. DT | S1: AF/OS nº xxxx/2015 Qtde. DT | T1: AF/OS nº xxxx/2015 Qtde. DT | U1: AF/OS nº xxxx/2015 Qtde. DT | V1: AF/OS nº xxxx/2015 Qtde. DT | W1: AF/OS nº xxxx/2015 Qtde. DT
A2: CENTRO PARTICIPANTE: ESAG
A3: FORNECEDOR | B3: LOTE | C3: ITEM | D3: PRODUTO - CARACTERÍSTICAS MÍNIMAS | E3: UNIDADE | F3: MARCA | G3: ELEMENTO | H3: Preço UNITÁRIO (R$) | I3: Qtde Registrada | J3: Saldo / Automático | K3: ALERTA | L3: ...../...../...... | M3: ...../...../...... | N3: ...../...../...... | O3: ...../...../...... | P3: ...../...../...... | Q3: ...../...../...... | R3: ...../...../...... | S3: ...../...../...... | T3: ...../...../...... | U3: ...../...../...... | V3: ...../...../...... | W3: ...../...../......
A4: Cantu Comércio de Pneumáticos Ltda | B4: 1 | C4: 1 | D4: PNEUS PARA VEICULOS LEVES, PNEU PARA RODA 14", 185/60, Pneus novos, certificados pelo INMETRO. Não recondicionados, não remoldados, não remanufaturados e não recapados - medidas 185/60 R-14. | E4: Peça | F4: KH 17 KUMHO 82 T | G4: 339030.39 | H4: 193 | J4: =I4-(SUM(L4:W4)) -> 0 | K4: =IF(J4<0,"ATENÇÃO","OK") -> OK | M4: 0 | N4: 0 | O4: 0 | P4: 0 | Q4: 0 | R4: 0 | S4: 0 | T4: 0 | U4: 0 | V4: 0 | W4: 0
C5: 2 | D5: PNEUS PARA VEICULOS LEVES, PNEU PARA RODA 14", 185/65, Pneus novos, certificados pelo INMETRO. Não recondicionados, não remoldados, não remanufaturados e não recapados - medidas 185/65 R-14. | E5: Peça | F5: GENERAL EVERTREK RT CONTINENTAL 86T | G5: 339030.39 | H5: 222 | J5: =I5-(SUM(L5:W5)) -> 0 | K5: =IF(J5<0,"ATENÇÃO","OK") -> OK | M5: 0 | N5: 0 | O5: 0 | P5: 0 | Q5: 0 | R5: 0 | S5: 0 | T5: 0 | U5: 0 | V5: 0 | W5: 0
C6: 3 | D6: PNEUS PARA VEICULOS LEVES, PNEU PARA RODA 14", 185/70, Pneus novos, certificados pelo INMETRO. Não recondicionados, não remoldados, não remanufaturados e não recapados - medidas 185/70 R-14. | E6: Peça | F6: KH 17 KUMHO 88H | G6: 339030.39 | H6: 187.2 | J6: =I6-(SUM(L6:W6)) -> 0 | K6: =IF(J6<0,"ATENÇÃO","OK") -> OK | M6: 0 | N6: 0 | O6: 0 | P6: 0 | Q6: 0 | R6: 0 | S6: 0 | T6: 0 | U6: 0 | V6: 0 | W6: 0
C7: 4 | D7: PNEUS PARA VEICULOS LEVES, PNEU PARA RODA 14", 185/70, Pneus novos, certificados pelo INMETRO. Não recondicionados, não remoldados, não remanufaturados e não recapados - medidas 185/70 R-14C (pneus para KOMBI). | E7: Peça | F7: AL01 AELOUS 102/100R | G7: 339030.39 | H7: 258 | J7: =I7-(SUM(L7:W7)) -> 0 | K7: =IF(J7<0,"ATENÇÃO","OK") -> OK | M7: 0 | N7: 0 | O7: 0 | P7: 0 | Q7: 0 | R7: 0 | S7: 0 | T7: 0 | U7: 0 | V7: 0 | W7: 0
C8: 5 | D8: PNEUS PARA VEICULOS LEVES, PNEU PARA RODA 15",185/65, Pneus novos, certificados pelo INMETRO. Não recondicionados, não remoldados, não remanufaturados e não recapados - medidas 185/65 R-15. | E8: Peça | F8: AH01 AEOLUS 88H | G8: 339030.39 | H8: 199 | I8: 4 | J8: =I8-(SUM(L8:W8)) -> 0 | K8: =IF(J8<0,"ATENÇÃO","OK") -> OK | L8: 4 | M8: 0 | N8: 0 | O8: 0 | P8: 0 | Q8: 0 | R8: 0 | S8: 0 | T8: 0 | U8: 0 | V8: 0 | W8: 0
C9: 6 | D9: PNEUS PARA VEICULOS LEVES, PNEU PARA RODA 15", 195/60, Pneus novos, certificados pelo INMETRO. Não recondicionados, não remoldados, não remanufaturados e não recapados - medidas 195/60 R-15. | E9: Peça | F9: AH01 AEOLUS 88H | G9: 339030.39 | H9: 211 | I9: 2 | J9: =I9-(SUM(L9:W9)) -> 0 | K9: =IF(J9<0,"ATENÇÃO","OK") -> OK | L9: 2 | M9: 0 | N9: 0 | O9: 0 | P9: 0 | Q9: 0 | R9: 0 | S9: 0 | T9: 0 | U9: 0 | V9: 0 | W9: 0
C10: 7 | D10: PNEUS PARA VEICULOS LEVES, PNEU PARA RODA 15", 195/65, Pneus novos, certificados pelo INMETRO; não recondicionados, não remoldados, não remanufaturados e não recapados - medida 195/65. R-15 | E10: Peça | F10: AH01 AEOLUS 91H | G10: 339030.39 | H10: 199 | J10: =I10-(SUM(L10:W10)) -> 0 | K10: =IF(J10<0,"ATENÇÃO","OK") -> OK | L10: 0 | M10: 0 | N10: 0 | O10: 0 | P10: 0 | Q10: 0 | R10: 0 | S10: 0 | T10: 0 | U10: 0 | V10: 0 | W10: 0
C11: 8 | D11: PNEUS PARA VEICULOS LEVES, PNEU PARA RODA 15", 225/70, Pneus novos, certificados pelo INMETRO. Não recondicionados, não remoldados, não remanufaturados e não recapados - medidas 225/70 R-15. | E11: Peça | F11: KR21 MARSHAL 100T | G11: 339030.39 | H11: 351 | J11: =I11-(SUM(L11:W11)) -> 0 | K11: =IF(J11<0,"ATENÇÃO","OK") -> OK | L11: 0 | M11: 0 | N11: 0 | O11: 0 | P11: 0 | Q11: 0 | R11: 0 | S11: 0 | T11: 0 | U11: 0 | V11: 0 | W11: 0
C12: 9 | D12: PNEUS PARA VEICULOS LEVES, PNEU PARA RODA 15", 235/75, Pneus novos, certificados pelo INMETRO. Não recondicionados, não remoldados, não remanufaturados e não recapados - medidas 235/75 R-15. | E12: Peça | F12: AS02 AELOUS 105T | G12: 339030.39 | H12: 328 | J12: =I12-(SUM(L12:W12)) -> 0 | K12: =IF(J12<0,"ATENÇÃO","OK") -> OK | L12: 0 | M12: 0 | N12: 0 | O12: 0 | P12: 0 | Q12: 0 | R12: 0 | S12: 0 | T12: 0 | U12: 0 | V12: 0 | W12: 0
C13: 10 | D13: PNEUS PARA VEICULOS LEVES, PNEU PARA RODA 16", 205/55, Pneus novos, certificados pelo INMETRO. Não recondicionados, não remoldados, não remanufaturados e não recapados - medidas 205/55 R-16. | E13: Peça | F13: KH 25 KUMHO 91H | G13: 339030.39 | H13: 270 | J13: =I13-(SUM(L13:W13)) -> 0 | K13: =IF(J13<0,"ATENÇÃO","OK") -> OK | L13: 0 | M13: 0 | N13: 0 | O13: 0 | P13: 0 | Q13: 0 | R13: 0 | S13: 0 | T13: 0 | U13: 0 | V13: 0 | W13: 0
C14: 11 | D14: PNEUS PARA VEICULOS LEVES, PNEU PARA RODA 16", 205/75, Pneus novos, certificados pelo INMETRO. Não recondicionados, não remoldados, não remanufaturados e não recapados - medidas 205/75 R-16. | E14: Peça | F14: 857 MARSHAL 110/108R 8PR | G14: 339030.39 | H14: 410 | J14: =I14-(SUM(L14:W14)) -> 0 | K14: =IF(J14<0,"ATENÇÃO","OK") -> OK | L14: 0 | M14: 0 | N14: 0 | O14: 0 | P14: 0 | Q14: 0 | R14: 0 | S14: 0 | T14: 0 | U14: 0 | V14: 0 | W14: 0
C15: 12 | D15: PNEUS PARA VEICULOS LEVES, PNEU PARA RODA 16", 215/70, Pneus novos, certificados pelo INMETRO. Não recondicionados, não remoldados, não remanufaturados e não recapados - medidas 215/70 R-16. | E15: Peça | F15: KL21 KUMHO 100H | G15: 339030.39 | H15: 375 | J15: =I15-(SUM(L15:W15)) -> 0 | K15: =IF(J15<0,"ATENÇÃO","OK") -> OK | L15: 0 | M15: 0 | N15: 0 | O15: 0 | P15: 0 | Q15: 0 | R15: 0 | S15: 0 | T15: 0 | U15: 0 | V15: 0 | W15: 0
C16: 13 | D16: PNEUS PARA VEICULOS LEVES, PNEU PARA RODA 16", 235/70, "PNEUS PARA VEICULOS LEVES, PNEU PARA RODA 16", 235/70, Pneus novos, certificados pelo INMETRO. Não recondicionados, não remoldados, não remanufaturados e não recapados - medidas 235/70 R-16." | E16: Peça | F16: AS02 AELOUS 106S | G16: 339030.39 | H16: 328 | J16: =I16-(SUM(L16:W16)) -> 0 | K16: =IF(J16<0,"ATENÇÃO","OK") -> OK | L16: 0 | M16: 0 | N16: 0 | O16: 0 | P16: 0 | Q16: 0 | R16: 0 | S16: 0 | T16: 0 | U16: 0 | V16: 0 | W16: 0
C17: 14 | D17: PNEUS PARA VEICULOS LEVES, PNEU PARA RODA 16", 245/70, Pneus novos, certificados pelo INMETRO. Não recondicionados, não remoldados, não remanufaturados e não recapados - medidas 245/70 R-16 - 111s. | E17: Peça | F17: AS01 AELOUS 107T | G17: 339030.39 | H17: 335 | J17: =I17-(SUM(L17:W17)) -> 0 | K17: =IF(J17<0,"ATENÇÃO","OK") -> OK | L17: 0 | M17: 0 | N17: 0 | O17: 0 | P17: 0 | Q17: 0 | R17: 0 | S17: 0 | T17: 0 | U17: 0 | V17: 0 | W17: 0
C18: 15 | D18: PNEUS PARA VEICULOS LEVES, PNEU PARA RODA 16", 245/70, Pneus novos, certificados pelo INMETRO. Não recondicionados, não remoldados, não remanufaturados e não recapados - medidas 245/70 R-16. | E18: Peça | F18: AS01 AELOUS 107T | G18: 339030.39 | H18: 335 | J18: =I18-(SUM(L18:W18)) -> 0 | K18: =IF(J18<0,"ATENÇÃO","OK") -> OK | L18: 0 | M18: 0 | N18: 0 | O18: 0 | P18: 0 | Q18: 0 | R18: 0 | S18: 0 | T18: 0 | U18: 0 | V18: 0 | W18: 0
C19: 16 | D19: PNEUS PARA VEICULOS LEVES, PNEU PARA RODA 16", 255/70, Pneus novos, não recondicionados, não remoldados, não remanufaturados e não recapados, certificados pelo INMETRO - medidas – 255/70 - R16. | E19: Peça | F19: AS02 AEOLUS 111S | G19: 339030.39 | H19: 421 | J19: =I19-(SUM(L19:W19)) -> 0 | K19: =IF(J19<0,"ATENÇÃO","OK") -> OK | L19: 0 | M19: 0 | N19: 0 | O19: 0 | P19: 0 | Q19: 0 | R19: 0 | S19: 0 | T19: 0 | U19: 0 | V19: 0 | W19: 0
A20: Modelo Pneus Ltda | B20: 2 | C20: 17 | D20: PNEUS PARA VEICULOS PESADOS, PNEU PARA RODA 12", 5.00, 4 LONAS, Pneu de construção diagonal 5.00/6-12 G-10 - 4 lonas. Colocado com montagem. Pneus novos, certificados pelo INMETRO. Não recondicionados, não remoldados, não remanufaturados e não recapados. | E20: Peça | F20: Firestone T2 4 lonas | G20: 339030.39 | H20: 167 | J20: =I20-(SUM(L20:W20)) -> 0 | K20: =IF(J20<0,"ATENÇÃO","OK") -> OK | L20: 0 | M20: 0 | N20: 0 | O20: 0 | P20: 0 | Q20: 0 | R20: 0 | S20: 0 | T20: 0 | U20: 0 | V20: 0 | W20: 0
C21: 18 | D21: PNEUS PARA VEICULOS PESADOS, PNEU PARA RODA 14", 6.00, Pneu de construção diagonal 6.00x14 R1 - Capacidade de carga “C”. Colocado com montagem. Pneus novos, certificados pelo INMETRO. Não recondicionados, não remoldados, não remanufaturados e não recapados. | E21: Peça | F21: Rinaldi RGA 34 - 6 lonas | G21: 339030.39 | H21: 324 | J21: =I21-(SUM(L21:W21)) -> 0 | K21: =IF(J21<0,"ATENÇÃO","OK") -> OK | L21: 0 | M21: 0 | N21: 0 | O21: 0 | P21: 0 | Q21: 0 | R21: 0 | S21: 0 | T21: 0 | U21: 0 | V21: 0 | W21: 0
C22: 19 | D22: PNEUS PARA VEICULOS PESADOS, PNEU PARA RODA 16", 7.5, 8 LONAS, Pneu direcional 7.5x16 F2 Multi-raiado 8 lonas. Colocado com montagem. Pneus novos, certificados pelo INMETRO. Não recondicionados, não remoldados, não remanufaturados e não recapados. | E22: Peça | F22: Firestone G-Grip 8 lonas | G22: 339030.39 | H22: 510 | J22: =I22-(SUM(L22:W22)) -> 0 | K22: =IF(J22<0,"ATENÇÃO","OK") -> OK | L22: 0 | M22: 0 | N22: 0 | O22: 0 | P22: 0 | Q22: 0 | R22: 0 | S22: 0 | T22: 0 | U22: 0 | V22: 0 | W22: 0
C23: 20 | D23: PNEUS PARA VEICULOS PESADOS, PNEU PARA RODA 24", 12.4, 6 LONAS, Pneu de construção radial 12.4-24 R1 - 6 lonas. Colocado com montagem. Pneus novos, certificados pelo INMETRO. Não recondicionados, não remoldados, não remanufaturados e não recapados. | E23: Peça | F23: Firestone SAT - 23G | G23: 339030.39 | H23: 1001 | J23: =I23-(SUM(L23:W23)) -> 0 | K23: =IF(J23<0,"ATENÇÃO","OK") -> OK | L23: 0 | M23: 0 | N23: 0 | O23: 0 | P23: 0 | Q23: 0 | R23: 0 | S23: 0 | T23: 0 | U23: 0 | V23: 0 | W23: 0
C24: 21 | D24: PNEUS PARA VEICULOS PESADOS, PNEU PARA RODA 24", 9.5, 6 LONAS, Pneu de construção diagonal 9.5x24 R1 – 6 Lonas. Colocado com montagem. Pneus novos, certificados pelo INMETRO. Não recondicionados, não remoldados, não remanufaturados e não recapados. | E24: Peça | F24: Firestone SAT - 23G | G24: 339030.39 | H24: 883 | J24: =I24-(SUM(L24:W24)) -> 0 | K24: =IF(J24<0,"ATENÇÃO","OK") -> OK | L24: 0 | M24: 0 | N24: 0 | O24: 0 | P24: 0 | Q24: 0 | R24: 0 | S24: 0 | T24: 0 | U24: 0 | V24: 0 | W24: 0
C25: 22 | D25: PNEUS PARA VEICULOS PESADOS, PNEU PARA RODA 28", 14.9, 8 LONAS, Pneu de construção diagonal 14.9-28 R1 - 8 lonas. Colocado com montagem. Pneus novos, certificados pelo INMETRO. Não recondicionados, não remoldados, não remanufaturados e não recapados. | E25: Peça | F25: Firestone SAT - 23G 10 lonas | G25: 339030.39 | H25: 1507.5 | J25: =I25-(SUM(L25:W25)) -> 0 | K25: =IF(J25<0,"ATENÇÃO","OK") -> OK | L25: 0 | M25: 0 | N25: 0 | O25: 0 | P25: 0 | Q25: 0 | R25: 0 | S25: 0 | T25: 0 | U25: 0 | V25: 0 | W25: 0
C26: 23 | D26: PNEUS PARA VEÍCULOS PESADOS, PNEU PARA RODA 30", Pneu de construção radial 18.4-30 R1 - 10 lonas. Colocado com montagem. Pneus novos, certificados pelo INMETRO. Não recondicionados, não remoldados, não remanufaturados e não recapados. | E26: Peça | F26: Firestone SAT - 23G 10 lonas | G26: 339030.39 | H26: 2097.5 | J26: =I26-(SUM(L26:W26)) -> 0 | K26: =IF(J26<0,"ATENÇÃO","OK") -> OK | L26: 0 | M26: 0 | N26: 0 | O26: 0 | P26: 0 | Q26: 0 | R26: 0 | S26: 0 | T26: 0 | U26: 0 | V26: 0 | W26: 0
A27: Cantu Comércio de Pneumáticos Ltda | B27: 3 | C27: 24 | D27: PNEUS PARA VEICULOS PESADOS, PNEU PARA RODA 17,5", 215/75, Pneus novos, certificados pelo INMETRO. Não recondicionados, não remoldados, não remanufaturados e não recapados - medidas 215/75 R-17,5. | E27: Peça | F27: ASR35 AELOUS 16PR 127/124M | G27: 339030.39 | H27: 585 | J27: =I27-(SUM(L27:W27)) -> 0 | K27: =IF(J27<0,"ATENÇÃO","OK") -> OK | L27: 0 | M27: 0 | N27: 0 | O27: 0 | P27: 0 | Q27: 0 | R27: 0 | S27: 0 | T27: 0 | U27: 0 | V27: 0 | W27: 0
C28: 25 | D28: PNEUS PARA VEICULOS PESADOS, PNEU PARA RODA 22,5", 275/80, LISO, Pneus novos, certificados pelo INMETRO. Não recondicionados, não remoldados, não remanufaturados e não recapados - medidas 275/80 R-22,5. | E28: Peça | F28: D621 DRC 16PR 147/144L | G28: 339030.39 | H28: 1170 | J28: =I28-(SUM(L28:W28)) -> 0 | K28: =IF(J28<0,"ATENÇÃO","OK") -> OK | L28: 0 | M28: 0 | N28: 0 | O28: 0 | P28: 0 | Q28: 0 | R28: 0 | S28: 0 | T28: 0 | U28: 0 | V28: 0 | W28: 0
D30: *Prazos de Entrega e Pagamento conforme edital

Sheet CEART
A1: PROCESSO: 0066/2015/UDESC | D1: OBJETO: AQUISIÇÃO DE PNEUS PARA A UDESC | I1: VIGÊNCIA DA ATA: 03/03/2015 até 02/03/2016 | L1: AF/OS nº xxxx/2015 Qtde. DT | M1: AF/OS nº xxxx/2015 Qtde. DT | N1: AF/OS nº xxxx/2015 Qtde. DT | O1: AF/OS nº xxxx/2015 Qtde. DT | P1: AF/OS nº xxxx/2015 Qtde. DT | Q1: AF/OS nº xxxx/2015 Qtde. DT | R1: AF/OS nº xxxx/2015 Qtde. DT | S1: AF/OS nº xxxx/2015 Qtde. DT | T1: AF/OS nº xxxx/2015 Qtde. DT | U1: AF/OS nº xxxx/2015 Qtde. DT | V1: AF/OS nº xxxx/2015 Qtde. DT | W1: AF/OS nº xxxx/2015 Qtde. DT
A2: CENTRO PARTICIPANTE: CEART
A3: FORNECEDOR | B3: LOTE | C3: ITEM | D3: PRODUTO - CARACTERÍSTICAS MÍNIMAS | E3: UNIDADE | F3: MARCA | G3: ELEMENTO | H3: Preço UNITÁRIO (R$) | I3: Qtde Registrada | J3: Saldo / Automático | K3: ALERTA | L3: ...../...../...... | M3: ...../...../...... | N3: ...../...../...... | O3: ...../...../...... | P3: ...../...../...... | Q3: ...../...../...... | R3: ...../...../...... | S3: ...../...../...... | T3: ...../...../...... | U3: ...../...../...... | V3: ...../...../...... | W3: ...../...../......
A4: Cantu Comércio de Pneumáticos Ltda | B4: 1 | C4: 1 | D4: PNEUS PARA VEICULOS LEVES, PNEU PARA RODA 14", 185/60, Pneus novos, certificados pelo INMETRO. Não recondicionados, não remoldados, não remanufaturados e não recapados - medidas 185/60 R-14. | E4: Peça | F4: KH 17 KUMHO 82 T | G4: 339030.39 | H4: 193 | I4: 6 | J4: =I4-(SUM(L4:W4)) -> 6 | K4: =IF(J4<0,"ATENÇÃO","OK") -> OK | L4: 0 | M4: 0 | N4: 0 | O4: 0 | P4: 0 | Q4: 0 | R4: 0 | S4: 0 | T4: 0 | U4: 0 | V4: 0 | W4: 0
C5: 2 | D5: PNEUS PARA VEICULOS LEVES, PNEU PARA RODA 14", 185/65, Pneus novos, certificados pelo INMETRO. Não recondicionados, não remoldados, não remanufaturados e não recapados - medidas 185/65 R-14. | E5: Peça | F5: GENERAL EVERTREK RT CONTINENTAL 86T | G5: 339030.39 | H5: 222 | J5: =I5-(SUM(L5:W5)) -> 0 | K5: =IF(J5<0,"ATENÇÃO","OK") -> OK | L5: 0 | M5: 0 | N5: 0 | O5: 0 | P5: 0 | Q5: 0 | R5: 0 | S5: 0 | T5: 0 | U5: 0 | V5: 0 | W5: 0
C6: 3 | D6: PNEUS PARA VEICULOS LEVES, PNEU PARA RODA 14", 185/70, Pneus novos, certificados pelo INMETRO. Não recondicionados, não remoldados, não remanufaturados e não recapados - medidas 185/70 R-14. | E6: Peça | F6: KH 17 KUMHO 88H | G6: 339030.39 | H6: 187.2 | J6: =I6-(SUM(L6:W6)) -> 0 | K6: =IF(J6<0,"ATENÇÃO","OK") -> OK | L6: 0 | M6: 0 | N6: 0 | O6: 0 | P6: 0 | Q6: 0 | R6: 0 | S6: 0 | T6: 0 | U6: 0 | V6: 0 | W6: 0
C7: 4 | D7: PNEUS PARA VEICULOS LEVES, PNEU PARA RODA 14", 185/70, Pneus novos, certificados pelo INMETRO. Não recondicionados, não remoldados, não remanufaturados e não recapados - medidas 185/70 R-14C (pneus para KOMBI). | E7: Peça | F7: AL01 AELOUS 102/100R | G7: 339030.39 | H7: 258 | J7: =I7-(SUM(L7:W7)) -> 0 | K7: =IF(J7<0,"ATENÇÃO","OK") -> OK | L7: 0 | M7: 0 | N7: 0 | O7: 0 | P7: 0 | Q7: 0 | R7: 0 | S7: 0 | T7: 0 | U7: 0 | V7: 0 | W7: 0
C8: 5 | D8: PNEUS PARA VEICULOS LEVES, PNEU PARA RODA 15",185/65, Pneus novos, certificados pelo INMETRO. Não recondicionados, não remoldados, não remanufaturados e não recapados - medidas 185/65 R-15. | E8: Peça | F8: AH01 AEOLUS 88H | G8: 339030.39 | H8: 199 | I8: 4 | J8: =I8-(SUM(L8:W8)) -> 4 | K8: =IF(J8<0,"ATENÇÃO","OK") -> OK | L8: 0 | M8: 0 | N8: 0 | O8: 0 | P8: 0 | Q8: 0 | R8: 0 | S8: 0 | T8: 0 | U8: 0 | V8: 0 | W8: 0
C9: 6 | D9: PNEUS PARA VEICULOS LEVES, PNEU PARA RODA 15", 195/60, Pneus novos, certificados pelo INMETRO. Não recondicionados, não remoldados, não remanufaturados e não recapados - medidas 195/60 R-15. | E9: Peça | F9: AH01 AEOLUS 88H | G9: 339030.39 | H9: 211 | I9: 2 | J9: =I9-(SUM(L9:W9)) -> 2 | K9: =IF(J9<0,"ATENÇÃO","OK") -> OK | L9: 0 | M9: 0 | N9: 0 | O9: 0 | P9: 0 | Q9: 0 | R9: 0 | S9: 0 | T9: 0 | U9: 0 | V9: 0 | W9: 0
C10: 7 | D10: PNEUS PARA VEICULOS LEVES, PNEU PARA RODA 15", 195/65, Pneus novos, certificados pelo INMETRO; não recondicionados, não remoldados, não remanufaturados e não recapados - medida 195/65. R-15 | E10: Peça | F10: AH01 AEOLUS 91H | G10: 339030.39 | H10: 199 | I10: =2-2 -> 0 | J10: =I10-(SUM(L10:W10)) -> 0 | K10: =IF(J10<0,"ATENÇÃO","OK") -> OK | L10: 0 | M10: 0 | N10: 0 | O10: 0 | P10: 0 | Q10: 0 | R10: 0 | S10: 0 | T10: 0 | U10: 0 | V10: 0 | W10: 0
C11: 8 | D11: PNEUS PARA VEICULOS LEVES, PNEU PARA RODA 15", 225/70, Pneus novos, certificados pelo INMETRO. Não recondicionados, não remoldados, não remanufaturados e não recapados - medidas 225/70 R-15. | E11: Peça | F11: KR21 MARSHAL 100T | G11: 339030.39 | H11: 351 | I11: 6 | J11: =I11-(SUM(L11:W11)) -> 6 | K11: =IF(J11<0,"ATENÇÃO","OK") -> OK | L11: 0 | M11: 0 | N11: 0 | O11: 0 | P11: 0 | Q11: 0 | R11: 0 | S11: 0 | T11: 0 | U11: 0 | V11: 0 | W11: 0
C12: 9 | D12: PNEUS PARA VEICULOS LEVES, PNEU PARA RODA 15", 235/75, Pneus novos, certificados pelo INMETRO. Não recondicionados, não remoldados, não remanufaturados e não recapados - medidas 235/75 R-15. | E12: Peça | F12: AS02 AELOUS 105T | G12: 339030.39 | H12: 328 | J12: =I12-(SUM(L12:W12)) -> 0 | K12: =IF(J12<0,"ATENÇÃO","OK") -> OK | L12: 0 | M12: 0 | N12: 0 | O12: 0 | P12: 0 | Q12: 0 | R12: 0 | S12: 0 | T12: 0 | U12: 0 | V12: 0 | W12: 0
C13: 10 | D13: PNEUS PARA VEICULOS LEVES, PNEU PARA RODA 16", 205/55, Pneus novos, certificados pelo INMETRO. Não recondicionados, não remoldados, não remanufaturados e não recapados - medidas 205/55 R-16. | E13: Peça | F13: KH 25 KUMHO 91H | G13: 339030.39 | H13: 270 | J13: =I13-(SUM(L13:W13)) -> 0 | K13: =IF(J13<0,"ATENÇÃO","OK") -> OK | L13: 0 | M13: 0 | N13: 0 | O13: 0 | P13: 0 | Q13: 0 | R13: 0 | S13: 0 | T13: 0 | U13: 0 | V13: 0 | W13: 0
C14: 11 | D14: PNEUS PARA VEICULOS LEVES, PNEU PARA RODA 16", 205/75, Pneus novos, certificados pelo INMETRO. Não recondicionados, não remoldados, não remanufaturados e não recapados - medidas 205/75 R-16. | E14: Peça | F14: 857 MARSHAL 110/108R 8PR | G14: 339030.39 | H14: 410 | I14: 2 | J14: =I14-(SUM(L14:W14)) -> 2 | K14: =IF(J14<0,"ATENÇÃO","OK") -> OK | L14: 0 | M14: 0 | N14: 0 | O14: 0 | P14: 0 | Q14: 0 | R14: 0 | S14: 0 | T14: 0 | U14: 0 | V14: 0 | W14: 0
C15: 12 | D15: PNEUS PARA VEICULOS LEVES, PNEU PARA RODA 16", 215/70, Pneus novos, certificados pelo INMETRO. Não recondicionados, não remoldados, não remanufaturados e não recapados - medidas 215/70 R-16. | E15: Peça | F15: KL21 KUMHO 100H | G15: 339030.39 | H15: 375 | J15: =I15-(SUM(L15:W15)) -> 0 | K15: =IF(J15<0,"ATENÇÃO","OK") -> OK | L15: 0 | M15: 0 | N15: 0 | O15: 0 | P15: 0 | Q15: 0 | R15: 0 | S15: 0 | T15: 0 | U15: 0 | V15: 0 | W15: 0
C16: 13 | D16: PNEUS PARA VEICULOS LEVES, PNEU PARA RODA 16", 235/70, "PNEUS PARA VEICULOS LEVES, PNEU PARA RODA 16", 235/70, Pneus novos, certificados pelo INMETRO. Não recondicionados, não remoldados, não remanufaturados e não recapados - medidas 235/70 R-16." | E16: Peça | F16: AS02 AELOUS 106S | G16: 339030.39 | H16: 328 | J16: =I16-(SUM(L16:W16)) -> 0 | K16: =IF(J16<0,"ATENÇÃO","OK") -> OK | L16: 0 | M16: 0 | N16: 0 | O16: 0 | P16: 0 | Q16: 0 | R16: 0 | S16: 0 | T16: 0 | U16: 0 | V16: 0 | W16: 0
C17: 14 | D17: PNEUS PARA VEICULOS LEVES, PNEU PARA RODA 16", 245/70, Pneus novos, certificados pelo INMETRO. Não recondicionados, não remoldados, não remanufaturados e não recapados - medidas 245/70 R-16 - 111s. | E17: Peça | F17: AS01 AELOUS 107T | G17: 339030.39 | H17: 335 | J17: =I17-(SUM(L17:W17)) -> 0 | K17: =IF(J17<0,"ATENÇÃO","OK") -> OK | L17: 0 | M17: 0 | N17: 0 | O17: 0 | P17: 0 | Q17: 0 | R17: 0 | S17: 0 | T17: 0 | U17: 0 | V17: 0 | W17: 0
C18: 15 | D18: PNEUS PARA VEICULOS LEVES, PNEU PARA RODA 16", 245/70, Pneus novos, certificados pelo INMETRO. Não recondicionados, não remoldados, não remanufaturados e não recapados - medidas 245/70 R-16. | E18: Peça | F18: AS01 AELOUS 107T | G18: 339030.39 | H18: 335 | J18: =I18-(SUM(L18:W18)) -> 0 | K18: =IF(J18<0,"ATENÇÃO","OK") -> OK | L18: 0 | M18: 0 | N18: 0 | O18: 0 | P18: 0 | Q18: 0 | R18: 0 | S18: 0 | T18: 0 | U18: 0 | V18: 0 | W18: 0
C19: 16 | D19: PNEUS PARA VEICULOS LEVES, PNEU PARA RODA 16", 255/70, Pneus novos, não recondicionados, não remoldados, não remanufaturados e não recapados, certificados pelo INMETRO - medidas – 255/70 - R16. | E19: Peça | F19: AS02 AEOLUS 111S | G19: 339030.39 | H19: 421 | J19: =I19-(SUM(L19:W19)) -> 0 | K19: =IF(J19<0,"ATENÇÃO","OK") -> OK | L19: 0 | M19: 0 | N19: 0 | O19: 0 | P19: 0 | Q19: 0 | R19: 0 | S19: 0 | T19: 0 | U19: 0 | V19: 0 | W19: 0
A20: Modelo Pneus Ltda | B20: 2 | C20: 17 | D20: PNEUS PARA VEICULOS PESADOS, PNEU PARA RODA 12", 5.00, 4 LONAS, Pneu de construção diagonal 5.00/6-12 G-10 - 4 lonas. Colocado com montagem. Pneus novos, certificados pelo INMETRO. Não recondicionados, não remoldados, não remanufaturados e não recapados. | E20: Peça | F20: Firestone T2 4 lonas | G20: 339030.39 | H20: 167 | J20: =I20-(SUM(L20:W20)) -> 0 | K20: =IF(J20<0,"ATENÇÃO","OK") -> OK | L20: 0 | M20: 0 | N20: 0 | O20: 0 | P20: 0 | Q20: 0 | R20: 0 | S20: 0 | T20: 0 | U20: 0 | V20: 0 | W20: 0
C21: 18 | D21: PNEUS PARA VEICULOS PESADOS, PNEU PARA RODA 14", 6.00, Pneu de construção diagonal 6.00x14 R1 - Capacidade de carga “C”. Colocado com montagem. Pneus novos, certificados pelo INMETRO. Não recondicionados, não remoldados, não remanufaturados e não recapados. | E21: Peça | F21: Rinaldi RGA 34 - 6 lonas | G21: 339030.39 | H21: 324 | J21: =I21-(SUM(L21:W21)) -> 0 | K21: =IF(J21<0,"ATENÇÃO","OK") -> OK | L21: 0 | M21: 0 | N21: 0 | O21: 0 | P21: 0 | Q21: 0 | R21: 0 | S21: 0 | T21: 0 | U21: 0 | V21: 0 | W21: 0
C22: 19 | D22: PNEUS PARA VEICULOS PESADOS, PNEU PARA RODA 16", 7.5, 8 LONAS, Pneu direcional 7.5x16 F2 Multi-raiado 8 lonas. Colocado com montagem. Pneus novos, certificados pelo INMETRO. Não recondicionados, não remoldados, não remanufaturados e não recapados. | E22: Peça | F22: Firestone G-Grip 8 lonas | G22: 339030.39 | H22: 510 | J22: =I22-(SUM(L22:W22)) -> 0 | K22: =IF(J22<0,"ATENÇÃO","OK") -> OK | L22: 0 | M22: 0 | N22: 0 | O22: 0 | P22: 0 | Q22: 0 | R22: 0 | S22: 0 | T22: 0 | U22: 0 | V22: 0 | W22: 0
C23: 20 | D23: PNEUS PARA VEICULOS PESADOS, PNEU PARA RODA 24", 12.4, 6 LONAS, Pneu de construção radial 12.4-24 R1 - 6 lonas. Colocado com montagem. Pneus novos, certificados pelo INMETRO. Não recondicionados, não remoldados, não remanufaturados e não recapados. | E23: Peça | F23: Firestone SAT - 23G | G23: 339030.39 | H23: 1001 | J23: =I23-(SUM(L23:W23)) -> 0 | K23: =IF(J23<0,"ATENÇÃO","OK") -> OK | L23: 0 | M23: 0 | N23: 0 | O23: 0 | P23: 0 | Q23: 0 | R23: 0 | S23: 0 | T23: 0 | U23: 0 | V23: 0 | W23: 0
C24: 21 | D24: PNEUS PARA VEICULOS PESADOS, PNEU PARA RODA 24", 9.5, 6 LONAS, Pneu de construção diagonal 9.5x24 R1 – 6 Lonas. Colocado com montagem. Pneus novos, certificados pelo INMETRO. Não recondicionados, não remoldados, não remanufaturados e não recapados. | E24: Peça | F24: Firestone SAT - 23G | G24: 339030.39 | H24: 883 | J24: =I24-(SUM(L24:W24)) -> 0 | K24: =IF(J24<0,"ATENÇÃO","OK") -> OK | L24: 0 | M24: 0 | N24: 0 | O24: 0 | P24: 0 | Q24: 0 | R24: 0 | S24: 0 | T24: 0 | U24: 0 | V24: 0 | W24: 0
C25: 22 | D25: PNEUS PARA VEICULOS PESADOS, PNEU PARA RODA 28", 14.9, 8 LONAS, Pneu de construção diagonal 14.9-28 R1 - 8 lonas. Colocado com montagem. Pneus novos, certificados pelo INMETRO. Não recondicionados, não remoldados, não remanufaturados e não recapados. | E25: Peça | F25: Firestone SAT - 23G 10 lonas | G25: 339030.39 | H25: 1507.5 | J25: =I25-(SUM(L25:W25)) -> 0 | K25: =IF(J25<0,"ATENÇÃO","OK") -> OK | L25: 0 | M25: 0 | N25: 0 | O25: 0 | P25: 0 | Q25: 0 | R25: 0 | S25: 0 | T25: 0 | U25: 0 | V25: 0 | W25: 0
C26: 23 | D26: PNEUS PARA VEÍCULOS PESADOS, PNEU PARA RODA 30", Pneu de construção radial 18.4-30 R1 - 10 lonas. Colocado com montagem. Pneus novos, certificados pelo INMETRO. Não recondicionados, não remoldados, não remanufaturados e não recapados. | E26: Peça | F26: Firestone SAT - 23G 10 lonas | G26: 339030.39 | H26: 2097.5 | J26: =I26-(SUM(L26:W26)) -> 0 | K26: =IF(J26<0,"ATENÇÃO","OK") -> OK | L26: 0 | M26: 0 | N26: 0 | O26: 0 | P26: 0 | Q26: 0 | R26: 0 | S26: 0 | T26: 0 | U26: 0 | V26: 0 | W26: 0
A27: Cantu Comércio de Pneumáticos Ltda | B27: 3 | C27: 24 | D27: PNEUS PARA VEICULOS PESADOS, PNEU PARA RODA 17,5", 215/75, Pneus novos, certificados pelo INMETRO. Não recondicionados, não remoldados, não remanufaturados e não recapados - medidas 215/75 R-17,5. | E27: Peça | F27: ASR35 AELOUS 16PR 127/124M | G27: 339030.39 | H27: 585 | J27: =I27-(SUM(L27:W27)) -> 0 | K27: =IF(J27<0,"ATENÇÃO","OK") -> OK | L27: 0 | M27: 0 | N27: 0 | O27: 0 | P27: 0 | Q27: 0 | R27: 0 | S27: 0 | T27: 0 | U27: 0 | V27: 0 | W27: 0
C28: 25 | D28: PNEUS PARA VEICULOS PESADOS, PNEU PARA RODA 22,5", 275/80, LISO, Pneus novos, certificados pelo INMETRO. Não recondicionados, não remoldados, não remanufaturados e não recapados - medidas 275/80 R-22,5. | E28: Peça | F28: D621 DRC 16PR 147/144L | G28: 339030.39 | H28: 1170 | J28: =I28-(SUM(L28:W28)) -> 0 | K28: =IF(J28<0,"ATENÇÃO","OK") -> OK | L28: 0 | M28: 0 | N28: 0 | O28: 0 | P28: 0 | Q28: 0 | R28: 0 | S28: 0 | T28: 0 | U28: 0 | V28: 0 | W28: 0
D30: *Prazos de Entrega e Pagamento conforme edital

Sheet CCT
A1: PROCESSO: 0066/2015/UDESC | D1: OBJETO: AQUISIÇÃO DE PNEUS PARA A UDESC | I1: VIGÊNCIA DA ATA: 03/03/2015 até 02/03/2016 | L1: AF/OS nº 1278/2015 Qtde. DT | M1: AF/OS nº xxxx/2015 Qtde. DT | N1: AF/OS nº xxxx/2015 Qtde. DT | O1: AF/OS nº xxxx/2015 Qtde. DT | P1: AF/OS nº xxxx/2015 Qtde. DT | Q1: AF/OS nº xxxx/2015 Qtde. DT | R1: AF/OS nº xxxx/2015 Qtde. DT | S1: AF/OS nº xxxx/2015 Qtde. DT | T1: AF/OS nº xxxx/2015 Qtde. DT | U1: AF/OS nº xxxx/2015 Qtde. DT | V1: AF/OS nº xxxx/2015 Qtde. DT | W1: AF/OS nº xxxx/2015 Qtde. DT
A2: CENTRO PARTICIPANTE: CCT
A3: FORNECEDOR | B3: LOTE | C3: ITEM | D3: PRODUTO - CARACTERÍSTICAS MÍNIMAS | E3: UNIDADE | F3: MARCA | G3: ELEMENTO | H3: Preço UNITÁRIO (R$) | I3: Qtde Registrada | J3: Saldo / Automático | K3: ALERTA | L3: 42209 | M3: ...../...../...... | N3: ...../...../...... | O3: ...../...../...... | P3: ...../...../...... | Q3: ...../...../...... | R3: ...../...../...... | S3: ...../...../...... | T3: ...../...../...... | U3: ...../...../...... | V3: ...../...../...... | W3: ...../...../......
A4: Cantu Comércio de Pneumáticos Ltda | B4: 1 | C4: 1 | D4: PNEUS PARA VEICULOS LEVES, PNEU PARA RODA 14", 185/60, Pneus novos, certificados pelo INMETRO. Não recondicionados, não remoldados, não remanufaturados e não recapados - medidas 185/60 R-14. | E4: Peça | F4: KH 17 KUMHO 82 T | G4: 339030.39 | H4: 193 | J4: =I4-(SUM(L4:W4)) -> 0 | K4: =IF(J4<0,"ATENÇÃO","OK") -> OK | L4: 0 | M4: 0 | N4: 0 | O4: 0 | P4: 0 | Q4: 0 | R4: 0 | S4: 0 | T4: 0 | U4: 0 | V4: 0 | W4: 0
C5: 2 | D5: PNEUS PARA VEICULOS LEVES, PNEU PARA RODA 14", 185/65, Pneus novos, certificados pelo INMETRO. Não recondicionados, não remoldados, não remanufaturados e não recapados - medidas 185/65 R-14. | E5: Peça | F5: GENERAL EVERTREK RT CONTINENTAL 86T | G5: 339030.39 | H5: 222 | J5: =I5-(SUM(L5:W5)) -> 0 | K5: =IF(J5<0,"ATENÇÃO","OK") -> OK | L5: 0 | M5: 0 | N5: 0 | O5: 0 | P5: 0 | Q5: 0 | R5: 0 | S5: 0 | T5: 0 | U5: 0 | V5: 0 | W5: 0
C6: 3 | D6: PNEUS PARA VEICULOS LEVES, PNEU PARA RODA 14", 185/70, Pneus novos, certificados pelo INMETRO. Não recondicionados, não remoldados, não remanufaturados e não recapados - medidas 185/70 R-14. | E6: Peça | F6: KH 17 KUMHO 88H | G6: 339030.39 | H6: 187.2 | J6: =I6-(SUM(L6:W6)) -> 0 | K6: =IF(J6<0,"ATENÇÃO","OK") -> OK | L6: 0 | M6: 0 | N6: 0 | O6: 0 | P6: 0 | Q6: 0 | R6: 0 | S6: 0 | T6: 0 | U6: 0 | V6: 0 | W6: 0
C7: 4 | D7: PNEUS PARA VEICULOS LEVES, PNEU PARA RODA 14", 185/70, Pneus novos, certificados pelo INMETRO. Não recondicionados, não remoldados, não remanufaturados e não recapados - medidas 185/70 R-14C (pneus para KOMBI). | E7: Peça | F7: AL01 AELOUS 102/100R | G7: 339030.39 | H7: 258 | J7: =I7-(SUM(L7:W7)) -> 0 | K7: =IF(J7<0,"ATENÇÃO","OK") -> OK | L7: 0 | M7: 0 | N7: 0 | O7: 0 | P7: 0 | Q7: 0 | R7: 0 | S7: 0 | T7: 0 | U7: 0 | V7: 0 | W7: 0
C8: 5 | D8: PNEUS PARA VEICULOS LEVES, PNEU PARA RODA 15",185/65, Pneus novos, certificados pelo INMETRO. Não recondicionados, não remoldados, não remanufaturados e não recapados - medidas 185/65 R-15. | E8: Peça | F8: AH01 AEOLUS 88H | G8: 339030.39 | H8: 199 | I8: 12 | J8: =I8-(SUM(L8:W8)) -> 0 | K8: =IF(J8<0,"ATENÇÃO","OK") -> OK | L8: 12 | M8: 0 | N8: 0 | O8: 0 | P8: 0 | Q8: 0 | R8: 0 | S8: 0 | T8: 0 | U8: 0 | V8: 0 | W8: 0
C9: 6 | D9: PNEUS PARA VEICULOS LEVES, PNEU PARA RODA 15", 195/60, Pneus novos, certificados pelo INMETRO. Não recondicionados, não remoldados, não remanufaturados e não recapados - medidas 195/60 R-15. | E9: Peça | F9: AH01 AEOLUS 88H | G9: 339030.39 | H9: 211 | J9: =I9-(SUM(L9:W9)) -> 0 | K9: =IF(J9<0,"ATENÇÃO","OK") -> OK | L9: 0 | M9: 0 | N9: 0 | O9: 0 | P9: 0 | Q9: 0 | R9: 0 | S9: 0 | T9: 0 | U9: 0 | V9: 0 | W9: 0
C10: 7 | D10: PNEUS PARA VEICULOS LEVES, PNEU PARA RODA 15", 195/65, Pneus novos, certificados pelo INMETRO; não recondicionados, não remoldados, não remanufaturados e não recapados - medida 195/65. R-15 | E10: Peça | F10: AH01 AEOLUS 91H | G10: 339030.39 | H10: 199 | J10: =I10-(SUM(L10:W10)) -> 0 | K10: =IF(J10<0,"ATENÇÃO","OK") -> OK | L10: 0 | M10: 0 | N10: 0 | O10: 0 | P10: 0 | Q10: 0 | R10: 0 | S10: 0 | T10: 0 | U10: 0 | V10: 0 | W10: 0
C11: 8 | D11: PNEUS PARA VEICULOS LEVES, PNEU PARA RODA 15", 225/70, Pneus novos, certificados pelo INMETRO. Não recondicionados, não remoldados, não remanufaturados e não recapados - medidas 225/70 R-15. | E11: Peça | F11: KR21 MARSHAL 100T | G11: 339030.39 | H11: 351 | I11: 4 | J11: =I11-(SUM(L11:W11)) -> 0 | K11: =IF(J11<0,"ATENÇÃO","OK") -> OK | L11: 4 | M11: 0 | N11: 0 | O11: 0 | P11: 0 | Q11: 0 | R11: 0 | S11: 0 | T11: 0 | U11: 0 | V11: 0 | W11: 0
C12: 9 | D12: PNEUS PARA VEICULOS LEVES, PNEU PARA RODA 15", 235/75, Pneus novos, certificados pelo INMETRO. Não recondicionados, não remoldados, não remanufaturados e não recapados - medidas 235/75 R-15. | E12: Peça | F12: AS02 AELOUS 105T | G12: 339030.39 | H12: 328 | J12: =I12-(SUM(L12:W12)) -> 0 | K12: =IF(J12<0,"ATENÇÃO","OK") -> OK | L12: 0 | M12: 0 | N12: 0 | O12: 0 | P12: 0 | Q12: 0 | R12: 0 | S12: 0 | T12: 0 | U12: 0 | V12: 0 | W12: 0
C13: 10 | D13: PNEUS PARA VEICULOS LEVES, PNEU PARA RODA 16", 205/55, Pneus novos, certificados pelo INMETRO. Não recondicionados, não remoldados, não remanufaturados e não recapados - medidas 205/55 R-16. | E13: Peça | F13: KH 25 KUMHO 91H | G13: 339030.39 | H13: 270 | J13: =I13-(SUM(L13:W13)) -> 0 | K13: =IF(J13<0,"ATENÇÃO","OK") -> OK | L13: 0 | M13: 0 | N13: 0 | O13: 0 | P13: 0 | Q13: 0 | R13: 0 | S13: 0 | T13: 0 | U13: 0 | V13: 0 | W13: 0
C14: 11 | D14: PNEUS PARA VEICULOS LEVES, PNEU PARA RODA 16", 205/75, Pneus novos, certificados pelo INMETRO. Não recondicionados, não remoldados, não remanufaturados e não recapados - medidas 205/75 R-16. | E14: Peça | F14: 857 MARSHAL 110/108R 8PR | G14: 339030.39 | H14: 410 | J14: =I14-(SUM(L14:W14)) -> 0 | K14: =IF(J14<0,"ATENÇÃO","OK") -> OK | L14: 0 | M14: 0 | N14: 0 | O14: 0 | P14: 0 | Q14: 0 | R14: 0 | S14: 0 | T14: 0 | U14: 0 | V14: 0 | W14: 0
C15: 12 | D15: PNEUS PARA VEICULOS LEVES, PNEU PARA RODA 16", 215/70, Pneus novos, certificados pelo INMETRO. Não recondicionados, não remoldados, não remanufaturados e não recapados - medidas 215/70 R-16. | E15: Peça | F15: KL21 KUMHO 100H | G15: 339030.39 | H15: 375 | J15: =I15-(SUM(L15:W15)) -> 0 | K15: =IF(J15<0,"ATENÇÃO","OK") -> OK | L15: 0 | M15: 0 | N15: 0 | O15: 0 | P15: 0 | Q15: 0 | R15: 0 | S15: 0 | T15: 0 | U15: 0 | V15: 0 | W15: 0
C16: 13 | D16: PNEUS PARA VEICULOS LEVES, PNEU PARA RODA 16", 235/70, "PNEUS PARA VEICULOS LEVES, PNEU PARA RODA 16", 235/70, Pneus novos, certificados pelo INMETRO. Não recondicionados, não remoldados, não remanufaturados e não recapados - medidas 235/70 R-16." | E16: Peça | F16: AS02 AELOUS 106S | G16: 339030.39 | H16: 328 | J16: =I16-(SUM(L16:W16)) -> 0 | K16: =IF(J16<0,"ATENÇÃO","OK") -> OK | L16: 0 | M16: 0 | N16: 0 | O16: 0 | P16: 0 | Q16: 0 | R16: 0 | S16: 0 | T16: 0 | U16: 0 | V16: 0 | W16: 0
C17: 14 | D17: PNEUS PARA VEICULOS LEVES, PNEU PARA RODA 16", 245/70, Pneus novos, certificados pelo INMETRO. Não recondicionados, não remoldados, não remanufaturados e não recapados - medidas 245/70 R-16 - 111s. | E17: Peça | F17: AS01 AELOUS 107T | G17: 339030.39 | H17: 335 | J17: =I17-(SUM(L17:W17)) -> 0 | K17: =IF(J17<0,"ATENÇÃO","OK") -> OK | L17: 0 | M17: 0 | N17: 0 | O17: 0 | P17: 0 | Q17: 0 | R17: 0 | S17: 0 | T17: 0 | U17: 0 | V17: 0 | W17: 0
