Workbook
Name diasuteis: #REF!
Name diasuteis: #REF!
Name diasuteis: #REF!
Name Ferias: #REF!
Name Ferias: #REF!
Name RD: OFFSET(#REF!,(MATCH(SMALL(#REF!,ROW()-10),#REF!,0)-1),0)
Name RD: OFFSET(#REF!,(MATCH(SMALL(#REF!,ROW()-10),#REF!,0)-1),0)

Sheet PROEX
A1: PROCESSO: 0064/2015/UDESC | D1: OBJETO: FORNECIMENTO DE COFFEE BREAK E COQUETEL PARA EVENTOS DA UDESC | H1: VIGÊNCIA DA ATA: 20/05/2015 até 19/05/2016 | K1: AF nº 1047/2015 Qtde. DT | L1: AF nº 1449/2015 Qtde. DT | M1: AF/OS nº xxxx/2015 Qtde. DT | N1: AF/OS nº xxxx/2015 Qtde. DT | O1: AF/OS nº xxxx/2015 Qtde. DT | P1: AF/OS nº xxxx/2015 Qtde. DT | Q1: AF/OS nº xxxx/2015 Qtde. DT | R1: AF/OS nº xxxx/2015 Qtde. DT | S1: AF/OS nº xxxx/2015 Qtde. DT | T1: AF/OS nº xxxx/2015 Qtde. DT | U1: AF/OS nº xxxx/2015 Qtde. DT | V1: AF/OS nº xxxx/2015 Qtde. DT
A2: CENTRO PARTICIPANTE: PROEX
A3: FORNECEDOR | B3: LOTE | C3: ITEM | D3: PRODUTO - CARACTERÍSTICAS MÍNIMAS | E3: UNIDADE | F3: ELEMENTO | G3: Preço UNITÁRIO (R$) | H3: Qtde Registrada | I3: Saldo / Automático | J3: ALERTA | K3: 42180 | L3: 42230 | M3: ...../...../...... | N3: ...../...../...... | O3: ...../...../...... | P3: ...../...../...... | Q3: ...../...../...... | R3: ...../...../...... | S3: ...../...../...... | T3: ...../...../...... | U3: ...../...../...... | V3: ...../...../......
A4: Celeste Alimentação EIRELI ME | B4: 1 | C4: 1 | D4: COFFEE BREAK TIPO 1 | E4: Pessoa | F4: 339039-23 | G4: 7.92 | I4: =H4-(SUM(K4:V4)) -> 0 | J4: =IF(I4<0,"ATENÇÃO","OK") -> OK | K4: 0 | L4: 0 | M4: 0 | N4: 0 | O4: 0 | P4: 0 | Q4: 0 | R4: 0 | S4: 0 | T4: 0 | U4: 0 | V4: 0
C5: 2 | D5: COFFEE BREAK TIPO 2 | E5: Pessoa | F5: 339039-23 | G5: 10.2 | H5: 3000 | I5: =H5-(SUM(K5:V5)) -> 3000 | J5: =IF(I5<0,"ATENÇÃO","OK") -> OK | K5: 0 | L5: 0 | M5: 0 | N5: 0 | O5: 0 | P5: 0 | Q5: 0 | R5: 0 | S5: 0 | T5: 0 | U5: 0 | V5: 0
C6: 3 | D6: COFFEE BREAK TIPO 3 | E6: Pessoa | F6: 339039-23 | G6: 12.05 | H6: 1000 | I6: =H6-(SUM(K6:V6)) -> 760 | J6: =IF(I6<0,"ATENÇÃO","OK") -> OK | K6: 40 | L6: 200 | M6: 0 | N6: 0 | O6: 0 | P6: 0 | Q6: 0 | R6: 0 | S6: 0 | T6: 0 | U6: 0 | V6: 0
C7: 4 | D7: COQUETEL | E7: Pessoa | F7: 339039-23 | G7: 23.62 | H7: 500 | I7: =H7-(SUM(K7:V7)) -> 500 | J7: =IF(I7<0,"ATENÇÃO","OK") -> OK | K7: 0 | L7: 0 | M7: 0 | N7: 0 | O7: 0 | P7: 0 | Q7: 0 | R7: 0 | S7: 0 | T7: 0 | U7: 0 | V7: 0
A8: Villa Gourmet Eventos Ltda | B8: 2 | C8: 5 | D8: COFFEE BREAK TIPO 3 | E8: Pessoa | F8: 339039-23 | G8: 12.83 | I8: =H8-(SUM(K8:V8)) -> 0 | J8: =IF(I8<0,"ATENÇÃO","OK") -> OK | K8: 0 | L8: 0 | M8: 0 | N8: 0 | O8: 0 | P8: 0 | Q8: 0 | R8: 0 | S8: 0 | T8: 0 | U8: 0 | V8: 0
C9: 6 | D9: COQUETEL | E9: Pessoa | F9: 339039-23 | G9: 26.42 | I9: =H9-(SUM(K9:V9)) -> 0 | J9: =IF(I9<0,"ATENÇÃO","OK") -> OK | K9: 0 | L9: 0 | M9: 0 | N9: 0 | O9: 0 | P9: 0 | Q9: 0 | R9: 0 | S9: 0 | T9: 0 | U9: 0 | V9: 0
D11: *Prazos de Entrega e Pagamento conforme edital

Sheet MUSEU
A1: PROCESSO: 0064/2015/UDESC | D1: OBJETO: FORNECIMENTO DE COFFEE BREAK E COQUETEL PARA EVENTOS DA UDESC | H1: VIGÊNCIA DA ATA: 20/05/2015 até 19/05/2016 | K1: AF/OS nº 954/2015 Qtde. DT | L1: AF/OS nº xxxx/2015 Qtde. DT | M1: AF/OS nº xxxx/2015 Qtde. DT | N1: AF/OS nº xxxx/2015 Qtde. DT | O1: AF/OS nº xxxx/2015 Qtde. DT | P1: AF/OS nº xxxx/2015 Qtde. DT | Q1: AF/OS nº xxxx/2015 Qtde. DT | R1: AF/OS nº xxxx/2015 Qtde. DT | S1: AF/OS nº xxxx/2015 Qtde. DT | T1: AF/OS nº xxxx/2015 Qtde. DT | U1: AF/OS nº xxxx/2015 Qtde. DT | V1: AF/OS nº xxxx/2015 Qtde. DT
A2: CENTRO PARTICIPANTE: MUSEU
A3: FORNECEDOR | B3: LOTE | C3: ITEM | D3: PRODUTO - CARACTERÍSTICAS MÍNIMAS | E3: UNIDADE | F3: ELEMENTO | G3: Preço UNITÁRIO (R$) | H3: Qtde Registrada | I3: Saldo / Automático | J3: ALERTA | K3: 42167 | L3: ...../...../...... | M3: ...../...../...... | N3: ...../...../...... | O3: ...../...../...... | P3: ...../...../...... | Q3: ...../...../...... | R3: ...../...../...... | S3: ...../...../...... | T3: ...../...../...... | U3: ...../...../...... | V3: ...../...../......
A4: Celeste Alimentação EIRELI ME | B4: 1 | C4: 1 | D4: COFFEE BREAK TIPO 1 | E4: Pessoa | F4: 339039-23 | G4: 7.92 | I4: =H4-(SUM(K4:V4)) -> 0 | J4: =IF(I4<0,"ATENÇÃO","OK") -> OK | K4: 0 | L4: 0 | M4: 0 | N4: 0 | O4: 0 | P4: 0 | Q4: 0 | R4: 0 | S4: 0 | T4: 0 | U4: 0 | V4: 0
C5: 2 | D5: COFFEE BREAK TIPO 2 | E5: Pessoa | F5: 339039-23 | G5: 10.2 | I5: =H5-(SUM(K5:V5)) -> 0 | J5: =IF(I5<0,"ATENÇÃO","OK") -> OK | K5: 0 | L5: 0 | M5: 0 | N5: 0 | O5: 0 | P5: 0 | Q5: 0 | R5: 0 | S5: 0 | T5: 0 | U5: 0 | V5: 0
C6: 3 | D6: COFFEE BREAK TIPO 3 | E6: Pessoa | F6: 339039-23 | G6: 12.05 | H6: 280 | I6: =H6-(SUM(K6:V6)) -> 280 | J6: =IF(I6<0,"ATENÇÃO","OK") -> OK | K6: 0 | L6: 0 | M6: 0 | N6: 0 | O6: 0 | P6: 0 | Q6: 0 | R6: 0 | S6: 0 | T6: 0 | U6: 0 | V6: 0
C7: 4 | D7: COQUETEL | E7: Pessoa | F7: 339039-23 | G7: 23.62 | H7: 100 | I7: =H7-(SUM(K7:V7)) -> 0 | J7: =IF(I7<0,"ATENÇÃO","OK") -> OK | K7: 100 | L7: 0 | M7: 0 | N7: 0 | O7: 0 | P7: 0 | Q7: 0 | R7: 0 | S7: 0 | T7: 0 | U7: 0 | V7: 0
A8: Villa Gourmet Eventos Ltda | B8: 2 | C8: 5 | D8: COFFEE BREAK TIPO 3 | E8: Pessoa | F8: 339039-23 | G8: 12.83 | I8: =H8-(SUM(K8:V8)) -> 0 | J8: =IF(I8<0,"ATENÇÃO","OK") -> OK | K8: 0 | L8: 0 | M8: 0 | N8: 0 | O8: 0 | P8: 0 | Q8: 0 | R8: 0 | S8: 0 | T8: 0 | U8: 0 | V8: 0
C9: 6 | D9: COQUETEL | E9: Pessoa | F9: 339039-23 | G9: 26.42 | I9: =H9-(SUM(K9:V9)) -> 0 | J9: =IF(I9<0,"ATENÇÃO","OK") -> OK | K9: 0 | L9: 0 | M9: 0 | N9: 0 | O9: 0 | P9: 0 | Q9: 0 | R9: 0 | S9: 0 | T9: 0 | U9: 0 | V9: 0
D11: *Prazos de Entrega e Pagamento conforme edital

Sheet PROAD
A1: PROCESSO: 0064/2015/UDESC | D1: OBJETO: FORNECIMENTO DE COFFEE BREAK E COQUETEL PARA EVENTOS DA UDESC | H1: VIGÊNCIA DA ATA: 20/05/2015 até 19/05/2016 | K1: AF nº 1254/2015 Qtde. DT | L1: AF/OS nº xxxx/2015 Qtde. DT | M1: AF/OS nº xxxx/2015 Qtde. DT | N1: AF/OS nº xxxx/2015 Qtde. DT | O1: AF/OS nº xxxx/2015 Qtde. DT | P1: AF/OS nº xxxx/2015 Qtde. DT | Q1: AF/OS nº xxxx/2015 Qtde. DT | R1: AF/OS nº xxxx/2015 Qtde. DT | S1: AF/OS nº xxxx/2015 Qtde. DT | T1: AF/OS nº xxxx/2015 Qtde. DT | U1: AF/OS nº xxxx/2015 Qtde. DT | V1: AF/OS nº xxxx/2015 Qtde. DT
A2: CENTRO PARTICIPANTE: PROAD
A3: FORNECEDOR | B3: LOTE | C3: ITEM | D3: PRODUTO - CARACTERÍSTICAS MÍNIMAS | E3: UNIDADE | F3: ELEMENTO | G3: Preço UNITÁRIO (R$) | H3: Qtde Registrada | I3: Saldo / Automático | J3: ALERTA | K3: 42207 | L3: ...../...../...... | M3: ...../...../...... | N3: ...../...../...... | O3: ...../...../...... | P3: ...../...../...... | Q3: ...../...../...... | R3: ...../...../...... | S3: ...../...../...... | T3: ...../...../...... | U3: ...../...../...... | V3: ...../...../......
A4: Celeste Alimentação EIRELI ME | B4: 1 | C4: 1 | D4: COFFEE BREAK TIPO 1 | E4: Pessoa | F4: 339039-23 | G4: 7.92 | I4: =H4-(SUM(K4:V4)) -> 0 | J4: =IF(I4<0,"ATENÇÃO","OK") -> OK | K4: 0 | L4: 0 | M4: 0 | N4: 0 | O4: 0 | P4: 0 | Q4: 0 | R4: 0 | S4: 0 | T4: 0 | U4: 0 | V4: 0
C5: 2 | D5: COFFEE BREAK TIPO 2 | E5: Pessoa | F5: 339039-23 | G5: 10.2 | H5: 500 | I5: =H5-(SUM(K5:V5)) -> 455 | J5: =IF(I5<0,"ATENÇÃO","OK") -> OK | K5: 45 | L5: 0 | M5: 0 | N5: 0 | O5: 0 | P5: 0 | Q5: 0 | R5: 0 | S5: 0 | T5: 0 | U5: 0 | V5: 0
C6: 3 | D6: COFFEE BREAK TIPO 3 | E6: Pessoa | F6: 339039-23 | G6: 12.05 | I6: =H6-(SUM(K6:V6)) -> 0 | J6: =IF(I6<0,"ATENÇÃO","OK") -> OK | K6: 0 | L6: 0 | M6: 0 | N6: 0 | O6: 0 | P6: 0 | Q6: 0 | R6: 0 | S6: 0 | T6: 0 | U6: 0 | V6: 0
C7: 4 | D7: COQUETEL | E7: Pessoa | F7: 339039-23 | G7: 23.62 | H7: 400 | I7: =H7-(SUM(K7:V7)) -> 400 | J7: =IF(I7<0,"ATENÇÃO","OK") -> OK | K7: 0 | L7: 0 | M7: 0 | N7: 0 | O7: 0 | P7: 0 | Q7: 0 | R7: 0 | S7: 0 | T7: 0 | U7: 0 | V7: 0
A8: Villa Gourmet Eventos Ltda | B8: 2 | C8: 5 | D8: COFFEE BREAK TIPO 3 | E8: Pessoa | F8: 339039-23 | G8: 12.83 | I8: =H8-(SUM(K8:V8)) -> 0 | J8: =IF(I8<0,"ATENÇÃO","OK") -> OK | K8: 0 | L8: 0 | M8: 0 | N8: 0 | O8: 0 | P8: 0 | Q8: 0 | R8: 0 | S8: 0 | T8: 0 | U8: 0 | V8: 0
C9: 6 | D9: COQUETEL | E9: Pessoa | F9: 339039-23 | G9: 26.42 | I9: =H9-(SUM(K9:V9)) -> 0 | J9: =IF(I9<0,"ATENÇÃO","OK") -> OK | K9: 0 | L9: 0 | M9: 0 | N9: 0 | O9: 0 | P9: 0 | Q9: 0 | R9: 0 | S9: 0 | T9: 0 | U9: 0 | V9: 0
D11: *Prazos de Entrega e Pagamento conforme edital

Sheet PROEN
A1: PROCESSO: 0064/2015/UDESC | D1: OBJETO: FORNECIMENTO DE COFFEE BREAK E COQUETEL PARA EVENTOS DA UDESC | H1: VIGÊNCIA DA ATA: 20/05/2015 até 19/05/2016 | K1: AF nº 955/2015 Qtde. DT | L1: AF nº 1254/2015 Qtde. DT | M1: AF/OS nº xxxx/2015 Qtde. DT | N1: AF/OS nº xxxx/2015 Qtde. DT | O1: AF/OS nº xxxx/2015 Qtde. DT | P1: AF/OS nº xxxx/2015 Qtde. DT | Q1: AF/OS nº xxxx/2015 Qtde. DT | R1: AF/OS nº xxxx/2015 Qtde. DT | S1: AF/OS nº xxxx/2015 Qtde. DT | T1: AF/OS nº xxxx/2015 Qtde. DT | U1: AF/OS nº xxxx/2015 Qtde. DT | V1: AF/OS nº xxxx/2015 Qtde. DT
A2: CENTRO PARTICIPANTE: PROEN
A3: FORNECEDOR | B3: LOTE | C3: ITEM | D3: PRODUTO - CARACTERÍSTICAS MÍNIMAS | E3: UNIDADE | F3: ELEMENTO | G3: Preço UNITÁRIO (R$) | H3: Qtde Registrada | I3: Saldo / Automático | J3: ALERTA | K3: 42167 | L3: 42207 | M3: ...../...../...... | N3: ...../...../...... | O3: ...../...../...... | P3: ...../...../...... | Q3: ...../...../...... | R3: ...../...../...... | S3: ...../...../...... | T3: ...../...../...... | U3: ...../...../...... | V3: ...../...../......
A4: Celeste Alimentação EIRELI ME | B4: 1 | C4: 1 | D4: COFFEE BREAK TIPO 1 | E4: Pessoa | F4: 339039-23 | G4: 7.92 | I4: =H4-(SUM(K4:V4)) -> 0 | J4: =IF(I4<0,"ATENÇÃO","OK") -> OK | K4: 0 | L4: 0 | M4: 0 | N4: 0 | O4: 0 | P4: 0 | Q4: 0 | R4: 0 | S4: 0 | T4: 0 | U4: 0 | V4: 0
C5: 2 | D5: COFFEE BREAK TIPO 2 | E5: Pessoa | F5: 339039-23 | G5: 10.2 | H5: 500 | I5: =H5-(SUM(K5:V5)) -> 140 | J5: =IF(I5<0,"ATENÇÃO","OK") -> OK | K5: 180 | L5: 180 | M5: 0 | N5: 0 | O5: 0 | P5: 0 | Q5: 0 | R5: 0 | S5: 0 | T5: 0 | U5: 0 | V5: 0
C6: 3 | D6: COFFEE BREAK TIPO 3 | E6: Pessoa | F6: 339039-23 | G6: 12.05 | I6: =H6-(SUM(K6:V6)) -> 0 | J6: =IF(I6<0,"ATENÇÃO","OK") -> OK | K6: 0 | L6: 0 | M6: 0 | N6: 0 | O6: 0 | P6: 0 | Q6: 0 | R6: 0 | S6: 0 | T6: 0 | U6: 0 | V6: 0
C7: 4 | D7: COQUETEL | E7: Pessoa | F7: 339039-23 | G7: 23.62 | H7: 100 | I7: =H7-(SUM(K7:V7)) -> 100 | J7: =IF(I7<0,"ATENÇÃO","OK") -> OK | K7: 0 | L7: 0 | M7: 0 | N7: 0 | O7: 0 | P7: 0 | Q7: 0 | R7: 0 | S7: 0 | T7: 0 | U7: 0 | V7: 0
A8: Villa Gourmet Eventos Ltda | B8: 2 | C8: 5 | D8: COFFEE BREAK TIPO 3 | E8: Pessoa | F8: 339039-23 | G8: 12.83 | I8: =H8-(SUM(K8:V8)) -> 0 | J8: =IF(I8<0,"ATENÇÃO","OK") -> OK | K8: 0 | L8: 0 | M8: 0 | N8: 0 | O8: 0 | P8: 0 | Q8: 0 | R8: 0 | S8: 0 | T8: 0 | U8: 0 | V8: 0
C9: 6 | D9: COQUETEL | E9: Pessoa | F9: 339039-23 | G9: 26.42 | I9: =H9-(SUM(K9:V9)) -> 0 | J9: =IF(I9<0,"ATENÇÃO","OK") -> OK | K9: 0 | L9: 0 | M9: 0 | N9: 0 | O9: 0 | P9: 0 | Q9: 0 | R9: 0 | S9: 0 | T9: 0 | U9: 0 | V9: 0
D11: *Prazos de Entrega e Pagamento conforme edital

Sheet ESAG
A1: PROCESSO: 0064/2015/UDESC | D1: OBJETO: FORNECIMENTO DE COFFEE BREAK E COQUETEL PARA EVENTOS DA UDESC | H1: VIGÊNCIA DA ATA: 20/05/2015 até 19/05/2016 | K1: AF/OS nº xxxx/2015 Qtde. DT | L1: AF/OS nº xxxx/2015 Qtde. DT | M1: AF/OS nº xxxx/2015 Qtde. DT | N1: AF/OS nº xxxx/2015 Qtde. DT | O1: AF/OS nº xxxx/2015 Qtde. DT | P1: AF/OS nº xxxx/2015 Qtde. DT | Q1: AF/OS nº xxxx/2015 Qtde. DT | R1: AF/OS nº xxxx/2015 Qtde. DT | S1: AF/OS nº xxxx/2015 Qtde. DT | T1: AF/OS nº xxxx/2015 Qtde. DT | U1: AF/OS nº xxxx/2015 Qtde. DT | V1: AF/OS nº xxxx/2015 Qtde. DT
A2: CENTRO PARTICIPANTE: ESAG
A3: FORNECEDOR | B3: LOTE | C3: ITEM | D3: PRODUTO - CARACTERÍSTICAS MÍNIMAS | E3: UNIDADE | F3: ELEMENTO | G3: Preço UNITÁRIO (R$) | H3: Qtde Registrada | I3: Saldo / Automático | J3: ALERTA | K3: ...../...../...... | L3: ...../...../...... | M3: ...../...../...... | N3: ...../...../...... | O3: ...../...../...... | P3: ...../...../...... | Q3: ...../...../...... | R3: ...../...../...... | S3: ...../...../...... | T3: ...../...../...... | U3: ...../...../...... | V3: ...../...../......
A4: Celeste Alimentação EIRELI ME | B4: 1 | C4: 1 | D4: COFFEE BREAK TIPO 1 | E4: Pessoa | F4: 339039-23 | G4: 7.92 | I4: =H4-(SUM(K4:V4)) -> 0 | J4: =IF(I4<0,"ATENÇÃO","OK") -> OK | K4: 0 | L4: 0 | M4: 0 | N4: 0 | O4: 0 | P4: 0 | Q4: 0 | R4: 0 | S4: 0 | T4: 0 | U4: 0 | V4: 0
C5: 2 | D5: COFFEE BREAK TIPO 2 | E5: Pessoa | F5: 339039-23 | G5: 10.2 | I5: =H5-(SUM(K5:V5)) -> 0 | J5: =IF(I5<0,"ATENÇÃO","OK") -> OK | K5: 0 | L5: 0 | M5: 0 | N5: 0 | O5: 0 | P5: 0 | Q5: 0 | R5: 0 | S5: 0 | T5: 0 | U5: 0 | V5: 0
C6: 3 | D6: COFFEE BREAK TIPO 3 | E6: Pessoa | F6: 339039-23 | G6: 12.05 | H6: 1500 | I6: =H6-(SUM(K6:V6)) -> 1500 | J6: =IF(I6<0,"ATENÇÃO","OK") -> OK | K6: 0 | L6: 0 | M6: 0 | N6: 0 | O6: 0 | P6: 0 | Q6: 0 | R6: 0 | S6: 0 | T6: 0 | U6: 0 | V6: 0
C7: 4 | D7: COQUETEL | E7: Pessoa | F7: 339039-23 | G7: 23.62 | H7: 1000 | I7: =H7-(SUM(K7:V7)) -> 1000 | J7: =IF(I7<0,"ATENÇÃO","OK") -> OK | K7: 0 | L7: 0 | M7: 0 | N7: 0 | O7: 0 | P7: 0 | Q7: 0 | R7: 0 | S7: 0 | T7: 0 | U7: 0 | V7: 0
A8: Villa Gourmet Eventos Ltda | B8: 2 | C8: 5 | D8: COFFEE BREAK TIPO 3 | E8: Pessoa | F8: 339039-23 | G8: 12.83 | I8: =H8-(SUM(K8:V8)) -> 0 | J8: =IF(I8<0,"ATENÇÃO","OK") -> OK | K8: 0 | L8: 0 | M8: 0 | N8: 0 | O8: 0 | P8: 0 | Q8: 0 | R8: 0 | S8: 0 | T8: 0 | U8: 0 | V8: 0
C9: 6 | D9: COQUETEL | E9: Pessoa | F9: 339039-23 | G9: 26.42 | I9: =H9-(SUM(K9:V9)) -> 0 | J9: =IF(I9<0,"ATENÇÃO","OK") -> OK | K9: 0 | L9: 0 | M9: 0 | N9: 0 | O9: 0 | P9: 0 | Q9: 0 | R9: 0 | S9: 0 | T9: 0 | U9: 0 | V9: 0
D11: *Prazos de Entrega e Pagamento conforme edital

Sheet CEART
A1: PROCESSO: 0064/2015/UDESC | D1: OBJETO: FORNECIMENTO DE COFFEE BREAK E COQUETEL PARA EVENTOS DA UDESC | H1: VIGÊNCIA DA ATA: 20/05/2015 até 19/05/2016 | K1: AF 962/2015 GISELE | L1: AF 963/2015 ANDREA | M1: AF PPGAV 1497/2015 | N1: AF APOTEK 1478/2015 | O1: AF Densino 1479/2015 | P1: AF/OS nº xxxx/2015 Qtde. DT | Q1: AF/OS nº xxxx/2015 Qtde. DT | R1: AF/OS nº xxxx/2015 Qtde. DT | S1: AF/OS nº xxxx/2015 Qtde. DT | T1: AF/OS nº xxxx/2015 Qtde. DT | U1: AF/OS nº xxxx/2015 Qtde. DT | V1: AF/OS nº xxxx/2015 Qtde. DT
A2: CENTRO PARTICIPANTE: CEART
A3: FORNECEDOR | B3: LOTE | C3: ITEM | D3: PRODUTO - CARACTERÍSTICAS MÍNIMAS | E3: UNIDADE | F3: ELEMENTO | G3: Preço UNITÁRIO (R$) | H3: Qtde Registrada | I3: Saldo / Automático | J3: ALERTA | K3: 42170 | L3: 42170 | N3: 42236 | O3: 42236 | P3: ...../...../...... | Q3: ...../...../...... | R3: ...../...../...... | S3: ...../...../...... | T3: ...../...../...... | U3: ...../...../...... | V3: ...../...../......
A4: Celeste Alimentação EIRELI ME | B4: 1 | C4: 1 | D4: COFFEE BREAK TIPO 1 | E4: Pessoa | F4: 339039-23 | G4: 7.92 | H4: 53 | I4: =H4-(SUM(K4:V4)) -> 3 | J4: =IF(I4<0,"ATENÇÃO","OK") -> OK | K4: 0 | L4: 0 | M4: 50 | O4: 0 | P4: 0 | Q4: 0 | R4: 0 | S4: 0 | T4: 0 | U4: 0 | V4: 0
C5: 2 | D5: COFFEE BREAK TIPO 2 | E5: Pessoa | F5: 339039-23 | G5: 10.2 | H5: 1383 | I5: =H5-(SUM(K5:V5)) -> 1048 | J5: =IF(I5<0,"ATENÇÃO","OK") -> OK | K5: 80 | L5: 80 | N5: 50 | O5: 125 | P5: 0 | Q5: 0 | R5: 0 | S5: 0 | T5: 0 | U5: 0 | V5: 0
C6: 3 | D6: COFFEE BREAK TIPO 3 | E6: Pessoa | F6: 339039-23 | G6: 12.05 | H6: 690 | I6: =H6-(SUM(K6:V6)) -> 690 | J6: =IF(I6<0,"ATENÇÃO","OK") -> OK | K6: 0 | L6: 0 | M6: 0 | O6: 0 | P6: 0 | Q6: 0 | R6: 0 | S6: 0 | T6: 0 | U6: 0 | V6: 0
C7: 4 | D7: COQUETEL | E7: Pessoa | F7: 339039-23 | G7: 23.62 | H7: 670 | I7: =H7-(SUM(K7:V7)) -> 670 | J7: =IF(I7<0,"ATENÇÃO","OK") -> OK | K7: 0 | L7: 0 | M7: 0 | O7: 0 | P7: 0 | Q7: 0 | R7: 0 | S7: 0 | T7: 0 | U7: 0 | V7: 0
A8: Villa Gourmet Eventos Ltda | B8: 2 | C8: 5 | D8: COFFEE BREAK TIPO 3 | E8: Pessoa | F8: 339039-23 | G8: 12.83 | I8: =H8-(SUM(K8:V8)) -> 0 | J8: =IF(I8<0,"ATENÇÃO","OK") -> OK | K8: 0 | L8: 0 | M8: 0 | O8: 0 | P8: 0 | Q8: 0 | R8: 0 | S8: 0 | T8: 0 | U8: 0 | V8: 0
C9: 6 | D9: COQUETEL | E9: Pessoa | F9: 339039-23 | G9: 26.42 | I9: =H9-(SUM(K9:V9)) -> 0 | J9: =IF(I9<0,"ATENÇÃO","OK") -> OK | K9: 0 | L9: 0 | M9: 0 | O9: 0 | P9: 0 | Q9: 0 | R9: 0 | S9: 0 | T9: 0 | U9: 0 | V9: 0
D11: *Prazos de Entrega e Pagamento conforme edital

Sheet FAED
A1: PROCESSO: 0064/2015/UDESC | D1: OBJETO: FORNECIMENTO DE COFFEE BREAK E COQUETEL PARA EVENTOS DA UDESC | H1: VIGÊNCIA DA ATA: 20/05/2015 até 19/05/2016 | K1: AF/OS nº 941/2015 Qtde. DT | L1: AF/OS nº 1000/2015 Qtde. DT | M1: AF/OS nº 1396/2015 Qtde. DT | N1: AF/OS nº 1469/2015 Qtde. DT | O1: AF/OS nº xxxx/2015 Qtde. DT | P1: AF/OS nº xxxx/2015 Qtde. DT | Q1: AF/OS nº xxxx/2015 Qtde. DT | R1: AF/OS nº xxxx/2015 Qtde. DT | S1: AF/OS nº xxxx/2015 Qtde. DT | T1: AF/OS nº xxxx/2015 Qtde. DT | U1: AF/OS nº xxxx/2015 Qtde. DT | V1: AF/OS nº xxxx/2015 Qtde. DT
A2: CENTRO PARTICIPANTE: FAED
A3: FORNECEDOR | B3: LOTE | C3: ITEM | D3: PRODUTO - CARACTERÍSTICAS MÍNIMAS | E3: UNIDADE | F3: ELEMENTO | G3: Preço UNITÁRIO (R$) | H3: Qtde Registrada | I3: Saldo / Automático | J3: ALERTA | K3: 42165 | L3: 42173 | M3: 42226 | N3: 42234 | O3: ...../...../...... | P3: ...../...../...... | Q3: ...../...../...... | R3: ...../...../...... | S3: ...../...../...... | T3: ...../...../...... | U3: ...../...../...... | V3: ...../...../......
A4: Celeste Alimentação EIRELI ME | B4: 1 | C4: 1 | D4: COFFEE BREAK TIPO 1 | E4: Pessoa | F4: 339039-23 | G4: 7.92 | H4: 500 | I4: =H4-(SUM(K4:V4)) -> 470 | J4: =IF(I4<0,"ATENÇÃO","OK") -> OK | K4: 0 | L4: 0 | M4: 30 | N4: 0 | O4: 0 | P4: 0 | Q4: 0 | R4: 0 | S4: 0 | T4: 0 | U4: 0 | V4: 0
C5: 2 | D5: COFFEE BREAK TIPO 2 | E5: Pessoa | F5: 339039-23 | G5: 10.2 | H5: 1000 | I5: =H5-(SUM(K5:V5)) -> 970 | J5: =IF(I5<0,"ATENÇÃO","OK") -> OK | K5: 0 | L5: 0 | M5: 30 | N5: 0 | O5: 0 | P5: 0 | Q5: 0 | R5: 0 | S5: 0 | T5: 0 | U5: 0 | V5: 0
C6: 3 | D6: COFFEE BREAK TIPO 3 | E6: Pessoa | F6: 339039-23 | G6: 12.05 | H6: 1000 | I6: =H6-(SUM(K6:V6)) -> 750 | J6: =IF(I6<0,"ATENÇÃO","OK") -> OK | K6: 50 | L6: 50 | M6: 0 | N6: 150 | O6: 0 | P6: 0 | Q6: 0 | R6: 0 | S6: 0 | T6: 0 | U6: 0 | V6: 0
C7: 4 | D7: COQUETEL | E7: Pessoa | F7: 339039-23 | G7: 23.62 | H7: 800 | I7: =H7-(SUM(K7:V7)) -> 800 | J7: =IF(I7<0,"ATENÇÃO","OK") -> OK | K7: 0 | L7: 0 | M7: 0 | N7: 0 | O7: 0 | P7: 0 | Q7: 0 | R7: 0 | S7: 0 | T7: 0 | U7: 0 | V7: 0
A8: Villa Gourmet Eventos Ltda | B8: 2 | C8: 5 | D8: COFFEE BREAK TIPO 3 | E8: Pessoa | F8: 339039-23 | G8: 12.83 | I8: =H8-(SUM(K8:V8)) -> 0 | J8: =IF(I8<0,"ATENÇÃO","OK") -> OK | K8: 0 | L8: 0 | M8: 0 | N8: 0 | O8: 0 | P8: 0 | Q8: 0 | R8: 0 | S8: 0 | T8: 0 | U8: 0 | V8: 0
C9: 6 | D9: COQUETEL | E9: Pessoa | F9: 339039-23 | G9: 26.42 | I9: =H9-(SUM(K9:V9)) -> 0 | J9: =IF(I9<0,"ATENÇÃO","OK") -> OK | K9: 0 | L9: 0 | M9: 0 | N9: 0 | O9: 0 | P9: 0 | Q9: 0 | R9: 0 | S9: 0 | T9: 0 | U9: 0 | V9: 0
D11: *Prazos de Entrega e Pagamento conforme edital

Sheet CEAD
A1: PROCESSO: 0064/2015/UDESC | D1: OBJETO: FORNECIMENTO DE COFFEE BREAK E COQUETEL PARA EVENTOS DA UDESC | H1: VIGÊNCIA DA ATA: 20/05/2015 até 19/05/2016 | K1: AF/OS nº 949/2015 Qtde. DT | L1: AF/OS nº xxxx/2015 Qtde. DT | M1: AF/OS nº xxxx/2015 Qtde. DT | N1: AF/OS nº xxxx/2015 Qtde. DT | O1: AF/OS nº xxxx/2015 Qtde. DT | P1: AF/OS nº xxxx/2015 Qtde. DT | Q1: AF/OS nº xxxx/2015 Qtde. DT | R1: AF/OS nº xxxx/2015 Qtde. DT | S1: AF/OS nº xxxx/2015 Qtde. DT | T1: AF/OS nº xxxx/2015 Qtde. DT | U1: AF/OS nº xxxx/2015 Qtde. DT | V1: AF/OS nº xxxx/2015 Qtde. DT
A2: CENTRO PARTICIPANTE: CEAD
A3: FORNECEDOR | B3: LOTE | C3: ITEM | D3: PRODUTO - CARACTERÍSTICAS MÍNIMAS | E3: UNIDADE | F3: ELEMENTO | G3: Preço UNITÁRIO (R$) | H3: Qtde Registrada | I3: Saldo / Automático | J3: ALERTA | K3: 42167 | L3: ...../...../...... | M3: ...../...../...... | N3: ...../...../...... | O3: ...../...../...... | P3: ...../...../...... | Q3: ...../...../...... | R3: ...../...../...... | S3: ...../...../...... | T3: ...../...../...... | U3: ...../...../...... | V3: ...../...../......
A4: Celeste Alimentação EIRELI ME | B4: 1 | C4: 1 | D4: COFFEE BREAK TIPO 1 | E4: Pessoa | F4: 339039-23 | G4: 7.92 | H4: 80 | I4: =H4-(SUM(K4:V4)) -> 80 | J4: =IF(I4<0,"ATENÇÃO","OK") -> OK | K4: 0 | L4: 0 | M4: 0 | N4: 0 | O4: 0 | P4: 0 | Q4: 0 | R4: 0 | S4: 0 | T4: 0 | U4: 0 | V4: 0
C5: 2 | D5: COFFEE BREAK TIPO 2 | E5: Pessoa | F5: 339039-23 | G5: 10.2 | H5: 2500 | I5: =H5-(SUM(K5:V5)) -> 2000 | J5: =IF(I5<0,"ATENÇÃO","OK") -> OK | K5: 500 | L5: 0 | M5: 0 | N5: 0 | O5: 0 | P5: 0 | Q5: 0 | R5: 0 | S5: 0 | T5: 0 | U5: 0 | V5: 0
C6: 3 | D6: COFFEE BREAK TIPO 3 | E6: Pessoa | F6: 339039-23 | G6: 12.05 | H6: 420 | I6: =H6-(SUM(K6:V6)) -> 340 | J6: =IF(I6<0,"ATENÇÃO","OK") -> OK | K6: 80 | L6: 0 | M6: 0 | N6: 0 | O6: 0 | P6: 0 | Q6: 0 | R6: 0 | S6: 0 | T6: 0 | U6: 0 | V6: 0
C7: 4 | D7: COQUETEL | E7: Pessoa | F7: 339039-23 | G7: 23.62 | H7: 200 | I7: =H7-(SUM(K7:V7)) -> 120 | J7: =IF(I7<0,"ATENÇÃO","OK") -> OK | K7: 80 | L7: 0 | M7: 0 | N7: 0 | O7: 0 | P7: 0 | Q7: 0 | R7: 0 | S7: 0 | T7: 0 | U7: 0 | V7: 0
A8: Villa Gourmet Eventos Ltda | B8: 2 | C8: 5 | D8: COFFEE BREAK TIPO 3 | E8: Pessoa | F8: 339039-23 | G8: 12.83 | I8: =H8-(SUM(K8:V8)) -> 0 | J8: =IF(I8<0,"ATENÇÃO","OK") -> OK | K8: 0 | L8: 0 | M8: 0 | N8: 0 | O8: 0 | P8: 0 | Q8: 0 | R8: 0 | S8: 0 | T8: 0 | U8: 0 | V8: 0
C9: 6 | D9: COQUETEL | E9: Pessoa | F9: 339039-23 | G9: 26.42 | I9: =H9-(SUM(K9:V9)) -> 0 | J9: =IF(I9<0,"ATENÇÃO","OK") -> OK | K9: 0 | L9: 0 | M9: 0 | N9: 0 | O9: 0 | P9: 0 | Q9: 0 | R9: 0 | S9: 0 | T9: 0 | U9: 0 | V9: 0
D11: *Prazos de Entrega e Pagamento conforme edital

Sheet CEFID
A1: PROCESSO: 0064/2015/UDESC | D1: OBJETO: FORNECIMENTO DE COFFEE BREAK E COQUETEL PARA EVENTOS DA UDESC | H1: VIGÊNCIA DA ATA: 20/05/2015 até 19/05/2016 | K1: AF/OS nº 1014/2015 Qtde. DT | L1: AF/OS nº 1174/2015 Qtde. DT | M1: AF/OS nº 1463/20155 Qtde. DT | N1: AF/OS nº 1486/2015 Qtde. DT | O1: AF/OS nº xxxx/2015 Qtde. DT | P1: AF/OS nº xxxx/2015 Qtde. DT | Q1: AF/OS nº xxxx/2015 Qtde. DT | R1: AF/OS nº xxxx/2015 Qtde. DT | S1: AF/OS nº xxxx/2015 Qtde. DT | T1: AF/OS nº xxxx/2015 Qtde. DT | U1: AF/OS nº xxxx/2015 Qtde. DT | V1: AF/OS nº xxxx/2015 Qtde. DT
A2: CENTRO PARTICIPANTE: CEFID
A3: FORNECEDOR | B3: LOTE | C3: ITEM | D3: PRODUTO - CARACTERÍSTICAS MÍNIMAS | E3: UNIDADE | F3: ELEMENTO | G3: Preço UNITÁRIO (R$) | H3: Qtde Registrada | I3: Saldo / Automático | J3: ALERTA | K3: 42174 | L3: 42195 | M3: 42233 | N3: 42236 | O3: ...../...../...... | P3: ...../...../...... | Q3: ...../...../...... | R3: ...../...../...... | S3: ...../...../...... | T3: ...../...../...... | U3: ...../...../...... | V3: ...../...../......
A4: Celeste Alimentação EIRELI ME | B4: 1 | C4: 1 | D4: COFFEE BREAK TIPO 1 | E4: Pessoa | F4: 339039-23 | G4: 7.92 | I4: =H4-(SUM(K4:V4)) -> 0 | J4: =IF(I4<0,"ATENÇÃO","OK") -> OK | K4: 0 | L4: 0 | M4: 0 | N4: 0 | O4: 0 | P4: 0 | Q4: 0 | R4: 0 | S4: 0 | T4: 0 | U4: 0 | V4: 0
C5: 2 | D5: COFFEE BREAK TIPO 2 | E5: Pessoa | F5: 339039-23 | G5: 10.2 | H5: 2000 | I5: =H5-(SUM(K5:V5)) -> 1408 | J5: =IF(I5<0,"ATENÇÃO","OK") -> OK | K5: 70 | L5: 30 | M5: 280 | N5: 212 | O5: 0 | P5: 0 | Q5: 0 | R5: 0 | S5: 0 | T5: 0 | U5: 0 | V5: 0
C6: 3 | D6: COFFEE BREAK TIPO 3 | E6: Pessoa | F6: 339039-23 | G6: 12.05 | I6: =H6-(SUM(K6:V6)) -> 0 | J6: =IF(I6<0,"ATENÇÃO","OK") -> OK | K6: 0 | L6: 0 | M6: 0 | N6: 0 | O6: 0 | P6: 0 | Q6: 0 | R6: 0 | S6: 0 | T6: 0 | U6: 0 | V6: 0
C7: 4 | D7: COQUETEL | E7: Pessoa | F7: 339039-23 | G7: 23.62 | I7: =H7-(SUM(K7:V7)) -> 0 | J7: =IF(I7<0,"ATENÇÃO","OK") -> OK | K7: 0 | L7: 0 | M7: 0 | N7: 0 | O7: 0 | P7: 0 | Q7: 0 | R7: 0 | S7: 0 | T7: 0 | U7: 0 | V7: 0
A8: Villa Gourmet Eventos Ltda | B8: 2 | C8: 5 | D8: COFFEE BREAK TIPO 3 | E8: Pessoa | F8: 339039-23 | G8: 12.83 | I8: =H8-(SUM(K8:V8)) -> 0 | J8: =IF(I8<0,"ATENÇÃO","OK") -> OK | K8: 0 | L8: 0 | M8: 0 | N8: 0 | O8: 0 | P8: 0 | Q8: 0 | R8: 0 | S8: 0 | T8: 0 | U8: 0 | V8: 0
C9: 6 | D9: COQUETEL | E9: Pessoa | F9: 339039-23 | G9: 26.42 | I9: =H9-(SUM(K9:V9)) -> 0 | J9: =IF(I9<0,"ATENÇÃO","OK") -> OK | K9: 0 | L9: 0 | M9: 0 | N9: 0 | O9: 0 | P9: 0 | Q9: 0 | R9: 0 | S9: 0 | T9: 0 | U9: 0 | V9: 0
D11: *Prazos de Entrega e Pagamento conforme edital

Sheet CERES
A1: PROCESSO: 0064/2015/UDESC | D1: OBJETO: FORNECIMENTO DE COFFEE BREAK E COQUETEL PARA EVENTOS DA UDESC | H1: VIGÊNCIA DA ATA: 20/05/2015 até 19/05/2016 | K1: AF/OS nº 2044/2015 Qtde. DT | L1: AF/OS nº xxxx/2015 Qtde. DT | M1: AF/OS nº xxxx/2015 Qtde. DT | N1: AF/OS nº xxxx/2015 Qtde. DT | O1: AF/OS nº xxxx/2015 Qtde. DT | P1: AF/OS nº xxxx/2015 Qtde. DT | Q1: AF/OS nº xxxx/2015 Qtde. DT | R1: AF/OS nº xxxx/2015 Qtde. DT | S1: AF/OS nº xxxx/2015 Qtde. DT | T1: AF/OS nº xxxx/2015 Qtde. DT | U1: AF/OS nº xxxx/2015 Qtde. DT | V1: AF/OS nº xxxx/2015 Qtde. DT
A2: CENTRO PARTICIPANTE: CERES
A3: FORNECEDOR | B3: LOTE | C3: ITEM | D3: PRODUTO - CARACTERÍSTICAS MÍNIMAS | E3: UNIDADE | F3: ELEMENTO | G3: Preço UNITÁRIO (R$) | H3: Qtde Registrada | I3: Saldo / Automático | J3: ALERTA | K3: 42304 | L3: ...../...../...... | M3: ...../...../...... | N3: ...../...../...... | O3: ...../...../...... | P3: ...../...../...... | Q3: ...../...../...... | R3: ...../...../...... | S3: ...../...../...... | T3: ...../...../...... | U3: ...../...../...... | V3: ...../...../......
A4: Celeste Alimentação EIRELI ME | B4: 1 | C4: 1 | D4: COFFEE BREAK TIPO 1 | E4: Pessoa | F4: 339039-23 | G4: 7.92 | I4: =H4-(SUM(K4:V4)) -> 0 | J4: =IF(I4<0,"ATENÇÃO","OK") -> OK | K4: 0 | L4: 0 | M4: 0 | N4: 0 | O4: 0 | P4: 0 | Q4: 0 | R4: 0 | S4: 0 | T4: 0 | U4: 0 | V4: 0
C5: 2 | D5: COFFEE BREAK TIPO 2 | E5: Pessoa | F5: 339039-23 | G5: 10.2 | I5: =H5-(SUM(K5:V5)) -> 0 | J5: =IF(I5<0,"ATENÇÃO","OK") -> OK | K5: 0 | L5: 0 | M5: 0 | N5: 0 | O5: 0 | P5: 0 | Q5: 0 | R5: 0 | S5: 0 | T5: 0 | U5: 0 | V5: 0
C6: 3 | D6: COFFEE BREAK TIPO 3 | E6: Pessoa | F6: 339039-23 | G6: 12.05 | I6: =H6-(SUM(K6:V6)) -> 0 | J6: =IF(I6<0,"ATENÇÃO","OK") -> OK | K6: 0 | L6: 0 | M6: 0 | N6: 0 | O6: 0 | P6: 0 | Q6: 0 | R6: 0 | S6: 0 | T6: 0 | U6: 0 | V6: 0
C7: 4 | D7: COQUETEL | E7: Pessoa | F7: 339039-23 | G7: 23.62 | I7: =H7-(SUM(K7:V7)) -> 0 | J7: =IF(I7<0,"ATENÇÃO","OK") -> OK | K7: 0 | L7: 0 | M7: 0 | N7: 0 | O7: 0 | P7: 0 | Q7: 0 | R7: 0 | S7: 0 | T7: 0 | U7: 0 | V7: 0
A8: Villa Gourmet Eventos Ltda | B8: 2 | C8: 5 | D8: COFFEE BREAK TIPO 3 | E8: Pessoa | F8: 339039-23 | G8: 12.83 | H8: 3120 | I8: =H8-(SUM(K8:V8)) -> 2820 | J8: =IF(I8<0,"ATENÇÃO","OK") -> OK | K8: 300 | L8: 0 | M8: 0 | N8: 0 | O8: 0 | P8: 0 | Q8: 0 | R8: 0 | S8: 0 | T8: 0 | U8: 0 | V8: 0
C9: 6 | D9: COQUETEL | E9: Pessoa | F9: 339039-23 | G9: 26.42 | H9: 180 | I9: =H9-(SUM(K9:V9)) -> 180 | J9: =IF(I9<0,"ATENÇÃO","OK") -> OK | K9: 0 | L9: 0 | M9: 0 | N9: 0 | O9: 0 | P9: 0 | Q9: 0 | R9: 0 | S9: 0 | T9: 0 | U9: 0 | V9: 0
D11: *Prazos de Entrega e Pagamento conforme edital

Sheet CESFI
A1: PROCESSO: 0064/2015/UDESC | D1: OBJETO: FORNECIMENTO DE COFFEE BREAK E COQUETEL PARA EVENTOS DA UDESC | H1: VIGÊNCIA DA ATA: 20/05/2015 até 19/05/2016 | K1: AF/OS nº xxxx/2015 Qtde. DT | L1: AF/OS nº xxxx/2015 Qtde. DT | M1: AF/OS nº xxxx/2015 Qtde. DT | N1: AF/OS nº xxxx/2015 Qtde. DT | O1: AF/OS nº xxxx/2015 Qtde. DT | P1: AF/OS nº xxxx/2015 Qtde. DT | Q1: AF/OS nº xxxx/2015 Qtde. DT | R1: AF/OS nº xxxx/2015 Qtde. DT | S1: AF/OS nº xxxx/2015 Qtde. DT | T1: AF/OS nº xxxx/2015 Qtde. DT | U1: AF/OS nº xxxx/2015 Qtde. DT | V1: AF/OS nº xxxx/2015 Qtde. DT
A2: CENTRO PARTICIPANTE: CESFI
A3: FORNECEDOR | B3: LOTE | C3: ITEM | D3: PRODUTO - CARACTERÍSTICAS MÍNIMAS | E3: UNIDADE | F3: ELEMENTO | G3: Preço UNITÁRIO (R$) | H3: Qtde Registrada | I3: Saldo / Automático | J3: ALERTA | K3: ...../...../...... | L3: ...../...../...... | M3: ...../...../...... | N3: ...../...../...... | O3: ...../...../...... | P3: ...../...../...... | Q3: ...../...../...... | R3: ...../...../...... | S3: ...../...../...... | T3: ...../...../...... | U3: ...../...../...... | V3: ...../...../......
A4: Celeste Alimentação EIRELI ME | B4: 1 | C4: 1 | D4: COFFEE BREAK TIPO 1 | E4: Pessoa | F4: 339039-23 | G4: 7.92 | I4: =H4-(SUM(K4:V4)) -> 0 | J4: =IF(I4<0,"ATENÇÃO","OK") -> OK | K4: 0 | L4: 0 | M4: 0 | N4: 0 | O4: 0 | P4: 0 | Q4: 0 | R4: 0 | S4: 0 | T4: 0 | U4: 0 | V4: 0
C5: 2 | D5: COFFEE BREAK TIPO 2 | E5: Pessoa | F5: 339039-23 | G5: 10.2 | I5: =H5-(SUM(K5:V5)) -> 0 | J5: =IF(I5<0,"ATENÇÃO","OK") -> OK | K5: 0 | L5: 0 | M5: 0 | N5: 0 | O5: 0 | P5: 0 | Q5: 0 | R5: 0 | S5: 0 | T5: 0 | U5: 0 | V5: 0
C6: 3 | D6: COFFEE BREAK TIPO 3 | E6: Pessoa | F6: 339039-23 | G6: 12.05 | I6: =H6-(SUM(K6:V6)) -> 0 | J6: =IF(I6<0,"ATENÇÃO","OK") -> OK | K6: 0 | L6: 0 | M6: 0 | N6: 0 | O6: 0 | P6: 0 | Q6: 0 | R6: 0 | S6: 0 | T6: 0 | U6: 0 | V6: 0
C7: 4 | D7: COQUETEL | E7: Pessoa | F7: 339039-23 | G7: 23.62 | I7: =H7-(SUM(K7:V7)) -> 0 | J7: =IF(I7<0,"ATENÇÃO","OK") -> OK | K7: 0 | L7: 0 | M7: 0 | N7: 0 | O7: 0 | P7: 0 | Q7: 0 | R7: 0 | S7: 0 | T7: 0 | U7: 0 | V7: 0
A8: Villa Gourmet Eventos Ltda | B8: 2 | C8: 5 | D8: COFFEE BREAK TIPO 3 | E8: Pessoa | F8: 339039-23 | G8: 12.83 | I8: =H8-(SUM(K8:V8)) -> 0 | J8: =IF(I8<0,"ATENÇÃO","OK") -> OK | K8: 0 | L8: 0 | M8: 0 | N8: 0 | O8: 0 | P8: 0 | Q8: 0 | R8: 0 | S8: 0 | T8: 0 | U8: 0 | V8: 0
C9: 6 | D9: COQUETEL | E9: Pessoa | F9: 339039-23 | G9: 26.42 | I9: =H9-(SUM(K9:V9)) -> 0 | J9: =IF(I9<0,"ATENÇÃO","OK") -> OK | K9: 0 | L9: 0 | M9: 0 | N9: 0 | O9: 0 | P9: 0 | Q9: 0 | R9: 0 | S9: 0 | T9: 0 | U9: 0 | V9: 0
D11: *Prazos de Entrega e Pagamento conforme edital

Sheet GESTOR
A1: PROCESSO: 0064/2015/UDESC | D1: OBJETO: FORNECIMENTO DE COFFEE BREAK E COQUETEL PARA EVENTOS DA UDESC | H1: VIGÊNCIA DA ATA: 20/05/2015 até 19/05/2016
A2: CENTRO PARTICIPANTE: GESTOR
A3: FORNECEDOR | B3: LOTE | C3: ITEM | D3: PRODUTO - CARACTERÍSTICAS MÍNIMAS | E3: UNIDADE | F3: ELEMENTO | G3: Preço UNITÁRIO (R$) | H3: Qtde Registrada | I3: Qtde Utilizada | J3: SALDO | K3: Valor Total Registrado | L3: Valor Total Utilizado
A4: Celeste Alimentação EIRELI ME | B4: 1 | C4: 1 | D4: COFFEE BREAK TIPO 1 | E4: Pessoa | F4: 339039-23 | G4: 7.92 | H4: =PROEX!H4+MUSEU!I4+PROAD!I4+PROEN!I4+ESAG!I4+CEART!I4+FAED!I4+CEAD!I4+CEFID!I4+CERES!I4+CESFI!I4 -> 553 | I4: =(PROEX!H4-PROEX!I4)+(MUSEU!H4-MUSEU!I4)+(PROAD!H4-PROAD!I4)+(PROEN!H4-PROEN!I4)+(ESAG!H4-ESAG!I4)+(CEART!H4-CEART!I4)+(FAED!H4-FAED!I4)+(CEAD!H4-CEAD!I4)+(CEFID!H4-CEFID!I4)+(CERES!H4-CERES!I4)+(CESFI!H4-CESFI!I4) -> 80 | J4: =H4-I4 -> 473 | K4: =G4*H4 -> 4379.76 | L4: =G4*I4 -> 633.6
C5: 2 | D5: COFFEE BREAK TIPO 2 | E5: Pessoa | F5: 339039-23 | G5: 10.2 | H5: =PROEX!H5+MUSEU!I5+PROAD!I5+PROEN!I5+ESAG!I5+CEART!I5+FAED!I5+CEAD!I5+CEFID!I5+CERES!I5+CESFI!I5 -> 9021 | I5: =(PROEX!H5-PROEX!I5)+(MUSEU!H5-MUSEU!I5)+(PROAD!H5-PROAD!I5)+(PROEN!H5-PROEN!I5)+(ESAG!H5-ESAG!I5)+(CEART!H5-CEART!I5)+(FAED!H5-FAED!I5)+(CEAD!H5-CEAD!I5)+(CEFID!H5-CEFID!I5)+(CERES!H5-CERES!I5)+(CESFI!H5-CESFI!I5) -> 1862 | J5: =H5-I5 -> 7159 | K5: =G5*H5 -> 92014.2 | L5: =G5*I5 -> 18992.4
C6: 3 | D6: COFFEE BREAK TIPO 3 | E6: Pessoa | F6: 339039-23 | G6: 12.05 | H6: =PROEX!H6+MUSEU!I6+PROAD!I6+PROEN!I6+ESAG!I6+CEART!I6+FAED!I6+CEAD!I6+CEFID!I6+CERES!I6+CESFI!I6 -> 4560 | I6: =(PROEX!H6-PROEX!I6)+(MUSEU!H6-MUSEU!I6)+(PROAD!H6-PROAD!I6)+(PROEN!H6-PROEN!I6)+(ESAG!H6-ESAG!I6)+(CEART!H6-CEART!I6)+(FAED!H6-FAED!I6)+(CEAD!H6-CEAD!I6)+(CEFID!H6-CEFID!I6)+(CERES!H6-CERES!I6)+(CESFI!H6-CESFI!I6) -> 570 | J6: =H6-I6 -> 3990 | K6: =G6*H6 -> 54948 | L6: =G6*I6 -> 6868.5
C7: 4 | D7: COQUETEL | E7: Pessoa | F7: 339039-23 | G7: 23.62 | H7: =PROEX!H7+MUSEU!I7+PROAD!I7+PROEN!I7+ESAG!I7+CEART!I7+FAED!I7+CEAD!I7+CEFID!I7+CERES!I7+CESFI!I7 -> 3590 | I7: =(PROEX!H7-PROEX!I7)+(MUSEU!H7-MUSEU!I7)+(PROAD!H7-PROAD!I7)+(PROEN!H7-PROEN!I7)+(ESAG!H7-ESAG!I7)+(CEART!H7-CEART!I7)+(FAED!H7-FAED!I7)+(CEAD!H7-CEAD!I7)+(CEFID!H7-CEFID!I7)+(CERES!H7-CERES!I7)+(CESFI!H7-CESFI!I7) -> 180 | J7: =H7-I7 -> 3410 | K7: =G7*H7 -> 84795.8 | L7: =G7*I7 -> 4251.6
A8: Villa Gourmet Eventos Ltda | B8: 2 | C8: 5 | D8: COFFEE BREAK TIPO 3 | E8: Pessoa | F8: 339039-23 | G8: 12.83 | H8: =PROEX!H8+MUSEU!I8+PROAD!I8+PROEN!I8+ESAG!I8+CEART!I8+FAED!I8+CEAD!I8+CEFID!I8+CERES!I8+CESFI!I8 -> 2820 | I8: =(PROEX!H8-PROEX!I8)+(MUSEU!H8-MUSEU!I8)+(PROAD!H8-PROAD!I8)+(PROEN!H8-PROEN!I8)+(ESAG!H8-ESAG!I8)+(CEART!H8-CEART!I8)+(FAED!H8-FAED!I8)+(CEAD!H8-CEAD!I8)+(CEFID!H8-CEFID!I8)+(CERES!H8-CERES!I8)+(CESFI!H8-CESFI!I8) -> 300 | J8: =H8-I8 -> 2520 | K8: =G8*H8 -> 36180.6 | L8: =G8*I8 -> 3849
C9: 6 | D9: COQUETEL | E9: Pessoa | F9: 339039-23 | G9: 26.42 | H9: =PROEX!H9+MUSEU!I9+PROAD!I9+PROEN!I9+ESAG!I9+CEART!I9+FAED!I9+CEAD!I9+CEFID!I9+CERES!I9+CESFI!I9 -> 180 | I9: =(PROEX!H9-PROEX!I9)+(MUSEU!H9-MUSEU!I9)+(PROAD!H9-PROAD!I9)+(PROEN!H9-PROEN!I9)+(ESAG!H9-ESAG!I9)+(CEART!H9-CEART!I9)+(FAED!H9-FAED!I9)+(CEAD!H9-CEAD!I9)+(CEFID!H9-CEFID!I9)+(CERES!H9-CERES!I9)+(CESFI!H9-CESFI!I9) -> 0 | J9: =H9-I9 -> 180 | K9: =G9*H9 -> 4755.6 | L9: =G9*I9 -> 0
K10: =SUM(K4:K9) -> 277073.96 | L10: =SUM(L4:L9) -> 34595.1
D11: *Prazos de Entrega e Pagamento conforme edital
H12: Pregão 0064/2015/UDESC - SRP
H13: FORNECIMENTO DE COFFEE BREAK E COQUETEL PARA EVENTOS DA UDESC
D14: AVISO DE CANCELAMENTO DE REGISTRO DE PREÇOS - A Fundação Universidade do Estado de Santa Catarina torna público o cancelamento dos preços registrados na Ata do PP 64/2015 em favor da empresa Celeste Alimentação Eireli ME, CNPJ 18.384.957/0001-44, para fornecimento de coffee break e coquetel para eventos da UDESC. O presente cancelamento se dá com fundamento no art. 106, do Decreto Estadual nº 2.617/2009, c/c o item 13.1.2 do Edital do Pregão Presencial nº 64/2015. Florianópolis, 17/9/2015. Antonio Heronaldo de Sousa – Reitor da UDESC | H14: Vigência da Ata: 20/05/2015 até 19/05/2016
H15: Valor Total da Ata com Aditivo | L15: =K10 -> 277073.96
H16: Valor Utilizado | L16: =L10 -> 34595.1
H17: % Aditivos
H18: % Utilizado | L18: =L16/L15 -> 0.12485872
H19: Resumo Atualizado em Novembro/2015

Sheet Modelo Anexo II IN 002_2014
A1: ANEXO II – Instrução Normativa n.º 002/2014
A3: DECLARAÇÃO DE DISPONIBILIDADE DE QUANTITATIVO PARA EMISSÃO DE AUTORIZAÇÃO DE FORNECIMENTO/ORDEM DE SERVIÇO – SISTEMA DE REGISTRO DE PREÇOS/UDESC
A5: Processo CPA n.º XXXX/2014
A6: Pregão n.º XXXX/2014
A7: Objeto:
A8: Vigência da Ata de Registro de Preços: XX/XX/XXXX até XX/XX/XXXXX
A10: Declaro que o Centro XXXXXXX, participante da Ata de Registro de Preços proveniente do Pregão n.º XXXX/2014, possui saldo em seu quantitativo para a emissão da Autorização de Fornecimento/Ordem de Serviço n.º XXXX/2014, no valor de R$ X.XXX,XX, a ser firmada com a empresa XXXXXXX, restando ainda em sua cota para próximas contratações com o referido fornecedor os seguintes quantitativos:
A12: Lote | B12: Item | C12: Descrição Resumida | D12: Unidade | E12: Valor Unitário (R$) | F12: Saldo Quantitativo (antes da emissão desta AF/OS) | G12: Quantitativo da AF/OS | H12: Saldo Atualizado
A19: __________________, ____/_____/____
A20: Cidade Data
A24: _____________________________________________
A25: Diretor(a) de Administração
A26: (carimbo e assinatura)
