Workbook
Name ceavi: OFFSET(#REF!,(MATCH(SMALL(#REF!,ROW()-10),#REF!,0)-1),0)
Name diasuteis: #REF!
Name diasuteis: #REF!
Name diasuteis: #REF!
Name diasuteis: #REF!
Name diasuteis: #REF!
Name diasuteis: #REF!
Name diasuteis: #REF!
Name Ferias: #REF!
Name Ferias: #REF!
Name Ferias: #REF!
Name Ferias: #REF!
Name Ferias: #REF!
Name Ferias: #REF!
Name Ferias: #REF!
Name RD: OFFSET(#REF!,(MATCH(SMALL(#REF!,ROW()-10),#REF!,0)-1),0)
Name RD: OFFSET(#REF!,(MATCH(SMALL(#REF!,ROW()-10),#REF!,0)-1),0)
Name RD: OFFSET(#REF!,(MATCH(SMALL(#REF!,ROW()-10),#REF!,0)-1),0)
Name RD: OFFSET(#REF!,(MATCH(SMALL(#REF!,ROW()-10),#REF!,0)-1),0)
Name RD: OFFSET(#REF!,(MATCH(SMALL(#REF!,ROW()-10),#REF!,0)-1),0)
Name RD: OFFSET(#REF!,(MATCH(SMALL(#REF!,ROW()-10),#REF!,0)-1),0)
Name RD: OFFSET(#REF!,(MATCH(SMALL(#REF!,ROW()-10),#REF!,0)-1),0)

Sheet CEAVI
A1: PROCESSO: 1068/2015/UDESC | D1: OBJETO: AQUISIÇÃO DE MATERIAL ESPORTIVO E DE FISIOTERAPIA PARA A UDESC | I1: VIGÊNCIA DA ATA: 27/11/2015 até 26/11/2016 | L1: AF/OS nº xxxx/2015 Qtde. DT | M1: AF/OS nº xxxx/2015 Qtde. DT | N1: AF/OS nº xxxx/2015 Qtde. DT | O1: AF/OS nº xxxx/2015 Qtde. DT | P1: AF/OS nº xxxx/2015 Qtde. DT | Q1: AF/OS nº xxxx/2015 Qtde. DT | R1: AF/OS nº xxxx/2015 Qtde. DT | S1: AF/OS nº xxxx/2015 Qtde. DT | T1: AF/OS nº xxxx/2015 Qtde. DT | U1: AF/OS nº xxxx/2015 Qtde. DT | V1: AF/OS nº xxxx/2015 Qtde. DT | W1: AF/OS nº xxxx/2015 Qtde. DT
A2: CENTRO PARTICIPANTE: CEAVI
A3: FORNECEDOR | B3: LOTE | C3: ITEM | D3: PRODUTO - CARACTERÍSTICAS MÍNIMAS | E3: UNIDADE | F3: MARCA | G3: DETALHAMENTO | H3: Preço UNITÁRIO (R$) | I3: Qtde Registrada | J3: Saldo / Automático | K3: ALERTA | L3: ...../...../...... | M3: ...../...../...... | N3: ...../...../...... | O3: ...../...../...... | P3: ...../...../...... | Q3: ...../...../...... | R3: ...../...../...... | S3: ...../...../...... | T3: ...../...../...... | U3: ...../...../...... | V3: ...../...../...... | W3: ...../...../......
A4: ADBX | B4: 1 | C4: 1 | D4: BOLA DE BORRACHA, DE FRESCOBOL, | E4: UNIDADE | F4: MARE N3 | H4: 3 | J4: =I4-(L4+M4+N4+O4+P4+Q4+R4+S4+T4+U4+V4+W4) -> 0 | K4: =IF(J4<0,"ATENÇÃO","OK") -> OK
C5: 2 | D5: BOLA DE BORRACHA, DE INICIACAO ESPORTIVA N12, | F5: LCM N12 | H5: 10 | J5: =I5-(L5+M5+N5+O5+P5+Q5+R5+S5+T5+U5+V5+W5) -> 0 | K5: =IF(J5<0,"ATENÇÃO","OK") -> OK
C6: 3 | D6: BOLA DE BORRACHA, DE INICIACAO ESPORTIVA N14, | F6: LCM N14 | H6: 12 | J6: =I6-(L6+M6+N6+O6+P6+Q6+R6+S6+T6+U6+V6+W6) -> 0 | K6: =IF(J6<0,"ATENÇÃO","OK") -> OK
C7: 4 | D7: BOLA DE BORRACHA, DE SOFTBOL, | F7: LCM N3 SOFTBOL | H7: 18 | J7: =I7-(L7+M7+N7+O7+P7+Q7+R7+S7+T7+U7+V7+W7) -> 0 | K7: =IF(J7<0,"ATENÇÃO","OK") -> OK
C8: 5 | D8: BOLA DE BORRACHA, LATEX, S/COSTURA, | F8: PENALTY 1KG | H8: 60 | J8: =I8-(L8+M8+N8+O8+P8+Q8+R8+S8+T8+U8+V8+W8) -> 0 | K8: =IF(J8<0,"ATENÇÃO","OK") -> OK
C9: 6 | D9: BOLA DE BORRACHA, PARA USO FITOTERAPICO | F9: MAGUSSY 6KG | H9: 150 | J9: =I9-(L9+M9+N9+O9+P9+Q9+R9+S9+T9+U9+V9+W9) -> 0 | K9: =IF(J9<0,"ATENÇÃO","OK") -> OK
C10: 7 | D10: BOLA DE TENIS DE CAMPO, (QUADRA),OFICIAL, | F10: WILSON CHAPIONSHIP | H10: 27 | J10: =I10-(L10+M10+N10+O10+P10+Q10+R10+S10+T10+U10+V10+W10) -> 0 | K10: =IF(J10<0,"ATENÇÃO","OK") -> OK
C11: 8 | D11: BOLA MEDICINE BALL DE 2 KG., | F11: PENALTY | H11: 14 | J11: =I11-(L11+M11+N11+O11+P11+Q11+R11+S11+T11+U11+V11+W11) -> 0 | K11: =IF(J11<0,"ATENÇÃO","OK") -> OK
C12: 9 | D12: BOLA MEDICINE BALL DE 3 KG, | F12: ONEAL 3KG | H12: 180 | J12: =I12-(L12+M12+N12+O12+P12+Q12+R12+S12+T12+U12+V12+W12) -> 0 | K12: =IF(J12<0,"ATENÇÃO","OK") -> OK
C13: 10 | D13: BOLA MEDICINE BALL DE 3 KG, | F13: PENALTY 3KG | H13: 100 | J13: =I13-(L13+M13+N13+O13+P13+Q13+R13+S13+T13+U13+V13+W13) -> 0 | K13: =IF(J13<0,"ATENÇÃO","OK") -> OK
C14: 11 | D14: BOLA P/FUTEBOL DE CAMPO, BRASIL, | F14: PENALTY PRO BRASIL R2 | H14: 130 | I14: 5 | J14: =I14-(L14+M14+N14+O14+P14+Q14+R14+S14+T14+U14+V14+W14) -> 5 | K14: =IF(J14<0,"ATENÇÃO","OK") -> OK
C15: 12 | D15: BOLA PARA BASQUETEBOL, | F15: PENALTY PRO 6.5 | H15: 150 | J15: =I15-(L15+M15+N15+O15+P15+Q15+R15+S15+T15+U15+V15+W15) -> 0 | K15: =IF(J15<0,"ATENÇÃO","OK") -> OK
C16: 13 | D16: BOLA PARA BASQUETEBOL, BASQUETE 7.4, | F16: PENALTY PRO 7.5 | H16: 160 | J16: =I16-(L16+M16+N16+O16+P16+Q16+R16+S16+T16+U16+V16+W16) -> 0 | K16: =IF(J16<0,"ATENÇÃO","OK") -> OK
C17: 14 | D17: BOLA PARA BASQUETEBOL, CATEGORIA MIRIM, | F17: PENALTY PRO 5.7 | H17: 133.75 | J17: =I17-(L17+M17+N17+O17+P17+Q17+R17+S17+T17+U17+V17+W17) -> 0 | K17: =IF(J17<0,"ATENÇÃO","OK") -> OK
C18: 15 | D18: BOLA PARA FUTEBOL DE SALAO, | F18: KAGIVA AD OF | H18: 70 | I18: 6 | J18: =I18-(L18+M18+N18+O18+P18+Q18+R18+S18+T18+U18+V18+W18) -> 6 | K18: =IF(J18<0,"ATENÇÃO","OK") -> OK
C19: 16 | D19: BOLA PARA FUTEBOL DE SALAO, CATEGORIA INFANTIL, | F19: PENALTY MAX 200 | H19: 100 | J19: =I19-(L19+M19+N19+O19+P19+Q19+R19+S19+T19+U19+V19+W19) -> 0 | K19: =IF(J19<0,"ATENÇÃO","OK") -> OK
C20: 17 | D20: BOLA PARA FUTEBOL DE SALAO, DE COURO, | F20: PENALTY MAX 100 | H20: 150 | J20: =I20-(L20+M20+N20+O20+P20+Q20+R20+S20+T20+U20+V20+W20) -> 0 | K20: =IF(J20<0,"ATENÇÃO","OK") -> OK
C21: 18 | D21: BOLA PARA HANDEBOL, CATEGORIA ADULTO, | F21: PENALTY H2L | H21: 120 | J21: =I21-(L21+M21+N21+O21+P21+Q21+R21+S21+T21+U21+V21+W21) -> 0 | K21: =IF(J21<0,"ATENÇÃO","OK") -> OK
C22: 19 | D22: BOLA PARA HANDEBOL, CATEGORIA H1L, | F22: PENALTY H2L PVC | H22: 58 | J22: =I22-(L22+M22+N22+O22+P22+Q22+R22+S22+T22+U22+V22+W22) -> 0 | K22: =IF(J22<0,"ATENÇÃO","OK") -> OK
C23: 20 | D23: BOLA PARA HANDEBOL, CATEGORIA H2L, | F23: PENALTY H2L PVC | H23: 64.98 | J23: =I23-(L23+M23+N23+O23+P23+Q23+R23+S23+T23+U23+V23+W23) -> 0 | K23: =IF(J23<0,"ATENÇÃO","OK") -> OK
C24: 21 | D24: BOLA PARA HANDEBOL, MASCULINO,CATEGORIA H3L, | F24: PENALTY H3L | H24: 120 | J24: =I24-(L24+M24+N24+O24+P24+Q24+R24+S24+T24+U24+V24+W24) -> 0 | K24: =IF(J24<0,"ATENÇÃO","OK") -> OK
C25: 22 | D25: BOLA PARA PRATICA DE ESPORTE POR DEFICIENTES, | F25: TARGE GOALBALL OF | H25: 96 | J25: =I25-(L25+M25+N25+O25+P25+Q25+R25+S25+T25+U25+V25+W25) -> 0 | K25: =IF(J25<0,"ATENÇÃO","OK") -> OK
C26: 23 | D26: BOLA PARA TENIS DE MESA, MODELO OFICIAL, | F26: YACHIMA OF 40MM | H26: 3 | J26: =I26-(L26+M26+N26+O26+P26+Q26+R26+S26+T26+U26+V26+W26) -> 0 | K26: =IF(J26<0,"ATENÇÃO","OK") -> OK
C27: 24 | D27: BOLA PARA VOLEI DE PRAIA, MODELO OFICIAL, | F27: PENALTY BEACH TRN | H27: 110 | I27: 4 | J27: =I27-(L27+M27+N27+O27+P27+Q27+R27+S27+T27+U27+V27+W27) -> 4 | K27: =IF(J27<0,"ATENÇÃO","OK") -> OK
C28: 25 | D28: BOLA PARA VOLEIBOL, EM MATERIAL SINTETICO, | F28: PENALTY PRO 6.0 | H28: 148 | I28: 10 | J28: =I28-(L28+M28+N28+O28+P28+Q28+R28+S28+T28+U28+V28+W28) -> 10 | K28: =IF(J28<0,"ATENÇÃO","OK") -> OK
A29: ZERMIANI | B29: 2 | C29: 1 | D29: BOLA BOBATH, BOLA BOBATH 65 CM, | F29: BIOFIT | H29: 55 | J29: =I29-(L29+M29+N29+O29+P29+Q29+R29+S29+T29+U29+V29+W29) -> 0 | K29: =IF(J29<0,"ATENÇÃO","OK") -> OK
C30: 2 | D30: BOLA BOBATH, BOLA BOBATH 80 CM, | F30: BIOFIT | H30: 55 | J30: =I30-(L30+M30+N30+O30+P30+Q30+R30+S30+T30+U30+V30+W30) -> 0 | K30: =IF(J30<0,"ATENÇÃO","OK") -> OK
C31: 3 | D31: BOLA BOBATH, BOLA BOBATH, | F31: BIOFIT | H31: 50 | J31: =I31-(L31+M31+N31+O31+P31+Q31+R31+S31+T31+U31+V31+W31) -> 0 | K31: =IF(J31<0,"ATENÇÃO","OK") -> OK
C32: 4 | D32: BOLA BOBATH, BOLA BOBATH, PARA EXERCICIOS TERAPEUTICOS | F32: BIOFIT | H32: 50 | J32: =I32-(L32+M32+N32+O32+P32+Q32+R32+S32+T32+U32+V32+W32) -> 0 | K32: =IF(J32<0,"ATENÇÃO","OK") -> OK
C33: 5 | D33: BOLA BOBATH, BOLA BOBATH, | F33: BIOFIT | H33: 75 | J33: =I33-(L33+M33+N33+O33+P33+Q33+R33+S33+T33+U33+V33+W33) -> 0 | K33: =IF(J33<0,"ATENÇÃO","OK") -> OK
C34: 6 | D34: BOLA BOBATH, BOLA BOBATH, | F34: BIOFIT | H34: 60 | J34: =I34-(L34+M34+N34+O34+P34+Q34+R34+S34+T34+U34+V34+W34) -> 0 | K34: =IF(J34<0,"ATENÇÃO","OK") -> OK
C35: 7 | D35: BOLA BOBATH, BOLA BOBATH, | F35: BIOFIT | H35: 39 | J35: =I35-(L35+M35+N35+O35+P35+Q35+R35+S35+T35+U35+V35+W35) -> 0 | K35: =IF(J35<0,"ATENÇÃO","OK") -> OK
C36: 8 | D36: BOLA DE BORRACHA, PARA EXERCICIO FUNCIONAL, OVER BALL | F36: UP LIFT | H36: 25 | J36: =I36-(L36+M36+N36+O36+P36+Q36+R36+S36+T36+U36+V36+W36) -> 0 | K36: =IF(J36<0,"ATENÇÃO","OK") -> OK
C37: 9 | D37: BOLA, PARA BODY BALANCE DOME, | F37: BIOFIT | H37: 250 | J37: =I37-(L37+M37+N37+O37+P37+Q37+R37+S37+T37+U37+V37+W37) -> 0 | K37: =IF(J37<0,"ATENÇÃO","OK") -> OK
C38: 10 | D38: BOLA, PARA BODY BALANCE DOME, | F38: BIOFIT | H38: 290 | J38: =I38-(L38+M38+N38+O38+P38+Q38+R38+S38+T38+U38+V38+W38) -> 0 | K38: =IF(J38<0,"ATENÇÃO","OK") -> OK
C39: 11 | D39: BOLA, PARA EXERCICIOS FISICOS, 26 CM DE DIAMETRO, | F39: UP LIFT | H39: 21.5 | J39: =I39-(L39+M39+N39+O39+P39+Q39+R39+S39+T39+U39+V39+W39) -> 0 | K39: =IF(J39<0,"ATENÇÃO","OK") -> OK
C40: 12 | D40: DISCO DE BORRACHA, DISCO ESPORTIVO DE EQUILIBRIO, | F40: BIOFIT | H40: 50 | J40: =I40-(L40+M40+N40+O40+P40+Q40+R40+S40+T40+U40+V40+W40) -> 0 | K40: =IF(J40<0,"ATENÇÃO","OK") -> OK
...

Sheet REITORIA
A1: PROCESSO: 1068/2015/UDESC | D1: OBJETO: AQUISIÇÃO DE MATERIAL ESPORTIVO E DE FISIOTERAPIA PARA A UDESC | I1: VIGÊNCIA DA ATA: 27/11/2015 até 26/11/2016 | L1: AF nº 0051/2016 Qtde. DT | M1: AF/OS nº xxxx/2015 Qtde. DT | N1: AF/OS nº xxxx/2015 Qtde. DT | O1: AF/OS nº xxxx/2015 Qtde. DT | P1: AF/OS nº xxxx/2015 Qtde. DT | Q1: AF/OS nº xxxx/2015 Qtde. DT | R1: AF/OS nº xxxx/2015 Qtde. DT | S1: AF/OS nº xxxx/2015 Qtde. DT | T1: AF/OS nº xxxx/2015 Qtde. DT | U1: AF/OS nº xxxx/2015 Qtde. DT | V1: AF/OS nº xxxx/2015 Qtde. DT | W1: AF/OS nº xxxx/2015 Qtde. DT
A2: CENTRO PARTICIPANTE: REITORIA
A3: FORNECEDOR | B3: LOTE | C3: ITEM | D3: PRODUTO - CARACTERÍSTICAS MÍNIMAS | E3: UNIDADE | F3: MARCA | G3: DETALHAMENTO | H3: Preço UNITÁRIO (R$) | I3: Qtde Registrada | J3: Saldo / Automático | K3: ALERTA | L3: 42401 | M3: ...../...../...... | N3: ...../...../...... | O3: ...../...../...... | P3: ...../...../...... | Q3: ...../...../...... | R3: ...../...../...... | S3: ...../...../...... | T3: ...../...../...... | U3: ...../...../...... | V3: ...../...../...... | W3: ...../...../......
A4: ADBX | B4: 1 | C4: 1 | D4: BOLA DE BORRACHA, DE FRESCOBOL, | E4: UNIDADE | F4: MARE N3 | H4: 3 | J4: =I4-(L4+M4+N4+O4+P4+Q4+R4+S4+T4+U4+V4+W4) -> 0 | K4: =IF(J4<0,"ATENÇÃO","OK") -> OK | L4: 0
C5: 2 | D5: BOLA DE BORRACHA, DE INICIACAO ESPORTIVA N12, | F5: LCM N12 | H5: 10 | J5: =I5-(L5+M5+N5+O5+P5+Q5+R5+S5+T5+U5+V5+W5) -> 0 | K5: =IF(J5<0,"ATENÇÃO","OK") -> OK | L5: 0
C6: 3 | D6: BOLA DE BORRACHA, DE INICIACAO ESPORTIVA N14, | F6: LCM N14 | H6: 12 | J6: =I6-(L6+M6+N6+O6+P6+Q6+R6+S6+T6+U6+V6+W6) -> 0 | K6: =IF(J6<0,"ATENÇÃO","OK") -> OK | L6: 0
C7: 4 | D7: BOLA DE BORRACHA, DE SOFTBOL, | F7: LCM N3 SOFTBOL | H7: 18 | J7: =I7-(L7+M7+N7+O7+P7+Q7+R7+S7+T7+U7+V7+W7) -> 0 | K7: =IF(J7<0,"ATENÇÃO","OK") -> OK | L7: 0
C8: 5 | D8: BOLA DE BORRACHA, LATEX, S/COSTURA, | F8: PENALTY 1KG | H8: 60 | J8: =I8-(L8+M8+N8+O8+P8+Q8+R8+S8+T8+U8+V8+W8) -> 0 | K8: =IF(J8<0,"ATENÇÃO","OK") -> OK | L8: 0
C9: 6 | D9: BOLA DE BORRACHA, PARA USO FITOTERAPICO | F9: MAGUSSY 6KG | H9: 150 | J9: =I9-(L9+M9+N9+O9+P9+Q9+R9+S9+T9+U9+V9+W9) -> 0 | K9: =IF(J9<0,"ATENÇÃO","OK") -> OK | L9: 0
C10: 7 | D10: BOLA DE TENIS DE CAMPO, (QUADRA),OFICIAL, | F10: WILSON CHAPIONSHIP | H10: 27 | I10: 15 | J10: =I10-(L10+M10+N10+O10+P10+Q10+R10+S10+T10+U10+V10+W10) -> 15 | K10: =IF(J10<0,"ATENÇÃO","OK") -> OK | L10: 0
C11: 8 | D11: BOLA MEDICINE BALL DE 2 KG., | F11: PENALTY | H11: 14 | J11: =I11-(L11+M11+N11+O11+P11+Q11+R11+S11+T11+U11+V11+W11) -> 0 | K11: =IF(J11<0,"ATENÇÃO","OK") -> OK | L11: 0
C12: 9 | D12: BOLA MEDICINE BALL DE 3 KG, | F12: ONEAL 3KG | H12: 180 | I12: 5 | J12: =I12-(L12+M12+N12+O12+P12+Q12+R12+S12+T12+U12+V12+W12) -> 5 | K12: =IF(J12<0,"ATENÇÃO","OK") -> OK | L12: 0
C13: 10 | D13: BOLA MEDICINE BALL DE 3 KG, | F13: PENALTY 3KG | H13: 100 | J13: =I13-(L13+M13+N13+O13+P13+Q13+R13+S13+T13+U13+V13+W13) -> 0 | K13: =IF(J13<0,"ATENÇÃO","OK") -> OK | L13: 0
C14: 11 | D14: BOLA P/FUTEBOL DE CAMPO, BRASIL, | F14: PENALTY PRO BRASIL R2 | H14: 130 | I14: 15 | J14: =I14-(L14+M14+N14+O14+P14+Q14+R14+S14+T14+U14+V14+W14) -> 15 | K14: =IF(J14<0,"ATENÇÃO","OK") -> OK | L14: 0
C15: 12 | D15: BOLA PARA BASQUETEBOL, | F15: PENALTY PRO 6.5 | H15: 150 | J15: =I15-(L15+M15+N15+O15+P15+Q15+R15+S15+T15+U15+V15+W15) -> 0 | K15: =IF(J15<0,"ATENÇÃO","OK") -> OK | L15: 0
C16: 13 | D16: BOLA PARA BASQUETEBOL, BASQUETE 7.4, | F16: PENALTY PRO 7.5 | H16: 160 | I16: 15 | J16: =I16-(L16+M16+N16+O16+P16+Q16+R16+S16+T16+U16+V16+W16) -> 15 | K16: =IF(J16<0,"ATENÇÃO","OK") -> OK | L16: 0
C17: 14 | D17: BOLA PARA BASQUETEBOL, CATEGORIA MIRIM, | F17: PENALTY PRO 5.7 | H17: 133.75 | J17: =I17-(L17+M17+N17+O17+P17+Q17+R17+S17+T17+U17+V17+W17) -> 0 | K17: =IF(J17<0,"ATENÇÃO","OK") -> OK | L17: 0
C18: 15 | D18: BOLA PARA FUTEBOL DE SALAO, | F18: KAGIVA AD OF | H18: 70 | I18: 15 | J18: =I18-(L18+M18+N18+O18+P18+Q18+R18+S18+T18+U18+V18+W18) -> 15 | K18: =IF(J18<0,"ATENÇÃO","OK") -> OK | L18: 0
C19: 16 | D19: BOLA PARA FUTEBOL DE SALAO, CATEGORIA INFANTIL, | F19: PENALTY MAX 200 | H19: 100 | I19: 15 | J19: =I19-(L19+M19+N19+O19+P19+Q19+R19+S19+T19+U19+V19+W19) -> 15 | K19: =IF(J19<0,"ATENÇÃO","OK") -> OK | L19: 0
C20: 17 | D20: BOLA PARA FUTEBOL DE SALAO, DE COURO, | F20: PENALTY MAX 100 | H20: 150 | I20: 15 | J20: =I20-(L20+M20+N20+O20+P20+Q20+R20+S20+T20+U20+V20+W20) -> 15 | K20: =IF(J20<0,"ATENÇÃO","OK") -> OK | L20: 0
C21: 18 | D21: BOLA PARA HANDEBOL, CATEGORIA ADULTO, | F21: PENALTY H2L | H21: 120 | I21: 15 | J21: =I21-(L21+M21+N21+O21+P21+Q21+R21+S21+T21+U21+V21+W21) -> 15 | K21: =IF(J21<0,"ATENÇÃO","OK") -> OK | L21: 0
C22: 19 | D22: BOLA PARA HANDEBOL, CATEGORIA H1L, | F22: PENALTY H2L PVC | H22: 58 | J22: =I22-(L22+M22+N22+O22+P22+Q22+R22+S22+T22+U22+V22+W22) -> 0 | K22: =IF(J22<0,"ATENÇÃO","OK") -> OK | L22: 0
C23: 20 | D23: BOLA PARA HANDEBOL, CATEGORIA H2L, | F23: PENALTY H2L PVC | H23: 64.98 | J23: =I23-(L23+M23+N23+O23+P23+Q23+R23+S23+T23+U23+V23+W23) -> 0 | K23: =IF(J23<0,"ATENÇÃO","OK") -> OK | L23: 0
C24: 21 | D24: BOLA PARA HANDEBOL, MASCULINO,CATEGORIA H3L, | F24: PENALTY H3L | H24: 120 | I24: 15 | J24: =I24-(L24+M24+N24+O24+P24+Q24+R24+S24+T24+U24+V24+W24) -> 15 | K24: =IF(J24<0,"ATENÇÃO","OK") -> OK | L24: 0
C25: 22 | D25: BOLA PARA PRATICA DE ESPORTE POR DEFICIENTES, | F25: TARGE GOALBALL OF | H25: 96 | J25: =I25-(L25+M25+N25+O25+P25+Q25+R25+S25+T25+U25+V25+W25) -> 0 | K25: =IF(J25<0,"ATENÇÃO","OK") -> OK | L25: 0
C26: 23 | D26: BOLA PARA TENIS DE MESA, MODELO OFICIAL, | F26: YACHIMA OF 40MM | H26: 3 | I26: 15 | J26: =I26-(L26+M26+N26+O26+P26+Q26+R26+S26+T26+U26+V26+W26) -> 15 | K26: =IF(J26<0,"ATENÇÃO","OK") -> OK | L26: 0
C27: 24 | D27: BOLA PARA VOLEI DE PRAIA, MODELO OFICIAL, | F27: PENALTY BEACH TRN | H27: 110 | I27: =15-4 -> 11 | J27: =I27-(L27+M27+N27+O27+P27+Q27+R27+S27+T27+U27+V27+W27) -> 11 | K27: =IF(J27<0,"ATENÇÃO","OK") -> OK | L27: 0
C28: 25 | D28: BOLA PARA VOLEIBOL, EM MATERIAL SINTETICO, | F28: PENALTY PRO 6.0 | H28: 148 | I28: 15 | J28: =I28-(L28+M28+N28+O28+P28+Q28+R28+S28+T28+U28+V28+W28) -> 15 | K28: =IF(J28<0,"ATENÇÃO","OK") -> OK | L28: 0
A29: ZERMIANI | B29: 2 | C29: 1 | D29: BOLA BOBATH, BOLA BOBATH 65 CM, | F29: BIOFIT | H29: 55 | J29: =I29-(L29+M29+N29+O29+P29+Q29+R29+S29+T29+U29+V29+W29) -> 0 | K29: =IF(J29<0,"ATENÇÃO","OK") -> OK | L29: 0
C30: 2 | D30: BOLA BOBATH, BOLA BOBATH 80 CM, | F30: BIOFIT | H30: 55 | J30: =I30-(L30+M30+N30+O30+P30+Q30+R30+S30+T30+U30+V30+W30) -> 0 | K30: =IF(J30<0,"ATENÇÃO","OK") -> OK | L30: 0
C31: 3 | D31: BOLA BOBATH, BOLA BOBATH, | F31: BIOFIT | H31: 50 | J31: =I31-(L31+M31+N31+O31+P31+Q31+R31+S31+T31+U31+V31+W31) -> 0 | K31: =IF(J31<0,"ATENÇÃO","OK") -> OK | L31: 0
C32: 4 | D32: BOLA BOBATH, BOLA BOBATH, PARA EXERCICIOS TERAPEUTICOS | F32: BIOFIT | H32: 50 | J32: =I32-(L32+M32+N32+O32+P32+Q32+R32+S32+T32+U32+V32+W32) -> 0 | K32: =IF(J32<0,"ATENÇÃO","OK") -> OK | L32: 0
C33: 5 | D33: BOLA BOBATH, BOLA BOBATH, | F33: BIOFIT | H33: 75 | J33: =I33-(L33+M33+N33+O33+P33+Q33+R33+S33+T33+U33+V33+W33) -> 0 | K33: =IF(J33<0,"ATENÇÃO","OK") -> OK | L33: 0
C34: 6 | D34: BOLA BOBATH, BOLA BOBATH, | F34: BIOFIT | H34: 60 | J34: =I34-(L34+M34+N34+O34+P34+Q34+R34+S34+T34+U34+V34+W34) -> 0 | K34: =IF(J34<0,"ATENÇÃO","OK") -> OK | L34: 0
C35: 7 | D35: BOLA BOBATH, BOLA BOBATH, | F35: BIOFIT | H35: 39 | J35: =I35-(L35+M35+N35+O35+P35+Q35+R35+S35+T35+U35+V35+W35) -> 0 | K35: =IF(J35<0,"ATENÇÃO","OK") -> OK | L35: 0
C36: 8 | D36: BOLA DE BORRACHA, PARA EXERCICIO FUNCIONAL, OVER BALL | F36: UP LIFT | H36: 25 | J36: =I36-(L36+M36+N36+O36+P36+Q36+R36+S36+T36+U36+V36+W36) -> 0 | K36: =IF(J36<0,"ATENÇÃO","OK") -> OK | L36: 0
C37: 9 | D37: BOLA, PARA BODY BALANCE DOME, | F37: BIOFIT | H37: 250 | I37: 5 | J37: =I37-(L37+M37+N37+O37+P37+Q37+R37+S37+T37+U37+V37+W37) -> 5 | K37: =IF(J37<0,"ATENÇÃO","OK") -> OK | L37: 0
C38: 10 | D38: BOLA, PARA BODY BALANCE DOME, | F38: BIOFIT | H38: 290 | J38: =I38-(L38+M38+N38+O38+P38+Q38+R38+S38+T38+U38+V38+W38) -> 0 | K38: =IF(J38<0,"ATENÇÃO","OK") -> OK | L38: 0
C39: 11 | D39: BOLA, PARA EXERCICIOS FISICOS, 26 CM DE DIAMETRO, | F39: UP LIFT | H39: 21.5 | I39: 5 | J39: =I39-(L39+M39+N39+O39+P39+Q39+R39+S39+T39+U39+V39+W39) -> 4 | K39: =IF(J39<0,"ATENÇÃO","OK") -> OK | L39: 1
C40: 12 | D40: DISCO DE BORRACHA, DISCO ESPORTIVO DE EQUILIBRIO, | F40: BIOFIT | H40: 50 | J40: =I40-(L40+M40+N40+O40+P40+Q40+R40+S40+T40+U40+V40+W40) -> 0 | K40: =IF(J40<0,"ATENÇÃO","OK") -> OK | L40: 0
...

Sheet CEFID
A1: PROCESSO: 1068/2015/UDESC | D1: OBJETO: AQUISIÇÃO DE MATERIAL ESPORTIVO E DE FISIOTERAPIA PARA A UDESC | I1: VIGÊNCIA DA ATA: 27/11/2015 até 26/11/2016 | L1: AF/OS nº 2244/2015 Qtde. DT | M1: AF/OS nº 480/2016 Qtde. DT | N1: AF/OS nº xxxx/2015 Qtde. DT | O1: AF/OS nº xxxx/2015 Qtde. DT | P1: AF/OS nº xxxx/2015 Qtde. DT | Q1: AF/OS nº xxxx/2015 Qtde. DT | R1: AF/OS nº xxxx/2015 Qtde. DT | S1: AF/OS nº xxxx/2015 Qtde. DT | T1: AF/OS nº xxxx/2015 Qtde. DT | U1: AF/OS nº xxxx/2015 Qtde. DT | V1: AF/OS nº xxxx/2015 Qtde. DT
A2: CENTRO PARTICIPANTE: CEFID
A3: FORNECEDOR | B3: LOTE | C3: ITEM | D3: PRODUTO - CARACTERÍSTICAS MÍNIMAS | E3: UNIDADE | F3: MARCA | G3: DETALHAMENTO | H3: Preço UNITÁRIO (R$) | I3: Qtde Registrada | J3: Saldo / Automático | K3: ALERTA | L3: ...../...../...... | M3: 42501 | N3: ...../...../...... | O3: ...../...../...... | P3: ...../...../...... | Q3: ...../...../...... | R3: ...../...../...... | S3: ...../...../...... | T3: ...../...../...... | U3: ...../...../...... | V3: ...../...../......
A4: ADBX | B4: 1 | C4: 1 | D4: BOLA DE BORRACHA, DE FRESCOBOL, | E4: UNIDADE | F4: MARE N3 | H4: 3 | I4: 10 | J4: =I4-(L4+M4+N4+O4+P4+Q4+R4+S4+T4+U4+V4) -> 10 | K4: =IF(J4<0,"ATENÇÃO","OK") -> OK
C5: 2 | D5: BOLA DE BORRACHA, DE INICIACAO ESPORTIVA N12, | F5: LCM N12 | H5: 10 | I5: 10 | J5: =I5-(L5+M5+N5+O5+P5+Q5+R5+S5+T5+U5+V5) -> 10 | K5: =IF(J5<0,"ATENÇÃO","OK") -> OK
C6: 3 | D6: BOLA DE BORRACHA, DE INICIACAO ESPORTIVA N14, | F6: LCM N14 | H6: 12 | I6: 10 | J6: =I6-(L6+M6+N6+O6+P6+Q6+R6+S6+T6+U6+V6) -> 10 | K6: =IF(J6<0,"ATENÇÃO","OK") -> OK
C7: 4 | D7: BOLA DE BORRACHA, DE SOFTBOL, | F7: LCM N3 SOFTBOL | H7: 18 | I7: 6 | J7: =I7-(L7+M7+N7+O7+P7+Q7+R7+S7+T7+U7+V7) -> 6 | K7: =IF(J7<0,"ATENÇÃO","OK") -> OK
C8: 5 | D8: BOLA DE BORRACHA, LATEX, S/COSTURA, | F8: PENALTY 1KG | H8: 60 | I8: 3 | J8: =I8-(L8+M8+N8+O8+P8+Q8+R8+S8+T8+U8+V8) -> 3 | K8: =IF(J8<0,"ATENÇÃO","OK") -> OK
C9: 6 | D9: BOLA DE BORRACHA, PARA USO FITOTERAPICO | F9: MAGUSSY 6KG | H9: 150 | I9: 2 | J9: =I9-(L9+M9+N9+O9+P9+Q9+R9+S9+T9+U9+V9) -> 2 | K9: =IF(J9<0,"ATENÇÃO","OK") -> OK
C10: 7 | D10: BOLA DE TENIS DE CAMPO, (QUADRA),OFICIAL, | F10: WILSON CHAPIONSHIP | H10: 27 | I10: 12 | J10: =I10-(L10+M10+N10+O10+P10+Q10+R10+S10+T10+U10+V10) -> 12 | K10: =IF(J10<0,"ATENÇÃO","OK") -> OK
C11: 8 | D11: BOLA MEDICINE BALL DE 2 KG., | F11: PENALTY | H11: 14 | I11: 3 | J11: =I11-(L11+M11+N11+O11+P11+Q11+R11+S11+T11+U11+V11) -> 3 | K11: =IF(J11<0,"ATENÇÃO","OK") -> OK
C12: 9 | D12: BOLA MEDICINE BALL DE 3 KG, | F12: ONEAL 3KG | H12: 180 | J12: =I12-(L12+M12+N12+O12+P12+Q12+R12+S12+T12+U12+V12) -> 0 | K12: =IF(J12<0,"ATENÇÃO","OK") -> OK
C13: 10 | D13: BOLA MEDICINE BALL DE 3 KG, | F13: PENALTY 3KG | H13: 100 | I13: 4 | J13: =I13-(L13+M13+N13+O13+P13+Q13+R13+S13+T13+U13+V13) -> 4 | K13: =IF(J13<0,"ATENÇÃO","OK") -> OK
C14: 11 | D14: BOLA P/FUTEBOL DE CAMPO, BRASIL, | F14: PENALTY PRO BRASIL R2 | H14: 130 | I14: =64-5 -> 59 | J14: =I14-(L14+M14+N14+O14+P14+Q14+R14+S14+T14+U14+V14) -> 59 | K14: =IF(J14<0,"ATENÇÃO","OK") -> OK
C15: 12 | D15: BOLA PARA BASQUETEBOL, | F15: PENALTY PRO 6.5 | H15: 150 | I15: 52 | J15: =I15-(L15+M15+N15+O15+P15+Q15+R15+S15+T15+U15+V15) -> 52 | K15: =IF(J15<0,"ATENÇÃO","OK") -> OK
C16: 13 | D16: BOLA PARA BASQUETEBOL, BASQUETE 7.4, | F16: PENALTY PRO 7.5 | H16: 160 | I16: 56 | J16: =I16-(L16+M16+N16+O16+P16+Q16+R16+S16+T16+U16+V16) -> 56 | K16: =IF(J16<0,"ATENÇÃO","OK") -> OK
C17: 14 | D17: BOLA PARA BASQUETEBOL, CATEGORIA MIRIM, | F17: PENALTY PRO 5.7 | H17: 133.75 | I17: 56 | J17: =I17-(L17+M17+N17+O17+P17+Q17+R17+S17+T17+U17+V17) -> 56 | K17: =IF(J17<0,"ATENÇÃO","OK") -> OK
C18: 15 | D18: BOLA PARA FUTEBOL DE SALAO, | F18: KAGIVA AD OF | H18: 70 | I18: =50-6 -> 44 | J18: =I18-(L18+M18+N18+O18+P18+Q18+R18+S18+T18+U18+V18) -> 44 | K18: =IF(J18<0,"ATENÇÃO","OK") -> OK
C19: 16 | D19: BOLA PARA FUTEBOL DE SALAO, CATEGORIA INFANTIL, | F19: PENALTY MAX 200 | H19: 100 | I19: 6 | J19: =I19-(L19+M19+N19+O19+P19+Q19+R19+S19+T19+U19+V19) -> 6 | K19: =IF(J19<0,"ATENÇÃO","OK") -> OK
C20: 17 | D20: BOLA PARA FUTEBOL DE SALAO, DE COURO, | F20: PENALTY MAX 100 | H20: 150 | I20: 6 | J20: =I20-(L20+M20+N20+O20+P20+Q20+R20+S20+T20+U20+V20) -> 6 | K20: =IF(J20<0,"ATENÇÃO","OK") -> OK
C21: 18 | D21: BOLA PARA HANDEBOL, CATEGORIA ADULTO, | F21: PENALTY H2L | H21: 120 | I21: 56 | J21: =I21-(L21+M21+N21+O21+P21+Q21+R21+S21+T21+U21+V21) -> 56 | K21: =IF(J21<0,"ATENÇÃO","OK") -> OK
C22: 19 | D22: BOLA PARA HANDEBOL, CATEGORIA H1L, | F22: PENALTY H2L PVC | H22: 58 | J22: =I22-(L22+M22+N22+O22+P22+Q22+R22+S22+T22+U22+V22) -> 0 | K22: =IF(J22<0,"ATENÇÃO","OK") -> OK
C23: 20 | D23: BOLA PARA HANDEBOL, CATEGORIA H2L, | F23: PENALTY H2L PVC | H23: 64.98 | I23: 50 | J23: =I23-(L23+M23+N23+O23+P23+Q23+R23+S23+T23+U23+V23) -> 50 | K23: =IF(J23<0,"ATENÇÃO","OK") -> OK
C24: 21 | D24: BOLA PARA HANDEBOL, MASCULINO,CATEGORIA H3L, | F24: PENALTY H3L | H24: 120 | I24: 50 | J24: =I24-(L24+M24+N24+O24+P24+Q24+R24+S24+T24+U24+V24) -> 50 | K24: =IF(J24<0,"ATENÇÃO","OK") -> OK
C25: 22 | D25: BOLA PARA PRATICA DE ESPORTE POR DEFICIENTES, | F25: TARGE GOALBALL OF | H25: 96 | I25: 6 | J25: =I25-(L25+M25+N25+O25+P25+Q25+R25+S25+T25+U25+V25) -> 6 | K25: =IF(J25<0,"ATENÇÃO","OK") -> OK
C26: 23 | D26: BOLA PARA TENIS DE MESA, MODELO OFICIAL, | F26: YACHIMA OF 40MM | H26: 3 | J26: =I26-(L26+M26+N26+O26+P26+Q26+R26+S26+T26+U26+V26) -> 0 | K26: =IF(J26<0,"ATENÇÃO","OK") -> OK
C27: 24 | D27: BOLA PARA VOLEI DE PRAIA, MODELO OFICIAL, | F27: PENALTY BEACH TRN | H27: 110 | J27: =I27-(L27+M27+N27+O27+P27+Q27+R27+S27+T27+U27+V27) -> 0 | K27: =IF(J27<0,"ATENÇÃO","OK") -> OK
C28: 25 | D28: BOLA PARA VOLEIBOL, EM MATERIAL SINTETICO, | F28: PENALTY PRO 6.0 | H28: 148 | I28: =56-10 -> 46 | J28: =I28-(L28+M28+N28+O28+P28+Q28+R28+S28+T28+U28+V28) -> 46 | K28: =IF(J28<0,"ATENÇÃO","OK") -> OK
A29: ZERMIANI | B29: 2 | C29: 1 | D29: BOLA BOBATH, BOLA BOBATH 65 CM, | F29: BIOFIT | H29: 55 | I29: 9 | J29: =I29-(L29+M29+N29+O29+P29+Q29+R29+S29+T29+U29+V29) -> 9 | K29: =IF(J29<0,"ATENÇÃO","OK") -> OK
C30: 2 | D30: BOLA BOBATH, BOLA BOBATH 80 CM, | F30: BIOFIT | H30: 55 | I30: 3 | J30: =I30-(L30+M30+N30+O30+P30+Q30+R30+S30+T30+U30+V30) -> 3 | K30: =IF(J30<0,"ATENÇÃO","OK") -> OK
C31: 3 | D31: BOLA BOBATH, BOLA BOBATH, | F31: BIOFIT | H31: 50 | I31: 5 | J31: =I31-(L31+M31+N31+O31+P31+Q31+R31+S31+T31+U31+V31) -> 5 | K31: =IF(J31<0,"ATENÇÃO","OK") -> OK
C32: 4 | D32: BOLA BOBATH, BOLA BOBATH, PARA EXERCICIOS TERAPEUTICOS | F32: BIOFIT | H32: 50 | I32: 3 | J32: =I32-(L32+M32+N32+O32+P32+Q32+R32+S32+T32+U32+V32) -> 3 | K32: =IF(J32<0,"ATENÇÃO","OK") -> OK
C33: 5 | D33: BOLA BOBATH, BOLA BOBATH, | F33: BIOFIT | H33: 75 | I33: 4 | J33: =I33-(L33+M33+N33+O33+P33+Q33+R33+S33+T33+U33+V33) -> 4 | K33: =IF(J33<0,"ATENÇÃO","OK") -> OK
C34: 6 | D34: BOLA BOBATH, BOLA BOBATH, | F34: BIOFIT | H34: 60 | I34: 4 | J34: =I34-(L34+M34+N34+O34+P34+Q34+R34+S34+T34+U34+V34) -> 4 | K34: =IF(J34<0,"ATENÇÃO","OK") -> OK
C35: 7 | D35: BOLA BOBATH, BOLA BOBATH, | F35: BIOFIT | H35: 39 | I35: 7 | J35: =I35-(L35+M35+N35+O35+P35+Q35+R35+S35+T35+U35+V35) -> 7 | K35: =IF(J35<0,"ATENÇÃO","OK") -> OK
C36: 8 | D36: BOLA DE BORRACHA, PARA EXERCICIO FUNCIONAL, OVER BALL | F36: UP LIFT | H36: 25 | I36: 10 | J36: =I36-(L36+M36+N36+O36+P36+Q36+R36+S36+T36+U36+V36) -> 10 | K36: =IF(J36<0,"ATENÇÃO","OK") -> OK
C37: 9 | D37: BOLA, PARA BODY BALANCE DOME, | F37: BIOFIT | H37: 250 | I37: 3 | J37: =I37-(L37+M37+N37+O37+P37+Q37+R37+S37+T37+U37+V37) -> 3 | K37: =IF(J37<0,"ATENÇÃO","OK") -> OK
C38: 10 | D38: BOLA, PARA BODY BALANCE DOME, | F38: BIOFIT | H38: 290 | J38: =I38-(L38+M38+N38+O38+P38+Q38+R38+S38+T38+U38+V38) -> 0 | K38: =IF(J38<0,"ATENÇÃO","OK") -> OK
C39: 11 | D39: BOLA, PARA EXERCICIOS FISICOS, 26 CM DE DIAMETRO, | F39: UP LIFT | H39: 21.5 | I39: 26 | J39: =I39-(L39+M39+N39+O39+P39+Q39+R39+S39+T39+U39+V39) -> 26 | K39: =IF(J39<0,"ATENÇÃO","OK") -> OK
C40: 12 | D40: DISCO DE BORRACHA, DISCO ESPORTIVO DE EQUILIBRIO, | F40: BIOFIT | H40: 50 | I40: 3 | J40: =I40-(L40+M40+N40+O40+P40+Q40+R40+S40+T40+U40+V40) -> 3 | K40: =IF(J40<0,"ATENÇÃO","OK") -> OK
...

Sheet CEART
A1: PROCESSO: 1068/2015/UDESC | D1: OBJETO: AQUISIÇÃO DE MATERIAL ESPORTIVO E DE FISIOTERAPIA PARA A UDESC | I1: VIGÊNCIA DA ATA: 27/11/2015 até 26/11/2016 | L1: AF/OS nº xxxx/2015 Qtde. DT | M1: AF/OS nº xxxx/2015 Qtde. DT | N1: AF/OS nº xxxx/2015 Qtde. DT | O1: AF/OS nº xxxx/2015 Qtde. DT | P1: AF/OS nº xxxx/2015 Qtde. DT | Q1: AF/OS nº xxxx/2015 Qtde. DT | R1: AF/OS nº xxxx/2015 Qtde. DT | S1: AF/OS nº xxxx/2015 Qtde. DT | T1: AF/OS nº xxxx/2015 Qtde. DT | U1: AF/OS nº xxxx/2015 Qtde. DT | V1: AF/OS nº xxxx/2015 Qtde. DT | W1: AF/OS nº xxxx/2015 Qtde. DT
A2: CENTRO PARTICIPANTE: CEART
A3: FORNECEDOR | B3: LOTE | C3: ITEM | D3: PRODUTO - CARACTERÍSTICAS MÍNIMAS | E3: UNIDADE | F3: MARCA | G3: DETALHAMENTO | H3: Preço UNITÁRIO (R$) | I3: Qtde Registrada | J3: Saldo / Automático | K3: ALERTA | L3: ...../...../...... | M3: ...../...../...... | N3: ...../...../...... | O3: ...../...../...... | P3: ...../...../...... | Q3: ...../...../...... | R3: ...../...../...... | S3: ...../...../...... | T3: ...../...../...... | U3: ...../...../...... | V3: ...../...../...... | W3: ...../...../......
A4: ADBX | B4: 1 | C4: 1 | D4: BOLA DE BORRACHA, DE FRESCOBOL, | E4: UNIDADE | F4: MARE N3 | H4: 3 | J4: =I4-(L4+M4+N4+O4+P4+Q4+R4+S4+T4+U4+V4+W4) -> 0 | K4: =IF(J4<0,"ATENÇÃO","OK") -> OK
C5: 2 | D5: BOLA DE BORRACHA, DE INICIACAO ESPORTIVA N12, | F5: LCM N12 | H5: 10 | J5: =I5-(L5+M5+N5+O5+P5+Q5+R5+S5+T5+U5+V5+W5) -> 0 | K5: =IF(J5<0,"ATENÇÃO","OK") -> OK
C6: 3 | D6: BOLA DE BORRACHA, DE INICIACAO ESPORTIVA N14, | F6: LCM N14 | H6: 12 | J6: =I6-(L6+M6+N6+O6+P6+Q6+R6+S6+T6+U6+V6+W6) -> 0 | K6: =IF(J6<0,"ATENÇÃO","OK") -> OK
C7: 4 | D7: BOLA DE BORRACHA, DE SOFTBOL, | F7: LCM N3 SOFTBOL | H7: 18 | J7: =I7-(L7+M7+N7+O7+P7+Q7+R7+S7+T7+U7+V7+W7) -> 0 | K7: =IF(J7<0,"ATENÇÃO","OK") -> OK
C8: 5 | D8: BOLA DE BORRACHA, LATEX, S/COSTURA, | F8: PENALTY 1KG | H8: 60 | J8: =I8-(L8+M8+N8+O8+P8+Q8+R8+S8+T8+U8+V8+W8) -> 0 | K8: =IF(J8<0,"ATENÇÃO","OK") -> OK
C9: 6 | D9: BOLA DE BORRACHA, PARA USO FITOTERAPICO | F9: MAGUSSY 6KG | H9: 150 | J9: =I9-(L9+M9+N9+O9+P9+Q9+R9+S9+T9+U9+V9+W9) -> 0 | K9: =IF(J9<0,"ATENÇÃO","OK") -> OK
C10: 7 | D10: BOLA DE TENIS DE CAMPO, (QUADRA),OFICIAL, | F10: WILSON CHAPIONSHIP | H10: 27 | J10: =I10-(L10+M10+N10+O10+P10+Q10+R10+S10+T10+U10+V10+W10) -> 0 | K10: =IF(J10<0,"ATENÇÃO","OK") -> OK
C11: 8 | D11: BOLA MEDICINE BALL DE 2 KG., | F11: PENALTY | H11: 14 | J11: =I11-(L11+M11+N11+O11+P11+Q11+R11+S11+T11+U11+V11+W11) -> 0 | K11: =IF(J11<0,"ATENÇÃO","OK") -> OK
C12: 9 | D12: BOLA MEDICINE BALL DE 3 KG, | F12: ONEAL 3KG | H12: 180 | J12: =I12-(L12+M12+N12+O12+P12+Q12+R12+S12+T12+U12+V12+W12) -> 0 | K12: =IF(J12<0,"ATENÇÃO","OK") -> OK
C13: 10 | D13: BOLA MEDICINE BALL DE 3 KG, | F13: PENALTY 3KG | H13: 100 | J13: =I13-(L13+M13+N13+O13+P13+Q13+R13+S13+T13+U13+V13+W13) -> 0 | K13: =IF(J13<0,"ATENÇÃO","OK") -> OK
C14: 11 | D14: BOLA P/FUTEBOL DE CAMPO, BRASIL, | F14: PENALTY PRO BRASIL R2 | H14: 130 | I14: 10 | J14: =I14-(L14+M14+N14+O14+P14+Q14+R14+S14+T14+U14+V14+W14) -> 10 | K14: =IF(J14<0,"ATENÇÃO","OK") -> OK
C15: 12 | D15: BOLA PARA BASQUETEBOL, | F15: PENALTY PRO 6.5 | H15: 150 | I15: 7 | J15: =I15-(L15+M15+N15+O15+P15+Q15+R15+S15+T15+U15+V15+W15) -> 7 | K15: =IF(J15<0,"ATENÇÃO","OK") -> OK
C16: 13 | D16: BOLA PARA BASQUETEBOL, BASQUETE 7.4, | F16: PENALTY PRO 7.5 | H16: 160 | J16: =I16-(L16+M16+N16+O16+P16+Q16+R16+S16+T16+U16+V16+W16) -> 0 | K16: =IF(J16<0,"ATENÇÃO","OK") -> OK
C17: 14 | D17: BOLA PARA BASQUETEBOL, CATEGORIA MIRIM, | F17: PENALTY PRO 5.7 | H17: 133.75 | J17: =I17-(L17+M17+N17+O17+P17+Q17+R17+S17+T17+U17+V17+W17) -> 0 | K17: =IF(J17<0,"ATENÇÃO","OK") -> OK
C18: 15 | D18: BOLA PARA FUTEBOL DE SALAO, | F18: KAGIVA AD OF | H18: 70 | I18: 10 | J18: =I18-(L18+M18+N18+O18+P18+Q18+R18+S18+T18+U18+V18+W18) -> 10 | K18: =IF(J18<0,"ATENÇÃO","OK") -> OK
C19: 16 | D19: BOLA PARA FUTEBOL DE SALAO, CATEGORIA INFANTIL, | F19: PENALTY MAX 200 | H19: 100 | J19: =I19-(L19+M19+N19+O19+P19+Q19+R19+S19+T19+U19+V19+W19) -> 0 | K19: =IF(J19<0,"ATENÇÃO","OK") -> OK
C20: 17 | D20: BOLA PARA FUTEBOL DE SALAO, DE COURO, | F20: PENALTY MAX 100 | H20: 150 | J20: =I20-(L20+M20+N20+O20+P20+Q20+R20+S20+T20+U20+V20+W20) -> 0 | K20: =IF(J20<0,"ATENÇÃO","OK") -> OK
C21: 18 | D21: BOLA PARA HANDEBOL, CATEGORIA ADULTO, | F21: PENALTY H2L | H21: 120 | J21: =I21-(L21+M21+N21+O21+P21+Q21+R21+S21+T21+U21+V21+W21) -> 0 | K21: =IF(J21<0,"ATENÇÃO","OK") -> OK
C22: 19 | D22: BOLA PARA HANDEBOL, CATEGORIA H1L, | F22: PENALTY H2L PVC | H22: 58 | I22: 10 | J22: =I22-(L22+M22+N22+O22+P22+Q22+R22+S22+T22+U22+V22+W22) -> 10 | K22: =IF(J22<0,"ATENÇÃO","OK") -> OK
C23: 20 | D23: BOLA PARA HANDEBOL, CATEGORIA H2L, | F23: PENALTY H2L PVC | H23: 64.98 | J23: =I23-(L23+M23+N23+O23+P23+Q23+R23+S23+T23+U23+V23+W23) -> 0 | K23: =IF(J23<0,"ATENÇÃO","OK") -> OK
C24: 21 | D24: BOLA PARA HANDEBOL, MASCULINO,CATEGORIA H3L, | F24: PENALTY H3L | H24: 120 | J24: =I24-(L24+M24+N24+O24+P24+Q24+R24+S24+T24+U24+V24+W24) -> 0 | K24: =IF(J24<0,"ATENÇÃO","OK") -> OK
C25: 22 | D25: BOLA PARA PRATICA DE ESPORTE POR DEFICIENTES, | F25: TARGE GOALBALL OF | H25: 96 | J25: =I25-(L25+M25+N25+O25+P25+Q25+R25+S25+T25+U25+V25+W25) -> 0 | K25: =IF(J25<0,"ATENÇÃO","OK") -> OK
C26: 23 | D26: BOLA PARA TENIS DE MESA, MODELO OFICIAL, | F26: YACHIMA OF 40MM | H26: 3 | J26: =I26-(L26+M26+N26+O26+P26+Q26+R26+S26+T26+U26+V26+W26) -> 0 | K26: =IF(J26<0,"ATENÇÃO","OK") -> OK
C27: 24 | D27: BOLA PARA VOLEI DE PRAIA, MODELO OFICIAL, | F27: PENALTY BEACH TRN | H27: 110 | J27: =I27-(L27+M27+N27+O27+P27+Q27+R27+S27+T27+U27+V27+W27) -> 0 | K27: =IF(J27<0,"ATENÇÃO","OK") -> OK
C28: 25 | D28: BOLA PARA VOLEIBOL, EM MATERIAL SINTETICO, | F28: PENALTY PRO 6.0 | H28: 148 | I28: 10 | J28: =I28-(L28+M28+N28+O28+P28+Q28+R28+S28+T28+U28+V28+W28) -> 10 | K28: =IF(J28<0,"ATENÇÃO","OK") -> OK
A29: ZERMIANI | B29: 2 | C29: 1 | D29: BOLA BOBATH, BOLA BOBATH 65 CM, | F29: BIOFIT | H29: 55 | J29: =I29-(L29+M29+N29+O29+P29+Q29+R29+S29+T29+U29+V29+W29) -> 0 | K29: =IF(J29<0,"ATENÇÃO","OK") -> OK
C30: 2 | D30: BOLA BOBATH, BOLA BOBATH 80 CM, | F30: BIOFIT | H30: 55 | J30: =I30-(L30+M30+N30+O30+P30+Q30+R30+S30+T30+U30+V30+W30) -> 0 | K30: =IF(J30<0,"ATENÇÃO","OK") -> OK
C31: 3 | D31: BOLA BOBATH, BOLA BOBATH, | F31: BIOFIT | H31: 50 | J31: =I31-(L31+M31+N31+O31+P31+Q31+R31+S31+T31+U31+V31+W31) -> 0 | K31: =IF(J31<0,"ATENÇÃO","OK") -> OK
C32: 4 | D32: BOLA BOBATH, BOLA BOBATH, PARA EXERCICIOS TERAPEUTICOS | F32: BIOFIT | H32: 50 | J32: =I32-(L32+M32+N32+O32+P32+Q32+R32+S32+T32+U32+V32+W32) -> 0 | K32: =IF(J32<0,"ATENÇÃO","OK") -> OK
C33: 5 | D33: BOLA BOBATH, BOLA BOBATH, | F33: BIOFIT | H33: 75 | J33: =I33-(L33+M33+N33+O33+P33+Q33+R33+S33+T33+U33+V33+W33) -> 0 | K33: =IF(J33<0,"ATENÇÃO","OK") -> OK
C34: 6 | D34: BOLA BOBATH, BOLA BOBATH, | F34: BIOFIT | H34: 60 | J34: =I34-(L34+M34+N34+O34+P34+Q34+R34+S34+T34+U34+V34+W34) -> 0 | K34: =IF(J34<0,"ATENÇÃO","OK") -> OK
C35: 7 | D35: BOLA BOBATH, BOLA BOBATH, | F35: BIOFIT | H35: 39 | J35: =I35-(L35+M35+N35+O35+P35+Q35+R35+S35+T35+U35+V35+W35) -> 0 | K35: =IF(J35<0,"ATENÇÃO","OK") -> OK
C36: 8 | D36: BOLA DE BORRACHA, PARA EXERCICIO FUNCIONAL, OVER BALL | F36: UP LIFT | H36: 25 | J36: =I36-(L36+M36+N36+O36+P36+Q36+R36+S36+T36+U36+V36+W36) -> 0 | K36: =IF(J36<0,"ATENÇÃO","OK") -> OK
C37: 9 | D37: BOLA, PARA BODY BALANCE DOME, | F37: BIOFIT | H37: 250 | J37: =I37-(L37+M37+N37+O37+P37+Q37+R37+S37+T37+U37+V37+W37) -> 0 | K37: =IF(J37<0,"ATENÇÃO","OK") -> OK
C38: 10 | D38: BOLA, PARA BODY BALANCE DOME, | F38: BIOFIT | H38: 290 | J38: =I38-(L38+M38+N38+O38+P38+Q38+R38+S38+T38+U38+V38+W38) -> 0 | K38: =IF(J38<0,"ATENÇÃO","OK") -> OK
C39: 11 | D39: BOLA, PARA EXERCICIOS FISICOS, 26 CM DE DIAMETRO, | F39: UP LIFT | H39: 21.5 | J39: =I39-(L39+M39+N39+O39+P39+Q39+R39+S39+T39+U39+V39+W39) -> 0 | K39: =IF(J39<0,"ATENÇÃO","OK") -> OK
C40: 12 | D40: DISCO DE BORRACHA, DISCO ESPORTIVO DE EQUILIBRIO, | F40: BIOFIT | H40: 50 | J40: =I40-(L40+M40+N40+O40+P40+Q40+R40+S40+T40+U40+V40+W40) -> 0 | K40: =IF(J40<0,"ATENÇÃO","OK") -> OK
...

Sheet CAV
A1: PROCESSO: 1068/2015/UDESC | D1: OBJETO: AQUISIÇÃO DE MATERIAL ESPORTIVO E DE FISIOTERAPIA PARA A UDESC | I1: VIGÊNCIA DA ATA: 27/11/2015 até 26/11/2016 | L1: AF/OS nº xxxx/2015 Qtde. DT | M1: AF/OS nº xxxx/2015 Qtde. DT | N1: AF/OS nº xxxx/2015 Qtde. DT | O1: AF/OS nº xxxx/2015 Qtde. DT | P1: AF/OS nº xxxx/2015 Qtde. DT | Q1: AF/OS nº xxxx/2015 Qtde. DT | R1: AF/OS nº xxxx/2015 Qtde. DT | S1: AF/OS nº xxxx/2015 Qtde. DT | T1: AF/OS nº xxxx/2015 Qtde. DT | U1: AF/OS nº xxxx/2015 Qtde. DT | V1: AF/OS nº xxxx/2015 Qtde. DT | W1: AF/OS nº xxxx/2015 Qtde. DT
A2: CENTRO PARTICIPANTE: CAV
A3: FORNECEDOR | B3: LOTE | C3: ITEM | D3: PRODUTO - CARACTERÍSTICAS MÍNIMAS | E3: UNIDADE | F3: MARCA | G3: DETALHAMENTO | H3: Preço UNITÁRIO (R$) | I3: Qtde Registrada | J3: Saldo / Automático | K3: ALERTA | L3: ...../...../...... | M3: ...../...../...... | N3: ...../...../...... | O3: ...../...../...... | P3: ...../...../...... | Q3: ...../...../...... | R3: ...../...../...... | S3: ...../...../...... | T3: ...../...../...... | U3: ...../...../...... | V3: ...../...../...... | W3: ...../...../......
A4: ADBX | B4: 1 | C4: 1 | D4: BOLA DE BORRACHA, DE FRESCOBOL, | E4: UNIDADE | F4: MARE N3 | H4: 3 | J4: =I4-(L4+M4+N4+O4+P4+Q4+R4+S4+T4+U4+V4+W4) -> 0 | K4: =IF(J4<0,"ATENÇÃO","OK") -> OK
C5: 2 | D5: BOLA DE BORRACHA, DE INICIACAO ESPORTIVA N12, | F5: LCM N12 | H5: 10 | J5: =I5-(L5+M5+N5+O5+P5+Q5+R5+S5+T5+U5+V5+W5) -> 0 | K5: =IF(J5<0,"ATENÇÃO","OK") -> OK
C6: 3 | D6: BOLA DE BORRACHA, DE INICIACAO ESPORTIVA N14, | F6: LCM N14 | H6: 12 | J6: =I6-(L6+M6+N6+O6+P6+Q6+R6+S6+T6+U6+V6+W6) -> 0 | K6: =IF(J6<0,"ATENÇÃO","OK") -> OK
C7: 4 | D7: BOLA DE BORRACHA, DE SOFTBOL, | F7: LCM N3 SOFTBOL | H7: 18 | J7: =I7-(L7+M7+N7+O7+P7+Q7+R7+S7+T7+U7+V7+W7) -> 0 | K7: =IF(J7<0,"ATENÇÃO","OK") -> OK
C8: 5 | D8: BOLA DE BORRACHA, LATEX, S/COSTURA, | F8: PENALTY 1KG | H8: 60 | J8: =I8-(L8+M8+N8+O8+P8+Q8+R8+S8+T8+U8+V8+W8) -> 0 | K8: =IF(J8<0,"ATENÇÃO","OK") -> OK
C9: 6 | D9: BOLA DE BORRACHA, PARA USO FITOTERAPICO | F9: MAGUSSY 6KG | H9: 150 | J9: =I9-(L9+M9+N9+O9+P9+Q9+R9+S9+T9+U9+V9+W9) -> 0 | K9: =IF(J9<0,"ATENÇÃO","OK") -> OK
C10: 7 | D10: BOLA DE TENIS DE CAMPO, (QUADRA),OFICIAL, | F10: WILSON CHAPIONSHIP | H10: 27 | J10: =I10-(L10+M10+N10+O10+P10+Q10+R10+S10+T10+U10+V10+W10) -> 0 | K10: =IF(J10<0,"ATENÇÃO","OK") -> OK
C11: 8 | D11: BOLA MEDICINE BALL DE 2 KG., | F11: PENALTY | H11: 14 | I11: 10 | J11: =I11-(L11+M11+N11+O11+P11+Q11+R11+S11+T11+U11+V11+W11) -> 10 | K11: =IF(J11<0,"ATENÇÃO","OK") -> OK
C12: 9 | D12: BOLA MEDICINE BALL DE 3 KG, | F12: ONEAL 3KG | H12: 180 | J12: =I12-(L12+M12+N12+O12+P12+Q12+R12+S12+T12+U12+V12+W12) -> 0 | K12: =IF(J12<0,"ATENÇÃO","OK") -> OK
C13: 10 | D13: BOLA MEDICINE BALL DE 3 KG, | F13: PENALTY 3KG | H13: 100 | J13: =I13-(L13+M13+N13+O13+P13+Q13+R13+S13+T13+U13+V13+W13) -> 0 | K13: =IF(J13<0,"ATENÇÃO","OK") -> OK
C14: 11 | D14: BOLA P/FUTEBOL DE CAMPO, BRASIL, | F14: PENALTY PRO BRASIL R2 | H14: 130 | J14: =I14-(L14+M14+N14+O14+P14+Q14+R14+S14+T14+U14+V14+W14) -> 0 | K14: =IF(J14<0,"ATENÇÃO","OK") -> OK
C15: 12 | D15: BOLA PARA BASQUETEBOL, | F15: PENALTY PRO 6.5 | H15: 150 | J15: =I15-(L15+M15+N15+O15+P15+Q15+R15+S15+T15+U15+V15+W15) -> 0 | K15: =IF(J15<0,"ATENÇÃO","OK") -> OK
C16: 13 | D16: BOLA PARA BASQUETEBOL, BASQUETE 7.4, | F16: PENALTY PRO 7.5 | H16: 160 | J16: =I16-(L16+M16+N16+O16+P16+Q16+R16+S16+T16+U16+V16+W16) -> 0 | K16: =IF(J16<0,"ATENÇÃO","OK") -> OK
C17: 14 | D17: BOLA PARA BASQUETEBOL, CATEGORIA MIRIM, | F17: PENALTY PRO 5.7 | H17: 133.75 | J17: =I17-(L17+M17+N17+O17+P17+Q17+R17+S17+T17+U17+V17+W17) -> 0 | K17: =IF(J17<0,"ATENÇÃO","OK") -> OK
C18: 15 | D18: BOLA PARA FUTEBOL DE SALAO, | F18: KAGIVA AD OF | H18: 70 | J18: =I18-(L18+M18+N18+O18+P18+Q18+R18+S18+T18+U18+V18+W18) -> 0 | K18: =IF(J18<0,"ATENÇÃO","OK") -> OK
C19: 16 | D19: BOLA PARA FUTEBOL DE SALAO, CATEGORIA INFANTIL, | F19: PENALTY MAX 200 | H19: 100 | J19: =I19-(L19+M19+N19+O19+P19+Q19+R19+S19+T19+U19+V19+W19) -> 0 | K19: =IF(J19<0,"ATENÇÃO","OK") -> OK
C20: 17 | D20: BOLA PARA FUTEBOL DE SALAO, DE COURO, | F20: PENALTY MAX 100 | H20: 150 | J20: =I20-(L20+M20+N20+O20+P20+Q20+R20+S20+T20+U20+V20+W20) -> 0 | K20: =IF(J20<0,"ATENÇÃO","OK") -> OK
C21: 18 | D21: BOLA PARA HANDEBOL, CATEGORIA ADULTO, | F21: PENALTY H2L | H21: 120 | J21: =I21-(L21+M21+N21+O21+P21+Q21+R21+S21+T21+U21+V21+W21) -> 0 | K21: =IF(J21<0,"ATENÇÃO","OK") -> OK
C22: 19 | D22: BOLA PARA HANDEBOL, CATEGORIA H1L, | F22: PENALTY H2L PVC | H22: 58 | J22: =I22-(L22+M22+N22+O22+P22+Q22+R22+S22+T22+U22+V22+W22) -> 0 | K22: =IF(J22<0,"ATENÇÃO","OK") -> OK
C23: 20 | D23: BOLA PARA HANDEBOL, CATEGORIA H2L, | F23: PENALTY H2L PVC | H23: 64.98 | J23: =I23-(L23+M23+N23+O23+P23+Q23+R23+S23+T23+U23+V23+W23) -> 0 | K23: =IF(J23<0,"ATENÇÃO","OK") -> OK
... C28: 25 | D28: BOLA PARA VOLEIBOL, EM MATERIAL SINTETICO, | F28: PENALTY PRO 6.0 | H28: 148 | J28: =I28-(L28+M28+N28+O28+P28+Q28+R28+S28+T28+U28+V28+W28) -> 0 | K28: =IF(J28<0,"ATENÇÃO","OK") -> OK
A29: ZERMIANI | B29: 2 | C29: 1 | D29: BOLA BOBATH, BOLA BOBATH 65 CM, | F29: BIOFIT | H29: 55 | J29: =I29-(L29+M29+N29+O29+P29+Q29+R29+S29+T29+U29+V29+W29) -> 0 | K29: =IF(J29<0,"ATENÇÃO","OK") -> OK
C30: 2 | D30: BOLA BOBATH, BOLA BOBATH 80 CM, | F30: BIOFIT | H30: 55 | J30: =I30-(L30+M30+N30+O30+P30+Q30+R30+S30+T30+U30+V30+W30) -> 0 | K30: =IF(J30<0,"ATENÇÃO","OK") -> OK
C31: 3 | D31: BOLA BOBATH, BOLA BOBATH, | F31: BIOFIT | H31: 50 | I31: 5 | J31: =I31-(L31+M31+N31+O31+P31+Q31+R31+S31+T31+U31+V31+W31) -> 5 | K31: =IF(J31<0,"ATENÇÃO","OK") -> OK
C32: 4 | D32: BOLA BOBATH, BOLA BOBATH, PARA EXERCICIOS TERAPEUTICOS | F32: BIOFIT | H32: 50 | J32: =I32-(L32+M32+N32+O32+P32+Q32+R32+S32+T32+U32+V32+W32) -> 0 | K32: =IF(J32<0,"ATENÇÃO","OK") -> OK
C33: 5 | D33: BOLA BOBATH, BOLA BOBATH, | F33: BIOFIT | H33: 75 | J33: =I33-(L33+M33+N33+O33+P33+Q33+R33+S33+T33+U33+V33+W33) -> 0 | K33: =IF(J33<0,"ATENÇÃO","OK") -> OK
C34: 6 | D34: BOLA BOBATH, BOLA BOBATH, | F34: BIOFIT | H34: 60 | J34: =I34-(L34+M34+N34+O34+P34+Q34+R34+S34+T34+U34+V34+W34) -> 0 | K34: =IF(J34<0,"ATENÇÃO","OK") -> OK
C35: 7 | D35: BOLA BOBATH, BOLA BOBATH, | F35: BIOFIT | H35: 39 | J35: =I35-(L35+M35+N35+O35+P35+Q35+R35+S35+T35+U35+V35+W35) -> 0 | K35: =IF(J35<0,"ATENÇÃO","OK") -> OK
C36: 8 | D36: BOLA DE BORRACHA, PARA EXERCICIO FUNCIONAL, OVER BALL | F36: UP LIFT | H36: 25 | J36: =I36-(L36+M36+N36+O36+P36+Q36+R36+S36+T36+U36+V36+W36) -> 0 | K36: =IF(J36<0,"ATENÇÃO","OK") -> OK
C37: 9 | D37: BOLA, PARA BODY BALANCE DOME, | F37: BIOFIT | H37: 250 | J37: =I37-(L37+M37+N37+O37+P37+Q37+R37+S37+T37+U37+V37+W37) -> 0 | K37: =IF(J37<0,"ATENÇÃO","OK") -> OK
C38: 10 | D38: BOLA, PARA BODY BALANCE DOME, | F38: BIOFIT | H38: 290 | I38: 5 | J38: =I38-(L38+M38+N38+O38+P38+Q38+R38+S38+T38+U38+V38+W38) -> 5 | K38: =IF(J38<0,"ATENÇÃO","OK") -> OK
C39: 11 | D39: BOLA, PARA EXERCICIOS FISICOS, 26 CM DE DIAMETRO, | F39: UP LIFT | H39: 21.5 | J39: =I39-(L39+M39+N39+O39+P39+Q39+R39+S39+T39+U39+V39+W39) -> 0 | K39: =IF(J39<0,"ATENÇÃO","OK") -> OK
C40: 12 | D40: DISCO DE BORRACHA, DISCO ESPORTIVO DE EQUILIBRIO, | F40: BIOFIT | H40: 50 | J40: =I40-(L40+M40+N40+O40+P40+Q40+R40+S40+T40+U40+V40+W40) -> 0 | K40: =IF(J40<0,"ATENÇÃO","OK") -> OK
C41: 13 | D41: DISCO DE BORRACHA, DISCO ESPORTIVO DE EQUILIBRIO, | F41: BIOFIT | H41: 55 | J41: =I41-(L41+M41+N41+O41+P41+Q41+R41+S41+T41+U41+V41+W41) -> 0 | K41: =IF(J41<0,"ATENÇÃO","OK") -> OK
C42: 14 | D42: MATERIAIS E COMPONENTES PARA PRATICA DESPORTIVAS, | F42: UP LIFT | H42: 50 | J42: =I42-(L42+M42+N42+O42+P42+Q42+R42+S42+T42+U42+V42+W42) -> 0 | K42: =IF(J42<0,"ATENÇÃO","OK") -> OK
C43: 15 | D43: MATERIAIS PARA FISIOTERAPIA, BOLA CRAVO CRESPA, | F43: MERCUR | H43: 22 | J43: =I43-(L43+M43+N43+O43+P43+Q43+R43+S43+T43+U43+V43+W43) -> 0 | K43: =IF(J43<0,"ATENÇÃO","OK") -> OK
C44: 16 | D44: MATERIAIS PARA FISIOTERAPIA, BOLA CRAVO CRESPA, | F44: MERCUR | H44: 5 | J44: =I44-(L44+M44+N44+O44+P44+Q44+R44+S44+T44+U44+V44+W44) -> 0 | K44: =IF(J44<0,"ATENÇÃO","OK") -> OK
...

Sheet CERES
A1: PROCESSO: 1068/2015/UDESC | D1: OBJETO: AQUISIÇÃO DE MATERIAL ESPORTIVO E DE FISIOTERAPIA PARA A UDESC | I1: VIGÊNCIA DA ATA: 27/11/2015 até 26/11/2016 | L1: AF/OS nº 256/2016 Qtde. DT | M1: AF/OS nº xxxx/2015 Qtde. DT | N1: AF/OS nº xxxx/2015 Qtde. DT | O1: AF/OS nº xxxx/2015 Qtde. DT | P1: AF/OS nº xxxx/2015 Qtde. DT | Q1: AF/OS nº xxxx/2015 Qtde. DT | R1: AF/OS nº xxxx/2015 Qtde. DT | S1: AF/OS nº xxxx/2015 Qtde. DT | T1: AF/OS nº xxxx/2015 Qtde. DT | U1: AF/OS nº xxxx/2015 Qtde. DT | V1: AF/OS nº xxxx/2015 Qtde. DT | W1: AF/OS nº xxxx/2015 Qtde. DT
A2: CENTRO PARTICIPANTE: CERES
A3: FORNECEDOR | B3: LOTE | C3: ITEM | D3: PRODUTO - CARACTERÍSTICAS MÍNIMAS | E3: UNIDADE | F3: MARCA | G3: DETALHAMENTO | H3: Preço UNITÁRIO (R$) | I3: Qtde Registrada | J3: Saldo / Automático | K3: ALERTA | L3: 42445 | M3: ...../...../...... | N3: ...../...../...... | O3: ...../...../...... | P3: ...../...../...... | Q3: ...../...../...... | R3: ...../...../...... | S3: ...../...../...... | T3: ...../...../...... | U3: ...../...../...... | V3: ...../...../...... | W3: ...../...../......
A4: ADBX | B4: 1 | C4: 1 | D4: BOLA DE BORRACHA, DE FRESCOBOL, | E4: UNIDADE | F4: MARE N3 | H4: 3 | J4: =I4-(L4+M4+N4+O4+P4+Q4+R4+S4+T4+U4+V4+W4) -> 0 | K4: =IF(J4<0,"ATENÇÃO","OK") -> OK
C5: 2 | D5: BOLA DE BORRACHA, DE INICIACAO ESPORTIVA N12, | F5: LCM N12 | H5: 10 | J5: =I5-(L5+M5+N5+O5+P5+Q5+R5+S5+T5+U5+V5+W5) -> 0 | K5: =IF(J5<0,"ATENÇÃO","OK") -> OK
C6: 3 | D6: BOLA DE BORRACHA, DE INICIACAO ESPORTIVA N14, | F6: LCM N14 | H6: 12 | J6: =I6-(L6+M6+N6+O6+P6+Q6+R6+S6+T6+U6+V6+W6) -> 0 | K6: =IF(J6<0,"ATENÇÃO","OK") -> OK
C7: 4 | D7: BOLA DE BORRACHA, DE SOFTBOL, | F7: LCM N3 SOFTBOL | H7: 18 | J7: =I7-(L7+M7+N7+O7+P7+Q7+R7+S7+T7+U7+V7+W7) -> 0 | K7: =IF(J7<0,"ATENÇÃO","OK") -> OK
C8: 5 | D8: BOLA DE BORRACHA, LATEX, S/COSTURA, | F8: PENALTY 1KG | H8: 60 | J8: =I8-(L8+M8+N8+O8+P8+Q8+R8+S8+T8+U8+V8+W8) -> 0 | K8: =IF(J8<0,"ATENÇÃO","OK") -> OK
C9: 6 | D9: BOLA DE BORRACHA, PARA USO FITOTERAPICO | F9: MAGUSSY 6KG | H9: 150 | J9: =I9-(L9+M9+N9+O9+P9+Q9+R9+S9+T9+U9+V9+W9) -> 0 | K9: =IF(J9<0,"ATENÇÃO","OK") -> OK
C10: 7 | D10: BOLA DE TENIS DE CAMPO, (QUADRA),OFICIAL, | F10: WILSON CHAPIONSHIP | H10: 27 | J10: =I10-(L10+M10+N10+O10+P10+Q10+R10+S10+T10+U10+V10+W10) -> 0 | K10: =IF(J10<0,"ATENÇÃO","OK") -> OK
C11: 8 | D11: BOLA MEDICINE BALL DE 2 KG., | F11: PENALTY | H11: 14 | I11: 1 | J11: =I11-(L11+M11+N11+O11+P11+Q11+R11+S11+T11+U11+V11+W11) -> 1 | K11: =IF(J11<0,"ATENÇÃO","OK") -> OK
C12: 9 | D12: BOLA MEDICINE BALL DE 3 KG, | F12: ONEAL 3KG | H12: 180 | I12: 1 | J12: =I12-(L12+M12+N12+O12+P12+Q12+R12+S12+T12+U12+V12+W12) -> 1 | K12: =IF(J12<0,"ATENÇÃO","OK") -> OK
C13: 10 | D13: BOLA MEDICINE BALL DE 3 KG, | F13: PENALTY 3KG | H13: 100 | J13: =I13-(L13+M13+N13+O13+P13+Q13+R13+S13+T13+U13+V13+W13) -> 0 | K13: =IF(J13<0,"ATENÇÃO","OK") -> OK
C14: 11 | D14: BOLA P/FUTEBOL DE CAMPO, BRASIL, | F14: PENALTY PRO BRASIL R2 | H14: 130 | I14: 2 | J14: =I14-(L14+M14+N14+O14+P14+Q14+R14+S14+T14+U14+V14+W14) -> 2 | K14: =IF(J14<0,"ATENÇÃO","OK") -> OK
C15: 12 | D15: BOLA PARA BASQUETEBOL, | F15: PENALTY PRO 6.5 | H15: 150 | I15: 1 | J15: =I15-(L15+M15+N15+O15+P15+Q15+R15+S15+T15+U15+V15+W15) -> 1 | K15: =IF(J15<0,"ATENÇÃO","OK") -> OK
C16: 13 | D16: BOLA PARA BASQUETEBOL, BASQUETE 7.4, | F16: PENALTY PRO 7.5 | H16: 160 | J16: =I16-(L16+M16+N16+O16+P16+Q16+R16+S16+T16+U16+V16+W16) -> 0 | K16: =IF(J16<0,"ATENÇÃO","OK") -> OK
C17: 14 | D17: BOLA PARA BASQUETEBOL, CATEGORIA MIRIM, | F17: PENALTY PRO 5.7 | H17: 133.75 | J17: =I17-(L17+M17+N17+O17+P17+Q17+R17+S17+T17+U17+V17+W17) -> 0 | K17: =IF(J17<0,"ATENÇÃO","OK") -> OK
C18: 15 | D18: BOLA PARA FUTEBOL DE SALAO, | F18: KAGIVA AD OF | H18: 70 | I18: 2 | J18: =I18-(L18+M18+N18+O18+P18+Q18+R18+S18+T18+U18+V18+W18) -> 2 | K18: =IF(J18<0,"ATENÇÃO","OK") -> OK
C19: 16 | D19: BOLA PARA FUTEBOL DE SALAO, CATEGORIA INFANTIL, | F19: PENALTY MAX 200 | H19: 100 | J19: =I19-(L19+M19+N19+O19+P19+Q19+R19+S19+T19+U19+V19+W19) -> 0 | K19: =IF(J19<0,"ATENÇÃO","OK") -> OK
C20: 17 | D20: BOLA PARA FUTEBOL DE SALAO, DE COURO, | F20: PENALTY MAX 100 | H20: 150 | J20: =I20-(L20+M20+N20+O20+P20+Q20+R20+S20+T20+U20+V20+W20) -> 0 | K20: =IF(J20<0,"ATENÇÃO","OK") -> OK
C21: 18 | D21: BOLA PARA HANDEBOL, CATEGORIA ADULTO, | F21: PENALTY H2L | H21: 120 | I21: 2 | J21: =I21-(L21+M21+N21+O21+P21+Q21+R21+S21+T21+U21+V21+W21) -> 2 | K21: =IF(J21<0,"ATENÇÃO","OK") -> OK
C22: 19 | D22: BOLA PARA HANDEBOL, CATEGORIA H1L, | F22: PENALTY H2L PVC | H22: 58 | J22: =I22-(L22+M22+N22+O22+P22+Q22+R22+S22+T22+U22+V22+W22) -> 0 | K22: =IF(J22<0,"ATENÇÃO","OK") -> OK
C23: 20 | D23: BOLA PARA HANDEBOL, CATEGORIA H2L, | F23: PENALTY H2L PVC | H23: 64.98 | J23: =I23-(L23+M23+N23+O23+P23+Q23+R23+S23+T23+U23+V23+W23) -> 0 | K23: =IF(J23<0,"ATENÇÃO","OK") -> OK
C24: 21 | D24: BOLA PARA HANDEBOL, MASCULINO,CATEGORIA H3L, | F24: PENALTY H3L | H24: 120 | I24: 2 | J24: =I24-(L24+M24+N24+O24+P24+Q24+R24+S24+T24+U24+V24+W24) -> 2 | K24: =IF(J24<0,"ATENÇÃO","OK") -> OK
C25: 22 | D25: BOLA PARA PRATICA DE ESPORTE POR DEFICIENTES, | F25: TARGE GOALBALL OF | H25: 96 | J25: =I25-(L25+M25+N25+O25+P25+Q25+R25+S25+T25+U25+V25+W25) -> 0 | K25: =IF(J25<0,"ATENÇÃO","OK") -> OK
C26: 23 | D26: BOLA PARA TENIS DE MESA, MODELO OFICIAL, | F26: YACHIMA OF 40MM | H26: 3 | I26: 6 | J26: =I26-(L26+M26+N26+O26+P26+Q26+R26+S26+T26+U26+V26+W26) -> 6 | K26: =IF(J26<0,"ATENÇÃO","OK") -> OK
C27: 24 | D27: BOLA PARA VOLEI DE PRAIA, MODELO OFICIAL, | F27: PENALTY BEACH TRN | H27: 110 | J27: =I27-(L27+M27+N27+O27+P27+Q27+R27+S27+T27+U27+V27+W27) -> 0 | K27: =IF(J27<0,"ATENÇÃO","OK") -> OK
C28: 25 | D28: BOLA PARA VOLEIBOL, EM MATERIAL SINTETICO, | F28: PENALTY PRO 6.0 | H28: 148 | I28: 2 | J28: =I28-(L28+M28+N28+O28+P28+Q28+R28+S28+T28+U28+V28+W28) -> 2 | K28: =IF(J28<0,"ATENÇÃO","OK") -> OK
A29: ZERMIANI | B29: 2 | C29: 1 | D29: BOLA BOBATH, BOLA BOBATH 65 CM, | F29: BIOFIT | H29: 55 | J29: =I29-(L29+M29+N29+O29+P29+Q29+R29+S29+T29+U29+V29+W29) -> 0 | K29: =IF(J29<0,"ATENÇÃO","OK") -> OK
C30: 2 | D30: BOLA BOBATH, BOLA BOBATH 80 CM, | F30: BIOFIT | H30: 55 | I30: 3 | J30: =I30-(L30+M30+N30+O30+P30+Q30+R30+S30+T30+U30+V30+W30) -> 0 | K30: =IF(J30<0,"ATENÇÃO","OK") -> OK | L30: 3
C31: 3 | D31: BOLA BOBATH, BOLA BOBATH, | F31: BIOFIT | H31: 50 | J31: =I31-(L31+M31+N31+O31+P31+Q31+R31+S31+T31+U31+V31+W31) -> 0 | K31: =IF(J31<0,"ATENÇÃO","OK") -> OK
C32: 4 | D32: BOLA BOBATH, BOLA BOBATH, PARA EXERCICIOS TERAPEUTICOS | F32: BIOFIT | H32: 50 | J32: =I32-(L32+M32+N32+O32+P32+Q32+R32+S32+T32+U32+V32+W32) -> 0 | K32: =IF(J32<0,"ATENÇÃO","OK") -> OK
C33: 5 | D33: BOLA BOBATH, BOLA BOBATH, | F33: BIOFIT | H33: 75 | J33: =I33-(L33+M33+N33+O33+P33+Q33+R33+S33+T33+U33+V33+W33) -> 0 | K33: =IF(J33<0,"ATENÇÃO","OK") -> OK
C34: 6 | D34: BOLA BOBATH, BOLA BOBATH, | F34: BIOFIT | H34: 60 | J34: =I34-(L34+M34+N34+O34+P34+Q34+R34+S34+T34+U34+V34+W34) -> 0 | K34: =IF(J34<0,"ATENÇÃO","OK") -> OK
C35: 7 | D35: BOLA BOBATH, BOLA BOBATH, | F35: BIOFIT | H35: 39 | I35: 3 | J35: =I35-(L35+M35+N35+O35+P35+Q35+R35+S35+T35+U35+V35+W35) -> 0 | K35: =IF(J35<0,"ATENÇÃO","OK") -> OK | L35: 3
C36: 8 | D36: BOLA DE BORRACHA, PARA EXERCICIO FUNCIONAL, OVER BALL | F36: UP LIFT | H36: 25 | J36: =I36-(L36+M36+N36+O36+P36+Q36+R36+S36+T36+U36+V36+W36) -> 0 | K36: =IF(J36<0,"ATENÇÃO","OK") -> OK
C37: 9 | D37: BOLA, PARA BODY BALANCE DOME, | F37: BIOFIT | H37: 250 | J37: =I37-(L37+M37+N37+O37+P37+Q37+R37+S37+T37+U37+V37+W37) -> 0 | K37: =IF(J37<0,"ATENÇÃO","OK") -> OK
C38: 10 | D38: BOLA, PARA BODY BALANCE DOME, | F38: BIOFIT | H38: 290 | I38: 1 | J38: =I38-(L38+M38+N38+O38+P38+Q38+R38+S38+T38+U38+V38+W38) -> 1 | K38: =IF(J38<0,"ATENÇÃO","OK") -> OK
C39: 11 | D39: BOLA, PARA EXERCICIOS FISICOS, 26 CM DE DIAMETRO, | F39: UP LIFT | H39: 21.5 | I39: 1 | J39: =I39-(L39+M39+N39+O39+P39+Q39+R39+S39+T39+U39+V39+W39) -> 1 | K39: =IF(J39<0,"ATENÇÃO","OK") -> OK
C40: 12 | D40: DISCO DE BORRACHA, DISCO ESPORTIVO DE EQUILIBRIO, | F40: BIOFIT | H40: 50 | J40: =I40-(L40+M40+N40+O40+P40+Q40+R40+S40+T40+U40+V40+W40) -> 0 | K40: =IF(J40<0,"ATENÇÃO","OK") -> OK
...

Sheet GESTOR
A1: PROCESSO: 1068/2015/UDESC | D1: OBJETO: AQUISIÇÃO DE MATERIAL ESPORTIVO E DE FISIOTERAPIA PARA A UDESC | I1: VIGÊNCIA DA ATA: 27/11/2015 até 26/11/2016
A2: GESTOR
A3: FORNECEDOR | B3: LOTE | C3: ITEM | D3: PRODUTO - CARACTERÍSTICAS MÍNIMAS | E3: UNIDADE | F3: MARCA | G3: ELEMENTO | H3: Preço UNITÁRIO (R$) | I3: Qtde Registrada | J3: Qtde Utilizada | K3: SALDO | L3: Valor Total Registrado | M3: Valor Total Utilizado
A4: ADBX | B4: 1 | C4: 1 | D4: BOLA DE BORRACHA, DE FRESCOBOL, | E4: UNIDADE | F4: MARE N3 | G4: 10 | H4: 3 | I4: =REITORIA!I4+CEFID!I4+CEART!I4+CAV!I4+CERES!I4 -> 10 | J4: =(REITORIA!I4-REITORIA!J4)+(CEFID!I4-CEFID!J4)+(CEART!I4-CEART!J4)+(CAV!I4-CAV!J4)+(CERES!I4-CERES!J4) -> 0 | K4: =I4-J4 -> 10 | L4: =I4*H4 -> 30 | M4: =J4*H4 -> 0
C5: 2 | D5: BOLA DE BORRACHA, DE INICIACAO ESPORTIVA N12, | F5: LCM N12 | G5: 10 | H5: 10 | I5: =REITORIA!I5+CEFID!I5+CEART!I5+CAV!I5+CERES!I5 -> 10 | J5: =(REITORIA!I5-REITORIA!J5)+(CEFID!I5-CEFID!J5)+(CEART!I5-CEART!J5)+(CAV!I5-CAV!J5)+(CERES!I5-CERES!J5) -> 0 | K5: =I5-J5 -> 10 | L5: =I5*H5 -> 100 | M5: =J5*H5 -> 0
C6: 3 | D6: BOLA DE BORRACHA, DE INICIACAO ESPORTIVA N14, | F6: LCM N14 | G6: 10 | H6: 12 | I6: =REITORIA!I6+CEFID!I6+CEART!I6+CAV!I6+CERES!I6 -> 10 | J6: =(REITORIA!I6-REITORIA!J6)+(CEFID!I6-CEFID!J6)+(CEART!I6-CEART!J6)+(CAV!I6-CAV!J6)+(CERES!I6-CERES!J6) -> 0 | K6: =I6-J6 -> 10 | L6: =I6*H6 -> 120 | M6: =J6*H6 -> 0
C7: 4 | D7: BOLA DE BORRACHA, DE SOFTBOL, | F7: LCM N3 SOFTBOL | G7: 6 | H7: 18 | I7: =REITORIA!I7+CEFID!I7+CEART!I7+CAV!I7+CERES!I7 -> 6 | J7: =(REITORIA!I7-REITORIA!J7)+(CEFID!I7-CEFID!J7)+(CEART!I7-CEART!J7)+(CAV!I7-CAV!J7)+(CERES!I7-CERES!J7) -> 0 | K7: =I7-J7 -> 6 | L7: =I7*H7 -> 108 | M7: =J7*H7 -> 0
C8: 5 | D8: BOLA DE BORRACHA, LATEX, S/COSTURA, | F8: PENALTY 1KG | G8: 3 | H8: 60 | I8: =REITORIA!I8+CEFID!I8+CEART!I8+CAV!I8+CERES!I8 -> 3 | J8: =(REITORIA!I8-REITORIA!J8)+(CEFID!I8-CEFID!J8)+(CEART!I8-CEART!J8)+(CAV!I8-CAV!J8)+(CERES!I8-CERES!J8) -> 0 | K8: =I8-J8 -> 3 | L8: =I8*H8 -> 180 | M8: =J8*H8 -> 0
C9: 6 | D9: BOLA DE BORRACHA, PARA USO FITOTERAPICO | F9: MAGUSSY 6KG | G9: 2 | H9: 150 | I9: =REITORIA!I9+CEFID!I9+CEART!I9+CAV!I9+CERES!I9 -> 2 | J9: =(REITORIA!I9-REITORIA!J9)+(CEFID!I9-CEFID!J9)+(CEART!I9-CEART!J9)+(CAV!I9-CAV!J9)+(CERES!I9-CERES!J9) -> 0 | K9: =I9-J9 -> 2 | L9: =I9*H9 -> 300 | M9: =J9*H9 -> 0
C10: 7 | D10: BOLA DE TENIS DE CAMPO, (QUADRA),OFICIAL, | F10: WILSON CHAPIONSHIP | G10: 27 | H10: 27 | I10: =REITORIA!I10+CEFID!I10+CEART!I10+CAV!I10+CERES!I10 -> 27 | J10: =(REITORIA!I10-REITORIA!J10)+(CEFID!I10-CEFID!J10)+(CEART!I10-CEART!J10)+(CAV!I10-CAV!J10)+(CERES!I10-CERES!J10) -> 0 | K10: =I10-J10 -> 27 | L10: =I10*H10 -> 729 | M10: =J10*H10 -> 0
C11: 8 | D11: BOLA MEDICINE BALL DE 2 KG., | F11: PENALTY | G11: 14 | H11: 14 | I11: =REITORIA!I11+CEFID!I11+CEART!I11+CAV!I11+CERES!I11 -> 14 | J11: =(REITORIA!I11-REITORIA!J11)+(CEFID!I11-CEFID!J11)+(CEART!I11-CEART!J11)+(CAV!I11-CAV!J11)+(CERES!I11-CERES!J11) -> 0 | K11: =I11-J11 -> 14 | L11: =I11*H11 -> 196 | M11: =J11*H11 -> 0
C12: 9 | D12: BOLA MEDICINE BALL DE 3 KG, | F12: ONEAL 3KG | G12: 6 | H12: 180 | I12: =REITORIA!I12+CEFID!I12+CEART!I12+CAV!I12+CERES!I12 -> 6 | J12: =(REITORIA!I12-REITORIA!J12)+(CEFID!I12-CEFID!J12)+(CEART!I12-CEART!J12)+(CAV!I12-CAV!J12)+(CERES!I12-CERES!J12) -> 0 | K12: =I12-J12 -> 6 | L12: =I12*H12 -> 1080 | M12: =J12*H12 -> 0
C13: 10 | D13: BOLA MEDICINE BALL DE 3 KG, | F13: PENALTY 3KG | G13: 4 | H13: 100 | I13: =REITORIA!I13+CEFID!I13+CEART!I13+CAV!I13+CERES!I13 -> 4 | J13: =(REITORIA!I13-REITORIA!J13)+(CEFID!I13-CEFID!J13)+(CEART!I13-CEART!J13)+(CAV!I13-CAV!J13)+(CERES!I13-CERES!J13) -> 0 | K13: =I13-J13 -> 4 | L13: =I13*H13 -> 400 | M13: =J13*H13 -> 0
C14: 11 | D14: BOLA P/FUTEBOL DE CAMPO, BRASIL, | F14: PENALTY PRO BRASIL R2 | G14: 91 | H14: 130 | I14: =REITORIA!I14+CEFID!I14+CEART!I14+CAV!I14+CERES!I14 -> 86 | J14: =(REITORIA!I14-REITORIA!J14)+(CEFID!I14-CEFID!J14)+(CEART!I14-CEART!J14)+(CAV!I14-CAV!J14)+(CERES!I14-CERES!J14) -> 0 | K14: =I14-J14 -> 86 | L14: =I14*H14 -> 11180 | M14: =J14*H14 -> 0
C15: 12 | D15: BOLA PARA BASQUETEBOL, | F15: PENALTY PRO 6.5 | G15: 60 | H15: 150 | I15: =REITORIA!I15+CEFID!I15+CEART!I15+CAV!I15+CERES!I15 -> 60 | J15: =(REITORIA!I15-REITORIA!J15)+(CEFID!I15-CEFID!J15)+(CEART!I15-CEART!J15)+(CAV!I15-CAV!J15)+(CERES!I15-CERES!J15) -> 0 | K15: =I15-J15 -> 60 | L15: =I15*H15 -> 9000 | M15: =J15*H15 -> 0
C16: 13 | D16: BOLA PARA BASQUETEBOL, BASQUETE 7.4, | F16: PENALTY PRO 7.5 | G16: 71 | H16: 160 | I16: =REITORIA!I16+CEFID!I16+CEART!I16+CAV!I16+CERES!I16 -> 71 | J16: =(REITORIA!I16-REITORIA!J16)+(CEFID!I16-CEFID!J16)+(CEART!I16-CEART!J16)+(CAV!I16-CAV!J16)+(CERES!I16-CERES!J16) -> 0 | K16: =I16-J16 -> 71 | L16: =I16*H16 -> 11360 | M16: =J16*H16 -> 0
... C28: 25 | D28: BOLA PARA VOLEIBOL, EM MATERIAL SINTETICO, | F28: PENALTY PRO 6.0 | G28: 83 | H28: 148 | I28: =REITORIA!I28+CEFID!I28+CEART!I28+CAV!I28+CERES!I28 -> 73 | J28: =(REITORIA!I28-REITORIA!J28)+(CEFID!I28-CEFID!J28)+(CEART!I28-CEART!J28)+(CAV!I28-CAV!J28)+(CERES!I28-CERES!J28) -> 0 | K28: =I28-J28 -> 73 | L28: =I28*H28 -> 10804 | M28: =J28*H28 -> 0
A29: ZERMIANI | B29: 2 | C29: 1 | D29: BOLA BOBATH, BOLA BOBATH 65 CM, | F29: BIOFIT | G29: 9 | H29: 55 | I29: =REITORIA!I29+CEFID!I29+CEART!I29+CAV!I29+CERES!I29 -> 9 | J29: =(REITORIA!I29-REITORIA!J29)+(CEFID!I29-CEFID!J29)+(CEART!I29-CEART!J29)+(CAV!I29-CAV!J29)+(CERES!I29-CERES!J29) -> 0 | K29: =I29-J29 -> 9 | L29: =I29*H29 -> 495 | M29: =J29*H29 -> 0
C30: 2 | D30: BOLA BOBATH, BOLA BOBATH 80 CM, | F30: BIOFIT | G30: 6 | H30: 55 | I30: =REITORIA!I30+CEFID!I30+CEART!I30+CAV!I30+CERES!I30 -> 6 | J30: =(REITORIA!I30-REITORIA!J30)+(CEFID!I30-CEFID!J30)+(CEART!I30-CEART!J30)+(CAV!I30-CAV!J30)+(CERES!I30-CERES!J30) -> 3 | K30: =I30-J30 -> 3 | L30: =I30*H30 -> 330 | M30: =J30*H30 -> 165
C31: 3 | D31: BOLA BOBATH, BOLA BOBATH, | F31: BIOFIT | G31: 10 | H31: 50 | I31: =REITORIA!I31+CEFID!I31+CEART!I31+CAV!I31+CERES!I31 -> 10 | J31: =(REITORIA!I31-REITORIA!J31)+(CEFID!I31-CEFID!J31)+(CEART!I31-CEART!J31)+(CAV!I31-CAV!J31)+(CERES!I31-CERES!J31) -> 0 | K31: =I31-J31 -> 10 | L31: =I31*H31 -> 500 | M31: =J31*H31 -> 0
C32: 4 | D32: BOLA BOBATH, BOLA BOBATH, PARA EXERCICIOS TERAPEUTICOS | F32: BIOFIT | G32: 3 | H32: 50 | I32: =REITORIA!I32+CEFID!I32+CEART!I32+CAV!I32+CERES!I32 -> 3 | J32: =(REITORIA!I32-REITORIA!J32)+(CEFID!I32-CEFID!J32)+(CEART!I32-CEART!J32)+(CAV!I32-CAV!J32)+(CERES!I32-CERES!J32) -> 0 | K32: =I32-J32 -> 3 | L32: =I32*H32 -> 150 | M32: =J32*H32 -> 0
C33: 5 | D33: BOLA BOBATH, BOLA BOBATH, | F33: BIOFIT | G33: 4 | H33: 75 | I33: =REITORIA!I33+CEFID!I33+CEART!I33+CAV!I33+CERES!I33 -> 4 | J33: =(REITORIA!I33-REITORIA!J33)+(CEFID!I33-CEFID!J33)+(CEART!I33-CEART!J33)+(CAV!I33-CAV!J33)+(CERES!I33-CERES!J33) -> 0 | K33: =I33-J33 -> 4 | L33: =I33*H33 -> 300 | M33: =J33*H33 -> 0
C34: 6 | D34: BOLA BOBATH, BOLA BOBATH, | F34: BIOFIT | G34: 4 | H34: 60 | I34: =REITORIA!I34+CEFID!I34+CEART!I34+CAV!I34+CERES!I34 -> 4 | J34: =(REITORIA!I34-REITORIA!J34)+(CEFID!I34-CEFID!J34)+(CEART!I34-CEART!J34)+(CAV!I34-CAV!J34)+(CERES!I34-CERES!J34) -> 0 | K34: =I34-J34 -> 4 | L34: =I34*H34 -> 240 | M34: =J34*H34 -> 0
C35: 7 | D35: BOLA BOBATH, BOLA BOBATH, | F35: BIOFIT | G35: 10 | H35: 39 | I35: =REITORIA!I35+CEFID!I35+CEART!I35+CAV!I35+CERES!I35 -> 10 | J35: =(REITORIA!I35-REITORIA!J35)+(CEFID!I35-CEFID!J35)+(CEART!I35-CEART!J35)+(CAV!I35-CAV!J35)+(CERES!I35-CERES!J35) -> 3 | K35: =I35-J35 -> 7 | L35: =I35*H35 -> 390 | M35: =J35*H35 -> 117
C36: 8 | D36: BOLA DE BORRACHA, PARA EXERCICIO FUNCIONAL, OVER BALL | F36: UP LIFT | G36: 10 | H36: 25 | I36: =REITORIA!I36+CEFID!I36+CEART!I36+CAV!I36+CERES!I36 -> 10 | J36: =(REITORIA!I36-REITORIA!J36)+(CEFID!I36-CEFID!J36)+(CEART!I36-CEART!J36)+(CAV!I36-CAV!J36)+(CERES!I36-CERES!J36) -> 0 | K36: =I36-J36 -> 10 | L36: =I36*H36 -> 250 | M36: =J36*H36 -> 0
C37: 9 | D37: BOLA, PARA BODY BALANCE DOME, | F37: BIOFIT | G37: 8 | H37: 250 | I37: =REITORIA!I37+CEFID!I37+CEART!I37+CAV!I37+CERES!I37 -> 8 | J37: =(REITORIA!I37-REITORIA!J37)+(CEFID!I37-CEFID!J37)+(CEART!I37-CEART!J37)+(CAV!I37-CAV!J37)+(CERES!I37-CERES!J37) -> 0 | K37: =I37-J37 -> 8 | L37: =I37*H37 -> 2000 | M37: =J37*H37 -> 0
C38: 10 | D38: BOLA, PARA BODY BALANCE DOME, | F38: BIOFIT | G38: 6 | H38: 290 | I38: =REITORIA!I38+CEFID!I38+CEART!I38+CAV!I38+CERES!I38 -> 6 | J38: =(REITORIA!I38-REITORIA!J38)+(CEFID!I38-CEFID!J38)+(CEART!I38-CEART!J38)+(CAV!I38-CAV!J38)+(CERES!I38-CERES!J38) -> 0 | K38: =I38-J38 -> 6 | L38: =I38*H38 -> 1740 | M38: =J38*H38 -> 0
C39: 11 | D39: BOLA, PARA EXERCICIOS FISICOS, 26 CM DE DIAMETRO, | F39: UP LIFT | G39: 32 | H39: 21.5 | I39: =REITORIA!I39+CEFID!I39+CEART!I39+CAV!I39+CERES!I39 -> 32 | J39: =(REITORIA!I39-REITORIA!J39)+(CEFID!I39-CEFID!J39)+(CEART!I39-CEART!J39)+(CAV!I39-CAV!J39)+(CERES!I39-CERES!J39) -> 1 | K39: =I39-J39 -> 31 | L39: =I39*H39 -> 688 | M39: =J39*H39 -> 21.5
C40: 12 | D40: DISCO DE BORRACHA, DISCO ESPORTIVO DE EQUILIBRIO, | F40: BIOFIT | G40: 3 | H40: 50 | I40: =REITORIA!I40+CEFID!I40+CEART!I40+CAV!I40+CERES!I40 -> 3 | J40: =(REITORIA!I40-REITORIA!J40)+(CEFID!I40-CEFID!J40)+(CEART!I40-CEART!J40)+(CAV!I40-CAV!J40)+(CERES!I40-CERES!J40) -> 0 | K40: =I40-J40 -> 3 | L40: =I40*H40 -> 150 | M40: =J40*H40 -> 0
C41: 13 | D41: DISCO DE BORRACHA, DISCO ESPORTIVO DE EQUILIBRIO, | F41: BIOFIT | G41: 6 | H41: 55 | I41: =REITORIA!I41+CEFID!I41+CEART!I41+CAV!I41+CERES!I41 -> 6 | J41: =(REITORIA!I41-REITORIA!J41)+(CEFID!I41-CEFID!J41)+(CEART!I41-CEART!J41)+(CAV!I41-CAV!J41)+(CERES!I41-CERES!J41) -> 0 | K41: =I41-J41 -> 6 | L41: =I41*H41 -> 330 | M41: =J41*H41 -> 0
... C47: 19 | D47: PECAS E COMPONENTES, STEP CONFECCIONADO EM MATERIAL | F47: PANGUE | G47: 2 | H47: 70 | I47: =REITORIA!I47+CEFID!I47+CEART!I47+CAV!I47+CERES!I47 -> 2 | J47: =(REITORIA!I47-REITORIA!J47)+(CEFID!I47-CEFID!J47)+(CEART!I47-CEART!J47)+(CAV!I47-CAV!J47)+(CERES!I47-CERES!J47) -> 0 | K47: =I47-J47 -> 2 | L47: =I47*H47 -> 140 | M47: =J47*H47 -> 0
B48: 3 | C48: 1 | D48: INFRUTÍFERO | I48: =REITORIA!I48+CEFID!I48+CEART!I48+CAV!I48+CERES!I48 -> 0 | J48: =(REITORIA!I48-REITORIA!J48)+(CEFID!I48-CEFID!J48)+(CEART!I48-CEART!J48)+(CAV!I48-CAV!J48)+(CERES!I48-CERES!J48) -> 0 | K48: =I48-J48 -> 0 | L48: =I48*H48 -> 0 | M48: =J48*H48 -> 0
C49: 2 | D49: INFRUTÍFERO | I49: =REITORIA!I49+CEFID!I49+CEART!I49+CAV!I49+CERES!I49 -> 0 | J49: =(REITORIA!I49-REITORIA!J49)+(CEFID!I49-CEFID!J49)+(CEART!I49-CEART!J49)+(CAV!I49-CAV!J49)+(CERES!I49-CERES!J49) -> 0 | K49: =I49-J49 -> 0 | L49: =I49*H49 -> 0 | M49: =J49*H49 -> 0
