Workbook
Name diasuteis: #REF!
Name diasuteis: #REF!
Name diasuteis: #REF!
Name diasuteis: #REF!
Name diasuteis: #REF!
Name diasuteis: #REF!
Name diasuteis: #REF!
Name diasuteis: #REF!
Name diasuteis: #REF!
Name diasuteis: #REF!
Name diasuteis: #REF!
Name diasuteis: #REF!
Name diasuteis: #REF!
Name diasuteis: #REF!
Name Ferias: #REF!
Name Ferias: #REF!
Name Ferias: #REF!
Name Ferias: #REF!
Name Ferias: #REF!
Name Ferias: #REF!
Name Ferias: #REF!
Name Ferias: #REF!
Name Ferias: #REF!
Name Ferias: #REF!
Name Ferias: #REF!
Name Ferias: #REF!
Name Ferias: #REF!
Name RD: OFFSET(#REF!,(MATCH(SMALL(#REF!,ROW()-10),#REF!,0)-1),0)
Name RD: OFFSET(#REF!,(MATCH(SMALL(#REF!,ROW()-10),#REF!,0)-1),0)
Name RD: OFFSET(#REF!,(MATCH(SMALL(#REF!,ROW()-10),#REF!,0)-1),0)
Name RD: OFFSET(#REF!,(MATCH(SMALL(#REF!,ROW()-10),#REF!,0)-1),0)

Sheet Reitoria_PROEX
A1: PROCESSO: 1072/2014/UDESC | D1: OBJETO: Contratação de Empresa Prestadora de Serviço de Revisão, Tradução de Textos e Tradução Simultânea | H1: VIGÊNCIA DA ATA: 07/11/2014 até 06/11/2015 | K1: AF/OS nº xxxx/2014 Qtde. DT | L1: AF/OS nº xxxx/2014 Qtde. DT | M1: AF/OS nº xxxx/2014 Qtde. DT | N1: AF/OS nº xxxx/2014 Qtde. DT | O1: AF/OS nº xxxx/2014 Qtde. DT | P1: AF/OS nº xxxx/2014 Qtde. DT | Q1: AF/OS nº xxxx/2014 Qtde. DT | R1: AF/OS nº xxxx/2014 Qtde. DT | S1: AF/OS nº xxxx/2014 Qtde. DT | T1: AF/OS nº xxxx/2014 Qtde. DT | U1: AF/OS nº xxxx/2014 Qtde. DT | V1: AF/OS nº xxxx/2014 Qtde. DT
A2: CENTRO PARTICIPANTE: Reitoria - PROEX
A3: FORNECEDOR | B3: LOTE | C3: ITEM | D3: PRODUTO - CARACTERÍSTICAS MÍNIMAS | E3: ELEMENTO | F3: UNIDADE | G3: Preço UNITÁRIO (R$) | H3: Qtde LICITADA | I3: Saldo / Automático | J3: ALERTA | K3: ...../...../...... | L3: ...../...../...... | M3: ...../...../...... | N3: ...../...../...... | O3: ...../...../...... | P3: ...../...../...... | Q3: ...../...../...... | R3: ...../...../...... | S3: ...../...../...... | T3: ...../...../...... | U3: ...../...../...... | V3: ...../...../......
A4: On The Road Curso de Idiomas Ltda - Me | B4: 9 | C4: 9 | D4: PRESTAÇÃO DE SERVIÇO DE REVISÃO DE TEXTO CORRIDO EM LINGUA ESTRANGEIRA: Revisão de texto corrido na língua estrangeira (Inglesa) corrido no formato Word. Uma lauda equivale a 2100 caracteres com espaçamento, ou fração conforme memorial descritivo. Qualidade compativel com os periódios Qualis A (CAPES). | E4: 339039-99 | F4: LAUDA | G4: 31.36 | I4: =H4-(SUM(K4:V4)) -> 0 | J4: =IF(I4<0,"ATENÇÃO","OK") -> OK | K4: 0 | L4: 0 | M4: 0 | N4: 0 | O4: 0 | P4: 0 | Q4: 0 | R4: 0 | S4: 0 | T4: 0 | U4: 0 | V4: 0
B5: 10 | C5: 10 | D5: PRESTAÇÃO DE SERVIÇO DE REVISÃO DE TEXTO CORRIDO EM LINGUA ESTRANGEIRA: Revisão de texto corrido na língua estrangeira (Francesa) corrido no formato Word. Uma lauda equivale a 2100 caracteres com espaçamento, ou fração conforme memorial descritivo. Qualidade compativel com os periódios Qualis A (CAPES). | E5: 339039-99 | F5: LAUDA | G5: 31.25 | I5: =H5-(SUM(K5:V5)) -> 0 | J5: =IF(I5<0,"ATENÇÃO","OK") -> OK | K5: 0 | L5: 0 | M5: 0 | N5: 0 | O5: 0 | P5: 0 | Q5: 0 | R5: 0 | S5: 0 | T5: 0 | U5: 0 | V5: 0
B6: 11 | C6: 11 | D6: PRESTAÇÃO DE SERVIÇO DE REVISÃO DE TEXTO CORRIDO EM LINGUA ESTRANGEIRA: Revisão de texto corrido na língua estrangeira (Espanhola) corrido no formato Word. Uma lauda equivale a 2100 caracteres com espaçamento, ou fração conforme memorial descritivo. Qualidade compativel com os periódios Qualis A (CAPES). | E6: 339039-99 | F6: LAUDA | G6: 22.11 | I6: =H6-(SUM(K6:V6)) -> 0 | J6: =IF(I6<0,"ATENÇÃO","OK") -> OK | K6: 0 | L6: 0 | M6: 0 | N6: 0 | O6: 0 | P6: 0 | Q6: 0 | R6: 0 | S6: 0 | T6: 0 | U6: 0 | V6: 0
A7: Translateway Idiomas, Tradução e Consultoria Empresarial Ltda | B7: 12 | C7: 12 | D7: PRESTAÇÃO DE SERVIÇO DE TRADUÇÃO SIMULTÂNEA: língua Inglesa para a língua Portuguesa e da língua Portuguesa para a língua Inglesa. | E7: 339039-99 | F7: HORA | G7: 217.89 | I7: =H7-(SUM(K7:V7)) -> 0 | J7: =IF(I7<0,"ATENÇÃO","OK") -> OK | K7: 0 | L7: 0 | M7: 0 | N7: 0 | O7: 0 | P7: 0 | Q7: 0 | R7: 0 | S7: 0 | T7: 0 | U7: 0 | V7: 0
A8: Translateway Idiomas, Tradução e Consultoria Empresarial Ltda | B8: 15 | C8: 15 | D8: PRESTAÇÃO DE SERVIÇO DE TRADUÇÃO SIMULTÂNEA: língua francesa para a língua Portuguesa e da língua Portuguesa para a língua francesa. | E8: 339039-99 | F8: HORA | G8: 232 | I8: =H8-(SUM(K8:V8)) -> 0 | J8: =IF(I8<0,"ATENÇÃO","OK") -> OK | K8: 0 | L8: 0 | M8: 0 | N8: 0 | O8: 0 | P8: 0 | Q8: 0 | R8: 0 | S8: 0 | T8: 0 | U8: 0 | V8: 0
B9: 16 | C9: 16 | D9: PRESTAÇÃO DE SERVIÇO DE TRADUÇÃO SIMULTÂNEA: língua italiana para a língua Portuguesa e da língua Portuguesa para a língua italiana. | E9: 339039-99 | F9: HORA | G9: 230 | I9: =H9-(SUM(K9:V9)) -> 0 | J9: =IF(I9<0,"ATENÇÃO","OK") -> OK | K9: 0 | L9: 0 | M9: 0 | N9: 0 | O9: 0 | P9: 0 | Q9: 0 | R9: 0 | S9: 0 | T9: 0 | U9: 0 | V9: 0
B10: 17 | C10: 17 | D10: PRESTAÇÃO DE SERVIÇO DE TRADUÇÃO CONSECUTIVA : língua francesa para a língua Portuguesa e da língua Portuguesa para a língua francesa. | E10: 339039-99 | F10: HORA | G10: 230 | I10: =H10-(SUM(K10:V10)) -> 0 | J10: =IF(I10<0,"ATENÇÃO","OK") -> OK | K10: 0 | L10: 0 | M10: 0 | N10: 0 | O10: 0 | P10: 0 | Q10: 0 | R10: 0 | S10: 0 | T10: 0 | U10: 0 | V10: 0
B11: 18 | C11: 18 | D11: PRESTAÇÃO DE SERVIÇO DE TRADUÇÃO CONSECUTIVA : língua inglesa para a língua Portuguesa e da língua Portuguesa para a língua inglesa. | E11: 339039-99 | F11: HORA | G11: 230 | I11: =H11-(SUM(K11:V11)) -> 0 | J11: =IF(I11<0,"ATENÇÃO","OK") -> OK | K11: 0 | L11: 0 | M11: 0 | N11: 0 | O11: 0 | P11: 0 | Q11: 0 | R11: 0 | S11: 0 | T11: 0 | U11: 0 | V11: 0
D13: *Prazos de Entrega e de Pagamento conforme Termo de Referência do Edital
D14: *Itens 1 ao 8, 13 e 14 infrutíferos

Sheet Reitoria_SCII
A1: PROCESSO: 1072/2014/UDESC | D1: OBJETO: Contratação de Empresa Prestadora de Serviço de Revisão, Tradução de Textos e Tradução Simultânea | H1: VIGÊNCIA DA ATA: 07/11/2014 até 06/11/2015 | K1: AF/OS nº xxxx/2014 Qtde. DT | L1: AF/OS nº xxxx/2014 Qtde. DT | M1: AF/OS nº xxxx/2014 Qtde. DT | N1: AF/OS nº xxxx/2014 Qtde. DT | O1: AF/OS nº xxxx/2014 Qtde. DT | P1: AF/OS nº xxxx/2014 Qtde. DT | Q1: AF/OS nº xxxx/2014 Qtde. DT | R1: AF/OS nº xxxx/2014 Qtde. DT | S1: AF/OS nº xxxx/2014 Qtde. DT | T1: AF/OS nº xxxx/2014 Qtde. DT | U1: AF/OS nº xxxx/2014 Qtde. DT | V1: AF/OS nº xxxx/2014 Qtde. DT
A2: CENTRO PARTICIPANTE: Reitoria - SCII
A3: FORNECEDOR | B3: LOTE | C3: ITEM | D3: PRODUTO - CARACTERÍSTICAS MÍNIMAS | E3: ELEMENTO | F3: UNIDADE | G3: Preço UNITÁRIO (R$) | H3: Qtde LICITADA | I3: Saldo / Automático | J3: ALERTA | K3: ...../...../...... | L3: ...../...../...... | M3: ...../...../...... | N3: ...../...../...... | O3: ...../...../...... | P3: ...../...../...... | Q3: ...../...../...... | R3: ...../...../...... | S3: ...../...../...... | T3: ...../...../...... | U3: ...../...../...... | V3: ...../...../......
A4: On The Road Curso de Idiomas Ltda - Me | B4: 9 | C4: 9 | D4: PRESTAÇÃO DE SERVIÇO DE REVISÃO DE TEXTO CORRIDO EM LINGUA ESTRANGEIRA: Revisão de texto corrido na língua estrangeira (Inglesa) corrido no formato Word. Uma lauda equivale a 2100 caracteres com espaçamento, ou fração conforme memorial descritivo. Qualidade compativel com os periódios Qualis A (CAPES). | E4: 339039-99 | F4: LAUDA | G4: 31.36 | I4: =H4-(SUM(K4:V4)) -> 0 | J4: =IF(I4<0,"ATENÇÃO","OK") -> OK | K4: 0 | L4: 0 | M4: 0 | N4: 0 | O4: 0 | P4: 0 | Q4: 0 | R4: 0 | S4: 0 | T4: 0 | U4: 0 | V4: 0
B5: 10 | C5: 10 | D5: PRESTAÇÃO DE SERVIÇO DE REVISÃO DE TEXTO CORRIDO EM LINGUA ESTRANGEIRA: Revisão de texto corrido na língua estrangeira (Francesa) corrido no formato Word. Uma lauda equivale a 2100 caracteres com espaçamento, ou fração conforme memorial descritivo. Qualidade compativel com os periódios Qualis A (CAPES). | E5: 339039-99 | F5: LAUDA | G5: 31.25 | I5: =H5-(SUM(K5:V5)) -> 0 | J5: =IF(I5<0,"ATENÇÃO","OK") -> OK | K5: 0 | L5: 0 | M5: 0 | N5: 0 | O5: 0 | P5: 0 | Q5: 0 | R5: 0 | S5: 0 | T5: 0 | U5: 0 | V5: 0
B6: 11 | C6: 11 | D6: PRESTAÇÃO DE SERVIÇO DE REVISÃO DE TEXTO CORRIDO EM LINGUA ESTRANGEIRA: Revisão de texto corrido na língua estrangeira (Espanhola) corrido no formato Word. Uma lauda equivale a 2100 caracteres com espaçamento, ou fração conforme memorial descritivo. Qualidade compativel com os periódios Qualis A (CAPES). | E6: 339039-99 | F6: LAUDA | G6: 22.11 | I6: =H6-(SUM(K6:V6)) -> 0 | J6: =IF(I6<0,"ATENÇÃO","OK") -> OK | K6: 0 | L6: 0 | M6: 0 | N6: 0 | O6: 0 | P6: 0 | Q6: 0 | R6: 0 | S6: 0 | T6: 0 | U6: 0 | V6: 0
A7: Translateway Idiomas, Tradução e Consultoria Empresarial Ltda | B7: 12 | C7: 12 | D7: PRESTAÇÃO DE SERVIÇO DE TRADUÇÃO SIMULTÂNEA: língua Inglesa para a língua Portuguesa e da língua Portuguesa para a língua Inglesa. | E7: 339039-99 | F7: HORA | G7: 217.89 | I7: =H7-(SUM(K7:V7)) -> 0 | J7: =IF(I7<0,"ATENÇÃO","OK") -> OK | K7: 0 | L7: 0 | M7: 0 | N7: 0 | O7: 0 | P7: 0 | Q7: 0 | R7: 0 | S7: 0 | T7: 0 | U7: 0 | V7: 0
A8: Translateway Idiomas, Tradução e Consultoria Empresarial Ltda | B8: 15 | C8: 15 | D8: PRESTAÇÃO DE SERVIÇO DE TRADUÇÃO SIMULTÂNEA: língua francesa para a língua Portuguesa e da língua Portuguesa para a língua francesa. | E8: 339039-99 | F8: HORA | G8: 232 | I8: =H8-(SUM(K8:V8)) -> 0 | J8: =IF(I8<0,"ATENÇÃO","OK") -> OK | K8: 0 | L8: 0 | M8: 0 | N8: 0 | O8: 0 | P8: 0 | Q8: 0 | R8: 0 | S8: 0 | T8: 0 | U8: 0 | V8: 0
B9: 16 | C9: 16 | D9: PRESTAÇÃO DE SERVIÇO DE TRADUÇÃO SIMULTÂNEA: língua italiana para a língua Portuguesa e da língua Portuguesa para a língua italiana. | E9: 339039-99 | F9: HORA | G9: 230 | I9: =H9-(SUM(K9:V9)) -> 0 | J9: =IF(I9<0,"ATENÇÃO","OK") -> OK | K9: 0 | L9: 0 | M9: 0 | N9: 0 | O9: 0 | P9: 0 | Q9: 0 | R9: 0 | S9: 0 | T9: 0 | U9: 0 | V9: 0
B10: 17 | C10: 17 | D10: PRESTAÇÃO DE SERVIÇO DE TRADUÇÃO CONSECUTIVA : língua francesa para a língua Portuguesa e da língua Portuguesa para a língua francesa. | E10: 339039-99 | F10: HORA | G10: 230 | I10: =H10-(SUM(K10:V10)) -> 0 | J10: =IF(I10<0,"ATENÇÃO","OK") -> OK | K10: 0 | L10: 0 | M10: 0 | N10: 0 | O10: 0 | P10: 0 | Q10: 0 | R10: 0 | S10: 0 | T10: 0 | U10: 0 | V10: 0
B11: 18 | C11: 18 | D11: PRESTAÇÃO DE SERVIÇO DE TRADUÇÃO CONSECUTIVA : língua inglesa para a língua Portuguesa e da língua Portuguesa para a língua inglesa. | E11: 339039-99 | F11: HORA | G11: 230 | I11: =H11-(SUM(K11:V11)) -> 0 | J11: =IF(I11<0,"ATENÇÃO","OK") -> OK | K11: 0 | L11: 0 | M11: 0 | N11: 0 | O11: 0 | P11: 0 | Q11: 0 | R11: 0 | S11: 0 | T11: 0 | U11: 0 | V11: 0
D13: *Prazos de Entrega e de Pagamento conforme Termo de Referência do Edital
D14: *Itens 1 ao 8, 13 e 14 infrutíferos

Sheet ESAG
A1: PROCESSO: 1072/2014/UDESC | D1: OBJETO: Contratação de Empresa Prestadora de Serviço de Revisão, Tradução de Textos e Tradução Simultânea | H1: VIGÊNCIA DA ATA: 07/11/2014 até 06/11/2015 | K1: AF/OS nº 1544/2015 Qtde. DT | L1: AF/OS nº xxxx/2014 Qtde. DT | M1: AF/OS nº xxxx/2014 Qtde. DT | N1: AF/OS nº xxxx/2014 Qtde. DT | O1: AF/OS nº xxxx/2014 Qtde. DT | P1: AF/OS nº xxxx/2014 Qtde. DT | Q1: AF/OS nº xxxx/2014 Qtde. DT | R1: AF/OS nº xxxx/2014 Qtde. DT | S1: AF/OS nº xxxx/2014 Qtde. DT | T1: AF/OS nº xxxx/2014 Qtde. DT | U1: AF/OS nº xxxx/2014 Qtde. DT | V1: AF/OS nº xxxx/2014 Qtde. DT
A2: CENTRO PARTICIPANTE: ESAG
A3: FORNECEDOR | B3: LOTE | C3: ITEM | D3: PRODUTO - CARACTERÍSTICAS MÍNIMAS | E3: ELEMENTO | F3: UNIDADE | G3: Preço UNITÁRIO (R$) | H3: Qtde LICITADA | I3: Saldo / Automático | J3: ALERTA | K3: ...../...../...... | L3: ...../...../...... | M3: ...../...../...... | N3: ...../...../...... | O3: ...../...../...... | P3: ...../...../...... | Q3: ...../...../...... | R3: ...../...../...... | S3: ...../...../...... | T3: ...../...../...... | U3: ...../...../...... | V3: ...../...../......
A4: On The Road Curso de Idiomas Ltda - Me | B4: 9 | C4: 9 | D4: PRESTAÇÃO DE SERVIÇO DE REVISÃO DE TEXTO CORRIDO EM LINGUA ESTRANGEIRA: Revisão de texto corrido na língua estrangeira (Inglesa) corrido no formato Word. Uma lauda equivale a 2100 caracteres com espaçamento, ou fração conforme memorial descritivo. Qualidade compativel com os periódios Qualis A (CAPES). | E4: 339039-99 | F4: LAUDA | G4: 31.36 | H4: 60 | I4: =H4-(SUM(K4:V4)) -> 60 | J4: =IF(I4<0,"ATENÇÃO","OK") -> OK | L4: 0 | M4: 0 | N4: 0 | O4: 0 | P4: 0 | Q4: 0 | R4: 0 | S4: 0 | T4: 0 | U4: 0 | V4: 0
B5: 10 | C5: 10 | D5: PRESTAÇÃO DE SERVIÇO DE REVISÃO DE TEXTO CORRIDO EM LINGUA ESTRANGEIRA: Revisão de texto corrido na língua estrangeira (Francesa) corrido no formato Word. Uma lauda equivale a 2100 caracteres com espaçamento, ou fração conforme memorial descritivo. Qualidade compativel com os periódios Qualis A (CAPES). | E5: 339039-99 | F5: LAUDA | G5: 31.25 | H5: 40 | I5: =H5-(SUM(K5:V5)) -> 40 | J5: =IF(I5<0,"ATENÇÃO","OK") -> OK | L5: 0 | M5: 0 | N5: 0 | O5: 0 | P5: 0 | Q5: 0 | R5: 0 | S5: 0 | T5: 0 | U5: 0 | V5: 0
B6: 11 | C6: 11 | D6: PRESTAÇÃO DE SERVIÇO DE REVISÃO DE TEXTO CORRIDO EM LINGUA ESTRANGEIRA: Revisão de texto corrido na língua estrangeira (Espanhola) corrido no formato Word. Uma lauda equivale a 2100 caracteres com espaçamento, ou fração conforme memorial descritivo. Qualidade compativel com os periódios Qualis A (CAPES). | E6: 339039-99 | F6: LAUDA | G6: 22.11 | I6: =H6-(SUM(K6:V6)) -> 0 | J6: =IF(I6<0,"ATENÇÃO","OK") -> OK | L6: 0 | M6: 0 | N6: 0 | O6: 0 | P6: 0 | Q6: 0 | R6: 0 | S6: 0 | T6: 0 | U6: 0 | V6: 0
A7: Translateway Idiomas, Tradução e Consultoria Empresarial Ltda | B7: 12 | C7: 12 | D7: PRESTAÇÃO DE SERVIÇO DE TRADUÇÃO SIMULTÂNEA: língua Inglesa para a língua Portuguesa e da língua Portuguesa para a língua Inglesa. | E7: 339039-99 | F7: HORA | G7: 217.89 | H7: 40 | I7: =H7-(SUM(K7:V7)) -> 0 | J7: =IF(I7<0,"ATENÇÃO","OK") -> OK | K7: 40 | L7: 0 | M7: 0 | N7: 0 | O7: 0 | P7: 0 | Q7: 0 | R7: 0 | S7: 0 | T7: 0 | U7: 0 | V7: 0
A8: Translateway Idiomas, Tradução e Consultoria Empresarial Ltda | B8: 15 | C8: 15 | D8: PRESTAÇÃO DE SERVIÇO DE TRADUÇÃO SIMULTÂNEA: língua francesa para a língua Portuguesa e da língua Portuguesa para a língua francesa. | E8: 339039-99 | F8: HORA | G8: 232 | I8: =H8-(SUM(K8:V8)) -> 0 | J8: =IF(I8<0,"ATENÇÃO","OK") -> OK | L8: 0 | M8: 0 | N8: 0 | O8: 0 | P8: 0 | Q8: 0 | R8: 0 | S8: 0 | T8: 0 | U8: 0 | V8: 0
B9: 16 | C9: 16 | D9: PRESTAÇÃO DE SERVIÇO DE TRADUÇÃO SIMULTÂNEA: língua italiana para a língua Portuguesa e da língua Portuguesa para a língua italiana. | E9: 339039-99 | F9: HORA | G9: 230 | I9: =H9-(SUM(K9:V9)) -> 0 | J9: =IF(I9<0,"ATENÇÃO","OK") -> OK | L9: 0 | M9: 0 | N9: 0 | O9: 0 | P9: 0 | Q9: 0 | R9: 0 | S9: 0 | T9: 0 | U9: 0 | V9: 0
B10: 17 | C10: 17 | D10: PRESTAÇÃO DE SERVIÇO DE TRADUÇÃO CONSECUTIVA : língua francesa para a língua Portuguesa e da língua Portuguesa para a língua francesa. | E10: 339039-99 | F10: HORA | G10: 230 | I10: =H10-(SUM(K10:V10)) -> 0 | J10: =IF(I10<0,"ATENÇÃO","OK") -> OK | L10: 0 | M10: 0 | N10: 0 | O10: 0 | P10: 0 | Q10: 0 | R10: 0 | S10: 0 | T10: 0 | U10: 0 | V10: 0
B11: 18 | C11: 18 | D11: PRESTAÇÃO DE SERVIÇO DE TRADUÇÃO CONSECUTIVA : língua inglesa para a língua Portuguesa e da língua Portuguesa para a língua inglesa. | E11: 339039-99 | F11: HORA | G11: 230 | I11: =H11-(SUM(K11:V11)) -> 0 | J11: =IF(I11<0,"ATENÇÃO","OK") -> OK | L11: 0 | M11: 0 | N11: 0 | O11: 0 | P11: 0 | Q11: 0 | R11: 0 | S11: 0 | T11: 0 | U11: 0 | V11: 0
D13: *Prazos de Entrega e de Pagamento conforme Termo de Referência do Edital
D14: *Itens 1 ao 8, 13 e 14 infrutíferos

Sheet CEART
A1: PROCESSO: 1072/2014/UDESC | D1: OBJETO: Contratação de Empresa Prestadora de Serviço de Revisão, Tradução de Textos e Tradução Simultânea | H1: VIGÊNCIA DA ATA: 07/11/2014 até 06/11/2015 | K1: AF/OS nº xxxx/2014 Qtde. DT | L1: AF/OS nº xxxx/2014 Qtde. DT | M1: AF/OS nº xxxx/2014 Qtde. DT | N1: AF/OS nº xxxx/2014 Qtde. DT | O1: AF/OS nº xxxx/2014 Qtde. DT | P1: AF/OS nº xxxx/2014 Qtde. DT | Q1: AF/OS nº xxxx/2014 Qtde. DT | R1: AF/OS nº xxxx/2014 Qtde. DT | S1: AF/OS nº xxxx/2014 Qtde. DT | T1: AF/OS nº xxxx/2014 Qtde. DT | U1: AF/OS nº xxxx/2014 Qtde. DT | V1: AF/OS nº xxxx/2014 Qtde. DT
A2: CENTRO PARTICIPANTE: CEART
A3: FORNECEDOR | B3: LOTE | C3: ITEM | D3: PRODUTO - CARACTERÍSTICAS MÍNIMAS | E3: ELEMENTO | F3: UNIDADE | G3: Preço UNITÁRIO (R$) | H3: Qtde LICITADA | I3: Saldo / Automático | J3: ALERTA | K3: ...../...../...... | L3: ...../...../...... | M3: ...../...../...... | N3: ...../...../...... | O3: ...../...../...... | P3: ...../...../...... | Q3: ...../...../...... | R3: ...../...../...... | S3: ...../...../...... | T3: ...../...../...... | U3: ...../...../...... | V3: ...../...../......
A4: On The Road Curso de Idiomas Ltda - Me | B4: 9 | C4: 9 | D4: PRESTAÇÃO DE SERVIÇO DE REVISÃO DE TEXTO CORRIDO EM LINGUA ESTRANGEIRA: Revisão de texto corrido na língua estrangeira (Inglesa) corrido no formato Word. Uma lauda equivale a 2100 caracteres com espaçamento, ou fração conforme memorial descritivo. Qualidade compativel com os periódios Qualis A (CAPES). | E4: 339039-99 | F4: LAUDA | G4: 31.36 | H4: 400 | I4: =H4-(SUM(K4:V4)) -> 400 | J4: =IF(I4<0,"ATENÇÃO","OK") -> OK | K4: 0 | L4: 0 | M4: 0 | N4: 0 | O4: 0 | P4: 0 | Q4: 0 | R4: 0 | S4: 0 | T4: 0 | U4: 0 | V4: 0
B5: 10 | C5: 10 | D5: PRESTAÇÃO DE SERVIÇO DE REVISÃO DE TEXTO CORRIDO EM LINGUA ESTRANGEIRA: Revisão de texto corrido na língua estrangeira (Francesa) corrido no formato Word. Uma lauda equivale a 2100 caracteres com espaçamento, ou fração conforme memorial descritivo. Qualidade compativel com os periódios Qualis A (CAPES). | E5: 339039-99 | F5: LAUDA | G5: 31.25 | I5: =H5-(SUM(K5:V5)) -> 0 | J5: =IF(I5<0,"ATENÇÃO","OK") -> OK | K5: 0 | L5: 0 | M5: 0 | N5: 0 | O5: 0 | P5: 0 | Q5: 0 | R5: 0 | S5: 0 | T5: 0 | U5: 0 | V5: 0
B6: 11 | C6: 11 | D6: PRESTAÇÃO DE SERVIÇO DE REVISÃO DE TEXTO CORRIDO EM LINGUA ESTRANGEIRA: Revisão de texto corrido na língua estrangeira (Espanhola) corrido no formato Word. Uma lauda equivale a 2100 caracteres com espaçamento, ou fração conforme memorial descritivo. Qualidade compativel com os periódios Qualis A (CAPES). | E6: 339039-99 | F6: LAUDA | G6: 22.11 | I6: =H6-(SUM(K6:V6)) -> 0 | J6: =IF(I6<0,"ATENÇÃO","OK") -> OK | K6: 0 | L6: 0 | M6: 0 | N6: 0 | O6: 0 | P6: 0 | Q6: 0 | R6: 0 | S6: 0 | T6: 0 | U6: 0 | V6: 0
A7: Translateway Idiomas, Tradução e Consultoria Empresarial Ltda | B7: 12 | C7: 12 | D7: PRESTAÇÃO DE SERVIÇO DE TRADUÇÃO SIMULTÂNEA: língua Inglesa para a língua Portuguesa e da língua Portuguesa para a língua Inglesa. | E7: 339039-99 | F7: HORA | G7: 217.89 | H7: 200 | I7: =H7-(SUM(K7:V7)) -> 200 | J7: =IF(I7<0,"ATENÇÃO","OK") -> OK | K7: 0 | L7: 0 | M7: 0 | N7: 0 | O7: 0 | P7: 0 | Q7: 0 | R7: 0 | S7: 0 | T7: 0 | U7: 0 | V7: 0
A8: Translateway Idiomas, Tradução e Consultoria Empresarial Ltda | B8: 15 | C8: 15 | D8: PRESTAÇÃO DE SERVIÇO DE TRADUÇÃO SIMULTÂNEA: língua francesa para a língua Portuguesa e da língua Portuguesa para a língua francesa. | E8: 339039-99 | F8: HORA | G8: 232 | I8: =H8-(SUM(K8:V8)) -> 0 | J8: =IF(I8<0,"ATENÇÃO","OK") -> OK | K8: 0 | L8: 0 | M8: 0 | N8: 0 | O8: 0 | P8: 0 | Q8: 0 | R8: 0 | S8: 0 | T8: 0 | U8: 0 | V8: 0
B9: 16 | C9: 16 | D9: PRESTAÇÃO DE SERVIÇO DE TRADUÇÃO SIMULTÂNEA: língua italiana para a língua Portuguesa e da língua Portuguesa para a língua italiana. | E9: 339039-99 | F9: HORA | G9: 230 | I9: =H9-(SUM(K9:V9)) -> 0 | J9: =IF(I9<0,"ATENÇÃO","OK") -> OK | K9: 0 | L9: 0 | M9: 0 | N9: 0 | O9: 0 | P9: 0 | Q9: 0 | R9: 0 | S9: 0 | T9: 0 | U9: 0 | V9: 0
B10: 17 | C10: 17 | D10: PRESTAÇÃO DE SERVIÇO DE TRADUÇÃO CONSECUTIVA : língua francesa para a língua Portuguesa e da língua Portuguesa para a língua francesa. | E10: 339039-99 | F10: HORA | G10: 230 | I10: =H10-(SUM(K10:V10)) -> 0 | J10: =IF(I10<0,"ATENÇÃO","OK") -> OK | K10: 0 | L10: 0 | M10: 0 | N10: 0 | O10: 0 | P10: 0 | Q10: 0 | R10: 0 | S10: 0 | T10: 0 | U10: 0 | V10: 0
B11: 18 | C11: 18 | D11: PRESTAÇÃO DE SERVIÇO DE TRADUÇÃO CONSECUTIVA : língua inglesa para a língua Portuguesa e da língua Portuguesa para a língua inglesa. | E11: 339039-99 | F11: HORA | G11: 230 | I11: =H11-(SUM(K11:V11)) -> 0 | J11: =IF(I11<0,"ATENÇÃO","OK") -> OK | K11: 0 | L11: 0 | M11: 0 | N11: 0 | O11: 0 | P11: 0 | Q11: 0 | R11: 0 | S11: 0 | T11: 0 | U11: 0 | V11: 0
D13: *Prazos de Entrega e de Pagamento conforme Termo de Referência do Edital
D14: *Itens 1 ao 8, 13 e 14 infrutíferos

Sheet FAED
A1: PROCESSO: 1072/2014/UDESC | D1: OBJETO: Contratação de Empresa Prestadora de Serviço de Revisão, Tradução de Textos e Tradução Simultânea | H1: VIGÊNCIA DA ATA: 07/11/2014 até 06/11/2015 | K1: AF/OS nº 801/2015 Qtde. DT | L1: AF/OS nº 1284/2015 Qtde. DT | M1: AF/OS nº 1531/2015 Qtde. DT | N1: AF/OS nº xxxx/2014 Qtde. DT | O1: AF/OS nº xxxx/2014 Qtde. DT | P1: AF/OS nº xxxx/2014 Qtde. DT | Q1: AF/OS nº xxxx/2014 Qtde. DT | R1: AF/OS nº xxxx/2014 Qtde. DT | S1: AF/OS nº xxxx/2014 Qtde. DT | T1: AF/OS nº xxxx/2014 Qtde. DT | U1: AF/OS nº xxxx/2014 Qtde. DT | V1: AF/OS nº xxxx/2014 Qtde. DT
A2: CENTRO PARTICIPANTE: FAED
A3: FORNECEDOR | B3: LOTE | C3: ITEM | D3: PRODUTO - CARACTERÍSTICAS MÍNIMAS | E3: ELEMENTO | F3: UNIDADE | G3: Preço UNITÁRIO (R$) | H3: Qtde LICITADA | I3: Saldo / Automático | J3: ALERTA | K3: 42142 | L3: 42212 | M3: 42243 | N3: ...../...../...... | O3: ...../...../...... | P3: ...../...../...... | Q3: ...../...../...... | R3: ...../...../...... | S3: ...../...../...... | T3: ...../...../...... | U3: ...../...../...... | V3: ...../...../......
A4: On The Road Curso de Idiomas Ltda - Me | B4: 9 | C4: 9 | D4: PRESTAÇÃO DE SERVIÇO DE REVISÃO DE TEXTO CORRIDO EM LINGUA ESTRANGEIRA: Revisão de texto corrido na língua estrangeira (Inglesa) corrido no formato Word. Uma lauda equivale a 2100 caracteres com espaçamento, ou fração conforme memorial descritivo. Qualidade compativel com os periódios Qualis A (CAPES). | E4: 339039-99 | F4: LAUDA | G4: 31.36 | H4: 280 | I4: =H4-(SUM(K4:V4)) -> 280 | J4: =IF(I4<0,"ATENÇÃO","OK") -> OK | K4: 0 | L4: 0 | M4: 0 | N4: 0 | O4: 0 | P4: 0 | Q4: 0 | R4: 0 | S4: 0 | T4: 0 | U4: 0 | V4: 0
B5: 10 | C5: 10 | D5: PRESTAÇÃO DE SERVIÇO DE REVISÃO DE TEXTO CORRIDO EM LINGUA ESTRANGEIRA: Revisão de texto corrido na língua estrangeira (Francesa) corrido no formato Word. Uma lauda equivale a 2100 caracteres com espaçamento, ou fração conforme memorial descritivo. Qualidade compativel com os periódios Qualis A (CAPES). | E5: 339039-99 | F5: LAUDA | G5: 31.25 | H5: 280 | I5: =H5-(SUM(K5:V5)) -> 280 | J5: =IF(I5<0,"ATENÇÃO","OK") -> OK | K5: 0 | L5: 0 | M5: 0 | N5: 0 | O5: 0 | P5: 0 | Q5: 0 | R5: 0 | S5: 0 | T5: 0 | U5: 0 | V5: 0
B6: 11 | C6: 11 | D6: PRESTAÇÃO DE SERVIÇO DE REVISÃO DE TEXTO CORRIDO EM LINGUA ESTRANGEIRA: Revisão de texto corrido na língua estrangeira (Espanhola) corrido no formato Word. Uma lauda equivale a 2100 caracteres com espaçamento, ou fração conforme memorial descritivo. Qualidade compativel com os periódios Qualis A (CAPES). | E6: 339039-99 | F6: LAUDA | G6: 22.11 | H6: 371 | I6: =H6-(SUM(K6:V6)) -> 183 | J6: =IF(I6<0,"ATENÇÃO","OK") -> OK | K6: 70 | L6: 75 | M6: 43 | N6: 0 | O6: 0 | P6: 0 | Q6: 0 | R6: 0 | S6: 0 | T6: 0 | U6: 0 | V6: 0
A7: Translateway Idiomas, Tradução e Consultoria Empresarial Ltda | B7: 12 | C7: 12 | D7: PRESTAÇÃO DE SERVIÇO DE TRADUÇÃO SIMULTÂNEA: língua Inglesa para a língua Portuguesa e da língua Portuguesa para a língua Inglesa. | E7: 339039-99 | F7: HORA | G7: 217.89 | H7: 13 | I7: =H7-(SUM(K7:V7)) -> 13 | J7: =IF(I7<0,"ATENÇÃO","OK") -> OK | K7: 0 | L7: 0 | M7: 0 | N7: 0 | O7: 0 | P7: 0 | Q7: 0 | R7: 0 | S7: 0 | T7: 0 | U7: 0 | V7: 0
A8: Translateway Idiomas, Tradução e Consultoria Empresarial Ltda | B8: 15 | C8: 15 | D8: PRESTAÇÃO DE SERVIÇO DE TRADUÇÃO SIMULTÂNEA: língua francesa para a língua Portuguesa e da língua Portuguesa para a língua francesa. | E8: 339039-99 | F8: HORA | G8: 232 | H8: 5 | I8: =H8-(SUM(K8:V8)) -> 5 | J8: =IF(I8<0,"ATENÇÃO","OK") -> OK | K8: 0 | L8: 0 | M8: 0 | N8: 0 | O8: 0 | P8: 0 | Q8: 0 | R8: 0 | S8: 0 | T8: 0 | U8: 0 | V8: 0
B9: 16 | C9: 16 | D9: PRESTAÇÃO DE SERVIÇO DE TRADUÇÃO SIMULTÂNEA: língua italiana para a língua Portuguesa e da língua Portuguesa para a língua italiana. | E9: 339039-99 | F9: HORA | G9: 230 | H9: 5 | I9: =H9-(SUM(K9:V9)) -> 5 | J9: =IF(I9<0,"ATENÇÃO","OK") -> OK | K9: 0 | L9: 0 | M9: 0 | N9: 0 | O9: 0 | P9: 0 | Q9: 0 | R9: 0 | S9: 0 | T9: 0 | U9: 0 | V9: 0
B10: 17 | C10: 17 | D10: PRESTAÇÃO DE SERVIÇO DE TRADUÇÃO CONSECUTIVA : língua francesa para a língua Portuguesa e da língua Portuguesa para a língua francesa. | E10: 339039-99 | F10: HORA | G10: 230 | H10: 10 | I10: =H10-(SUM(K10:V10)) -> 10 | J10: =IF(I10<0,"ATENÇÃO","OK") -> OK | K10: 0 | L10: 0 | M10: 0 | N10: 0 | O10: 0 | P10: 0 | Q10: 0 | R10: 0 | S10: 0 | T10: 0 | U10: 0 | V10: 0
B11: 18 | C11: 18 | D11: PRESTAÇÃO DE SERVIÇO DE TRADUÇÃO CONSECUTIVA : língua inglesa para a língua Portuguesa e da língua Portuguesa para a língua inglesa. | E11: 339039-99 | F11: HORA | G11: 230 | H11: 10 | I11: =H11-(SUM(K11:V11)) -> 10 | J11: =IF(I11<0,"ATENÇÃO","OK") -> OK | K11: 0 | L11: 0 | M11: 0 | N11: 0 | O11: 0 | P11: 0 | Q11: 0 | R11: 0 | S11: 0 | T11: 0 | U11: 0 | V11: 0
D13: *Prazos de Entrega e de Pagamento conforme Termo de Referência do Edital
D14: *Itens 1 ao 8, 13 e 14 infrutíferos

Sheet IV UNIAFRO_FAED
A1: PROCESSO: 1072/2014/UDESC | D1: OBJETO: Contratação de Empresa Prestadora de Serviço de Revisão, Tradução de Textos e Tradução Simultânea | H1: VIGÊNCIA DA ATA: 07/11/2014 até 06/11/2015 | K1: AF/OS nº xxxx/2014 Qtde. DT | L1: AF/OS nº xxxx/2014 Qtde. DT | M1: AF/OS nº xxxx/2014 Qtde. DT | N1: AF/OS nº xxxx/2014 Qtde. DT | O1: AF/OS nº xxxx/2014 Qtde. DT | P1: AF/OS nº xxxx/2014 Qtde. DT | Q1: AF/OS nº xxxx/2014 Qtde. DT | R1: AF/OS nº xxxx/2014 Qtde. DT | S1: AF/OS nº xxxx/2014 Qtde. DT | T1: AF/OS nº xxxx/2014 Qtde. DT | U1: AF/OS nº xxxx/2014 Qtde. DT | V1: AF/OS nº xxxx/2014 Qtde. DT
A2: CENTRO PARTICIPANTE: IV UNIAFRO - FAED
A3: FORNECEDOR | B3: LOTE | C3: ITEM | D3: PRODUTO - CARACTERÍSTICAS MÍNIMAS | E3: ELEMENTO | F3: UNIDADE | G3: Preço UNITÁRIO (R$) | H3: Qtde LICITADA | I3: Saldo / Automático | J3: ALERTA | K3: ...../...../...... | L3: ...../...../...... | M3: ...../...../...... | N3: ...../...../...... | O3: ...../...../...... | P3: ...../...../...... | Q3: ...../...../...... | R3: ...../...../...... | S3: ...../...../...... | T3: ...../...../...... | U3: ...../...../...... | V3: ...../...../......
A4: On The Road Curso de Idiomas Ltda - Me | B4: 9 | C4: 9 | D4: PRESTAÇÃO DE SERVIÇO DE REVISÃO DE TEXTO CORRIDO EM LINGUA ESTRANGEIRA: Revisão de texto corrido na língua estrangeira (Inglesa) corrido no formato Word. Uma lauda equivale a 2100 caracteres com espaçamento, ou fração conforme memorial descritivo. Qualidade compativel com os periódios Qualis A (CAPES). | E4: 339039-99 | F4: LAUDA | G4: 31.36 | I4: =H4-(SUM(K4:V4)) -> 0 | J4: =IF(I4<0,"ATENÇÃO","OK") -> OK | K4: 0 | L4: 0 | M4: 0 | N4: 0 | O4: 0 | P4: 0 | Q4: 0 | R4: 0 | S4: 0 | T4: 0 | U4: 0 | V4: 0
B5: 10 | C5: 10 | D5: PRESTAÇÃO DE SERVIÇO DE REVISÃO DE TEXTO CORRIDO EM LINGUA ESTRANGEIRA: Revisão de texto corrido na língua estrangeira (Francesa) corrido no formato Word. Uma lauda equivale a 2100 caracteres com espaçamento, ou fração conforme memorial descritivo. Qualidade compativel com os periódios Qualis A (CAPES). | E5: 339039-99 | F5: LAUDA | G5: 31.25 | I5: =H5-(SUM(K5:V5)) -> 0 | J5: =IF(I5<0,"ATENÇÃO","OK") -> OK | K5: 0 | L5: 0 | M5: 0 | N5: 0 | O5: 0 | P5: 0 | Q5: 0 | R5: 0 | S5: 0 | T5: 0 | U5: 0 | V5: 0
B6: 11 | C6: 11 | D6: PRESTAÇÃO DE SERVIÇO DE REVISÃO DE TEXTO CORRIDO EM LINGUA ESTRANGEIRA: Revisão de texto corrido na língua estrangeira (Espanhola) corrido no formato Word. Uma lauda equivale a 2100 caracteres com espaçamento, ou fração conforme memorial descritivo. Qualidade compativel com os periódios Qualis A (CAPES). | E6: 339039-99 | F6: LAUDA | G6: 22.11 | I6: =H6-(SUM(K6:V6)) -> 0 | J6: =IF(I6<0,"ATENÇÃO","OK") -> OK | K6: 0 | L6: 0 | M6: 0 | N6: 0 | O6: 0 | P6: 0 | Q6: 0 | R6: 0 | S6: 0 | T6: 0 | U6: 0 | V6: 0
A7: Translateway Idiomas, Tradução e Consultoria Empresarial Ltda | B7: 12 | C7: 12 | D7: PRESTAÇÃO DE SERVIÇO DE TRADUÇÃO SIMULTÂNEA: língua Inglesa para a língua Portuguesa e da língua Portuguesa para a língua Inglesa. | E7: 339039-99 | F7: HORA | G7: 217.89 | I7: =H7-(SUM(K7:V7)) -> 0 | J7: =IF(I7<0,"ATENÇÃO","OK") -> OK | K7: 0 | L7: 0 | M7: 0 | N7: 0 | O7: 0 | P7: 0 | Q7: 0 | R7: 0 | S7: 0 | T7: 0 | U7: 0 | V7: 0
A8: Translateway Idiomas, Tradução e Consultoria Empresarial Ltda | B8: 15 | C8: 15 | D8: PRESTAÇÃO DE SERVIÇO DE TRADUÇÃO SIMULTÂNEA: língua francesa para a língua Portuguesa e da língua Portuguesa para a língua francesa. | E8: 339039-99 | F8: HORA | G8: 232 | I8: =H8-(SUM(K8:V8)) -> 0 | J8: =IF(I8<0,"ATENÇÃO","OK") -> OK | K8: 0 | L8: 0 | M8: 0 | N8: 0 | O8: 0 | P8: 0 | Q8: 0 | R8: 0 | S8: 0 | T8: 0 | U8: 0 | V8: 0
B9: 16 | C9: 16 | D9: PRESTAÇÃO DE SERVIÇO DE TRADUÇÃO SIMULTÂNEA: língua italiana para a língua Portuguesa e da língua Portuguesa para a língua italiana. | E9: 339039-99 | F9: HORA | G9: 230 | I9: =H9-(SUM(K9:V9)) -> 0 | J9: =IF(I9<0,"ATENÇÃO","OK") -> OK | K9: 0 | L9: 0 | M9: 0 | N9: 0 | O9: 0 | P9: 0 | Q9: 0 | R9: 0 | S9: 0 | T9: 0 | U9: 0 | V9: 0
B10: 17 | C10: 17 | D10: PRESTAÇÃO DE SERVIÇO DE TRADUÇÃO CONSECUTIVA : língua francesa para a língua Portuguesa e da língua Portuguesa para a língua francesa. | E10: 339039-99 | F10: HORA | G10: 230 | I10: =H10-(SUM(K10:V10)) -> 0 | J10: =IF(I10<0,"ATENÇÃO","OK") -> OK | K10: 0 | L10: 0 | M10: 0 | N10: 0 | O10: 0 | P10: 0 | Q10: 0 | R10: 0 | S10: 0 | T10: 0 | U10: 0 | V10: 0
B11: 18 | C11: 18 | D11: PRESTAÇÃO DE SERVIÇO DE TRADUÇÃO CONSECUTIVA : língua inglesa para a língua Portuguesa e da língua Portuguesa para a língua inglesa. | E11: 339039-99 | F11: HORA | G11: 230 | I11: =H11-(SUM(K11:V11)) -> 0 | J11: =IF(I11<0,"ATENÇÃO","OK") -> OK | K11: 0 | L11: 0 | M11: 0 | N11: 0 | O11: 0 | P11: 0 | Q11: 0 | R11: 0 | S11: 0 | T11: 0 | U11: 0 | V11: 0
D13: *Prazos de Entrega e de Pagamento conforme Termo de Referência do Edital
D14: *Itens 1 ao 8, 13 e 14 infrutíferos

Sheet CEAD
A1: PROCESSO: 1072/2014/UDESC | D1: OBJETO: Contratação de Empresa Prestadora de Serviço de Revisão, Tradução de Textos e Tradução Simultânea | H1: VIGÊNCIA DA ATA: 07/11/2014 até 06/11/2015 | K1: AF/OS nº xxxx/2014 Qtde. DT | L1: AF/OS nº xxxx/2014 Qtde. DT | M1: AF/OS nº xxxx/2014 Qtde. DT | N1: AF/OS nº xxxx/2014 Qtde. DT | O1: AF/OS nº xxxx/2014 Qtde. DT | P1: AF/OS nº xxxx/2014 Qtde. DT | Q1: AF/OS nº xxxx/2014 Qtde. DT | R1: AF/OS nº xxxx/2014 Qtde. DT | S1: AF/OS nº xxxx/2014 Qtde. DT | T1: AF/OS nº xxxx/2014 Qtde. DT | U1: AF/OS nº xxxx/2014 Qtde. DT | V1: AF/OS nº xxxx/2014 Qtde. DT
A2: CENTRO PARTICIPANTE: CEAD
A3: FORNECEDOR | B3: LOTE | C3: ITEM | D3: PRODUTO - CARACTERÍSTICAS MÍNIMAS | E3: ELEMENTO | F3: UNIDADE | G3: Preço UNITÁRIO (R$) | H3: Qtde LICITADA | I3: Saldo / Automático | J3: ALERTA | K3: ...../...../...... | L3: ...../...../...... | M3: ...../...../...... | N3: ...../...../...... | O3: ...../...../...... | P3: ...../...../...... | Q3: ...../...../...... | R3: ...../...../...... | S3: ...../...../...... | T3: ...../...../...... | U3: ...../...../...... | V3: ...../...../......
A4: On The Road Curso de Idiomas Ltda - Me | B4: 9 | C4: 9 | D4: PRESTAÇÃO DE SERVIÇO DE REVISÃO DE TEXTO CORRIDO EM LINGUA ESTRANGEIRA: Revisão de texto corrido na língua estrangeira (Inglesa) corrido no formato Word. Uma lauda equivale a 2100 caracteres com espaçamento, ou fração conforme memorial descritivo. Qualidade compativel com os periódios Qualis A (CAPES). | E4: 339039-99 | F4: LAUDA | G4: 31.36 | I4: =H4-(SUM(K4:V4)) -> 0 | J4: =IF(I4<0,"ATENÇÃO","OK") -> OK | K4: 0 | L4: 0 | M4: 0 | N4: 0 | O4: 0 | P4: 0 | Q4: 0 | R4: 0 | S4: 0 | T4: 0 | U4: 0 | V4: 0
B5: 10 | C5: 10 | D5: PRESTAÇÃO DE SERVIÇO DE REVISÃO DE TEXTO CORRIDO EM LINGUA ESTRANGEIRA: Revisão de texto corrido na língua estrangeira (Francesa) corrido no formato Word. Uma lauda equivale a 2100 caracteres com espaçamento, ou fração conforme memorial descritivo. Qualidade compativel com os periódios Qualis A (CAPES). | E5: 339039-99 | F5: LAUDA | G5: 31.25 | I5: =H5-(SUM(K5:V5)) -> 0 | J5: =IF(I5<0,"ATENÇÃO","OK") -> OK | K5: 0 | L5: 0 | M5: 0 | N5: 0 | O5: 0 | P5: 0 | Q5: 0 | R5: 0 | S5: 0 | T5: 0 | U5: 0 | V5: 0
B6: 11 | C6: 11 | D6: PRESTAÇÃO DE SERVIÇO DE REVISÃO DE TEXTO CORRIDO EM LINGUA ESTRANGEIRA: Revisão de texto corrido na língua estrangeira (Espanhola) corrido no formato Word. Uma lauda equivale a 2100 caracteres com espaçamento, ou fração conforme memorial descritivo. Qualidade compativel com os periódios Qualis A (CAPES). | E6: 339039-99 | F6: LAUDA | G6: 22.11 | I6: =H6-(SUM(K6:V6)) -> 0 | J6: =IF(I6<0,"ATENÇÃO","OK") -> OK | K6: 0 | L6: 0 | M6: 0 | N6: 0 | O6: 0 | P6: 0 | Q6: 0 | R6: 0 | S6: 0 | T6: 0 | U6: 0 | V6: 0
A7: Translateway Idiomas, Tradução e Consultoria Empresarial Ltda | B7: 12 | C7: 12 | D7: PRESTAÇÃO DE SERVIÇO DE TRADUÇÃO SIMULTÂNEA: língua Inglesa para a língua Portuguesa e da língua Portuguesa para a língua Inglesa. | E7: 339039-99 | F7: HORA | G7: 217.89 | I7: =H7-(SUM(K7:V7)) -> 0 | J7: =IF(I7<0,"ATENÇÃO","OK") -> OK | K7: 0 | L7: 0 | M7: 0 | N7: 0 | O7: 0 | P7: 0 | Q7: 0 | R7: 0 | S7: 0 | T7: 0 | U7: 0 | V7: 0
A8: Translateway Idiomas, Tradução e Consultoria Empresarial Ltda | B8: 15 | C8: 15 | D8: PRESTAÇÃO DE SERVIÇO DE TRADUÇÃO SIMULTÂNEA: língua francesa para a língua Portuguesa e da língua Portuguesa para a língua francesa. | E8: 339039-99 | F8: HORA | G8: 232 | I8: =H8-(SUM(K8:V8)) -> 0 | J8: =IF(I8<0,"ATENÇÃO","OK") -> OK | K8: 0 | L8: 0 | M8: 0 | N8: 0 | O8: 0 | P8: 0 | Q8: 0 | R8: 0 | S8: 0 | T8: 0 | U8: 0 | V8: 0
B9: 16 | C9: 16 | D9: PRESTAÇÃO DE SERVIÇO DE TRADUÇÃO SIMULTÂNEA: língua italiana para a língua Portuguesa e da língua Portuguesa para a língua italiana. | E9: 339039-99 | F9: HORA | G9: 230 | I9: =H9-(SUM(K9:V9)) -> 0 | J9: =IF(I9<0,"ATENÇÃO","OK") -> OK | K9: 0 | L9: 0 | M9: 0 | N9: 0 | O9: 0 | P9: 0 | Q9: 0 | R9: 0 | S9: 0 | T9: 0 | U9: 0 | V9: 0
B10: 17 | C10: 17 | D10: PRESTAÇÃO DE SERVIÇO DE TRADUÇÃO CONSECUTIVA : língua francesa para a língua Portuguesa e da língua Portuguesa para a língua francesa. | E10: 339039-99 | F10: HORA | G10: 230 | I10: =H10-(SUM(K10:V10)) -> 0 | J10: =IF(I10<0,"ATENÇÃO","OK") -> OK | K10: 0 | L10: 0 | M10: 0 | N10: 0 | O10: 0 | P10: 0 | Q10: 0 | R10: 0 | S10: 0 | T10: 0 | U10: 0 | V10: 0
B11: 18 | C11: 18 | D11: PRESTAÇÃO DE SERVIÇO DE TRADUÇÃO CONSECUTIVA : língua inglesa para a língua Portuguesa e da língua Portuguesa para a língua inglesa. | E11: 339039-99 | F11: HORA | G11: 230 | I11: =H11-(SUM(K11:V11)) -> 0 | J11: =IF(I11<0,"ATENÇÃO","OK") -> OK | K11: 0 | L11: 0 | M11: 0 | N11: 0 | O11: 0 | P11: 0 | Q11: 0 | R11: 0 | S11: 0 | T11: 0 | U11: 0 | V11: 0
D13: *Prazos de Entrega e de Pagamento conforme Termo de Referência do Edital
D14: *Itens 1 ao 8, 13 e 14 infrutíferos

Sheet CEFID
A1: PROCESSO: 1072/2014/UDESC | D1: OBJETO: Contratação de Empresa Prestadora de Serviço de Revisão, Tradução de Textos e Tradução Simultânea | H1: VIGÊNCIA DA ATA: 07/11/2014 até 06/11/2015 | K1: AF/OS nº xxxx/2014 Qtde. DT | L1: AF/OS nº xxxx/2014 Qtde. DT | M1: AF/OS nº xxxx/2014 Qtde. DT | N1: AF/OS nº xxxx/2014 Qtde. DT | O1: AF/OS nº xxxx/2014 Qtde. DT | P1: AF/OS nº xxxx/2014 Qtde. DT | Q1: AF/OS nº xxxx/2014 Qtde. DT | R1: AF/OS nº xxxx/2014 Qtde. DT | S1: AF/OS nº xxxx/2014 Qtde. DT | T1: AF/OS nº xxxx/2014 Qtde. DT | U1: AF/OS nº xxxx/2014 Qtde. DT | V1: AF/OS nº xxxx/2014 Qtde. DT
A2: CENTRO PARTICIPANTE: CEFID
A3: FORNECEDOR | B3: LOTE | C3: ITEM | D3: PRODUTO - CARACTERÍSTICAS MÍNIMAS | E3: ELEMENTO | F3: UNIDADE | G3: Preço UNITÁRIO (R$) | H3: Qtde LICITADA | I3: Saldo / Automático | J3: ALERTA | K3: ...../...../...... | L3: ...../...../...... | M3: ...../...../...... | N3: ...../...../...... | O3: ...../...../...... | P3: ...../...../...... | Q3: ...../...../...... | R3: ...../...../...... | S3: ...../...../...... | T3: ...../...../...... | U3: ...../...../...... | V3: ...../...../......
A4: On The Road Curso de Idiomas Ltda - Me | B4: 9 | C4: 9 | D4: PRESTAÇÃO DE SERVIÇO DE REVISÃO DE TEXTO CORRIDO EM LINGUA ESTRANGEIRA: Revisão de texto corrido na língua estrangeira (Inglesa) corrido no formato Word. Uma lauda equivale a 2100 caracteres com espaçamento, ou fração conforme memorial descritivo. Qualidade compativel com os periódios Qualis A (CAPES). | E4: 339039-99 | F4: LAUDA | G4: 31.36 | I4: =H4-(SUM(K4:V4)) -> 0 | J4: =IF(I4<0,"ATENÇÃO","OK") -> OK | K4: 0 | L4: 0 | M4: 0 | N4: 0 | O4: 0 | P4: 0 | Q4: 0 | R4: 0 | S4: 0 | T4: 0 | U4: 0 | V4: 0
B5: 10 | C5: 10 | D5: PRESTAÇÃO DE SERVIÇO DE REVISÃO DE TEXTO CORRIDO EM LINGUA ESTRANGEIRA: Revisão de texto corrido na língua estrangeira (Francesa) corrido no formato Word. Uma lauda equivale a 2100 caracteres com espaçamento, ou fração conforme memorial descritivo. Qualidade compativel com os periódios Qualis A (CAPES). | E5: 339039-99 | F5: LAUDA | G5: 31.25 | I5: =H5-(SUM(K5:V5)) -> 0 | J5: =IF(I5<0,"ATENÇÃO","OK") -> OK | K5: 0 | L5: 0 | M5: 0 | N5: 0 | O5: 0 | P5: 0 | Q5: 0 | R5: 0 | S5: 0 | T5: 0 | U5: 0 | V5: 0
B6: 11 | C6: 11 | D6: PRESTAÇÃO DE SERVIÇO DE REVISÃO DE TEXTO CORRIDO EM LINGUA ESTRANGEIRA: Revisão de texto corrido na língua estrangeira (Espanhola) corrido no formato Word. Uma lauda equivale a 2100 caracteres com espaçamento, ou fração conforme memorial descritivo. Qualidade compativel com os periódios Qualis A (CAPES). | E6: 339039-99 | F6: LAUDA | G6: 22.11 | H6: 60 | I6: =H6-(SUM(K6:V6)) -> 60 | J6: =IF(I6<0,"ATENÇÃO","OK") -> OK | K6: 0 | L6: 0 | M6: 0 | N6: 0 | O6: 0 | P6: 0 | Q6: 0 | R6: 0 | S6: 0 | T6: 0 | U6: 0 | V6: 0
A7: Translateway Idiomas, Tradução e Consultoria Empresarial Ltda | B7: 12 | C7: 12 | D7: PRESTAÇÃO DE SERVIÇO DE TRADUÇÃO SIMULTÂNEA: língua Inglesa para a língua Portuguesa e da língua Portuguesa para a língua Inglesa. | E7: 339039-99 | F7: HORA | G7: 217.89 | I7: =H7-(SUM(K7:V7)) -> 0 | J7: =IF(I7<0,"ATENÇÃO","OK") -> OK | K7: 0 | L7: 0 | M7: 0 | N7: 0 | O7: 0 | P7: 0 | Q7: 0 | R7: 0 | S7: 0 | T7: 0 | U7: 0 | V7: 0
A8: Translateway Idiomas, Tradução e Consultoria Empresarial Ltda | B8: 15 | C8: 15 | D8: PRESTAÇÃO DE SERVIÇO DE TRADUÇÃO SIMULTÂNEA: língua francesa para a língua Portuguesa e da língua Portuguesa para a língua francesa. | E8: 339039-99 | F8: HORA | G8: 232 | I8: =H8-(SUM(K8:V8)) -> 0 | J8: =IF(I8<0,"ATENÇÃO","OK") -> OK | K8: 0 | L8: 0 | M8: 0 | N8: 0 | O8: 0 | P8: 0 | Q8: 0 | R8: 0 | S8: 0 | T8: 0 | U8: 0 | V8: 0
B9: 16 | C9: 16 | D9: PRESTAÇÃO DE SERVIÇO DE TRADUÇÃO SIMULTÂNEA: língua italiana para a língua Portuguesa e da língua Portuguesa para a língua italiana. | E9: 339039-99 | F9: HORA | G9: 230 | I9: =H9-(SUM(K9:V9)) -> 0 | J9: =IF(I9<0,"ATENÇÃO","OK") -> OK | K9: 0 | L9: 0 | M9: 0 | N9: 0 | O9: 0 | P9: 0 | Q9: 0 | R9: 0 | S9: 0 | T9: 0 | U9: 0 | V9: 0
B10: 17 | C10: 17 | D10: PRESTAÇÃO DE SERVIÇO DE TRADUÇÃO CONSECUTIVA : língua francesa para a língua Portuguesa e da língua Portuguesa para a língua francesa. | E10: 339039-99 | F10: HORA | G10: 230 | I10: =H10-(SUM(K10:V10)) -> 0 | J10: =IF(I10<0,"ATENÇÃO","OK") -> OK | K10: 0 | L10: 0 | M10: 0 | N10: 0 | O10: 0 | P10: 0 | Q10: 0 | R10: 0 | S10: 0 | T10: 0 | U10: 0 | V10: 0
B11: 18 | C11: 18 | D11: PRESTAÇÃO DE SERVIÇO DE TRADUÇÃO CONSECUTIVA : língua inglesa para a língua Portuguesa e da língua Portuguesa para a língua inglesa. | E11: 339039-99 | F11: HORA | G11: 230 | I11: =H11-(SUM(K11:V11)) -> 0 | J11: =IF(I11<0,"ATENÇÃO","OK") -> OK | K11: 0 | L11: 0 | M11: 0 | N11: 0 | O11: 0 | P11: 0 | Q11: 0 | R11: 0 | S11: 0 | T11: 0 | U11: 0 | V11: 0
D13: *Prazos de Entrega e de Pagamento conforme Termo de Referência do Edital
D14: *Itens 1 ao 8, 13 e 14 infrutíferos

Sheet PROAP_MOV HUM_CEFID
A1: PROCESSO: 1072/2014/UDESC | D1: OBJETO: Contratação de Empresa Prestadora de Serviço de Revisão, Tradução de Textos e Tradução Simultânea | H1: VIGÊNCIA DA ATA: 07/11/2014 até 06/11/2015 | K1: AF/OS nº xxxx/2014 Qtde. DT | L1: AF/OS nº xxxx/2014 Qtde. DT | M1: AF/OS nº xxxx/2014 Qtde. DT | N1: AF/OS nº xxxx/2014 Qtde. DT | O1: AF/OS nº xxxx/2014 Qtde. DT | P1: AF/OS nº xxxx/2014 Qtde. DT | Q1: AF/OS nº xxxx/2014 Qtde. DT | R1: AF/OS nº xxxx/2014 Qtde. DT | S1: AF/OS nº xxxx/2014 Qtde. DT | T1: AF/OS nº xxxx/2014 Qtde. DT | U1: AF/OS nº xxxx/2014 Qtde. DT | V1: AF/OS nº xxxx/2014 Qtde. DT
A2: CENTRO PARTICIPANTE: PROAP Movimento Humano - CEFID
A3: FORNECEDOR | B3: LOTE | C3: ITEM | D3: PRODUTO - CARACTERÍSTICAS MÍNIMAS | E3: ELEMENTO | F3: UNIDADE | G3: Preço UNITÁRIO (R$) | H3: Qtde LICITADA | I3: Saldo / Automático | J3: ALERTA | K3: ...../...../...... | L3: ...../...../...... | M3: ...../...../...... | N3: ...../...../...... | O3: ...../...../...... | P3: ...../...../...... | Q3: ...../...../...... | R3: ...../...../...... | S3: ...../...../...... | T3: ...../...../...... | U3: ...../...../...... | V3: ...../...../......
A4: On The Road Curso de Idiomas Ltda - Me | B4: 9 | C4: 9 | D4: PRESTAÇÃO DE SERVIÇO DE REVISÃO DE TEXTO CORRIDO EM LINGUA ESTRANGEIRA: Revisão de texto corrido na língua estrangeira (Inglesa) corrido no formato Word. Uma lauda equivale a 2100 caracteres com espaçamento, ou fração conforme memorial descritivo. Qualidade compativel com os periódios Qualis A (CAPES). | E4: 339039-99 | F4: LAUDA | G4: 31.36 | I4: =H4-(SUM(K4:V4)) -> 0 | J4: =IF(I4<0,"ATENÇÃO","OK") -> OK | K4: 0 | L4: 0 | M4: 0 | N4: 0 | O4: 0 | P4: 0 | Q4: 0 | R4: 0 | S4: 0 | T4: 0 | U4: 0 | V4: 0
B5: 10 | C5: 10 | D5: PRESTAÇÃO DE SERVIÇO DE REVISÃO DE TEXTO CORRIDO EM LINGUA ESTRANGEIRA: Revisão de texto corrido na língua estrangeira (Francesa) corrido no formato Word. Uma lauda equivale a 2100 caracteres com espaçamento, ou fração conforme memorial descritivo. Qualidade compativel com os periódios Qualis A (CAPES). | E5: 339039-99 | F5: LAUDA | G5: 31.25 | I5: =H5-(SUM(K5:V5)) -> 0 | J5: =IF(I5<0,"ATENÇÃO","OK") -> OK | K5: 0 | L5: 0 | M5: 0 | N5: 0 | O5: 0 | P5: 0 | Q5: 0 | R5: 0 | S5: 0 | T5: 0 | U5: 0 | V5: 0
B6: 11 | C6: 11 | D6: PRESTAÇÃO DE SERVIÇO DE REVISÃO DE TEXTO CORRIDO EM LINGUA ESTRANGEIRA: Revisão de texto corrido na língua estrangeira (Espanhola) corrido no formato Word. Uma lauda equivale a 2100 caracteres com espaçamento, ou fração conforme memorial descritivo. Qualidade compativel com os periódios Qualis A (CAPES). | E6: 339039-99 | F6: LAUDA | G6: 22.11 | I6: =H6-(SUM(K6:V6)) -> 0 | J6: =IF(I6<0,"ATENÇÃO","OK") -> OK | K6: 0 | L6: 0 | M6: 0 | N6: 0 | O6: 0 | P6: 0 | Q6: 0 | R6: 0 | S6: 0 | T6: 0 | U6: 0 | V6: 0
A7: Translateway Idiomas, Tradução e Consultoria Empresarial Ltda | B7: 12 | C7: 12 | D7: PRESTAÇÃO DE SERVIÇO DE TRADUÇÃO SIMULTÂNEA: língua Inglesa para a língua Portuguesa e da língua Portuguesa para a língua Inglesa. | E7: 339039-99 | F7: HORA | G7: 217.89 | I7: =H7-(SUM(K7:V7)) -> 0 | J7: =IF(I7<0,"ATENÇÃO","OK") -> OK | K7: 0 | L7: 0 | M7: 0 | N7: 0 | O7: 0 | P7: 0 | Q7: 0 | R7: 0 | S7: 0 | T7: 0 | U7: 0 | V7: 0
A8: Translateway Idiomas, Tradução e Consultoria Empresarial Ltda | B8: 15 | C8: 15 | D8: PRESTAÇÃO DE SERVIÇO DE TRADUÇÃO SIMULTÂNEA: língua francesa para a língua Portuguesa e da língua Portuguesa para a língua francesa. | E8: 339039-99 | F8: HORA | G8: 232 | I8: =H8-(SUM(K8:V8)) -> 0 | J8: =IF(I8<0,"ATENÇÃO","OK") -> OK | K8: 0 | L8: 0 | M8: 0 | N8: 0 | O8: 0 | P8: 0 | Q8: 0 | R8: 0 | S8: 0 | T8: 0 | U8: 0 | V8: 0
B9: 16 | C9: 16 | D9: PRESTAÇÃO DE SERVIÇO DE TRADUÇÃO SIMULTÂNEA: língua italiana para a língua Portuguesa e da língua Portuguesa para a língua italiana. | E9: 339039-99 | F9: HORA | G9: 230 | I9: =H9-(SUM(K9:V9)) -> 0 | J9: =IF(I9<0,"ATENÇÃO","OK") -> OK | K9: 0 | L9: 0 | M9: 0 | N9: 0 | O9: 0 | P9: 0 | Q9: 0 | R9: 0 | S9: 0 | T9: 0 | U9: 0 | V9: 0
B10: 17 | C10: 17 | D10: PRESTAÇÃO DE SERVIÇO DE TRADUÇÃO CONSECUTIVA : língua francesa para a língua Portuguesa e da língua Portuguesa para a língua francesa. | E10: 339039-99 | F10: HORA | G10: 230 | I10: =H10-(SUM(K10:V10)) -> 0 | J10: =IF(I10<0,"ATENÇÃO","OK") -> OK | K10: 0 | L10: 0 | M10: 0 | N10: 0 | O10: 0 | P10: 0 | Q10: 0 | R10: 0 | S10: 0 | T10: 0 | U10: 0 | V10: 0
B11: 18 | C11: 18 | D11: PRESTAÇÃO DE SERVIÇO DE TRADUÇÃO CONSECUTIVA : língua inglesa para a língua Portuguesa e da língua Portuguesa para a língua inglesa. | E11: 339039-99 | F11: HORA | G11: 230 | I11: =H11-(SUM(K11:V11)) -> 0 | J11: =IF(I11<0,"ATENÇÃO","OK") -> OK | K11: 0 | L11: 0 | M11: 0 | N11: 0 | O11: 0 | P11: 0 | Q11: 0 | R11: 0 | S11: 0 | T11: 0 | U11: 0 | V11: 0
D13: *Prazos de Entrega e de Pagamento conforme Termo de Referência do Edital
D14: *Itens 1 ao 8, 13 e 14 infrutíferos

Sheet PROAP_FISIO_CEFID
A1: PROCESSO: 1072/2014/UDESC | D1: OBJETO: Contratação de Empresa Prestadora de Serviço de Revisão, Tradução de Textos e Tradução Simultânea | H1: VIGÊNCIA DA ATA: 07/11/2014 até 06/11/2015 | K1: AF/OS nº xxxx/2014 Qtde. DT | L1: AF/OS nº xxxx/2014 Qtde. DT | M1: AF/OS nº xxxx/2014 Qtde. DT | N1: AF/OS nº xxxx/2014 Qtde. DT | O1: AF/OS nº xxxx/2014 Qtde. DT | P1: AF/OS nº xxxx/2014 Qtde. DT | Q1: AF/OS nº xxxx/2014 Qtde. DT | R1: AF/OS nº xxxx/2014 Qtde. DT | S1: AF/OS nº xxxx/2014 Qtde. DT | T1: AF/OS nº xxxx/2014 Qtde. DT | U1: AF/OS nº xxxx/2014 Qtde. DT | V1: AF/OS nº xxxx/2014 Qtde. DT
A2: CENTRO PARTICIPANTE: PROAP Fisioterapia - CEFID
A3: FORNECEDOR | B3: LOTE | C3: ITEM | D3: PRODUTO - CARACTERÍSTICAS MÍNIMAS | E3: ELEMENTO | F3: UNIDADE | G3: Preço UNITÁRIO (R$) | H3: Qtde LICITADA | I3: Saldo / Automático | J3: ALERTA | K3: ...../...../...... | L3: ...../...../...... | M3: ...../...../...... | N3: ...../...../...... | O3: ...../...../...... | P3: ...../...../...... | Q3: ...../...../...... | R3: ...../...../...... | S3: ...../...../...... | T3: ...../...../...... | U3: ...../...../...... | V3: ...../...../......
A4: On The Road Curso de Idiomas Ltda - Me | B4: 9 | C4: 9 | D4: PRESTAÇÃO DE SERVIÇO DE REVISÃO DE TEXTO CORRIDO EM LINGUA ESTRANGEIRA: Revisão de texto corrido na língua estrangeira (Inglesa) corrido no formato Word. Uma lauda equivale a 2100 caracteres com espaçamento, ou fração conforme memorial descritivo. Qualidade compativel com os periódios Qualis A (CAPES). | E4: 339039-99 | F4: LAUDA | G4: 31.36 | I4: =H4-(SUM(K4:V4)) -> 0 | J4: =IF(I4<0,"ATENÇÃO","OK") -> OK | K4: 0 | L4: 0 | M4: 0 | N4: 0 | O4: 0 | P4: 0 | Q4: 0 | R4: 0 | S4: 0 | T4: 0 | U4: 0 | V4: 0
B5: 10 | C5: 10 | D5: PRESTAÇÃO DE SERVIÇO DE REVISÃO DE TEXTO CORRIDO EM LINGUA ESTRANGEIRA: Revisão de texto corrido na língua estrangeira (Francesa) corrido no formato Word. Uma lauda equivale a 2100 caracteres com espaçamento, ou fração conforme memorial descritivo. Qualidade compativel com os periódios Qualis A (CAPES). | E5: 339039-99 | F5: LAUDA | G5: 31.25 | I5: =H5-(SUM(K5:V5)) -> 0 | J5: =IF(I5<0,"ATENÇÃO","OK") -> OK | K5: 0 | L5: 0 | M5: 0 | N5: 0 | O5: 0 | P5: 0 | Q5: 0 | R5: 0 | S5: 0 | T5: 0 | U5: 0 | V5: 0
B6: 11 | C6: 11 | D6: PRESTAÇÃO DE SERVIÇO DE REVISÃO DE TEXTO CORRIDO EM LINGUA ESTRANGEIRA: Revisão de texto corrido na língua estrangeira (Espanhola) corrido no formato Word. Uma lauda equivale a 2100 caracteres com espaçamento, ou fração conforme memorial descritivo. Qualidade compativel com os periódios Qualis A (CAPES). | E6: 339039-99 | F6: LAUDA | G6: 22.11 | I6: =H6-(SUM(K6:V6)) -> 0 | J6: =IF(I6<0,"ATENÇÃO","OK") -> OK | K6: 0 | L6: 0 | M6: 0 | N6: 0 | O6: 0 | P6: 0 | Q6: 0 | R6: 0 | S6: 0 | T6: 0 | U6: 0 | V6: 0
A7: Translateway Idiomas, Tradução e Consultoria Empresarial Ltda | B7: 12 | C7: 12 | D7: PRESTAÇÃO DE SERVIÇO DE TRADUÇÃO SIMULTÂNEA: língua Inglesa para a língua Portuguesa e da língua Portuguesa para a língua Inglesa. | E7: 339039-99 | F7: HORA | G7: 217.89 | I7: =H7-(SUM(K7:V7)) -> 0 | J7: =IF(I7<0,"ATENÇÃO","OK") -> OK | K7: 0 | L7: 0 | M7: 0 | N7: 0 | O7: 0 | P7: 0 | Q7: 0 | R7: 0 | S7: 0 | T7: 0 | U7: 0 | V7: 0
A8: Translateway Idiomas, Tradução e Consultoria Empresarial Ltda | B8: 15 | C8: 15 | D8: PRESTAÇÃO DE SERVIÇO DE TRADUÇÃO SIMULTÂNEA: língua francesa para a língua Portuguesa e da língua Portuguesa para a língua francesa. | E8: 339039-99 | F8: HORA | G8: 232 | I8: =H8-(SUM(K8:V8)) -> 0 | J8: =IF(I8<0,"ATENÇÃO","OK") -> OK | K8: 0 | L8: 0 | M8: 0 | N8: 0 | O8: 0 | P8: 0 | Q8: 0 | R8: 0 | S8: 0 | T8: 0 | U8: 0 | V8: 0
B9: 16 | C9: 16 | D9: PRESTAÇÃO DE SERVIÇO DE TRADUÇÃO SIMULTÂNEA: língua italiana para a língua Portuguesa e da língua Portuguesa para a língua italiana. | E9: 339039-99 | F9: HORA | G9: 230 | I9: =H9-(SUM(K9:V9)) -> 0 | J9: =IF(I9<0,"ATENÇÃO","OK") -> OK | K9: 0 | L9: 0 | M9: 0 | N9: 0 | O9: 0 | P9: 0 | Q9: 0 | R9: 0 | S9: 0 | T9: 0 | U9: 0 | V9: 0
B10: 17 | C10: 17 | D10: PRESTAÇÃO DE SERVIÇO DE TRADUÇÃO CONSECUTIVA : língua francesa para a língua Portuguesa e da língua Portuguesa para a língua francesa. | E10: 339039-99 | F10: HORA | G10: 230 | I10: =H10-(SUM(K10:V10)) -> 0 | J10: =IF(I10<0,"ATENÇÃO","OK") -> OK | K10: 0 | L10: 0 | M10: 0 | N10: 0 | O10: 0 | P10: 0 | Q10: 0 | R10: 0 | S10: 0 | T10: 0 | U10: 0 | V10: 0
B11: 18 | C11: 18 | D11: PRESTAÇÃO DE SERVIÇO DE TRADUÇÃO CONSECUTIVA : língua inglesa para a língua Portuguesa e da língua Portuguesa para a língua inglesa. | E11: 339039-99 | F11: HORA | G11: 230 | I11: =H11-(SUM(K11:V11)) -> 0 | J11: =IF(I11<0,"ATENÇÃO","OK") -> OK | K11: 0 | L11: 0 | M11: 0 | N11: 0 | O11: 0 | P11: 0 | Q11: 0 | R11: 0 | S11: 0 | T11: 0 | U11: 0 | V11: 0
D13: *Prazos de Entrega e de Pagamento conforme Termo de Referência do Edital
D14: *Itens 1 ao 8, 13 e 14 infrutíferos

Sheet CCT
A1: PROCESSO: 1072/2014/UDESC | D1: OBJETO: Contratação de Empresa Prestadora de Serviço de Revisão, Tradução de Textos e Tradução Simultânea | H1: VIGÊNCIA DA ATA: 07/11/2014 até 06/11/2015 | K1: AF/OS nº xxxx/2014 Qtde. DT | L1: AF/OS nº xxxx/2014 Qtde. DT | M1: AF/OS nº xxxx/2014 Qtde. DT | N1: AF/OS nº xxxx/2014 Qtde. DT | O1: AF/OS nº xxxx/2014 Qtde. DT | P1: AF/OS nº xxxx/2014 Qtde. DT | Q1: AF/OS nº xxxx/2014 Qtde. DT | R1: AF/OS nº xxxx/2014 Qtde. DT | S1: AF/OS nº xxxx/2014 Qtde. DT | T1: AF/OS nº xxxx/2014 Qtde. DT | U1: AF/OS nº xxxx/2014 Qtde. DT | V1: AF/OS nº xxxx/2014 Qtde. DT
A2: CENTRO PARTICIPANTE: CCT
A3: FORNECEDOR | B3: LOTE | C3: ITEM | D3: PRODUTO - CARACTERÍSTICAS MÍNIMAS | E3: ELEMENTO | F3: UNIDADE | G3: Preço UNITÁRIO (R$) | H3: Qtde LICITADA | I3: Saldo / Automático | J3: ALERTA | K3: ...../...../...... | L3: ...../...../...... | M3: ...../...../...... | N3: ...../...../...... | O3: ...../...../...... | P3: ...../...../...... | Q3: ...../...../...... | R3: ...../...../...... | S3: ...../...../...... | T3: ...../...../...... | U3: ...../...../...... | V3: ...../...../......
A4: On The Road Curso de Idiomas Ltda - Me | B4: 9 | C4: 9 | D4: PRESTAÇÃO DE SERVIÇO DE REVISÃO DE TEXTO CORRIDO EM LINGUA ESTRANGEIRA: Revisão de texto corrido na língua estrangeira (Inglesa) corrido no formato Word. Uma lauda equivale a 2100 caracteres com espaçamento, ou fração conforme memorial descritivo. Qualidade compativel com os periódios Qualis A (CAPES). | E4: 339039-99 | F4: LAUDA | G4: 31.36 | I4: =H4-(SUM(K4:V4)) -> 0 | J4: =IF(I4<0,"ATENÇÃO","OK") -> OK | K4: 0 | L4: 0 | M4: 0 | N4: 0 | O4: 0 | P4: 0 | Q4: 0 | R4: 0 | S4: 0 | T4: 0 | U4: 0 | V4: 0
B5: 10 | C5: 10 | D5: PRESTAÇÃO DE SERVIÇO DE REVISÃO DE TEXTO CORRIDO EM LINGUA ESTRANGEIRA: Revisão de texto corrido na língua estrangeira (Francesa) corrido no formato Word. Uma lauda equivale a 2100 caracteres com espaçamento, ou fração conforme memorial descritivo. Qualidade compativel com os periódios Qualis A (CAPES). | E5: 339039-99 | F5: LAUDA | G5: 31.25 | I5: =H5-(SUM(K5:V5)) -> 0 | J5: =IF(I5<0,"ATENÇÃO","OK") -> OK | K5: 0 | L5: 0 | M5: 0 | N5: 0 | O5: 0 | P5: 0 | Q5: 0 | R5: 0 | S5: 0 | T5: 0 | U5: 0 | V5: 0
B6: 11 | C6: 11 | D6: PRESTAÇÃO DE SERVIÇO DE REVISÃO DE TEXTO CORRIDO EM LINGUA ESTRANGEIRA: Revisão de texto corrido na língua estrangeira (Espanhola) corrido no formato Word. Uma lauda equivale a 2100 caracteres com espaçamento, ou fração conforme memorial descritivo. Qualidade compativel com os periódios Qualis A (CAPES). | E6: 339039-99 | F6: LAUDA | G6: 22.11 | I6: =H6-(SUM(K6:V6)) -> 0 | J6: =IF(I6<0,"ATENÇÃO","OK") -> OK | K6: 0 | L6: 0 | M6: 0 | N6: 0 | O6: 0 | P6: 0 | Q6: 0 | R6: 0 | S6: 0 | T6: 0 | U6: 0 | V6: 0
A7: Translateway Idiomas, Tradução e Consultoria Empresarial Ltda | B7: 12 | C7: 12 | D7: PRESTAÇÃO DE SERVIÇO DE TRADUÇÃO SIMULTÂNEA: língua Inglesa para a língua Portuguesa e da língua Portuguesa para a língua Inglesa. | E7: 339039-99 | F7: HORA | G7: 217.89 | I7: =H7-(SUM(K7:V7)) -> 0 | J7: =IF(I7<0,"ATENÇÃO","OK") -> OK | K7: 0 | L7: 0 | M7: 0 | N7: 0 | O7: 0 | P7: 0 | Q7: 0 | R7: 0 | S7: 0 | T7: 0 | U7: 0 | V7: 0
A8: Translateway Idiomas, Tradução e Consultoria Empresarial Ltda | B8: 15 | C8: 15 | D8: PRESTAÇÃO DE SERVIÇO DE TRADUÇÃO SIMULTÂNEA: língua francesa para a língua Portuguesa e da língua Portuguesa para a língua francesa. | E8: 339039-99 | F8: HORA | G8: 232 | I8: =H8-(SUM(K8:V8)) -> 0 | J8: =IF(I8<0,"ATENÇÃO","OK") -> OK | K8: 0 | L8: 0 | M8: 0 | N8: 0 | O8: 0 | P8: 0 | Q8: 0 | R8: 0 | S8: 0 | T8: 0 | U8: 0 | V8: 0
B9: 16 | C9: 16 | D9: PRESTAÇÃO DE SERVIÇO DE TRADUÇÃO SIMULTÂNEA: língua italiana para a língua Portuguesa e da língua Portuguesa para a língua italiana. | E9: 339039-99 | F9: HORA | G9: 230 | I9: =H9-(SUM(K9:V9)) -> 0 | J9: =IF(I9<0,"ATENÇÃO","OK") -> OK | K9: 0 | L9: 0 | M9: 0 | N9: 0 | O9: 0 | P9: 0 | Q9: 0 | R9: 0 | S9: 0 | T9: 0 | U9: 0 | V9: 0
B10: 17 | C10: 17 | D10: PRESTAÇÃO DE SERVIÇO DE TRADUÇÃO CONSECUTIVA : língua francesa para a língua Portuguesa e da língua Portuguesa para a língua francesa. | E10: 339039-99 | F10: HORA | G10: 230 | I10: =H10-(SUM(K10:V10)) -> 0 | J10: =IF(I10<0,"ATENÇÃO","OK") -> OK | K10: 0 | L10: 0 | M10: 0 | N10: 0 | O10: 0 | P10: 0 | Q10: 0 | R10: 0 | S10: 0 | T10: 0 | U10: 0 | V10: 0
B11: 18 | C11: 18 | D11: PRESTAÇÃO DE SERVIÇO DE TRADUÇÃO CONSECUTIVA : língua inglesa para a língua Portuguesa e da língua Portuguesa para a língua inglesa. | E11: 339039-99 | F11: HORA | G11: 230 | I11: =H11-(SUM(K11:V11)) -> 0 | J11: =IF(I11<0,"ATENÇÃO","OK") -> OK | K11: 0 | L11: 0 | M11: 0 | N11: 0 | O11: 0 | P11: 0 | Q11: 0 | R11: 0 | S11: 0 | T11: 0 | U11: 0 | V11: 0
D13: *Prazos de Entrega e de Pagamento conforme Termo de Referência do Edital
D14: *Itens 1 ao 8, 13 e 14 infrutíferos

Sheet CEO
A1: PROCESSO: 1072/2014/UDESC | D1: OBJETO: Contratação de Empresa Prestadora de Serviço de Revisão, Tradução de Textos e Tradução Simultânea | H1: VIGÊNCIA DA ATA: 07/11/2014 até 06/11/2015 | K1: AF/OS nº 652/2015 Qtde. DT | L1: AF/OS nº 1113/2015 Qtde. DT | M1: AF/OS nº xxxx/2014 Qtde. DT | N1: AF/OS nº xxxx/2014 Qtde. DT | O1: AF/OS nº xxxx/2014 Qtde. DT | P1: AF/OS nº xxxx/2014 Qtde. DT | Q1: AF/OS nº xxxx/2014 Qtde. DT | R1: AF/OS nº xxxx/2014 Qtde. DT | S1: AF/OS nº xxxx/2014 Qtde. DT | T1: AF/OS nº xxxx/2014 Qtde. DT | U1: AF/OS nº xxxx/2014 Qtde. DT | V1: AF/OS nº xxxx/2014 Qtde. DT
A2: CENTRO PARTICIPANTE: CEO
A3: FORNECEDOR | B3: LOTE | C3: ITEM | D3: PRODUTO - CARACTERÍSTICAS MÍNIMAS | E3: ELEMENTO | F3: UNIDADE | G3: Preço UNITÁRIO (R$) | H3: Qtde LICITADA | I3: Saldo / Automático | J3: ALERTA | K3: 42143 | L3: 42188 | M3: ...../...../...... | N3: ...../...../...... | O3: ...../...../...... | P3: ...../...../...... | Q3: ...../...../...... | R3: ...../...../...... | S3: ...../...../...... | T3: ...../...../...... | U3: ...../...../...... | V3: ...../...../......
A4: On The Road Curso de Idiomas Ltda - Me | B4: 9 | C4: 9 | D4: PRESTAÇÃO DE SERVIÇO DE REVISÃO DE TEXTO CORRIDO EM LINGUA ESTRANGEIRA: Revisão de texto corrido na língua estrangeira (Inglesa) corrido no formato Word. Uma lauda equivale a 2100 caracteres com espaçamento, ou fração conforme memorial descritivo. Qualidade compativel com os periódios Qualis A (CAPES). | E4: 339039-99 | F4: LAUDA | G4: 31.36 | H4: 376 | I4: =H4-(SUM(K4:V4)) -> 343.22 | J4: =IF(I4<0,"ATENÇÃO","OK") -> OK | K4: 17.5 | L4: 15.28 | M4: 0 | N4: 0 | O4: 0 | P4: 0 | Q4: 0 | R4: 0 | S4: 0 | T4: 0 | U4: 0 | V4: 0
B5: 10 | C5: 10 | D5: PRESTAÇÃO DE SERVIÇO DE REVISÃO DE TEXTO CORRIDO EM LINGUA ESTRANGEIRA: Revisão de texto corrido na língua estrangeira (Francesa) corrido no formato Word. Uma lauda equivale a 2100 caracteres com espaçamento, ou fração conforme memorial descritivo. Qualidade compativel com os periódios Qualis A (CAPES). | E5: 339039-99 | F5: LAUDA | G5: 31.25 | I5: =H5-(SUM(K5:V5)) -> 0 | J5: =IF(I5<0,"ATENÇÃO","OK") -> OK | K5: 0 | L5: 0 | M5: 0 | N5: 0 | O5: 0 | P5: 0 | Q5: 0 | R5: 0 | S5: 0 | T5: 0 | U5: 0 | V5: 0
B6: 11 | C6: 11 | D6: PRESTAÇÃO DE SERVIÇO DE REVISÃO DE TEXTO CORRIDO EM LINGUA ESTRANGEIRA: Revisão de texto corrido na língua estrangeira (Espanhola) corrido no formato Word. Uma lauda equivale a 2100 caracteres com espaçamento, ou fração conforme memorial descritivo. Qualidade compativel com os periódios Qualis A (CAPES). | E6: 339039-99 | F6: LAUDA | G6: 22.11 | H6: 256 | I6: =H6-(SUM(K6:V6)) -> 256 | J6: =IF(I6<0,"ATENÇÃO","OK") -> OK | K6: 0 | L6: 0 | M6: 0 | N6: 0 | O6: 0 | P6: 0 | Q6: 0 | R6: 0 | S6: 0 | T6: 0 | U6: 0 | V6: 0
A7: Translateway Idiomas, Tradução e Consultoria Empresarial Ltda | B7: 12 | C7: 12 | D7: PRESTAÇÃO DE SERVIÇO DE TRADUÇÃO SIMULTÂNEA: língua Inglesa para a língua Portuguesa e da língua Portuguesa para a língua Inglesa. | E7: 339039-99 | F7: HORA | G7: 217.89 | H7: 4 | I7: =H7-(SUM(K7:V7)) -> 4 | J7: =IF(I7<0,"ATENÇÃO","OK") -> OK | K7: 0 | L7: 0 | M7: 0 | N7: 0 | O7: 0 | P7: 0 | Q7: 0 | R7: 0 | S7: 0 | T7: 0 | U7: 0 | V7: 0
A8: Translateway Idiomas, Tradução e Consultoria Empresarial Ltda | B8: 15 | C8: 15 | D8: PRESTAÇÃO DE SERVIÇO DE TRADUÇÃO SIMULTÂNEA: língua francesa para a língua Portuguesa e da língua Portuguesa para a língua francesa. | E8: 339039-99 | F8: HORA | G8: 232 | I8: =H8-(SUM(K8:V8)) -> 0 | J8: =IF(I8<0,"ATENÇÃO","OK") -> OK | K8: 0 | L8: 0 | M8: 0 | N8: 0 | O8: 0 | P8: 0 | Q8: 0 | R8: 0 | S8: 0 | T8: 0 | U8: 0 | V8: 0
B9: 16 | C9: 16 | D9: PRESTAÇÃO DE SERVIÇO DE TRADUÇÃO SIMULTÂNEA: língua italiana para a língua Portuguesa e da língua Portuguesa para a língua italiana. | E9: 339039-99 | F9: HORA | G9: 230 | I9: =H9-(SUM(K9:V9)) -> 0 | J9: =IF(I9<0,"ATENÇÃO","OK") -> OK | K9: 0 | L9: 0 | M9: 0 | N9: 0 | O9: 0 | P9: 0 | Q9: 0 | R9: 0 | S9: 0 | T9: 0 | U9: 0 | V9: 0
B10: 17 | C10: 17 | D10: PRESTAÇÃO DE SERVIÇO DE TRADUÇÃO CONSECUTIVA : língua francesa para a língua Portuguesa e da língua Portuguesa para a língua francesa. | E10: 339039-99 | F10: HORA | G10: 230 | I10: =H10-(SUM(K10:V10)) -> 0 | J10: =IF(I10<0,"ATENÇÃO","OK") -> OK | K10: 0 | L10: 0 | M10: 0 | N10: 0 | O10: 0 | P10: 0 | Q10: 0 | R10: 0 | S10: 0 | T10: 0 | U10: 0 | V10: 0
B11: 18 | C11: 18 | D11: PRESTAÇÃO DE SERVIÇO DE TRADUÇÃO CONSECUTIVA : língua inglesa para a língua Portuguesa e da língua Portuguesa para a língua inglesa. | E11: 339039-99 | F11: HORA | G11: 230 | I11: =H11-(SUM(K11:V11)) -> 0 | J11: =IF(I11<0,"ATENÇÃO","OK") -> OK | K11: 0 | L11: 0 | M11: 0 | N11: 0 | O11: 0 | P11: 0 | Q11: 0 | R11: 0 | S11: 0 | T11: 0 | U11: 0 | V11: 0
D13: *Prazos de Entrega e de Pagamento conforme Termo de Referência do Edital
D14: *Itens 1 ao 8, 13 e 14 infrutíferos

Sheet GESTOR
A1: PROCESSO: 1072/2014/UDESC | D1: OBJETO: Contratação de Empresa Prestadora de Serviço de Revisão, Tradução de Textos e Tradução Simultânea | H1: VIGÊNCIA DA ATA: 07/11/2014 até 06/11/2015
A2: CENTRO PARTICIPANTE: Reitoria, ESAG, CEART, FAED, CEAD, CAEFID, CCT e CEO
A3: FORNECEDOR | B3: LOTE | C3: ITEM | D3: PRODUTO - CARACTERÍSTICAS MÍNIMAS | E3: ELEMENTO | F3: UNIDADE | G3: Preço UNITÁRIO (R$) | H3: Qtde Registrada + Aditivos | I3: Quantidade Utilizada | J3: SALDO | K3: Valor Total Registrado | L3: Valor Total Utilizado
