Workbook
Name diasuteis: #REF!
Name diasuteis: #REF!
Name diasuteis: #REF!
Name diasuteis: #REF!
Name diasuteis: #REF!
Name diasuteis: #REF!
Name diasuteis: #REF!
Name diasuteis: #REF!
Name diasuteis: #REF!
Name diasuteis: #REF!
Name diasuteis: #REF!
Name diasuteis: #REF!
Name diasuteis: #REF!
Name diasuteis: #REF!
Name Ferias: #REF!
Name Ferias: #REF!
Name Ferias: #REF!
Name Ferias: #REF!
Name Ferias: #REF!
Name Ferias: #REF!
Name Ferias: #REF!
Name Ferias: #REF!
Name Ferias: #REF!
Name Ferias: #REF!
Name Ferias: #REF!
Name Ferias: #REF!
Name Ferias: #REF!
Name RD: OFFSET(#REF!,(MATCH(SMALL(#REF!,ROW()-10),#REF!,0)-1),0)
Name RD: OFFSET(#REF!,(MATCH(SMALL(#REF!,ROW()-10),#REF!,0)-1),0)
Name RD: OFFSET(#REF!,(MATCH(SMALL(#REF!,ROW()-10),#REF!,0)-1),0)
Name RD: OFFSET(#REF!,(MATCH(SMALL(#REF!,ROW()-10),#REF!,0)-1),0)

Sheet Reitoria_PROEX
A1: PROCESSO: 1072/2014/UDESC | D1: OBJETO: Contratação de Empresa Prestadora de Serviço de Revisão, Tradução de Textos e Tradução Simultânea | H1: VIGÊNCIA DA ATA: 07/11/2014 até 06/11/2015 | K1: AF/OS nº xxxx/2014 Qtde. DT | L1: AF/OS nº xxxx/2014 Qtde. DT | M1: AF/OS nº xxxx/2014 Qtde. DT | N1: AF/OS nº xxxx/2014 Qtde. DT | O1: AF/OS nº xxxx/2014 Qtde. DT | P1: AF/OS nº xxxx/2014 Qtde. DT | Q1: AF/OS nº xxxx/2014 Qtde. DT | R1: AF/OS nº xxxx/2014 Qtde. DT | S1: AF/OS nº xxxx/2014 Qtde. DT | T1: AF/OS nº xxxx/2014 Qtde. DT | U1: AF/OS nº xxxx/2014 Qtde. DT | V1: AF/OS nº xxxx/2014 Qtde. DT
A2: CENTRO PARTICIPANTE: Reitoria - PROEX
A3: FORNECEDOR | B3: LOTE | C3: ITEM | D3: PRODUTO - CARACTERÍSTICAS MÍNIMAS | E3: ELEMENTO | F3: UNIDADE | G3: Preço UNITÁRIO (R$) | H3: Qtde LICITADA | I3: Saldo / Automático | J3: ALERTA | K3: ...../...../...... | L3: ...../...../...... | M3: ...../...../...... | N3: ...../...../...... | O3: ...../...../...... | P3: ...../...../...... | Q3: ...../...../...... | R3: ...../...../...... | S3: ...../...../...... | T3: ...../...../...... | U3: ...../...../...... | V3: ...../...../......
A4: On The Road Curso de Idiomas Ltda - Me | B4: 9 | C4: 9 | D4: PRESTAÇÃO DE SERVIÇO DE REVISÃO DE TEXTO CORRIDO EM LINGUA ESTRANGEIRA: Revisão de texto corrido na língua estrangeira (Inglesa) corrido no formato Word. Uma lauda equivale a 2100 caracteres com espaçamento, ou fração conforme memorial descritivo. Qualidade compativel com os periódios Qualis A (CAPES). | E4: 339039-99 | F4: LAUDA | G4: 31.36 | I4: =H4-(SUM(K4:V4)) -> 0 | J4: =IF(I4<0,"ATENÇÃO","OK") -> OK | K4: 0 | L4: 0 | M4: 0 | N4: 0 | O4: 0 | P4: 0 | Q4: 0 | R4: 0 | S4: 0 | T4: 0 | U4: 0 | V4: 0
B5: 10 | C5: 10 | D5: PRESTAÇÃO DE SERVIÇO DE REVISÃO DE TEXTO CORRIDO EM LINGUA ESTRANGEIRA: Revisão de texto corrido na língua estrangeira (Francesa) corrido no formato Word. Uma lauda equivale a 2100 caracteres com espaçamento, ou fração conforme memorial descritivo. Qualidade compativel com os periódios Qualis A (CAPES). | E5: 339039-99 | F5: LAUDA | G5: 31.25 | I5: =H5-(SUM(K5:V5)) -> 0 | J5: =IF(I5<0,"ATENÇÃO","OK") -> OK | K5: 0 | L5: 0 | M5: 0 | N5: 0 | O5: 0 | P5: 0 | Q5: 0 | R5: 0 | S5: 0 | T5: 0 | U5: 0 | V5: 0
B6: 11 | C6: 11 | D6: PRESTAÇÃO DE SERVIÇO DE REVISÃO DE TEXTO CORRIDO EM LINGUA ESTRANGEIRA: Revisão de texto corrido na língua estrangeira (Espanhola) corrido no formato Word. Uma lauda equivale a 2100 caracteres com espaçamento, ou fração conforme memorial descritivo. Qualidade compativel com os periódios Qualis A (CAPES). | E6: 339039-99 | F6: LAUDA | G6: 22.11 | I6: =H6-(SUM(K6:V6)) -> 0 | J6: =IF(I6<0,"ATENÇÃO","OK") -> OK | K6: 0 | L6: 0 | M6: 0 | N6: 0 | O6: 0 | P6: 0 | Q6: 0 | R6: 0 | S6: 0 | T6: 0 | U6: 0 | V6: 0
A7: Translateway Idiomas, Tradução e Consultoria Empresarial Ltda | B7: 12 | C7: 12 | D7: PRESTAÇÃO DE SERVIÇO DE TRADUÇÃO SIMULTÂNEA: língua Inglesa para a língua Portuguesa e da língua Portuguesa para a língua Inglesa. | E7: 339039-99 | F7: HORA | G7: 217.89 | I7: =H7-(SUM(K7:V7)) -> 0 | J7: =IF(I7<0,"ATENÇÃO","OK") -> OK | K7: 0 | L7: 0 | M7: 0 | N7: 0 | O7: 0 | P7: 0 | Q7: 0 | R7: 0 | S7: 0 | T7: 0 | U7: 0 | V7: 0
A8: Translateway Idiomas, Tradução e Consultoria Empresarial Ltda | B8: 15 | C8: 15 | D8: PRESTAÇÃO DE SERVIÇO DE TRADUÇÃO SIMULTÂNEA: língua francesa para a língua Portuguesa e da língua Portuguesa para a língua francesa. | E8: 339039-99 | F8: HORA | G8: 232 | I8: =H8-(SUM(K8:V8)) -> 0 | J8: =IF(I8<0,"ATENÇÃO","OK") -> OK | K8: 0 | L8: 0 | M8: 0 | N8: 0 | O8: 0 | P8: 0 | Q8: 0 | R8: 0 | S8: 0 | T8: 0 | U8: 0 | V8: 0
B9: 16 | C9: 16 | D9: PRESTAÇÃO DE SERVIÇO DE TRADUÇÃO SIMULTÂNEA: língua italiana para a língua Portuguesa e da língua Portuguesa para a língua italiana. | E9: 339039-99 | F9: HORA | G9: 230 | I9: =H9-(SUM(K9:V9)) -> 0 | J9: =IF(I9<0,"ATENÇÃO","OK") -> OK | K9: 0 | L9: 0 | M9: 0 | N9: 0 | O9: 0 | P9: 0 | Q9: 0 | R9: 0 | S9: 0 | T9: 0 | U9: 0 | V9: 0
B10: 17 | C10: 17 | D10: PRESTAÇÃO DE SERVIÇO DE TRADUÇÃO CONSECUTIVA : língua francesa para a língua Portuguesa e da língua Portuguesa para a língua francesa. | E10: 339039-99 | F10: HORA | G10: 230 | I10: =H10-(SUM(K10:V10)) -> 0 | J10: =IF(I10<0,"ATENÇÃO","OK") -> OK | K10: 0 | L10: 0 | M10: 0 | N10: 0 | O10: 0 | P10: 0 | Q10: 0 | R10: 0 | S10: 0 | T10: 0 | U10: 0 | V10: 0
B11: 18 | C11: 18 | D11: PRESTAÇÃO DE SERVIÇO DE TRADUÇÃO CONSECUTIVA : língua inglesa para a língua Portuguesa e da língua Portuguesa para a língua inglesa. | E11: 339039-99 | F11: HORA | G11: 230 | I11: =H11-(SUM(K11:V11)) -> 0 | J11: =IF(I11<0,"ATENÇÃO","OK") -> OK | K11: 0 | L11: 0 | M11: 0 | N11: 0 | O11: 0 | P11: 0 | Q11: 0 | R11: 0 | S11: 0 | T11: 0 | U11: 0 | V11: 0
D13: *Prazos de Entrega e de Pagamento conforme Termo de Referência do Edital
D14: *Itens 1 ao 8, 13 e 14 infrutíferos

Sheet Reitoria_SCII
A1: PROCESSO: 1072/2014/UDESC | D1: OBJETO: Contratação de Empresa Prestadora de Serviço de Revisão, Tradução de Textos e Tradução Simultânea | H1: VIGÊNCIA DA ATA: 07/11/2014 até 06/11/2015 | K1: AF/OS nº xxxx/2014 Qtde. DT | L1: AF/OS nº xxxx/2014 Qtde. DT | M1: AF/OS nº xxxx/2014 Qtde. DT | N1: AF/OS nº xxxx/2014 Qtde. DT | O1: AF/OS nº xxxx/2014 Qtde. DT | P1: AF/OS nº xxxx/2014 Qtde. DT | Q1: AF/OS nº xxxx/2014 Qtde. DT | R1: AF/OS nº xxxx/2014 Qtde. DT | S1: AF/OS nº xxxx/2014 Qtde. DT | T1: AF/OS nº xxxx/2014 Qtde. DT | U1: AF/OS nº xxxx/2014 Qtde. DT | V1: AF/OS nº xxxx/2014 Qtde. DT
A2: CENTRO PARTICIPANTE: Reitoria - SCII
A3: FORNECEDOR | B3: LOTE | C3: ITEM | D3: PRODUTO - CARACTERÍSTICAS MÍNIMAS | E3: ELEMENTO | F3: UNIDADE | G3: Preço UNITÁRIO (R$) | H3: Qtde LICITADA | I3: Saldo / Automático | J3: ALERTA | K3: ...../...../...... | L3: ...../...../...... | M3: ...../...../...... | N3: ...../...../...... | O3: ...../...../...... | P3: ...../...../...... | Q3: ...../...../...... | R3: ...../...../...... | S3: ...../...../...... | T3: ...../...../...... | U3: ...../...../...... | V3: ...../...../......
A4: On The Road Curso de Idiomas Ltda - Me | B4: 9 | C4: 9 | D4: PRESTAÇÃO DE SERVIÇO DE REVISÃO DE TEXTO CORRIDO EM LINGUA ESTRANGEIRA: Revisão de texto corrido na língua estrangeira (Inglesa) corrido no formato Word. Uma lauda equivale a 2100 caracteres com espaçamento, ou fração conforme memorial descritivo. Qualidade compativel com os periódios Qualis A (CAPES). | E4: 339039-99 | F4: LAUDA | G4: 31.36 | I4: =H4-(SUM(K4:V4)) -> 0 | J4: =IF(I4<0,"ATENÇÃO","OK") -> OK | K4: 0 | L4: 0 | M4: 0 | N4: 0 | O4: 0 | P4: 0 | Q4: 0 | R4: 0 | S4: 0 | T4: 0 | U4: 0 | V4: 0
B5: 10 | C5: 10 | D5: PRESTAÇÃO DE SERVIÇO DE REVISÃO DE TEXTO CORRIDO EM LINGUA ESTRANGEIRA: Revisão de texto corrido na língua estrangeira (Francesa) corrido no formato Word. Uma lauda equivale a 2100 caracteres com espaçamento, ou fração conforme memorial descritivo. Qualidade compativel com os periódios Qualis A (CAPES). | E5: 339039-99 | F5: LAUDA | G5: 31.25 | I5: =H5-(SUM(K5:V5)) -> 0 | J5: =IF(I5<0,"ATENÇÃO","OK") -> OK | K5: 0 | L5: 0 | M5: 0 | N5: 0 | O5: 0 | P5: 0 | Q5: 0 | R5: 0 | S5: 0 | T5: 0 | U5: 0 | V5: 0
B6: 11 | C6: 11 | D6: PRESTAÇÃO DE SERVIÇO DE REVISÃO DE TEXTO CORRIDO EM LINGUA ESTRANGEIRA: Revisão de texto corrido na língua estrangeira (Espanhola) corrido no formato Word. Uma lauda equivale a 2100 caracteres com espaçamento, ou fração conforme memorial descritivo. Qualidade compativel com os periódios Qualis A (CAPES). | E6: 339039-99 | F6: LAUDA | G6: 22.11 | I6: =H6-(SUM(K6:V6)) -> 0 | J6: =IF(I6<0,"ATENÇÃO","OK") -> OK | K6: 0 | L6: 0 | M6: 0 | N6: 0 | O6: 0 | P6: 0 | Q6: 0 | R6: 0 | S6: 0 | T6: 0 | U6: 0 | V6: 0
A7: Translateway Idiomas, Tradução e Consultoria Empresarial Ltda | B7: 12 | C7: 12 | D7: PRESTAÇÃO DE SERVIÇO DE TRADUÇÃO SIMULTÂNEA: língua Inglesa para a língua Portuguesa e da língua Portuguesa para a língua Inglesa. | E7: 339039-99 | F7: HORA | G7: 217.89 | I7: =H7-(SUM(K7:V7)) -> 0 | J7: =IF(I7<0,"ATENÇÃO","OK") -> OK | K7: 0 | L7: 0 | M7: 0 | N7: 0 | O7: 0 | P7: 0 | Q7: 0 | R7: 0 | S7: 0 | T7: 0 | U7: 0 | V7: 0
A8: Translateway Idiomas, Tradução e Consultoria Empresarial Ltda | B8: 15 | C8: 15 | D8: PRESTAÇÃO DE SERVIÇO DE TRADUÇÃO SIMULTÂNEA: língua francesa para a língua Portuguesa e da língua Portuguesa para a língua francesa. | E8: 339039-99 | F8: HORA | G8: 232 | I8: =H8-(SUM(K8:V8)) -> 0 | J8: =IF(I8<0,"ATENÇÃO","OK") -> OK | K8: 0 | L8: 0 | M8: 0 | N8: 0 | O8: 0 | P8: 0 | Q8: 0 | R8: 0 | S8: 0 | T8: 0 | U8: 0 | V8: 0
B9: 16 | C9: 16 | D9: PRESTAÇÃO DE SERVIÇO DE TRADUÇÃO SIMULTÂNEA: língua italiana para a língua Portuguesa e da língua Portuguesa para a língua italiana. | E9: 339039-99 | F9: HORA | G9: 230 | I9: =H9-(SUM(K9:V9)) -> 0 | J9: =IF(I9<0,"ATENÇÃO","OK") -> OK | K9: 0 | L9: 0 | M9: 0 | N9: 0 | O9: 0 | P9: 0 | Q9: 0 | R9: 0 | S9: 0 | T9: 0 | U9: 0 | V9: 0
B10: 17 | C10: 17 | D10: PRESTAÇÃO DE SERVIÇO DE TRADUÇÃO CONSECUTIVA : língua francesa para a língua Portuguesa e da língua Portuguesa para a língua francesa. | E10: 339039-99 | F10: HORA | G10: 230 | I10: =H10-(SUM(K10:V10)) -> 0 | J10: =IF(I10<0,"ATENÇÃO","OK") -> OK | K10: 0 | L10: 0 | M10: 0 | N10: 0 | O10: 0 | P10: 0 | Q10: 0 | R10: 0 | S10: 0 | T10: 0 | U10: 0 | V10: 0
B11: 18 | C11: 18 | D11: PRESTAÇÃO DE SERVIÇO DE TRADUÇÃO CONSECUTIVA : língua inglesa para a língua Portuguesa e da língua Portuguesa para a língua inglesa. | E11: 339039-99 | F11: HORA | G11: 230 | I11: =H11-(SUM(K11:V11)) -> 0 | J11: =IF(I11<0,"ATENÇÃO","OK") -> OK | K11: 0 | L11: 0 | M11: 0 | N11: 0 | O11: 0 | P11: 0 | Q11: 0 | R11: 0 | S11: 0 | T11: 0 | U11: 0 | V11: 0
D13: *Prazos de Entrega e de Pagamento conforme Termo de Referência do Edital
D14: *Itens 1 ao 8, 13 e 14 infrutíferos

Sheet ESAG
A1: PROCESSO: 1072/2014/UDESC | D1: OBJETO: Contratação de Empresa Prestadora de Serviço de Revisão, Tradução de Textos e Tradução Simultânea | H1: VIGÊNCIA DA ATA: 07/11/2014 até 06/11/2015 | K1: AF/OS nº 1544/2015 Qtde. DT | L1: AF/OS nº xxxx/2014 Qtde. DT | M1: AF/OS nº xxxx/2014 Qtde. DT | N1: AF/OS nº xxxx/2014 Qtde. DT | O1: AF/OS nº xxxx/2014 Qtde. DT | P1: AF/OS nº xxxx/2014 Qtde. DT | Q1: AF/OS nº xxxx/2014 Qtde. DT | R1: AF/OS nº xxxx/2014 Qtde. DT | S1: AF/OS nº xxxx/2014 Qtde. DT | T1: AF/OS nº xxxx/2014 Qtde. DT | U1: AF/OS nº xxxx/2014 Qtde. DT | V1: AF/OS nº xxxx/2014 Qtde. DT
A2: CENTRO PARTICIPANTE: ESAG
A3: FORNECEDOR | B3: LOTE | C3: ITEM | D3: PRODUTO - CARACTERÍSTICAS MÍNIMAS | E3: ELEMENTO | F3: UNIDADE | G3: Preço UNITÁRIO (R$) | H3: Qtde LICITADA | I3: Saldo / Automático | J3: ALERTA | K3: ...../...../...... | L3: ...../...../...... | M3: ...../...../...... | N3: ...../...../...... | O3: ...../...../...... | P3: ...../...../...... | Q3: ...../...../...... | R3: ...../...../...... | S3: ...../...../...... | T3: ...../...../...... | U3: ...../...../...... | V3: ...../...../......
A4: On The Road Curso de Idiomas Ltda - Me | B4: 9 | C4: 9 | D4: PRESTAÇÃO DE SERVIÇO DE REVISÃO DE TEXTO CORRIDO EM LINGUA ESTRANGEIRA: Revisão de texto corrido na língua estrangeira (Inglesa) corrido no formato Word. Uma lauda equivale a 2100 caracteres com espaçamento, ou fração conforme memorial descritivo. Qualidade compativel com os periódios Qualis A (CAPES). | E4: 339039-99 | F4: LAUDA | G4: 31.36 | H4: 60 | I4: =H4-(SUM(K4:V4)) -> 60 | J4: =IF(I4<0,"ATENÇÃO","OK") -> OK | L4: 0 | M4: 0 | N4: 0 | O4: 0 | P4: 0 | Q4: 0 | R4: 0 | S4: 0 | T4: 0 | U4: 0 | V4: 0
B5: 10 | C5: 10 | D5: PRESTAÇÃO DE SERVIÇO DE REVISÃO DE TEXTO CORRIDO EM LINGUA ESTRANGEIRA: Revisão de texto corrido na língua estrangeira (Francesa) corrido no formato Word. Uma lauda equivale a 2100 caracteres com espaçamento, ou fração conforme memorial descritivo. Qualidade compativel com os periódios Qualis A (CAPES). | E5: 339039-99 | F5: LAUDA | G5: 31.25 | H5: 40 | I5: =H5-(SUM(K5:V5)) -> 40 | J5: =IF(I5<0,"ATENÇÃO","OK") -> OK | L5: 0 | M5: 0 | N5: 0 | O5: 0 | P5: 0 | Q5: 0 | R5: 0 | S5: 0 | T5: 0 | U5: 0 | V5: 0
B6: 11 | C6: 11 | D6: PRESTAÇÃO DE SERVIÇO DE REVISÃO DE TEXTO CORRIDO EM LINGUA ESTRANGEIRA: Revisão de texto corrido na língua estrangeira (Espanhola) corrido no formato Word. Uma lauda equivale a 2100 caracteres com espaçamento, ou fração conforme memorial descritivo. Qualidade compativel com os periódios Qualis A (CAPES). | E6: 339039-99 | F6: LAUDA | G6: 22.11 | I6: =H6-(SUM(K6:V6)) -> 0 | J6: =IF(I6<0,"ATENÇÃO","OK") -> OK | L6: 0 | M6: 0 | N6: 0 | O6: 0 | P6: 0 | Q6: 0 | R6: 0 | S6: 0 | T6: 0 | U6: 0 | V6: 0
A7: Translateway Idiomas, Tradução e Consultoria Empresarial Ltda | B7: 12 | C7: 12 | D7: PRESTAÇÃO DE SERVIÇO DE TRADUÇÃO SIMULTÂNEA: língua Inglesa para a língua Portuguesa e da língua Portuguesa para a língua Inglesa. | E7: 339039-99 | F7: HORA | G7: 217.89 | H7: 40 | I7: =H7-(SUM(K7:V7)) -> 0 | J7: =IF(I7<0,"ATENÇÃO","OK") -> OK | K7: 40 | L7: 0 | M7: 0 | N7: 0 | O7: 0 | P7: 0 | Q7: 0 | R7: 0 | S7: 0 | T7: 0 | U7: 0 | V7: 0
A8: Translateway Idiomas, Tradução e Consultoria Empresarial Ltda | B8: 15 | C8: 15 | D8: PRESTAÇÃO DE SERVIÇO DE TRADUÇÃO SIMULTÂNEA: língua francesa para a língua Portuguesa e da língua Portuguesa para a língua francesa. | E8: 339039-99 | F8: HORA | G8: 232 | I8: =H8-(SUM(K8:V8)) -> 0 | J8: =IF(I8<0,"ATENÇÃO","OK") -> OK | L8: 0 | M8: 0 | N8: 0 | O8: 0 | P8: 0 | Q8: 0 | R8: 0 | S8: 0 | T8: 0 | U8: 0 | V8: 0
B9: 16 | C9: 16 | D9: PRESTAÇÃO DE SERVIÇO DE TRADUÇÃO SIMULTÂNEA: língua italiana para a língua Portuguesa e da língua Portuguesa para a língua italiana. | E9: 339039-99 | F9: HORA | G9: 230 | I9: =H9-(SUM(K9:V9)) -> 0 | J9: =IF(I9<0,"ATENÇÃO","OK") -> OK | L9: 0 | M9: 0 | N9: 0 | O9: 0 | P9: 0 | Q9: 0 | R9: 0 | S9: 0 | T9: 0 | U9: 0 | V9: 0
B10: 17 | C10: 17 | D10: PRESTAÇÃO DE SERVIÇO DE TRADUÇÃO CONSECUTIVA : língua francesa para a língua Portuguesa e da língua Portuguesa para a língua francesa. | E10: 339039-99 | F10: HORA | G10: 230 | I10: =H10-(SUM(K10:V10)) -> 0 | J10: =IF(I10<0,"ATENÇÃO","OK") -> OK | L10: 0 | M10: 0 | N10: 0 | O10: 0 | P10: 0 | Q10: 0 | R10: 0 | S10: 0 | T10: 0 | U10: 0 | V10: 0
B11: 18 | C11: 18 | D11: PRESTAÇÃO DE SERVIÇO DE TRADUÇÃO CONSECUTIVA : língua inglesa para a língua Portuguesa e da língua Portuguesa para a língua inglesa. | E11: 339039-99 | F11: HORA | G11: 230 | I11: =H11-(SUM(K11:V11)) -> 0 | J11: =IF(I11<0,"ATENÇÃO","OK") -> OK | L11: 0 | M11: 0 | N11: 0 | O11: 0 | P11: 0 | Q11: 0 | R11: 0 | S11: 0 | T11: 0 | U11: 0 | V11: 0
D13: *Prazos de Entrega e de Pagamento conforme Termo de Referência do Edital
D14: *Itens 1 ao 8, 13 e 14 infrutíferos

Sheet CEART
A1: PROCESSO: 1072/2014/UDESC | D1: OBJETO: Contratação de Empresa Prestadora de Serviço de Revisão, Tradução de Textos e Tradução Simultânea | H1: VIGÊNCIA DA ATA: 07/11/2014 até 06/11/2015 | K1: AF/OS nº xxxx/2014 Qtde. DT | L1: AF/OS nº xxxx/2014 Qtde. DT | M1: AF/OS nº xxxx/2014 Qtde. DT | N1: AF/OS nº xxxx/2014 Qtde. DT | O1: AF/OS nº xxxx/2014 Qtde. DT | P1: AF/OS nº xxxx/2014 Qtde. DT | Q1: AF/OS nº xxxx/2014 Qtde. DT | R1: AF/OS nº xxxx/2014 Qtde. DT | S1: AF/OS nº xxxx/2014 Qtde. DT | T1: AF/OS nº xxxx/2014 Qtde. DT | U1: AF/OS nº xxxx/2014 Qtde. DT | V1: AF/OS nº xxxx/2014 Qtde. DT
A2: CENTRO PARTICIPANTE: CEART
A3: FORNECEDOR | B3: LOTE | C3: ITEM | D3: PRODUTO - CARACTERÍSTICAS MÍNIMAS | E3: ELEMENTO | F3: UNIDADE | G3: Preço UNITÁRIO (R$) | H3: Qtde LICITADA | I3: Saldo / Automático | J3: ALERTA | K3: ...../...../...... | L3: ...../...../...... | M3: ...../...../...... | N3: ...../...../...... | O3: ...../...../...... | P3: ...../...../...... | Q3: ...../...../...... | R3: ...../...../...... | S3: ...../...../...... | T3: ...../...../...... | U3: ...../...../...... | V3: ...../...../......
A4: On The Road Curso de Idiomas Ltda - Me | B4: 9 | C4: 9 | D4: PRESTAÇÃO DE SERVIÇO DE REVISÃO DE TEXTO CORRIDO EM LINGUA ESTRANGEIRA: Revisão de texto corrido na língua estrangeira (Inglesa) corrido no formato Word. Uma lauda equivale a 2100 caracteres com espaçamento, ou fração conforme memorial descritivo. Qualidade compativel com os periódios Qualis A (CAPES). | E4: 339039-99 | F4: LAUDA | G4: 31.36 | H4: 400 | I4: =H4-(SUM(K4:V4)) -> 400 | J4: =IF(I4<0,"ATENÇÃO","OK") -> OK | K4: 0 | L4: 0 | M4: 0 | N4: 0 | O4: 0 | P4: 0 | Q4: 0 | R4: 0 | S4: 0 | T4: 0 | U4: 0 | V4: 0
B5: 10 | C5: 10 | D5: PRESTAÇÃO DE SERVIÇO DE REVISÃO DE TEXTO CORRIDO EM LINGUA ESTRANGEIRA: Revisão de texto corrido na língua estrangeira (Francesa) corrido no formato Word. Uma lauda equivale a 2100 caracteres com espaçamento, ou fração conforme memorial descritivo. Qualidade compativel com os periódios Qualis A (CAPES). | E5: 339039-99 | F5: LAUDA | G5: 31.25 | I5: =H5-(SUM(K5:V5)) -> 0 | J5: =IF(I5<0,"ATENÇÃO","OK") -> OK | K5: 0 | L5: 0 | M5: 0 | N5: 0 | O5: 0 | P5: 0 | Q5: 0 | R5: 0 | S5: 0 | T5: 0 | U5: 0 | V5: 0
B6: 11 | C6: 11 | D6: PRESTAÇÃO DE SERVIÇO DE REVISÃO DE TEXTO CORRIDO EM LINGUA ESTRANGEIRA: Revisão de texto corrido na língua estrangeira (Espanhola) corrido no formato Word. Uma lauda equivale a 2100 caracteres com espaçamento, ou fração conforme memorial descritivo. Qualidade compativel com os periódios Qualis A (CAPES). | E6: 339039-99 | F6: LAUDA | G6: 22.11 | I6: =H6-(SUM(K6:V6)) -> 0 | J6: =IF(I6<0,"ATENÇÃO","OK") -> OK | K6: 0 | L6: 0 | M6: 0 | N6: 0 | O6: 0 | P6: 0 | Q6: 0 | R6: 0 | S6: 0 | T6: 0 | U6: 0 | V6: 0
A7: Translateway Idiomas, Tradução e Consultoria Empresarial Ltda | B7: 12 | C7: 12 | D7: PRESTAÇÃO DE SERVIÇO DE TRADUÇÃO SIMULTÂNEA: língua Inglesa para a língua Portuguesa e da língua Portuguesa para a língua Inglesa. | E7: 339039-99 | F7: HORA | G7: 217.89 | H7: 200 | I7: =H7-(SUM(K7:V7)) -> 200 | J7: =IF(I7<0,"ATENÇÃO","OK") -> OK | K7: 0 | L7: 0 | M7: 0 | N7: 0 | O7: 0 | P7: 0 | Q7: 0 | R7: 0 | S7: 0 | T7: 0 | U7: 0 | V7: 0
A8: Translateway Idiomas, Tradução e Consultoria Empresarial Ltda | B8: 15 | C8: 15 | D8: PRESTAÇÃO DE SERVIÇO DE TRADUÇÃO SIMULTÂNEA: língua francesa para a língua Portuguesa e da língua Portuguesa para a língua francesa. | E8: 339039-99 | F8: HORA | G8: 232 | I8: =H8-(SUM(K8:V8)) -> 0 | J8: =IF(I8<0,"ATENÇÃO","OK") -> OK | K8: 0 | L8: 0 | M8: 0 | N8: 0 | O8: 0 | P8: 0 | Q8: 0 | R8: 0 | S8: 0 | T8: 0 | U8: 0 | V8: 0
B9: 16 | C9: 16 | D9: PRESTAÇÃO DE SERVIÇO DE TRADUÇÃO SIMULTÂNEA: língua italiana para a língua Portuguesa e da língua Portuguesa para a língua italiana. | E9: 339039-99 | F9: HORA | G9: 230 | I9: =H9-(SUM(K9:V9)) -> 0 | J9: =IF(I9<0,"ATENÇÃO","OK") -> OK | K9: 0 | L9: 0 | M9: 0 | N9: 0 | O9: 0 | P9: 0 | Q9: 0 | R9: 0 | S9: 0 | T9: 0 | U9: 0 | V9: 0
B10: 17 | C10: 17 | D10: PRESTAÇÃO DE SERVIÇO DE TRADUÇÃO CONSECUTIVA : língua francesa para a língua Portuguesa e da língua Portuguesa para a língua francesa. | E10: 339039-99 | F10: HORA | G10: 230 | I10: =H10-(SUM(K10:V10)) -> 0 | J10: =IF(I10<0,"ATENÇÃO","OK") -> OK | K10: 0 | L10: 0 | M10: 0 | N10: 0 | O10: 0 | P10: 0 | Q10: 0 | R10: 0 | S10: 0 | T10: 0 | U10: 0 | V10: 0
B11: 18 | C11: 18 | D11: PRESTAÇÃO DE SERVIÇO DE TRADUÇÃO CONSECUTIVA : língua inglesa para a língua Portuguesa e da língua Portuguesa para a língua inglesa. | E11: 339039-99 | F11: HORA | G11: 230 | I11: =H11-(SUM(K11:V11)) -> 0 | J11: =IF(I11<0,"ATENÇÃO","OK") -> OK | K11: 0 | L11: 0 | M11: 0 | N11: 0 | O11: 0 | P11: 0 | Q11: 0 | R11: 0 | S11: 0 | T11: 0 | U11: 0 | V11: 0
D13: *Prazos de Entrega e de Pagamento conforme Termo de Referência do Edital
D14: *Itens 1 ao 8, 13 e 14 infrutíferos

Sheet FAED
A1: PROCESSO: 1072/2014/UDESC | D1: OBJETO: Contratação de Empresa Prestadora de Serviço de Revisão, Tradução de Textos e Tradução Simultânea | H1: VIGÊNCIA DA ATA: 07/11/2014 até 06/11/2015 | K1: AF/OS nº 801/2015 Qtde. DT | L1: AF/OS nº 1284/2015 Qtde. DT | M1: AF/OS nº 1531/2015 Qtde. DT | N1: AF/OS nº xxxx/2014 Qtde. DT | O1: AF/OS nº xxxx/2014 Qtde. DT | P1: AF/OS nº xxxx/2014 Qtde. DT | Q1: AF/OS nº xxxx/2014 Qtde. DT | R1: AF/OS nº xxxx/2014 Qtde. DT | S1: AF/OS nº xxxx/2014 Qtde. DT | T1: AF/OS nº xxxx/2014 Qtde. DT | U1: AF/OS nº xxxx/2014 Qtde. DT | V1: AF/OS nº xxxx/2014 Qtde. DT
A2: CENTRO PARTICIPANTE: FAED
A3: FORNECEDOR | B3: LOTE | C3: ITEM | D3: PRODUTO - CARACTERÍSTICAS MÍNIMAS | E3: ELEMENTO | F3: UNIDADE | G3: Preço UNITÁRIO (R$) | H3: Qtde LICITADA | I3: Saldo / Automático | J3: ALERTA | K3: 42142 | L3: 42212 | M3: 42243 | N3: ...../...../...... | O3: ...../...../...... | P3: ...../...../...... | Q3: ...../...../...... | R3: ...../...../...... | S3: ...../...../...... | T3: ...../...../...... | U3: ...../...../...... | V3: ...../...../......
A4: On The Road Curso de Idiomas Ltda - Me | B4: 9 | C4: 9 | D4: PRESTAÇÃO DE SERVIÇO DE REVISÃO DE TEXTO CORRIDO EM LINGUA ESTRANGEIRA: Revisão de texto corrido na língua estrangeira (Inglesa) corrido no formato Word. Uma lauda equivale a 2100 caracteres com espaçamento, ou fração conforme memorial descritivo. Qualidade compativel com os periódios Qualis A (CAPES). | E4: 339039-99 | F4: LAUDA | G4: 31.36 | H4: 280 | I4: =H4-(SUM(K4:V4)) -> 280 | J4: =IF(I4<0,"ATENÇÃO","OK") -> OK | K4: 0 | L4: 0 | M4: 0 | N4: 0 | O4: 0 | P4: 0 | Q4: 0 | R4: 0 | S4: 0 | T4: 0 | U4: 0 | V4: 0
B5: 10 | C5: 10 | D5: PRESTAÇÃO DE SERVIÇO DE REVISÃO DE TEXTO CORRIDO EM LINGUA ESTRANGEIRA: Revisão de texto corrido na língua estrangeira (Francesa) corrido no formato Word. Uma lauda equivale a 2100 caracteres com espaçamento, ou fração conforme memorial descritivo. Qualidade compativel com os periódios Qualis A (CAPES). | E5: 339039-99 | F5: LAUDA | G5: 31.25 | H5: 280 | I5: =H5-(SUM(K5:V5)) -> 280 | J5: =IF(I5<0,"ATENÇÃO","OK") -> OK | K5: 0 | L5: 0 | M5: 0 | N5: 0 | O5: 0 | P5: 0 | Q5: 0 | R5: 0 | S5: 0 | T5: 0 | U5: 0 | V5: 0
B6: 11 | C6: 11 | D6: PRESTAÇÃO DE SERVIÇO DE REVISÃO DE TEXTO CORRIDO EM LINGUA ESTRANGEIRA: Revisão de texto corrido na língua estrangeira (Espanhola) corrido no formato Word. Uma lauda equivale a 2100 caracteres com espaçamento, ou fração conforme memorial descritivo. Qualidade compativel com os periódios Qualis A (CAPES). | E6: 339039-99 | F6: LAUDA | G6: 22.11 | H6: 371 | I6: =H6-(SUM(K6:V6)) -> 183 | J6: =IF(I6<0,"ATENÇÃO","OK") -> OK | K6: 70 | L6: 75 | M6: 43 | N6: 0 | O6: 0 | P6: 0 | Q6: 0 | R6: 0 | S6: 0 | T6: 0 | U6: 0 | V6: 0
A7: Translateway Idiomas, Tradução e Consultoria Empresarial Ltda | B7: 12 | C7: 12 | D7: PRESTAÇÃO DE SERVIÇO DE TRADUÇÃO SIMULTÂNEA: língua Inglesa para a língua Portuguesa e da língua Portuguesa para a língua Inglesa. | E7: 339039-99 | F7: HORA | G7: 217.89 | H7: 13 | I7: =H7-(SUM(K7:V7)) -> 13 | J7: =IF(I7<0,"ATENÇÃO","OK") -> OK | K7: 0 | L7: 0 | M7: 0 | N7: 0 | O7: 0 | P7: 0 | Q7: 0 | R7: 0 | S7: 0 | T7: 0 | U7: 0 | V7: 0
A8: Translateway Idiomas, Tradução e Consultoria Empresarial Ltda | B8: 15 | C8: 15 | D8: PRESTAÇÃO DE SERVIÇO DE TRADUÇÃO SIMULTÂNEA: língua francesa para a língua Portuguesa e da língua Portuguesa para a língua francesa. | E8: 339039-99 | F8: HORA | G8: 232 | H8: 5 | I8: =H8-(SUM(K8:V8)) -> 5 | J8: =IF(I8<0,"ATENÇÃO","OK") -> OK | K8: 0 | L8: 0 | M8: 0 | N8: 0 | O8: 0 | P8: 0 | Q8: 0 | R8: 0 | S8: 0 | T8: 0 | U8: 0 | V8: 0
B9: 16 | C9: 16 | D9: PRESTAÇÃO DE SERVIÇO DE TRADUÇÃO SIMULTÂNEA: língua italiana para a língua Portuguesa e da língua Portuguesa para a língua italiana. | E9: 339039-99 | F9: HORA | G9: 230 | H9: 5 | I9: =H9-(SUM(K9:V9)) -> 5 | J9: =IF(I9<0,"ATENÇÃO","OK") -> OK | K9: 0 | L9: 0 | M9: 0 | N9: 0 | O9: 0 | P9: 0 | Q9: 0 | R9: 0 | S9: 0 | T9: 0 | U9: 0 | V9: 0
B10: 17 | C10: 17 | D10: PRESTAÇÃO DE SERVIÇO DE TRADUÇÃO CONSECUTIVA : língua francesa para a língua Portuguesa e da língua Portuguesa para a língua francesa. | E10: 339039-99 | F10: HORA | G10: 230 | H10: 10 | I10: =H10-(SUM(K10:V10)) -> 10 | J10: =IF(I10<0,"ATENÇÃO","OK") -> OK | K10: 0 | L10: 0 | M10: 0 | N10: 0 | O10: 0 | P10: 0 | Q10: 0 | R10: 0 | S10: 0 | T10: 0 | U10: 0 | V10: 0
B11: 18 | C11: 18 | D11: PRESTAÇÃO DE SERVIÇO DE TRADUÇÃO CONSECUTIVA : língua inglesa para a língua Portuguesa e da língua Portuguesa para a língua inglesa. | E11: 339039-99 | F11: HORA | G11: 230 | H11: 10 | I11: =H11-(SUM(K11:V11)) -> 10 | J11: =IF(I11<0,"ATENÇÃO","OK") -> OK | K11: 0 | L11: 0 | M11: 0 | N11: 0 | O11: 0 | P11: 0 | Q11: 0 | R11: 0 | S11: 0 | T11: 0 | U11: 0 | V11: 0
D13: *Prazos de Entrega e de Pagamento conforme Termo de Referência do Edital
D14: *Itens 1 ao 8, 13 e 14 infrutíferos

Sheet IV UNIAFRO_FAED
A1: PROCESSO: 1072/2014/UDESC | D1: OBJETO: Contratação de Empresa Prestadora de Serviço de Revisão, Tradução de Textos e Tradução Simultânea | H1: VIGÊNCIA DA ATA: 07/11/2014 até 06/11/2015 | K1: AF/OS nº xxxx/2014 Qtde. DT | L1: AF/OS nº xxxx/2014 Qtde. DT | M1: AF/OS nº xxxx/2014 Qtde. DT | N1: AF/OS nº xxxx/2014 Qtde. DT | O1: AF/OS nº xxxx/2014 Qtde. DT | P1: AF/OS nº xxxx/2014 Qtde. DT | Q1: AF/OS nº xxxx/2014 Qtde. DT | R1: AF/OS nº xxxx/2014 Qtde. DT | S1: AF/OS nº xxxx/2014 Qtde. DT | T1: AF/OS nº xxxx/2014 Qtde. DT | U1: AF/OS nº xxxx/2014 Qtde. DT | V1: AF/OS nº xxxx/2014 Qtde. DT
A2: CENTRO PARTICIPANTE: IV UNIAFRO - FAED
A3: FORNECEDOR | B3: LOTE | C3: ITEM | D3: PRODUTO - CARACTERÍSTICAS MÍNIMAS | E3: ELEMENTO | F3: UNIDADE | G3: Preço UNITÁRIO (R$) | H3: Qtde LICITADA | I3: Saldo / Automático | J3: ALERTA | K3: ...../...../...... | L3: ...../...../...... | M3: ...../...../...... | N3: ...../...../...... | O3: ...../...../...... | P3: ...../...../...... | Q3: ...../...../...... | R3: ...../...../...... | S3: ...../...../...... | T3: ...../...../...... | U3: ...../...../...... | V3: ...../...../......
A4: On The Road Curso de Idiomas Ltda - Me | B4: 9 | C4: 9 | D4: PRESTAÇÃO DE SERVIÇO DE REVISÃO DE TEXTO CORRIDO EM LINGUA ESTRANGEIRA: Revisão de texto corrido na língua estrangeira (Inglesa) corrido no formato Word. Uma lauda equivale a 2100 caracteres com espaçamento, ou fração conforme memorial descritivo. Qualidade compativel com os periódios Qualis A (CAPES). | E4: 339039-99 | F4: LAUDA | G4: 31.36 | I4: =H4-(SUM(K4:V4)) -> 0 | J4: =IF(I4<0,"ATENÇÃO","OK") -> OK | K4: 0 | L4: 0 | M4: 0 | N4: 0 | O4: 0 | P4: 0 | Q4: 0 | R4: 0 | S4: 0 | T4: 0 | U4: 0 | V4: 0
B5: 10 | C5: 10 | D5: PRESTAÇÃO DE SERVIÇO DE REVISÃO DE TEXTO CORRIDO EM LINGUA ESTRANGEIRA: Revisão de texto corrido na língua estrangeira (Francesa) corrido no formato Word. Uma lauda equivale a 2100 caracteres com espaçamento, ou fração conforme memorial descritivo. Qualidade compativel com os periódios Qualis A (CAPES). | E5: 339039-99 | F5: LAUDA | G5: 31.25 | I5: =H5-(SUM(K5:V5)) -> 0 | J5: =IF(I5<0,"ATENÇÃO","OK") -> OK | K5: 0 | L5: 0 | M5: 0 | N5: 0 | O5: 0 | P5: 0 | Q5: 0 | R5: 0 | S5: 0 | T5: 0 | U5: 0 | V5: 0
B6: 11 | C6: 11 | D6: PRESTAÇÃO DE SERVIÇO DE REVISÃO DE TEXTO CORRIDO EM LINGUA ESTRANGEIRA: Revisão de texto corrido na língua estrangeira (Espanhola) corrido no formato Word. Uma lauda equivale a 2100 caracteres com espaçamento, ou fração conforme memorial descritivo. Qualidade compativel com os periódios Qualis A (CAPES). | E6: 339039-99 | F6: LAUDA | G6: 22.11 | I6: =H6-(SUM(K6:V6)) -> 0 | J6: =IF(I6<0,"ATENÇÃO","OK") -> OK | K6: 0 | L6: 0 | M6: 0 | N6: 0 | O6: 0 | P6: 0 | Q6: 0 | R6: 0 | S6: 0 | T6: 0 | U6: 0 | V6: 0
A7: Translateway Idiomas, Tradução e Consultoria Empresarial Ltda | B7: 12 | C7: 12 | D7: PRESTAÇÃO DE SERVIÇO DE TRADUÇÃO SIMULTÂNEA: língua Inglesa para a língua Portuguesa e da língua Portuguesa para a língua Inglesa. | E7: 339039-99 | F7: HORA | G7: 217.89 | I7: =H7-(SUM(K7:V7)) -> 0 | J7: =IF(I7<0,"ATENÇÃO","OK") -> OK | K7: 0 | L7: 0 | M7: 0 | N7: 0 | O7: 0 | P7: 0 | Q7: 0 | R7: 0 | S7: 0 | T7: 0 | U7: 0 | V7: 0
A8: Translateway Idiomas, Tradução e Consultoria Empresarial Ltda | B8: 15 | C8: 15 | D8: PRESTAÇÃO DE SERVIÇO DE TRADUÇÃO SIMULTÂNEA: língua francesa para a língua Portuguesa e da língua Portuguesa para a língua francesa. | E8: 339039-99 | F8: HORA | G8: 232 | I8: =H8-(SUM(K8:V8)) -> 0 | J8: =IF(I8<0,"ATENÇÃO","OK") -> OK | K8: 0 | L8: 0 | M8: 0 | N8: 0 | O8: 0 | P8: 0 | Q8: 0 | R8: 0 | S8: 0 | T8: 0 | U8: 0 | V8: 0
B9: 16 | C9: 16 | D9: PRESTAÇÃO DE SERVIÇO DE TRADUÇÃO SIMULTÂNEA: língua italiana para a língua Portuguesa e da língua Portuguesa para a língua italiana. | E9: 339039-99 | F9: HORA | G9: 230 | I9: =H9-(SUM(K9:V9)) -> 0 | J9: =IF(I9<0,"ATENÇÃO","OK") -> OK | K9: 0 | L9: 0 | M9: 0 | N9: 0 | O9: 0 | P9: 0 | Q9: 0 | R9: 0 | S9: 0 | T9: 0 | U9: 0 | V9: 0
B10: 17 | C10: 17 | D10: PRESTAÇÃO DE SERVIÇO DE TRADUÇÃO CONSECUTIVA : língua francesa para a língua Portuguesa e da língua Portuguesa para a língua francesa. | E10: 339039-99 | F10: HORA | G10: 230 | I10: =H10-(SUM(K10:V10)) -> 0 | J10: =IF(I10<0,"ATENÇÃO","OK") -> OK | K10: 0 | L10: 0 | M10: 0 | N10: 0 | O10: 0 | P10: 0 | Q10: 0 | R10: 0 | S10: 0 | T10: 0 | U10: 0 | V10: 0
B11: 18 | C11: 18 | D11: PRESTAÇÃO DE SERVIÇO DE TRADUÇÃO CONSECUTIVA : língua inglesa para a língua Portuguesa e da língua Portuguesa para a língua inglesa. | E11: 339039-99 | F11: HORA | G11: 230 | I11: =H11-(SUM(K11:V11)) -> 0 | J11: =IF(I11<0,"ATENÇÃO","OK") -> OK | K11: 0 | L11: 0 | M11: 0 | N11: 0 | O11: 0 | P11: 0 | Q11: 0 | R11: 0 | S11: 0 | T11: 0 | U11: 0 | V11: 0
D13: *Prazos de Entrega e de Pagamento conforme Termo de Referência do Edital
D14: *Itens 1 ao 8, 13 e 14 infrutíferos

Sheet CEAD
A1: PROCESSO: 1072/2014/UDESC | D1: OBJETO: Contratação de Empresa Prestadora de Serviço de Revisão, Tradução de Textos e Tradução Simultânea | H1: VIGÊNCIA DA ATA: 07/11/2014 até 06/11/2015 | K1: AF/OS nº xxxx/2014 Qtde. DT | L1: AF/OS nº xxxx/2014 Qtde. DT | M1: AF/OS nº xxxx/2014 Qtde. DT | N1: AF/OS nº xxxx/2014 Qtde. DT | O1: AF/OS nº xxxx/2014 Qtde. DT | P1: AF/OS nº xxxx/2014 Qtde. DT | Q1: AF/OS nº xxxx/2014 Qtde. DT | R1: AF/OS nº xxxx/2014 Qtde. DT | S1: AF/OS nº xxxx/2014 Qtde. DT | T1: AF/OS nº xxxx/2014 Qtde. DT | U1: AF/OS nº xxxx/2014 Qtde. DT | V1: AF/OS nº xxxx/2014 Qtde. DT
A2: CENTRO PARTICIPANTE: CEAD
A3: FORNECEDOR | B3: LOTE | C3: ITEM | D3: PRODUTO - CARACTERÍSTICAS MÍNIMAS | E3: ELEMENTO | F3: UNIDADE | G3: Preço UNITÁRIO (R$) | H3: Qtde LICITADA | I3: Saldo / Automático | J3: ALERTA | K3: ...../...../...... | L3: ...../...../...... | M3: ...../...../...... | N3: ...../...../...... | O3: ...../...../...... | P3: ...../...../...... | Q3: ...../...../...... | R3: ...../...../...... | S3: ...../...../...... | T3: ...../...../...... | U3: ...../...../...... | V3: ...../...../......
A4: On The Road Curso de Idiomas Ltda - Me | B4: 9 | C4: 9 | D4: PRESTAÇÃO DE SERVIÇO DE REVISÃO DE TEXTO CORRIDO EM LINGUA ESTRANGEIRA: Revisão de texto corrido na língua estrangeira (Inglesa) corrido no formato Word. Uma lauda equivale a 2100 caracteres com espaçamento, ou fração conforme memorial descritivo. Qualidade compativel com os periódios Qualis A (CAPES). | E4: 339039-99 | F4: LAUDA | G4: 31.36 | I4: =H4-(SUM(K4:V4)) -> 0 | J4: =IF(I4<0,"ATENÇÃO","OK") -> OK | K4: 0 | L4: 0 | M4: 0 | N4: 0 | O4: 0 | P4: 0 | Q4: 0 | R4: 0 | S4: 0 | T4: 0 | U4: 0 | V4: 0
B5: 10 | C5: 10 | D5: PRESTAÇÃO DE SERVIÇO DE REVISÃO DE TEXTO CORRIDO EM LINGUA ESTRANGEIRA: Revisão de texto corrido na língua estrangeira (Francesa) corrido no formato Word. Uma lauda equivale a 2100 caracteres com espaçamento, ou fração conforme memorial descritivo. Qualidade compativel com os periódios Qualis A (CAPES). | E5: 339039-99 | F5: LAUDA | G5: 31.25 | I5: =H5-(SUM(K5:V5)) -> 0 | J5: =IF(I5<0,"ATENÇÃO","OK") -> OK | K5: 0 | L5: 0 | M5: 0 | N5: 0 | O5: 0 | P5: 0 | Q5: 0 | R5: 0 | S5: 0 | T5: 0 | U5: 0 | V5: 0
B6: 11 | C6: 11 | D6: PRESTAÇÃO DE SERVIÇO DE REVISÃO DE TEXTO CORRIDO EM LINGUA ESTRANGEIRA: Revisão de texto corrido na língua estrangeira (Espanhola) corrido no formato Word. Uma lauda equivale a 2100 caracteres com espaçamento, ou fração conforme memorial descritivo. Qualidade compativel com os periódios Qualis A (CAPES). | E6: 339039-99 | F6: LAUDA | G6: 22.11 | I6: =H6-(SUM(K6:V6)) -> 0 | J6: =IF(I6<0,"ATENÇÃO","OK") -> OK | K6: 0 | L6: 0 | M6: 0 | N6: 0 | O6: 0 | P6: 0 | Q6: 0 | R6: 0 | S6: 0 | T6: 0 | U6: 0 | V6: 0
A7: Translateway Idiomas, Tradução e Consultoria Empresarial Ltda | B7: 12 | C7: 12 | D7: PRESTAÇÃO DE SERVIÇO DE TRADUÇÃO SIMULTÂNEA: língua Inglesa para a língua Portuguesa e da língua Portuguesa para a língua Inglesa. | E7: 339039-99 | F7: HORA | G7: 217.89 | I7: =H7-(SUM(K7:V7)) -> 0 | J7: =IF(I7<0,"ATENÇÃO","OK") -> OK | K7: 0 | L7: 0 | M7: 0 | N7: 0 | O7: 0 | P7: 0 | Q7: 0 | R7: 0 | S7: 0 | T7: 0 | U7: 0 | V7: 0
A8: Translateway Idiomas, Tradução e Consultoria Empresarial Ltda | B8: 15 | C8: 15 | D8: PRESTAÇÃO DE SERVIÇO DE TRADUÇÃO SIMULTÂNEA: língua francesa para a língua Portuguesa e da língua Portuguesa para a língua francesa. | E8: 339039-99 | F8: HORA | G8: 232 | I8: =H8-(SUM(K8:V8)) -> 0 | J8: =IF(I8<0,"ATENÇÃO","OK") -> OK | K8: 0 | L8: 0 | M8: 0 | N8: 0 | O8: 0 | P8: 0 | Q8: 0 | R8: 0 | S8: 0 | T8: 0 | U8: 0 | V8: 0
B9: 16 | C9: 16 | D9: PRESTAÇÃO DE SERVIÇO DE TRADUÇÃO SIMULTÂNEA: língua italiana para a língua Portuguesa e da língua Portuguesa para a língua italiana. | E9: 339039-99 | F9: HORA | G9: 230 | I9: =H9-(SUM(K9:V9)) -> 0 | J9: =IF(I9<0,"ATENÇÃO","OK") -> OK | K9: 0 | L9: 0 | M9: 0 | N9: 0 | O9: 0 | P9: 0 | Q9: 0 | R9: 0 | S9: 0 | T9: 0 | U9: 0 | V9: 0
B10: 17 | C10: 17 | D10: PRESTAÇÃO DE SERVIÇO DE TRADUÇÃO CONSECUTIVA : língua francesa para a língua Portuguesa e da língua Portuguesa para a língua francesa. | E10: 339039-99 | F10: HORA | G10: 230 | I10: =H10-(SUM(K10:V10)) -> 0 | J10: =IF(I10<0,"ATENÇÃO","OK") -> OK | K10: 0 | L10: 0 | M10: 0 | N10: 0 | O10: 0 | P10: 0 | Q10: 0 | R10: 0 | S10: 0 | T10: 0 | U10: 0 | V10: 0
B11: 18 | C11: 18 | D11: PRESTAÇÃO DE SERVIÇO DE TRADUÇÃO CONSECUTIVA : língua inglesa para a língua Portuguesa e da língua Portuguesa para a língua inglesa. | E11: 339039-99 | F11: HORA | G11: 230 | I11: =H11-(SUM(K11:V11)) -> 0 | J11: =IF(I11<0,"ATENÇÃO","OK") -> OK | K11: 0 | L11: 0 | M11: 0 | N11: 0 | O11: 0 | P11: 0 | Q11: 0 | R11: 0 | S11: 0 | T11: 0 | U11: 0 | V11: 0
D13: *Prazos de Entrega e de Pagamento conforme Termo de Referência do Edital
D14: *Itens 1 ao 8, 13 e 14 infrutíferos

Sheet CEFID
A1: PROCESSO: 1072/2014/UDESC | D1: OBJETO: Contratação de Empresa Prestadora de Serviço de Revisão, Tradução de Textos e Tradução Simultânea | H1: VIGÊNCIA DA ATA: 07/11/2014 até 06/11/2015 | K1: AF/OS nº xxxx/2014 Qtde. DT | L1: AF/OS nº xxxx/2014 Qtde. DT | M1: AF/OS nº xxxx/2014 Qtde. DT | N1: AF/OS nº xxxx/2014 Qtde. DT | O1: AF/OS nº xxxx/2014 Qtde. DT | P1: AF/OS nº xxxx/2014 Qtde. DT | Q1: AF/OS nº xxxx/2014 Qtde. DT | R1: AF/OS nº xxxx/2014 Qtde. DT | S1: AF/OS nº xxxx/2014 Qtde. DT | T1: AF/OS nº xxxx/2014 Qtde. DT | U1: AF/OS nº xxxx/2014 Qtde. DT | V1: AF/OS nº xxxx/2014 Qtde. DT
A2: CENTRO PARTICIPANTE: CEFID
A3: FORNECEDOR | B3: LOTE | C3: ITEM | D3: PRODUTO - CARACTERÍSTICAS MÍNIMAS | E3: ELEMENTO | F3: UNIDADE | G3: Preço UNITÁRIO (R$) | H3: Qtde LICITADA | I3: Saldo / Automático | J3: ALERTA | K3: ...../...../...... | L3: ...../...../...... | M3: ...../...../...... | N3: ...../...../...... | O3: ...../...../...... | P3: ...../...../...... | Q3: ...../...../...... | R3: ...../...../...... | S3: ...../...../...... | T3: ...../...../...... | U3: ...../...../...... | V3: ...../...../......
A4: On The Road Curso de Idiomas Ltda - Me | B4: 9 | C4: 9 | D4: PRESTAÇÃO DE SERVIÇO DE REVISÃO DE TEXTO CORRIDO EM LINGUA ESTRANGEIRA: Revisão de texto corrido na língua estrangeira (Inglesa) corrido no formato Word. Uma lauda equivale a 2100 caracteres com espaçamento, ou fração conforme memorial descritivo. Qualidade compativel com os periódios Qualis A (CAPES). | E4: 339039-99 | F4: LAUDA | G4: 31.36 | I4: =H4-(SUM(K4:V4)) -> 0 | J4: =IF(I4<0,"ATENÇÃO","OK") -> OK | K4: 0 | L4: 0 | M4: 0 | N4: 0 | O4: 0 | P4: 0 | Q4: 0 | R4: 0 | S4: 0 | T4: 0 | U4: 0 | V4: 0
B5: 10 | C5: 10 | D5: PRESTAÇÃO DE SERVIÇO DE REVISÃO DE TEXTO CORRIDO EM LINGUA ESTRANGEIRA: Revisão de texto corrido na língua estrangeira (Francesa) corrido no formato Word. Uma lauda equivale a 2100 caracteres com espaçamento, ou fração conforme memorial descritivo. Qualidade compativel com os periódios Qualis A (CAPES). | E5: 339039-99 | F5: LAUDA | G5: 31.25 | I5: =H5-(SUM(K5:V5)) -> 0 | J5: =IF(I5<0,"ATENÇÃO","OK") -> OK | K5: 0 | L5: 0 | M5: 0 | N5: 0 | O5: 0 | P5: 0 | Q5: 0 | R5: 0 | S5: 0 | T5: 0 | U5: 0 | V5: 0
B6: 11 | C6: 11 | D6: PRESTAÇÃO DE SERVIÇO DE REVISÃO DE TEXTO CORRIDO EM LINGUA ESTRANGEIRA: Revisão de texto corrido na língua estrangeira (Espanhola) corrido no formato Word. Uma lauda equivale a 2100 caracteres com espaçamento, ou fração conforme memorial descritivo. Qualidade compativel com os periódios Qualis A (CAPES). | E6: 339039-99 | F6: LAUDA | G6: 22.11 | H6: 60 | I6: =H6-(SUM(K6:V6)) -> 60 | J6: =IF(I6<0,"ATENÇÃO","OK") -> OK | K6: 0 | L6: 0 | M6: 0 | N6: 0 | O6: 0 | P6: 0 | Q6: 0 | R6: 0 | S6: 0 | T6: 0 | U6: 0 | V6: 0
A7: Translateway Idiomas, Tradução e Consultoria Empresarial Ltda | B7: 12 | C7: 12 | D7: PRESTAÇÃO DE SERVIÇO DE TRADUÇÃO SIMULTÂNEA: língua Inglesa para a língua Portuguesa e da língua Portuguesa para a língua Inglesa. | E7: 339039-99 | F7: HORA | G7: 217.89 | I7: =H7-(SUM(K7:V7)) -> 0 | J7: =IF(I7<0,"ATENÇÃO","OK") -> OK | K7: 0 | L7: 0 | M7: 0 | N7: 0 | O7: 0 | P7: 0 | Q7: 0 | R7: 0 | S7: 0 | T7: 0 | U7: 0 | V7: 0
A8: Translateway Idiomas, Tradução e Consultoria Empresarial Ltda | B8: 15 | C8: 15 | D8: PRESTAÇÃO DE SERVIÇO DE TRADUÇÃO SIMULTÂNEA: língua francesa para a língua Portuguesa e da língua Portuguesa para a língua francesa. | E8: 339039-99 | F8: HORA | G8: 232 | I8: =H8-(SUM(K8:V8)) -> 0 | J8: =IF(I8<0,"ATENÇÃO","OK") -> OK | K8: 0 | L8: 0 | M8: 0 | N8: 0 | O8: 0 | P8: 0 | Q8: 0 | R8: 0 | S8: 0 | T8: 0 | U8: 0 | V8: 0
B9: 16 | C9: 16 | D9: PRESTAÇÃO DE SERVIÇO DE TRADUÇÃO SIMULTÂNEA: língua italiana para a língua Portuguesa e da língua Portuguesa para a língua italiana. | E9: 339039-99 | F9: HORA | G9: 230 | I9: =H9-(SUM(K9:V9)) -> 0 | J9: =IF(I9<0,"ATENÇÃO","OK") -> OK | K9: 0 | L9: 0 | M9: 0 | N9: 0 | O9: 0 | P9: 0 | Q9: 0 | R9: 0 | S9: 0 | T9: 0 | U9: 0 | V9: 0
B10: 17 | C10: 17 | D10: PRESTAÇÃO DE SERVIÇO DE TRADUÇÃO CONSECUTIVA : língua francesa para a língua Portuguesa e da língua Portuguesa para a língua francesa. | E10: 339039-99 | F10: HORA | G10: 230 | I10: =H10-(SUM(K10:V10)) -> 0 | J10: =IF(I10<0,"ATENÇÃO","OK") -> OK | K10: 0 | L10: 0 | M10: 0 | N10: 0 | O10: 0 | P10: 0 | Q10: 0 | R10: 0 | S10: 0 | T10: 0 | U10: 0 | V10: 0
B11: 18 | C11: 18 | D11: PRESTAÇÃO DE SERVIÇO DE TRADUÇÃO CONSECUTIVA : língua inglesa para a língua Portuguesa e da língua Portuguesa para a língua inglesa. | E11: 339039-99 | F11: HORA | G11: 230 | I11: =H11-(SUM(K11:V11)) -> 0 | J11: =IF(I11<0,"ATENÇÃO","OK") -> OK | K11: 0 | L11: 0 | M11: 0 | N11: 0 | O11: 0 | P11: 0 | Q11: 0 | R11: 0 | S11: 0 | T11: 0 | U11: 0 | V11: 0
D13: *Prazos de Entrega e de Pagamento conforme Termo de Referência do Edital
D14: *Itens 1 ao 8, 13 e 14 infrutíferos

Sheet PROAP_MOV HUM_CEFID
A1: PROCESSO: 1072/2014/UDESC | D1: OBJETO: Contratação de Empresa Prestadora de Serviço de Revisão, Tradução de Textos e Tradução Simultânea | H1: VIGÊNCIA DA ATA: 07/11/2014 até 06/11/2015 | K1: AF/OS nº xxxx/2014 Qtde. DT | L1: AF/OS nº xxxx/2014 Qtde. DT | M1: AF/OS nº xxxx/2014 Qtde. DT | N1: AF/OS nº xxxx/2014 Qtde. DT | O1: AF/OS nº xxxx/2014 Qtde. DT | P1: AF/OS nº xxxx/2014 Qtde. DT | Q1: AF/OS nº xxxx/2014 Qtde. DT | R1: AF/OS nº xxxx/2014 Qtde. DT | S1: AF/OS nº xxxx/2014 Qtde. DT | T1: AF/OS nº xxxx/2014 Qtde. DT | U1: AF/OS nº xxxx/2014 Qtde. DT | V1: AF/OS nº xxxx/2014 Qtde. DT
A2: CENTRO PARTICIPANTE: PROAP Movimento Humano - CEFID
A3: FORNECEDOR | B3: LOTE | C3: ITEM | D3: PRODUTO - CARACTERÍSTICAS MÍNIMAS | E3: ELEMENTO | F3: UNIDADE | G3: Preço UNITÁRIO (R$) | H3: Qtde LICITADA | I3: Saldo / Automático | J3: ALERTA | K3: ...../...../...... | L3: ...../...../...... | M3: ...../...../...... | N3: ...../...../...... | O3: ...../...../...... | P3: ...../...../...... | Q3: ...../...../...... | R3: ...../...../...... | S3: ...../...../...... | T3: ...../...../...... | U3: ...../...../...... | V3: ...../...../......
A4: On The Road Curso de Idiomas Ltda - Me | B4: 9 | C4: 9 | D4: PRESTAÇÃO DE SERVIÇO DE REVISÃO DE TEXTO CORRIDO EM LINGUA ESTRANGEIRA: Revisão de texto corrido na língua estrangeira (Inglesa) corrido no formato Word. Uma lauda equivale a 2100 caracteres com espaçamento, ou fração conforme memorial descritivo. Qualidade compativel com os periódios Qualis A (CAPES). | E4: 339039-99 | F4: LAUDA | G4: 31.36 | I4: =H4-(SUM(K4:V4)) -> 0 | J4: =IF(I4<0,"ATENÇÃO","OK") -> OK | K4: 0 | L4: 0 | M4: 0 | N4: 0 | O4: 0 | P4: 0 | Q4: 0 | R4: 0 | S4: 0 | T4: 0 | U4: 0 | V4: 0
B5: 10 | C5: 10 | D5: PRESTAÇÃO DE SERVIÇO DE REVISÃO DE TEXTO CORRIDO EM LINGUA ESTRANGEIRA: Revisão de texto corrido na língua estrangeira (Francesa) corrido no formato Word. Uma lauda equivale a 2100 caracteres com espaçamento, ou fração conforme memorial descritivo. Qualidade compativel com os periódios Qualis A (CAPES). | E5: 339039-99 | F5: LAUDA | G5: 31.25 | I5: =H5-(SUM(K5:V5)) -> 0 | J5: =IF(I5<0,"ATENÇÃO","OK") -> OK | K5: 0 | L5: 0 | M5: 0 | N5: 0 | O5: 0 | P5: 0 | Q5: 0 | R5: 0 | S5: 0 | T5: 0 | U5: 0 | V5: 0
B6: 11 | C6: 11 | D6: PRESTAÇÃO DE SERVIÇO DE REVISÃO DE TEXTO CORRIDO EM LINGUA ESTRANGEIRA: Revisão de texto corrido na língua estrangeira (Espanhola) corrido no formato Word. Uma lauda equivale a 2100 caracteres com espaçamento, ou fração conforme memorial descritivo. Qualidade compativel com os periódios Qualis A (CAPES). | E6: 339039-99 | F6: LAUDA | G6: 22.11 | I6: =H6-(SUM(K6:V6)) -> 0 | J6: =IF(I6<0,"ATENÇÃO","OK") -> OK | K6: 0 | L6: 0 | M6: 0 | N6: 0 | O6: 0 | P6: 0 | Q6: 0 | R6: 0 | S6: 0 | T6: 0 | U6: 0 | V6: 0
A7: Translateway Idiomas, Tradução e Consultoria Empresarial Ltda | B7: 12 | C7: 12 | D7: PRESTAÇÃO DE SERVIÇO DE TRADUÇÃO SIMULTÂNEA: língua Inglesa para a língua Portuguesa e da língua Portuguesa para a língua Inglesa. | E7: 339039-99 | F7: HORA | G7: 217.89 | I7: =H7-(SUM(K7:V7)) -> 0 | J7: =IF(I7<0,"ATENÇÃO","OK") -> OK | K7: 0 | L7: 0 | M7: 0 | N7: 0 | O7: 0 | P7: 0 | Q7: 0 | R7: 0 | S7: 0 | T7: 0 | U7: 0 | V7: 0
A8: Translateway Idiomas, Tradução e Consultoria Empresarial Ltda | B8: 15 | C8: 15 | D8: PRESTAÇÃO DE SERVIÇO DE TRADUÇÃO SIMULTÂNEA: língua francesa para a língua Portuguesa e da língua Portuguesa para a língua francesa. | E8: 339039-99 | F8: HORA | G8: 232 | I8: =H8-(SUM(K8:V8)) -> 0 | J8: =IF(I8<0,"ATENÇÃO","OK") -> OK | K8: 0 | L8: 0 | M8: 0 | N8: 0 | O8: 0 | P8: 0 | Q8: 0 | R8: 0 | S8: 0 | T8: 0 | U8: 0 | V8: 0
B9: 16 | C9: 16 | D9: PRESTAÇÃO DE SERVIÇO DE TRADUÇÃO SIMULTÂNEA: língua italiana para a língua Portuguesa e da língua Portuguesa para a língua italiana. | E9: 339039-99 | F9: HORA | G9: 230 | I9: =H9-(SUM(K9:V9)) -> 0 | J9: =IF(I9<0,"ATENÇÃO","OK") -> OK | K9: 0 | L9: 0 | M9: 0 | N9: 0 | O9: 0 | P9: 0 | Q9: 0 | R9: 0 | S9: 0 | T9: 0 | U9: 0 | V9: 0
B10: 17 | C10: 17 | D10: PRESTAÇÃO DE SERVIÇO DE TRADUÇÃO CONSECUTIVA : língua francesa para a língua Portuguesa e da língua Portuguesa para a língua francesa. | E10: 339039-99 | F10: HORA | G10: 230 | I10: =H10-(SUM(K10:V10)) -> 0 | J10: =IF(I10<0,"ATENÇÃO","OK") -> OK | K10: 0 | L10: 0 | M10: 0 | N10: 0 | O10: 0 | P10: 0 | Q10: 0 | R10: 0 | S10: 0 | T10: 0 | U10: 0 | V10: 0
B11: 18 | C11: 18 | D11: PRESTAÇÃO DE SERVIÇO DE TRADUÇÃO CONSECUTIVA : língua inglesa para a língua Portuguesa e da língua Portuguesa para a língua inglesa. | E11: 339039-99 | F11: HORA | G11: 230 | I11: =H11-(SUM(K11:V11)) -> 0 | J11: =IF(I11<0,"ATENÇÃO","OK") -> OK | K11: 0 | L11: 0 | M11: 0 | N11: 0 | O11: 0 | P11: 0 | Q11: 0 | R11: 0 | S11: 0 | T11: 0 | U11: 0 | V11: 0
D13: *Prazos de Entrega e de Pagamento conforme Termo de Referência do Edital
D14: *Itens 1 ao 8, 13 e 14 infrutíferos

Sheet PROAP_FISIO_CEFID
A1: PROCESSO: 1072/2014/UDESC | D1: OBJETO: Contratação de Empresa Prestadora de Serviço de Revisão, Tradução de Textos e Tradução Simultânea | H1: VIGÊNCIA DA ATA: 07/11/2014 até 06/11/2015 | K1: AF/OS nº xxxx/2014 Qtde. DT | L1: AF/OS nº xxxx/2014 Qtde. DT | M1: AF/OS nº xxxx/2014 Qtde. DT | N1: AF/OS nº xxxx/2014 Qtde. DT | O1: AF/OS nº xxxx/2014 Qtde. DT | P1: AF/OS nº xxxx/2014 Qtde. DT | Q1: AF/OS nº xxxx/2014 Qtde. DT | R1: AF/OS nº xxxx/2014 Qtde. DT | S1: AF/OS nº xxxx/2014 Qtde. DT | T1: AF/OS nº xxxx/2014 Qtde. DT | U1: AF/OS nº xxxx/2014 Qtde. DT | V1: AF/OS nº xxxx/2014 Qtde. DT
A2: CENTRO PARTICIPANTE: PROAP Fisioterapia - CEFID
A3: FORNECEDOR | B3: LOTE | C3: ITEM | D3: PRODUTO - CARACTERÍSTICAS MÍNIMAS | E3: ELEMENTO | F3: UNIDADE | G3: Preço UNITÁRIO (R$) | H3: Qtde LICITADA | I3: Saldo / Automático | J3: ALERTA | K3: ...../...../...... | L3: ...../...../...... | M3: ...../...../...... | N3: ...../...../...... | O3: ...../...../...... | P3: ...../...../...... | Q3: ...../...../...... | R3: ...../...../...... | S3: ...../...../...... | T3: ...../...../...... | U3: ...../...../...... | V3: ...../...../......
A4: On The Road Curso de Idiomas Ltda - Me | B4: 9 | C4: 9 | D4: PRESTAÇÃO DE SERVIÇO DE REVISÃO DE TEXTO CORRIDO EM LINGUA ESTRANGEIRA: Revisão de texto corrido na língua estrangeira (Inglesa) corrido no formato Word. Uma lauda equivale a 2100 caracteres com espaçamento, ou fração conforme memorial descritivo. Qualidade compativel com os periódios Qualis A (CAPES). | E4: 339039-99 | F4: LAUDA | G4: 31.36 | I4: =H4-(SUM(K4:V4)) -> 0 | J4: =IF(I4<0,"ATENÇÃO","OK") -> OK | K4: 0 | L4: 0 | M4: 0 | N4: 0 | O4: 0 | P4: 0 | Q4: 0 | R4: 0 | S4: 0 | T4: 0 | U4: 0 | V4: 0
B5: 10 | C5: 10 | D5: PRESTAÇÃO DE SERVIÇO DE REVISÃO DE TEXTO CORRIDO EM LINGUA ESTRANGEIRA: Revisão de texto corrido na língua estrangeira (Francesa) corrido no formato Word. Uma lauda equivale a 2100 caracteres com espaçamento, ou fração conforme memorial descritivo. Qualidade compativel com os periódios Qualis A (CAPES). | E5: 339039-99 | F5: LAUDA | G5: 31.25 | I5: =H5-(SUM(K5:V5)) -> 0 | J5: =IF(I5<0,"ATENÇÃO","OK") -> OK | K5: 0 | L5: 0 | M5: 0 | N5: 0 | O5: 0 | P5: 0 | Q5: 0 | R5: 0 | S5: 0 | T5: 0 | U5: 0 | V5: 0
B6: 11 | C6: 11 | D6: PRESTAÇÃO DE SERVIÇO DE REVISÃO DE TEXTO CORRIDO EM LINGUA ESTRANGEIRA: Revisão de texto corrido na língua estrangeira (Espanhola) corrido no formato Word. Uma lauda equivale a 2100 caracteres com espaçamento, ou fração conforme memorial descritivo. Qualidade compativel com os periódios Qualis A (CAPES). | E6: 339039-99 | F6: LAUDA | G6: 22.11 | I6: =H6-(SUM(K6:V6)) -> 0 | J6: =IF(I6<0,"ATENÇÃO","OK") -> OK | K6: 0 | L6: 0 | M6: 0 | N6: 0 | O6: 0 | P6: 0 | Q6: 0 | R6: 0 | S6: 0 | T6: 0 | U6: 0 | V6: 0
A7: Translateway Idiomas, Tradução e Consultoria Empresarial Ltda | B7: 12 | C7: 12 | D7: PRESTAÇÃO DE SERVIÇO DE TRADUÇÃO SIMULTÂNEA: língua Inglesa para a língua Portuguesa e da língua Portuguesa para a língua Inglesa. | E7: 339039-99 | F7: HORA | G7: 217.89 | I7: =H7-(SUM(K7:V7)) -> 0 | J7: =IF(I7<0,"ATENÇÃO","OK") -> OK | K7: 0 | L7: 0 | M7: 0 | N7: 0 | O7: 0 | P7: 0 | Q7: 0 | R7: 0 | S7: 0 | T7: 0 | U7: 0 | V7: 0
A8: Translateway Idiomas, Tradução e Consultoria Empresarial Ltda | B8: 15 | C8: 15 | D8: PRESTAÇÃO DE SERVIÇO DE TRADUÇÃO SIMULTÂNEA: língua francesa para a língua Portuguesa e da língua Portuguesa para a língua francesa. | E8: 339039-99 | F8: HORA | G8: 232 | I8: =H8-(SUM(K8:V8)) -> 0 | J8: =IF(I8<0,"ATENÇÃO","OK") -> OK | K8: 0 | L8: 0 | M8: 0 | N8: 0 | O8: 0 | P8: 0 | Q8: 0 | R8: 0 | S8: 0 | T8: 0 | U8: 0 | V8: 0
B9: 16 | C9: 16 | D9: PRESTAÇÃO DE SERVIÇO DE TRADUÇÃO SIMULTÂNEA: língua italiana para a língua Portuguesa e da língua Portuguesa para a língua italiana. | E9: 339039-99 | F9: HORA | G9: 230 | I9: =H9-(SUM(K9:V9)) -> 0 | J9: =IF(I9<0,"ATENÇÃO","OK") -> OK | K9: 0 | L9: 0 | M9: 0 | N9: 0 | O9: 0 | P9: 0 | Q9: 0 | R9: 0 | S9: 0 | T9: 0 | U9: 0 | V9: 0
B10: 17 | C10: 17 | D10: PRESTAÇÃO DE SERVIÇO DE TRADUÇÃO CONSECUTIVA : língua francesa para a língua Portuguesa e da língua Portuguesa para a língua francesa. | E10: 339039-99 | F10: HORA | G10: 230 | I10: =H10-(SUM(K10:V10)) -> 0 | J10: =IF(I10<0,"ATENÇÃO","OK") -> OK | K10: 0 | L10: 0 | M10: 0 | N10: 0 | O10: 0 | P10: 0 | Q10: 0 | R10: 0 | S10: 0 | T10: 0 | U10: 0 | V10: 0
B11: 18 | C11: 18 | D11: PRESTAÇÃO DE SERVIÇO DE TRADUÇÃO CONSECUTIVA : língua inglesa para a língua Portuguesa e da língua Portuguesa para a língua inglesa. | E11: 339039-99 | F11: HORA | G11: 230 | I11: =H11-(SUM(K11:V11)) -> 0 | J11: =IF(I11<0,"ATENÇÃO","OK") -> OK | K11: 0 | L11: 0 | M11: 0 | N11: 0 | O11: 0 | P11: 0 | Q11: 0 | R11: 0 | S11: 0 | T11: 0 | U11: 0 | V11: 0
D13: *Prazos de Entrega e de Pagamento conforme Termo de Referência do Edital
D14: *Itens 1 ao 8, 13 e 14 infrutíferos

Sheet CCT
A1: PROCESSO: 1072/2014/UDESC | D1: OBJETO: Contratação de Empresa Prestadora de Serviço de Revisão, Tradução de Textos e Tradução Simultânea | H1: VIGÊNCIA DA ATA: 07/11/2014 até 06/11/2015 | K1: AF/OS nº xxxx/2014 Qtde. DT | L1: AF/OS nº xxxx/2014 Qtde. DT | M1: AF/OS nº xxxx/2014 Qtde. DT | N1: AF/OS nº xxxx/2014 Qtde. DT | O1: AF/OS nº xxxx/2014 Qtde. DT | P1: AF/OS nº xxxx/2014 Qtde. DT | Q1: AF/OS nº xxxx/2014 Qtde. DT | R1: AF/OS nº xxxx/2014 Qtde. DT | S1: AF/OS nº xxxx/2014 Qtde. DT | T1: AF/OS nº xxxx/2014 Qtde. DT | U1: AF/OS nº xxxx/2014 Qtde. DT | V1: AF/OS nº xxxx/2014 Qtde. DT
A2: CENTRO PARTICIPANTE: CCT
A3: FORNECEDOR | B3: LOTE | C3: ITEM | D3: PRODUTO - CARACTERÍSTICAS MÍNIMAS | E3: ELEMENTO | F3: UNIDADE | G3: Preço UNITÁRIO (R$) | H3: Qtde LICITADA | I3: Saldo / Automático | J3: ALERTA | K3: ...../...../...... | L3: ...../...../...... | M3: ...../...../...... | N3: ...../...../...... | O3: ...../...../...... | P3: ...../...../...... | Q3: ...../...../...... | R3: ...../...../...... | S3: ...../...../...... | T3: ...../...../...... | U3: ...../...../...... | V3: ...../...../......
A4: On The Road Curso de Idiomas Ltda - Me | B4: 9 | C4: 9 | D4: PRESTAÇÃO DE SERVIÇO DE REVISÃO DE TEXTO CORRIDO EM LINGUA ESTRANGEIRA: Revisão de texto corrido na língua estrangeira (Inglesa) corrido no formato Word. Uma lauda equivale a 2100 caracteres com espaçamento, ou fração conforme memorial descritivo. Qualidade compativel com os periódios Qualis A (CAPES). | E4: 339039-99 | F4: LAUDA | G4: 31.36 | I4: =H4-(SUM(K4:V4)) -> 0 | J4: =IF(I4<0,"ATENÇÃO","OK") -> OK | K4: 0 | L4: 0 | M4: 0 | N4: 0 | O4: 0 | P4: 0 | Q4: 0 | R4: 0 | S4: 0 | T4: 0 | U4: 0 | V4: 0
B5: 10 | C5: 10 | D5: PRESTAÇÃO DE SERVIÇO DE REVISÃO DE TEXTO CORRIDO EM LINGUA ESTRANGEIRA: Revisão de texto corrido na língua estrangeira (Francesa) corrido no formato Word. Uma lauda equivale a 2100 caracteres com espaçamento, ou fração conforme memorial descritivo. Qualidade compativel com os periódios Qualis A (CAPES). | E5: 339039-99 | F5: LAUDA | G5: 31.25 | I5: =H5-(SUM(K5:V5)) -> 0 | J5: =IF(I5<0,"ATENÇÃO","OK") -> OK | K5: 0 | L5: 0 | M5: 0 | N5: 0 | O5: 0 | P5: 0 | Q5: 0 | R5: 0 | S5: 0 | T5: 0 | U5: 0 | V5: 0
B6: 11 | C6: 11 | D6: PRESTAÇÃO DE SERVIÇO DE REVISÃO DE TEXTO CORRIDO EM LINGUA ESTRANGEIRA: Revisão de texto corrido na língua estrangeira (Espanhola) corrido no formato Word. Uma lauda equivale a 2100 caracteres com espaçamento, ou fração conforme memorial descritivo. Qualidade compativel com os periódios Qualis A (CAPES). | E6: 339039-99 | F6: LAUDA | G6: 22.11 | I6: =H6-(SUM(K6:V6)) -> 0 | J6: =IF(I6<0,"ATENÇÃO","OK") -> OK | K6: 0 | L6: 0 | M6: 0 | N6: 0 | O6: 0 | P6: 0 | Q6: 0 | R6: 0 | S6: 0 | T6: 0 | U6: 0 | V6: 0
A7: Translateway Idiomas, Tradução e Consultoria Empresarial Ltda | B7: 12 | C7: 12 | D7: PRESTAÇÃO DE SERVIÇO DE TRADUÇÃO SIMULTÂNEA: língua Inglesa para a língua Portuguesa e da língua Portuguesa para a língua Inglesa. | E7: 339039-99 | F7: HORA | G7: 217.89 | I7: =H7-(SUM(K7:V7)) -> 0 | J7: =IF(I7<0,"ATENÇÃO","OK") -> OK | K7: 0 | L7: 0 | M7: 0 | N7: 0 | O7: 0 | P7: 0 | Q7: 0 | R7: 0 | S7: 0 | T7: 0 | U7: 0 | V7: 0
A8: Translateway Idiomas, Tradução e Consultoria Empresarial Ltda | B8: 15 | C8: 15 | D8: PRESTAÇÃO DE SERVIÇO DE TRADUÇÃO SIMULTÂNEA: língua francesa para a língua Portuguesa e da língua Portuguesa para a língua francesa. | E8: 339039-99 | F8: HORA | G8: 232 | I8: =H8-(SUM(K8:V8)) -> 0 | J8: =IF(I8<0,"ATENÇÃO","OK") -> OK | K8: 0 | L8: 0 | M8: 0 | N8: 0 | O8: 0 | P8: 0 | Q8: 0 | R8: 0 | S8: 0 | T8: 0 | U8: 0 | V8: 0
B9: 16 | C9: 16 | D9: PRESTAÇÃO DE SERVIÇO DE TRADUÇÃO SIMULTÂNEA: língua italiana para a língua Portuguesa e da língua Portuguesa para a língua italiana. | E9: 339039-99 | F9: HORA | G9: 230 | I9: =H9-(SUM(K9:V9)) -> 0 | J9: =IF(I9<0,"ATENÇÃO","OK") -> OK | K9: 0 | L9: 0 | M9: 0 | N9: 0 | O9: 0 | P9: 0 | Q9: 0 | R9: 0 | S9: 0 | T9: 0 | U9: 0 | V9: 0
B10: 17 | C10: 17 | D10: PRESTAÇÃO DE SERVIÇO DE TRADUÇÃO CONSECUTIVA : língua francesa para a língua Portuguesa e da língua Portuguesa para a língua francesa. | E10: 339039-99 | F10: HORA | G10: 230 | I10: =H10-(SUM(K10:V10)) -> 0 | J10: =IF(I10<0,"ATENÇÃO","OK") -> OK | K10: 0 | L10: 0 | M10: 0 | N10: 0 | O10: 0 | P10: 0 | Q10: 0 | R10: 0 | S10: 0 | T10: 0 | U10: 0 | V10: 0
B11: 18 | C11: 18 | D11: PRESTAÇÃO DE SERVIÇO DE TRADUÇÃO CONSECUTIVA : língua inglesa para a língua Portuguesa e da língua Portuguesa para a língua inglesa. | E11: 339039-99 | F11: HORA | G11: 230 | I11: =H11-(SUM(K11:V11)) -> 0 | J11: =IF(I11<0,"ATENÇÃO","OK") -> OK | K11: 0 | L11: 0 | M11: 0 | N11: 0 | O11: 0 | P11: 0 | Q11: 0 | R11: 0 | S11: 0 | T11: 0 | U11: 0 | V11: 0
D13: *Prazos de Entrega e de Pagamento conforme Termo de Referência do Edital
D14: *Itens 1 ao 8, 13 e 14 infrutíferos

Sheet CEO
A1: PROCESSO: 1072/2014/UDESC | D1: OBJETO: Contratação de Empresa Prestadora de Serviço de Revisão, Tradução de Textos e Tradução Simultânea | H1: VIGÊNCIA DA ATA: 07/11/2014 até 06/11/2015 | K1: AF/OS nº 652/2015 Qtde. DT | L1: AF/OS nº 1113/2015 Qtde. DT | M1: AF/OS nº xxxx/2014 Qtde. DT | N1: AF/OS nº xxxx/2014 Qtde. DT | O1: AF/OS nº xxxx/2014 Qtde. DT | P1: AF/OS nº xxxx/2014 Qtde. DT | Q1: AF/OS nº xxxx/2014 Qtde. DT | R1: AF/OS nº xxxx/2014 Qtde. DT | S1: AF/OS nº xxxx/2014 Qtde. DT | T1: AF/OS nº xxxx/2014 Qtde. DT | U1: AF/OS nº xxxx/2014 Qtde. DT | V1: AF/OS nº xxxx/2014 Qtde. DT
A2: CENTRO PARTICIPANTE: CEO
A3: FORNECEDOR | B3: LOTE | C3: ITEM | D3: PRODUTO - CARACTERÍSTICAS MÍNIMAS | E3: ELEMENTO | F3: UNIDADE | G3: Preço UNITÁRIO (R$) | H3: Qtde LICITADA | I3: Saldo / Automático | J3: ALERTA | K3: 42143 | L3: 42188 | M3: ...../...../...... | N3: ...../...../...... | O3: ...../...../...... | P3: ...../...../...... | Q3: ...../...../...... | R3: ...../...../...... | S3: ...../...../...... | T3: ...../...../...... | U3: ...../...../...... | V3: ...../...../......
A4: On The Road Curso de Idiomas Ltda - Me | B4: 9 | C4: 9 | D4: PRESTAÇÃO DE SERVIÇO DE REVISÃO DE TEXTO CORRIDO EM LINGUA ESTRANGEIRA: Revisão de texto corrido na língua estrangeira (Inglesa) corrido no formato Word. Uma lauda equivale a 2100 caracteres com espaçamento, ou fração conforme memorial descritivo. Qualidade compativel com os periódios Qualis A (CAPES). | E4: 339039-99 | F4: LAUDA | G4: 31.36 | H4: 376 | I4: =H4-(SUM(K4:V4)) -> 343.22 | J4: =IF(I4<0,"ATENÇÃO","OK") -> OK | K4: 17.5 | L4: 15.28 | M4: 0 | N4: 0 | O4: 0 | P4: 0 | Q4: 0 | R4: 0 | S4: 0 | T4: 0 | U4: 0 | V4: 0
B5: 10 | C5: 10 | D5: PRESTAÇÃO DE SERVIÇO DE REVISÃO DE TEXTO CORRIDO EM LINGUA ESTRANGEIRA: Revisão de texto corrido na língua estrangeira (Francesa) corrido no formato Word. Uma lauda equivale a 2100 caracteres com espaçamento, ou fração conforme memorial descritivo. Qualidade compativel com os periódios Qualis A (CAPES). | E5: 339039-99 | F5: LAUDA | G5: 31.25 | I5: =H5-(SUM(K5:V5)) -> 0 | J5: =IF(I5<0,"ATENÇÃO","OK") -> OK | K5: 0 | L5: 0 | M5: 0 | N5: 0 | O5: 0 | P5: 0 | Q5: 0 | R5: 0 | S5: 0 | T5: 0 | U5: 0 | V5: 0
B6: 11 | C6: 11 | D6: PRESTAÇÃO DE SERVIÇO DE REVISÃO DE TEXTO CORRIDO EM LINGUA ESTRANGEIRA: Revisão de texto corrido na língua estrangeira (Espanhola) corrido no formato Word. Uma lauda equivale a 2100 caracteres com espaçamento, ou fração conforme memorial descritivo. Qualidade compativel com os periódios Qualis A (CAPES). | E6: 339039-99 | F6: LAUDA | G6: 22.11 | H6: 256 | I6: =H6-(SUM(K6:V6)) -> 256 | J6: =IF(I6<0,"ATENÇÃO","OK") -> OK | K6: 0 | L6: 0 | M6: 0 | N6: 0 | O6: 0 | P6: 0 | Q6: 0 | R6: 0 | S6: 0 | T6: 0 | U6: 0 | V6: 0
A7: Translateway Idiomas, Tradução e Consultoria Empresarial Ltda | B7: 12 | C7: 12 | D7: PRESTAÇÃO DE SERVIÇO DE TRADUÇÃO SIMULTÂNEA: língua Inglesa para a língua Portuguesa e da língua Portuguesa para a língua Inglesa. | E7: 339039-99 | F7: HORA | G7: 217.89 | H7: 4 | I7: =H7-(SUM(K7:V7)) -> 4 | J7: =IF(I7<0,"ATENÇÃO","OK") -> OK | K7: 0 | L7: 0 | M7: 0 | N7: 0 | O7: 0 | P7: 0 | Q7: 0 | R7: 0 | S7: 0 | T7: 0 | U7: 0 | V7: 0
A8: Translateway Idiomas, Tradução e Consultoria Empresarial Ltda | B8: 15 | C8: 15 | D8: PRESTAÇÃO DE SERVIÇO DE TRADUÇÃO SIMULTÂNEA: língua francesa para a língua Portuguesa e da língua Portuguesa para a língua francesa. | E8: 339039-99 | F8: HORA | G8: 232 | I8: =H8-(SUM(K8:V8)) -> 0 | J8: =IF(I8<0,"ATENÇÃO","OK") -> OK | K8: 0 | L8: 0 | M8: 0 | N8: 0 | O8: 0 | P8: 0 | Q8: 0 | R8: 0 | S8: 0 | T8: 0 | U8: 0 | V8: 0
B9: 16 | C9: 16 | D9: PRESTAÇÃO DE SERVIÇO DE TRADUÇÃO SIMULTÂNEA: língua italiana para a língua Portuguesa e da língua Portuguesa para a língua italiana. | E9: 339039-99 | F9: HORA | G9: 230 | I9: =H9-(SUM(K9:V9)) -> 0 | J9: =IF(I9<0,"ATENÇÃO","OK") -> OK | K9: 0 | L9: 0 | M9: 0 | N9: 0 | O9: 0 | P9: 0 | Q9: 0 | R9: 0 | S9: 0 | T9: 0 | U9: 0 | V9: 0
B10: 17 | C10: 17 | D10: PRESTAÇÃO DE SERVIÇO DE TRADUÇÃO CONSECUTIVA : língua francesa para a língua Portuguesa e da língua Portuguesa para a língua francesa. | E10: 339039-99 | F10: HORA | G10: 230 | I10: =H10-(SUM(K10:V10)) -> 0 | J10: =IF(I10<0,"ATENÇÃO","OK") -> OK | K10: 0 | L10: 0 | M10: 0 | N10: 0 | O10: 0 | P10: 0 | Q10: 0 | R10: 0 | S10: 0 | T10: 0 | U10: 0 | V10: 0
B11: 18 | C11: 18 | D11: PRESTAÇÃO DE SERVIÇO DE TRADUÇÃO CONSECUTIVA : língua inglesa para a língua Portuguesa e da língua Portuguesa para a língua inglesa. | E11: 339039-99 | F11: HORA | G11: 230 | I11: =H11-(SUM(K11:V11)) -> 0 | J11: =IF(I11<0,"ATENÇÃO","OK") -> OK | K11: 0 | L11: 0 | M11: 0 | N11: 0 | O11: 0 | P11: 0 | Q11: 0 | R11: 0 | S11: 0 | T11: 0 | U11: 0 | V11: 0
D13: *Prazos de Entrega e de Pagamento conforme Termo de Referência do Edital
D14: *Itens 1 ao 8, 13 e 14 infrutíferos

Sheet GESTOR
A1: PROCESSO: 1072/2014/UDESC | D1: OBJETO: Contratação de Empresa Prestadora de Serviço de Revisão, Tradução de Textos e Tradução Simultânea | H1: VIGÊNCIA DA ATA: 07/11/2014 até 06/11/2015
A2: CENTRO PARTICIPANTE: Reitoria, ESAG, CEART, FAED, CEAD, CAEFID, CCT e CEO
A3: FORNECEDOR | B3: LOTE | C3: ITEM | D3: PRODUTO - CARACTERÍSTICAS MÍNIMAS | E3: ELEMENTO | F3: UNIDADE | G3: Preço UNITÁRIO (R$) | H3: Qtde Registrada + Aditivos | I3: Quantidade Utilizada | J3: SALDO | K3: Valor Total Registrado | L3: Valor Total Utilizado
A4: On The Road Curso de Idiomas Ltda - Me | B4: 9 | C4: 9 | D4: PRESTAÇÃO DE SERVIÇO DE REVISÃO DE TEXTO CORRIDO EM LINGUA ESTRANGEIRA: Revisão de texto corrido na língua estrangeira (Inglesa) corrido no formato Word. Uma lauda equivale a 2100 caracteres com espaçamento, ou fração conforme memorial descritivo. Qualidade compativel com os periódios Qualis A (CAPES). | E4: 339039-99 | F4: LAUDA | G4: 31.36 | H4: =Reitoria_PROEX!H4+Reitoria_SCII!H4+ESAG!H4+CEART!H4+FAED!H4+'IV UNIAFRO_FAED'!H4+CEAD!H4+CEFID!H4+'PROAP_MOV HUM_CEFID'!H4+PROAP_FISIO_CEFID!H4+CCT!H4+CEO!H4 -> 1116 | I4: =(Reitoria_PROEX!H4-Reitoria_PROEX!I4)+(Reitoria_SCII!H4-Reitoria_SCII!I4)+(ESAG!H4-ESAG!I4)+(CEART!H4-CEART!I4)+(FAED!H4-FAED!I4)+('IV UNIAFRO_FAED'!H4-'IV UNIAFRO_FAED'!I4)+(CEAD!H4-CEAD!I4)+(CEFID!H4-CEFID!I4)+('PROAP_MOV HUM_CEFID'!H4-'PROAP_MOV HUM_CEFID'!I4)+(PROAP_FISIO_CEFID!H4-PROAP_FISIO_CEFID!I4)+(CCT!H4-CCT!I4)+(CEO!H4-CEO!I4) -> 32.78 | J4: =H4-I4 -> 1083.22 | K4: =G4*H4 -> 34997.76 | L4: =G4*I4 -> 1027.9808
B5: 10 | C5: 10 | D5: PRESTAÇÃO DE SERVIÇO DE REVISÃO DE TEXTO CORRIDO EM LINGUA ESTRANGEIRA: Revisão de texto corrido na língua estrangeira (Francesa) corrido no formato Word. Uma lauda equivale a 2100 caracteres com espaçamento, ou fração conforme memorial descritivo. Qualidade compativel com os periódios Qualis A (CAPES). | E5: 339039-99 | F5: LAUDA | G5: 31.25 | H5: =Reitoria_PROEX!H5+Reitoria_SCII!H5+ESAG!H5+CEART!H5+FAED!H5+'IV UNIAFRO_FAED'!H5+CEAD!H5+CEFID!H5+'PROAP_MOV HUM_CEFID'!H5+PROAP_FISIO_CEFID!H5+CCT!H5+CEO!H5 -> 320 | I5: =(Reitoria_PROEX!H5-Reitoria_PROEX!I5)+(Reitoria_SCII!H5-Reitoria_SCII!I5)+(ESAG!H5-ESAG!I5)+(CEART!H5-CEART!I5)+(FAED!H5-FAED!I5)+('IV UNIAFRO_FAED'!H5-'IV UNIAFRO_FAED'!I5)+(CEAD!H5-CEAD!I5)+(CEFID!H5-CEFID!I5)+('PROAP_MOV HUM_CEFID'!H5-'PROAP_MOV HUM_CEFID'!I5)+(PROAP_FISIO_CEFID!H5-PROAP_FISIO_CEFID!I5)+(CCT!H5-CCT!I5)+(CEO!H5-CEO!I5) -> 0 | J5: =H5-I5 -> 320 | K5: =G5*H5 -> 10000 | L5: =G5*I5 -> 0
B6: 11 | C6: 11 | D6: PRESTAÇÃO DE SERVIÇO DE REVISÃO DE TEXTO CORRIDO EM LINGUA ESTRANGEIRA: Revisão de texto corrido na língua estrangeira (Espanhola) corrido no formato Word. Uma lauda equivale a 2100 caracteres com espaçamento, ou fração conforme memorial descritivo. Qualidade compativel com os periódios Qualis A (CAPES). | E6: 339039-99 | F6: LAUDA | G6: 22.11 | H6: =Reitoria_PROEX!H6+Reitoria_SCII!H6+ESAG!H6+CEART!H6+FAED!H6+'IV UNIAFRO_FAED'!H6+CEAD!H6+CEFID!H6+'PROAP_MOV HUM_CEFID'!H6+PROAP_FISIO_CEFID!H6+CCT!H6+CEO!H6 -> 687 | I6: =(Reitoria_PROEX!H6-Reitoria_PROEX!I6)+(Reitoria_SCII!H6-Reitoria_SCII!I6)+(ESAG!H6-ESAG!I6)+(CEART!H6-CEART!I6)+(FAED!H6-FAED!I6)+('IV UNIAFRO_FAED'!H6-'IV UNIAFRO_FAED'!I6)+(CEAD!H6-CEAD!I6)+(CEFID!H6-CEFID!I6)+('PROAP_MOV HUM_CEFID'!H6-'PROAP_MOV HUM_CEFID'!I6)+(PROAP_FISIO_CEFID!H6-PROAP_FISIO_CEFID!I6)+(CCT!H6-CCT!I6)+(CEO!H6-CEO!I6) -> 188 | J6: =H6-I6 -> 499 | K6: =G6*H6 -> 15189.57 | L6: =G6*I6 -> 4156.68
A7: Translateway Idiomas, Tradução e Consultoria Empresarial Ltda | B7: 12 | C7: 12 | D7: PRESTAÇÃO DE SERVIÇO DE TRADUÇÃO SIMULTÂNEA: língua Inglesa para a língua Portuguesa e da língua Portuguesa para a língua Inglesa. | E7: 339039-99 | F7: HORA | G7: 217.89 | H7: =Reitoria_PROEX!H7+Reitoria_SCII!H7+ESAG!H7+CEART!H7+FAED!H7+'IV UNIAFRO_FAED'!H7+CEAD!H7+CEFID!H7+'PROAP_MOV HUM_CEFID'!H7+PROAP_FISIO_CEFID!H7+CCT!H7+CEO!H7 -> 257 | I7: =(Reitoria_PROEX!H7-Reitoria_PROEX!I7)+(Reitoria_SCII!H7-Reitoria_SCII!I7)+(ESAG!H7-ESAG!I7)+(CEART!H7-CEART!I7)+(FAED!H7-FAED!I7)+('IV UNIAFRO_FAED'!H7-'IV UNIAFRO_FAED'!I7)+(CEAD!H7-CEAD!I7)+(CEFID!H7-CEFID!I7)+('PROAP_MOV HUM_CEFID'!H7-'PROAP_MOV HUM_CEFID'!I7)+(PROAP_FISIO_CEFID!H7-PROAP_FISIO_CEFID!I7)+(CCT!H7-CCT!I7)+(CEO!H7-CEO!I7) -> 40 | J7: =H7-I7 -> 217 | K7: =G7*H7 -> 55997.73 | L7: =G7*I7 -> 8715.6
A8: Translateway Idiomas, Tradução e Consultoria Empresarial Ltda | B8: 15 | C8: 15 | D8: PRESTAÇÃO DE SERVIÇO DE TRADUÇÃO SIMULTÂNEA: língua francesa para a língua Portuguesa e da língua Portuguesa para a língua francesa. | E8: 339039-99 | F8: HORA | G8: 232 | H8: =Reitoria_PROEX!H8+Reitoria_SCII!H8+ESAG!H8+CEART!H8+FAED!H8+'IV UNIAFRO_FAED'!H8+CEAD!H8+CEFID!H8+'PROAP_MOV HUM_CEFID'!H8+PROAP_FISIO_CEFID!H8+CCT!H8+CEO!H8 -> 5 | I8: =(Reitoria_PROEX!H8-Reitoria_PROEX!I8)+(Reitoria_SCII!H8-Reitoria_SCII!I8)+(ESAG!H8-ESAG!I8)+(CEART!H8-CEART!I8)+(FAED!H8-FAED!I8)+('IV UNIAFRO_FAED'!H8-'IV UNIAFRO_FAED'!I8)+(CEAD!H8-CEAD!I8)+(CEFID!H8-CEFID!I8)+('PROAP_MOV HUM_CEFID'!H8-'PROAP_MOV HUM_CEFID'!I8)+(PROAP_FISIO_CEFID!H8-PROAP_FISIO_CEFID!I8)+(CCT!H8-CCT!I8)+(CEO!H8-CEO!I8) -> 0 | J8: =H8-I8 -> 5 | K8: =G8*H8 -> 1160 | L8: =G8*I8 -> 0
B9: 16 | C9: 16 | D9: PRESTAÇÃO DE SERVIÇO DE TRADUÇÃO SIMULTÂNEA: língua italiana para a língua Portuguesa e da língua Portuguesa para a língua italiana. | E9: 339039-99 | F9: HORA | G9: 230 | H9: =Reitoria_PROEX!H9+Reitoria_SCII!H9+ESAG!H9+CEART!H9+FAED!H9+'IV UNIAFRO_FAED'!H9+CEAD!H9+CEFID!H9+'PROAP_MOV HUM_CEFID'!H9+PROAP_FISIO_CEFID!H9+CCT!H9+CEO!H9 -> 5 | I9: =(Reitoria_PROEX!H9-Reitoria_PROEX!I9)+(Reitoria_SCII!H9-Reitoria_SCII!I9)+(ESAG!H9-ESAG!I9)+(CEART!H9-CEART!I9)+(FAED!H9-FAED!I9)+('IV UNIAFRO_FAED'!H9-'IV UNIAFRO_FAED'!I9)+(CEAD!H9-CEAD!I9)+(CEFID!H9-CEFID!I9)+('PROAP_MOV HUM_CEFID'!H9-'PROAP_MOV HUM_CEFID'!I9)+(PROAP_FISIO_CEFID!H9-PROAP_FISIO_CEFID!I9)+(CCT!H9-CCT!I9)+(CEO!H9-CEO!I9) -> 0 | J9: =H9-I9 -> 5 | K9: =G9*H9 -> 1150 | L9: =G9*I9 -> 0
B10: 17 | C10: 17 | D10: PRESTAÇÃO DE SERVIÇO DE TRADUÇÃO CONSECUTIVA : língua francesa para a língua Portuguesa e da língua Portuguesa para a língua francesa. | E10: 339039-99 | F10: HORA | G10: 230 | H10: =Reitoria_PROEX!H10+Reitoria_SCII!H10+ESAG!H10+CEART!H10+FAED!H10+'IV UNIAFRO_FAED'!H10+CEAD!H10+CEFID!H10+'PROAP_MOV HUM_CEFID'!H10+PROAP_FISIO_CEFID!H10+CCT!H10+CEO!H10 -> 10 | I10: =(Reitoria_PROEX!H10-Reitoria_PROEX!I10)+(Reitoria_SCII!H10-Reitoria_SCII!I10)+(ESAG!H10-ESAG!I10)+(CEART!H10-CEART!I10)+(FAED!H10-FAED!I10)+('IV UNIAFRO_FAED'!H10-'IV UNIAFRO_FAED'!I10)+(CEAD!H10-CEAD!I10)+(CEFID!H10-CEFID!I10)+('PROAP_MOV HUM_CEFID'!H10-'PROAP_MOV HUM_CEFID'!I10)+(PROAP_FISIO_CEFID!H10-PROAP_FISIO_CEFID!I10)+(CCT!H10-CCT!I10)+(CEO!H10-CEO!I10) -> 0 | J10: =H10-I10 -> 10 | K10: =G10*H10 -> 2300 | L10: =G10*I10 -> 0
B11: 18 | C11: 18 | D11: PRESTAÇÃO DE SERVIÇO DE TRADUÇÃO CONSECUTIVA : língua inglesa para a língua Portuguesa e da língua Portuguesa para a língua inglesa. | E11: 339039-99 | F11: HORA | G11: 230 | H11: =Reitoria_PROEX!H11+Reitoria_SCII!H11+ESAG!H11+CEART!H11+FAED!H11+'IV UNIAFRO_FAED'!H11+CEAD!H11+CEFID!H11+'PROAP_MOV HUM_CEFID'!H11+PROAP_FISIO_CEFID!H11+CCT!H11+CEO!H11 -> 10 | I11: =(Reitoria_PROEX!H11-Reitoria_PROEX!I11)+(Reitoria_SCII!H11-Reitoria_SCII!I11)+(ESAG!H11-ESAG!I11)+(CEART!H11-CEART!I11)+(FAED!H11-FAED!I11)+('IV UNIAFRO_FAED'!H11-'IV UNIAFRO_FAED'!I11)+(CEAD!H11-CEAD!I11)+(CEFID!H11-CEFID!I11)+('PROAP_MOV HUM_CEFID'!H11-'PROAP_MOV HUM_CEFID'!I11)+(PROAP_FISIO_CEFID!H11-PROAP_FISIO_CEFID!I11)+(CCT!H11-CCT!I11)+(CEO!H11-CEO!I11) -> 0 | J11: =H11-I11 -> 10 | K11: =G11*H11 -> 2300 | L11: =G11*I11 -> 0
K12: =SUM(K4:K11) -> 123095.06 | L12: =SUM(L4:L11) -> 13900.261
D13: *Prazos de Entrega e de Pagamento conforme Termo de Referência do Edital
D14: *Itens 1 ao 8, 13 e 14 infrutíferos | H14: Pregão 1072/2014/UDESC - SRP
H15: Contratação de Empresa Prestadora de Serviço de Revisão, Tradução de Textos e Tradução Simultânea
H16: Vigência 07/11/2014 até 06/11/2015
H17: Valor Total da Ata com Aditivo | L17: =K12 -> 123095.06
H18: Valor Utilizado | L18: =L12 -> 13900.261
H19: % Aditivos | L19: 0
H20: % Utilizado | L20: =L18/L17 -> 0.11292298
H21: Resumo Atualizado em 27/11/2014

Sheet Modelo Anexo II IN 002_2014
A1: ANEXO II – Instrução Normativa n.º 002/2014
A3: DECLARAÇÃO DE DISPONIBILIDADE DE QUANTITATIVO PARA EMISSÃO DE AUTORIZAÇÃO DE FORNECIMENTO/ORDEM DE SERVIÇO – SISTEMA DE REGISTRO DE PREÇOS/UDESC
A5: Processo CPA n.º XXXX/2014
A6: Pregão n.º XXXX/2014
A7: Objeto:
A8: Vigência da Ata de Registro de Preços: XX/XX/XXXX até XX/XX/XXXXX
A10: Declaro que o Centro XXXXXXX, participante da Ata de Registro de Preços proveniente do Pregão n.º XXXX/2014, possui saldo em seu quantitativo para a emissão da Autorização de Fornecimento/Ordem de Serviço n.º XXXX/2014, no valor de R$ X.XXX,XX, a ser firmada com a empresa XXXXXXX, restando ainda em sua cota para próximas contratações com o referido fornecedor os seguintes quantitativos:
A12: Lote | B12: Item | C12: Descrição Resumida | D12: Unidade | E12: Valor Unitário (R$) | F12: Saldo Quantitativo (antes da emissão desta AF/OS) | G12: Quantitativo da AF/OS | H12: Saldo Atualizado
A19: __________________, ____/_____/____
A20: Cidade Data
A24: _____________________________________________
A25: Diretor(a) de Administração
A26: (carimbo e assinatura)
