Workbook

Sheet Manual
A1: MANUAL
A2: Olá.
A3: Esta planilha busca simular o PTI.
A4: Na aba seguinte (abaixo desta tela) "Inserção de Dados" vcs encontrarão um modelo semelhante ao PTI tradicional
A5: As cores representam o seguinte:
B6: Deve ser incluso dados manualmente. LANCEM OS DADOS EXCLUSIVAMENTE NESTES CAMPOS.
B7: Não permite alteração
B8: Calculos efetuados pela planilha. Não permite alteração.
A10: Observem que os campos em verde constarão uma sugestão de carga horária de acordo com a maioria das regras da Resolução 029/2009 e caso algo fique diferente do previsto ficará em vermelho.
A11: Tal situação ocorrerá na ultima linha do PTI (DESENVOLVIMENTO DE CARGA HORÁRIA)
A12: Começem pelo nome do Professor (Deverão buscar na Barra de rolagem ao lado da célula)
B13: Os dados relacionados ao cadastro do professor será automaticamente preenchido nos campos em cinza.
A15: ATIVIDADE DE ENSINO GRADUAÇÃO E PÓS
B16: Basta selecionar a disciplina na barra de rolagem (COLUNA A). Consequentemente o curso e fase será automaticamente inserido na tela.
B17: Planilha calculará no campo em verde a CH máxima e minima de acordo com a qtde de disciplinas
A18: ATIVIDADE DE ORIENTAÇÃO
B19: Informar se é professor vinculado a CAPES.
B20: Selecione a modalidade e verifique no campo em verde a carga horária máxima permitida
A21: PROJETOS DE ENSINO
B22: A informação constante no campo "Participante/Coordenador" definirá o maximo de CH sugerida no campo em verde na mesma linha
A23: ATIVIDADES DE PESQUISA
B24: Informar o enquadramento do prof. Isso definirá o máximo de creditos à alocar cfme resolução. Aparecerá uma mensagem na mesma linha
A25: ATIVIDADES DE EXTENSÃO
B26: Planilha não realiza calculos de CH máxima. Apenas do total acumulado destas atividades.
A27: ATIVIDADES DE ADMINISTRAÇÃO
B28: Informe a atividade e observe na mesma linha o máximo de CH que pode ser alocado.
A29: CAPACITAÇÃO / LICENÇA / COMPLEMENTEO
B30: Planilha não realiza calculos de CH máxima. Apenas do total acumulado destas atividades.
A31: DESENVOLVIMENTO DE CARGA HORÁRIA
B32: Aparecerá em vermelho as inconsistências.
A33: CHEFES DE DPTO
B34: Na aba "POD" constará a mesma já pronta.
A35: OUTRAS ABAS
B36: Desconsiderem. São os bancos de dados utilizados nesta planilha para estrutura o PTI.

Sheet Aike
A1: ANEXO I – RESOLUÇÃO 073/2011 – CONSUNI | R1: Tabela de Cores
A2: UNIVERSIDADE DO ESTADO DE SANTA CATARINA-UDESC | S2: Deve ser incluso dados manualmente
A3: PLANO DE TRABALHO INDIVIDUAL | S3: Não permite alteração
A4: Professor: | D4: Centro de Ciências Agroveterinárias (CAV) | H4: Departamento: | J4: Semestre: 2022/2 | S4: Calculos efetuados pela planilha. Não permite alteração.
A5: Aike Anneliese Kretzschmar | H5: =VLOOKUP(A5,TProfessores[],2,0) -> Agronomia
A7: Categoria Funcional: | D7: Titulação: | H7: Regime: | J7: Classe:
A8: =VLOOKUP(A5,TProfessores[],3,0) -> Efetivo | D8: =VLOOKUP(A5,TProfessores[],5,0) -> Doutor(a) | H8: =VLOOKUP(A5,TProfessores[],7,0) -> Dedicação Integral | I8: =VLOOKUP(A5,TProfessores[],6,0) -> 40 h | J8: =VLOOKUP(A5,TProfessores[],8,0) -> TITULAR
A9: ATIVIDADES DE ENSINO
A10: Disciplinas-Graduação | D10: Curso | F10: Fase | H10: C/H Ensino | J10: Informe a CH Pedagógica | Q10: CH Mínima | R10: CH Máxima
H11: Teórica | I11: Prática | L11: Soma (Oculta) | M11: Fórmula Oculta | N11: Formula para avisar CH pedagógica fora do sugerido | O11: Coluna1 | P11: Referência p coluna F
A12: Fruticultura | D12: =IFERROR(VLOOKUP(A12,TGradeCurricular[],2,0),"") -> Agronomia | F12: =IFERROR(VLOOKUP(A12,TGradeCurricular[],3,0),"") -> 8ª | H12: 2 | I12: 2 | J12: 3 | L12: =SUM(H12:I12) -> 4 | M12: =IF(A12<>0,1,0) -> 1 | N12: =IF(J12<Q12,1,0) -> 0 | O12: =IF(J12>R12,1,0) -> 0 | P12: =SUM(N12:O12) -> 0 | Q12: =L12*0.5 -> 2 | R12: =IFERROR(_xlfn.IFS($M$32=1,L12,$M$32=2,L12,$M$32=3,(L12*1.3),$M$32>3,(L12*1.5)),0) -> 6
A13: Floricultura | D13: =IFERROR(VLOOKUP(A13,TGradeCurricular[],2,0),"") -> Agronomia | F13: =IFERROR(VLOOKUP(A13,TGradeCurricular[],3,0),"") -> Eletiva | H13: 2 | I13: 0 | J13: 3 | L13: =SUM(H13:I13) -> 2 | M13: =IF(A13<>0,1,0) -> 1 | N13: =IF(J13<Q13,1,0) -> 0 | O13: =IF(J13>R13,1,0) -> 0 | P13: =SUM(N13:O13) -> 0 | Q13: =L13*0.5 -> 1 | R13: =IFERROR(_xlfn.IFS($M$32=1,L13,$M$32=2,L13,$M$32=3,(L13*1.3),$M$32>3,(L13*1.5)),0) -> 3
A14: Prod.de Plantas, Med. Arom. e Condimentares | D14: =IFERROR(VLOOKUP(A14,TGradeCurricular[],2,0),"") -> Agronomia | F14: =IFERROR(VLOOKUP(A14,TGradeCurricular[],3,0),"") -> Eletiva | H14: 2 | I14: 0 | J14: 3 | L14: =SUM(H14:I14) -> 2 | M14: =IF(A14<>0,1,0) -> 1 | N14: =IF(J14<Q14,1,0) -> 0 | O14: =IF(J14>R14,1,0) -> 0 | P14: =SUM(N14:O14) -> 0 | Q14: =L14*0.5 -> 1 | R14: =IFERROR(_xlfn.IFS($M$32=1,L14,$M$32=2,L14,$M$32=3,(L14*1.3),$M$32>3,(L14*1.5)),0) -> 3
D15: =IFERROR(VLOOKUP(A15,TGradeCurricular[],2,0),"") | F15: =IFERROR(VLOOKUP(A15,TGradeCurricular[],3,0),"") | L15: =SUM(H15:I15) -> 0 | M15: =IF(A15<>0,1,0) -> 0 | N15: =IF(J15<Q15,1,0) -> 0 | O15: =IF(J15>R15,1,0) -> 0 | P15: =SUM(N15:O15) -> 0 | Q15: =L15*0.5 -> 0 | R15: =IFERROR(_xlfn.IFS($M$32=1,L15,$M$32=2,L15,$M$32=3,(L15*1.3),$M$32>3,(L15*1.5)),0) -> 0
D16: =IFERROR(VLOOKUP(A16,TGradeCurricular[],2,0),"") | F16: =IFERROR(VLOOKUP(A16,TGradeCurricular[],3,0),"") | L16: =SUM(H16:I16) -> 0 | M16: =IF(A16<>0,1,0) -> 0 | N16: =IF(J16<Q16,1,0) -> 0 | O16: =IF(J16>R16,1,0) -> 0 | P16: =SUM(N16:O16) -> 0 | Q16: =L16*0.5 -> 0 | R16: =IFERROR(_xlfn.IFS($M$32=1,L16,$M$32=2,L16,$M$32=3,(L16*1.3),$M$32>3,(L16*1.5)),0) -> 0
D17: =IFERROR(VLOOKUP(A17,TGradeCurricular[],2,0),"") | F17: =IFERROR(VLOOKUP(A17,TGradeCurricular[],3,0),"") | L17: =SUM(H17:I17) -> 0 | M17: =IF(A17<>0,1,0) -> 0 | N17: =IF(J17<Q17,1,0) -> 0 | O17: =IF(J17>R17,1,0) -> 0 | P17: =SUM(N17:O17) -> 0 | Q17: =L17*0.5 -> 0 | R17: =IFERROR(_xlfn.IFS($M$32=1,L17,$M$32=2,L17,$M$32=3,(L17*1.3),$M$32>3,(L17*1.5)),0) -> 0
D18: =IFERROR(VLOOKUP(A18,TGradeCurricular[],2,0),"") | F18: =IFERROR(VLOOKUP(A18,TGradeCurricular[],3,0),"") | L18: =SUM(H18:I18) -> 0 | M18: =IF(A18<>0,1,0) -> 0 | N18: =IF(J18<Q18,1,0) -> 0 | O18: =IF(J18>R18,1,0) -> 0 | P18: =SUM(N18:O18) -> 0 | Q18: =L18*0.5 -> 0 | R18: =IFERROR(_xlfn.IFS($M$32=1,L18,$M$32=2,L18,$M$32=3,(L18*1.3),$M$32>3,(L18*1.5)),0) -> 0
D19: =IFERROR(VLOOKUP(A19,TGradeCurricular[],2,0),"") | F19: =IFERROR(VLOOKUP(A19,TGradeCurricular[],3,0),"") | L19: =SUM(H19:I19) -> 0 | M19: =IF(A19<>0,1,0) -> 0 | N19: =IF(J19<Q19,1,0) -> 0 | O19: =IF(J19>R19,1,0) -> 0 | P19: =SUM(N19:O19) -> 0 | Q19: =L19*0.5 -> 0 | R19: =IFERROR(_xlfn.IFS($M$32=1,L19,$M$32=2,L19,$M$32=3,(L19*1.3),$M$32>3,(L19*1.5)),0) -> 0
D20: =IFERROR(VLOOKUP(A20,TGradeCurricular[],2,0),"") | F20: =IFERROR(VLOOKUP(A20,TGradeCurricular[],3,0),"") | L20: =SUM(H20:I20) -> 0 | M20: =IF(A20<>0,1,0) -> 0 | N20: =IF(J20<Q20,1,0) -> 0 | O20: =IF(J20>R20,1,0) -> 0 | P20: =SUM(N20:O20) -> 0 | Q20: =L20*0.5 -> 0 | R20: =IFERROR(_xlfn.IFS($M$32=1,L20,$M$32=2,L20,$M$32=3,(L20*1.3),$M$32>3,(L20*1.5)),0) -> 0
D21: =IFERROR(VLOOKUP(A21,TGradeCurricular[],2,0),"") | F21: =IFERROR(VLOOKUP(A21,TGradeCurricular[],3,0),"") | L21: =SUM(H21:I21) -> 0 | M21: =IF(A21<>0,1,0) -> 0 | N21: =IF(J21<Q21,1,0) -> 0 | O21: =IF(J21>R21,1,0) -> 0 | P21: =SUM(N21:O21) -> 0 | Q21: =L21*0.5 -> 0 | R21: =IFERROR(_xlfn.IFS($M$32=1,L21,$M$32=2,L21,$M$32=3,(L21*1.3),$M$32>3,(L21*1.5)),0) -> 0
A22: Disciplinas-Pós Graduação | D22: Programa | H22: C/H Ens. | J22: C/H Pedag.
A23: NOME DA DISCIPLINA | D23: =IFERROR(VLOOKUP(Aike!$A23,'Grade Pós'!A:B,2,0),"") -> PROGRAMA | H23: 1 | J23: 1 | L23: =SUM(H23:I23) -> 1 | M23: =IF(A23<>0,1,0) -> 1 | N23: =IF(J23<Q23,1,0) -> 0 | O23: =IF(J23>R23,1,0) -> 0 | P23: =SUM(N23:O23) -> 0 | Q23: =L23*0.5 -> 0.5 | R23: =IFERROR(_xlfn.IFS($M$32=1,L23,$M$32=2,L23,$M$32=3,(L23*1.3),$M$32>3,(L23*1.5)),0) -> 1.5
A24: NOME DA DISCIPLINA | D24: =IFERROR(VLOOKUP(Aike!$A24,'Grade Pós'!A:B,2,0),"") -> PROGRAMA | H24: 0 | J24: 0 | L24: =SUM(H24:I24) -> 0 | M24: =IF(A24<>0,1,0) -> 1 | N24: =IF(J24<Q24,1,0) -> 0 | O24: =IF(J24>R24,1,0) -> 0 | P24: =SUM(N24:O24) -> 0 | Q24: =L24*0.5 -> 0 | R24: =IFERROR(_xlfn.IFS($M$32=1,L24,$M$32=2,L24,$M$32=3,(L24*1.3),$M$32>3,(L24*1.5)),0) -> 0
D25: =IFERROR(VLOOKUP(Aike!$A25,'Grade Pós'!A:B,2,0),"") | L25: =SUM(H25:I25) -> 0 | M25: =IF(A25<>0,1,0) -> 0 | N25: =IF(J25<Q25,1,0) -> 0 | O25: =IF(J25>R25,1,0) -> 0 | P25: =SUM(N25:O25) -> 0 | Q25: =L25*0.5 -> 0 | R25: =IFERROR(_xlfn.IFS($M$32=1,L25,$M$32=2,L25,$M$32=3,(L25*1.3),$M$32>3,(L25*1.5)),0) -> 0
D26: =IFERROR(VLOOKUP(Aike!$A26,'Grade Pós'!A:B,2,0),"") | L26: =SUM(H26:I26) -> 0 | M26: =IF(A26<>0,1,0) -> 0 | N26: =IF(J26<Q26,1,0) -> 0 | O26: =IF(J26>R26,1,0) -> 0 | P26: =SUM(N26:O26) -> 0 | Q26: =L26*0.5 -> 0 | R26: =IFERROR(_xlfn.IFS($M$32=1,L26,$M$32=2,L26,$M$32=3,(L26*1.3),$M$32>3,(L26*1.5)),0) -> 0
D27: =IFERROR(VLOOKUP(Aike!$A27,'Grade Pós'!A:B,2,0),"") | L27: =SUM(H27:I27) -> 0 | M27: =IF(A27<>0,1,0) -> 0 | N27: =IF(J27<Q27,1,0) -> 0 | O27: =IF(J27>R27,1,0) -> 0 | P27: =SUM(N27:O27) -> 0 | Q27: =L27*0.5 -> 0 | R27: =IFERROR(_xlfn.IFS($M$32=1,L27,$M$32=2,L27,$M$32=3,(L27*1.3),$M$32>3,(L27*1.5)),0) -> 0
D28: =IFERROR(VLOOKUP(Aike!$A28,'Grade Pós'!A:B,2,0),"") | L28: =SUM(H28:I28) -> 0 | M28: =IF(A28<>0,1,0) -> 0 | N28: =IF(J28<Q28,1,0) -> 0 | O28: =IF(J28>R28,1,0) -> 0 | P28: =SUM(N28:O28) -> 0 | Q28: =L28*0.5 -> 0 | R28: =IFERROR(_xlfn.IFS($M$32=1,L28,$M$32=2,L28,$M$32=3,(L28*1.3),$M$32>3,(L28*1.5)),0) -> 0
D29: =IFERROR(VLOOKUP(Aike!$A29,'Grade Pós'!A:B,2,0),"") | L29: =SUM(H29:I29) -> 0 | M29: =IF(A29<>0,1,0) -> 0 | N29: =IF(J29<Q29,1,0) -> 0 | O29: =IF(J29>R29,1,0) -> 0 | P29: =SUM(N29:O29) -> 0 | Q29: =L29*0.5 -> 0 | R29: =IFERROR(_xlfn.IFS($M$32=1,L29,$M$32=2,L29,$M$32=3,(L29*1.3),$M$32>3,(L29*1.5)),0) -> 0
D30: =IFERROR(VLOOKUP(Aike!$A30,'Grade Pós'!A:B,2,0),"") | L30: =SUM(H30:I30) -> 0 | M30: =IF(A30<>0,1,0) -> 0 | N30: =IF(J30<Q30,1,0) -> 0 | O30: =IF(J30>R30,1,0) -> 0 | P30: =SUM(N30:O30) -> 0 | Q30: =L30*0.5 -> 0 | R30: =IFERROR(_xlfn.IFS($M$32=1,L30,$M$32=2,L30,$M$32=3,(L30*1.3),$M$32>3,(L30*1.5)),0) -> 0
D31: =IFERROR(VLOOKUP(Aike!$A31,'Grade Pós'!A:B,2,0),"") | L31: =SUM(H31:I31) -> 0 | M31: =IF(A31<>0,1,0) -> 0 | N31: =IF(J31<Q31,1,0) -> 0 | O31: =IF(J31>R31,1,0) -> 0 | P31: =SUM(N31:O31) -> 0 | Q31: =L31*0.5 -> 0 | R31: =IFERROR(_xlfn.IFS($M$32=1,L31,$M$32=2,L31,$M$32=3,(L31*1.3),$M$32>3,(L31*1.5)),0) -> 0
A32: BASE DE DADOS (MANTER OCULTA) | J32: =SUM(J12:K21) -> 9 | K32: =SUM(J12:J31) -> 10 | L32: =SUM(L12:L31) -> 9 | M32: =SUM(M12:M31) -> 5 | N32: =IF(K32<Q32,1,0) -> 0 | O32: =IF(K32>R32,1,0) -> 0 | P32: =SUM(N32:O32) -> 0 | Q32: =L32*0.5 -> 4.5 | R32: =IFERROR(_xlfn.IFS($M$32=1,L32,$M$32=2,L32,$M$32=3,(L32*1.3),$M$32>3,(L32*1.5)),0) -> 13.5
A34: ATIVIDADES DE ORIENTAÇÃO | M34: Para permitir carga horaria menor de 9hs para Funões com mais de 32hs
A35: Professor é vinculado à programas pós graduação Recomendado pela CAPES? | H35: 1 Sim | I35: =IFERROR(VLOOKUP(H35,TCapes[],2),"") -> 1 -Permite Alocar Carga Horária Mínima de 8 Créditos de Ensino | L35: =IF(H35="2 Não",12,8) -> 8 | M35: =MIN(L35,L113) -> 8
A36: Modalidade | D36: Nome do Orientado | H36: Curso/Habilitação | I36: Semestre de Ingresso/Fase | K36: Informe a C/H Semanal | L36: Cálculo do Coord. Estágio | M36: Coluna2 | N36: Coluna3 | O36: Coluna4 | P36: Coluna5 | Q36: CH Mínima | R36: CH Máxima
A37: Dissertação | K37: 2 | L37: =IF(A37="Coordenação de Estágio",1,0) -> 0 | Q37: =IFERROR(VLOOKUP(A37,Dados!$A$85:$D$89,2,0),0) -> 0 | R37: =IFERROR(VLOOKUP(A37,Dados!$A$85:$D$89,3,0),0) -> 2
A38: Tese | K38: 2 | L38: =IF(A38="Coordenação de Estágio",1,0) -> 0 | Q38: =IFERROR(VLOOKUP(A38,Dados!$A$85:$D$89,2,0),0) -> 0 | R38: =IFERROR(VLOOKUP(A38,Dados!$A$85:$D$89,3,0),0) -> 3
L39: =IF(A39="Coordenação de Estágio",1,0) -> 0 | Q39: =IFERROR(VLOOKUP(A39,Dados!$A$85:$D$89,2,0),0) -> 0 | R39: =IFERROR(VLOOKUP(A39,Dados!$A$85:$D$89,3,0),0) -> 0
L40: =IF(A40="Coordenação de Estágio",1,0) -> 0 | Q40: =IFERROR(VLOOKUP(A40,Dados!$A$85:$D$89,2,0),0) -> 0 | R40: =IFERROR(VLOOKUP(A40,Dados!$A$85:$D$89,3,0),0) -> 0
L41: =IF(A41="Coordenação de Estágio",1,0) -> 0 | Q41: =IFERROR(VLOOKUP(A41,Dados!$A$85:$D$89,2,0),0) -> 0 | R41: =IFERROR(VLOOKUP(A41,Dados!$A$85:$D$89,3,0),0) -> 0
L42: =IF(A42="Coordenação de Estágio",1,0) -> 0 | Q42: =IFERROR(VLOOKUP(A42,Dados!$A$85:$D$89,2,0),0) -> 0 | R42: =IFERROR(VLOOKUP(A42,Dados!$A$85:$D$89,3,0),0) -> 0
...

Sheet Altamir
A1: ANEXO I – RESOLUÇÃO 073/2011 – CONSUNI | R1: Tabela de Cores
A2: UNIVERSIDADE DO ESTADO DE SANTA CATARINA-UDESC | S2: Deve ser incluso dados manualmente
A3: PLANO DE TRABALHO INDIVIDUAL | S3: Não permite alteração
A4: Professor: | D4: Centro de Ciências Agroveterinárias (CAV) | H4: Departamento: | J4: Semestre: 2022/2 | S4: Calculos efetuados pela planilha. Não permite alteração.
A5: Altamir Frederico Guidolin | H5: =VLOOKUP(A5,TProfessores[],2,0) -> Agronomia
A7: Categoria Funcional: | D7: Titulação: | H7: Regime: | J7: Classe:
A8: =VLOOKUP(A5,TProfessores[],3,0) -> Efetivo | D8: =VLOOKUP(A5,TProfessores[],5,0) -> Doutor(a) | H8: =VLOOKUP(A5,TProfessores[],7,0) -> Dedicação Integral | I8: =VLOOKUP(A5,TProfessores[],6,0) -> 40 h | J8: =VLOOKUP(A5,TProfessores[],8,0) -> TITULAR
A9: ATIVIDADES DE ENSINO
A10: Disciplinas-Graduação | D10: Curso | F10: Fase | H10: C/H Ensino | J10: Informe a CH Pedagógica | Q10: CH Mínima | R10: CH Máxima
H11: Teórica | I11: Prática | L11: Soma (Oculta) | M11: Fórmula Oculta | N11: Formula para avisar CH pedagógica fora do sugerido | O11: Coluna1 | P11: Referência p coluna F
A12: Genética (EFL) | D12: =IFERROR(VLOOKUP(A12,TGradeCurricular[],2,0),"") -> Engenharia Florestal | F12: =IFERROR(VLOOKUP(A12,TGradeCurricular[],3,0),"") -> 3ª | H12: 2 | I12: 4 | J12: 7.8 | L12: =SUM(H12:I12) -> 6 | M12: =IF(A12<>0,1,0) -> 1 | N12: =IF(J12<Q12,1,0) -> 0 | O12: =IF(J12>R12,1,0) -> 0 | P12: =SUM(N12:O12) -> 0 | Q12: =L12*0.5 -> 3 | R12: =IFERROR(_xlfn.IFS($M$32=1,L12,$M$32=2,L12,$M$32=3,(L12*1.3),$M$32>3,(L12*1.5)),0) -> 7.8
A13: Genética (Agro) | D13: =IFERROR(VLOOKUP(A13,TGradeCurricular[],2,0),"") -> Agronomia | F13: =IFERROR(VLOOKUP(A13,TGradeCurricular[],3,0),"") -> 3ª | H13: 2 | I13: 4 | J13: 7.8 | L13: =SUM(H13:I13) -> 6 | M13: =IF(A13<>0,1,0) -> 1 | N13: =IF(J13<Q13,1,0) -> 0 | O13: =IF(J13>R13,1,0) -> 0 | P13: =SUM(N13:O13) -> 0 | Q13: =L13*0.5 -> 3 | R13: =IFERROR(_xlfn.IFS($M$32=1,L13,$M$32=2,L13,$M$32=3,(L13*1.3),$M$32>3,(L13*1.5)),0) -> 7.8
A14: Introdução à Economia | D14: =IFERROR(VLOOKUP(A14,TGradeCurricular[],2,0),"") -> Agronomia | F14: =IFERROR(VLOOKUP(A14,TGradeCurricular[],3,0),"") -> 6ª | H14: 2 | I14: 0 | J14: 2.4 | L14: =SUM(H14:I14) -> 2 | M14: =IF(A14<>0,1,0) -> 1 | N14: =IF(J14<Q14,1,0) -> 0 | O14: =IF(J14>R14,1,0) -> 0 | P14: =SUM(N14:O14) -> 0 | Q14: =L14*0.5 -> 1 | R14: =IFERROR(_xlfn.IFS($M$32=1,L14,$M$32=2,L14,$M$32=3,(L14*1.3),$M$32>3,(L14*1.5)),0) -> 2.6
D15: =IFERROR(VLOOKUP(A15,TGradeCurricular[],2,0),"") | F15: =IFERROR(VLOOKUP(A15,TGradeCurricular[],3,0),"") | L15: =SUM(H15:I15) -> 0 | M15: =IF(A15<>0,1,0) -> 0 | N15: =IF(J15<Q15,1,0) -> 0 | O15: =IF(J15>R15,1,0) -> 0 | P15: =SUM(N15:O15) -> 0 | Q15: =L15*0.5 -> 0 | R15: =IFERROR(_xlfn.IFS($M$32=1,L15,$M$32=2,L15,$M$32=3,(L15*1.3),$M$32>3,(L15*1.5)),0) -> 0
D16: =IFERROR(VLOOKUP(A16,TGradeCurricular[],2,0),"") | F16: =IFERROR(VLOOKUP(A16,TGradeCurricular[],3,0),"") | L16: =SUM(H16:I16) -> 0 | M16: =IF(A16<>0,1,0) -> 0 | N16: =IF(J16<Q16,1,0) -> 0 | O16: =IF(J16>R16,1,0) -> 0 | P16: =SUM(N16:O16) -> 0 | Q16: =L16*0.5 -> 0 | R16: =IFERROR(_xlfn.IFS($M$32=1,L16,$M$32=2,L16,$M$32=3,(L16*1.3),$M$32>3,(L16*1.5)),0) -> 0
D17: =IFERROR(VLOOKUP(A17,TGradeCurricular[],2,0),"") | F17: =IFERROR(VLOOKUP(A17,TGradeCurricular[],3,0),"") | L17: =SUM(H17:I17) -> 0 | M17: =IF(A17<>0,1,0) -> 0 | N17: =IF(J17<Q17,1,0) -> 0 | O17: =IF(J17>R17,1,0) -> 0 | P17: =SUM(N17:O17) -> 0 | Q17: =L17*0.5 -> 0 | R17: =IFERROR(_xlfn.IFS($M$32=1,L17,$M$32=2,L17,$M$32=3,(L17*1.3),$M$32>3,(L17*1.5)),0) -> 0
D18: =IFERROR(VLOOKUP(A18,TGradeCurricular[],2,0),"") | F18: =IFERROR(VLOOKUP(A18,TGradeCurricular[],3,0),"") | L18: =SUM(H18:I18) -> 0 | M18: =IF(A18<>0,1,0) -> 0 | N18: =IF(J18<Q18,1,0) -> 0 | O18: =IF(J18>R18,1,0) -> 0 | P18: =SUM(N18:O18) -> 0 | Q18: =L18*0.5 -> 0 | R18: =IFERROR(_xlfn.IFS($M$32=1,L18,$M$32=2,L18,$M$32=3,(L18*1.3),$M$32>3,(L18*1.5)),0) -> 0
D19: =IFERROR(VLOOKUP(A19,TGradeCurricular[],2,0),"") | F19: =IFERROR(VLOOKUP(A19,TGradeCurricular[],3,0),"") | L19: =SUM(H19:I19) -> 0 | M19: =IF(A19<>0,1,0) -> 0 | N19: =IF(J19<Q19,1,0) -> 0 | O19: =IF(J19>R19,1,0) -> 0 | P19: =SUM(N19:O19) -> 0 | Q19: =L19*0.5 -> 0 | R19: =IFERROR(_xlfn.IFS($M$32=1,L19,$M$32=2,L19,$M$32=3,(L19*1.3),$M$32>3,(L19*1.5)),0) -> 0
D20: =IFERROR(VLOOKUP(A20,TGradeCurricular[],2,0),"") | F20: =IFERROR(VLOOKUP(A20,TGradeCurricular[],3,0),"") | L20: =SUM(H20:I20) -> 0 | M20: =IF(A20<>0,1,0) -> 0 | N20: =IF(J20<Q20,1,0) -> 0 | O20: =IF(J20>R20,1,0) -> 0 | P20: =SUM(N20:O20) -> 0 | Q20: =L20*0.5 -> 0 | R20: =IFERROR(_xlfn.IFS($M$32=1,L20,$M$32=2,L20,$M$32=3,(L20*1.3),$M$32>3,(L20*1.5)),0) -> 0
D21: =IFERROR(VLOOKUP(A21,TGradeCurricular[],2,0),"") | F21: =IFERROR(VLOOKUP(A21,TGradeCurricular[],3,0),"") | L21: =SUM(H21:I21) -> 0 | M21: =IF(A21<>0,1,0) -> 0 | N21: =IF(J21<Q21,1,0) -> 0 | O21: =IF(J21>R21,1,0) -> 0 | P21: =SUM(N21:O21) -> 0 | Q21: =L21*0.5 -> 0 | R21: =IFERROR(_xlfn.IFS($M$32=1,L21,$M$32=2,L21,$M$32=3,(L21*1.3),$M$32>3,(L21*1.5)),0) -> 0
A22: Disciplinas-Pós Graduação | D22: Programa | H22: C/H Ens. | J22: C/H Pedag.
D23: =IFERROR(VLOOKUP(Altamir!$A23,'Grade Pós'!A:B,2,0),"") | L23: =SUM(H23:I23) -> 0 | M23: =IF(A23<>0,1,0) -> 0 | N23: =IF(J23<Q23,1,0) -> 0 | O23: =IF(J23>R23,1,0) -> 0 | P23: =SUM(N23:O23) -> 0 | Q23: =L23*0.5 -> 0 | R23: =IFERROR(_xlfn.IFS($M$32=1,L23,$M$32=2,L23,$M$32=3,(L23*1.3),$M$32>3,(L23*1.5)),0) -> 0
D24: =IFERROR(VLOOKUP(Altamir!$A24,'Grade Pós'!A:B,2,0),"") | L24: =SUM(H24:I24) -> 0 | M24: =IF(A24<>0,1,0) -> 0 | N24: =IF(J24<Q24,1,0) -> 0 | O24: =IF(J24>R24,1,0) -> 0 | P24: =SUM(N24:O24) -> 0 | Q24: =L24*0.5 -> 0 | R24: =IFERROR(_xlfn.IFS($M$32=1,L24,$M$32=2,L24,$M$32=3,(L24*1.3),$M$32>3,(L24*1.5)),0) -> 0
D25: =IFERROR(VLOOKUP(Altamir!$A25,'Grade Pós'!A:B,2,0),"") | L25: =SUM(H25:I25) -> 0 | M25: =IF(A25<>0,1,0) -> 0 | N25: =IF(J25<Q25,1,0) -> 0 | O25: =IF(J25>R25,1,0) -> 0 | P25: =SUM(N25:O25) -> 0 | Q25: =L25*0.5 -> 0 | R25: =IFERROR(_xlfn.IFS($M$32=1,L25,$M$32=2,L25,$M$32=3,(L25*1.3),$M$32>3,(L25*1.5)),0) -> 0
D26: =IFERROR(VLOOKUP(Altamir!$A26,'Grade Pós'!A:B,2,0),"") | L26: =SUM(H26:I26) -> 0 | M26: =IF(A26<>0,1,0) -> 0 | N26: =IF(J26<Q26,1,0) -> 0 | O26: =IF(J26>R26,1,0) -> 0 | P26: =SUM(N26:O26) -> 0 | Q26: =L26*0.5 -> 0 | R26: =IFERROR(_xlfn.IFS($M$32=1,L26,$M$32=2,L26,$M$32=3,(L26*1.3),$M$32>3,(L26*1.5)),0) -> 0
D27: =IFERROR(VLOOKUP(Altamir!$A27,'Grade Pós'!A:B,2,0),"") | L27: =SUM(H27:I27) -> 0 | M27: =IF(A27<>0,1,0) -> 0 | N27: =IF(J27<Q27,1,0) -> 0 | O27: =IF(J27>R27,1,0) -> 0 | P27: =SUM(N27:O27) -> 0 | Q27: =L27*0.5 -> 0 | R27: =IFERROR(_xlfn.IFS($M$32=1,L27,$M$32=2,L27,$M$32=3,(L27*1.3),$M$32>3,(L27*1.5)),0) -> 0
D28: =IFERROR(VLOOKUP(Altamir!$A28,'Grade Pós'!A:B,2,0),"") | L28: =SUM(H28:I28) -> 0 | M28: =IF(A28<>0,1,0) -> 0 | N28: =IF(J28<Q28,1,0) -> 0 | O28: =IF(J28>R28,1,0) -> 0 | P28: =SUM(N28:O28) -> 0 | Q28: =L28*0.5 -> 0 | R28: =IFERROR(_xlfn.IFS($M$32=1,L28,$M$32=2,L28,$M$32=3,(L28*1.3),$M$32>3,(L28*1.5)),0) -> 0
D29: =IFERROR(VLOOKUP(Altamir!$A29,'Grade Pós'!A:B,2,0),"") | L29: =SUM(H29:I29) -> 0 | M29: =IF(A29<>0,1,0) -> 0 | N29: =IF(J29<Q29,1,0) -> 0 | O29: =IF(J29>R29,1,0) -> 0 | P29: =SUM(N29:O29) -> 0 | Q29: =L29*0.5 -> 0 | R29: =IFERROR(_xlfn.IFS($M$32=1,L29,$M$32=2,L29,$M$32=3,(L29*1.3),$M$32>3,(L29*1.5)),0) -> 0
D30: =IFERROR(VLOOKUP(Altamir!$A30,'Grade Pós'!A:B,2,0),"") | L30: =SUM(H30:I30) -> 0 | M30: =IF(A30<>0,1,0) -> 0 | N30: =IF(J30<Q30,1,0) -> 0 | O30: =IF(J30>R30,1,0) -> 0 | P30: =SUM(N30:O30) -> 0 | Q30: =L30*0.5 -> 0 | R30: =IFERROR(_xlfn.IFS($M$32=1,L30,$M$32=2,L30,$M$32=3,(L30*1.3),$M$32>3,(L30*1.5)),0) -> 0
D31: =IFERROR(VLOOKUP(Altamir!$A31,'Grade Pós'!A:B,2,0),"") | L31: =SUM(H31:I31) -> 0 | M31: =IF(A31<>0,1,0) -> 0 | N31: =IF(J31<Q31,1,0) -> 0 | O31: =IF(J31>R31,1,0) -> 0 | P31: =SUM(N31:O31) -> 0 | Q31: =L31*0.5 -> 0 | R31: =IFERROR(_xlfn.IFS($M$32=1,L31,$M$32=2,L31,$M$32=3,(L31*1.3),$M$32>3,(L31*1.5)),0) -> 0
A32: BASE DE DADOS (MANTER OCULTA) | J32: =SUM(J12:K21) -> 18 | K32: =SUM(J12:J31) -> 18 | L32: =SUM(L12:L31) -> 14 | M32: =SUM(M12:M31) -> 3 | N32: =IF(K32<Q32,1,0) -> 0 | O32: =IF(K32>R32,1,0) -> 0 | P32: =SUM(N32:O32) -> 0 | Q32: =L32*0.5 -> 7 | R32: =IFERROR(_xlfn.IFS($M$32=1,L32,$M$32=2,L32,$M$32=3,(L32*1.3),$M$32>3,(L32*1.5)),0) -> 18.2
A34: ATIVIDADES DE ORIENTAÇÃO | M34: Para permitir carga horaria menor de 9hs para Funões com mais de 32hs
A35: Professor é vinculado à programas pós graduação Recomendado pela CAPES? | H35: 2 Não | I35: =IFERROR(VLOOKUP(H35,TCapes[],2),"") -> 2 - Carga horária mínima de ensino à alocar = 12 | L35: =IF(H35="2 Não",12,8) -> 12 | M35: =MIN(L35,L113) -> 12
A36: Modalidade | D36: Nome do Orientado | H36: Curso/Habilitação | I36: Semestre de Ingresso/Fase | K36: Informe a C/H Semanal | L36: Cálculo do Coord. Estágio | M36: Coluna2 | N36: Coluna3 | O36: Coluna4 | P36: Coluna5 | Q36: CH Mínima | R36: CH Máxima
A37: Tese | K37: 1 | L37: =IF(A37="Coordenação de Estágio",1,0) -> 0 | Q37: =IFERROR(VLOOKUP(A37,Dados!$A$85:$D$89,2,0),0) -> 0 | R37: =IFERROR(VLOOKUP(A37,Dados!$A$85:$D$89,3,0),0) -> 3
L38: =IF(A38="Coordenação de Estágio",1,0) -> 0 | Q38: =IFERROR(VLOOKUP(A38,Dados!$A$85:$D$89,2,0),0) -> 0 | R38: =IFERROR(VLOOKUP(A38,Dados!$A$85:$D$89,3,0),0) -> 0
L39: =IF(A39="Coordenação de Estágio",1,0) -> 0 | Q39: =IFERROR(VLOOKUP(A39,Dados!$A$85:$D$89,2,0),0) -> 0 | R39: =IFERROR(VLOOKUP(A39,Dados!$A$85:$D$89,3,0),0) -> 0
L40: =IF(A40="Coordenação de Estágio",1,0) -> 0 | Q40: =IFERROR(VLOOKUP(A40,Dados!$A$85:$D$89,2,0),0) -> 0 | R40: =IFERROR(VLOOKUP(A40,Dados!$A$85:$D$89,3,0),0) -> 0
L41: =IF(A41="Coordenação de Estágio",1,0) -> 0 | Q41: =IFERROR(VLOOKUP(A41,Dados!$A$85:$D$89,2,0),0) -> 0 | R41: =IFERROR(VLOOKUP(A41,Dados!$A$85:$D$89,3,0),0) -> 0
L42: =IF(A42="Coordenação de Estágio",1,0) -> 0 | Q42: =IFERROR(VLOOKUP(A42,Dados!$A$85:$D$89,2,0),0) -> 0 | R42: =IFERROR(VLOOKUP(A42,Dados!$A$85:$D$89,3,0),0) -> 0
...

Sheet Andre
A1: ANEXO I – RESOLUÇÃO 073/2011 – CONSUNI | R1: Tabela de Cores
A2: UNIVERSIDADE DO ESTADO DE SANTA CATARINA-UDESC | S2: Deve ser incluso dados manualmente
A3: PLANO DE TRABALHO INDIVIDUAL | S3: Não permite alteração
A4: Professor: | D4: Centro de Ciências Agroveterinárias (CAV) | H4: Departamento: | J4: Semestre: 2022/2 | S4: Calculos efetuados pela planilha. Não permite alteração.
A5: André Aníbal Brandt | H5: =VLOOKUP(A5,TProfessores[],2,0) -> Agronomia
A7: Categoria Funcional: | D7: Titulação: | H7: Regime: | J7: Classe:
A8: =VLOOKUP(A5,TProfessores[],3,0) -> Efetivo | D8: =VLOOKUP(A5,TProfessores[],5,0) -> Doutor(a) | H8: =VLOOKUP(A5,TProfessores[],7,0) -> Dedicação Integral | I8: =VLOOKUP(A5,TProfessores[],6,0) -> 40 h | J8: =VLOOKUP(A5,TProfessores[],8,0) -> ADJUNTO
A9: ATIVIDADES DE ENSINO
A10: Disciplinas-Graduação | D10: Curso | F10: Fase | H10: C/H Ensino | J10: Informe a CH Pedagógica | Q10: CH Mínima | R10: CH Máxima
H11: Teórica | I11: Prática | L11: Soma (Oculta) | M11: Fórmula Oculta | N11: Formula para avisar CH pedagógica fora do sugerido | O11: Coluna1 | P11: Referência p coluna F
A12: Mecânica, Motores e Tratores Agrícolas (Agro) | D12: =IFERROR(VLOOKUP(A12,TGradeCurricular[],2,0),"") -> Agronomia | F12: =IFERROR(VLOOKUP(A12,TGradeCurricular[],3,0),"") -> 3ª | H12: 2 | I12: 2 | J12: 3 | L12: =SUM(H12:I12) -> 4 | M12: =IF(A12<>0,1,0) -> 1 | N12: =IF(J12<Q12,1,0) -> 0 | O12: =IF(J12>R12,1,0) -> 0 | P12: =SUM(N12:O12) -> 0 | Q12: =L12*0.5 -> 2 | R12: =IFERROR(_xlfn.IFS($M$32=1,L12,$M$32=2,L12,$M$32=3,(L12*1.3),$M$32>3,(L12*1.5)),0) -> 5.2
A13: Mecânica, Motores e Tratores Agrícolas (EFL) | D13: =IFERROR(VLOOKUP(A13,TGradeCurricular[],2,0),"") -> Engenharia Florestal | F13: =IFERROR(VLOOKUP(A13,TGradeCurricular[],3,0),"") -> 3ª | H13: 2 | I13: 1 | J13: 2 | L13: =SUM(H13:I13) -> 3 | M13: =IF(A13<>0,1,0) -> 1 | N13: =IF(J13<Q13,1,0) -> 0 | O13: =IF(J13>R13,1,0) -> 0 | P13: =SUM(N13:O13) -> 0 | Q13: =L13*0.5 -> 1.5 | R13: =IFERROR(_xlfn.IFS($M$32=1,L13,$M$32=2,L13,$M$32=3,(L13*1.3),$M$32>3,(L13*1.5)),0) -> 3.9
A14: Prática de Máquinas Agrícolas | D14: =IFERROR(VLOOKUP(A14,TGradeCurricular[],2,0),"") -> Agronomia | F14: =IFERROR(VLOOKUP(A14,TGradeCurricular[],3,0),"") -> 4ª | H14: 2 | I14: 4 | J14: 5 | L14: =SUM(H14:I14) -> 6 | M14: =IF(A14<>0,1,0) -> 1 | N14: =IF(J14<Q14,1,0) -> 0 | O14: =IF(J14>R14,1,0) -> 0 | P14: =SUM(N14:O14) -> 0 | Q14: =L14*0.5 -> 3 | R14: =IFERROR(_xlfn.IFS($M$32=1,L14,$M$32=2,L14,$M$32=3,(L14*1.3),$M$32>3,(L14*1.5)),0) -> 7.8
D15: =IFERROR(VLOOKUP(A15,TGradeCurricular[],2,0),"") | F15: =IFERROR(VLOOKUP(A15,TGradeCurricular[],3,0),"") | L15: =SUM(H15:I15) -> 0 | M15: =IF(A15<>0,1,0) -> 0 | N15: =IF(J15<Q15,1,0) -> 0 | O15: =IF(J15>R15,1,0) -> 0 | P15: =SUM(N15:O15) -> 0 | Q15: =L15*0.5 -> 0 | R15: =IFERROR(_xlfn.IFS($M$32=1,L15,$M$32=2,L15,$M$32=3,(L15*1.3),$M$32>3,(L15*1.5)),0) -> 0
D16: =IFERROR(VLOOKUP(A16,TGradeCurricular[],2,0),"") | F16: =IFERROR(VLOOKUP(A16,TGradeCurricular[],3,0),"") | L16: =SUM(H16:I16) -> 0 | M16: =IF(A16<>0,1,0) -> 0 | N16: =IF(J16<Q16,1,0) -> 0 | O16: =IF(J16>R16,1,0) -> 0 | P16: =SUM(N16:O16) -> 0 | Q16: =L16*0.5 -> 0 | R16: =IFERROR(_xlfn.IFS($M$32=1,L16,$M$32=2,L16,$M$32=3,(L16*1.3),$M$32>3,(L16*1.5)),0) -> 0
D17: =IFERROR(VLOOKUP(A17,TGradeCurricular[],2,0),"") | F17: =IFERROR(VLOOKUP(A17,TGradeCurricular[],3,0),"") | L17: =SUM(H17:I17) -> 0 | M17: =IF(A17<>0,1,0) -> 0 | N17: =IF(J17<Q17,1,0) -> 0 | O17: =IF(J17>R17,1,0) -> 0 | P17: =SUM(N17:O17) -> 0 | Q17: =L17*0.5 -> 0 | R17: =IFERROR(_xlfn.IFS($M$32=1,L17,$M$32=2,L17,$M$32=3,(L17*1.3),$M$32>3,(L17*1.5)),0) -> 0
D18: =IFERROR(VLOOKUP(A18,TGradeCurricular[],2,0),"") | F18: =IFERROR(VLOOKUP(A18,TGradeCurricular[],3,0),"") | L18: =SUM(H18:I18) -> 0 | M18: =IF(A18<>0,1,0) -> 0 | N18: =IF(J18<Q18,1,0) -> 0 | O18: =IF(J18>R18,1,0) -> 0 | P18: =SUM(N18:O18) -> 0 | Q18: =L18*0.5 -> 0 | R18: =IFERROR(_xlfn.IFS($M$32=1,L18,$M$32=2,L18,$M$32=3,(L18*1.3),$M$32>3,(L18*1.5)),0) -> 0
D19: =IFERROR(VLOOKUP(A19,TGradeCurricular[],2,0),"") | F19: =IFERROR(VLOOKUP(A19,TGradeCurricular[],3,0),"") | L19: =SUM(H19:I19) -> 0 | M19: =IF(A19<>0,1,0) -> 0 | N19: =IF(J19<Q19,1,0) -> 0 | O19: =IF(J19>R19,1,0) -> 0 | P19: =SUM(N19:O19) -> 0 | Q19: =L19*0.5 -> 0 | R19: =IFERROR(_xlfn.IFS($M$32=1,L19,$M$32=2,L19,$M$32=3,(L19*1.3),$M$32>3,(L19*1.5)),0) -> 0
D20: =IFERROR(VLOOKUP(A20,TGradeCurricular[],2,0),"") | F20: =IFERROR(VLOOKUP(A20,TGradeCurricular[],3,0),"") | L20: =SUM(H20:I20) -> 0 | M20: =IF(A20<>0,1,0) -> 0 | N20: =IF(J20<Q20,1,0) -> 0 | O20: =IF(J20>R20,1,0) -> 0 | P20: =SUM(N20:O20) -> 0 | Q20: =L20*0.5 -> 0 | R20: =IFERROR(_xlfn.IFS($M$32=1,L20,$M$32=2,L20,$M$32=3,(L20*1.3),$M$32>3,(L20*1.5)),0) -> 0
D21: =IFERROR(VLOOKUP(A21,TGradeCurricular[],2,0),"") | F21: =IFERROR(VLOOKUP(A21,TGradeCurricular[],3,0),"") | L21: =SUM(H21:I21) -> 0 | M21: =IF(A21<>0,1,0) -> 0 | N21: =IF(J21<Q21,1,0) -> 0 | O21: =IF(J21>R21,1,0) -> 0 | P21: =SUM(N21:O21) -> 0 | Q21: =L21*0.5 -> 0 | R21: =IFERROR(_xlfn.IFS($M$32=1,L21,$M$32=2,L21,$M$32=3,(L21*1.3),$M$32>3,(L21*1.5)),0) -> 0
A22: Disciplinas-Pós Graduação | D22: Programa | H22: C/H Ens. | J22: C/H Pedag.
D23: =IFERROR(VLOOKUP(Andre!$A23,'Grade Pós'!A:B,2,0),"") | L23: =SUM(H23:I23) -> 0 | M23: =IF(A23<>0,1,0) -> 0 | N23: =IF(J23<Q23,1,0) -> 0 | O23: =IF(J23>R23,1,0) -> 0 | P23: =SUM(N23:O23) -> 0 | Q23: =L23*0.5 -> 0 | R23: =IFERROR(_xlfn.IFS($M$32=1,L23,$M$32=2,L23,$M$32=3,(L23*1.3),$M$32>3,(L23*1.5)),0) -> 0
D24: =IFERROR(VLOOKUP(Andre!$A24,'Grade Pós'!A:B,2,0),"") | L24: =SUM(H24:I24) -> 0 | M24: =IF(A24<>0,1,0) -> 0 | N24: =IF(J24<Q24,1,0) -> 0 | O24: =IF(J24>R24,1,0) -> 0 | P24: =SUM(N24:O24) -> 0 | Q24: =L24*0.5 -> 0 | R24: =IFERROR(_xlfn.IFS($M$32=1,L24,$M$32=2,L24,$M$32=3,(L24*1.3),$M$32>3,(L24*1.5)),0) -> 0
D25: =IFERROR(VLOOKUP(Andre!$A25,'Grade Pós'!A:B,2,0),"") | L25: =SUM(H25:I25) -> 0 | M25: =IF(A25<>0,1,0) -> 0 | N25: =IF(J25<Q25,1,0) -> 0 | O25: =IF(J25>R25,1,0) -> 0 | P25: =SUM(N25:O25) -> 0 | Q25: =L25*0.5 -> 0 | R25: =IFERROR(_xlfn.IFS($M$32=1,L25,$M$32=2,L25,$M$32=3,(L25*1.3),$M$32>3,(L25*1.5)),0) -> 0
D26: =IFERROR(VLOOKUP(Andre!$A26,'Grade Pós'!A:B,2,0),"") | L26: =SUM(H26:I26) -> 0 | M26: =IF(A26<>0,1,0) -> 0 | N26: =IF(J26<Q26,1,0) -> 0 | O26: =IF(J26>R26,1,0) -> 0 | P26: =SUM(N26:O26) -> 0 | Q26: =L26*0.5 -> 0 | R26: =IFERROR(_xlfn.IFS($M$32=1,L26,$M$32=2,L26,$M$32=3,(L26*1.3),$M$32>3,(L26*1.5)),0) -> 0
D27: =IFERROR(VLOOKUP(Andre!$A27,'Grade Pós'!A:B,2,0),"") | L27: =SUM(H27:I27) -> 0 | M27: =IF(A27<>0,1,0) -> 0 | N27: =IF(J27<Q27,1,0) -> 0 | O27: =IF(J27>R27,1,0) -> 0 | P27: =SUM(N27:O27) -> 0 | Q27: =L27*0.5 -> 0 | R27: =IFERROR(_xlfn.IFS($M$32=1,L27,$M$32=2,L27,$M$32=3,(L27*1.3),$M$32>3,(L27*1.5)),0) -> 0
D28: =IFERROR(VLOOKUP(Andre!$A28,'Grade Pós'!A:B,2,0),"") | L28: =SUM(H28:I28) -> 0 | M28: =IF(A28<>0,1,0) -> 0 | N28: =IF(J28<Q28,1,0) -> 0 | O28: =IF(J28>R28,1,0) -> 0 | P28: =SUM(N28:O28) -> 0 | Q28: =L28*0.5 -> 0 | R28: =IFERROR(_xlfn.IFS($M$32=1,L28,$M$32=2,L28,$M$32=3,(L28*1.3),$M$32>3,(L28*1.5)),0) -> 0
D29: =IFERROR(VLOOKUP(Andre!$A29,'Grade Pós'!A:B,2,0),"") | L29: =SUM(H29:I29) -> 0 | M29: =IF(A29<>0,1,0) -> 0 | N29: =IF(J29<Q29,1,0) -> 0 | O29: =IF(J29>R29,1,0) -> 0 | P29: =SUM(N29:O29) -> 0 | Q29: =L29*0.5 -> 0 | R29: =IFERROR(_xlfn.IFS($M$32=1,L29,$M$32=2,L29,$M$32=3,(L29*1.3),$M$32>3,(L29*1.5)),0) -> 0
D30: =IFERROR(VLOOKUP(Andre!$A30,'Grade Pós'!A:B,2,0),"") | L30: =SUM(H30:I30) -> 0 | M30: =IF(A30<>0,1,0) -> 0 | N30: =IF(J30<Q30,1,0) -> 0 | O30: =IF(J30>R30,1,0) -> 0 | P30: =SUM(N30:O30) -> 0 | Q30: =L30*0.5 -> 0 | R30: =IFERROR(_xlfn.IFS($M$32=1,L30,$M$32=2,L30,$M$32=3,(L30*1.3),$M$32>3,(L30*1.5)),0) -> 0
D31: =IFERROR(VLOOKUP(Andre!$A31,'Grade Pós'!A:B,2,0),"") | L31: =SUM(H31:I31) -> 0 | M31: =IF(A31<>0,1,0) -> 0 | N31: =IF(J31<Q31,1,0) -> 0 | O31: =IF(J31>R31,1,0) -> 0 | P31: =SUM(N31:O31) -> 0 | Q31: =L31*0.5 -> 0 | R31: =IFERROR(_xlfn.IFS($M$32=1,L31,$M$32=2,L31,$M$32=3,(L31*1.3),$M$32>3,(L31*1.5)),0) -> 0
A32: BASE DE DADOS (MANTER OCULTA) | J32: =SUM(J12:K21) -> 10 | K32: =SUM(J12:J31) -> 10 | L32: =SUM(L12:L31) -> 13 | M32: =SUM(M12:M31) -> 3 | N32: =IF(K32<Q32,1,0) -> 0 | O32: =IF(K32>R32,1,0) -> 0 | P32: =SUM(N32:O32) -> 0 | Q32: =L32*0.5 -> 6.5 | R32: =IFERROR(_xlfn.IFS($M$32=1,L32,$M$32=2,L32,$M$32=3,(L32*1.3),$M$32>3,(L32*1.5)),0) -> 16.9
A34: ATIVIDADES DE ORIENTAÇÃO | M34: Para permitir carga horaria menor de 9hs para Funões com mais de 32hs
A35: Professor é vinculado à programas pós graduação Recomendado pela CAPES? | H35: 2 Não | I35: =IFERROR(VLOOKUP(H35,TCapes[],2),"") -> 2 - Carga horária mínima de ensino à alocar = 12 | L35: =IF(H35="2 Não",12,8) -> 12 | M35: =MIN(L35,L113) -> 12
A36: Modalidade | D36: Nome do Orientado | H36: Curso/Habilitação | I36: Semestre de Ingresso/Fase | K36: Informe a C/H Semanal | L36: Cálculo do Coord. Estágio | M36: Coluna2 | N36: Coluna3 | O36: Coluna4 | P36: Coluna5 | Q36: CH Mínima | R36: CH Máxima
L37: =IF(A37="Coordenação de Estágio",1,0) -> 0 | Q37: =IFERROR(VLOOKUP(A37,Dados!$A$85:$D$89,2,0),0) -> 0 | R37: =IFERROR(VLOOKUP(A37,Dados!$A$85:$D$89,3,0),0) -> 0
L38: =IF(A38="Coordenação de Estágio",1,0) -> 0 | Q38: =IFERROR(VLOOKUP(A38,Dados!$A$85:$D$89,2,0),0) -> 0 | R38: =IFERROR(VLOOKUP(A38,Dados!$A$85:$D$89,3,0),0) -> 0
L39: =IF(A39="Coordenação de Estágio",1,0) -> 0 | Q39: =IFERROR(VLOOKUP(A39,Dados!$A$85:$D$89,2,0),0) -> 0 | R39: =IFERROR(VLOOKUP(A39,Dados!$A$85:$D$89,3,0),0) -> 0
L40: =IF(A40="Coordenação de Estágio",1,0) -> 0 | Q40: =IFERROR(VLOOKUP(A40,Dados!$A$85:$D$89,2,0),0) -> 0 | R40: =IFERROR(VLOOKUP(A40,Dados!$A$85:$D$89,3,0),0) -> 0
L41: =IF(A41="Coordenação de Estágio",1,0) -> 0 | Q41: =IFERROR(VLOOKUP(A41,Dados!$A$85:$D$89,2,0),0) -> 0 | R41: =IFERROR(VLOOKUP(A41,Dados!$A$85:$D$89,3,0),0) -> 0
L42: =IF(A42="Coordenação de Estágio",1,0) -> 0 | Q42: =IFERROR(VLOOKUP(A42,Dados!$A$85:$D$89,2,0),0) -> 0 | R42: =IFERROR(VLOOKUP(A42,Dados!$A$85:$D$89,3,0),0) -> 0
...

Sheet Antonio
A1: ANEXO I – RESOLUÇÃO 073/2011 – CONSUNI | R1: Tabela de Cores
A2: UNIVERSIDADE DO ESTADO DE SANTA CATARINA-UDESC | S2: Deve ser incluso dados manualmente
A3: PLANO DE TRABALHO INDIVIDUAL | S3: Não permite alteração
A4: Professor: | D4: Centro de Ciências Agroveterinárias (CAV) | H4: Departamento: | J4: Semestre: 2022/2 | S4: Calculos efetuados pela planilha. Não permite alteração.
A5: Antonio Mendes De Oliveira Neto | H5: =VLOOKUP(A5,TProfessores[],2,0) -> Agronomia
A7: Categoria Funcional: | D7: Titulação: | H7: Regime: | J7: Classe:
A8: =VLOOKUP(A5,TProfessores[],3,0) -> Efetivo | D8: =VLOOKUP(A5,TProfessores[],5,0) -> Doutor(a) | H8: =VLOOKUP(A5,TProfessores[],7,0) -> 40 horas | I8: =VLOOKUP(A5,TProfessores[],6,0) -> 40 h | J8: =VLOOKUP(A5,TProfessores[],8,0) -> ADJUNTO
A9: ATIVIDADES DE ENSINO
A10: Disciplinas-Graduação | D10: Curso | F10: Fase | H10: C/H Ensino | J10: Informe a CH Pedagógica | Q10: CH Mínima | R10: CH Máxima
H11: Teórica | I11: Prática | L11: Soma (Oculta) | M11: Fórmula Oculta | N11: Formula para avisar CH pedagógica fora do sugerido | O11: Coluna1 | P11: Referência p coluna F
A12: Biologia e Manejo de Plantas Daninhas | D12: =IFERROR(VLOOKUP(A12,TGradeCurricular[],2,0),"") -> Agronomia | F12: =IFERROR(VLOOKUP(A12,TGradeCurricular[],3,0),"") -> 7ª | H12: 2 | I12: 2 | J12: 4 | L12: =SUM(H12:I12) -> 4 | M12: =IF(A12<>0,1,0) -> 1 | N12: =IF(J12<Q12,1,0) -> 0 | O12: =IF(J12>R12,1,0) -> 0 | P12: =SUM(N12:O12) -> 0 | Q12: =L12*0.5 -> 2 | R12: =IFERROR(_xlfn.IFS($M$32=1,L12,$M$32=2,L12,$M$32=3,(L12*1.3),$M$32>3,(L12*1.5)),0) -> 5.2
A13: Avaliação de Impactos Ambientais (Agro) | D13: =IFERROR(VLOOKUP(A13,TGradeCurricular[],2,0),"") -> Agronomia | F13: =IFERROR(VLOOKUP(A13,TGradeCurricular[],3,0),"") -> 7ª | H13: 1 | I13: 1 | J13: 2 | L13: =SUM(H13:I13) -> 2 | M13: =IF(A13<>0,1,0) -> 1 | N13: =IF(J13<Q13,1,0) -> 0 | O13: =IF(J13>R13,1,0) -> 0 | P13: =SUM(N13:O13) -> 0 | Q13: =L13*0.5 -> 1 | R13: =IFERROR(_xlfn.IFS($M$32=1,L13,$M$32=2,L13,$M$32=3,(L13*1.3),$M$32>3,(L13*1.5)),0) -> 2.6
D14: =IFERROR(VLOOKUP(A14,TGradeCurricular[],2,0),"") | F14: =IFERROR(VLOOKUP(A14,TGradeCurricular[],3,0),"") | L14: =SUM(H14:I14) -> 0 | M14: =IF(A14<>0,1,0) -> 0 | N14: =IF(J14<Q14,1,0) -> 0 | O14: =IF(J14>R14,1,0) -> 0 | P14: =SUM(N14:O14) -> 0 | Q14: =L14*0.5 -> 0 | R14: =IFERROR(_xlfn.IFS($M$32=1,L14,$M$32=2,L14,$M$32=3,(L14*1.3),$M$32>3,(L14*1.5)),0) -> 0
D15: =IFERROR(VLOOKUP(A15,TGradeCurricular[],2,0),"") | F15: =IFERROR(VLOOKUP(A15,TGradeCurricular[],3,0),"") | L15: =SUM(H15:I15) -> 0 | M15: =IF(A15<>0,1,0) -> 0 | N15: =IF(J15<Q15,1,0) -> 0 | O15: =IF(J15>R15,1,0) -> 0 | P15: =SUM(N15:O15) -> 0 | Q15: =L15*0.5 -> 0 | R15: =IFERROR(_xlfn.IFS($M$32=1,L15,$M$32=2,L15,$M$32=3,(L15*1.3),$M$32>3,(L15*1.5)),0) -> 0
D16: =IFERROR(VLOOKUP(A16,TGradeCurricular[],2,0),"") | F16: =IFERROR(VLOOKUP(A16,TGradeCurricular[],3,0),"") | L16: =SUM(H16:I16) -> 0 | M16: =IF(A16<>0,1,0) -> 0 | N16: =IF(J16<Q16,1,0) -> 0 | O16: =IF(J16>R16,1,0) -> 0 | P16: =SUM(N16:O16) -> 0 | Q16: =L16*0.5 -> 0 | R16: =IFERROR(_xlfn.IFS($M$32=1,L16,$M$32=2,L16,$M$32=3,(L16*1.3),$M$32>3,(L16*1.5)),0) -> 0
D17: =IFERROR(VLOOKUP(A17,TGradeCurricular[],2,0),"") | F17: =IFERROR(VLOOKUP(A17,TGradeCurricular[],3,0),"") | L17: =SUM(H17:I17) -> 0 | M17: =IF(A17<>0,1,0) -> 0 | N17: =IF(J17<Q17,1,0) -> 0 | O17: =IF(J17>R17,1,0) -> 0 | P17: =SUM(N17:O17) -> 0 | Q17: =L17*0.5 -> 0 | R17: =IFERROR(_xlfn.IFS($M$32=1,L17,$M$32=2,L17,$M$32=3,(L17*1.3),$M$32>3,(L17*1.5)),0) -> 0
D18: =IFERROR(VLOOKUP(A18,TGradeCurricular[],2,0),"") | F18: =IFERROR(VLOOKUP(A18,TGradeCurricular[],3,0),"") | L18: =SUM(H18:I18) -> 0 | M18: =IF(A18<>0,1,0) -> 0 | N18: =IF(J18<Q18,1,0) -> 0 | O18: =IF(J18>R18,1,0) -> 0 | P18: =SUM(N18:O18) -> 0 | Q18: =L18*0.5 -> 0 | R18: =IFERROR(_xlfn.IFS($M$32=1,L18,$M$32=2,L18,$M$32=3,(L18*1.3),$M$32>3,(L18*1.5)),0) -> 0
D19: =IFERROR(VLOOKUP(A19,TGradeCurricular[],2,0),"") | F19: =IFERROR(VLOOKUP(A19,TGradeCurricular[],3,0),"") | L19: =SUM(H19:I19) -> 0 | M19: =IF(A19<>0,1,0) -> 0 | N19: =IF(J19<Q19,1,0) -> 0 | O19: =IF(J19>R19,1,0) -> 0 | P19: =SUM(N19:O19) -> 0 | Q19: =L19*0.5 -> 0 | R19: =IFERROR(_xlfn.IFS($M$32=1,L19,$M$32=2,L19,$M$32=3,(L19*1.3),$M$32>3,(L19*1.5)),0) -> 0
D20: =IFERROR(VLOOKUP(A20,TGradeCurricular[],2,0),"") | F20: =IFERROR(VLOOKUP(A20,TGradeCurricular[],3,0),"") | L20: =SUM(H20:I20) -> 0 | M20: =IF(A20<>0,1,0) -> 0 | N20: =IF(J20<Q20,1,0) -> 0 | O20: =IF(J20>R20,1,0) -> 0 | P20: =SUM(N20:O20) -> 0 | Q20: =L20*0.5 -> 0 | R20: =IFERROR(_xlfn.IFS($M$32=1,L20,$M$32=2,L20,$M$32=3,(L20*1.3),$M$32>3,(L20*1.5)),0) -> 0
D21: =IFERROR(VLOOKUP(A21,TGradeCurricular[],2,0),"") | F21: =IFERROR(VLOOKUP(A21,TGradeCurricular[],3,0),"") | L21: =SUM(H21:I21) -> 0 | M21: =IF(A21<>0,1,0) -> 0 | N21: =IF(J21<Q21,1,0) -> 0 | O21: =IF(J21>R21,1,0) -> 0 | P21: =SUM(N21:O21) -> 0 | Q21: =L21*0.5 -> 0 | R21: =IFERROR(_xlfn.IFS($M$32=1,L21,$M$32=2,L21,$M$32=3,(L21*1.3),$M$32>3,(L21*1.5)),0) -> 0
A22: Disciplinas-Pós Graduação | D22: Programa | H22: C/H Ens. | J22: C/H Pedag.
A23: NOME DA DISCIPLINA | D23: =IFERROR(VLOOKUP(Antonio!$A23,'Grade Pós'!A:B,2,0),"") -> PROGRAMA | H23: 4 | J23: 4 | L23: =SUM(H23:I23) -> 4 | M23: =IF(A23<>0,1,0) -> 1 | N23: =IF(J23<Q23,1,0) -> 0 | O23: =IF(J23>R23,1,0) -> 0 | P23: =SUM(N23:O23) -> 0 | Q23: =L23*0.5 -> 2 | R23: =IFERROR(_xlfn.IFS($M$32=1,L23,$M$32=2,L23,$M$32=3,(L23*1.3),$M$32>3,(L23*1.5)),0) -> 5.2
D24: =IFERROR(VLOOKUP(Antonio!$A24,'Grade Pós'!A:B,2,0),"") | L24: =SUM(H24:I24) -> 0 | M24: =IF(A24<>0,1,0) -> 0 | N24: =IF(J24<Q24,1,0) -> 0 | O24: =IF(J24>R24,1,0) -> 0 | P24: =SUM(N24:O24) -> 0 | Q24: =L24*0.5 -> 0 | R24: =IFERROR(_xlfn.IFS($M$32=1,L24,$M$32=2,L24,$M$32=3,(L24*1.3),$M$32>3,(L24*1.5)),0) -> 0
D25: =IFERROR(VLOOKUP(Antonio!$A25,'Grade Pós'!A:B,2,0),"") | L25: =SUM(H25:I25) -> 0 | M25: =IF(A25<>0,1,0) -> 0 | N25: =IF(J25<Q25,1,0) -> 0 | O25: =IF(J25>R25,1,0) -> 0 | P25: =SUM(N25:O25) -> 0 | Q25: =L25*0.5 -> 0 | R25: =IFERROR(_xlfn.IFS($M$32=1,L25,$M$32=2,L25,$M$32=3,(L25*1.3),$M$32>3,(L25*1.5)),0) -> 0
D26: =IFERROR(VLOOKUP(Antonio!$A26,'Grade Pós'!A:B,2,0),"") | L26: =SUM(H26:I26) -> 0 | M26: =IF(A26<>0,1,0) -> 0 | N26: =IF(J26<Q26,1,0) -> 0 | O26: =IF(J26>R26,1,0) -> 0 | P26: =SUM(N26:O26) -> 0 | Q26: =L26*0.5 -> 0 | R26: =IFERROR(_xlfn.IFS($M$32=1,L26,$M$32=2,L26,$M$32=3,(L26*1.3),$M$32>3,(L26*1.5)),0) -> 0
D27: =IFERROR(VLOOKUP(Antonio!$A27,'Grade Pós'!A:B,2,0),"") | L27: =SUM(H27:I27) -> 0 | M27: =IF(A27<>0,1,0) -> 0 | N27: =IF(J27<Q27,1,0) -> 0 | O27: =IF(J27>R27,1,0) -> 0 | P27: =SUM(N27:O27) -> 0 | Q27: =L27*0.5 -> 0 | R27: =IFERROR(_xlfn.IFS($M$32=1,L27,$M$32=2,L27,$M$32=3,(L27*1.3),$M$32>3,(L27*1.5)),0) -> 0
D28: =IFERROR(VLOOKUP(Antonio!$A28,'Grade Pós'!A:B,2,0),"") | L28: =SUM(H28:I28) -> 0 | M28: =IF(A28<>0,1,0) -> 0 | N28: =IF(J28<Q28,1,0) -> 0 | O28: =IF(J28>R28,1,0) -> 0 | P28: =SUM(N28:O28) -> 0 | Q28: =L28*0.5 -> 0 | R28: =IFERROR(_xlfn.IFS($M$32=1,L28,$M$32=2,L28,$M$32=3,(L28*1.3),$M$32>3,(L28*1.5)),0) -> 0
D29: =IFERROR(VLOOKUP(Antonio!$A29,'Grade Pós'!A:B,2,0),"") | L29: =SUM(H29:I29) -> 0 | M29: =IF(A29<>0,1,0) -> 0 | N29: =IF(J29<Q29,1,0) -> 0 | O29: =IF(J29>R29,1,0) -> 0 | P29: =SUM(N29:O29) -> 0 | Q29: =L29*0.5 -> 0 | R29: =IFERROR(_xlfn.IFS($M$32=1,L29,$M$32=2,L29,$M$32=3,(L29*1.3),$M$32>3,(L29*1.5)),0) -> 0
D30: =IFERROR(VLOOKUP(Antonio!$A30,'Grade Pós'!A:B,2,0),"") | L30: =SUM(H30:I30) -> 0 | M30: =IF(A30<>0,1,0) -> 0 | N30: =IF(J30<Q30,1,0) -> 0 | O30: =IF(J30>R30,1,0) -> 0 | P30: =SUM(N30:O30) -> 0 | Q30: =L30*0.5 -> 0 | R30: =IFERROR(_xlfn.IFS($M$32=1,L30,$M$32=2,L30,$M$32=3,(L30*1.3),$M$32>3,(L30*1.5)),0) -> 0
D31: =IFERROR(VLOOKUP(Antonio!$A31,'Grade Pós'!A:B,2,0),"") | L31: =SUM(H31:I31) -> 0 | M31: =IF(A31<>0,1,0) -> 0 | N31: =IF(J31<Q31,1,0) -> 0 | O31: =IF(J31>R31,1,0) -> 0 | P31: =SUM(N31:O31) -> 0 | Q31: =L31*0.5 -> 0 | R31: =IFERROR(_xlfn.IFS($M$32=1,L31,$M$32=2,L31,$M$32=3,(L31*1.3),$M$32>3,(L31*1.5)),0) -> 0
A32: BASE DE DADOS (MANTER OCULTA) | J32: =SUM(J12:K21) -> 6 | K32: =SUM(J12:J31) -> 10 | L32: =SUM(L12:L31) -> 10 | M32: =SUM(M12:M31) -> 3 | N32: =IF(K32<Q32,1,0) -> 0 | O32: =IF(K32>R32,1,0) -> 0 | P32: =SUM(N32:O32) -> 0 | Q32: =L32*0.5 -> 5 | R32: =IFERROR(_xlfn.IFS($M$32=1,L32,$M$32=2,L32,$M$32=3,(L32*1.3),$M$32>3,(L32*1.5)),0) -> 13
A34: ATIVIDADES DE ORIENTAÇÃO | M34: Para permitir carga horaria menor de 9hs para Funões com mais de 32hs
A35: Professor é vinculado à programas pós graduação Recomendado pela CAPES? | H35: 1 Sim | I35: =IFERROR(VLOOKUP(H35,TCapes[],2),"") -> 1 -Permite Alocar Carga Horária Mínima de 8 Créditos de Ensino | L35: =IF(H35="2 Não",12,8) -> 8 | M35: =MIN(L35,L113) -> 8
A36: Modalidade | D36: Nome do Orientado | H36: Curso/Habilitação | I36: Semestre de Ingresso/Fase | K36: Informe a C/H Semanal | L36: Cálculo do Coord. Estágio | M36: Coluna2 | N36: Coluna3 | O36: Coluna4 | P36: Coluna5 | Q36: CH Mínima | R36: CH Máxima
A37: Dissertação | K37: 2 | L37: =IF(A37="Coordenação de Estágio",1,0) -> 0 | Q37: =IFERROR(VLOOKUP(A37,Dados!$A$85:$D$89,2,0),0) -> 0 | R37: =IFERROR(VLOOKUP(A37,Dados!$A$85:$D$89,3,0),0) -> 2
A38: Dissertação | K38: 2 | L38: =IF(A38="Coordenação de Estágio",1,0) -> 0 | Q38: =IFERROR(VLOOKUP(A38,Dados!$A$85:$D$89,2,0),0) -> 0 | R38: =IFERROR(VLOOKUP(A38,Dados!$A$85:$D$89,3,0),0) -> 2
A39: Dissertação | K39: 2 | L39: =IF(A39="Coordenação de Estágio",1,0) -> 0 | Q39: =IFERROR(VLOOKUP(A39,Dados!$A$85:$D$89,2,0),0) -> 0 | R39: =IFERROR(VLOOKUP(A39,Dados!$A$85:$D$89,3,0),0) -> 2
A40: Dissertação | K40: 2 | L40: =IF(A40="Coordenação de Estágio",1,0) -> 0 | Q40: =IFERROR(VLOOKUP(A40,Dados!$A$85:$D$89,2,0),0) -> 0 | R40: =IFERROR(VLOOKUP(A40,Dados!$A$85:$D$89,3,0),0) -> 2
A41: Tese | K41: 3 | L41: =IF(A41="Coordenação de Estágio",1,0) -> 0 | Q41: =IFERROR(VLOOKUP(A41,Dados!$A$85:$D$89,2,0),0) -> 0 | R41: =IFERROR(VLOOKUP(A41,Dados!$A$85:$D$89,3,0),0) -> 3
A42: Tese | K42: 3 | L42: =IF(A42="Coordenação de Estágio",1,0) -> 0 | Q42: =IFERROR(VLOOKUP(A42,Dados!$A$85:$D$89,2,0),0) -> 0 | R42: =IFERROR(VLOOKUP(A42,Dados!$A$85:$D$89,3,0),0) -> 3
...

Sheet Carlos
A1: ANEXO I – RESOLUÇÃO 073/2011 – CONSUNI | R1: Tabela de Cores
A2: UNIVERSIDADE DO ESTADO DE SANTA CATARINA-UDESC | S2: Deve ser incluso dados manualmente
A3: PLANO DE TRABALHO INDIVIDUAL | S3: Não permite alteração
A4: Professor: | D4: Centro de Ciências Agroveterinárias (CAV) | H4: Departamento: | J4: Semestre: 2022/2 | S4: Calculos efetuados pela planilha. Não permite alteração.
A5: Carlos Augusto De Paiva Sampaio | H5: =VLOOKUP(A5,TProfessores[],2,0) -> Agronomia
A7: Categoria Funcional: | D7: Titulação: | H7: Regime: | J7: Classe:
A8: =VLOOKUP(A5,TProfessores[],3,0) -> Efetivo | D8: =VLOOKUP(A5,TProfessores[],5,0) -> Doutor(a) | H8: =VLOOKUP(A5,TProfessores[],7,0) -> Dedicação Integral | I8: =VLOOKUP(A5,TProfessores[],6,0) -> 40 h | J8: =VLOOKUP(A5,TProfessores[],8,0) -> ASSOCIADO
A9: ATIVIDADES DE ENSINO
A10: Disciplinas-Graduação | D10: Curso | F10: Fase | H10: C/H Ensino | J10: Informe a CH Pedagógica | Q10: CH Mínima | R10: CH Máxima
H11: Teórica | I11: Prática | L11: Soma (Oculta) | M11: Fórmula Oculta | N11: Formula para avisar CH pedagógica fora do sugerido | O11: Coluna1 | P11: Referência p coluna F
A12: Desenho Técnico (Agro) | D12: =IFERROR(VLOOKUP(A12,TGradeCurricular[],2,0),"") -> Agronomia | F12: =IFERROR(VLOOKUP(A12,TGradeCurricular[],3,0),"") -> 1ª | H12: 3 | I12: 0 | J12: 3 | L12: =SUM(H12:I12) -> 3 | M12: =IF(A12<>0,1,0) -> 1 | N12: =IF(J12<Q12,1,0) -> 0 | O12: =IF(J12>R12,1,0) -> 0 | P12: =SUM(N12:O12) -> 0 | Q12: =L12*0.5 -> 1.5 | R12: =IFERROR(_xlfn.IFS($M$32=1,L12,$M$32=2,L12,$M$32=3,(L12*1.3),$M$32>3,(L12*1.5)),0) -> 3.9
A13: Desenho Técnico (Agro) | D13: =IFERROR(VLOOKUP(A13,TGradeCurricular[],2,0),"") -> Agronomia | F13: =IFERROR(VLOOKUP(A13,TGradeCurricular[],3,0),"") -> 1ª | H13: 3 | I13: 0 | J13: 3 | L13: =SUM(H13:I13) -> 3 | M13: =IF(A13<>0,1,0) -> 1 | N13: =IF(J13<Q13,1,0) -> 0 | O13: =IF(J13>R13,1,0) -> 0 | P13: =SUM(N13:O13) -> 0 | Q13: =L13*0.5 -> 1.5 | R13: =IFERROR(_xlfn.IFS($M$32=1,L13,$M$32=2,L13,$M$32=3,(L13*1.3),$M$32>3,(L13*1.5)),0) -> 3.9
A14: Construções Rurais | D14: =IFERROR(VLOOKUP(A14,TGradeCurricular[],2,0),"") -> Agronomia | F14: =IFERROR(VLOOKUP(A14,TGradeCurricular[],3,0),"") -> 6ª | H14: 2 | I14: 6 | J14: 8 | L14: =SUM(H14:I14) -> 8 | M14: =IF(A14<>0,1,0) -> 1 | N14: =IF(J14<Q14,1,0) -> 0 | O14: =IF(J14>R14,1,0) -> 0 | P14: =SUM(N14:O14) -> 0 | Q14: =L14*0.5 -> 4 | R14: =IFERROR(_xlfn.IFS($M$32=1,L14,$M$32=2,L14,$M$32=3,(L14*1.3),$M$32>3,(L14*1.5)),0) -> 10.4
D15: =IFERROR(VLOOKUP(A15,TGradeCurricular[],2,0),"") | F15: =IFERROR(VLOOKUP(A15,TGradeCurricular[],3,0),"") | L15: =SUM(H15:I15) -> 0 | M15: =IF(A15<>0,1,0) -> 0 | N15: =IF(J15<Q15,1,0) -> 0 | O15: =IF(J15>R15,1,0) -> 0 | P15: =SUM(N15:O15) -> 0 | Q15: =L15*0.5 -> 0 | R15: =IFERROR(_xlfn.IFS($M$32=1,L15,$M$32=2,L15,$M$32=3,(L15*1.3),$M$32>3,(L15*1.5)),0) -> 0
D16: =IFERROR(VLOOKUP(A16,TGradeCurricular[],2,0),"") | F16: =IFERROR(VLOOKUP(A16,TGradeCurricular[],3,0),"") | L16: =SUM(H16:I16) -> 0 | M16: =IF(A16<>0,1,0) -> 0 | N16: =IF(J16<Q16,1,0) -> 0 | O16: =IF(J16>R16,1,0) -> 0 | P16: =SUM(N16:O16) -> 0 | Q16: =L16*0.5 -> 0 | R16: =IFERROR(_xlfn.IFS($M$32=1,L16,$M$32=2,L16,$M$32=3,(L16*1.3),$M$32>3,(L16*1.5)),0) -> 0
D17: =IFERROR(VLOOKUP(A17,TGradeCurricular[],2,0),"") | F17: =IFERROR(VLOOKUP(A17,TGradeCurricular[],3,0),"") | L17: =SUM(H17:I17) -> 0 | M17: =IF(A17<>0,1,0) -> 0 | N17: =IF(J17<Q17,1,0) -> 0 | O17: =IF(J17>R17,1,0) -> 0 | P17: =SUM(N17:O17) -> 0 | Q17: =L17*0.5 -> 0 | R17: =IFERROR(_xlfn.IFS($M$32=1,L17,$M$32=2,L17,$M$32=3,(L17*1.3),$M$32>3,(L17*1.5)),0) -> 0
D18: =IFERROR(VLOOKUP(A18,TGradeCurricular[],2,0),"") | F18: =IFERROR(VLOOKUP(A18,TGradeCurricular[],3,0),"") | L18: =SUM(H18:I18) -> 0 | M18: =IF(A18<>0,1,0) -> 0 | N18: =IF(J18<Q18,1,0) -> 0 | O18: =IF(J18>R18,1,0) -> 0 | P18: =SUM(N18:O18) -> 0 | Q18: =L18*0.5 -> 0 | R18: =IFERROR(_xlfn.IFS($M$32=1,L18,$M$32=2,L18,$M$32=3,(L18*1.3),$M$32>3,(L18*1.5)),0) -> 0
D19: =IFERROR(VLOOKUP(A19,TGradeCurricular[],2,0),"") | F19: =IFERROR(VLOOKUP(A19,TGradeCurricular[],3,0),"") | L19: =SUM(H19:I19) -> 0 | M19: =IF(A19<>0,1,0) -> 0 | N19: =IF(J19<Q19,1,0) -> 0 | O19: =IF(J19>R19,1,0) -> 0 | P19: =SUM(N19:O19) -> 0 | Q19: =L19*0.5 -> 0 | R19: =IFERROR(_xlfn.IFS($M$32=1,L19,$M$32=2,L19,$M$32=3,(L19*1.3),$M$32>3,(L19*1.5)),0) -> 0
D20: =IFERROR(VLOOKUP(A20,TGradeCurricular[],2,0),"") | F20: =IFERROR(VLOOKUP(A20,TGradeCurricular[],3,0),"") | L20: =SUM(H20:I20) -> 0 | M20: =IF(A20<>0,1,0) -> 0 | N20: =IF(J20<Q20,1,0) -> 0 | O20: =IF(J20>R20,1,0) -> 0 | P20: =SUM(N20:O20) -> 0 | Q20: =L20*0.5 -> 0 | R20: =IFERROR(_xlfn.IFS($M$32=1,L20,$M$32=2,L20,$M$32=3,(L20*1.3),$M$32>3,(L20*1.5)),0) -> 0
D21: =IFERROR(VLOOKUP(A21,TGradeCurricular[],2,0),"") | F21: =IFERROR(VLOOKUP(A21,TGradeCurricular[],3,0),"") | L21: =SUM(H21:I21) -> 0 | M21: =IF(A21<>0,1,0) -> 0 | N21: =IF(J21<Q21,1,0) -> 0 | O21: =IF(J21>R21,1,0) -> 0 | P21: =SUM(N21:O21) -> 0 | Q21: =L21*0.5 -> 0 | R21: =IFERROR(_xlfn.IFS($M$32=1,L21,$M$32=2,L21,$M$32=3,(L21*1.3),$M$32>3,(L21*1.5)),0) -> 0
A22: Disciplinas-Pós Graduação | D22: Programa | H22: C/H Ens. | J22: C/H Pedag.
D23: =IFERROR(VLOOKUP(Carlos!$A23,'Grade Pós'!A:B,2,0),"") | L23: =SUM(H23:I23) -> 0 | M23: =IF(A23<>0,1,0) -> 0 | N23: =IF(J23<Q23,1,0) -> 0 | O23: =IF(J23>R23,1,0) -> 0 | P23: =SUM(N23:O23) -> 0 | Q23: =L23*0.5 -> 0 | R23: =IFERROR(_xlfn.IFS($M$32=1,L23,$M$32=2,L23,$M$32=3,(L23*1.3),$M$32>3,(L23*1.5)),0) -> 0
D24: =IFERROR(VLOOKUP(Carlos!$A24,'Grade Pós'!A:B,2,0),"") | L24: =SUM(H24:I24) -> 0 | M24: =IF(A24<>0,1,0) -> 0 | N24: =IF(J24<Q24,1,0) -> 0 | O24: =IF(J24>R24,1,0) -> 0 | P24: =SUM(N24:O24) -> 0 | Q24: =L24*0.5 -> 0 | R24: =IFERROR(_xlfn.IFS($M$32=1,L24,$M$32=2,L24,$M$32=3,(L24*1.3),$M$32>3,(L24*1.5)),0) -> 0
D25: =IFERROR(VLOOKUP(Carlos!$A25,'Grade Pós'!A:B,2,0),"") | L25: =SUM(H25:I25) -> 0 | M25: =IF(A25<>0,1,0) -> 0 | N25: =IF(J25<Q25,1,0) -> 0 | O25: =IF(J25>R25,1,0) -> 0 | P25: =SUM(N25:O25) -> 0 | Q25: =L25*0.5 -> 0 | R25: =IFERROR(_xlfn.IFS($M$32=1,L25,$M$32=2,L25,$M$32=3,(L25*1.3),$M$32>3,(L25*1.5)),0) -> 0
D26: =IFERROR(VLOOKUP(Carlos!$A26,'Grade Pós'!A:B,2,0),"") | L26: =SUM(H26:I26) -> 0 | M26: =IF(A26<>0,1,0) -> 0 | N26: =IF(J26<Q26,1,0) -> 0 | O26: =IF(J26>R26,1,0) -> 0 | P26: =SUM(N26:O26) -> 0 | Q26: =L26*0.5 -> 0 | R26: =IFERROR(_xlfn.IFS($M$32=1,L26,$M$32=2,L26,$M$32=3,(L26*1.3),$M$32>3,(L26*1.5)),0) -> 0
D27: =IFERROR(VLOOKUP(Carlos!$A27,'Grade Pós'!A:B,2,0),"") | L27: =SUM(H27:I27) -> 0 | M27: =IF(A27<>0,1,0) -> 0 | N27: =IF(J27<Q27,1,0) -> 0 | O27: =IF(J27>R27,1,0) -> 0 | P27: =SUM(N27:O27) -> 0 | Q27: =L27*0.5 -> 0 | R27: =IFERROR(_xlfn.IFS($M$32=1,L27,$M$32=2,L27,$M$32=3,(L27*1.3),$M$32>3,(L27*1.5)),0) -> 0
D28: =IFERROR(VLOOKUP(Carlos!$A28,'Grade Pós'!A:B,2,0),"") | L28: =SUM(H28:I28) -> 0 | M28: =IF(A28<>0,1,0) -> 0 | N28: =IF(J28<Q28,1,0) -> 0 | O28: =IF(J28>R28,1,0) -> 0 | P28: =SUM(N28:O28) -> 0 | Q28: =L28*0.5 -> 0 | R28: =IFERROR(_xlfn.IFS($M$32=1,L28,$M$32=2,L28,$M$32=3,(L28*1.3),$M$32>3,(L28*1.5)),0) -> 0
D29: =IFERROR(VLOOKUP(Carlos!$A29,'Grade Pós'!A:B,2,0),"") | L29: =SUM(H29:I29) -> 0 | M29: =IF(A29<>0,1,0) -> 0 | N29: =IF(J29<Q29,1,0) -> 0 | O29: =IF(J29>R29,1,0) -> 0 | P29: =SUM(N29:O29) -> 0 | Q29: =L29*0.5 -> 0 | R29: =IFERROR(_xlfn.IFS($M$32=1,L29,$M$32=2,L29,$M$32=3,(L29*1.3),$M$32>3,(L29*1.5)),0) -> 0
D30: =IFERROR(VLOOKUP(Carlos!$A30,'Grade Pós'!A:B,2,0),"") | L30: =SUM(H30:I30) -> 0 | M30: =IF(A30<>0,1,0) -> 0 | N30: =IF(J30<Q30,1,0) -> 0 | O30: =IF(J30>R30,1,0) -> 0 | P30: =SUM(N30:O30) -> 0 | Q30: =L30*0.5 -> 0 | R30: =IFERROR(_xlfn.IFS($M$32=1,L30,$M$32=2,L30,$M$32=3,(L30*1.3),$M$32>3,(L30*1.5)),0) -> 0
D31: =IFERROR(VLOOKUP(Carlos!$A31,'Grade Pós'!A:B,2,0),"") | L31: =SUM(H31:I31) -> 0 | M31: =IF(A31<>0,1,0) -> 0 | N31: =IF(J31<Q31,1,0) -> 0 | O31: =IF(J31>R31,1,0) -> 0 | P31: =SUM(N31:O31) -> 0 | Q31: =L31*0.5 -> 0 | R31: =IFERROR(_xlfn.IFS($M$32=1,L31,$M$32=2,L31,$M$32=3,(L31*1.3),$M$32>3,(L31*1.5)),0) -> 0
A32: BASE DE DADOS (MANTER OCULTA) | J32: =SUM(J12:K21) -> 14 | K32: =SUM(J12:J31) -> 14 | L32: =SUM(L12:L31) -> 14 | M32: =SUM(M12:M31) -> 3 | N32: =IF(K32<Q32,1,0) -> 0 | O32: =IF(K32>R32,1,0) -> 0 | P32: =SUM(N32:O32) -> 0 | Q32: =L32*0.5 -> 7 | R32: =IFERROR(_xlfn.IFS($M$32=1,L32,$M$32=2,L32,$M$32=3,(L32*1.3),$M$32>3,(L32*1.5)),0) -> 18.2
A34: ATIVIDADES DE ORIENTAÇÃO | M34: Para permitir carga horaria menor de 9hs para Funões com mais de 32hs
A35: Professor é vinculado à programas pós graduação Recomendado pela CAPES? | H35: 2 Não | I35: =IFERROR(VLOOKUP(H35,TCapes[],2),"") -> 2 - Carga horária mínima de ensino à alocar = 12 | L35: =IF(H35="2 Não",12,8) -> 12 | M35: =MIN(L35,L113) -> 12
A36: Modalidade | D36: Nome do Orientado | H36: Curso/Habilitação | I36: Semestre de Ingresso/Fase | K36: Informe a C/H Semanal | L36: Cálculo do Coord. Estágio | M36: Coluna2 | N36: Coluna3 | O36: Coluna4 | P36: Coluna5 | Q36: CH Mínima | R36: CH Máxima
A37: Dissertação | K37: 2 | L37: =IF(A37="Coordenação de Estágio",1,0) -> 0 | Q37: =IFERROR(VLOOKUP(A37,Dados!$A$85:$D$89,2,0),0) -> 0 | R37: =IFERROR(VLOOKUP(A37,Dados!$A$85:$D$89,3,0),0) -> 2
A38: Dissertação | K38: 2 | L38: =IF(A38="Coordenação de Estágio",1,0) -> 0 | Q38: =IFERROR(VLOOKUP(A38,Dados!$A$85:$D$89,2,0),0) -> 0 | R38: =IFERROR(VLOOKUP(A38,Dados!$A$85:$D$89,3,0),0) -> 2
A39: Dissertação | K39: 2 | L39: =IF(A39="Coordenação de Estágio",1,0) -> 0 | Q39: =IFERROR(VLOOKUP(A39,Dados!$A$85:$D$89,2,0),0) -> 0 | R39: =IFERROR(VLOOKUP(A39,Dados!$A$85:$D$89,3,0),0) -> 2
A40: Dissertação | K40: 2 | L40: =IF(A40="Coordenação de Estágio",1,0) -> 0 | Q40: =IFERROR(VLOOKUP(A40,Dados!$A$85:$D$89,2,0),0) -> 0 | R40: =IFERROR(VLOOKUP(A40,Dados!$A$85:$D$89,3,0),0) -> 2
A41: Tese | K41: 3 | L41: =IF(A41="Coordenação de Estágio",1,0) -> 0 | Q41: =IFERROR(VLOOKUP(A41,Dados!$A$85:$D$89,2,0),0) -> 0 | R41: =IFERROR(VLOOKUP(A41,Dados!$A$85:$D$89,3,0),0) -> 3
A42: Tese | K42: 3 | L42: =IF(A42="Coordenação de Estágio",1,0) -> 0 | Q42: =IFERROR(VLOOKUP(A42,Dados!$A$85:$D$89,2,0),0) -> 0 | R42: =IFERROR(VLOOKUP(A42,Dados!$A$85:$D$89,3,0),0) -> 3
...

Sheet Cassandro
A1: ANEXO I – RESOLUÇÃO 073/2011 – CONSUNI | R1: Tabela de Cores
A2: UNIVERSIDADE DO ESTADO DE SANTA CATARINA-UDESC | S2: Deve ser incluso dados manualmente
A3: PLANO DE TRABALHO INDIVIDUAL | S3: Não permite alteração
A4: Professor: | D4: Centro de Ciências Agroveterinárias (CAV) | H4: Departamento: | J4: Semestre: 2022/2 | S4: Calculos efetuados pela planilha. Não permite alteração.
A5: Cassandro Vidal Talamini Do Amarante | H5: =VLOOKUP(A5,TProfessores[],2,0) -> Agronomia
A7: Categoria Funcional: | D7: Titulação: | H7: Regime: | J7: Classe:
A8: =VLOOKUP(A5,TProfessores[],3,0) -> Efetivo | D8: =VLOOKUP(A5,TProfessores[],5,0) -> Doutor(a) | H8: =VLOOKUP(A5,TProfessores[],7,0) -> Dedicação Integral | I8: =VLOOKUP(A5,TProfessores[],6,0) -> 40 h | J8: =VLOOKUP(A5,TProfessores[],8,0) -> TITULAR
A9: ATIVIDADES DE ENSINO
A10: Disciplinas-Graduação | D10: Curso | F10: Fase | H10: C/H Ensino | J10: Informe a CH Pedagógica | Q10: CH Mínima | R10: CH Máxima
H11: Teórica | I11: Prática | L11: Soma (Oculta) | M11: Fórmula Oculta | N11: Formula para avisar CH pedagógica fora do sugerido | O11: Coluna1 | P11: Referência p coluna F
D12: =IFERROR(VLOOKUP(A12,TGradeCurricular[],2,0),"") | F12: =IFERROR(VLOOKUP(A12,TGradeCurricular[],3,0),"") | L12: =SUM(H12:I12) -> 0 | M12: =IF(A12<>0,1,0) -> 0 | N12: =IF(J12<Q12,1,0) -> 0 | O12: =IF(J12>R12,1,0) -> 0 | P12: =SUM(N12:O12) -> 0 | Q12: =L12*0.5 -> 0 | R12: =IFERROR(_xlfn.IFS($M$32=1,L12,$M$32=2,L12,$M$32=3,(L12*1.3),$M$32>3,(L12*1.5)),0) -> 0
D13: =IFERROR(VLOOKUP(A13,TGradeCurricular[],2,0),"") | F13: =IFERROR(VLOOKUP(A13,TGradeCurricular[],3,0),"") | L13: =SUM(H13:I13) -> 0 | M13: =IF(A13<>0,1,0) -> 0 | N13: =IF(J13<Q13,1,0) -> 0 | O13: =IF(J13>R13,1,0) -> 0 | P13: =SUM(N13:O13) -> 0 | Q13: =L13*0.5 -> 0 | R13: =IFERROR(_xlfn.IFS($M$32=1,L13,$M$32=2,L13,$M$32=3,(L13*1.3),$M$32>3,(L13*1.5)),0) -> 0
D14: =IFERROR(VLOOKUP(A14,TGradeCurricular[],2,0),"") | F14: =IFERROR(VLOOKUP(A14,TGradeCurricular[],3,0),"") | L14: =SUM(H14:I14) -> 0 | M14: =IF(A14<>0,1,0) -> 0 | N14: =IF(J14<Q14,1,0) -> 0 | O14: =IF(J14>R14,1,0) -> 0 | P14: =SUM(N14:O14) -> 0 | Q14: =L14*0.5 -> 0 | R14: =IFERROR(_xlfn.IFS($M$32=1,L14,$M$32=2,L14,$M$32=3,(L14*1.3),$M$32>3,(L14*1.5)),0) -> 0
D15: =IFERROR(VLOOKUP(A15,TGradeCurricular[],2,0),"") | F15: =IFERROR(VLOOKUP(A15,TGradeCurricular[],3,0),"") | L15: =SUM(H15:I15) -> 0 | M15: =IF(A15<>0,1,0) -> 0 | N15: =IF(J15<Q15,1,0) -> 0 | O15: =IF(J15>R15,1,0) -> 0 | P15: =SUM(N15:O15) -> 0 | Q15: =L15*0.5 -> 0 | R15: =IFERROR(_xlfn.IFS($M$32=1,L15,$M$32=2,L15,$M$32=3,(L15*1.3),$M$32>3,(L15*1.5)),0) -> 0
D16: =IFERROR(VLOOKUP(A16,TGradeCurricular[],2,0),"") | F16: =IFERROR(VLOOKUP(A16,TGradeCurricular[],3,0),"") | L16: =SUM(H16:I16) -> 0 | M16: =IF(A16<>0,1,0) -> 0 | N16: =IF(J16<Q16,1,0) -> 0 | O16: =IF(J16>R16,1,0) -> 0 | P16: =SUM(N16:O16) -> 0 | Q16: =L16*0.5 -> 0 | R16: =IFERROR(_xlfn.IFS($M$32=1,L16,$M$32=2,L16,$M$32=3,(L16*1.3),$M$32>3,(L16*1.5)),0) -> 0
D17: =IFERROR(VLOOKUP(A17,TGradeCurricular[],2,0),"") | F17: =IFERROR(VLOOKUP(A17,TGradeCurricular[],3,0),"") | L17: =SUM(H17:I17) -> 0 | M17: =IF(A17<>0,1,0) -> 0 | N17: =IF(J17<Q17,1,0) -> 0 | O17: =IF(J17>R17,1,0) -> 0 | P17: =SUM(N17:O17) -> 0 | Q17: =L17*0.5 -> 0 | R17: =IFERROR(_xlfn.IFS($M$32=1,L17,$M$32=2,L17,$M$32=3,(L17*1.3),$M$32>3,(L17*1.5)),0) -> 0
D18: =IFERROR(VLOOKUP(A18,TGradeCurricular[],2,0),"") | F18: =IFERROR(VLOOKUP(A18,TGradeCurricular[],3,0),"") | L18: =SUM(H18:I18) -> 0 | M18: =IF(A18<>0,1,0) -> 0 | N18: =IF(J18<Q18,1,0) -> 0 | O18: =IF(J18>R18,1,0) -> 0 | P18: =SUM(N18:O18) -> 0 | Q18: =L18*0.5 -> 0 | R18: =IFERROR(_xlfn.IFS($M$32=1,L18,$M$32=2,L18,$M$32=3,(L18*1.3),$M$32>3,(L18*1.5)),0) -> 0
D19: =IFERROR(VLOOKUP(A19,TGradeCurricular[],2,0),"") | F19: =IFERROR(VLOOKUP(A19,TGradeCurricular[],3,0),"") | L19: =SUM(H19:I19) -> 0 | M19: =IF(A19<>0,1,0) -> 0 | N19: =IF(J19<Q19,1,0) -> 0 | O19: =IF(J19>R19,1,0) -> 0 | P19: =SUM(N19:O19) -> 0 | Q19: =L19*0.5 -> 0 | R19: =IFERROR(_xlfn.IFS($M$32=1,L19,$M$32=2,L19,$M$32=3,(L19*1.3),$M$32>3,(L19*1.5)),0) -> 0
D20: =IFERROR(VLOOKUP(A20,TGradeCurricular[],2,0),"") | F20: =IFERROR(VLOOKUP(A20,TGradeCurricular[],3,0),"") | L20: =SUM(H20:I20) -> 0 | M20: =IF(A20<>0,1,0) -> 0 | N20: =IF(J20<Q20,1,0) -> 0 | O20: =IF(J20>R20,1,0) -> 0 | P20: =SUM(N20:O20) -> 0 | Q20: =L20*0.5 -> 0 | R20: =IFERROR(_xlfn.IFS($M$32=1,L20,$M$32=2,L20,$M$32=3,(L20*1.3),$M$32>3,(L20*1.5)),0) -> 0
D21: =IFERROR(VLOOKUP(A21,TGradeCurricular[],2,0),"") | F21: =IFERROR(VLOOKUP(A21,TGradeCurricular[],3,0),"") | L21: =SUM(H21:I21) -> 0 | M21: =IF(A21<>0,1,0) -> 0 | N21: =IF(J21<Q21,1,0) -> 0 | O21: =IF(J21>R21,1,0) -> 0 | P21: =SUM(N21:O21) -> 0 | Q21: =L21*0.5 -> 0 | R21: =IFERROR(_xlfn.IFS($M$32=1,L21,$M$32=2,L21,$M$32=3,(L21*1.3),$M$32>3,(L21*1.5)),0) -> 0
A22: Disciplinas-Pós Graduação | D22: Programa | H22: C/H Ens. | J22: C/H Pedag.
D23: =IFERROR(VLOOKUP(Cassandro!$A23,'Grade Pós'!A:B,2,0),"") | L23: =SUM(H23:I23) -> 0 | M23: =IF(A23<>0,1,0) -> 0 | N23: =IF(J23<Q23,1,0) -> 0 | O23: =IF(J23>R23,1,0) -> 0 | P23: =SUM(N23:O23) -> 0 | Q23: =L23*0.5 -> 0 | R23: =IFERROR(_xlfn.IFS($M$32=1,L23,$M$32=2,L23,$M$32=3,(L23*1.3),$M$32>3,(L23*1.5)),0) -> 0
D24: =IFERROR(VLOOKUP(Cassandro!$A24,'Grade Pós'!A:B,2,0),"") | L24: =SUM(H24:I24) -> 0 | M24: =IF(A24<>0,1,0) -> 0 | N24: =IF(J24<Q24,1,0) -> 0 | O24: =IF(J24>R24,1,0) -> 0 | P24: =SUM(N24:O24) -> 0 | Q24: =L24*0.5 -> 0 | R24: =IFERROR(_xlfn.IFS($M$32=1,L24,$M$32=2,L24,$M$32=3,(L24*1.3),$M$32>3,(L24*1.5)),0) -> 0
D25: =IFERROR(VLOOKUP(Cassandro!$A25,'Grade Pós'!A:B,2,0),"") | L25: =SUM(H25:I25) -> 0 | M25: =IF(A25<>0,1,0) -> 0 | N25: =IF(J25<Q25,1,0) -> 0 | O25: =IF(J25>R25,1,0) -> 0 | P25: =SUM(N25:O25) -> 0 | Q25: =L25*0.5 -> 0 | R25: =IFERROR(_xlfn.IFS($M$32=1,L25,$M$32=2,L25,$M$32=3,(L25*1.3),$M$32>3,(L25*1.5)),0) -> 0
D26: =IFERROR(VLOOKUP(Cassandro!$A26,'Grade Pós'!A:B,2,0),"") | L26: =SUM(H26:I26) -> 0 | M26: =IF(A26<>0,1,0) -> 0 | N26: =IF(J26<Q26,1,0) -> 0 | O26: =IF(J26>R26,1,0) -> 0 | P26: =SUM(N26:O26) -> 0 | Q26: =L26*0.5 -> 0 | R26: =IFERROR(_xlfn.IFS($M$32=1,L26,$M$32=2,L26,$M$32=3,(L26*1.3),$M$32>3,(L26*1.5)),0) -> 0
D27: =IFERROR(VLOOKUP(Cassandro!$A27,'Grade Pós'!A:B,2,0),"") | L27: =SUM(H27:I27) -> 0 | M27: =IF(A27<>0,1,0) -> 0 | N27: =IF(J27<Q27,1,0) -> 0 | O27: =IF(J27>R27,1,0) -> 0 | P27: =SUM(N27:O27) -> 0 | Q27: =L27*0.5 -> 0 | R27: =IFERROR(_xlfn.IFS($M$32=1,L27,$M$32=2,L27,$M$32=3,(L27*1.3),$M$32>3,(L27*1.5)),0) -> 0
D28: =IFERROR(VLOOKUP(Cassandro!$A28,'Grade Pós'!A:B,2,0),"") | L28: =SUM(H28:I28) -> 0 | M28: =IF(A28<>0,1,0) -> 0 | N28: =IF(J28<Q28,1,0) -> 0 | O28: =IF(J28>R28,1,0) -> 0 | P28: =SUM(N28:O28) -> 0 | Q28: =L28*0.5 -> 0 | R28: =IFERROR(_xlfn.IFS($M$32=1,L28,$M$32=2,L28,$M$32=3,(L28*1.3),$M$32>3,(L28*1.5)),0) -> 0
D29: =IFERROR(VLOOKUP(Cassandro!$A29,'Grade Pós'!A:B,2,0),"") | L29: =SUM(H29:I29) -> 0 | M29: =IF(A29<>0,1,0) -> 0 | N29: =IF(J29<Q29,1,0) -> 0 | O29: =IF(J29>R29,1,0) -> 0 | P29: =SUM(N29:O29) -> 0 | Q29: =L29*0.5 -> 0 | R29: =IFERROR(_xlfn.IFS($M$32=1,L29,$M$32=2,L29,$M$32=3,(L29*1.3),$M$32>3,(L29*1.5)),0) -> 0
D30: =IFERROR(VLOOKUP(Cassandro!$A30,'Grade Pós'!A:B,2,0),"") | L30: =SUM(H30:I30) -> 0 | M30: =IF(A30<>0,1,0) -> 0 | N30: =IF(J30<Q30,1,0) -> 0 | O30: =IF(J30>R30,1,0) -> 0 | P30: =SUM(N30:O30) -> 0 | Q30: =L30*0.5 -> 0 | R30: =IFERROR(_xlfn.IFS($M$32=1,L30,$M$32=2,L30,$M$32=3,(L30*1.3),$M$32>3,(L30*1.5)),0) -> 0
D31: =IFERROR(VLOOKUP(Cassandro!$A31,'Grade Pós'!A:B,2,0),"") | L31: =SUM(H31:I31) -> 0 | M31: =IF(A31<>0,1,0) -> 0 | N31: =IF(J31<Q31,1,0) -> 0 | O31: =IF(J31>R31,1,0) -> 0 | P31: =SUM(N31:O31) -> 0 | Q31: =L31*0.5 -> 0 | R31: =IFERROR(_xlfn.IFS($M$32=1,L31,$M$32=2,L31,$M$32=3,(L31*1.3),$M$32>3,(L31*1.5)),0) -> 0
