Workbook

Sheet Manual
A1: MANUAL
A2: Olá.
A3: Esta planilha busca simular o PTI.
A4: Na aba seguinte (abaixo desta tela) "Inserção de Dados" vcs encontrarão um modelo semelhante ao PTI tradicional
A5: As cores representam o seguinte:
B6: Deve ser incluso dados manualmente. LANCEM OS DADOS EXCLUSIVAMENTE NESTES CAMPOS.
B7: Não permite alteração
B8: Calculos efetuados pela planilha. Não permite alteração.
A10: Observem que os campos em verde constarão uma sugestão de carga horária de acordo com a maioria das regras da Resolução 029/2009 e caso algo fique diferente do previsto ficará em vermelho.
A11: Tal situação ocorrerá na ultima linha do PTI (DESENVOLVIMENTO DE CARGA HORÁRIA)
A12: Começem pelo nome do Professor (Deverão buscar na Barra de rolagem ao lado da célula)
B13: Os dados relacionados ao cadastro do professor será automaticamente preenchido nos campos em cinza.
A15: ATIVIDADE DE ENSINO GRADUAÇÃO E PÓS
B16: Basta selecionar a disciplina na barra de rolagem (COLUNA A). Consequentemente o curso e fase será automaticamente inserido na tela.
B17: Planilha calculará no campo em verde a CH máxima e minima de acordo com a qtde de disciplinas
A18: ATIVIDADE DE ORIENTAÇÃO
B19: Informar se é professor vinculado a CAPES.
B20: Selecione a modalidade e verifique no campo em verde a carga horária máxima permitida
A21: PROJETOS DE ENSINO
B22: A informação constante no campo "Participante/Coordenador" definirá o maximo de CH sugerida no campo em verde na mesma linha
A23: ATIVIDADES DE PESQUISA
B24: Informar o enquadramento do prof. Isso definirá o máximo de creditos à alocar cfme resolução. Aparecerá uma mensagem na mesma linha
A25: ATIVIDADES DE EXTENSÃO
B26: Planilha não realiza calculos de CH máxima. Apenas do total acumulado destas atividades.
A27: ATIVIDADES DE ADMINISTRAÇÃO
B28: Informe a atividade e observe na mesma linha o máximo de CH que pode ser alocado.
A29: CAPACITAÇÃO / LICENÇA / COMPLEMENTEO
B30: Planilha não realiza calculos de CH máxima. Apenas do total acumulado destas atividades.
A31: DESENVOLVIMENTO DE CARGA HORÁRIA
B32: Aparecerá em vermelho as inconsistências.
A33: CHEFES DE DPTO
B34: Na aba "POD" constará a mesma já pronta.
A35: OUTRAS ABAS
B36: Desconsiderem. São os bancos de dados utilizados nesta planilha para estrutura o PTI.

Sheet Aike
A1: ANEXO I – RESOLUÇÃO 073/2011 – CONSUNI | R1: Tabela de Cores
A2: UNIVERSIDADE DO ESTADO DE SANTA CATARINA-UDESC | S2: Deve ser incluso dados manualmente
A3: PLANO DE TRABALHO INDIVIDUAL | S3: Não permite alteração
A4: Professor: | D4: Centro de Ciências Agroveterinárias (CAV) | H4: Departamento: | J4: Semestre: 2022/2 | S4: Calculos efetuados pela planilha. Não permite alteração.
A5: Aike Anneliese Kretzschmar | H5: =VLOOKUP(A5,TProfessores[],2,0) -> Agronomia
A7: Categoria Funcional: | D7: Titulação: | H7: Regime: | J7: Classe:
A8: =VLOOKUP(A5,TProfessores[],3,0) -> Efetivo | D8: =VLOOKUP(A5,TProfessores[],5,0) -> Doutor(a) | H8: =VLOOKUP(A5,TProfessores[],7,0) -> Dedicação Integral | I8: =VLOOKUP(A5,TProfessores[],6,0) -> 40 h | J8: =VLOOKUP(A5,TProfessores[],8,0) -> TITULAR
A9: ATIVIDADES DE ENSINO
A10: Disciplinas-Graduação | D10: Curso | F10: Fase | H10: C/H Ensino | J10: Informe a CH Pedagógica | Q10: CH Mínima | R10: CH Máxima
H11: Teórica | I11: Prática | L11: Soma (Oculta) | M11: Fórmula Oculta | N11: Formula para avisar CH pedagógica fora do sugerido | O11: Coluna1 | P11: Referência p coluna F
A12: Fruticultura | D12: =IFERROR(VLOOKUP(A12,TGradeCurricular[],2,0),"") -> Agronomia | F12: =IFERROR(VLOOKUP(A12,TGradeCurricular[],3,0),"") -> 8ª | H12: 2 | I12: 2 | J12: 3 | L12: =SUM(H12:I12) -> 4 | M12: =IF(A12<>0,1,0) -> 1 | N12: =IF(J12<Q12,1,0) -> 0 | O12: =IF(J12>R12,1,0) -> 0 | P12: =SUM(N12:O12) -> 0 | Q12: =L12*0.5 -> 2 | R12: =IFERROR(_xlfn.IFS($M$32=1,L12,$M$32=2,L12,$M$32=3,(L12*1.3),$M$32>3,(L12*1.5)),0) -> 6
A13: Floricultura | D13: =IFERROR(VLOOKUP(A13,TGradeCurricular[],2,0),"") -> Agronomia | F13: =IFERROR(VLOOKUP(A13,TGradeCurricular[],3,0),"") -> Eletiva | H13: 2 | I13: 0 | J13: 3 | L13: =SUM(H13:I13) -> 2 | M13: =IF(A13<>0,1,0) -> 1 | N13: =IF(J13<Q13,1,0) -> 0 | O13: =IF(J13>R13,1,0) -> 0 | P13: =SUM(N13:O13) -> 0 | Q13: =L13*0.5 -> 1 | R13: =IFERROR(_xlfn.IFS($M$32=1,L13,$M$32=2,L13,$M$32=3,(L13*1.3),$M$32>3,(L13*1.5)),0) -> 3
A14: Prod.de Plantas, Med. Arom. e Condimentares | D14: =IFERROR(VLOOKUP(A14,TGradeCurricular[],2,0),"") -> Agronomia | F14: =IFERROR(VLOOKUP(A14,TGradeCurricular[],3,0),"") -> Eletiva | H14: 2 | I14: 0 | J14: 3 | L14: =SUM(H14:I14) -> 2 | M14: =IF(A14<>0,1,0) -> 1 | N14: =IF(J14<Q14,1,0) -> 0 | O14: =IF(J14>R14,1,0) -> 0 | P14: =SUM(N14:O14) -> 0 | Q14: =L14*0.5 -> 1 | R14: =IFERROR(_xlfn.IFS($M$32=1,L14,$M$32=2,L14,$M$32=3,(L14*1.3),$M$32>3,(L14*1.5)),0) -> 3
D15: =IFERROR(VLOOKUP(A15,TGradeCurricular[],2,0),"") | F15: =IFERROR(VLOOKUP(A15,TGradeCurricular[],3,0),"") | L15: =SUM(H15:I15) -> 0 | M15: =IF(A15<>0,1,0) -> 0 | N15: =IF(J15<Q15,1,0) -> 0 | O15: =IF(J15>R15,1,0) -> 0 | P15: =SUM(N15:O15) -> 0 | Q15: =L15*0.5 -> 0 | R15: =IFERROR(_xlfn.IFS($M$32=1,L15,$M$32=2,L15,$M$32=3,(L15*1.3),$M$32>3,(L15*1.5)),0) -> 0
D16: =IFERROR(VLOOKUP(A16,TGradeCurricular[],2,0),"") | F16: =IFERROR(VLOOKUP(A16,TGradeCurricular[],3,0),"") | L16: =SUM(H16:I16) -> 0 | M16: =IF(A16<>0,1,0) -> 0 | N16: =IF(J16<Q16,1,0) -> 0 | O16: =IF(J16>R16,1,0) -> 0 | P16: =SUM(N16:O16) -> 0 | Q16: =L16*0.5 -> 0 | R16: =IFERROR(_xlfn.IFS($M$32=1,L16,$M$32=2,L16,$M$32=3,(L16*1.3),$M$32>3,(L16*1.5)),0) -> 0
D17: =IFERROR(VLOOKUP(A17,TGradeCurricular[],2,0),"") | F17: =IFERROR(VLOOKUP(A17,TGradeCurricular[],3,0),"") | L17: =SUM(H17:I17) -> 0 | M17: =IF(A17<>0,1,0) -> 0 | N17: =IF(J17<Q17,1,0) -> 0 | O17: =IF(J17>R17,1,0) -> 0 | P17: =SUM(N17:O17) -> 0 | Q17: =L17*0.5 -> 0 | R17: =IFERROR(_xlfn.IFS($M$32=1,L17,$M$32=2,L17,$M$32=3,(L17*1.3),$M$32>3,(L17*1.5)),0) -> 0
D18: =IFERROR(VLOOKUP(A18,TGradeCurricular[],2,0),"") | F18: =IFERROR(VLOOKUP(A18,TGradeCurricular[],3,0),"") | L18: =SUM(H18:I18) -> 0 | M18: =IF(A18<>0,1,0) -> 0 | N18: =IF(J18<Q18,1,0) -> 0 | O18: =IF(J18>R18,1,0) -> 0 | P18: =SUM(N18:O18) -> 0 | Q18: =L18*0.5 -> 0 | R18: =IFERROR(_xlfn.IFS($M$32=1,L18,$M$32=2,L18,$M$32=3,(L18*1.3),$M$32>3,(L18*1.5)),0) -> 0
D19: =IFERROR(VLOOKUP(A19,TGradeCurricular[],2,0),"") | F19: =IFERROR(VLOOKUP(A19,TGradeCurricular[],3,0),"") | L19: =SUM(H19:I19) -> 0 | M19: =IF(A19<>0,1,0) -> 0 | N19: =IF(J19<Q19,1,0) -> 0 | O19: =IF(J19>R19,1,0) -> 0 | P19: =SUM(N19:O19) -> 0 | Q19: =L19*0.5 -> 0 | R19: =IFERROR(_xlfn.IFS($M$32=1,L19,$M$32=2,L19,$M$32=3,(L19*1.3),$M$32>3,(L19*1.5)),0) -> 0
D20: =IFERROR(VLOOKUP(A20,TGradeCurricular[],2,0),"") | F20: =IFERROR(VLOOKUP(A20,TGradeCurricular[],3,0),"") | L20: =SUM(H20:I20) -> 0 | M20: =IF(A20<>0,1,0) -> 0 | N20: =IF(J20<Q20,1,0) -> 0 | O20: =IF(J20>R20,1,0) -> 0 | P20: =SUM(N20:O20) -> 0 | Q20: =L20*0.5 -> 0 | R20: =IFERROR(_xlfn.IFS($M$32=1,L20,$M$32=2,L20,$M$32=3,(L20*1.3),$M$32>3,(L20*1.5)),0) -> 0
D21: =IFERROR(VLOOKUP(A21,TGradeCurricular[],2,0),"") | F21: =IFERROR(VLOOKUP(A21,TGradeCurricular[],3,0),"") | L21: =SUM(H21:I21) -> 0 | M21: =IF(A21<>0,1,0) -> 0 | N21: =IF(J21<Q21,1,0) -> 0 | O21: =IF(J21>R21,1,0) -> 0 | P21: =SUM(N21:O21) -> 0 | Q21: =L21*0.5 -> 0 | R21: =IFERROR(_xlfn.IFS($M$32=1,L21,$M$32=2,L21,$M$32=3,(L21*1.3),$M$32>3,(L21*1.5)),0) -> 0
A22: Disciplinas-Pós Graduação | D22: Programa | H22: C/H Ens. | J22: C/H Pedag.
A23: NOME DA DISCIPLINA | D23: =IFERROR(VLOOKUP(Aike!$A23,'Grade Pós'!A:B,2,0),"") -> PROGRAMA | H23: 1 | J23: 1 | L23: =SUM(H23:I23) -> 1 | M23: =IF(A23<>0,1,0) -> 1 | N23: =IF(J23<Q23,1,0) -> 0 | O23: =IF(J23>R23,1,0) -> 0 | P23: =SUM(N23:O23) -> 0 | Q23: =L23*0.5 -> 0.5 | R23: =IFERROR(_xlfn.IFS($M$32=1,L23,$M$32=2,L23,$M$32=3,(L23*1.3),$M$32>3,(L23*1.5)),0) -> 1.5
A24: NOME DA DISCIPLINA | D24: =IFERROR(VLOOKUP(Aike!$A24,'Grade Pós'!A:B,2,0),"") -> PROGRAMA | H24: 0 | J24: 0 | L24: =SUM(H24:I24) -> 0 | M24: =IF(A24<>0,1,0) -> 1 | N24: =IF(J24<Q24,1,0) -> 0 | O24: =IF(J24>R24,1,0) -> 0 | P24: =SUM(N24:O24) -> 0 | Q24: =L24*0.5 -> 0 | R24: =IFERROR(_xlfn.IFS($M$32=1,L24,$M$32=2,L24,$M$32=3,(L24*1.3),$M$32>3,(L24*1.5)),0) -> 0
D25: =IFERROR(VLOOKUP(Aike!$A25,'Grade Pós'!A:B,2,0),"") | L25: =SUM(H25:I25) -> 0 | M25: =IF(A25<>0,1,0) -> 0 | N25: =IF(J25<Q25,1,0) -> 0 | O25: =IF(J25>R25,1,0) -> 0 | P25: =SUM(N25:O25) -> 0 | Q25: =L25*0.5 -> 0 | R25: =IFERROR(_xlfn.IFS($M$32=1,L25,$M$32=2,L25,$M$32=3,(L25*1.3),$M$32>3,(L25*1.5)),0) -> 0
D26: =IFERROR(VLOOKUP(Aike!$A26,'Grade Pós'!A:B,2,0),"") | L26: =SUM(H26:I26) -> 0 | M26: =IF(A26<>0,1,0) -> 0 | N26: =IF(J26<Q26,1,0) -> 0 | O26: =IF(J26>R26,1,0) -> 0 | P26: =SUM(N26:O26) -> 0 | Q26: =L26*0.5 -> 0 | R26: =IFERROR(_xlfn.IFS($M$32=1,L26,$M$32=2,L26,$M$32=3,(L26*1.3),$M$32>3,(L26*1.5)),0) -> 0
D27: =IFERROR(VLOOKUP(Aike!$A27,'Grade Pós'!A:B,2,0),"") | L27: =SUM(H27:I27) -> 0 | M27: =IF(A27<>0,1,0) -> 0 | N27: =IF(J27<Q27,1,0) -> 0 | O27: =IF(J27>R27,1,0) -> 0 | P27: =SUM(N27:O27) -> 0 | Q27: =L27*0.5 -> 0 | R27: =IFERROR(_xlfn.IFS($M$32=1,L27,$M$32=2,L27,$M$32=3,(L27*1.3),$M$32>3,(L27*1.5)),0) -> 0
D28: =IFERROR(VLOOKUP(Aike!$A28,'Grade Pós'!A:B,2,0),"") | L28: =SUM(H28:I28) -> 0 | M28: =IF(A28<>0,1,0) -> 0 | N28: =IF(J28<Q28,1,0) -> 0 | O28: =IF(J28>R28,1,0) -> 0 | P28: =SUM(N28:O28) -> 0 | Q28: =L28*0.5 -> 0 | R28: =IFERROR(_xlfn.IFS($M$32=1,L28,$M$32=2,L28,$M$32=3,(L28*1.3),$M$32>3,(L28*1.5)),0) -> 0
D29: =IFERROR(VLOOKUP(Aike!$A29,'Grade Pós'!A:B,2,0),"") | L29: =SUM(H29:I29) -> 0 | M29: =IF(A29<>0,1,0) -> 0 | N29: =IF(J29<Q29,1,0) -> 0 | O29: =IF(J29>R29,1,0) -> 0 | P29: =SUM(N29:O29) -> 0 | Q29: =L29*0.5 -> 0 | R29: =IFERROR(_xlfn.IFS($M$32=1,L29,$M$32=2,L29,$M$32=3,(L29*1.3),$M$32>3,(L29*1.5)),0) -> 0
D30: =IFERROR(VLOOKUP(Aike!$A30,'Grade Pós'!A:B,2,0),"") | L30: =SUM(H30:I30) -> 0 | M30: =IF(A30<>0,1,0) -> 0 | N30: =IF(J30<Q30,1,0) -> 0 | O30: =IF(J30>R30,1,0) -> 0 | P30: =SUM(N30:O30) -> 0 | Q30: =L30*0.5 -> 0 | R30: =IFERROR(_xlfn.IFS($M$32=1,L30,$M$32=2,L30,$M$32=3,(L30*1.3),$M$32>3,(L30*1.5)),0) -> 0
D31: =IFERROR(VLOOKUP(Aike!$A31,'Grade Pós'!A:B,2,0),"") | L31: =SUM(H31:I31) -> 0 | M31: =IF(A31<>0,1,0) -> 0 | N31: =IF(J31<Q31,1,0) -> 0 | O31: =IF(J31>R31,1,0) -> 0 | P31: =SUM(N31:O31) -> 0 | Q31: =L31*0.5 -> 0 | R31: =IFERROR(_xlfn.IFS($M$32=1,L31,$M$32=2,L31,$M$32=3,(L31*1.3),$M$32>3,(L31*1.5)),0) -> 0
A32: BASE DE DADOS (MANTER OCULTA) | J32: =SUM(J12:K21) -> 9 | K32: =SUM(J12:J31) -> 10 | L32: =SUM(L12:L31) -> 9 | M32: =SUM(M12:M31) -> 5 | N32: =IF(K32<Q32,1,0) -> 0 | O32: =IF(K32>R32,1,0) -> 0 | P32: =SUM(N32:O32) -> 0 | Q32: =L32*0.5 -> 4.5 | R32: =IFERROR(_xlfn.IFS($M$32=1,L32,$M$32=2,L32,$M$32=3,(L32*1.3),$M$32>3,(L32*1.5)),0) -> 13.5
A34: ATIVIDADES DE ORIENTAÇÃO | M34: Para permitir carga horaria menor de 9hs para Funões com mais de 32hs
A35: Professor é vinculado à programas pós graduação Recomendado pela CAPES? | H35: 1 Sim | I35: =IFERROR(VLOOKUP(H35,TCapes[],2),"") -> 1 -Permite Alocar Carga Horária Mínima de 8 Créditos de Ensino | L35: =IF(H35="2 Não",12,8) -> 8 | M35: =MIN(L35,L113) -> 8
A36: Modalidade | D36: Nome do Orientado | H36: Curso/Habilitação | I36: Semestre de Ingresso/Fase | K36: Informe a C/H Semanal | L36: Cálculo do Coord. Estágio | M36: Coluna2 | N36: Coluna3 | O36: Coluna4 | P36: Coluna5 | Q36: CH Mínima | R36: CH Máxima
A37: Dissertação | K37: 2 | L37: =IF(A37="Coordenação de Estágio",1,0) -> 0 | Q37: =IFERROR(VLOOKUP(A37,Dados!$A$85:$D$89,2,0),0) -> 0 | R37: =IFERROR(VLOOKUP(A37,Dados!$A$85:$D$89,3,0),0) -> 2
A38: Tese | K38: 2 | L38: =IF(A38="Coordenação de Estágio",1,0) -> 0 | Q38: =IFERROR(VLOOKUP(A38,Dados!$A$85:$D$89,2,0),0) -> 0 | R38: =IFERROR(VLOOKUP(A38,Dados!$A$85:$D$89,3,0),0) -> 3
L39: =IF(A39="Coordenação de Estágio",1,0) -> 0 | Q39: =IFERROR(VLOOKUP(A39,Dados!$A$85:$D$89,2,0),0) -> 0 | R39: =IFERROR(VLOOKUP(A39,Dados!$A$85:$D$89,3,0),0) -> 0
L40: =IF(A40="Coordenação de Estágio",1,0) -> 0 | Q40: =IFERROR(VLOOKUP(A40,Dados!$A$85:$D$89,2,0),0) -> 0 | R40: =IFERROR(VLOOKUP(A40,Dados!$A$85:$D$89,3,0),0) -> 0
L41: =IF(A41="Coordenação de Estágio",1,0) -> 0 | Q41: =IFERROR(VLOOKUP(A41,Dados!$A$85:$D$89,2,0),0) -> 0 | R41: =IFERROR(VLOOKUP(A41,Dados!$A$85:$D$89,3,0),0) -> 0
L42: =IF(A42="Coordenação de Estágio",1,0) -> 0 | Q42: =IFERROR(VLOOKUP(A42,Dados!$A$85:$D$89,2,0),0) -> 0 | R42: =IFERROR(VLOOKUP(A42,Dados!$A$85:$D$89,3,0),0) -> 0
L43: =IF(A43="Coordenação de Estágio",1,0) -> 0 | Q43: =IFERROR(VLOOKUP(A43,Dados!$A$85:$D$89,2,0),0) -> 0 | R43: =IFERROR(VLOOKUP(A43,Dados!$A$85:$D$89,3,0),0) -> 0
L44: =IF(A44="Coordenação de Estágio",1,0) -> 0 | Q44: =IFERROR(VLOOKUP(A44,Dados!$A$85:$D$89,2,0),0) -> 0 | R44: =IFERROR(VLOOKUP(A44,Dados!$A$85:$D$89,3,0),0) -> 0
L45: =IF(A45="Coordenação de Estágio",1,0) -> 0 | Q45: =IFERROR(VLOOKUP(A45,Dados!$A$85:$D$89,2,0),0) -> 0 | R45: =IFERROR(VLOOKUP(A45,Dados!$A$85:$D$89,3,0),0) -> 0
L46: =IF(A46="Coordenação de Estágio",1,0) -> 0 | Q46: =IFERROR(VLOOKUP(A46,Dados!$A$85:$D$89,2,0),0) -> 0 | R46: =IFERROR(VLOOKUP(A46,Dados!$A$85:$D$89,3,0),0) -> 0
L47: =IF(A47="Coordenação de Estágio",1,0) -> 0 | Q47: =IFERROR(VLOOKUP(A47,Dados!$A$85:$D$89,2,0),0) -> 0 | R47: =IFERROR(VLOOKUP(A47,Dados!$A$85:$D$89,3,0),0) -> 0
L48: =IF(A48="Coordenação de Estágio",1,0) -> 0 | Q48: =IFERROR(VLOOKUP(A48,Dados!$A$85:$D$89,2,0),0) -> 0 | R48: =IFERROR(VLOOKUP(A48,Dados!$A$85:$D$89,3,0),0) -> 0
L49: =IF(A49="Coordenação de Estágio",1,0) -> 0 | Q49: =IFERROR(VLOOKUP(A49,Dados!$A$85:$D$89,2,0),0) -> 0 | R49: =IFERROR(VLOOKUP(A49,Dados!$A$85:$D$89,3,0),0) -> 0
A50: BASE DE DADOS (MANTER OCULTA) | K50: =SUM(K37:K49) -> 4 | L50: =SUM(L37:L49) -> 0 | M50: =IF(L50=1,20,12) -> 12 | Q50: =SUM(Q37:Q49) -> 0 | R50: =SUM(R37:R49) -> 5
A52: PROJETOS DE ENSINO
A53: Título | D53: Coordenador/Participante | F53: C/H | G53: Autorização | I53: Início | K53: Término | L53: Coluna2 | M53: Coluna3 | N53: Coluna4 | O53: Coluna5 | P53: Coluna6 | Q53: CH Mínima | R53: CH Máxima
Q54: =IFERROR(VLOOKUP(Aike!$D54,Tabela20[],2,0),0) -> 0 | R54: =IFERROR(VLOOKUP(Aike!$D54,Tabela20[],3,0),0) -> 0
Q55: =IFERROR(VLOOKUP(Aike!$D55,Tabela20[],2,0),0) -> 0 | R55: =IFERROR(VLOOKUP(Aike!$D55,Tabela20[],3,0),0) -> 0
Q56: =IFERROR(VLOOKUP(Aike!$D56,Tabela20[],2,0),0) -> 0 | R56: =IFERROR(VLOOKUP(Aike!$D56,Tabela20[],3,0),0) -> 0
Q57: =IFERROR(VLOOKUP(Aike!$D57,Tabela20[],2,0),0) -> 0 | R57: =IFERROR(VLOOKUP(Aike!$D57,Tabela20[],3,0),0) -> 0
Q58: =IFERROR(VLOOKUP(Aike!$D58,Tabela20[],2,0),0) -> 0 | R58: =IFERROR(VLOOKUP(Aike!$D58,Tabela20[],3,0),0) -> 0
Q59: =IFERROR(VLOOKUP(Aike!$D59,Tabela20[],2,0),0) -> 0 | R59: =IFERROR(VLOOKUP(Aike!$D59,Tabela20[],3,0),0) -> 0
Q60: =IFERROR(VLOOKUP(Aike!$D60,Tabela20[],2,0),0) -> 0 | R60: =IFERROR(VLOOKUP(Aike!$D60,Tabela20[],3,0),0) -> 0
Q61: =IFERROR(VLOOKUP(Aike!$D61,Tabela20[],2,0),0) -> 0 | R61: =IFERROR(VLOOKUP(Aike!$D61,Tabela20[],3,0),0) -> 0
Q62: =IFERROR(VLOOKUP(Aike!$D62,Tabela20[],2,0),0) -> 0 | R62: =IFERROR(VLOOKUP(Aike!$D62,Tabela20[],3,0),0) -> 0
Q63: =IFERROR(VLOOKUP(Aike!$D63,Tabela20[],2,0),0) -> 0 | R63: =IFERROR(VLOOKUP(Aike!$D63,Tabela20[],3,0),0) -> 0
Q64: =IFERROR(VLOOKUP(Aike!$D64,Tabela20[],2,0),0) -> 0 | R64: =IFERROR(VLOOKUP(Aike!$D64,Tabela20[],3,0),0) -> 0
A65: TOTAL | F65: =SUM(Aike!$F$54:$F$64) -> 0
A67: ATIVIDADES DE PESQUISA
A68: Favor informar o enquadramento ao lado | D68: 4 - Pesquisador Doutor | L68: =VLOOKUP(D68,TabPesquisa[],3) -> 10 | Q68: =IFERROR(VLOOKUP(D68,TabPesquisa[],2),"") -> Limite de horas Semanais = 10
A69: Título | D69: Coordenador/Participante | F69: C/H | G69: Autorização | I69: Data Aprovação CONCENTRO | J69: Início | K69: Término | Q69: CH Mínima | R69: CH Máxima
D70: Coordenador | F70: 4 | Q70: =IFERROR(VLOOKUP(Aike!$D70,Tabela11[],2),0) -> 0 | R70: =IFERROR(VLOOKUP(Aike!$D70,Tabela11[],3),0) -> 6
D71: Coordenador | F71: 3 | Q71: =IFERROR(VLOOKUP(Aike!$D71,Tabela11[],2),0) -> 0 | R71: =IFERROR(VLOOKUP(Aike!$D71,Tabela11[],3),0) -> 6
D72: Participante | F72: 1 | Q72: =IFERROR(VLOOKUP(Aike!$D72,Tabela11[],2),0) -> 0 | R72: =IFERROR(VLOOKUP(Aike!$D72,Tabela11[],3),0) -> 2
Q73: =IFERROR(VLOOKUP(Aike!$D73,Tabela11[],2),0) -> 0 | R73: =IFERROR(VLOOKUP(Aike!$D73,Tabela11[],3),0) -> 0
Q74: =IFERROR(VLOOKUP(Aike!$D74,Tabela11[],2),0) -> 0 | R74: =IFERROR(VLOOKUP(Aike!$D74,Tabela11[],3),0) -> 0
Q75: =IFERROR(VLOOKUP(Aike!$D75,Tabela11[],2),0) -> 0 | R75: =IFERROR(VLOOKUP(Aike!$D75,Tabela11[],3),0) -> 0
Q76: =IFERROR(VLOOKUP(Aike!$D76,Tabela11[],2),0) -> 0 | R76: =IFERROR(VLOOKUP(Aike!$D76,Tabela11[],3),0) -> 0
Q77: =IFERROR(VLOOKUP(Aike!$D77,Tabela11[],2),0) -> 0 | R77: =IFERROR(VLOOKUP(Aike!$D77,Tabela11[],3),0) -> 0
Q78: =IFERROR(VLOOKUP(Aike!$D78,Tabela11[],2),0) -> 0 | R78: =IFERROR(VLOOKUP(Aike!$D78,Tabela11[],3),0) -> 0
Q79: =IFERROR(VLOOKUP(Aike!$D79,Tabela11[],2),0) -> 0 | R79: =IFERROR(VLOOKUP(Aike!$D79,Tabela11[],3),0) -> 0
Q80: =IFERROR(VLOOKUP(Aike!$D80,Tabela11[],2),0) -> 0 | R80: =IFERROR(VLOOKUP(Aike!$D80,Tabela11[],3),0) -> 0
A81: BASE DE DADOS (MANTER OCULTA) | F81: =SUM(F70:F80) -> 8
A83: ATIVIDADES DE EXTENSÃO
A84: Categoria: Programa ou Projeto | F84: C/H | G84: Autorização/Ata | I84: Início | K84: Término | L84: Coluna2 | M84: Coluna3 | N84: Coluna4 | O84: CH Mínima | P84: CH Máxima
F85: 5 | O85: =IFERROR(VLOOKUP(Aike!$D85,Tabela21[],2,0),0) -> 0 | P85: =IFERROR(VLOOKUP(Aike!$D85,Tabela21[],3,0),0) -> 0
O86: =IFERROR(VLOOKUP(Aike!$D86,Tabela21[],2,0),0) -> 0 | P86: =IFERROR(VLOOKUP(Aike!$D86,Tabela21[],3,0),0) -> 0
O87: =IFERROR(VLOOKUP(Aike!$D87,Tabela21[],2,0),0) -> 0 | P87: =IFERROR(VLOOKUP(Aike!$D87,Tabela21[],3,0),0) -> 0
O88: =IFERROR(VLOOKUP(Aike!$D88,Tabela21[],2,0),0) -> 0 | P88: =IFERROR(VLOOKUP(Aike!$D88,Tabela21[],3,0),0) -> 0
O89: =IFERROR(VLOOKUP(Aike!$D89,Tabela21[],2,0),0) -> 0 | P89: =IFERROR(VLOOKUP(Aike!$D89,Tabela21[],3,0),0) -> 0
O90: =IFERROR(VLOOKUP(Aike!$D90,Tabela21[],2,0),0) -> 0 | P90: =IFERROR(VLOOKUP(Aike!$D90,Tabela21[],3,0),0) -> 0
O91: =IFERROR(VLOOKUP(Aike!$D91,Tabela21[],2,0),0) -> 0 | P91: =IFERROR(VLOOKUP(Aike!$D91,Tabela21[],3,0),0) -> 0
O92: =IFERROR(VLOOKUP(Aike!$D92,Tabela21[],2,0),0) -> 0 | P92: =IFERROR(VLOOKUP(Aike!$D92,Tabela21[],3,0),0) -> 0
O93: =IFERROR(VLOOKUP(Aike!$D93,Tabela21[],2,0),0) -> 0 | P93: =IFERROR(VLOOKUP(Aike!$D93,Tabela21[],3,0),0) -> 0
O94: =IFERROR(VLOOKUP(Aike!$D94,Tabela21[],2,0),0) -> 0 | P94: =IFERROR(VLOOKUP(Aike!$D94,Tabela21[],3,0),0) -> 0
O95: =IFERROR(VLOOKUP(Aike!$D95,Tabela21[],2,0),0) -> 0 | P95: =IFERROR(VLOOKUP(Aike!$D95,Tabela21[],3,0),0) -> 0
O96: =IFERROR(VLOOKUP(Aike!$D96,Tabela21[],2,0),0) -> 0 | P96: =IFERROR(VLOOKUP(Aike!$D96,Tabela21[],3,0),0) -> 0
A97: TOTAL | F97: =SUM(F85:F96) -> 5 | O97: =IFERROR(VLOOKUP(Aike!$D97,Tabela21[],2,0),0) -> 0 | P97: =IFERROR(VLOOKUP(Aike!$D97,Tabela21[],3,0),0) -> 0
A99: ATIVIDADES DE ADMINISTRAÇÃO
A100: Atividade | D100: Descrição do Local/Cargo/função... | F100: C/H | G100: Autorização | I100: Início | K100: Término | L100: Redutor Calculo de Ensino | M100: Coluna2 | N100: Coluna3 | O100: Coluna4 | P100: Coluna5 | Q100: CH Mínima | R100: CH Máxima
A101: X. Coordenador de Programa Especial e Projeto Institucional; | F101: 4 | L101: =IFERROR(VLOOKUP(Aike!$A101,TFunçõesAdm[],3,0),40) -> 35 | Q101: 0 | R101: =IFERROR(VLOOKUP(A101,TFunçõesAdm[],2,FALSE),0) -> 5
A102: IX. Coordenador de Laboratório Institucional; | F102: 1 | L102: =IFERROR(VLOOKUP(Aike!$A102,TFunçõesAdm[],3,0),40) -> 35 | Q102: 0 | R102: =IFERROR(VLOOKUP(A102,TFunçõesAdm[],2,FALSE),0) -> 5
L103: =IFERROR(VLOOKUP(Aike!$A103,TFunçõesAdm[],3,0),40) -> 40 | Q103: 0 | R103: =IFERROR(VLOOKUP(A103,TFunçõesAdm[],2,FALSE),0) -> 0
L104: =IFERROR(VLOOKUP(Aike!$A104,TFunçõesAdm[],3,0),40) -> 40 | Q104: 0 | R104: =IFERROR(VLOOKUP(A104,TFunçõesAdm[],2,FALSE),0) -> 0
L105: =IFERROR(VLOOKUP(Aike!$A105,TFunçõesAdm[],3,0),40) -> 40 | Q105: 0 | R105: =IFERROR(VLOOKUP(A105,TFunçõesAdm[],2,FALSE),0) -> 0
L106: =IFERROR(VLOOKUP(Aike!$A106,TFunçõesAdm[],3,0),40) -> 40 | Q106: 0 | R106: =IFERROR(VLOOKUP(A106,TFunçõesAdm[],2,FALSE),0) -> 0
...

Sheet Altamir
A1: ANEXO I – RESOLUÇÃO 073/2011 – CONSUNI | R1: Tabela de Cores
A2: UNIVERSIDADE DO ESTADO DE SANTA CATARINA-UDESC | S2: Deve ser incluso dados manualmente
A3: PLANO DE TRABALHO INDIVIDUAL | S3: Não permite alteração
A4: Professor: | D4: Centro de Ciências Agroveterinárias (CAV) | H4: Departamento: | J4: Semestre: 2022/2 | S4: Calculos efetuados pela planilha. Não permite alteração.
A5: Altamir Frederico Guidolin | H5: =VLOOKUP(A5,TProfessores[],2,0) -> Agronomia
A7: Categoria Funcional: | D7: Titulação: | H7: Regime: | J7: Classe:
A8: =VLOOKUP(A5,TProfessores[],3,0) -> Efetivo | D8: =VLOOKUP(A5,TProfessores[],5,0) -> Doutor(a) | H8: =VLOOKUP(A5,TProfessores[],7,0) -> Dedicação Integral | I8: =VLOOKUP(A5,TProfessores[],6,0) -> 40 h | J8: =VLOOKUP(A5,TProfessores[],8,0) -> TITULAR
A9: ATIVIDADES DE ENSINO
A10: Disciplinas-Graduação | D10: Curso | F10: Fase | H10: C/H Ensino | J10: Informe a CH Pedagógica | Q10: CH Mínima | R10: CH Máxima
H11: Teórica | I11: Prática | L11: Soma (Oculta) | M11: Fórmula Oculta | N11: Formula para avisar CH pedagógica fora do sugerido | O11: Coluna1 | P11: Referência p coluna F
A12: Genética (EFL) | D12: =IFERROR(VLOOKUP(A12,TGradeCurricular[],2,0),"") -> Engenharia Florestal | F12: =IFERROR(VLOOKUP(A12,TGradeCurricular[],3,0),"") -> 3ª | H12: 2 | I12: 4 | J12: 7.8 | L12: =SUM(H12:I12) -> 6 | M12: =IF(A12<>0,1,0) -> 1 | N12: =IF(J12<Q12,1,0) -> 0 | O12: =IF(J12>R12,1,0) -> 0 | P12: =SUM(N12:O12) -> 0 | Q12: =L12*0.5 -> 3 | R12: =IFERROR(_xlfn.IFS($M$32=1,L12,$M$32=2,L12,$M$32=3,(L12*1.3),$M$32>3,(L12*1.5)),0) -> 7.8
A13: Genética (Agro) | D13: =IFERROR(VLOOKUP(A13,TGradeCurricular[],2,0),"") -> Agronomia | F13: =IFERROR(VLOOKUP(A13,TGradeCurricular[],3,0),"") -> 3ª | H13: 2 | I13: 4 | J13: 7.8 | L13: =SUM(H13:I13) -> 6 | M13: =IF(A13<>0,1,0) -> 1 | N13: =IF(J13<Q13,1,0) -> 0 | O13: =IF(J13>R13,1,0) -> 0 | P13: =SUM(N13:O13) -> 0 | Q13: =L13*0.5 -> 3 | R13: =IFERROR(_xlfn.IFS($M$32=1,L13,$M$32=2,L13,$M$32=3,(L13*1.3),$M$32>3,(L13*1.5)),0) -> 7.8
A14: Introdução à Economia | D14: =IFERROR(VLOOKUP(A14,TGradeCurricular[],2,0),"") -> Agronomia | F14: =IFERROR(VLOOKUP(A14,TGradeCurricular[],3,0),"") -> 6ª | H14: 2 | I14: 0 | J14: 2.4 | L14: =SUM(H14:I14) -> 2 | M14: =IF(A14<>0,1,0) -> 1 | N14: =IF(J14<Q14,1,0) -> 0 | O14: =IF(J14>R14,1,0) -> 0 | P14: =SUM(N14:O14) -> 0 | Q14: =L14*0.5 -> 1 | R14: =IFERROR(_xlfn.IFS($M$32=1,L14,$M$32=2,L14,$M$32=3,(L14*1.3),$M$32>3,(L14*1.5)),0) -> 2.6
D15: =IFERROR(VLOOKUP(A15,TGradeCurricular[],2,0),"") | F15: =IFERROR(VLOOKUP(A15,TGradeCurricular[],3,0),"") | L15: =SUM(H15:I15) -> 0 | M15: =IF(A15<>0,1,0) -> 0 | N15: =IF(J15<Q15,1,0) -> 0 | O15: =IF(J15>R15,1,0) -> 0 | P15: =SUM(N15:O15) -> 0 | Q15: =L15*0.5 -> 0 | R15: =IFERROR(_xlfn.IFS($M$32=1,L15,$M$32=2,L15,$M$32=3,(L15*1.3),$M$32>3,(L15*1.5)),0) -> 0
D16: =IFERROR(VLOOKUP(A16,TGradeCurricular[],2,0),"") | F16: =IFERROR(VLOOKUP(A16,TGradeCurricular[],3,0),"") | L16: =SUM(H16:I16) -> 0 | M16: =IF(A16<>0,1,0) -> 0 | N16: =IF(J16<Q16,1,0) -> 0 | O16: =IF(J16>R16,1,0) -> 0 | P16: =SUM(N16:O16) -> 0 | Q16: =L16*0.5 -> 0 | R16: =IFERROR(_xlfn.IFS($M$32=1,L16,$M$32=2,L16,$M$32=3,(L16*1.3),$M$32>3,(L16*1.5)),0) -> 0
D17: =IFERROR(VLOOKUP(A17,TGradeCurricular[],2,0),"") | F17: =IFERROR(VLOOKUP(A17,TGradeCurricular[],3,0),"") | L17: =SUM(H17:I17) -> 0 | M17: =IF(A17<>0,1,0) -> 0 | N17: =IF(J17<Q17,1,0) -> 0 | O17: =IF(J17>R17,1,0) -> 0 | P17: =SUM(N17:O17) -> 0 | Q17: =L17*0.5 -> 0 | R17: =IFERROR(_xlfn.IFS($M$32=1,L17,$M$32=2,L17,$M$32=3,(L17*1.3),$M$32>3,(L17*1.5)),0) -> 0
D18: =IFERROR(VLOOKUP(A18,TGradeCurricular[],2,0),"") | F18: =IFERROR(VLOOKUP(A18,TGradeCurricular[],3,0),"") | L18: =SUM(H18:I18) -> 0 | M18: =IF(A18<>0,1,0) -> 0 | N18: =IF(J18<Q18,1,0) -> 0 | O18: =IF(J18>R18,1,0) -> 0 | P18: =SUM(N18:O18) -> 0 | Q18: =L18*0.5 -> 0 | R18: =IFERROR(_xlfn.IFS($M$32=1,L18,$M$32=2,L18,$M$32=3,(L18*1.3),$M$32>3,(L18*1.5)),0) -> 0
D19: =IFERROR(VLOOKUP(A19,TGradeCurricular[],2,0),"") | F19: =IFERROR(VLOOKUP(A19,TGradeCurricular[],3,0),"") | L19: =SUM(H19:I19) -> 0 | M19: =IF(A19<>0,1,0) -> 0 | N19: =IF(J19<Q19,1,0) -> 0 | O19: =IF(J19>R19,1,0) -> 0 | P19: =SUM(N19:O19) -> 0 | Q19: =L19*0.5 -> 0 | R19: =IFERROR(_xlfn.IFS($M$32=1,L19,$M$32=2,L19,$M$32=3,(L19*1.3),$M$32>3,(L19*1.5)),0) -> 0
D20: =IFERROR(VLOOKUP(A20,TGradeCurricular[],2,0),"") | F20: =IFERROR(VLOOKUP(A20,TGradeCurricular[],3,0),"") | L20: =SUM(H20:I20) -> 0 | M20: =IF(A20<>0,1,0) -> 0 | N20: =IF(J20<Q20,1,0) -> 0 | O20: =IF(J20>R20,1,0) -> 0 | P20: =SUM(N20:O20) -> 0 | Q20: =L20*0.5 -> 0 | R20: =IFERROR(_xlfn.IFS($M$32=1,L20,$M$32=2,L20,$M$32=3,(L20*1.3),$M$32>3,(L20*1.5)),0) -> 0
D21: =IFERROR(VLOOKUP(A21,TGradeCurricular[],2,0),"") | F21: =IFERROR(VLOOKUP(A21,TGradeCurricular[],3,0),"") | L21: =SUM(H21:I21) -> 0 | M21: =IF(A21<>0,1,0) -> 0 | N21: =IF(J21<Q21,1,0) -> 0 | O21: =IF(J21>R21,1,0) -> 0 | P21: =SUM(N21:O21) -> 0 | Q21: =L21*0.5 -> 0 | R21: =IFERROR(_xlfn.IFS($M$32=1,L21,$M$32=2,L21,$M$32=3,(L21*1.3),$M$32>3,(L21*1.5)),0) -> 0
A22: Disciplinas-Pós Graduação | D22: Programa | H22: C/H Ens. | J22: C/H Pedag.
D23: =IFERROR(VLOOKUP(Altamir!$A23,'Grade Pós'!A:B,2,0),"") | L23: =SUM(H23:I23) -> 0 | M23: =IF(A23<>0,1,0) -> 0 | N23: =IF(J23<Q23,1,0) -> 0 | O23: =IF(J23>R23,1,0) -> 0 | P23: =SUM(N23:O23) -> 0 | Q23: =L23*0.5 -> 0 | R23: =IFERROR(_xlfn.IFS($M$32=1,L23,$M$32=2,L23,$M$32=3,(L23*1.3),$M$32>3,(L23*1.5)),0) -> 0
D24: =IFERROR(VLOOKUP(Altamir!$A24,'Grade Pós'!A:B,2,0),"") | L24: =SUM(H24:I24) -> 0 | M24: =IF(A24<>0,1,0) -> 0 | N24: =IF(J24<Q24,1,0) -> 0 | O24: =IF(J24>R24,1,0) -> 0 | P24: =SUM(N24:O24) -> 0 | Q24: =L24*0.5 -> 0 | R24: =IFERROR(_xlfn.IFS($M$32=1,L24,$M$32=2,L24,$M$32=3,(L24*1.3),$M$32>3,(L24*1.5)),0) -> 0
D25: =IFERROR(VLOOKUP(Altamir!$A25,'Grade Pós'!A:B,2,0),"") | L25: =SUM(H25:I25) -> 0 | M25: =IF(A25<>0,1,0) -> 0 | N25: =IF(J25<Q25,1,0) -> 0 | O25: =IF(J25>R25,1,0) -> 0 | P25: =SUM(N25:O25) -> 0 | Q25: =L25*0.5 -> 0 | R25: =IFERROR(_xlfn.IFS($M$32=1,L25,$M$32=2,L25,$M$32=3,(L25*1.3),$M$32>3,(L25*1.5)),0) -> 0
D26: =IFERROR(VLOOKUP(Altamir!$A26,'Grade Pós'!A:B,2,0),"") | L26: =SUM(H26:I26) -> 0 | M26: =IF(A26<>0,1,0) -> 0 | N26: =IF(J26<Q26,1,0) -> 0 | O26: =IF(J26>R26,1,0) -> 0 | P26: =SUM(N26:O26) -> 0 | Q26: =L26*0.5 -> 0 | R26: =IFERROR(_xlfn.IFS($M$32=1,L26,$M$32=2,L26,$M$32=3,(L26*1.3),$M$32>3,(L26*1.5)),0) -> 0
D27: =IFERROR(VLOOKUP(Altamir!$A27,'Grade Pós'!A:B,2,0),"") | L27: =SUM(H27:I27) -> 0 | M27: =IF(A27<>0,1,0) -> 0 | N27: =IF(J27<Q27,1,0) -> 0 | O27: =IF(J27>R27,1,0) -> 0 | P27: =SUM(N27:O27) -> 0 | Q27: =L27*0.5 -> 0 | R27: =IFERROR(_xlfn.IFS($M$32=1,L27,$M$32=2,L27,$M$32=3,(L27*1.3),$M$32>3,(L27*1.5)),0) -> 0
D28: =IFERROR(VLOOKUP(Altamir!$A28,'Grade Pós'!A:B,2,0),"") | L28: =SUM(H28:I28) -> 0 | M28: =IF(A28<>0,1,0) -> 0 | N28: =IF(J28<Q28,1,0) -> 0 | O28: =IF(J28>R28,1,0) -> 0 | P28: =SUM(N28:O28) -> 0 | Q28: =L28*0.5 -> 0 | R28: =IFERROR(_xlfn.IFS($M$32=1,L28,$M$32=2,L28,$M$32=3,(L28*1.3),$M$32>3,(L28*1.5)),0) -> 0
D29: =IFERROR(VLOOKUP(Altamir!$A29,'Grade Pós'!A:B,2,0),"") | L29: =SUM(H29:I29) -> 0 | M29: =IF(A29<>0,1,0) -> 0 | N29: =IF(J29<Q29,1,0) -> 0 | O29: =IF(J29>R29,1,0) -> 0 | P29: =SUM(N29:O29) -> 0 | Q29: =L29*0.5 -> 0 | R29: =IFERROR(_xlfn.IFS($M$32=1,L29,$M$32=2,L29,$M$32=3,(L29*1.3),$M$32>3,(L29*1.5)),0) -> 0
D30: =IFERROR(VLOOKUP(Altamir!$A30,'Grade Pós'!A:B,2,0),"") | L30: =SUM(H30:I30) -> 0 | M30: =IF(A30<>0,1,0) -> 0 | N30: =IF(J30<Q30,1,0) -> 0 | O30: =IF(J30>R30,1,0) -> 0 | P30: =SUM(N30:O30) -> 0 | Q30: =L30*0.5 -> 0 | R30: =IFERROR(_xlfn.IFS($M$32=1,L30,$M$32=2,L30,$M$32=3,(L30*1.3),$M$32>3,(L30*1.5)),0) -> 0
D31: =IFERROR(VLOOKUP(Altamir!$A31,'Grade Pós'!A:B,2,0),"") | L31: =SUM(H31:I31) -> 0 | M31: =IF(A31<>0,1,0) -> 0 | N31: =IF(J31<Q31,1,0) -> 0 | O31: =IF(J31>R31,1,0) -> 0 | P31: =SUM(N31:O31) -> 0 | Q31: =L31*0.5 -> 0 | R31: =IFERROR(_xlfn.IFS($M$32=1,L31,$M$32=2,L31,$M$32=3,(L31*1.3),$M$32>3,(L31*1.5)),0) -> 0
A32: BASE DE DADOS (MANTER OCULTA) | J32: =SUM(J12:K21) -> 18 | K32: =SUM(J12:J31) -> 18 | L32: =SUM(L12:L31) -> 14 | M32: =SUM(M12:M31) -> 3 | N32: =IF(K32<Q32,1,0) -> 0 | O32: =IF(K32>R32,1,0) -> 0 | P32: =SUM(N32:O32) -> 0 | Q32: =L32*0.5 -> 7 | R32: =IFERROR(_xlfn.IFS($M$32=1,L32,$M$32=2,L32,$M$32=3,(L32*1.3),$M$32>3,(L32*1.5)),0) -> 18.2
A34: ATIVIDADES DE ORIENTAÇÃO | M34: Para permitir carga horaria menor de 9hs para Funões com mais de 32hs
A35: Professor é vinculado à programas pós graduação Recomendado pela CAPES? | H35: 2 Não | I35: =IFERROR(VLOOKUP(H35,TCapes[],2),"") -> 2 - Carga horária mínima de ensino à alocar = 12 | L35: =IF(H35="2 Não",12,8) -> 12 | M35: =MIN(L35,L113) -> 12
A36: Modalidade | D36: Nome do Orientado | H36: Curso/Habilitação | I36: Semestre de Ingresso/Fase | K36: Informe a C/H Semanal | L36: Cálculo do Coord. Estágio | M36: Coluna2 | N36: Coluna3 | O36: Coluna4 | P36: Coluna5 | Q36: CH Mínima | R36: CH Máxima
A37: Tese | K37: 1 | L37: =IF(A37="Coordenação de Estágio",1,0) -> 0 | Q37: =IFERROR(VLOOKUP(A37,Dados!$A$85:$D$89,2,0),0) -> 0 | R37: =IFERROR(VLOOKUP(A37,Dados!$A$85:$D$89,3,0),0) -> 3
L38: =IF(A38="Coordenação de Estágio",1,0) -> 0 | Q38: =IFERROR(VLOOKUP(A38,Dados!$A$85:$D$89,2,0),0) -> 0 | R38: =IFERROR(VLOOKUP(A38,Dados!$A$85:$D$89,3,0),0) -> 0
L39: =IF(A39="Coordenação de Estágio",1,0) -> 0 | Q39: =IFERROR(VLOOKUP(A39,Dados!$A$85:$D$89,2,0),0) -> 0 | R39: =IFERROR(VLOOKUP(A39,Dados!$A$85:$D$89,3,0),0) -> 0
L40: =IF(A40="Coordenação de Estágio",1,0) -> 0 | Q40: =IFERROR(VLOOKUP(A40,Dados!$A$85:$D$89,2,0),0) -> 0 | R40: =IFERROR(VLOOKUP(A40,Dados!$A$85:$D$89,3,0),0) -> 0
L41: =IF(A41="Coordenação de Estágio",1,0) -> 0 | Q41: =IFERROR(VLOOKUP(A41,Dados!$A$85:$D$89,2,0),0) -> 0 | R41: =IFERROR(VLOOKUP(A41,Dados!$A$85:$D$89,3,0),0) -> 0
L42: =IF(A42="Coordenação de Estágio",1,0) -> 0 | Q42: =IFERROR(VLOOKUP(A42,Dados!$A$85:$D$89,2,0),0) -> 0 | R42: =IFERROR(VLOOKUP(A42,Dados!$A$85:$D$89,3,0),0) -> 0
L43: =IF(A43="Coordenação de Estágio",1,0) -> 0 | Q43: =IFERROR(VLOOKUP(A43,Dados!$A$85:$D$89,2,0),0) -> 0 | R43: =IFERROR(VLOOKUP(A43,Dados!$A$85:$D$89,3,0),0) -> 0
L44: =IF(A44="Coordenação de Estágio",1,0) -> 0 | Q44: =IFERROR(VLOOKUP(A44,Dados!$A$85:$D$89,2,0),0) -> 0 | R44: =IFERROR(VLOOKUP(A44,Dados!$A$85:$D$89,3,0),0) -> 0
L45: =IF(A45="Coordenação de Estágio",1,0) -> 0 | Q45: =IFERROR(VLOOKUP(A45,Dados!$A$85:$D$89,2,0),0) -> 0 | R45: =IFERROR(VLOOKUP(A45,Dados!$A$85:$D$89,3,0),0) -> 0
L46: =IF(A46="Coordenação de Estágio",1,0) -> 0 | Q46: =IFERROR(VLOOKUP(A46,Dados!$A$85:$D$89,2,0),0) -> 0 | R46: =IFERROR(VLOOKUP(A46,Dados!$A$85:$D$89,3,0),0) -> 0
L47: =IF(A47="Coordenação de Estágio",1,0) -> 0 | Q47: =IFERROR(VLOOKUP(A47,Dados!$A$85:$D$89,2,0),0) -> 0 | R47: =IFERROR(VLOOKUP(A47,Dados!$A$85:$D$89,3,0),0) -> 0
L48: =IF(A48="Coordenação de Estágio",1,0) -> 0 | Q48: =IFERROR(VLOOKUP(A48,Dados!$A$85:$D$89,2,0),0) -> 0 | R48: =IFERROR(VLOOKUP(A48,Dados!$A$85:$D$89,3,0),0) -> 0
L49: =IF(A49="Coordenação de Estágio",1,0) -> 0 | Q49: =IFERROR(VLOOKUP(A49,Dados!$A$85:$D$89,2,0),0) -> 0 | R49: =IFERROR(VLOOKUP(A49,Dados!$A$85:$D$89,3,0),0) -> 0
A50: BASE DE DADOS (MANTER OCULTA) | K50: =SUM(K37:K49) -> 1 | L50: =SUM(L37:L49) -> 0 | M50: =IF(L50=1,20,12) -> 12 | Q50: =SUM(Q37:Q49) -> 0 | R50: =SUM(R37:R49) -> 3
A52: PROJETOS DE ENSINO
A53: Título | D53: Coordenador/Participante | F53: C/H | G53: Autorização | I53: Início | K53: Término | L53: Coluna2 | M53: Coluna3 | N53: Coluna4 | O53: Coluna5 | P53: Coluna6 | Q53: CH Mínima | R53: CH Máxima
Q54: =IFERROR(VLOOKUP(Altamir!$D54,Tabela20[],2,0),0) -> 0 | R54: =IFERROR(VLOOKUP(Altamir!$D54,Tabela20[],3,0),0) -> 0
Q55: =IFERROR(VLOOKUP(Altamir!$D55,Tabela20[],2,0),0) -> 0 | R55: =IFERROR(VLOOKUP(Altamir!$D55,Tabela20[],3,0),0) -> 0
Q56: =IFERROR(VLOOKUP(Altamir!$D56,Tabela20[],2,0),0) -> 0 | R56: =IFERROR(VLOOKUP(Altamir!$D56,Tabela20[],3,0),0) -> 0
Q57: =IFERROR(VLOOKUP(Altamir!$D57,Tabela20[],2,0),0) -> 0 | R57: =IFERROR(VLOOKUP(Altamir!$D57,Tabela20[],3,0),0) -> 0
Q58: =IFERROR(VLOOKUP(Altamir!$D58,Tabela20[],2,0),0) -> 0 | R58: =IFERROR(VLOOKUP(Altamir!$D58,Tabela20[],3,0),0) -> 0
Q59: =IFERROR(VLOOKUP(Altamir!$D59,Tabela20[],2,0),0) -> 0 | R59: =IFERROR(VLOOKUP(Altamir!$D59,Tabela20[],3,0),0) -> 0
Q60: =IFERROR(VLOOKUP(Altamir!$D60,Tabela20[],2,0),0) -> 0 | R60: =IFERROR(VLOOKUP(Altamir!$D60,Tabela20[],3,0),0) -> 0
Q61: =IFERROR(VLOOKUP(Altamir!$D61,Tabela20[],2,0),0) -> 0 | R61: =IFERROR(VLOOKUP(Altamir!$D61,Tabela20[],3,0),0) -> 0
Q62: =IFERROR(VLOOKUP(Altamir!$D62,Tabela20[],2,0),0) -> 0 | R62: =IFERROR(VLOOKUP(Altamir!$D62,Tabela20[],3,0),0) -> 0
Q63: =IFERROR(VLOOKUP(Altamir!$D63,Tabela20[],2,0),0) -> 0 | R63: =IFERROR(VLOOKUP(Altamir!$D63,Tabela20[],3,0),0) -> 0
Q64: =IFERROR(VLOOKUP(Altamir!$D64,Tabela20[],2,0),0) -> 0 | R64: =IFERROR(VLOOKUP(Altamir!$D64,Tabela20[],3,0),0) -> 0
A65: TOTAL | F65: =SUM(Altamir!$F$54:$F$64) -> 0
A67: ATIVIDADES DE PESQUISA
A68: Favor informar o enquadramento ao lado | D68: 4 - Pesquisador Doutor | L68: =VLOOKUP(D68,TabPesquisa[],3) -> 10 | Q68: =IFERROR(VLOOKUP(D68,TabPesquisa[],2),"") -> Limite de horas Semanais = 10
A69: Título | D69: Coordenador/Participante | F69: C/H | G69: Autorização | I69: Data Aprovação CONCENTRO | J69: Início | K69: Término | Q69: CH Mínima | R69: CH Máxima
D70: Coordenador | F70: 6 | Q70: =IFERROR(VLOOKUP(Altamir!$D70,Tabela11[],2),0) -> 0 | R70: =IFERROR(VLOOKUP(Altamir!$D70,Tabela11[],3),0) -> 6
Q71: =IFERROR(VLOOKUP(Altamir!$D71,Tabela11[],2),0) -> 0 | R71: =IFERROR(VLOOKUP(Altamir!$D71,Tabela11[],3),0) -> 0
Q72: =IFERROR(VLOOKUP(Altamir!$D72,Tabela11[],2),0) -> 0 | R72: =IFERROR(VLOOKUP(Altamir!$D72,Tabela11[],3),0) -> 0
Q73: =IFERROR(VLOOKUP(Altamir!$D73,Tabela11[],2),0) -> 0 | R73: =IFERROR(VLOOKUP(Altamir!$D73,Tabela11[],3),0) -> 0
Q74: =IFERROR(VLOOKUP(Altamir!$D74,Tabela11[],2),0) -> 0 | R74: =IFERROR(VLOOKUP(Altamir!$D74,Tabela11[],3),0) -> 0
Q75: =IFERROR(VLOOKUP(Altamir!$D75,Tabela11[],2),0) -> 0 | R75: =IFERROR(VLOOKUP(Altamir!$D75,Tabela11[],3),0) -> 0
Q76: =IFERROR(VLOOKUP(Altamir!$D76,Tabela11[],2),0) -> 0 | R76: =IFERROR(VLOOKUP(Altamir!$D76,Tabela11[],3),0) -> 0
Q77: =IFERROR(VLOOKUP(Altamir!$D77,Tabela11[],2),0) -> 0 | R77: =IFERROR(VLOOKUP(Altamir!$D77,Tabela11[],3),0) -> 0
Q78: =IFERROR(VLOOKUP(Altamir!$D78,Tabela11[],2),0) -> 0 | R78: =IFERROR(VLOOKUP(Altamir!$D78,Tabela11[],3),0) -> 0
Q79: =IFERROR(VLOOKUP(Altamir!$D79,Tabela11[],2),0) -> 0 | R79: =IFERROR(VLOOKUP(Altamir!$D79,Tabela11[],3),0) -> 0
Q80: =IFERROR(VLOOKUP(Altamir!$D80,Tabela11[],2),0) -> 0 | R80: =IFERROR(VLOOKUP(Altamir!$D80,Tabela11[],3),0) -> 0
A81: BASE DE DADOS (MANTER OCULTA) | F81: =SUM(F70:F80) -> 6
A83: ATIVIDADES DE EXTENSÃO
A84: Categoria: Programa ou Projeto | F84: C/H | G84: Autorização/Ata | I84: Início | K84: Término | L84: Coluna2 | M84: Coluna3 | N84: Coluna4 | O84: CH Mínima | P84: CH Máxima
O85: =IFERROR(VLOOKUP(Altamir!$D85,Tabela21[],2,0),0) -> 0 | P85: =IFERROR(VLOOKUP(Altamir!$D85,Tabela21[],3,0),0) -> 0
O86: =IFERROR(VLOOKUP(Altamir!$D86,Tabela21[],2,0),0) -> 0 | P86: =IFERROR(VLOOKUP(Altamir!$D86,Tabela21[],3,0),0) -> 0
O87: =IFERROR(VLOOKUP(Altamir!$D87,Tabela21[],2,0),0) -> 0 | P87: =IFERROR(VLOOKUP(Altamir!$D87,Tabela21[],3,0),0) -> 0
O88: =IFERROR(VLOOKUP(Altamir!$D88,Tabela21[],2,0),0) -> 0 | P88: =IFERROR(VLOOKUP(Altamir!$D88,Tabela21[],3,0),0) -> 0
O89: =IFERROR(VLOOKUP(Altamir!$D89,Tabela21[],2,0),0) -> 0 | P89: =IFERROR(VLOOKUP(Altamir!$D89,Tabela21[],3,0),0) -> 0
O90: =IFERROR(VLOOKUP(Altamir!$D90,Tabela21[],2,0),0) -> 0 | P90: =IFERROR(VLOOKUP(Altamir!$D90,Tabela21[],3,0),0) -> 0
O91: =IFERROR(VLOOKUP(Altamir!$D91,Tabela21[],2,0),0) -> 0 | P91: =IFERROR(VLOOKUP(Altamir!$D91,Tabela21[],3,0),0) -> 0
O92: =IFERROR(VLOOKUP(Altamir!$D92,Tabela21[],2,0),0) -> 0 | P92: =IFERROR(VLOOKUP(Altamir!$D92,Tabela21[],3,0),0) -> 0
O93: =IFERROR(VLOOKUP(Altamir!$D93,Tabela21[],2,0),0) -> 0 | P93: =IFERROR(VLOOKUP(Altamir!$D93,Tabela21[],3,0),0) -> 0
O94: =IFERROR(VLOOKUP(Altamir!$D94,Tabela21[],2,0),0) -> 0 | P94: =IFERROR(VLOOKUP(Altamir!$D94,Tabela21[],3,0),0) -> 0
O95: =IFERROR(VLOOKUP(Altamir!$D95,Tabela21[],2,0),0) -> 0 | P95: =IFERROR(VLOOKUP(Altamir!$D95,Tabela21[],3,0),0) -> 0
O96: =IFERROR(VLOOKUP(Altamir!$D96,Tabela21[],2,0),0) -> 0 | P96: =IFERROR(VLOOKUP(Altamir!$D96,Tabela21[],3,0),0) -> 0
A97: TOTAL | F97: =SUM(F85:F96) -> 0 | O97: =IFERROR(VLOOKUP(Altamir!$D97,Tabela21[],2,0),0) -> 0 | P97: =IFERROR(VLOOKUP(Altamir!$D97,Tabela21[],3,0),0) -> 0
A99: ATIVIDADES DE ADMINISTRAÇÃO
A100: Atividade | D100: Descrição do Local/Cargo/função... | F100: C/H | G100: Autorização | I100: Início | K100: Término | L100: Redutor Calculo de Ensino | M100: Coluna2 | N100: Coluna3 | O100: Coluna4 | P100: Coluna5 | Q100: CH Mínima | R100: CH Máxima
A101: IX. Coordenador de Laboratório Institucional; | F101: 5 | L101: =IFERROR(VLOOKUP(Altamir!$A101,TFunçõesAdm[],3,0),40) -> 35 | Q101: 0 | R101: =IFERROR(VLOOKUP(A101,TFunçõesAdm[],2,FALSE),0) -> 5
L102: =IFERROR(VLOOKUP(Altamir!$A102,TFunçõesAdm[],3,0),40) -> 40 | Q102: 0 | R102: =IFERROR(VLOOKUP(A102,TFunçõesAdm[],2,FALSE),0) -> 0
L103: =IFERROR(VLOOKUP(Altamir!$A103,TFunçõesAdm[],3,0),40) -> 40 | Q103: 0 | R103: =IFERROR(VLOOKUP(A103,TFunçõesAdm[],2,FALSE),0) -> 0
L104: =IFERROR(VLOOKUP(Altamir!$A104,TFunçõesAdm[],3,0),40) -> 40 | Q104: 0 | R104: =IFERROR(VLOOKUP(A104,TFunçõesAdm[],2,FALSE),0) -> 0
L105: =IFERROR(VLOOKUP(Altamir!$A105,TFunçõesAdm[],3,0),40) -> 40 | Q105: 0 | R105: =IFERROR(VLOOKUP(A105,TFunçõesAdm[],2,FALSE),0) -> 0
L106: =IFERROR(VLOOKUP(Altamir!$A106,TFunçõesAdm[],3,0),40) -> 40 | Q106: 0 | R106: =IFERROR(VLOOKUP(A106,TFunçõesAdm[],2,FALSE),0) -> 0
...

Sheet Andre
A1: ANEXO I – RESOLUÇÃO 073/2011 – CONSUNI | R1: Tabela de Cores
A2: UNIVERSIDADE DO ESTADO DE SANTA CATARINA-UDESC | S2: Deve ser incluso dados manualmente
A3: PLANO DE TRABALHO INDIVIDUAL | S3: Não permite alteração
A4: Professor: | D4: Centro de Ciências Agroveterinárias (CAV) | H4: Departamento: | J4: Semestre: 2022/2 | S4: Calculos efetuados pela planilha. Não permite alteração.
A5: André Aníbal Brandt | H5: =VLOOKUP(A5,TProfessores[],2,0) -> Agronomia
A7: Categoria Funcional: | D7: Titulação: | H7: Regime: | J7: Classe:
A8: =VLOOKUP(A5,TProfessores[],3,0) -> Efetivo | D8: =VLOOKUP(A5,TProfessores[],5,0) -> Doutor(a) | H8: =VLOOKUP(A5,TProfessores[],7,0) -> Dedicação Integral | I8: =VLOOKUP(A5,TProfessores[],6,0) -> 40 h | J8: =VLOOKUP(A5,TProfessores[],8,0) -> ADJUNTO
A9: ATIVIDADES DE ENSINO
A10: Disciplinas-Graduação | D10: Curso | F10: Fase | H10: C/H Ensino | J10: Informe a CH Pedagógica | Q10: CH Mínima | R10: CH Máxima
H11: Teórica | I11: Prática | L11: Soma (Oculta) | M11: Fórmula Oculta | N11: Formula para avisar CH pedagógica fora do sugerido | O11: Coluna1 | P11: Referência p coluna F
A12: Mecânica, Motores e Tratores Agrícolas (Agro) | D12: =IFERROR(VLOOKUP(A12,TGradeCurricular[],2,0),"") -> Agronomia | F12: =IFERROR(VLOOKUP(A12,TGradeCurricular[],3,0),"") -> 3ª | H12: 2 | I12: 2 | J12: 3 | L12: =SUM(H12:I12) -> 4 | M12: =IF(A12<>0,1,0) -> 1 | N12: =IF(J12<Q12,1,0) -> 0 | O12: =IF(J12>R12,1,0) -> 0 | P12: =SUM(N12:O12) -> 0 | Q12: =L12*0.5 -> 2 | R12: =IFERROR(_xlfn.IFS($M$32=1,L12,$M$32=2,L12,$M$32=3,(L12*1.3),$M$32>3,(L12*1.5)),0) -> 5.2
A13: Mecânica, Motores e Tratores Agrícolas (EFL) | D13: =IFERROR(VLOOKUP(A13,TGradeCurricular[],2,0),"") -> Engenharia Florestal | F13: =IFERROR(VLOOKUP(A13,TGradeCurricular[],3,0),"") -> 3ª | H13: 2 | I13: 1 | J13: 2 | L13: =SUM(H13:I13) -> 3 | M13: =IF(A13<>0,1,0) -> 1 | N13: =IF(J13<Q13,1,0) -> 0 | O13: =IF(J13>R13,1,0) -> 0 | P13: =SUM(N13:O13) -> 0 | Q13: =L13*0.5 -> 1.5 | R13: =IFERROR(_xlfn.IFS($M$32=1,L13,$M$32=2,L13,$M$32=3,(L13*1.3),$M$32>3,(L13*1.5)),0) -> 3.9
A14: Prática de Máquinas Agrícolas | D14: =IFERROR(VLOOKUP(A14,TGradeCurricular[],2,0),"") -> Agronomia | F14: =IFERROR(VLOOKUP(A14,TGradeCurricular[],3,0),"") -> 4ª | H14: 2 | I14: 4 | J14: 5 | L14: =SUM(H14:I14) -> 6 | M14: =IF(A14<>0,1,0) -> 1 | N14: =IF(J14<Q14,1,0) -> 0 | O14: =IF(J14>R14,1,0) -> 0 | P14: =SUM(N14:O14) -> 0 | Q14: =L14*0.5 -> 3 | R14: =IFERROR(_xlfn.IFS($M$32=1,L14,$M$32=2,L14,$M$32=3,(L14*1.3),$M$32>3,(L14*1.5)),0) -> 7.8
D15: =IFERROR(VLOOKUP(A15,TGradeCurricular[],2,0),"") | F15: =IFERROR(VLOOKUP(A15,TGradeCurricular[],3,0),"") | L15: =SUM(H15:I15) -> 0 | M15: =IF(A15<>0,1,0) -> 0 | N15: =IF(J15<Q15,1,0) -> 0 | O15: =IF(J15>R15,1,0) -> 0 | P15: =SUM(N15:O15) -> 0 | Q15: =L15*0.5 -> 0 | R15: =IFERROR(_xlfn.IFS($M$32=1,L15,$M$32=2,L15,$M$32=3,(L15*1.3),$M$32>3,(L15*1.5)),0) -> 0
D16: =IFERROR(VLOOKUP(A16,TGradeCurricular[],2,0),"") | F16: =IFERROR(VLOOKUP(A16,TGradeCurricular[],3,0),"") | L16: =SUM(H16:I16) -> 0 | M16: =IF(A16<>0,1,0) -> 0 | N16: =IF(J16<Q16,1,0) -> 0 | O16: =IF(J16>R16,1,0) -> 0 | P16: =SUM(N16:O16) -> 0 | Q16: =L16*0.5 -> 0 | R16: =IFERROR(_xlfn.IFS($M$32=1,L16,$M$32=2,L16,$M$32=3,(L16*1.3),$M$32>3,(L16*1.5)),0) -> 0
D17: =IFERROR(VLOOKUP(A17,TGradeCurricular[],2,0),"") | F17: =IFERROR(VLOOKUP(A17,TGradeCurricular[],3,0),"") | L17: =SUM(H17:I17) -> 0 | M17: =IF(A17<>0,1,0) -> 0 | N17: =IF(J17<Q17,1,0) -> 0 | O17: =IF(J17>R17,1,0) -> 0 | P17: =SUM(N17:O17) -> 0 | Q17: =L17*0.5 -> 0 | R17: =IFERROR(_xlfn.IFS($M$32=1,L17,$M$32=2,L17,$M$32=3,(L17*1.3),$M$32>3,(L17*1.5)),0) -> 0
D18: =IFERROR(VLOOKUP(A18,TGradeCurricular[],2,0),"") | F18: =IFERROR(VLOOKUP(A18,TGradeCurricular[],3,0),"") | L18: =SUM(H18:I18) -> 0 | M18: =IF(A18<>0,1,0) -> 0 | N18: =IF(J18<Q18,1,0) -> 0 | O18: =IF(J18>R18,1,0) -> 0 | P18: =SUM(N18:O18) -> 0 | Q18: =L18*0.5 -> 0 | R18: =IFERROR(_xlfn.IFS($M$32=1,L18,$M$32=2,L18,$M$32=3,(L18*1.3),$M$32>3,(L18*1.5)),0) -> 0
D19: =IFERROR(VLOOKUP(A19,TGradeCurricular[],2,0),"") | F19: =IFERROR(VLOOKUP(A19,TGradeCurricular[],3,0),"") | L19: =SUM(H19:I19) -> 0 | M19: =IF(A19<>0,1,0) -> 0 | N19: =IF(J19<Q19,1,0) -> 0 | O19: =IF(J19>R19,1,0) -> 0 | P19: =SUM(N19:O19) -> 0 | Q19: =L19*0.5 -> 0 | R19: =IFERROR(_xlfn.IFS($M$32=1,L19,$M$32=2,L19,$M$32=3,(L19*1.3),$M$32>3,(L19*1.5)),0) -> 0
D20: =IFERROR(VLOOKUP(A20,TGradeCurricular[],2,0),"") | F20: =IFERROR(VLOOKUP(A20,TGradeCurricular[],3,0),"") | L20: =SUM(H20:I20) -> 0 | M20: =IF(A20<>0,1,0) -> 0 | N20: =IF(J20<Q20,1,0) -> 0 | O20: =IF(J20>R20,1,0) -> 0 | P20: =SUM(N20:O20) -> 0 | Q20: =L20*0.5 -> 0 | R20: =IFERROR(_xlfn.IFS($M$32=1,L20,$M$32=2,L20,$M$32=3,(L20*1.3),$M$32>3,(L20*1.5)),0) -> 0
D21: =IFERROR(VLOOKUP(A21,TGradeCurricular[],2,0),"") | F21: =IFERROR(VLOOKUP(A21,TGradeCurricular[],3,0),"") | L21: =SUM(H21:I21) -> 0 | M21: =IF(A21<>0,1,0) -> 0 | N21: =IF(J21<Q21,1,0) -> 0 | O21: =IF(J21>R21,1,0) -> 0 | P21: =SUM(N21:O21) -> 0 | Q21: =L21*0.5 -> 0 | R21: =IFERROR(_xlfn.IFS($M$32=1,L21,$M$32=2,L21,$M$32=3,(L21*1.3),$M$32>3,(L21*1.5)),0) -> 0
A22: Disciplinas-Pós Graduação | D22: Programa | H22: C/H Ens. | J22: C/H Pedag.
D23: =IFERROR(VLOOKUP(Andre!$A23,'Grade Pós'!A:B,2,0),"") | L23: =SUM(H23:I23) -> 0 | M23: =IF(A23<>0,1,0) -> 0 | N23: =IF(J23<Q23,1,0) -> 0 | O23: =IF(J23>R23,1,0) -> 0 | P23: =SUM(N23:O23) -> 0 | Q23: =L23*0.5 -> 0 | R23: =IFERROR(_xlfn.IFS($M$32=1,L23,$M$32=2,L23,$M$32=3,(L23*1.3),$M$32>3,(L23*1.5)),0) -> 0
D24: =IFERROR(VLOOKUP(Andre!$A24,'Grade Pós'!A:B,2,0),"") | L24: =SUM(H24:I24) -> 0 | M24: =IF(A24<>0,1,0) -> 0 | N24: =IF(J24<Q24,1,0) -> 0 | O24: =IF(J24>R24,1,0) -> 0 | P24: =SUM(N24:O24) -> 0 | Q24: =L24*0.5 -> 0 | R24: =IFERROR(_xlfn.IFS($M$32=1,L24,$M$32=2,L24,$M$32=3,(L24*1.3),$M$32>3,(L24*1.5)),0) -> 0
D25: =IFERROR(VLOOKUP(Andre!$A25,'Grade Pós'!A:B,2,0),"") | L25: =SUM(H25:I25) -> 0 | M25: =IF(A25<>0,1,0) -> 0 | N25: =IF(J25<Q25,1,0) -> 0 | O25: =IF(J25>R25,1,0) -> 0 | P25: =SUM(N25:O25) -> 0 | Q25: =L25*0.5 -> 0 | R25: =IFERROR(_xlfn.IFS($M$32=1,L25,$M$32=2,L25,$M$32=3,(L25*1.3),$M$32>3,(L25*1.5)),0) -> 0
D26: =IFERROR(VLOOKUP(Andre!$A26,'Grade Pós'!A:B,2,0),"") | L26: =SUM(H26:I26) -> 0 | M26: =IF(A26<>0,1,0) -> 0 | N26: =IF(J26<Q26,1,0) -> 0 | O26: =IF(J26>R26,1,0) -> 0 | P26: =SUM(N26:O26) -> 0 | Q26: =L26*0.5 -> 0 | R26: =IFERROR(_xlfn.IFS($M$32=1,L26,$M$32=2,L26,$M$32=3,(L26*1.3),$M$32>3,(L26*1.5)),0) -> 0
D27: =IFERROR(VLOOKUP(Andre!$A27,'Grade Pós'!A:B,2,0),"") | L27: =SUM(H27:I27) -> 0 | M27: =IF(A27<>0,1,0) -> 0 | N27: =IF(J27<Q27,1,0) -> 0 | O27: =IF(J27>R27,1,0) -> 0 | P27: =SUM(N27:O27) -> 0 | Q27: =L27*0.5 -> 0 | R27: =IFERROR(_xlfn.IFS($M$32=1,L27,$M$32=2,L27,$M$32=3,(L27*1.3),$M$32>3,(L27*1.5)),0) -> 0
D28: =IFERROR(VLOOKUP(Andre!$A28,'Grade Pós'!A:B,2,0),"") | L28: =SUM(H28:I28) -> 0 | M28: =IF(A28<>0,1,0) -> 0 | N28: =IF(J28<Q28,1,0) -> 0 | O28: =IF(J28>R28,1,0) -> 0 | P28: =SUM(N28:O28) -> 0 | Q28: =L28*0.5 -> 0 | R28: =IFERROR(_xlfn.IFS($M$32=1,L28,$M$32=2,L28,$M$32=3,(L28*1.3),$M$32>3,(L28*1.5)),0) -> 0
D29: =IFERROR(VLOOKUP(Andre!$A29,'Grade Pós'!A:B,2,0),"") | L29: =SUM(H29:I29) -> 0 | M29: =IF(A29<>0,1,0) -> 0 | N29: =IF(J29<Q29,1,0) -> 0 | O29: =IF(J29>R29,1,0) -> 0 | P29: =SUM(N29:O29) -> 0 | Q29: =L29*0.5 -> 0 | R29: =IFERROR(_xlfn.IFS($M$32=1,L29,$M$32=2,L29,$M$32=3,(L29*1.3),$M$32>3,(L29*1.5)),0) -> 0
D30: =IFERROR(VLOOKUP(Andre!$A30,'Grade Pós'!A:B,2,0),"") | L30: =SUM(H30:I30) -> 0 | M30: =IF(A30<>0,1,0) -> 0 | N30: =IF(J30<Q30,1,0) -> 0 | O30: =IF(J30>R30,1,0) -> 0 | P30: =SUM(N30:O30) -> 0 | Q30: =L30*0.5 -> 0 | R30: =IFERROR(_xlfn.IFS($M$32=1,L30,$M$32=2,L30,$M$32=3,(L30*1.3),$M$32>3,(L30*1.5)),0) -> 0
D31: =IFERROR(VLOOKUP(Andre!$A31,'Grade Pós'!A:B,2,0),"") | L31: =SUM(H31:I31) -> 0 | M31: =IF(A31<>0,1,0) -> 0 | N31: =IF(J31<Q31,1,0) -> 0 | O31: =IF(J31>R31,1,0) -> 0 | P31: =SUM(N31:O31) -> 0 | Q31: =L31*0.5 -> 0 | R31: =IFERROR(_xlfn.IFS($M$32=1,L31,$M$32=2,L31,$M$32=3,(L31*1.3),$M$32>3,(L31*1.5)),0) -> 0
A32: BASE DE DADOS (MANTER OCULTA) | J32: =SUM(J12:K21) -> 10 | K32: =SUM(J12:J31) -> 10 | L32: =SUM(L12:L31) -> 13 | M32: =SUM(M12:M31) -> 3 | N32: =IF(K32<Q32,1,0) -> 0 | O32: =IF(K32>R32,1,0) -> 0 | P32: =SUM(N32:O32) -> 0 | Q32: =L32*0.5 -> 6.5 | R32: =IFERROR(_xlfn.IFS($M$32=1,L32,$M$32=2,L32,$M$32=3,(L32*1.3),$M$32>3,(L32*1.5)),0) -> 16.9
A34: ATIVIDADES DE ORIENTAÇÃO | M34: Para permitir carga horaria menor de 9hs para Funões com mais de 32hs
A35: Professor é vinculado à programas pós graduação Recomendado pela CAPES? | H35: 2 Não | I35: =IFERROR(VLOOKUP(H35,TCapes[],2),"") -> 2 - Carga horária mínima de ensino à alocar = 12 | L35: =IF(H35="2 Não",12,8) -> 12 | M35: =MIN(L35,L113) -> 12
A36: Modalidade | D36: Nome do Orientado | H36: Curso/Habilitação | I36: Semestre de Ingresso/Fase | K36: Informe a C/H Semanal | L36: Cálculo do Coord. Estágio | M36: Coluna2 | N36: Coluna3 | O36: Coluna4 | P36: Coluna5 | Q36: CH Mínima | R36: CH Máxima
L37: =IF(A37="Coordenação de Estágio",1,0) -> 0 | Q37: =IFERROR(VLOOKUP(A37,Dados!$A$85:$D$89,2,0),0) -> 0 | R37: =IFERROR(VLOOKUP(A37,Dados!$A$85:$D$89,3,0),0) -> 0
L38: =IF(A38="Coordenação de Estágio",1,0) -> 0 | Q38: =IFERROR(VLOOKUP(A38,Dados!$A$85:$D$89,2,0),0) -> 0 | R38: =IFERROR(VLOOKUP(A38,Dados!$A$85:$D$89,3,0),0) -> 0
L39: =IF(A39="Coordenação de Estágio",1,0) -> 0 | Q39: =IFERROR(VLOOKUP(A39,Dados!$A$85:$D$89,2,0),0) -> 0 | R39: =IFERROR(VLOOKUP(A39,Dados!$A$85:$D$89,3,0),0) -> 0
L40: =IF(A40="Coordenação de Estágio",1,0) -> 0 | Q40: =IFERROR(VLOOKUP(A40,Dados!$A$85:$D$89,2,0),0) -> 0 | R40: =IFERROR(VLOOKUP(A40,Dados!$A$85:$D$89,3,0),0) -> 0
L41: =IF(A41="Coordenação de Estágio",1,0) -> 0 | Q41: =IFERROR(VLOOKUP(A41,Dados!$A$85:$D$89,2,0),0) -> 0 | R41: =IFERROR(VLOOKUP(A41,Dados!$A$85:$D$89,3,0),0) -> 0
L42: =IF(A42="Coordenação de Estágio",1,0) -> 0 | Q42: =IFERROR(VLOOKUP(A42,Dados!$A$85:$D$89,2,0),0) -> 0 | R42: =IFERROR(VLOOKUP(A42,Dados!$A$85:$D$89,3,0),0) -> 0
L43: =IF(A43="Coordenação de Estágio",1,0) -> 0 | Q43: =IFERROR(VLOOKUP(A43,Dados!$A$85:$D$89,2,0),0) -> 0 | R43: =IFERROR(VLOOKUP(A43,Dados!$A$85:$D$89,3,0),0) -> 0
L44: =IF(A44="Coordenação de Estágio",1,0) -> 0 | Q44: =IFERROR(VLOOKUP(A44,Dados!$A$85:$D$89,2,0),0) -> 0 | R44: =IFERROR(VLOOKUP(A44,Dados!$A$85:$D$89,3,0),0) -> 0
L45: =IF(A45="Coordenação de Estágio",1,0) -> 0 | Q45: =IFERROR(VLOOKUP(A45,Dados!$A$85:$D$89,2,0),0) -> 0 | R45: =IFERROR(VLOOKUP(A45,Dados!$A$85:$D$89,3,0),0) -> 0
L46: =IF(A46="Coordenação de Estágio",1,0) -> 0 | Q46: =IFERROR(VLOOKUP(A46,Dados!$A$85:$D$89,2,0),0) -> 0 | R46: =IFERROR(VLOOKUP(A46,Dados!$A$85:$D$89,3,0),0) -> 0
L47: =IF(A47="Coordenação de Estágio",1,0) -> 0 | Q47: =IFERROR(VLOOKUP(A47,Dados!$A$85:$D$89,2,0),0) -> 0 | R47: =IFERROR(VLOOKUP(A47,Dados!$A$85:$D$89,3,0),0) -> 0
L48: =IF(A48="Coordenação de Estágio",1,0) -> 0 | Q48: =IFERROR(VLOOKUP(A48,Dados!$A$85:$D$89,2,0),0) -> 0 | R48: =IFERROR(VLOOKUP(A48,Dados!$A$85:$D$89,3,0),0) -> 0
L49: =IF(A49="Coordenação de Estágio",1,0) -> 0 | Q49: =IFERROR(VLOOKUP(A49,Dados!$A$85:$D$89,2,0),0) -> 0 | R49: =IFERROR(VLOOKUP(A49,Dados!$A$85:$D$89,3,0),0) -> 0
A50: BASE DE DADOS (MANTER OCULTA) | K50: =SUM(K37:K49) -> 0 | L50: =SUM(L37:L49) -> 0 | M50: =IF(L50=1,20,12) -> 12 | Q50: =SUM(Q37:Q49) -> 0 | R50: =SUM(R37:R49) -> 0
A52: PROJETOS DE ENSINO
A53: Título | D53: Coordenador/Participante | F53: C/H | G53: Autorização | I53: Início | K53: Término | L53: Coluna2 | M53: Coluna3 | N53: Coluna4 | O53: Coluna5 | P53: Coluna6 | Q53: CH Mínima | R53: CH Máxima
Q54: =IFERROR(VLOOKUP(Andre!$D54,Tabela20[],2,0),0) -> 0 | R54: =IFERROR(VLOOKUP(Andre!$D54,Tabela20[],3,0),0) -> 0
Q55: =IFERROR(VLOOKUP(Andre!$D55,Tabela20[],2,0),0) -> 0 | R55: =IFERROR(VLOOKUP(Andre!$D55,Tabela20[],3,0),0) -> 0
Q56: =IFERROR(VLOOKUP(Andre!$D56,Tabela20[],2,0),0) -> 0 | R56: =IFERROR(VLOOKUP(Andre!$D56,Tabela20[],3,0),0) -> 0
Q57: =IFERROR(VLOOKUP(Andre!$D57,Tabela20[],2,0),0) -> 0 | R57: =IFERROR(VLOOKUP(Andre!$D57,Tabela20[],3,0),0) -> 0
Q58: =IFERROR(VLOOKUP(Andre!$D58,Tabela20[],2,0),0) -> 0 | R58: =IFERROR(VLOOKUP(Andre!$D58,Tabela20[],3,0),0) -> 0
Q59: =IFERROR(VLOOKUP(Andre!$D59,Tabela20[],2,0),0) -> 0 | R59: =IFERROR(VLOOKUP(Andre!$D59,Tabela20[],3,0),0) -> 0
Q60: =IFERROR(VLOOKUP(Andre!$D60,Tabela20[],2,0),0) -> 0 | R60: =IFERROR(VLOOKUP(Andre!$D60,Tabela20[],3,0),0) -> 0
Q61: =IFERROR(VLOOKUP(Andre!$D61,Tabela20[],2,0),0) -> 0 | R61: =IFERROR(VLOOKUP(Andre!$D61,Tabela20[],3,0),0) -> 0
Q62: =IFERROR(VLOOKUP(Andre!$D62,Tabela20[],2,0),0) -> 0 | R62: =IFERROR(VLOOKUP(Andre!$D62,Tabela20[],3,0),0) -> 0
Q63: =IFERROR(VLOOKUP(Andre!$D63,Tabela20[],2,0),0) -> 0 | R63: =IFERROR(VLOOKUP(Andre!$D63,Tabela20[],3,0),0) -> 0
Q64: =IFERROR(VLOOKUP(Andre!$D64,Tabela20[],2,0),0) -> 0 | R64: =IFERROR(VLOOKUP(Andre!$D64,Tabela20[],3,0),0) -> 0
A65: TOTAL | F65: =SUM(Andre!$F$54:$F$64) -> 0
A67: ATIVIDADES DE PESQUISA
A68: Favor informar o enquadramento ao lado | D68: 4 - Pesquisador Doutor | L68: =VLOOKUP(D68,TabPesquisa[],3) -> 10 | Q68: =IFERROR(VLOOKUP(D68,TabPesquisa[],2),"") -> Limite de horas Semanais = 10
A69: Título | D69: Coordenador/Participante | F69: C/H | G69: Autorização | I69: Data Aprovação CONCENTRO | J69: Início | K69: Término | Q69: CH Mínima | R69: CH Máxima
Q70: =IFERROR(VLOOKUP(Andre!$D70,Tabela11[],2),0) -> 0 | R70: =IFERROR(VLOOKUP(Andre!$D70,Tabela11[],3),0) -> 0
Q71: =IFERROR(VLOOKUP(Andre!$D71,Tabela11[],2),0) -> 0 | R71: =IFERROR(VLOOKUP(Andre!$D71,Tabela11[],3),0) -> 0
Q72: =IFERROR(VLOOKUP(Andre!$D72,Tabela11[],2),0) -> 0 | R72: =IFERROR(VLOOKUP(Andre!$D72,Tabela11[],3),0) -> 0
Q73: =IFERROR(VLOOKUP(Andre!$D73,Tabela11[],2),0) -> 0 | R73: =IFERROR(VLOOKUP(Andre!$D73,Tabela11[],3),0) -> 0
Q74: =IFERROR(VLOOKUP(Andre!$D74,Tabela11[],2),0) -> 0 | R74: =IFERROR(VLOOKUP(Andre!$D74,Tabela11[],3),0) -> 0
Q75: =IFERROR(VLOOKUP(Andre!$D75,Tabela11[],2),0) -> 0 | R75: =IFERROR(VLOOKUP(Andre!$D75,Tabela11[],3),0) -> 0
Q76: =IFERROR(VLOOKUP(Andre!$D76,Tabela11[],2),0) -> 0 | R76: =IFERROR(VLOOKUP(Andre!$D76,Tabela11[],3),0) -> 0
Q77: =IFERROR(VLOOKUP(Andre!$D77,Tabela11[],2),0) -> 0 | R77: =IFERROR(VLOOKUP(Andre!$D77,Tabela11[],3),0) -> 0
Q78: =IFERROR(VLOOKUP(Andre!$D78,Tabela11[],2),0) -> 0 | R78: =IFERROR(VLOOKUP(Andre!$D78,Tabela11[],3),0) -> 0
Q79: =IFERROR(VLOOKUP(Andre!$D79,Tabela11[],2),0) -> 0 | R79: =IFERROR(VLOOKUP(Andre!$D79,Tabela11[],3),0) -> 0
Q80: =IFERROR(VLOOKUP(Andre!$D80,Tabela11[],2),0) -> 0 | R80: =IFERROR(VLOOKUP(Andre!$D80,Tabela11[],3),0) -> 0
A81: BASE DE DADOS (MANTER OCULTA) | F81: =SUM(F70:F80) -> 0
A83: ATIVIDADES DE EXTENSÃO
A84: Categoria: Programa ou Projeto | F84: C/H | G84: Autorização/Ata | I84: Início | K84: Término | L84: Coluna2 | M84: Coluna3 | N84: Coluna4 | O84: CH Mínima | P84: CH Máxima
O85: =IFERROR(VLOOKUP(Andre!$D85,Tabela21[],2,0),0) -> 0 | P85: =IFERROR(VLOOKUP(Andre!$D85,Tabela21[],3,0),0) -> 0
O86: =IFERROR(VLOOKUP(Andre!$D86,Tabela21[],2,0),0) -> 0 | P86: =IFERROR(VLOOKUP(Andre!$D86,Tabela21[],3,0),0) -> 0
O87: =IFERROR(VLOOKUP(Andre!$D87,Tabela21[],2,0),0) -> 0 | P87: =IFERROR(VLOOKUP(Andre!$D87,Tabela21[],3,0),0) -> 0
O88: =IFERROR(VLOOKUP(Andre!$D88,Tabela21[],2,0),0) -> 0 | P88: =IFERROR(VLOOKUP(Andre!$D88,Tabela21[],3,0),0) -> 0
O89: =IFERROR(VLOOKUP(Andre!$D89,Tabela21[],2,0),0) -> 0 | P89: =IFERROR(VLOOKUP(Andre!$D89,Tabela21[],3,0),0) -> 0
O90: =IFERROR(VLOOKUP(Andre!$D90,Tabela21[],2,0),0) -> 0 | P90: =IFERROR(VLOOKUP(Andre!$D90,Tabela21[],3,0),0) -> 0
O91: =IFERROR(VLOOKUP(Andre!$D91,Tabela21[],2,0),0) -> 0 | P91: =IFERROR(VLOOKUP(Andre!$D91,Tabela21[],3,0),0) -> 0
O92: =IFERROR(VLOOKUP(Andre!$D92,Tabela21[],2,0),0) -> 0 | P92: =IFERROR(VLOOKUP(Andre!$D92,Tabela21[],3,0),0) -> 0
O93: =IFERROR(VLOOKUP(Andre!$D93,Tabela21[],2,0),0) -> 0 | P93: =IFERROR(VLOOKUP(Andre!$D93,Tabela21[],3,0),0) -> 0
O94: =IFERROR(VLOOKUP(Andre!$D94,Tabela21[],2,0),0) -> 0 | P94: =IFERROR(VLOOKUP(Andre!$D94,Tabela21[],3,0),0) -> 0
O95: =IFERROR(VLOOKUP(Andre!$D95,Tabela21[],2,0),0) -> 0 | P95: =IFERROR(VLOOKUP(Andre!$D95,Tabela21[],3,0),0) -> 0
O96: =IFERROR(VLOOKUP(Andre!$D96,Tabela21[],2,0),0) -> 0 | P96: =IFERROR(VLOOKUP(Andre!$D96,Tabela21[],3,0),0) -> 0
A97: TOTAL | F97: =SUM(F85:F96) -> 0 | O97: =IFERROR(VLOOKUP(Andre!$D97,Tabela21[],2,0),0) -> 0 | P97: =IFERROR(VLOOKUP(Andre!$D97,Tabela21[],3,0),0) -> 0
A99: ATIVIDADES DE ADMINISTRAÇÃO
A100: Atividade | D100: Descrição do Local/Cargo/função... | F100: C/H | G100: Autorização | I100: Início | K100: Término | L100: Redutor Calculo de Ensino | M100: Coluna2 | N100: Coluna3 | O100: Coluna4 | P100: Coluna5 | Q100: CH Mínima | R100: CH Máxima
A101: IX. Coordenador de Laboratório Institucional; | F101: 5 | L101: =IFERROR(VLOOKUP(Andre!$A101,TFunçõesAdm[],3,0),40) -> 35 | Q101: 0 | R101: =IFERROR(VLOOKUP(A101,TFunçõesAdm[],2,FALSE),0) -> 5
A102: XXII. Membro titular não nato do Núcleo Docente Estruturante - NDE; | F102: 2 | L102: =IFERROR(VLOOKUP(Andre!$A102,TFunçõesAdm[],3,0),40) -> 37 | Q102: 0 | R102: =IFERROR(VLOOKUP(A102,TFunçõesAdm[],2,FALSE),0) -> 3
A103: XIII. Membro titular não nato nos Conselhos Superiores; | F103: 1 | L103: =IFERROR(VLOOKUP(Andre!$A103,TFunçõesAdm[],3,0),40) -> 36 | Q103: 0 | R103: =IFERROR(VLOOKUP(A103,TFunçõesAdm[],2,FALSE),0) -> 4
A104: XII. Membro de Comissao interna do Centro por Portaria da Direção Geral do Centro, aprovada pelo Conselho de Centro; | F104: 1 | L104: =IFERROR(VLOOKUP(Andre!$A104,TFunçõesAdm[],3,0),40) -> 35 | Q104: 0 | R104: =IFERROR(VLOOKUP(A104,TFunçõesAdm[],2,FALSE),0) -> 5
A105: X. Coordenador de Programa Especial e Projeto Institucional; | F105: 8 | L105: =IFERROR(VLOOKUP(Andre!$A105,TFunçõesAdm[],3,0),40) -> 35 | Q105: 0 | R105: =IFERROR(VLOOKUP(A105,TFunçõesAdm[],2,FALSE),0) -> 5
L106: =IFERROR(VLOOKUP(Andre!$A106,TFunçõesAdm[],3,0),40) -> 40 | Q106: 0 | R106: =IFERROR(VLOOKUP(A106,TFunçõesAdm[],2,FALSE),0) -> 0
...

Sheet Antonio
A1: ANEXO I – RESOLUÇÃO 073/2011 – CONSUNI | R1: Tabela de Cores
A2: UNIVERSIDADE DO ESTADO DE SANTA CATARINA-UDESC | S2: Deve ser incluso dados manualmente
A3: PLANO DE TRABALHO INDIVIDUAL | S3: Não permite alteração
A4: Professor: | D4: Centro de Ciências Agroveterinárias (CAV) | H4: Departamento: | J4: Semestre: 2022/2 | S4: Calculos efetuados pela planilha. Não permite alteração.
A5: Antonio Mendes De Oliveira Neto | H5: =VLOOKUP(A5,TProfessores[],2,0) -> Agronomia
A7: Categoria Funcional: | D7: Titulação: | H7: Regime: | J7: Classe:
A8: =VLOOKUP(A5,TProfessores[],3,0) -> Efetivo | D8: =VLOOKUP(A5,TProfessores[],5,0) -> Doutor(a) | H8: =VLOOKUP(A5,TProfessores[],7,0) -> 40 horas | I8: =VLOOKUP(A5,TProfessores[],6,0) -> 40 h | J8: =VLOOKUP(A5,TProfessores[],8,0) -> ADJUNTO
A9: ATIVIDADES DE ENSINO
A10: Disciplinas-Graduação | D10: Curso | F10: Fase | H10: C/H Ensino | J10: Informe a CH Pedagógica | Q10: CH Mínima | R10: CH Máxima
H11: Teórica | I11: Prática | L11: Soma (Oculta) | M11: Fórmula Oculta | N11: Formula para avisar CH pedagógica fora do sugerido | O11: Coluna1 | P11: Referência p coluna F
A12: Biologia e Manejo de Plantas Daninhas | D12: =IFERROR(VLOOKUP(A12,TGradeCurricular[],2,0),"") -> Agronomia | F12: =IFERROR(VLOOKUP(A12,TGradeCurricular[],3,0),"") -> 7ª | H12: 2 | I12: 2 | J12: 4 | L12: =SUM(H12:I12) -> 4 | M12: =IF(A12<>0,1,0) -> 1 | N12: =IF(J12<Q12,1,0) -> 0 | O12: =IF(J12>R12,1,0) -> 0 | P12: =SUM(N12:O12) -> 0 | Q12: =L12*0.5 -> 2 | R12: =IFERROR(_xlfn.IFS($M$32=1,L12,$M$32=2,L12,$M$32=3,(L12*1.3),$M$32>3,(L12*1.5)),0) -> 5.2
A13: Avaliação de Impactos Ambientais (Agro) | D13: =IFERROR(VLOOKUP(A13,TGradeCurricular[],2,0),"") -> Agronomia | F13: =IFERROR(VLOOKUP(A13,TGradeCurricular[],3,0),"") -> 7ª | H13: 1 | I13: 1 | J13: 2 | L13: =SUM(H13:I13) -> 2 | M13: =IF(A13<>0,1,0) -> 1 | N13: =IF(J13<Q13,1,0) -> 0 | O13: =IF(J13>R13,1,0) -> 0 | P13: =SUM(N13:O13) -> 0 | Q13: =L13*0.5 -> 1 | R13: =IFERROR(_xlfn.IFS($M$32=1,L13,$M$32=2,L13,$M$32=3,(L13*1.3),$M$32>3,(L13*1.5)),0) -> 2.6
D14: =IFERROR(VLOOKUP(A14,TGradeCurricular[],2,0),"") | F14: =IFERROR(VLOOKUP(A14,TGradeCurricular[],3,0),"") | L14: =SUM(H14:I14) -> 0 | M14: =IF(A14<>0,1,0) -> 0 | N14: =IF(J14<Q14,1,0) -> 0 | O14: =IF(J14>R14,1,0) -> 0 | P14: =SUM(N14:O14) -> 0 | Q14: =L14*0.5 -> 0 | R14: =IFERROR(_xlfn.IFS($M$32=1,L14,$M$32=2,L14,$M$32=3,(L14*1.3),$M$32>3,(L14*1.5)),0) -> 0
D15: =IFERROR(VLOOKUP(A15,TGradeCurricular[],2,0),"") | F15: =IFERROR(VLOOKUP(A15,TGradeCurricular[],3,0),"") | L15: =SUM(H15:I15) -> 0 | M15: =IF(A15<>0,1,0) -> 0 | N15: =IF(J15<Q15,1,0) -> 0 | O15: =IF(J15>R15,1,0) -> 0 | P15: =SUM(N15:O15) -> 0 | Q15: =L15*0.5 -> 0 | R15: =IFERROR(_xlfn.IFS($M$32=1,L15,$M$32=2,L15,$M$32=3,(L15*1.3),$M$32>3,(L15*1.5)),0) -> 0
D16: =IFERROR(VLOOKUP(A16,TGradeCurricular[],2,0),"") | F16: =IFERROR(VLOOKUP(A16,TGradeCurricular[],3,0),"") | L16: =SUM(H16:I16) -> 0 | M16: =IF(A16<>0,1,0) -> 0 | N16: =IF(J16<Q16,1,0) -> 0 | O16: =IF(J16>R16,1,0) -> 0 | P16: =SUM(N16:O16) -> 0 | Q16: =L16*0.5 -> 0 | R16: =IFERROR(_xlfn.IFS($M$32=1,L16,$M$32=2,L16,$M$32=3,(L16*1.3),$M$32>3,(L16*1.5)),0) -> 0
D17: =IFERROR(VLOOKUP(A17,TGradeCurricular[],2,0),"") | F17: =IFERROR(VLOOKUP(A17,TGradeCurricular[],3,0),"") | L17: =SUM(H17:I17) -> 0 | M17: =IF(A17<>0,1,0) -> 0 | N17: =IF(J17<Q17,1,0) -> 0 | O17: =IF(J17>R17,1,0) -> 0 | P17: =SUM(N17:O17) -> 0 | Q17: =L17*0.5 -> 0 | R17: =IFERROR(_xlfn.IFS($M$32=1,L17,$M$32=2,L17,$M$32=3,(L17*1.3),$M$32>3,(L17*1.5)),0) -> 0
D18: =IFERROR(VLOOKUP(A18,TGradeCurricular[],2,0),"") | F18: =IFERROR(VLOOKUP(A18,TGradeCurricular[],3,0),"") | L18: =SUM(H18:I18) -> 0 | M18: =IF(A18<>0,1,0) -> 0 | N18: =IF(J18<Q18,1,0) -> 0 | O18: =IF(J18>R18,1,0) -> 0 | P18: =SUM(N18:O18) -> 0 | Q18: =L18*0.5 -> 0 | R18: =IFERROR(_xlfn.IFS($M$32=1,L18,$M$32=2,L18,$M$32=3,(L18*1.3),$M$32>3,(L18*1.5)),0) -> 0
D19: =IFERROR(VLOOKUP(A19,TGradeCurricular[],2,0),"") | F19: =IFERROR(VLOOKUP(A19,TGradeCurricular[],3,0),"") | L19: =SUM(H19:I19) -> 0 | M19: =IF(A19<>0,1,0) -> 0 | N19: =IF(J19<Q19,1,0) -> 0 | O19: =IF(J19>R19,1,0) -> 0 | P19: =SUM(N19:O19) -> 0 | Q19: =L19*0.5 -> 0 | R19: =IFERROR(_xlfn.IFS($M$32=1,L19,$M$32=2,L19,$M$32=3,(L19*1.3),$M$32>3,(L19*1.5)),0) -> 0
D20: =IFERROR(VLOOKUP(A20,TGradeCurricular[],2,0),"") | F20: =IFERROR(VLOOKUP(A20,TGradeCurricular[],3,0),"") | L20: =SUM(H20:I20) -> 0 | M20: =IF(A20<>0,1,0) -> 0 | N20: =IF(J20<Q20,1,0) -> 0 | O20: =IF(J20>R20,1,0) -> 0 | P20: =SUM(N20:O20) -> 0 | Q20: =L20*0.5 -> 0 | R20: =IFERROR(_xlfn.IFS($M$32=1,L20,$M$32=2,L20,$M$32=3,(L20*1.3),$M$32>3,(L20*1.5)),0) -> 0
D21: =IFERROR(VLOOKUP(A21,TGradeCurricular[],2,0),"") | F21: =IFERROR(VLOOKUP(A21,TGradeCurricular[],3,0),"") | L21: =SUM(H21:I21) -> 0 | M21: =IF(A21<>0,1,0) -> 0 | N21: =IF(J21<Q21,1,0) -> 0 | O21: =IF(J21>R21,1,0) -> 0 | P21: =SUM(N21:O21) -> 0 | Q21: =L21*0.5 -> 0 | R21: =IFERROR(_xlfn.IFS($M$32=1,L21,$M$32=2,L21,$M$32=3,(L21*1.3),$M$32>3,(L21*1.5)),0) -> 0
A22: Disciplinas-Pós Graduação | D22: Programa | H22: C/H Ens. | J22: C/H Pedag.
A23: NOME DA DISCIPLINA | D23: =IFERROR(VLOOKUP(Antonio!$A23,'Grade Pós'!A:B,2,0),"") -> PROGRAMA | H23: 4 | J23: 4 | L23: =SUM(H23:I23) -> 4 | M23: =IF(A23<>0,1,0) -> 1 | N23: =IF(J23<Q23,1,0) -> 0 | O23: =IF(J23>R23,1,0) -> 0 | P23: =SUM(N23:O23) -> 0 | Q23: =L23*0.5 -> 2 | R23: =IFERROR(_xlfn.IFS($M$32=1,L23,$M$32=2,L23,$M$32=3,(L23*1.3),$M$32>3,(L23*1.5)),0) -> 5.2
D24: =IFERROR(VLOOKUP(Antonio!$A24,'Grade Pós'!A:B,2,0),"") | L24: =SUM(H24:I24) -> 0 | M24: =IF(A24<>0,1,0) -> 0 | N24: =IF(J24<Q24,1,0) -> 0 | O24: =IF(J24>R24,1,0) -> 0 | P24: =SUM(N24:O24) -> 0 | Q24: =L24*0.5 -> 0 | R24: =IFERROR(_xlfn.IFS($M$32=1,L24,$M$32=2,L24,$M$32=3,(L24*1.3),$M$32>3,(L24*1.5)),0) -> 0
D25: =IFERROR(VLOOKUP(Antonio!$A25,'Grade Pós'!A:B,2,0),"") | L25: =SUM(H25:I25) -> 0 | M25: =IF(A25<>0,1,0) -> 0 | N25: =IF(J25<Q25,1,0) -> 0 | O25: =IF(J25>R25,1,0) -> 0 | P25: =SUM(N25:O25) -> 0 | Q25: =L25*0.5 -> 0 | R25: =IFERROR(_xlfn.IFS($M$32=1,L25,$M$32=2,L25,$M$32=3,(L25*1.3),$M$32>3,(L25*1.5)),0) -> 0
D26: =IFERROR(VLOOKUP(Antonio!$A26,'Grade Pós'!A:B,2,0),"") | L26: =SUM(H26:I26) -> 0 | M26: =IF(A26<>0,1,0) -> 0 | N26: =IF(J26<Q26,1,0) -> 0 | O26: =IF(J26>R26,1,0) -> 0 | P26: =SUM(N26:O26) -> 0 | Q26: =L26*0.5 -> 0 | R26: =IFERROR(_xlfn.IFS($M$32=1,L26,$M$32=2,L26,$M$32=3,(L26*1.3),$M$32>3,(L26*1.5)),0) -> 0
D27: =IFERROR(VLOOKUP(Antonio!$A27,'Grade Pós'!A:B,2,0),"") | L27: =SUM(H27:I27) -> 0 | M27: =IF(A27<>0,1,0) -> 0 | N27: =IF(J27<Q27,1,0) -> 0 | O27: =IF(J27>R27,1,0) -> 0 | P27: =SUM(N27:O27) -> 0 | Q27: =L27*0.5 -> 0 | R27: =IFERROR(_xlfn.IFS($M$32=1,L27,$M$32=2,L27,$M$32=3,(L27*1.3),$M$32>3,(L27*1.5)),0) -> 0
D28: =IFERROR(VLOOKUP(Antonio!$A28,'Grade Pós'!A:B,2,0),"") | L28: =SUM(H28:I28) -> 0 | M28: =IF(A28<>0,1,0) -> 0 | N28: =IF(J28<Q28,1,0) -> 0 | O28: =IF(J28>R28,1,0) -> 0 | P28: =SUM(N28:O28) -> 0 | Q28: =L28*0.5 -> 0 | R28: =IFERROR(_xlfn.IFS($M$32=1,L28,$M$32=2,L28,$M$32=3,(L28*1.3),$M$32>3,(L28*1.5)),0) -> 0
D29: =IFERROR(VLOOKUP(Antonio!$A29,'Grade Pós'!A:B,2,0),"") | L29: =SUM(H29:I29) -> 0 | M29: =IF(A29<>0,1,0) -> 0 | N29: =IF(J29<Q29,1,0) -> 0 | O29: =IF(J29>R29,1,0) -> 0 | P29: =SUM(N29:O29) -> 0 | Q29: =L29*0.5 -> 0 | R29: =IFERROR(_xlfn.IFS($M$32=1,L29,$M$32=2,L29,$M$32=3,(L29*1.3),$M$32>3,(L29*1.5)),0) -> 0
D30: =IFERROR(VLOOKUP(Antonio!$A30,'Grade Pós'!A:B,2,0),"") | L30: =SUM(H30:I30) -> 0 | M30: =IF(A30<>0,1,0) -> 0 | N30: =IF(J30<Q30,1,0) -> 0 | O30: =IF(J30>R30,1,0) -> 0 | P30: =SUM(N30:O30) -> 0 | Q30: =L30*0.5 -> 0 | R30: =IFERROR(_xlfn.IFS($M$32=1,L30,$M$32=2,L30,$M$32=3,(L30*1.3),$M$32>3,(L30*1.5)),0) -> 0
D31: =IFERROR(VLOOKUP(Antonio!$A31,'Grade Pós'!A:B,2,0),"") | L31: =SUM(H31:I31) -> 0 | M31: =IF(A31<>0,1,0) -> 0 | N31: =IF(J31<Q31,1,0) -> 0 | O31: =IF(J31>R31,1,0) -> 0 | P31: =SUM(N31:O31) -> 0 | Q31: =L31*0.5 -> 0 | R31: =IFERROR(_xlfn.IFS($M$32=1,L31,$M$32=2,L31,$M$32=3,(L31*1.3),$M$32>3,(L31*1.5)),0) -> 0
A32: BASE DE DADOS (MANTER OCULTA) | J32: =SUM(J12:K21) -> 6 | K32: =SUM(J12:J31) -> 10 | L32: =SUM(L12:L31) -> 10 | M32: =SUM(M12:M31) -> 3 | N32: =IF(K32<Q32,1,0) -> 0 | O32: =IF(K32>R32,1,0) -> 0 | P32: =SUM(N32:O32) -> 0 | Q32: =L32*0.5 -> 5 | R32: =IFERROR(_xlfn.IFS($M$32=1,L32,$M$32=2,L32,$M$32=3,(L32*1.3),$M$32>3,(L32*1.5)),0) -> 13
A34: ATIVIDADES DE ORIENTAÇÃO | M34: Para permitir carga horaria menor de 9hs para Funões com mais de 32hs
A35: Professor é vinculado à programas pós graduação Recomendado pela CAPES? | H35: 1 Sim | I35: =IFERROR(VLOOKUP(H35,TCapes[],2),"") -> 1 -Permite Alocar Carga Horária Mínima de 8 Créditos de Ensino | L35: =IF(H35="2 Não",12,8) -> 8 | M35: =MIN(L35,L113) -> 8
A36: Modalidade | D36: Nome do Orientado | H36: Curso/Habilitação | I36: Semestre de Ingresso/Fase | K36: Informe a C/H Semanal | L36: Cálculo do Coord. Estágio | M36: Coluna2 | N36: Coluna3 | O36: Coluna4 | P36: Coluna5 | Q36: CH Mínima | R36: CH Máxima
A37: Dissertação | K37: 2 | L37: =IF(A37="Coordenação de Estágio",1,0) -> 0 | Q37: =IFERROR(VLOOKUP(A37,Dados!$A$85:$D$89,2,0),0) -> 0 | R37: =IFERROR(VLOOKUP(A37,Dados!$A$85:$D$89,3,0),0) -> 2
A38: Dissertação | K38: 2 | L38: =IF(A38="Coordenação de Estágio",1,0) -> 0 | Q38: =IFERROR(VLOOKUP(A38,Dados!$A$85:$D$89,2,0),0) -> 0 | R38: =IFERROR(VLOOKUP(A38,Dados!$A$85:$D$89,3,0),0) -> 2
A39: Dissertação | K39: 2 | L39: =IF(A39="Coordenação de Estágio",1,0) -> 0 | Q39: =IFERROR(VLOOKUP(A39,Dados!$A$85:$D$89,2,0),0) -> 0 | R39: =IFERROR(VLOOKUP(A39,Dados!$A$85:$D$89,3,0),0) -> 2
A40: Dissertação | K40: 2 | L40: =IF(A40="Coordenação de Estágio",1,0) -> 0 | Q40: =IFERROR(VLOOKUP(A40,Dados!$A$85:$D$89,2,0),0) -> 0 | R40: =IFERROR(VLOOKUP(A40,Dados!$A$85:$D$89,3,0),0) -> 2
A41: Tese | K41: 3 | L41: =IF(A41="Coordenação de Estágio",1,0) -> 0 | Q41: =IFERROR(VLOOKUP(A41,Dados!$A$85:$D$89,2,0),0) -> 0 | R41: =IFERROR(VLOOKUP(A41,Dados!$A$85:$D$89,3,0),0) -> 3
A42: Tese | K42: 3 | L42: =IF(A42="Coordenação de Estágio",1,0) -> 0 | Q42: =IFERROR(VLOOKUP(A42,Dados!$A$85:$D$89,2,0),0) -> 0 | R42: =IFERROR(VLOOKUP(A42,Dados!$A$85:$D$89,3,0),0) -> 3
L43: =IF(A43="Coordenação de Estágio",1,0) -> 0 | Q43: =IFERROR(VLOOKUP(A43,Dados!$A$85:$D$89,2,0),0) -> 0 | R43: =IFERROR(VLOOKUP(A43,Dados!$A$85:$D$89,3,0),0) -> 0
L44: =IF(A44="Coordenação de Estágio",1,0) -> 0 | Q44: =IFERROR(VLOOKUP(A44,Dados!$A$85:$D$89,2,0),0) -> 0 | R44: =IFERROR(VLOOKUP(A44,Dados!$A$85:$D$89,3,0),0) -> 0
L45: =IF(A45="Coordenação de Estágio",1,0) -> 0 | Q45: =IFERROR(VLOOKUP(A45,Dados!$A$85:$D$89,2,0),0) -> 0 | R45: =IFERROR(VLOOKUP(A45,Dados!$A$85:$D$89,3,0),0) -> 0
L46: =IF(A46="Coordenação de Estágio",1,0) -> 0 | Q46: =IFERROR(VLOOKUP(A46,Dados!$A$85:$D$89,2,0),0) -> 0 | R46: =IFERROR(VLOOKUP(A46,Dados!$A$85:$D$89,3,0),0) -> 0
L47: =IF(A47="Coordenação de Estágio",1,0) -> 0 | Q47: =IFERROR(VLOOKUP(A47,Dados!$A$85:$D$89,2,0),0) -> 0 | R47: =IFERROR(VLOOKUP(A47,Dados!$A$85:$D$89,3,0),0) -> 0
L48: =IF(A48="Coordenação de Estágio",1,0) -> 0 | Q48: =IFERROR(VLOOKUP(A48,Dados!$A$85:$D$89,2,0),0) -> 0 | R48: =IFERROR(VLOOKUP(A48,Dados!$A$85:$D$89,3,0),0) -> 0
L49: =IF(A49="Coordenação de Estágio",1,0) -> 0 | Q49: =IFERROR(VLOOKUP(A49,Dados!$A$85:$D$89,2,0),0) -> 0 | R49: =IFERROR(VLOOKUP(A49,Dados!$A$85:$D$89,3,0),0) -> 0
A50: BASE DE DADOS (MANTER OCULTA) | K50: =SUM(K37:K49) -> 14 | L50: =SUM(L37:L49) -> 0 | M50: =IF(L50=1,20,12) -> 12 | Q50: =SUM(Q37:Q49) -> 0 | R50: =SUM(R37:R49) -> 14
A52: PROJETOS DE ENSINO
A53: Título | D53: Coordenador/Participante | F53: C/H | G53: Autorização | I53: Início | K53: Término | L53: Coluna2 | M53: Coluna3 | N53: Coluna4 | O53: Coluna5 | P53: Coluna6 | Q53: CH Mínima | R53: CH Máxima
Q54: =IFERROR(VLOOKUP(Antonio!$D54,Tabela20[],2,0),0) -> 0 | R54: =IFERROR(VLOOKUP(Antonio!$D54,Tabela20[],3,0),0) -> 0
Q55: =IFERROR(VLOOKUP(Antonio!$D55,Tabela20[],2,0),0) -> 0 | R55: =IFERROR(VLOOKUP(Antonio!$D55,Tabela20[],3,0),0) -> 0
Q56: =IFERROR(VLOOKUP(Antonio!$D56,Tabela20[],2,0),0) -> 0 | R56: =IFERROR(VLOOKUP(Antonio!$D56,Tabela20[],3,0),0) -> 0
Q57: =IFERROR(VLOOKUP(Antonio!$D57,Tabela20[],2,0),0) -> 0 | R57: =IFERROR(VLOOKUP(Antonio!$D57,Tabela20[],3,0),0) -> 0
Q58: =IFERROR(VLOOKUP(Antonio!$D58,Tabela20[],2,0),0) -> 0 | R58: =IFERROR(VLOOKUP(Antonio!$D58,Tabela20[],3,0),0) -> 0
Q59: =IFERROR(VLOOKUP(Antonio!$D59,Tabela20[],2,0),0) -> 0 | R59: =IFERROR(VLOOKUP(Antonio!$D59,Tabela20[],3,0),0) -> 0
Q60: =IFERROR(VLOOKUP(Antonio!$D60,Tabela20[],2,0),0) -> 0 | R60: =IFERROR(VLOOKUP(Antonio!$D60,Tabela20[],3,0),0) -> 0
Q61: =IFERROR(VLOOKUP(Antonio!$D61,Tabela20[],2,0),0) -> 0 | R61: =IFERROR(VLOOKUP(Antonio!$D61,Tabela20[],3,0),0) -> 0
Q62: =IFERROR(VLOOKUP(Antonio!$D62,Tabela20[],2,0),0) -> 0 | R62: =IFERROR(VLOOKUP(Antonio!$D62,Tabela20[],3,0),0) -> 0
Q63: =IFERROR(VLOOKUP(Antonio!$D63,Tabela20[],2,0),0) -> 0 | R63: =IFERROR(VLOOKUP(Antonio!$D63,Tabela20[],3,0),0) -> 0
Q64: =IFERROR(VLOOKUP(Antonio!$D64,Tabela20[],2,0),0) -> 0 | R64: =IFERROR(VLOOKUP(Antonio!$D64,Tabela20[],3,0),0) -> 0
A65: TOTAL | F65: =SUM(Antonio!$F$54:$F$64) -> 0
A67: ATIVIDADES DE PESQUISA
A68: Favor informar o enquadramento ao lado | D68: 4 - Pesquisador Doutor | L68: =VLOOKUP(D68,TabPesquisa[],3) -> 10 | Q68: =IFERROR(VLOOKUP(D68,TabPesquisa[],2),"") -> Limite de horas Semanais = 10
A69: Título | D69: Coordenador/Participante | F69: C/H | G69: Autorização | I69: Data Aprovação CONCENTRO | J69: Início | K69: Término | Q69: CH Mínima | R69: CH Máxima
D70: Coordenador | F70: 3 | Q70: =IFERROR(VLOOKUP(Antonio!$D70,Tabela11[],2),0) -> 0 | R70: =IFERROR(VLOOKUP(Antonio!$D70,Tabela11[],3),0) -> 6
D71: Coordenador | F71: 3 | Q71: =IFERROR(VLOOKUP(Antonio!$D71,Tabela11[],2),0) -> 0 | R71: =IFERROR(VLOOKUP(Antonio!$D71,Tabela11[],3),0) -> 6
Q72: =IFERROR(VLOOKUP(Antonio!$D72,Tabela11[],2),0) -> 0 | R72: =IFERROR(VLOOKUP(Antonio!$D72,Tabela11[],3),0) -> 0
Q73: =IFERROR(VLOOKUP(Antonio!$D73,Tabela11[],2),0) -> 0 | R73: =IFERROR(VLOOKUP(Antonio!$D73,Tabela11[],3),0) -> 0
Q74: =IFERROR(VLOOKUP(Antonio!$D74,Tabela11[],2),0) -> 0 | R74: =IFERROR(VLOOKUP(Antonio!$D74,Tabela11[],3),0) -> 0
Q75: =IFERROR(VLOOKUP(Antonio!$D75,Tabela11[],2),0) -> 0 | R75: =IFERROR(VLOOKUP(Antonio!$D75,Tabela11[],3),0) -> 0
Q76: =IFERROR(VLOOKUP(Antonio!$D76,Tabela11[],2),0) -> 0 | R76: =IFERROR(VLOOKUP(Antonio!$D76,Tabela11[],3),0) -> 0
Q77: =IFERROR(VLOOKUP(Antonio!$D77,Tabela11[],2),0) -> 0 | R77: =IFERROR(VLOOKUP(Antonio!$D77,Tabela11[],3),0) -> 0
Q78: =IFERROR(VLOOKUP(Antonio!$D78,Tabela11[],2),0) -> 0 | R78: =IFERROR(VLOOKUP(Antonio!$D78,Tabela11[],3),0) -> 0
Q79: =IFERROR(VLOOKUP(Antonio!$D79,Tabela11[],2),0) -> 0 | R79: =IFERROR(VLOOKUP(Antonio!$D79,Tabela11[],3),0) -> 0
Q80: =IFERROR(VLOOKUP(Antonio!$D80,Tabela11[],2),0) -> 0 | R80: =IFERROR(VLOOKUP(Antonio!$D80,Tabela11[],3),0) -> 0
A81: BASE DE DADOS (MANTER OCULTA) | F81: =SUM(F70:F80) -> 6
A83: ATIVIDADES DE EXTENSÃO
A84: Categoria: Programa ou Projeto | F84: C/H | G84: Autorização/Ata | I84: Início | K84: Término | L84: Coluna2 | M84: Coluna3 | N84: Coluna4 | O84: CH Mínima | P84: CH Máxima
O85: =IFERROR(VLOOKUP(Antonio!$D85,Tabela21[],2,0),0) -> 0 | P85: =IFERROR(VLOOKUP(Antonio!$D85,Tabela21[],3,0),0) -> 0
O86: =IFERROR(VLOOKUP(Antonio!$D86,Tabela21[],2,0),0) -> 0 | P86: =IFERROR(VLOOKUP(Antonio!$D86,Tabela21[],3,0),0) -> 0
O87: =IFERROR(VLOOKUP(Antonio!$D87,Tabela21[],2,0),0) -> 0 | P87: =IFERROR(VLOOKUP(Antonio!$D87,Tabela21[],3,0),0) -> 0
O88: =IFERROR(VLOOKUP(Antonio!$D88,Tabela21[],2,0),0) -> 0 | P88: =IFERROR(VLOOKUP(Antonio!$D88,Tabela21[],3,0),0) -> 0
O89: =IFERROR(VLOOKUP(Antonio!$D89,Tabela21[],2,0),0) -> 0 | P89: =IFERROR(VLOOKUP(Antonio!$D89,Tabela21[],3,0),0) -> 0
O90: =IFERROR(VLOOKUP(Antonio!$D90,Tabela21[],2,0),0) -> 0 | P90: =IFERROR(VLOOKUP(Antonio!$D90,Tabela21[],3,0),0) -> 0
O91: =IFERROR(VLOOKUP(Antonio!$D91,Tabela21[],2,0),0) -> 0 | P91: =IFERROR(VLOOKUP(Antonio!$D91,Tabela21[],3,0),0) -> 0
O92: =IFERROR(VLOOKUP(Antonio!$D92,Tabela21[],2,0),0) -> 0 | P92: =IFERROR(VLOOKUP(Antonio!$D92,Tabela21[],3,0),0) -> 0
O93: =IFERROR(VLOOKUP(Antonio!$D93,Tabela21[],2,0),0) -> 0 | P93: =IFERROR(VLOOKUP(Antonio!$D93,Tabela21[],3,0),0) -> 0
O94: =IFERROR(VLOOKUP(Antonio!$D94,Tabela21[],2,0),0) -> 0 | P94: =IFERROR(VLOOKUP(Antonio!$D94,Tabela21[],3,0),0) -> 0
O95: =IFERROR(VLOOKUP(Antonio!$D95,Tabela21[],2,0),0) -> 0 | P95: =IFERROR(VLOOKUP(Antonio!$D95,Tabela21[],3,0),0) -> 0
O96: =IFERROR(VLOOKUP(Antonio!$D96,Tabela21[],2,0),0) -> 0 | P96: =IFERROR(VLOOKUP(Antonio!$D96,Tabela21[],3,0),0) -> 0
A97: TOTAL | F97: =SUM(F85:F96) -> 0 | O97: =IFERROR(VLOOKUP(Antonio!$D97,Tabela21[],2,0),0) -> 0 | P97: =IFERROR(VLOOKUP(Antonio!$D97,Tabela21[],3,0),0) -> 0
A99: ATIVIDADES DE ADMINISTRAÇÃO
A100: Atividade | D100: Descrição do Local/Cargo/função... | F100: C/H | G100: Autorização | I100: Início | K100: Término | L100: Redutor Calculo de Ensino | M100: Coluna2 | N100: Coluna3 | O100: Coluna4 | P100: Coluna5 | Q100: CH Mínima | R100: CH Máxima
A101: IX. Coordenador de Laboratório Institucional; | F101: 5 | L101: =IFERROR(VLOOKUP(Antonio!$A101,TFunçõesAdm[],3,0),40) -> 35 | Q101: 0 | R101: =IFERROR(VLOOKUP(A101,TFunçõesAdm[],2,FALSE),0) -> 5
A102: XII. Membro de Comissao interna do Centro por Portaria da Direção Geral do Centro, aprovada pelo Conselho de Centro; | F102: 1 | L102: =IFERROR(VLOOKUP(Antonio!$A102,TFunçõesAdm[],3,0),40) -> 35 | Q102: 0 | R102: =IFERROR(VLOOKUP(A102,TFunçõesAdm[],2,FALSE),0) -> 5
L103: =IFERROR(VLOOKUP(Antonio!$A103,TFunçõesAdm[],3,0),40) -> 40 | Q103: 0 | R103: =IFERROR(VLOOKUP(A103,TFunçõesAdm[],2,FALSE),0) -> 0
L104: =IFERROR(VLOOKUP(Antonio!$A104,TFunçõesAdm[],3,0),40) -> 40 | Q104: 0 | R104: =IFERROR(VLOOKUP(A104,TFunçõesAdm[],2,FALSE),0) -> 0
L105: =IFERROR(VLOOKUP(Antonio!$A105,TFunçõesAdm[],3,0),40) -> 40 | Q105: 0 | R105: =IFERROR(VLOOKUP(A105,TFunçõesAdm[],2,FALSE),0) -> 0
L106: =IFERROR(VLOOKUP(Antonio!$A106,TFunçõesAdm[],3,0),40) -> 40 | Q106: 0 | R106: =IFERROR(VLOOKUP(A106,TFunçõesAdm[],2,FALSE),0) -> 0
...

Sheet Carlos
A1: ANEXO I – RESOLUÇÃO 073/2011 – CONSUNI | R1: Tabela de Cores
A2: UNIVERSIDADE DO ESTADO DE SANTA CATARINA-UDESC | S2: Deve ser incluso dados manualmente
A3: PLANO DE TRABALHO INDIVIDUAL | S3: Não permite alteração
A4: Professor: | D4: Centro de Ciências Agroveterinárias (CAV) | H4: Departamento: | J4: Semestre: 2022/2 | S4: Calculos efetuados pela planilha. Não permite alteração.
A5: Carlos Augusto De Paiva Sampaio | H5: =VLOOKUP(A5,TProfessores[],2,0) -> Agronomia
A7: Categoria Funcional: | D7: Titulação: | H7: Regime: | J7: Classe:
A8: =VLOOKUP(A5,TProfessores[],3,0) -> Efetivo | D8: =VLOOKUP(A5,TProfessores[],5,0) -> Doutor(a) | H8: =VLOOKUP(A5,TProfessores[],7,0) -> Dedicação Integral | I8: =VLOOKUP(A5,TProfessores[],6,0) -> 40 h | J8: =VLOOKUP(A5,TProfessores[],8,0) -> ASSOCIADO
A9: ATIVIDADES DE ENSINO
A10: Disciplinas-Graduação | D10: Curso | F10: Fase | H10: C/H Ensino | J10: Informe a CH Pedagógica | Q10: CH Mínima | R10: CH Máxima
H11: Teórica | I11: Prática | L11: Soma (Oculta) | M11: Fórmula Oculta | N11: Formula para avisar CH pedagógica fora do sugerido | O11: Coluna1 | P11: Referência p coluna F
A12: Desenho Técnico (Agro) | D12: =IFERROR(VLOOKUP(A12,TGradeCurricular[],2,0),"") -> Agronomia | F12: =IFERROR(VLOOKUP(A12,TGradeCurricular[],3,0),"") -> 1ª | H12: 3 | I12: 0 | J12: 3 | L12: =SUM(H12:I12) -> 3 | M12: =IF(A12<>0,1,0) -> 1 | N12: =IF(J12<Q12,1,0) -> 0 | O12: =IF(J12>R12,1,0) -> 0 | P12: =SUM(N12:O12) -> 0 | Q12: =L12*0.5 -> 1.5 | R12: =IFERROR(_xlfn.IFS($M$32=1,L12,$M$32=2,L12,$M$32=3,(L12*1.3),$M$32>3,(L12*1.5)),0) -> 3.9
A13: Desenho Técnico (Agro) | D13: =IFERROR(VLOOKUP(A13,TGradeCurricular[],2,0),"") -> Agronomia | F13: =IFERROR(VLOOKUP(A13,TGradeCurricular[],3,0),"") -> 1ª | H13: 3 | I13: 0 | J13: 3 | L13: =SUM(H13:I13) -> 3 | M13: =IF(A13<>0,1,0) -> 1 | N13: =IF(J13<Q13,1,0) -> 0 | O13: =IF(J13>R13,1,0) -> 0 | P13: =SUM(N13:O13) -> 0 | Q13: =L13*0.5 -> 1.5 | R13: =IFERROR(_xlfn.IFS($M$32=1,L13,$M$32=2,L13,$M$32=3,(L13*1.3),$M$32>3,(L13*1.5)),0) -> 3.9
A14: Construções Rurais | D14: =IFERROR(VLOOKUP(A14,TGradeCurricular[],2,0),"") -> Agronomia | F14: =IFERROR(VLOOKUP(A14,TGradeCurricular[],3,0),"") -> 6ª | H14: 2 | I14: 6 | J14: 8 | L14: =SUM(H14:I14) -> 8 | M14: =IF(A14<>0,1,0) -> 1 | N14: =IF(J14<Q14,1,0) -> 0 | O14: =IF(J14>R14,1,0) -> 0 | P14: =SUM(N14:O14) -> 0 | Q14: =L14*0.5 -> 4 | R14: =IFERROR(_xlfn.IFS($M$32=1,L14,$M$32=2,L14,$M$32=3,(L14*1.3),$M$32>3,(L14*1.5)),0) -> 10.4
D15: =IFERROR(VLOOKUP(A15,TGradeCurricular[],2,0),"") | F15: =IFERROR(VLOOKUP(A15,TGradeCurricular[],3,0),"") | L15: =SUM(H15:I15) -> 0 | M15: =IF(A15<>0,1,0) -> 0 | N15: =IF(J15<Q15,1,0) -> 0 | O15: =IF(J15>R15,1,0) -> 0 | P15: =SUM(N15:O15) -> 0 | Q15: =L15*0.5 -> 0 | R15: =IFERROR(_xlfn.IFS($M$32=1,L15,$M$32=2,L15,$M$32=3,(L15*1.3),$M$32>3,(L15*1.5)),0) -> 0
D16: =IFERROR(VLOOKUP(A16,TGradeCurricular[],2,0),"") | F16: =IFERROR(VLOOKUP(A16,TGradeCurricular[],3,0),"") | L16: =SUM(H16:I16) -> 0 | M16: =IF(A16<>0,1,0) -> 0 | N16: =IF(J16<Q16,1,0) -> 0 | O16: =IF(J16>R16,1,0) -> 0 | P16: =SUM(N16:O16) -> 0 | Q16: =L16*0.5 -> 0 | R16: =IFERROR(_xlfn.IFS($M$32=1,L16,$M$32=2,L16,$M$32=3,(L16*1.3),$M$32>3,(L16*1.5)),0) -> 0
D17: =IFERROR(VLOOKUP(A17,TGradeCurricular[],2,0),"") | F17: =IFERROR(VLOOKUP(A17,TGradeCurricular[],3,0),"") | L17: =SUM(H17:I17) -> 0 | M17: =IF(A17<>0,1,0) -> 0 | N17: =IF(J17<Q17,1,0) -> 0 | O17: =IF(J17>R17,1,0) -> 0 | P17: =SUM(N17:O17) -> 0 | Q17: =L17*0.5 -> 0 | R17: =IFERROR(_xlfn.IFS($M$32=1,L17,$M$32=2,L17,$M$32=3,(L17*1.3),$M$32>3,(L17*1.5)),0) -> 0
D18: =IFERROR(VLOOKUP(A18,TGradeCurricular[],2,0),"") | F18: =IFERROR(VLOOKUP(A18,TGradeCurricular[],3,0),"") | L18: =SUM(H18:I18) -> 0 | M18: =IF(A18<>0,1,0) -> 0 | N18: =IF(J18<Q18,1,0) -> 0 | O18: =IF(J18>R18,1,0) -> 0 | P18: =SUM(N18:O18) -> 0 | Q18: =L18*0.5 -> 0 | R18: =IFERROR(_xlfn.IFS($M$32=1,L18,$M$32=2,L18,$M$32=3,(L18*1.3),$M$32>3,(L18*1.5)),0) -> 0
D19: =IFERROR(VLOOKUP(A19,TGradeCurricular[],2,0),"") | F19: =IFERROR(VLOOKUP(A19,TGradeCurricular[],3,0),"") | L19: =SUM(H19:I19) -> 0 | M19: =IF(A19<>0,1,0) -> 0 | N19: =IF(J19<Q19,1,0) -> 0 | O19: =IF(J19>R19,1,0) -> 0 | P19: =SUM(N19:O19) -> 0 | Q19: =L19*0.5 -> 0 | R19: =IFERROR(_xlfn.IFS($M$32=1,L19,$M$32=2,L19,$M$32=3,(L19*1.3),$M$32>3,(L19*1.5)),0) -> 0
D20: =IFERROR(VLOOKUP(A20,TGradeCurricular[],2,0),"") | F20: =IFERROR(VLOOKUP(A20,TGradeCurricular[],3,0),"") | L20: =SUM(H20:I20) -> 0 | M20: =IF(A20<>0,1,0) -> 0 | N20: =IF(J20<Q20,1,0) -> 0 | O20: =IF(J20>R20,1,0) -> 0 | P20: =SUM(N20:O20) -> 0 | Q20: =L20*0.5 -> 0 | R20: =IFERROR(_xlfn.IFS($M$32=1,L20,$M$32=2,L20,$M$32=3,(L20*1.3),$M$32>3,(L20*1.5)),0) -> 0
D21: =IFERROR(VLOOKUP(A21,TGradeCurricular[],2,0),"") | F21: =IFERROR(VLOOKUP(A21,TGradeCurricular[],3,0),"") | L21: =SUM(H21:I21) -> 0 | M21: =IF(A21<>0,1,0) -> 0 | N21: =IF(J21<Q21,1,0) -> 0 | O21: =IF(J21>R21,1,0) -> 0 | P21: =SUM(N21:O21) -> 0 | Q21: =L21*0.5 -> 0 | R21: =IFERROR(_xlfn.IFS($M$32=1,L21,$M$32=2,L21,$M$32=3,(L21*1.3),$M$32>3,(L21*1.5)),0) -> 0
A22: Disciplinas-Pós Graduação | D22: Programa | H22: C/H Ens. | J22: C/H Pedag.
D23: =IFERROR(VLOOKUP(Carlos!$A23,'Grade Pós'!A:B,2,0),"") | L23: =SUM(H23:I23) -> 0 | M23: =IF(A23<>0,1,0) -> 0 | N23: =IF(J23<Q23,1,0) -> 0 | O23: =IF(J23>R23,1,0) -> 0 | P23: =SUM(N23:O23) -> 0 | Q23: =L23*0.5 -> 0 | R23: =IFERROR(_xlfn.IFS($M$32=1,L23,$M$32=2,L23,$M$32=3,(L23*1.3),$M$32>3,(L23*1.5)),0) -> 0
D24: =IFERROR(VLOOKUP(Carlos!$A24,'Grade Pós'!A:B,2,0),"") | L24: =SUM(H24:I24) -> 0 | M24: =IF(A24<>0,1,0) -> 0 | N24: =IF(J24<Q24,1,0) -> 0 | O24: =IF(J24>R24,1,0) -> 0 | P24: =SUM(N24:O24) -> 0 | Q24: =L24*0.5 -> 0 | R24: =IFERROR(_xlfn.IFS($M$32=1,L24,$M$32=2,L24,$M$32=3,(L24*1.3),$M$32>3,(L24*1.5)),0) -> 0
D25: =IFERROR(VLOOKUP(Carlos!$A25,'Grade Pós'!A:B,2,0),"") | L25: =SUM(H25:I25) -> 0 | M25: =IF(A25<>0,1,0) -> 0 | N25: =IF(J25<Q25,1,0) -> 0 | O25: =IF(J25>R25,1,0) -> 0 | P25: =SUM(N25:O25) -> 0 | Q25: =L25*0.5 -> 0 | R25: =IFERROR(_xlfn.IFS($M$32=1,L25,$M$32=2,L25,$M$32=3,(L25*1.3),$M$32>3,(L25*1.5)),0) -> 0
D26: =IFERROR(VLOOKUP(Carlos!$A26,'Grade Pós'!A:B,2,0),"") | L26: =SUM(H26:I26) -> 0 | M26: =IF(A26<>0,1,0) -> 0 | N26: =IF(J26<Q26,1,0) -> 0 | O26: =IF(J26>R26,1,0) -> 0 | P26: =SUM(N26:O26) -> 0 | Q26: =L26*0.5 -> 0 | R26: =IFERROR(_xlfn.IFS($M$32=1,L26,$M$32=2,L26,$M$32=3,(L26*1.3),$M$32>3,(L26*1.5)),0) -> 0
D27: =IFERROR(VLOOKUP(Carlos!$A27,'Grade Pós'!A:B,2,0),"") | L27: =SUM(H27:I27) -> 0 | M27: =IF(A27<>0,1,0) -> 0 | N27: =IF(J27<Q27,1,0) -> 0 | O27: =IF(J27>R27,1,0) -> 0 | P27: =SUM(N27:O27) -> 0 | Q27: =L27*0.5 -> 0 | R27: =IFERROR(_xlfn.IFS($M$32=1,L27,$M$32=2,L27,$M$32=3,(L27*1.3),$M$32>3,(L27*1.5)),0) -> 0
D28: =IFERROR(VLOOKUP(Carlos!$A28,'Grade Pós'!A:B,2,0),"") | L28: =SUM(H28:I28) -> 0 | M28: =IF(A28<>0,1,0) -> 0 | N28: =IF(J28<Q28,1,0) -> 0 | O28: =IF(J28>R28,1,0) -> 0 | P28: =SUM(N28:O28) -> 0 | Q28: =L28*0.5 -> 0 | R28: =IFERROR(_xlfn.IFS($M$32=1,L28,$M$32=2,L28,$M$32=3,(L28*1.3),$M$32>3,(L28*1.5)),0) -> 0
D29: =IFERROR(VLOOKUP(Carlos!$A29,'Grade Pós'!A:B,2,0),"") | L29: =SUM(H29:I29) -> 0 | M29: =IF(A29<>0,1,0) -> 0 | N29: =IF(J29<Q29,1,0) -> 0 | O29: =IF(J29>R29,1,0) -> 0 | P29: =SUM(N29:O29) -> 0 | Q29: =L29*0.5 -> 0 | R29: =IFERROR(_xlfn.IFS($M$32=1,L29,$M$32=2,L29,$M$32=3,(L29*1.3),$M$32>3,(L29*1.5)),0) -> 0
D30: =IFERROR(VLOOKUP(Carlos!$A30,'Grade Pós'!A:B,2,0),"") | L30: =SUM(H30:I30) -> 0 | M30: =IF(A30<>0,1,0) -> 0 | N30: =IF(J30<Q30,1,0) -> 0 | O30: =IF(J30>R30,1,0) -> 0 | P30: =SUM(N30:O30) -> 0 | Q30: =L30*0.5 -> 0 | R30: =IFERROR(_xlfn.IFS($M$32=1,L30,$M$32=2,L30,$M$32=3,(L30*1.3),$M$32>3,(L30*1.5)),0) -> 0
D31: =IFERROR(VLOOKUP(Carlos!$A31,'Grade Pós'!A:B,2,0),"") | L31: =SUM(H31:I31) -> 0 | M31: =IF(A31<>0,1,0) -> 0 | N31: =IF(J31<Q31,1,0) -> 0 | O31: =IF(J31>R31,1,0) -> 0 | P31: =SUM(N31:O31) -> 0 | Q31: =L31*0.5 -> 0 | R31: =IFERROR(_xlfn.IFS($M$32=1,L31,$M$32=2,L31,$M$32=3,(L31*1.3),$M$32>3,(L31*1.5)),0) -> 0
A32: BASE DE DADOS (MANTER OCULTA) | J32: =SUM(J12:K21) -> 14 | K32: =SUM(J12:J31) -> 14 | L32: =SUM(L12:L31) -> 14 | M32: =SUM(M12:M31) -> 3 | N32: =IF(K32<Q32,1,0) -> 0 | O32: =IF(K32>R32,1,0) -> 0 | P32: =SUM(N32:O32) -> 0 | Q32: =L32*0.5 -> 7 | R32: =IFERROR(_xlfn.IFS($M$32=1,L32,$M$32=2,L32,$M$32=3,(L32*1.3),$M$32>3,(L32*1.5)),0) -> 18.2
A34: ATIVIDADES DE ORIENTAÇÃO | M34: Para permitir carga horaria menor de 9hs para Funões com mais de 32hs
A35: Professor é vinculado à programas pós graduação Recomendado pela CAPES? | H35: 2 Não | I35: =IFERROR(VLOOKUP(H35,TCapes[],2),"") -> 2 - Carga horária mínima de ensino à alocar = 12 | L35: =IF(H35="2 Não",12,8) -> 12 | M35: =MIN(L35,L113) -> 12
A36: Modalidade | D36: Nome do Orientado | H36: Curso/Habilitação | I36: Semestre de Ingresso/Fase | K36: Informe a C/H Semanal | L36: Cálculo do Coord. Estágio | M36: Coluna2 | N36: Coluna3 | O36: Coluna4 | P36: Coluna5 | Q36: CH Mínima | R36: CH Máxima
A37: Dissertação | K37: 2 | L37: =IF(A37="Coordenação de Estágio",1,0) -> 0 | Q37: =IFERROR(VLOOKUP(A37,Dados!$A$85:$D$89,2,0),0) -> 0 | R37: =IFERROR(VLOOKUP(A37,Dados!$A$85:$D$89,3,0),0) -> 2
A38: Dissertação | K38: 2 | L38: =IF(A38="Coordenação de Estágio",1,0) -> 0 | Q38: =IFERROR(VLOOKUP(A38,Dados!$A$85:$D$89,2,0),0) -> 0 | R38: =IFERROR(VLOOKUP(A38,Dados!$A$85:$D$89,3,0),0) -> 2
A39: Dissertação | K39: 2 | L39: =IF(A39="Coordenação de Estágio",1,0) -> 0 | Q39: =IFERROR(VLOOKUP(A39,Dados!$A$85:$D$89,2,0),0) -> 0 | R39: =IFERROR(VLOOKUP(A39,Dados!$A$85:$D$89,3,0),0) -> 2
A40: Dissertação | K40: 2 | L40: =IF(A40="Coordenação de Estágio",1,0) -> 0 | Q40: =IFERROR(VLOOKUP(A40,Dados!$A$85:$D$89,2,0),0) -> 0 | R40: =IFERROR(VLOOKUP(A40,Dados!$A$85:$D$89,3,0),0) -> 2
A41: Tese | K41: 3 | L41: =IF(A41="Coordenação de Estágio",1,0) -> 0 | Q41: =IFERROR(VLOOKUP(A41,Dados!$A$85:$D$89,2,0),0) -> 0 | R41: =IFERROR(VLOOKUP(A41,Dados!$A$85:$D$89,3,0),0) -> 3
A42: Tese | K42: 3 | L42: =IF(A42="Coordenação de Estágio",1,0) -> 0 | Q42: =IFERROR(VLOOKUP(A42,Dados!$A$85:$D$89,2,0),0) -> 0 | R42: =IFERROR(VLOOKUP(A42,Dados!$A$85:$D$89,3,0),0) -> 3
L43: =IF(A43="Coordenação de Estágio",1,0) -> 0 | Q43: =IFERROR(VLOOKUP(A43,Dados!$A$85:$D$89,2,0),0) -> 0 | R43: =IFERROR(VLOOKUP(A43,Dados!$A$85:$D$89,3,0),0) -> 0
L44: =IF(A44="Coordenação de Estágio",1,0) -> 0 | Q44: =IFERROR(VLOOKUP(A44,Dados!$A$85:$D$89,2,0),0) -> 0 | R44: =IFERROR(VLOOKUP(A44,Dados!$A$85:$D$89,3,0),0) -> 0
L45: =IF(A45="Coordenação de Estágio",1,0) -> 0 | Q45: =IFERROR(VLOOKUP(A45,Dados!$A$85:$D$89,2,0),0) -> 0 | R45: =IFERROR(VLOOKUP(A45,Dados!$A$85:$D$89,3,0),0) -> 0
L46: =IF(A46="Coordenação de Estágio",1,0) -> 0 | Q46: =IFERROR(VLOOKUP(A46,Dados!$A$85:$D$89,2,0),0) -> 0 | R46: =IFERROR(VLOOKUP(A46,Dados!$A$85:$D$89,3,0),0) -> 0
L47: =IF(A47="Coordenação de Estágio",1,0) -> 0 | Q47: =IFERROR(VLOOKUP(A47,Dados!$A$85:$D$89,2,0),0) -> 0 | R47: =IFERROR(VLOOKUP(A47,Dados!$A$85:$D$89,3,0),0) -> 0
L48: =IF(A48="Coordenação de Estágio",1,0) -> 0 | Q48: =IFERROR(VLOOKUP(A48,Dados!$A$85:$D$89,2,0),0) -> 0 | R48: =IFERROR(VLOOKUP(A48,Dados!$A$85:$D$89,3,0),0) -> 0
L49: =IF(A49="Coordenação de Estágio",1,0) -> 0 | Q49: =IFERROR(VLOOKUP(A49,Dados!$A$85:$D$89,2,0),0) -> 0 | R49: =IFERROR(VLOOKUP(A49,Dados!$A$85:$D$89,3,0),0) -> 0
A50: BASE DE DADOS (MANTER OCULTA) | K50: =SUM(K37:K49) -> 14 | L50: =SUM(L37:L49) -> 0 | M50: =IF(L50=1,20,12) -> 12 | Q50: =SUM(Q37:Q49) -> 0 | R50: =SUM(R37:R49) -> 14
A52: PROJETOS DE ENSINO
A53: Título | D53: Coordenador/Participante | F53: C/H | G53: Autorização | I53: Início | K53: Término | L53: Coluna2 | M53: Coluna3 | N53: Coluna4 | O53: Coluna5 | P53: Coluna6 | Q53: CH Mínima | R53: CH Máxima
Q54: =IFERROR(VLOOKUP(Carlos!$D54,Tabela20[],2,0),0) -> 0 | R54: =IFERROR(VLOOKUP(Carlos!$D54,Tabela20[],3,0),0) -> 0
Q55: =IFERROR(VLOOKUP(Carlos!$D55,Tabela20[],2,0),0) -> 0 | R55: =IFERROR(VLOOKUP(Carlos!$D55,Tabela20[],3,0),0) -> 0
Q56: =IFERROR(VLOOKUP(Carlos!$D56,Tabela20[],2,0),0) -> 0 | R56: =IFERROR(VLOOKUP(Carlos!$D56,Tabela20[],3,0),0) -> 0
Q57: =IFERROR(VLOOKUP(Carlos!$D57,Tabela20[],2,0),0) -> 0 | R57: =IFERROR(VLOOKUP(Carlos!$D57,Tabela20[],3,0),0) -> 0
Q58: =IFERROR(VLOOKUP(Carlos!$D58,Tabela20[],2,0),0) -> 0 | R58: =IFERROR(VLOOKUP(Carlos!$D58,Tabela20[],3,0),0) -> 0
Q59: =IFERROR(VLOOKUP(Carlos!$D59,Tabela20[],2,0),0) -> 0 | R59: =IFERROR(VLOOKUP(Carlos!$D59,Tabela20[],3,0),0) -> 0
Q60: =IFERROR(VLOOKUP(Carlos!$D60,Tabela20[],2,0),0) -> 0 | R60: =IFERROR(VLOOKUP(Carlos!$D60,Tabela20[],3,0),0) -> 0
Q61: =IFERROR(VLOOKUP(Carlos!$D61,Tabela20[],2,0),0) -> 0 | R61: =IFERROR(VLOOKUP(Carlos!$D61,Tabela20[],3,0),0) -> 0
Q62: =IFERROR(VLOOKUP(Carlos!$D62,Tabela20[],2,0),0) -> 0 | R62: =IFERROR(VLOOKUP(Carlos!$D62,Tabela20[],3,0),0) -> 0
Q63: =IFERROR(VLOOKUP(Carlos!$D63,Tabela20[],2,0),0) -> 0 | R63: =IFERROR(VLOOKUP(Carlos!$D63,Tabela20[],3,0),0) -> 0
Q64: =IFERROR(VLOOKUP(Carlos!$D64,Tabela20[],2,0),0) -> 0 | R64: =IFERROR(VLOOKUP(Carlos!$D64,Tabela20[],3,0),0) -> 0
A65: TOTAL | F65: =SUM(Carlos!$F$54:$F$64) -> 0
A67: ATIVIDADES DE PESQUISA
A68: Favor informar o enquadramento ao lado | D68: 4 - Pesquisador Doutor | L68: =VLOOKUP(D68,TabPesquisa[],3) -> 10 | Q68: =IFERROR(VLOOKUP(D68,TabPesquisa[],2),"") -> Limite de horas Semanais = 10
A69: Título | D69: Coordenador/Participante | F69: C/H | G69: Autorização | I69: Data Aprovação CONCENTRO | J69: Início | K69: Término | Q69: CH Mínima | R69: CH Máxima
D70: Coordenador | F70: 4 | Q70: =IFERROR(VLOOKUP(Carlos!$D70,Tabela11[],2),0) -> 0 | R70: =IFERROR(VLOOKUP(Carlos!$D70,Tabela11[],3),0) -> 6
D71: Participante | F71: 2 | Q71: =IFERROR(VLOOKUP(Carlos!$D71,Tabela11[],2),0) -> 0 | R71: =IFERROR(VLOOKUP(Carlos!$D71,Tabela11[],3),0) -> 2
Q72: =IFERROR(VLOOKUP(Carlos!$D72,Tabela11[],2),0) -> 0 | R72: =IFERROR(VLOOKUP(Carlos!$D72,Tabela11[],3),0) -> 0
Q73: =IFERROR(VLOOKUP(Carlos!$D73,Tabela11[],2),0) -> 0 | R73: =IFERROR(VLOOKUP(Carlos!$D73,Tabela11[],3),0) -> 0
Q74: =IFERROR(VLOOKUP(Carlos!$D74,Tabela11[],2),0) -> 0 | R74: =IFERROR(VLOOKUP(Carlos!$D74,Tabela11[],3),0) -> 0
Q75: =IFERROR(VLOOKUP(Carlos!$D75,Tabela11[],2),0) -> 0 | R75: =IFERROR(VLOOKUP(Carlos!$D75,Tabela11[],3),0) -> 0
Q76: =IFERROR(VLOOKUP(Carlos!$D76,Tabela11[],2),0) -> 0 | R76: =IFERROR(VLOOKUP(Carlos!$D76,Tabela11[],3),0) -> 0
Q77: =IFERROR(VLOOKUP(Carlos!$D77,Tabela11[],2),0) -> 0 | R77: =IFERROR(VLOOKUP(Carlos!$D77,Tabela11[],3),0) -> 0
Q78: =IFERROR(VLOOKUP(Carlos!$D78,Tabela11[],2),0) -> 0 | R78: =IFERROR(VLOOKUP(Carlos!$D78,Tabela11[],3),0) -> 0
Q79: =IFERROR(VLOOKUP(Carlos!$D79,Tabela11[],2),0) -> 0 | R79: =IFERROR(VLOOKUP(Carlos!$D79,Tabela11[],3),0) -> 0
Q80: =IFERROR(VLOOKUP(Carlos!$D80,Tabela11[],2),0) -> 0 | R80: =IFERROR(VLOOKUP(Carlos!$D80,Tabela11[],3),0) -> 0
A81: BASE DE DADOS (MANTER OCULTA) | F81: =SUM(F70:F80) -> 6
A83: ATIVIDADES DE EXTENSÃO
A84: Categoria: Programa ou Projeto | F84: C/H | G84: Autorização/Ata | I84: Início | K84: Término | L84: Coluna2 | M84: Coluna3 | N84: Coluna4 | O84: CH Mínima | P84: CH Máxima
F85: 4 | O85: =IFERROR(VLOOKUP(Carlos!$D85,Tabela21[],2,0),0) -> 0 | P85: =IFERROR(VLOOKUP(Carlos!$D85,Tabela21[],3,0),0) -> 0
F86: 2 | O86: =IFERROR(VLOOKUP(Carlos!$D86,Tabela21[],2,0),0) -> 0 | P86: =IFERROR(VLOOKUP(Carlos!$D86,Tabela21[],3,0),0) -> 0
F87: 2 | O87: =IFERROR(VLOOKUP(Carlos!$D87,Tabela21[],2,0),0) -> 0 | P87: =IFERROR(VLOOKUP(Carlos!$D87,Tabela21[],3,0),0) -> 0
O88: =IFERROR(VLOOKUP(Carlos!$D88,Tabela21[],2,0),0) -> 0 | P88: =IFERROR(VLOOKUP(Carlos!$D88,Tabela21[],3,0),0) -> 0
O89: =IFERROR(VLOOKUP(Carlos!$D89,Tabela21[],2,0),0) -> 0 | P89: =IFERROR(VLOOKUP(Carlos!$D89,Tabela21[],3,0),0) -> 0
O90: =IFERROR(VLOOKUP(Carlos!$D90,Tabela21[],2,0),0) -> 0 | P90: =IFERROR(VLOOKUP(Carlos!$D90,Tabela21[],3,0),0) -> 0
O91: =IFERROR(VLOOKUP(Carlos!$D91,Tabela21[],2,0),0) -> 0 | P91: =IFERROR(VLOOKUP(Carlos!$D91,Tabela21[],3,0),0) -> 0
O92: =IFERROR(VLOOKUP(Carlos!$D92,Tabela21[],2,0),0) -> 0 | P92: =IFERROR(VLOOKUP(Carlos!$D92,Tabela21[],3,0),0) -> 0
O93: =IFERROR(VLOOKUP(Carlos!$D93,Tabela21[],2,0),0) -> 0 | P93: =IFERROR(VLOOKUP(Carlos!$D93,Tabela21[],3,0),0) -> 0
O94: =IFERROR(VLOOKUP(Carlos!$D94,Tabela21[],2,0),0) -> 0 | P94: =IFERROR(VLOOKUP(Carlos!$D94,Tabela21[],3,0),0) -> 0
O95: =IFERROR(VLOOKUP(Carlos!$D95,Tabela21[],2,0),0) -> 0 | P95: =IFERROR(VLOOKUP(Carlos!$D95,Tabela21[],3,0),0) -> 0
O96: =IFERROR(VLOOKUP(Carlos!$D96,Tabela21[],2,0),0) -> 0 | P96: =IFERROR(VLOOKUP(Carlos!$D96,Tabela21[],3,0),0) -> 0
A97: TOTAL | F97: =SUM(F85:F96) -> 8 | O97: =IFERROR(VLOOKUP(Carlos!$D97,Tabela21[],2,0),0) -> 0 | P97: =IFERROR(VLOOKUP(Carlos!$D97,Tabela21[],3,0),0) -> 0
A99: ATIVIDADES DE ADMINISTRAÇÃO
A100: Atividade | D100: Descrição do Local/Cargo/função... | F100: C/H | G100: Autorização | I100: Início | K100: Término | L100: Redutor Calculo de Ensino | M100: Coluna2 | N100: Coluna3 | O100: Coluna4 | P100: Coluna5 | Q100: CH Mínima | R100: CH Máxima
A101: IX. Coordenador de Laboratório Institucional; | F101: 5 | L101: =IFERROR(VLOOKUP(Carlos!$A101,TFunçõesAdm[],3,0),40) -> 35 | Q101: 0 | R101: =IFERROR(VLOOKUP(A101,TFunçõesAdm[],2,FALSE),0) -> 5
L102: =IFERROR(VLOOKUP(Carlos!$A102,TFunçõesAdm[],3,0),40) -> 40 | Q102: 0 | R102: =IFERROR(VLOOKUP(A102,TFunçõesAdm[],2,FALSE),0) -> 0
L103: =IFERROR(VLOOKUP(Carlos!$A103,TFunçõesAdm[],3,0),40) -> 40 | Q103: 0 | R103: =IFERROR(VLOOKUP(A103,TFunçõesAdm[],2,FALSE),0) -> 0
L104: =IFERROR(VLOOKUP(Carlos!$A104,TFunçõesAdm[],3,0),40) -> 40 | Q104: 0 | R104: =IFERROR(VLOOKUP(A104,TFunçõesAdm[],2,FALSE),0) -> 0
L105: =IFERROR(VLOOKUP(Carlos!$A105,TFunçõesAdm[],3,0),40) -> 40 | Q105: 0 | R105: =IFERROR(VLOOKUP(A105,TFunçõesAdm[],2,FALSE),0) -> 0
L106: =IFERROR(VLOOKUP(Carlos!$A106,TFunçõesAdm[],3,0),40) -> 40 | Q106: 0 | R106: =IFERROR(VLOOKUP(A106,TFunçõesAdm[],2,FALSE),0) -> 0
...

Sheet Cassandro
A1: ANEXO I – RESOLUÇÃO 073/2011 – CONSUNI | R1: Tabela de Cores
A2: UNIVERSIDADE DO ESTADO DE SANTA CATARINA-UDESC | S2: Deve ser incluso dados manualmente
A3: PLANO DE TRABALHO INDIVIDUAL | S3: Não permite alteração
A4: Professor: | D4: Centro de Ciências Agroveterinárias (CAV) | H4: Departamento: | J4: Semestre: 2022/2 | S4: Calculos efetuados pela planilha. Não permite alteração.
A5: Cassandro Vidal Talamini Do Amarante | H5: =VLOOKUP(A5,TProfessores[],2,0) -> Agronomia
A7: Categoria Funcional: | D7: Titulação: | H7: Regime: | J7: Classe:
A8: =VLOOKUP(A5,TProfessores[],3,0) -> Efetivo | D8: =VLOOKUP(A5,TProfessores[],5,0) -> Doutor(a) | H8: =VLOOKUP(A5,TProfessores[],7,0) -> Dedicação Integral | I8: =VLOOKUP(A5,TProfessores[],6,0) -> 40 h | J8: =VLOOKUP(A5,TProfessores[],8,0) -> TITULAR
A9: ATIVIDADES DE ENSINO
A10: Disciplinas-Graduação | D10: Curso | F10: Fase | H10: C/H Ensino | J10: Informe a CH Pedagógica | Q10: CH Mínima | R10: CH Máxima
H11: Teórica | I11: Prática | L11: Soma (Oculta) | M11: Fórmula Oculta | N11: Formula para avisar CH pedagógica fora do sugerido | O11: Coluna1 | P11: Referência p coluna F
D12: =IFERROR(VLOOKUP(A12,TGradeCurricular[],2,0),"") | F12: =IFERROR(VLOOKUP(A12,TGradeCurricular[],3,0),"") | L12: =SUM(H12:I12) -> 0 | M12: =IF(A12<>0,1,0) -> 0 | N12: =IF(J12<Q12,1,0) -> 0 | O12: =IF(J12>R12,1,0) -> 0 | P12: =SUM(N12:O12) -> 0 | Q12: =L12*0.5 -> 0 | R12: =IFERROR(_xlfn.IFS($M$32=1,L12,$M$32=2,L12,$M$32=3,(L12*1.3),$M$32>3,(L12*1.5)),0) -> 0
D13: =IFERROR(VLOOKUP(A13,TGradeCurricular[],2,0),"") | F13: =IFERROR(VLOOKUP(A13,TGradeCurricular[],3,0),"") | L13: =SUM(H13:I13) -> 0 | M13: =IF(A13<>0,1,0) -> 0 | N13: =IF(J13<Q13,1,0) -> 0 | O13: =IF(J13>R13,1,0) -> 0 | P13: =SUM(N13:O13) -> 0 | Q13: =L13*0.5 -> 0 | R13: =IFERROR(_xlfn.IFS($M$32=1,L13,$M$32=2,L13,$M$32=3,(L13*1.3),$M$32>3,(L13*1.5)),0) -> 0
D14: =IFERROR(VLOOKUP(A14,TGradeCurricular[],2,0),"") | F14: =IFERROR(VLOOKUP(A14,TGradeCurricular[],3,0),"") | L14: =SUM(H14:I14) -> 0 | M14: =IF(A14<>0,1,0) -> 0 | N14: =IF(J14<Q14,1,0) -> 0 | O14: =IF(J14>R14,1,0) -> 0 | P14: =SUM(N14:O14) -> 0 | Q14: =L14*0.5 -> 0 | R14: =IFERROR(_xlfn.IFS($M$32=1,L14,$M$32=2,L14,$M$32=3,(L14*1.3),$M$32>3,(L14*1.5)),0) -> 0
D15: =IFERROR(VLOOKUP(A15,TGradeCurricular[],2,0),"") | F15: =IFERROR(VLOOKUP(A15,TGradeCurricular[],3,0),"") | L15: =SUM(H15:I15) -> 0 | M15: =IF(A15<>0,1,0) -> 0 | N15: =IF(J15<Q15,1,0) -> 0 | O15: =IF(J15>R15,1,0) -> 0 | P15: =SUM(N15:O15) -> 0 | Q15: =L15*0.5 -> 0 | R15: =IFERROR(_xlfn.IFS($M$32=1,L15,$M$32=2,L15,$M$32=3,(L15*1.3),$M$32>3,(L15*1.5)),0) -> 0
D16: =IFERROR(VLOOKUP(A16,TGradeCurricular[],2,0),"") | F16: =IFERROR(VLOOKUP(A16,TGradeCurricular[],3,0),"") | L16: =SUM(H16:I16) -> 0 | M16: =IF(A16<>0,1,0) -> 0 | N16: =IF(J16<Q16,1,0) -> 0 | O16: =IF(J16>R16,1,0) -> 0 | P16: =SUM(N16:O16) -> 0 | Q16: =L16*0.5 -> 0 | R16: =IFERROR(_xlfn.IFS($M$32=1,L16,$M$32=2,L16,$M$32=3,(L16*1.3),$M$32>3,(L16*1.5)),0) -> 0
D17: =IFERROR(VLOOKUP(A17,TGradeCurricular[],2,0),"") | F17: =IFERROR(VLOOKUP(A17,TGradeCurricular[],3,0),"") | L17: =SUM(H17:I17) -> 0 | M17: =IF(A17<>0,1,0) -> 0 | N17: =IF(J17<Q17,1,0) -> 0 | O17: =IF(J17>R17,1,0) -> 0 | P17: =SUM(N17:O17) -> 0 | Q17: =L17*0.5 -> 0 | R17: =IFERROR(_xlfn.IFS($M$32=1,L17,$M$32=2,L17,$M$32=3,(L17*1.3),$M$32>3,(L17*1.5)),0) -> 0
D18: =IFERROR(VLOOKUP(A18,TGradeCurricular[],2,0),"") | F18: =IFERROR(VLOOKUP(A18,TGradeCurricular[],3,0),"") | L18: =SUM(H18:I18) -> 0 | M18: =IF(A18<>0,1,0) -> 0 | N18: =IF(J18<Q18,1,0) -> 0 | O18: =IF(J18>R18,1,0) -> 0 | P18: =SUM(N18:O18) -> 0 | Q18: =L18*0.5 -> 0 | R18: =IFERROR(_xlfn.IFS($M$32=1,L18,$M$32=2,L18,$M$32=3,(L18*1.3),$M$32>3,(L18*1.5)),0) -> 0
D19: =IFERROR(VLOOKUP(A19,TGradeCurricular[],2,0),"") | F19: =IFERROR(VLOOKUP(A19,TGradeCurricular[],3,0),"") | L19: =SUM(H19:I19) -> 0 | M19: =IF(A19<>0,1,0) -> 0 | N19: =IF(J19<Q19,1,0) -> 0 | O19: =IF(J19>R19,1,0) -> 0 | P19: =SUM(N19:O19) -> 0 | Q19: =L19*0.5 -> 0 | R19: =IFERROR(_xlfn.IFS($M$32=1,L19,$M$32=2,L19,$M$32=3,(L19*1.3),$M$32>3,(L19*1.5)),0) -> 0
D20: =IFERROR(VLOOKUP(A20,TGradeCurricular[],2,0),"") | F20: =IFERROR(VLOOKUP(A20,TGradeCurricular[],3,0),"") | L20: =SUM(H20:I20) -> 0 | M20: =IF(A20<>0,1,0) -> 0 | N20: =IF(J20<Q20,1,0) -> 0 | O20: =IF(J20>R20,1,0) -> 0 | P20: =SUM(N20:O20) -> 0 | Q20: =L20*0.5 -> 0 | R20: =IFERROR(_xlfn.IFS($M$32=1,L20,$M$32=2,L20,$M$32=3,(L20*1.3),$M$32>3,(L20*1.5)),0) -> 0
D21: =IFERROR(VLOOKUP(A21,TGradeCurricular[],2,0),"") | F21: =IFERROR(VLOOKUP(A21,TGradeCurricular[],3,0),"") | L21: =SUM(H21:I21) -> 0 | M21: =IF(A21<>0,1,0) -> 0 | N21: =IF(J21<Q21,1,0) -> 0 | O21: =IF(J21>R21,1,0) -> 0 | P21: =SUM(N21:O21) -> 0 | Q21: =L21*0.5 -> 0 | R21: =IFERROR(_xlfn.IFS($M$32=1,L21,$M$32=2,L21,$M$32=3,(L21*1.3),$M$32>3,(L21*1.5)),0) -> 0
A22: Disciplinas-Pós Graduação | D22: Programa | H22: C/H Ens. | J22: C/H Pedag.
D23: =IFERROR(VLOOKUP(Cassandro!$A23,'Grade Pós'!A:B,2,0),"") | L23: =SUM(H23:I23) -> 0 | M23: =IF(A23<>0,1,0) -> 0 | N23: =IF(J23<Q23,1,0) -> 0 | O23: =IF(J23>R23,1,0) -> 0 | P23: =SUM(N23:O23) -> 0 | Q23: =L23*0.5 -> 0 | R23: =IFERROR(_xlfn.IFS($M$32=1,L23,$M$32=2,L23,$M$32=3,(L23*1.3),$M$32>3,(L23*1.5)),0) -> 0
D24: =IFERROR(VLOOKUP(Cassandro!$A24,'Grade Pós'!A:B,2,0),"") | L24: =SUM(H24:I24) -> 0 | M24: =IF(A24<>0,1,0) -> 0 | N24: =IF(J24<Q24,1,0) -> 0 | O24: =IF(J24>R24,1,0) -> 0 | P24: =SUM(N24:O24) -> 0 | Q24: =L24*0.5 -> 0 | R24: =IFERROR(_xlfn.IFS($M$32=1,L24,$M$32=2,L24,$M$32=3,(L24*1.3),$M$32>3,(L24*1.5)),0) -> 0
D25: =IFERROR(VLOOKUP(Cassandro!$A25,'Grade Pós'!A:B,2,0),"") | L25: =SUM(H25:I25) -> 0 | M25: =IF(A25<>0,1,0) -> 0 | N25: =IF(J25<Q25,1,0) -> 0 | O25: =IF(J25>R25,1,0) -> 0 | P25: =SUM(N25:O25) -> 0 | Q25: =L25*0.5 -> 0 | R25: =IFERROR(_xlfn.IFS($M$32=1,L25,$M$32=2,L25,$M$32=3,(L25*1.3),$M$32>3,(L25*1.5)),0) -> 0
D26: =IFERROR(VLOOKUP(Cassandro!$A26,'Grade Pós'!A:B,2,0),"") | L26: =SUM(H26:I26) -> 0 | M26: =IF(A26<>0,1,0) -> 0 | N26: =IF(J26<Q26,1,0) -> 0 | O26: =IF(J26>R26,1,0) -> 0 | P26: =SUM(N26:O26) -> 0 | Q26: =L26*0.5 -> 0 | R26: =IFERROR(_xlfn.IFS($M$32=1,L26,$M$32=2,L26,$M$32=3,(L26*1.3),$M$32>3,(L26*1.5)),0) -> 0
D27: =IFERROR(VLOOKUP(Cassandro!$A27,'Grade Pós'!A:B,2,0),"") | L27: =SUM(H27:I27) -> 0 | M27: =IF(A27<>0,1,0) -> 0 | N27: =IF(J27<Q27,1,0) -> 0 | O27: =IF(J27>R27,1,0) -> 0 | P27: =SUM(N27:O27) -> 0 | Q27: =L27*0.5 -> 0 | R27: =IFERROR(_xlfn.IFS($M$32=1,L27,$M$32=2,L27,$M$32=3,(L27*1.3),$M$32>3,(L27*1.5)),0) -> 0
D28: =IFERROR(VLOOKUP(Cassandro!$A28,'Grade Pós'!A:B,2,0),"") | L28: =SUM(H28:I28) -> 0 | M28: =IF(A28<>0,1,0) -> 0 | N28: =IF(J28<Q28,1,0) -> 0 | O28: =IF(J28>R28,1,0) -> 0 | P28: =SUM(N28:O28) -> 0 | Q28: =L28*0.5 -> 0 | R28: =IFERROR(_xlfn.IFS($M$32=1,L28,$M$32=2,L28,$M$32=3,(L28*1.3),$M$32>3,(L28*1.5)),0) -> 0
D29: =IFERROR(VLOOKUP(Cassandro!$A29,'Grade Pós'!A:B,2,0),"") | L29: =SUM(H29:I29) -> 0 | M29: =IF(A29<>0,1,0) -> 0 | N29: =IF(J29<Q29,1,0) -> 0 | O29: =IF(J29>R29,1,0) -> 0 | P29: =SUM(N29:O29) -> 0 | Q29: =L29*0.5 -> 0 | R29: =IFERROR(_xlfn.IFS($M$32=1,L29,$M$32=2,L29,$M$32=3,(L29*1.3),$M$32>3,(L29*1.5)),0) -> 0
D30: =IFERROR(VLOOKUP(Cassandro!$A30,'Grade Pós'!A:B,2,0),"") | L30: =SUM(H30:I30) -> 0 | M30: =IF(A30<>0,1,0) -> 0 | N30: =IF(J30<Q30,1,0) -> 0 | O30: =IF(J30>R30,1,0) -> 0 | P30: =SUM(N30:O30) -> 0 | Q30: =L30*0.5 -> 0 | R30: =IFERROR(_xlfn.IFS($M$32=1,L30,$M$32=2,L30,$M$32=3,(L30*1.3),$M$32>3,(L30*1.5)),0) -> 0
D31: =IFERROR(VLOOKUP(Cassandro!$A31,'Grade Pós'!A:B,2,0),"") | L31: =SUM(H31:I31) -> 0 | M31: =IF(A31<>0,1,0) -> 0 | N31: =IF(J31<Q31,1,0) -> 0 | O31: =IF(J31>R31,1,0) -> 0 | P31: =SUM(N31:O31) -> 0 | Q31: =L31*0.5 -> 0 | R31: =IFERROR(_xlfn.IFS($M$32=1,L31,$M$32=2,L31,$M$32=3,(L31*1.3),$M$32>3,(L31*1.5)),0) -> 0
A32: BASE DE DADOS (MANTER OCULTA) | J32: =SUM(J12:K21) -> 0 | K32: =SUM(J12:J31) -> 0 | L32: =SUM(L12:L31) -> 0 | M32: =SUM(M12:M31) -> 0 | N32: =IF(K32<Q32,1,0) -> 0 | O32: =IF(K32>R32,1,0) -> 0 | P32: =SUM(N32:O32) -> 0 | Q32: =L32*0.5 -> 0 | R32: =IFERROR(_xlfn.IFS($M$32=1,L32,$M$32=2,L32,$M$32=3,(L32*1.3),$M$32>3,(L32*1.5)),0) -> 0
A34: ATIVIDADES DE ORIENTAÇÃO | M34: Para permitir carga horaria menor de 9hs para Funões com mais de 32hs
A35: Professor é vinculado à programas pós graduação Recomendado pela CAPES? | H35: 2 Não | I35: =IFERROR(VLOOKUP(H35,TCapes[],2),"") -> 2 - Carga horária mínima de ensino à alocar = 12 | L35: =IF(H35="2 Não",12,8) -> 12 | M35: =MIN(L35,L113) -> 12
A36: Modalidade | D36: Nome do Orientado | H36: Curso/Habilitação | I36: Semestre de Ingresso/Fase | K36: Informe a C/H Semanal | L36: Cálculo do Coord. Estágio | M36: Coluna2 | N36: Coluna3 | O36: Coluna4 | P36: Coluna5 | Q36: CH Mínima | R36: CH Máxima
L37: =IF(A37="Coordenação de Estágio",1,0) -> 0 | Q37: =IFERROR(VLOOKUP(A37,Dados!$A$85:$D$89,2,0),0) -> 0 | R37: =IFERROR(VLOOKUP(A37,Dados!$A$85:$D$89,3,0),0) -> 0
L38: =IF(A38="Coordenação de Estágio",1,0) -> 0 | Q38: =IFERROR(VLOOKUP(A38,Dados!$A$85:$D$89,2,0),0) -> 0 | R38: =IFERROR(VLOOKUP(A38,Dados!$A$85:$D$89,3,0),0) -> 0
L39: =IF(A39="Coordenação de Estágio",1,0) -> 0 | Q39: =IFERROR(VLOOKUP(A39,Dados!$A$85:$D$89,2,0),0) -> 0 | R39: =IFERROR(VLOOKUP(A39,Dados!$A$85:$D$89,3,0),0) -> 0
L40: =IF(A40="Coordenação de Estágio",1,0) -> 0 | Q40: =IFERROR(VLOOKUP(A40,Dados!$A$85:$D$89,2,0),0) -> 0 | R40: =IFERROR(VLOOKUP(A40,Dados!$A$85:$D$89,3,0),0) -> 0
L41: =IF(A41="Coordenação de Estágio",1,0) -> 0 | Q41: =IFERROR(VLOOKUP(A41,Dados!$A$85:$D$89,2,0),0) -> 0 | R41: =IFERROR(VLOOKUP(A41,Dados!$A$85:$D$89,3,0),0) -> 0
L42: =IF(A42="Coordenação de Estágio",1,0) -> 0 | Q42: =IFERROR(VLOOKUP(A42,Dados!$A$85:$D$89,2,0),0) -> 0 | R42: =IFERROR(VLOOKUP(A42,Dados!$A$85:$D$89,3,0),0) -> 0
L43: =IF(A43="Coordenação de Estágio",1,0) -> 0 | Q43: =IFERROR(VLOOKUP(A43,Dados!$A$85:$D$89,2,0),0) -> 0 | R43: =IFERROR(VLOOKUP(A43,Dados!$A$85:$D$89,3,0),0) -> 0
L44: =IF(A44="Coordenação de Estágio",1,0) -> 0 | Q44: =IFERROR(VLOOKUP(A44,Dados!$A$85:$D$89,2,0),0) -> 0 | R44: =IFERROR(VLOOKUP(A44,Dados!$A$85:$D$89,3,0),0) -> 0
L45: =IF(A45="Coordenação de Estágio",1,0) -> 0 | Q45: =IFERROR(VLOOKUP(A45,Dados!$A$85:$D$89,2,0),0) -> 0 | R45: =IFERROR(VLOOKUP(A45,Dados!$A$85:$D$89,3,0),0) -> 0
L46: =IF(A46="Coordenação de Estágio",1,0) -> 0 | Q46: =IFERROR(VLOOKUP(A46,Dados!$A$85:$D$89,2,0),0) -> 0 | R46: =IFERROR(VLOOKUP(A46,Dados!$A$85:$D$89,3,0),0) -> 0
L47: =IF(A47="Coordenação de Estágio",1,0) -> 0 | Q47: =IFERROR(VLOOKUP(A47,Dados!$A$85:$D$89,2,0),0) -> 0 | R47: =IFERROR(VLOOKUP(A47,Dados!$A$85:$D$89,3,0),0) -> 0
L48: =IF(A48="Coordenação de Estágio",1,0) -> 0 | Q48: =IFERROR(VLOOKUP(A48,Dados!$A$85:$D$89,2,0),0) -> 0 | R48: =IFERROR(VLOOKUP(A48,Dados!$A$85:$D$89,3,0),0) -> 0
L49: =IF(A49="Coordenação de Estágio",1,0) -> 0 | Q49: =IFERROR(VLOOKUP(A49,Dados!$A$85:$D$89,2,0),0) -> 0 | R49: =IFERROR(VLOOKUP(A49,Dados!$A$85:$D$89,3,0),0) -> 0
A50: BASE DE DADOS (MANTER OCULTA) | K50: =SUM(K37:K49) -> 0 | L50: =SUM(L37:L49) -> 0 | M50: =IF(L50=1,20,12) -> 12 | Q50: =SUM(Q37:Q49) -> 0 | R50: =SUM(R37:R49) -> 0
A52: PROJETOS DE ENSINO
A53: Título | D53: Coordenador/Participante | F53: C/H | G53: Autorização | I53: Início | K53: Término | L53: Coluna2 | M53: Coluna3 | N53: Coluna4 | O53: Coluna5 | P53: Coluna6 | Q53: CH Mínima | R53: CH Máxima
Q54: =IFERROR(VLOOKUP(Cassandro!$D54,Tabela20[],2,0),0) -> 0 | R54: =IFERROR(VLOOKUP(Cassandro!$D54,Tabela20[],3,0),0) -> 0
Q55: =IFERROR(VLOOKUP(Cassandro!$D55,Tabela20[],2,0),0) -> 0 | R55: =IFERROR(VLOOKUP(Cassandro!$D55,Tabela20[],3,0),0) -> 0
Q56: =IFERROR(VLOOKUP(Cassandro!$D56,Tabela20[],2,0),0) -> 0 | R56: =IFERROR(VLOOKUP(Cassandro!$D56,Tabela20[],3,0),0) -> 0
Q57: =IFERROR(VLOOKUP(Cassandro!$D57,Tabela20[],2,0),0) -> 0 | R57: =IFERROR(VLOOKUP(Cassandro!$D57,Tabela20[],3,0),0) -> 0
Q58: =IFERROR(VLOOKUP(Cassandro!$D58,Tabela20[],2,0),0) -> 0 | R58: =IFERROR(VLOOKUP(Cassandro!$D58,Tabela20[],3,0),0) -> 0
Q59: =IFERROR(VLOOKUP(Cassandro!$D59,Tabela20[],2,0),0) -> 0 | R59: =IFERROR(VLOOKUP(Cassandro!$D59,Tabela20[],3,0),0) -> 0
Q60: =IFERROR(VLOOKUP(Cassandro!$D60,Tabela20[],2,0),0) -> 0 | R60: =IFERROR(VLOOKUP(Cassandro!$D60,Tabela20[],3,0),0) -> 0
Q61: =IFERROR(VLOOKUP(Cassandro!$D61,Tabela20[],2,0),0) -> 0 | R61: =IFERROR(VLOOKUP(Cassandro!$D61,Tabela20[],3,0),0) -> 0
Q62: =IFERROR(VLOOKUP(Cassandro!$D62,Tabela20[],2,0),0) -> 0 | R62: =IFERROR(VLOOKUP(Cassandro!$D62,Tabela20[],3,0),0) -> 0
Q63: =IFERROR(VLOOKUP(Cassandro!$D63,Tabela20[],2,0),0) -> 0 | R63: =IFERROR(VLOOKUP(Cassandro!$D63,Tabela20[],3,0),0) -> 0
Q64: =IFERROR(VLOOKUP(Cassandro!$D64,Tabela20[],2,0),0) -> 0 | R64: =IFERROR(VLOOKUP(Cassandro!$D64,Tabela20[],3,0),0) -> 0
A65: TOTAL | F65: =SUM(Cassandro!$F$54:$F$64) -> 0
A67: ATIVIDADES DE PESQUISA
A68: Favor informar o enquadramento ao lado | L68: =VLOOKUP(D68,TabPesquisa[],3) -> #N/A | Q68: =IFERROR(VLOOKUP(D68,TabPesquisa[],2),"")
A69: Título | D69: Coordenador/Participante | F69: C/H | G69: Autorização | I69: Data Aprovação CONCENTRO | J69: Início | K69: Término | Q69: CH Mínima | R69: CH Máxima
Q70: =IFERROR(VLOOKUP(Cassandro!$D70,Tabela11[],2),0) -> 0 | R70: =IFERROR(VLOOKUP(Cassandro!$D70,Tabela11[],3),0) -> 0
Q71: =IFERROR(VLOOKUP(Cassandro!$D71,Tabela11[],2),0) -> 0 | R71: =IFERROR(VLOOKUP(Cassandro!$D71,Tabela11[],3),0) -> 0
Q72: =IFERROR(VLOOKUP(Cassandro!$D72,Tabela11[],2),0) -> 0 | R72: =IFERROR(VLOOKUP(Cassandro!$D72,Tabela11[],3),0) -> 0
Q73: =IFERROR(VLOOKUP(Cassandro!$D73,Tabela11[],2),0) -> 0 | R73: =IFERROR(VLOOKUP(Cassandro!$D73,Tabela11[],3),0) -> 0
Q74: =IFERROR(VLOOKUP(Cassandro!$D74,Tabela11[],2),0) -> 0 | R74: =IFERROR(VLOOKUP(Cassandro!$D74,Tabela11[],3),0) -> 0
Q75: =IFERROR(VLOOKUP(Cassandro!$D75,Tabela11[],2),0) -> 0 | R75: =IFERROR(VLOOKUP(Cassandro!$D75,Tabela11[],3),0) -> 0
Q76: =IFERROR(VLOOKUP(Cassandro!$D76,Tabela11[],2),0) -> 0 | R76: =IFERROR(VLOOKUP(Cassandro!$D76,Tabela11[],3),0) -> 0
Q77: =IFERROR(VLOOKUP(Cassandro!$D77,Tabela11[],2),0) -> 0 | R77: =IFERROR(VLOOKUP(Cassandro!$D77,Tabela11[],3),0) -> 0
Q78: =IFERROR(VLOOKUP(Cassandro!$D78,Tabela11[],2),0) -> 0 | R78: =IFERROR(VLOOKUP(Cassandro!$D78,Tabela11[],3),0) -> 0
Q79: =IFERROR(VLOOKUP(Cassandro!$D79,Tabela11[],2),0) -> 0 | R79: =IFERROR(VLOOKUP(Cassandro!$D79,Tabela11[],3),0) -> 0
Q80: =IFERROR(VLOOKUP(Cassandro!$D80,Tabela11[],2),0) -> 0 | R80: =IFERROR(VLOOKUP(Cassandro!$D80,Tabela11[],3),0) -> 0
A81: BASE DE DADOS (MANTER OCULTA) | F81: =SUM(F70:F80) -> 0
A83: ATIVIDADES DE EXTENSÃO
A84: Categoria: Programa ou Projeto | F84: C/H | G84: Autorização/Ata | I84: Início | K84: Término | L84: Coluna2 | M84: Coluna3 | N84: Coluna4 | O84: CH Mínima | P84: CH Máxima
O85: =IFERROR(VLOOKUP(Cassandro!$D85,Tabela21[],2,0),0) -> 0 | P85: =IFERROR(VLOOKUP(Cassandro!$D85,Tabela21[],3,0),0) -> 0
O86: =IFERROR(VLOOKUP(Cassandro!$D86,Tabela21[],2,0),0) -> 0 | P86: =IFERROR(VLOOKUP(Cassandro!$D86,Tabela21[],3,0),0) -> 0
O87: =IFERROR(VLOOKUP(Cassandro!$D87,Tabela21[],2,0),0) -> 0 | P87: =IFERROR(VLOOKUP(Cassandro!$D87,Tabela21[],3,0),0) -> 0
O88: =IFERROR(VLOOKUP(Cassandro!$D88,Tabela21[],2,0),0) -> 0 | P88: =IFERROR(VLOOKUP(Cassandro!$D88,Tabela21[],3,0),0) -> 0
O89: =IFERROR(VLOOKUP(Cassandro!$D89,Tabela21[],2,0),0) -> 0 | P89: =IFERROR(VLOOKUP(Cassandro!$D89,Tabela21[],3,0),0) -> 0
O90: =IFERROR(VLOOKUP(Cassandro!$D90,Tabela21[],2,0),0) -> 0 | P90: =IFERROR(VLOOKUP(Cassandro!$D90,Tabela21[],3,0),0) -> 0
O91: =IFERROR(VLOOKUP(Cassandro!$D91,Tabela21[],2,0),0) -> 0 | P91: =IFERROR(VLOOKUP(Cassandro!$D91,Tabela21[],3,0),0) -> 0
O92: =IFERROR(VLOOKUP(Cassandro!$D92,Tabela21[],2,0),0) -> 0 | P92: =IFERROR(VLOOKUP(Cassandro!$D92,Tabela21[],3,0),0) -> 0
O93: =IFERROR(VLOOKUP(Cassandro!$D93,Tabela21[],2,0),0) -> 0 | P93: =IFERROR(VLOOKUP(Cassandro!$D93,Tabela21[],3,0),0) -> 0
O94: =IFERROR(VLOOKUP(Cassandro!$D94,Tabela21[],2,0),0) -> 0 | P94: =IFERROR(VLOOKUP(Cassandro!$D94,Tabela21[],3,0),0) -> 0
O95: =IFERROR(VLOOKUP(Cassandro!$D95,Tabela21[],2,0),0) -> 0 | P95: =IFERROR(VLOOKUP(Cassandro!$D95,Tabela21[],3,0),0) -> 0
O96: =IFERROR(VLOOKUP(Cassandro!$D96,Tabela21[],2,0),0) -> 0 | P96: =IFERROR(VLOOKUP(Cassandro!$D96,Tabela21[],3,0),0) -> 0
A97: TOTAL | F97: =SUM(F85:F96) -> 0 | O97: =IFERROR(VLOOKUP(Cassandro!$D97,Tabela21[],2,0),0) -> 0 | P97: =IFERROR(VLOOKUP(Cassandro!$D97,Tabela21[],3,0),0) -> 0
A99: ATIVIDADES DE ADMINISTRAÇÃO
A100: Atividade | D100: Descrição do Local/Cargo/função... | F100: C/H | G100: Autorização | I100: Início | K100: Término | L100: Redutor Calculo de Ensino | M100: Coluna2 | N100: Coluna3 | O100: Coluna4 | P100: Coluna5 | Q100: CH Mínima | R100: CH Máxima
L101: =IFERROR(VLOOKUP(Cassandro!$A101,TFunçõesAdm[],3,0),40) -> 40 | Q101: 0 | R101: =IFERROR(VLOOKUP(A101,TFunçõesAdm[],2,FALSE),0) -> 0
L102: =IFERROR(VLOOKUP(Cassandro!$A102,TFunçõesAdm[],3,0),40) -> 40 | Q102: 0 | R102: =IFERROR(VLOOKUP(A102,TFunçõesAdm[],2,FALSE),0) -> 0
L103: =IFERROR(VLOOKUP(Cassandro!$A103,TFunçõesAdm[],3,0),40) -> 40 | Q103: 0 | R103: =IFERROR(VLOOKUP(A103,TFunçõesAdm[],2,FALSE),0) -> 0
L104: =IFERROR(VLOOKUP(Cassandro!$A104,TFunçõesAdm[],3,0),40) -> 40 | Q104: 0 | R104: =IFERROR(VLOOKUP(A104,TFunçõesAdm[],2,FALSE),0) -> 0
L105: =IFERROR(VLOOKUP(Cassandro!$A105,TFunçõesAdm[],3,0),40) -> 40 | Q105: 0 | R105: =IFERROR(VLOOKUP(A105,TFunçõesAdm[],2,FALSE),0) -> 0
L106: =IFERROR(VLOOKUP(Cassandro!$A106,TFunçõesAdm[],3,0),40) -> 40 | Q106: 0 | R106: =IFERROR(VLOOKUP(A106,TFunçõesAdm[],2,FALSE),0) -> 0
...

Sheet Celio
A1: ANEXO I – RESOLUÇÃO 073/2011 – CONSUNI | R1: Tabela de Cores
A2: UNIVERSIDADE DO ESTADO DE SANTA CATARINA-UDESC | S2: Deve ser incluso dados manualmente
A3: PLANO DE TRABALHO INDIVIDUAL | S3: Não permite alteração
A4: Professor: | D4: Centro de Ciências Agroveterinárias (CAV) | H4: Departamento: | J4: Semestre: 2022/2 | S4: Calculos efetuados pela planilha. Não permite alteração.
A5: Célio Orli Cardoso | H5: =VLOOKUP(A5,TProfessores[],2,0) -> Agronomia
A7: Categoria Funcional: | D7: Titulação: | H7: Regime: | J7: Classe:
A8: =VLOOKUP(A5,TProfessores[],3,0) -> Efetivo | D8: =VLOOKUP(A5,TProfessores[],5,0) -> Doutor(a) | H8: =VLOOKUP(A5,TProfessores[],7,0) -> Dedicação Integral | I8: =VLOOKUP(A5,TProfessores[],6,0) -> 40 h | J8: =VLOOKUP(A5,TProfessores[],8,0) -> ASSOCIADO
A9: ATIVIDADES DE ENSINO
A10: Disciplinas-Graduação | D10: Curso | F10: Fase | H10: C/H Ensino | J10: Informe a CH Pedagógica | Q10: CH Mínima | R10: CH Máxima
H11: Teórica | I11: Prática | L11: Soma (Oculta) | M11: Fórmula Oculta | N11: Formula para avisar CH pedagógica fora do sugerido | O11: Coluna1 | P11: Referência p coluna F
A12: Meteorologia e Climatologia (Agro) | D12: =IFERROR(VLOOKUP(A12,TGradeCurricular[],2,0),"") -> Agronomia | F12: =IFERROR(VLOOKUP(A12,TGradeCurricular[],3,0),"") -> 3ª | H12: 4 | I12: 0 | J12: 8 | L12: =SUM(H12:I12) -> 4 | M12: =IF(A12<>0,1,0) -> 1 | N12: =IF(J12<Q12,1,0) -> 0 | O12: =IF(J12>R12,1,0) -> 1 | P12: =SUM(N12:O12) -> 1 | Q12: =L12*0.5 -> 2 | R12: =IFERROR(_xlfn.IFS($M$32=1,L12,$M$32=2,L12,$M$32=3,(L12*1.3),$M$32>3,(L12*1.5)),0) -> 5.2
A13: Agrometeorologia | D13: =IFERROR(VLOOKUP(A13,TGradeCurricular[],2,0),"") -> Agronomia | F13: =IFERROR(VLOOKUP(A13,TGradeCurricular[],3,0),"") -> Eletiva | H13: 4 | I13: 0 | J13: 5 | L13: =SUM(H13:I13) -> 4 | M13: =IF(A13<>0,1,0) -> 1 | N13: =IF(J13<Q13,1,0) -> 0 | O13: =IF(J13>R13,1,0) -> 0 | P13: =SUM(N13:O13) -> 0 | Q13: =L13*0.5 -> 2 | R13: =IFERROR(_xlfn.IFS($M$32=1,L13,$M$32=2,L13,$M$32=3,(L13*1.3),$M$32>3,(L13*1.5)),0) -> 5.2
A14: Meteorologia e Climatologia (EFL) | D14: =IFERROR(VLOOKUP(A14,TGradeCurricular[],2,0),"") -> Engenharia Florestal | F14: =IFERROR(VLOOKUP(A14,TGradeCurricular[],3,0),"") -> 3ª | H14: 4 | I14: 0 | J14: 5 | L14: =SUM(H14:I14) -> 4 | M14: =IF(A14<>0,1,0) -> 1 | N14: =IF(J14<Q14,1,0) -> 0 | O14: =IF(J14>R14,1,0) -> 0 | P14: =SUM(N14:O14) -> 0 | Q14: =L14*0.5 -> 2 | R14: =IFERROR(_xlfn.IFS($M$32=1,L14,$M$32=2,L14,$M$32=3,(L14*1.3),$M$32>3,(L14*1.5)),0) -> 5.2
D15: =IFERROR(VLOOKUP(A15,TGradeCurricular[],2,0),"") | F15: =IFERROR(VLOOKUP(A15,TGradeCurricular[],3,0),"") | L15: =SUM(H15:I15) -> 0 | M15: =IF(A15<>0,1,0) -> 0 | N15: =IF(J15<Q15,1,0) -> 0 | O15: =IF(J15>R15,1,0) -> 0 | P15: =SUM(N15:O15) -> 0 | Q15: =L15*0.5 -> 0 | R15: =IFERROR(_xlfn.IFS($M$32=1,L15,$M$32=2,L15,$M$32=3,(L15*1.3),$M$32>3,(L15*1.5)),0) -> 0
D16: =IFERROR(VLOOKUP(A16,TGradeCurricular[],2,0),"") | F16: =IFERROR(VLOOKUP(A16,TGradeCurricular[],3,0),"") | L16: =SUM(H16:I16) -> 0 | M16: =IF(A16<>0,1,0) -> 0 | N16: =IF(J16<Q16,1,0) -> 0 | O16: =IF(J16>R16,1,0) -> 0 | P16: =SUM(N16:O16) -> 0 | Q16: =L16*0.5 -> 0 | R16: =IFERROR(_xlfn.IFS($M$32=1,L16,$M$32=2,L16,$M$32=3,(L16*1.3),$M$32>3,(L16*1.5)),0) -> 0
D17: =IFERROR(VLOOKUP(A17,TGradeCurricular[],2,0),"") | F17: =IFERROR(VLOOKUP(A17,TGradeCurricular[],3,0),"") | L17: =SUM(H17:I17) -> 0 | M17: =IF(A17<>0,1,0) -> 0 | N17: =IF(J17<Q17,1,0) -> 0 | O17: =IF(J17>R17,1,0) -> 0 | P17: =SUM(N17:O17) -> 0 | Q17: =L17*0.5 -> 0 | R17: =IFERROR(_xlfn.IFS($M$32=1,L17,$M$32=2,L17,$M$32=3,(L17*1.3),$M$32>3,(L17*1.5)),0) -> 0
D18: =IFERROR(VLOOKUP(A18,TGradeCurricular[],2,0),"") | F18: =IFERROR(VLOOKUP(A18,TGradeCurricular[],3,0),"") | L18: =SUM(H18:I18) -> 0 | M18: =IF(A18<>0,1,0) -> 0 | N18: =IF(J18<Q18,1,0) -> 0 | O18: =IF(J18>R18,1,0) -> 0 | P18: =SUM(N18:O18) -> 0 | Q18: =L18*0.5 -> 0 | R18: =IFERROR(_xlfn.IFS($M$32=1,L18,$M$32=2,L18,$M$32=3,(L18*1.3),$M$32>3,(L18*1.5)),0) -> 0
D19: =IFERROR(VLOOKUP(A19,TGradeCurricular[],2,0),"") | F19: =IFERROR(VLOOKUP(A19,TGradeCurricular[],3,0),"") | L19: =SUM(H19:I19) -> 0 | M19: =IF(A19<>0,1,0) -> 0 | N19: =IF(J19<Q19,1,0) -> 0 | O19: =IF(J19>R19,1,0) -> 0 | P19: =SUM(N19:O19) -> 0 | Q19: =L19*0.5 -> 0 | R19: =IFERROR(_xlfn.IFS($M$32=1,L19,$M$32=2,L19,$M$32=3,(L19*1.3),$M$32>3,(L19*1.5)),0) -> 0
D20: =IFERROR(VLOOKUP(A20,TGradeCurricular[],2,0),"") | F20: =IFERROR(VLOOKUP(A20,TGradeCurricular[],3,0),"") | L20: =SUM(H20:I20) -> 0 | M20: =IF(A20<>0,1,0) -> 0 | N20: =IF(J20<Q20,1,0) -> 0 | O20: =IF(J20>R20,1,0) -> 0 | P20: =SUM(N20:O20) -> 0 | Q20: =L20*0.5 -> 0 | R20: =IFERROR(_xlfn.IFS($M$32=1,L20,$M$32=2,L20,$M$32=3,(L20*1.3),$M$32>3,(L20*1.5)),0) -> 0
D21: =IFERROR(VLOOKUP(A21,TGradeCurricular[],2,0),"") | F21: =IFERROR(VLOOKUP(A21,TGradeCurricular[],3,0),"") | L21: =SUM(H21:I21) -> 0 | M21: =IF(A21<>0,1,0) -> 0 | N21: =IF(J21<Q21,1,0) -> 0 | O21: =IF(J21>R21,1,0) -> 0 | P21: =SUM(N21:O21) -> 0 | Q21: =L21*0.5 -> 0 | R21: =IFERROR(_xlfn.IFS($M$32=1,L21,$M$32=2,L21,$M$32=3,(L21*1.3),$M$32>3,(L21*1.5)),0) -> 0
A22: Disciplinas-Pós Graduação | D22: Programa | H22: C/H Ens. | J22: C/H Pedag.
D23: =IFERROR(VLOOKUP(Celio!$A23,'Grade Pós'!A:B,2,0),"") | L23: =SUM(H23:I23) -> 0 | M23: =IF(A23<>0,1,0) -> 0 | N23: =IF(J23<Q23,1,0) -> 0 | O23: =IF(J23>R23,1,0) -> 0 | P23: =SUM(N23:O23) -> 0 | Q23: =L23*0.5 -> 0 | R23: =IFERROR(_xlfn.IFS($M$32=1,L23,$M$32=2,L23,$M$32=3,(L23*1.3),$M$32>3,(L23*1.5)),0) -> 0
D24: =IFERROR(VLOOKUP(Celio!$A24,'Grade Pós'!A:B,2,0),"") | L24: =SUM(H24:I24) -> 0 | M24: =IF(A24<>0,1,0) -> 0 | N24: =IF(J24<Q24,1,0) -> 0 | O24: =IF(J24>R24,1,0) -> 0 | P24: =SUM(N24:O24) -> 0 | Q24: =L24*0.5 -> 0 | R24: =IFERROR(_xlfn.IFS($M$32=1,L24,$M$32=2,L24,$M$32=3,(L24*1.3),$M$32>3,(L24*1.5)),0) -> 0
D25: =IFERROR(VLOOKUP(Celio!$A25,'Grade Pós'!A:B,2,0),"") | L25: =SUM(H25:I25) -> 0 | M25: =IF(A25<>0,1,0) -> 0 | N25: =IF(J25<Q25,1,0) -> 0 | O25: =IF(J25>R25,1,0) -> 0 | P25: =SUM(N25:O25) -> 0 | Q25: =L25*0.5 -> 0 | R25: =IFERROR(_xlfn.IFS($M$32=1,L25,$M$32=2,L25,$M$32=3,(L25*1.3),$M$32>3,(L25*1.5)),0) -> 0
D26: =IFERROR(VLOOKUP(Celio!$A26,'Grade Pós'!A:B,2,0),"") | L26: =SUM(H26:I26) -> 0 | M26: =IF(A26<>0,1,0) -> 0 | N26: =IF(J26<Q26,1,0) -> 0 | O26: =IF(J26>R26,1,0) -> 0 | P26: =SUM(N26:O26) -> 0 | Q26: =L26*0.5 -> 0 | R26: =IFERROR(_xlfn.IFS($M$32=1,L26,$M$32=2,L26,$M$32=3,(L26*1.3),$M$32>3,(L26*1.5)),0) -> 0
D27: =IFERROR(VLOOKUP(Celio!$A27,'Grade Pós'!A:B,2,0),"") | L27: =SUM(H27:I27) -> 0 | M27: =IF(A27<>0,1,0) -> 0 | N27: =IF(J27<Q27,1,0) -> 0 | O27: =IF(J27>R27,1,0) -> 0 | P27: =SUM(N27:O27) -> 0 | Q27: =L27*0.5 -> 0 | R27: =IFERROR(_xlfn.IFS($M$32=1,L27,$M$32=2,L27,$M$32=3,(L27*1.3),$M$32>3,(L27*1.5)),0) -> 0
D28: =IFERROR(VLOOKUP(Celio!$A28,'Grade Pós'!A:B,2,0),"") | L28: =SUM(H28:I28) -> 0 | M28: =IF(A28<>0,1,0) -> 0 | N28: =IF(J28<Q28,1,0) -> 0 | O28: =IF(J28>R28,1,0) -> 0 | P28: =SUM(N28:O28) -> 0 | Q28: =L28*0.5 -> 0 | R28: =IFERROR(_xlfn.IFS($M$32=1,L28,$M$32=2,L28,$M$32=3,(L28*1.3),$M$32>3,(L28*1.5)),0) -> 0
D29: =IFERROR(VLOOKUP(Celio!$A29,'Grade Pós'!A:B,2,0),"") | L29: =SUM(H29:I29) -> 0 | M29: =IF(A29<>0,1,0) -> 0 | N29: =IF(J29<Q29,1,0) -> 0 | O29: =IF(J29>R29,1,0) -> 0 | P29: =SUM(N29:O29) -> 0 | Q29: =L29*0.5 -> 0 | R29: =IFERROR(_xlfn.IFS($M$32=1,L29,$M$32=2,L29,$M$32=3,(L29*1.3),$M$32>3,(L29*1.5)),0) -> 0
D30: =IFERROR(VLOOKUP(Celio!$A30,'Grade Pós'!A:B,2,0),"") | L30: =SUM(H30:I30) -> 0 | M30: =IF(A30<>0,1,0) -> 0 | N30: =IF(J30<Q30,1,0) -> 0 | O30: =IF(J30>R30,1,0) -> 0 | P30: =SUM(N30:O30) -> 0 | Q30: =L30*0.5 -> 0 | R30: =IFERROR(_xlfn.IFS($M$32=1,L30,$M$32=2,L30,$M$32=3,(L30*1.3),$M$32>3,(L30*1.5)),0) -> 0
D31: =IFERROR(VLOOKUP(Celio!$A31,'Grade Pós'!A:B,2,0),"") | L31: =SUM(H31:I31) -> 0 | M31: =IF(A31<>0,1,0) -> 0 | N31: =IF(J31<Q31,1,0) -> 0 | O31: =IF(J31>R31,1,0) -> 0 | P31: =SUM(N31:O31) -> 0 | Q31: =L31*0.5 -> 0 | R31: =IFERROR(_xlfn.IFS($M$32=1,L31,$M$32=2,L31,$M$32=3,(L31*1.3),$M$32>3,(L31*1.5)),0) -> 0
A32: BASE DE DADOS (MANTER OCULTA) | J32: =SUM(J12:K21) -> 18 | K32: =SUM(J12:J31) -> 18 | L32: =SUM(L12:L31) -> 12 | M32: =SUM(M12:M31) -> 3 | N32: =IF(K32<Q32,1,0) -> 0 | O32: =IF(K32>R32,1,0) -> 1 | P32: =SUM(N32:O32) -> 1 | Q32: =L32*0.5 -> 6 | R32: =IFERROR(_xlfn.IFS($M$32=1,L32,$M$32=2,L32,$M$32=3,(L32*1.3),$M$32>3,(L32*1.5)),0) -> 15.6
A34: ATIVIDADES DE ORIENTAÇÃO | M34: Para permitir carga horaria menor de 9hs para Funões com mais de 32hs
A35: Professor é vinculado à programas pós graduação Recomendado pela CAPES? | H35: 2 Não | I35: =IFERROR(VLOOKUP(H35,TCapes[],2),"") -> 2 - Carga horária mínima de ensino à alocar = 12 | L35: =IF(H35="2 Não",12,8) -> 12 | M35: =MIN(L35,L113) -> 12
A36: Modalidade | D36: Nome do Orientado | H36: Curso/Habilitação | I36: Semestre de Ingresso/Fase | K36: Informe a C/H Semanal | L36: Cálculo do Coord. Estágio | M36: Coluna2 | N36: Coluna3 | O36: Coluna4 | P36: Coluna5 | Q36: CH Mínima | R36: CH Máxima
L37: =IF(A37="Coordenação de Estágio",1,0) -> 0 | Q37: =IFERROR(VLOOKUP(A37,Dados!$A$85:$D$89,2,0),0) -> 0 | R37: =IFERROR(VLOOKUP(A37,Dados!$A$85:$D$89,3,0),0) -> 0
L38: =IF(A38="Coordenação de Estágio",1,0) -> 0 | Q38: =IFERROR(VLOOKUP(A38,Dados!$A$85:$D$89,2,0),0) -> 0 | R38: =IFERROR(VLOOKUP(A38,Dados!$A$85:$D$89,3,0),0) -> 0
L39: =IF(A39="Coordenação de Estágio",1,0) -> 0 | Q39: =IFERROR(VLOOKUP(A39,Dados!$A$85:$D$89,2,0),0) -> 0 | R39: =IFERROR(VLOOKUP(A39,Dados!$A$85:$D$89,3,0),0) -> 0
L40: =IF(A40="Coordenação de Estágio",1,0) -> 0 | Q40: =IFERROR(VLOOKUP(A40,Dados!$A$85:$D$89,2,0),0) -> 0 | R40: =IFERROR(VLOOKUP(A40,Dados!$A$85:$D$89,3,0),0) -> 0
L41: =IF(A41="Coordenação de Estágio",1,0) -> 0 | Q41: =IFERROR(VLOOKUP(A41,Dados!$A$85:$D$89,2,0),0) -> 0 | R41: =IFERROR(VLOOKUP(A41,Dados!$A$85:$D$89,3,0),0) -> 0
L42: =IF(A42="Coordenação de Estágio",1,0) -> 0 | Q42: =IFERROR(VLOOKUP(A42,Dados!$A$85:$D$89,2,0),0) -> 0 | R42: =IFERROR(VLOOKUP(A42,Dados!$A$85:$D$89,3,0),0) -> 0
L43: =IF(A43="Coordenação de Estágio",1,0) -> 0 | Q43: =IFERROR(VLOOKUP(A43,Dados!$A$85:$D$89,2,0),0) -> 0 | R43: =IFERROR(VLOOKUP(A43,Dados!$A$85:$D$89,3,0),0) -> 0
L44: =IF(A44="Coordenação de Estágio",1,0) -> 0 | Q44: =IFERROR(VLOOKUP(A44,Dados!$A$85:$D$89,2,0),0) -> 0 | R44: =IFERROR(VLOOKUP(A44,Dados!$A$85:$D$89,3,0),0) -> 0
L45: =IF(A45="Coordenação de Estágio",1,0) -> 0 | Q45: =IFERROR(VLOOKUP(A45,Dados!$A$85:$D$89,2,0),0) -> 0 | R45: =IFERROR(VLOOKUP(A45,Dados!$A$85:$D$89,3,0),0) -> 0
L46: =IF(A46="Coordenação de Estágio",1,0) -> 0 | Q46: =IFERROR(VLOOKUP(A46,Dados!$A$85:$D$89,2,0),0) -> 0 | R46: =IFERROR(VLOOKUP(A46,Dados!$A$85:$D$89,3,0),0) -> 0
L47: =IF(A47="Coordenação de Estágio",1,0) -> 0 | Q47: =IFERROR(VLOOKUP(A47,Dados!$A$85:$D$89,2,0),0) -> 0 | R47: =IFERROR(VLOOKUP(A47,Dados!$A$85:$D$89,3,0),0) -> 0
L48: =IF(A48="Coordenação de Estágio",1,0) -> 0 | Q48: =IFERROR(VLOOKUP(A48,Dados!$A$85:$D$89,2,0),0) -> 0 | R48: =IFERROR(VLOOKUP(A48,Dados!$A$85:$D$89,3,0),0) -> 0
L49: =IF(A49="Coordenação de Estágio",1,0) -> 0 | Q49: =IFERROR(VLOOKUP(A49,Dados!$A$85:$D$89,2,0),0) -> 0 | R49: =IFERROR(VLOOKUP(A49,Dados!$A$85:$D$89,3,0),0) -> 0
A50: BASE DE DADOS (MANTER OCULTA) | K50: =SUM(K37:K49) -> 0 | L50: =SUM(L37:L49) -> 0 | M50: =IF(L50=1,20,12) -> 12 | Q50: =SUM(Q37:Q49) -> 0 | R50: =SUM(R37:R49) -> 0
A52: PROJETOS DE ENSINO
A53: Título | D53: Coordenador/Participante | F53: C/H | G53: Autorização | I53: Início | K53: Término | L53: Coluna2 | M53: Coluna3 | N53: Coluna4 | O53: Coluna5 | P53: Coluna6 | Q53: CH Mínima | R53: CH Máxima
Q54: =IFERROR(VLOOKUP(Celio!$D54,Tabela20[],2,0),0) -> 0 | R54: =IFERROR(VLOOKUP(Celio!$D54,Tabela20[],3,0),0) -> 0
Q55: =IFERROR(VLOOKUP(Celio!$D55,Tabela20[],2,0),0) -> 0 | R55: =IFERROR(VLOOKUP(Celio!$D55,Tabela20[],3,0),0) -> 0
Q56: =IFERROR(VLOOKUP(Celio!$D56,Tabela20[],2,0),0) -> 0 | R56: =IFERROR(VLOOKUP(Celio!$D56,Tabela20[],3,0),0) -> 0
Q57: =IFERROR(VLOOKUP(Celio!$D57,Tabela20[],2,0),0) -> 0 | R57: =IFERROR(VLOOKUP(Celio!$D57,Tabela20[],3,0),0) -> 0
Q58: =IFERROR(VLOOKUP(Celio!$D58,Tabela20[],2,0),0) -> 0 | R58: =IFERROR(VLOOKUP(Celio!$D58,Tabela20[],3,0),0) -> 0
Q59: =IFERROR(VLOOKUP(Celio!$D59,Tabela20[],2,0),0) -> 0 | R59: =IFERROR(VLOOKUP(Celio!$D59,Tabela20[],3,0),0) -> 0
Q60: =IFERROR(VLOOKUP(Celio!$D60,Tabela20[],2,0),0) -> 0 | R60: =IFERROR(VLOOKUP(Celio!$D60,Tabela20[],3,0),0) -> 0
Q61: =IFERROR(VLOOKUP(Celio!$D61,Tabela20[],2,0),0) -> 0 | R61: =IFERROR(VLOOKUP(Celio!$D61,Tabela20[],3,0),0) -> 0
Q62: =IFERROR(VLOOKUP(Celio!$D62,Tabela20[],2,0),0) -> 0 | R62: =IFERROR(VLOOKUP(Celio!$D62,Tabela20[],3,0),0) -> 0
Q63: =IFERROR(VLOOKUP(Celio!$D63,Tabela20[],2,0),0) -> 0 | R63: =IFERROR(VLOOKUP(Celio!$D63,Tabela20[],3,0),0) -> 0
Q64: =IFERROR(VLOOKUP(Celio!$D64,Tabela20[],2,0),0) -> 0 | R64: =IFERROR(VLOOKUP(Celio!$D64,Tabela20[],3,0),0) -> 0
A65: TOTAL | F65: =SUM(Celio!$F$54:$F$64) -> 0
A67: ATIVIDADES DE PESQUISA
A68: Favor informar o enquadramento ao lado | D68: 4 - Pesquisador Doutor | L68: =VLOOKUP(D68,TabPesquisa[],3) -> 10 | Q68: =IFERROR(VLOOKUP(D68,TabPesquisa[],2),"") -> Limite de horas Semanais = 10
A69: Título | D69: Coordenador/Participante | F69: C/H | G69: Autorização | I69: Data Aprovação CONCENTRO | J69: Início | K69: Término | Q69: CH Mínima | R69: CH Máxima
D70: Coordenador | F70: 2 | Q70: =IFERROR(VLOOKUP(Celio!$D70,Tabela11[],2),0) -> 0 | R70: =IFERROR(VLOOKUP(Celio!$D70,Tabela11[],3),0) -> 6
D71: Coordenador | F71: 2 | Q71: =IFERROR(VLOOKUP(Celio!$D71,Tabela11[],2),0) -> 0 | R71: =IFERROR(VLOOKUP(Celio!$D71,Tabela11[],3),0) -> 6
Q72: =IFERROR(VLOOKUP(Celio!$D72,Tabela11[],2),0) -> 0 | R72: =IFERROR(VLOOKUP(Celio!$D72,Tabela11[],3),0) -> 0
Q73: =IFERROR(VLOOKUP(Celio!$D73,Tabela11[],2),0) -> 0 | R73: =IFERROR(VLOOKUP(Celio!$D73,Tabela11[],3),0) -> 0
Q74: =IFERROR(VLOOKUP(Celio!$D74,Tabela11[],2),0) -> 0 | R74: =IFERROR(VLOOKUP(Celio!$D74,Tabela11[],3),0) -> 0
Q75: =IFERROR(VLOOKUP(Celio!$D75,Tabela11[],2),0) -> 0 | R75: =IFERROR(VLOOKUP(Celio!$D75,Tabela11[],3),0) -> 0
Q76: =IFERROR(VLOOKUP(Celio!$D76,Tabela11[],2),0) -> 0 | R76: =IFERROR(VLOOKUP(Celio!$D76,Tabela11[],3),0) -> 0
Q77: =IFERROR(VLOOKUP(Celio!$D77,Tabela11[],2),0) -> 0 | R77: =IFERROR(VLOOKUP(Celio!$D77,Tabela11[],3),0) -> 0
Q78: =IFERROR(VLOOKUP(Celio!$D78,Tabela11[],2),0) -> 0 | R78: =IFERROR(VLOOKUP(Celio!$D78,Tabela11[],3),0) -> 0
Q79: =IFERROR(VLOOKUP(Celio!$D79,Tabela11[],2),0) -> 0 | R79: =IFERROR(VLOOKUP(Celio!$D79,Tabela11[],3),0) -> 0
Q80: =IFERROR(VLOOKUP(Celio!$D80,Tabela11[],2),0) -> 0 | R80: =IFERROR(VLOOKUP(Celio!$D80,Tabela11[],3),0) -> 0
A81: BASE DE DADOS (MANTER OCULTA) | F81: =SUM(F70:F80) -> 4
A83: ATIVIDADES DE EXTENSÃO
A84: Categoria: Programa ou Projeto | F84: C/H | G84: Autorização/Ata | I84: Início | K84: Término | L84: Coluna2 | M84: Coluna3 | N84: Coluna4 | O84: CH Mínima | P84: CH Máxima
O85: =IFERROR(VLOOKUP(Celio!$D85,Tabela21[],2,0),0) -> 0 | P85: =IFERROR(VLOOKUP(Celio!$D85,Tabela21[],3,0),0) -> 0
O86: =IFERROR(VLOOKUP(Celio!$D86,Tabela21[],2,0),0) -> 0 | P86: =IFERROR(VLOOKUP(Celio!$D86,Tabela21[],3,0),0) -> 0
O87: =IFERROR(VLOOKUP(Celio!$D87,Tabela21[],2,0),0) -> 0 | P87: =IFERROR(VLOOKUP(Celio!$D87,Tabela21[],3,0),0) -> 0
O88: =IFERROR(VLOOKUP(Celio!$D88,Tabela21[],2,0),0) -> 0 | P88: =IFERROR(VLOOKUP(Celio!$D88,Tabela21[],3,0),0) -> 0
O89: =IFERROR(VLOOKUP(Celio!$D89,Tabela21[],2,0),0) -> 0 | P89: =IFERROR(VLOOKUP(Celio!$D89,Tabela21[],3,0),0) -> 0
O90: =IFERROR(VLOOKUP(Celio!$D90,Tabela21[],2,0),0) -> 0 | P90: =IFERROR(VLOOKUP(Celio!$D90,Tabela21[],3,0),0) -> 0
O91: =IFERROR(VLOOKUP(Celio!$D91,Tabela21[],2,0),0) -> 0 | P91: =IFERROR(VLOOKUP(Celio!$D91,Tabela21[],3,0),0) -> 0
O92: =IFERROR(VLOOKUP(Celio!$D92,Tabela21[],2,0),0) -> 0 | P92: =IFERROR(VLOOKUP(Celio!$D92,Tabela21[],3,0),0) -> 0
O93: =IFERROR(VLOOKUP(Celio!$D93,Tabela21[],2,0),0) -> 0 | P93: =IFERROR(VLOOKUP(Celio!$D93,Tabela21[],3,0),0) -> 0
O94: =IFERROR(VLOOKUP(Celio!$D94,Tabela21[],2,0),0) -> 0 | P94: =IFERROR(VLOOKUP(Celio!$D94,Tabela21[],3,0),0) -> 0
O95: =IFERROR(VLOOKUP(Celio!$D95,Tabela21[],2,0),0) -> 0 | P95: =IFERROR(VLOOKUP(Celio!$D95,Tabela21[],3,0),0) -> 0
O96: =IFERROR(VLOOKUP(Celio!$D96,Tabela21[],2,0),0) -> 0 | P96: =IFERROR(VLOOKUP(Celio!$D96,Tabela21[],3,0),0) -> 0
A97: TOTAL | F97: =SUM(F85:F96) -> 0 | O97: =IFERROR(VLOOKUP(Celio!$D97,Tabela21[],2,0),0) -> 0 | P97: =IFERROR(VLOOKUP(Celio!$D97,Tabela21[],3,0),0) -> 0
A99: ATIVIDADES DE ADMINISTRAÇÃO
A100: Atividade | D100: Descrição do Local/Cargo/função... | F100: C/H | G100: Autorização | I100: Início | K100: Término | L100: Redutor Calculo de Ensino | M100: Coluna2 | N100: Coluna3 | O100: Coluna4 | P100: Coluna5 | Q100: CH Mínima | R100: CH Máxima
A101: IX. Coordenador de Laboratório Institucional; | F101: 5 | L101: =IFERROR(VLOOKUP(Celio!$A101,TFunçõesAdm[],3,0),40) -> 35 | Q101: 0 | R101: =IFERROR(VLOOKUP(A101,TFunçõesAdm[],2,FALSE),0) -> 5
A102: XII. Membro de Comissao interna do Centro por Portaria da Direção Geral do Centro, aprovada pelo Conselho de Centro; | F102: 1 | L102: =IFERROR(VLOOKUP(Celio!$A102,TFunçõesAdm[],3,0),40) -> 35 | Q102: 0 | R102: =IFERROR(VLOOKUP(A102,TFunçõesAdm[],2,FALSE),0) -> 5
A103: XXII. Membro titular não nato do Núcleo Docente Estruturante - NDE; | F103: 1 | L103: =IFERROR(VLOOKUP(Celio!$A103,TFunçõesAdm[],3,0),40) -> 37 | Q103: 0 | R103: =IFERROR(VLOOKUP(A103,TFunçõesAdm[],2,FALSE),0) -> 3
A104: XIV. Membro titular não nato de Comitê e Comissão de Ensino, Pesquisa e Extensão, Administração e Planejamento; | F104: 2 | L104: =IFERROR(VLOOKUP(Celio!$A104,TFunçõesAdm[],3,0),40) -> 38 | Q104: 0 | R104: =IFERROR(VLOOKUP(A104,TFunçõesAdm[],2,FALSE),0) -> 2
L105: =IFERROR(VLOOKUP(Celio!$A105,TFunçõesAdm[],3,0),40) -> 40 | Q105: 0 | R105: =IFERROR(VLOOKUP(A105,TFunçõesAdm[],2,FALSE),0) -> 0
L106: =IFERROR(VLOOKUP(Celio!$A106,TFunçõesAdm[],3,0),40) -> 40 | Q106: 0 | R106: =IFERROR(VLOOKUP(A106,TFunçõesAdm[],2,FALSE),0) -> 0
...

Sheet Cileide
A1: ANEXO I – RESOLUÇÃO 073/2011 – CONSUNI | R1: Tabela de Cores
A2: UNIVERSIDADE DO ESTADO DE SANTA CATARINA-UDESC | S2: Deve ser incluso dados manualmente
A3: PLANO DE TRABALHO INDIVIDUAL | S3: Não permite alteração
A4: Professor: | D4: Centro de Ciências Agroveterinárias (CAV) | H4: Departamento: | J4: Semestre: 2022/2 | S4: Calculos efetuados pela planilha. Não permite alteração.
A5: Cileide Maria Medeiros Coelho Arruda De Souza | H5: =VLOOKUP(A5,TProfessores[],2,0) -> Agronomia
A7: Categoria Funcional: | D7: Titulação: | H7: Regime: | J7: Classe:
A8: =VLOOKUP(A5,TProfessores[],3,0) -> Efetivo | D8: =VLOOKUP(A5,TProfessores[],5,0) -> Doutor(a) | H8: =VLOOKUP(A5,TProfessores[],7,0) -> Dedicação Integral | I8: =VLOOKUP(A5,TProfessores[],6,0) -> 40 h | J8: =VLOOKUP(A5,TProfessores[],8,0) -> ASSOCIADO
A9: ATIVIDADES DE ENSINO
A10: Disciplinas-Graduação | D10: Curso | F10: Fase | H10: C/H Ensino | J10: Informe a CH Pedagógica | Q10: CH Mínima | R10: CH Máxima
H11: Teórica | I11: Prática | L11: Soma (Oculta) | M11: Fórmula Oculta | N11: Formula para avisar CH pedagógica fora do sugerido | O11: Coluna1 | P11: Referência p coluna F
A12: Tecnologia e Produção de Sementes | D12: =IFERROR(VLOOKUP(A12,TGradeCurricular[],2,0),"") -> Agronomia | F12: =IFERROR(VLOOKUP(A12,TGradeCurricular[],3,0),"") -> 9ª | H12: 2 | I12: 3 | J12: 5 | L12: =SUM(H12:I12) -> 5 | M12: =IF(A12<>0,1,0) -> 1 | N12: =IF(J12<Q12,1,0) -> 0 | O12: =IF(J12>R12,1,0) -> 0 | P12: =SUM(N12:O12) -> 0 | Q12: =L12*0.5 -> 2.5 | R12: =IFERROR(_xlfn.IFS($M$32=1,L12,$M$32=2,L12,$M$32=3,(L12*1.3),$M$32>3,(L12*1.5)),0) -> 6.5
D13: =IFERROR(VLOOKUP(A13,TGradeCurricular[],2,0),"") | F13: =IFERROR(VLOOKUP(A13,TGradeCurricular[],3,0),"") | L13: =SUM(H13:I13) -> 0 | M13: =IF(A13<>0,1,0) -> 0 | N13: =IF(J13<Q13,1,0) -> 0 | O13: =IF(J13>R13,1,0) -> 0 | P13: =SUM(N13:O13) -> 0 | Q13: =L13*0.5 -> 0 | R13: =IFERROR(_xlfn.IFS($M$32=1,L13,$M$32=2,L13,$M$32=3,(L13*1.3),$M$32>3,(L13*1.5)),0) -> 0
D14: =IFERROR(VLOOKUP(A14,TGradeCurricular[],2,0),"") | F14: =IFERROR(VLOOKUP(A14,TGradeCurricular[],3,0),"") | L14: =SUM(H14:I14) -> 0 | M14: =IF(A14<>0,1,0) -> 0 | N14: =IF(J14<Q14,1,0) -> 0 | O14: =IF(J14>R14,1,0) -> 0 | P14: =SUM(N14:O14) -> 0 | Q14: =L14*0.5 -> 0 | R14: =IFERROR(_xlfn.IFS($M$32=1,L14,$M$32=2,L14,$M$32=3,(L14*1.3),$M$32>3,(L14*1.5)),0) -> 0
D15: =IFERROR(VLOOKUP(A15,TGradeCurricular[],2,0),"") | F15: =IFERROR(VLOOKUP(A15,TGradeCurricular[],3,0),"") | L15: =SUM(H15:I15) -> 0 | M15: =IF(A15<>0,1,0) -> 0 | N15: =IF(J15<Q15,1,0) -> 0 | O15: =IF(J15>R15,1,0) -> 0 | P15: =SUM(N15:O15) -> 0 | Q15: =L15*0.5 -> 0 | R15: =IFERROR(_xlfn.IFS($M$32=1,L15,$M$32=2,L15,$M$32=3,(L15*1.3),$M$32>3,(L15*1.5)),0) -> 0
D16: =IFERROR(VLOOKUP(A16,TGradeCurricular[],2,0),"") | F16: =IFERROR(VLOOKUP(A16,TGradeCurricular[],3,0),"") | L16: =SUM(H16:I16) -> 0 | M16: =IF(A16<>0,1,0) -> 0 | N16: =IF(J16<Q16,1,0) -> 0 | O16: =IF(J16>R16,1,0) -> 0 | P16: =SUM(N16:O16) -> 0 | Q16: =L16*0.5 -> 0 | R16: =IFERROR(_xlfn.IFS($M$32=1,L16,$M$32=2,L16,$M$32=3,(L16*1.3),$M$32>3,(L16*1.5)),0) -> 0
D17: =IFERROR(VLOOKUP(A17,TGradeCurricular[],2,0),"") | F17: =IFERROR(VLOOKUP(A17,TGradeCurricular[],3,0),"") | L17: =SUM(H17:I17) -> 0 | M17: =IF(A17<>0,1,0) -> 0 | N17: =IF(J17<Q17,1,0) -> 0 | O17: =IF(J17>R17,1,0) -> 0 | P17: =SUM(N17:O17) -> 0 | Q17: =L17*0.5 -> 0 | R17: =IFERROR(_xlfn.IFS($M$32=1,L17,$M$32=2,L17,$M$32=3,(L17*1.3),$M$32>3,(L17*1.5)),0) -> 0
D18: =IFERROR(VLOOKUP(A18,TGradeCurricular[],2,0),"") | F18: =IFERROR(VLOOKUP(A18,TGradeCurricular[],3,0),"") | L18: =SUM(H18:I18) -> 0 | M18: =IF(A18<>0,1,0) -> 0 | N18: =IF(J18<Q18,1,0) -> 0 | O18: =IF(J18>R18,1,0) -> 0 | P18: =SUM(N18:O18) -> 0 | Q18: =L18*0.5 -> 0 | R18: =IFERROR(_xlfn.IFS($M$32=1,L18,$M$32=2,L18,$M$32=3,(L18*1.3),$M$32>3,(L18*1.5)),0) -> 0
D19: =IFERROR(VLOOKUP(A19,TGradeCurricular[],2,0),"") | F19: =IFERROR(VLOOKUP(A19,TGradeCurricular[],3,0),"") | L19: =SUM(H19:I19) -> 0 | M19: =IF(A19<>0,1,0) -> 0 | N19: =IF(J19<Q19,1,0) -> 0 | O19: =IF(J19>R19,1,0) -> 0 | P19: =SUM(N19:O19) -> 0 | Q19: =L19*0.5 -> 0 | R19: =IFERROR(_xlfn.IFS($M$32=1,L19,$M$32=2,L19,$M$32=3,(L19*1.3),$M$32>3,(L19*1.5)),0) -> 0
D20: =IFERROR(VLOOKUP(A20,TGradeCurricular[],2,0),"") | F20: =IFERROR(VLOOKUP(A20,TGradeCurricular[],3,0),"") | L20: =SUM(H20:I20) -> 0 | M20: =IF(A20<>0,1,0) -> 0 | N20: =IF(J20<Q20,1,0) -> 0 | O20: =IF(J20>R20,1,0) -> 0 | P20: =SUM(N20:O20) -> 0 | Q20: =L20*0.5 -> 0 | R20: =IFERROR(_xlfn.IFS($M$32=1,L20,$M$32=2,L20,$M$32=3,(L20*1.3),$M$32>3,(L20*1.5)),0) -> 0
D21: =IFERROR(VLOOKUP(A21,TGradeCurricular[],2,0),"") | F21: =IFERROR(VLOOKUP(A21,TGradeCurricular[],3,0),"") | L21: =SUM(H21:I21) -> 0 | M21: =IF(A21<>0,1,0) -> 0 | N21: =IF(J21<Q21,1,0) -> 0 | O21: =IF(J21>R21,1,0) -> 0 | P21: =SUM(N21:O21) -> 0 | Q21: =L21*0.5 -> 0 | R21: =IFERROR(_xlfn.IFS($M$32=1,L21,$M$32=2,L21,$M$32=3,(L21*1.3),$M$32>3,(L21*1.5)),0) -> 0
A22: Disciplinas-Pós Graduação | D22: Programa | H22: C/H Ens. | J22: C/H Pedag.
A23: NOME DA DISCIPLINA | D23: =IFERROR(VLOOKUP(Cileide!$A23,'Grade Pós'!A:B,2,0),"") -> PROGRAMA | H23: 2 | J23: 2 | L23: =SUM(H23:I23) -> 2 | M23: =IF(A23<>0,1,0) -> 1 | N23: =IF(J23<Q23,1,0) -> 0 | O23: =IF(J23>R23,1,0) -> 0 | P23: =SUM(N23:O23) -> 0 | Q23: =L23*0.5 -> 1 | R23: =IFERROR(_xlfn.IFS($M$32=1,L23,$M$32=2,L23,$M$32=3,(L23*1.3),$M$32>3,(L23*1.5)),0) -> 2.6
A24: NOME DA DISCIPLINA | D24: =IFERROR(VLOOKUP(Cileide!$A24,'Grade Pós'!A:B,2,0),"") -> PROGRAMA | H24: 4 | J24: 4 | L24: =SUM(H24:I24) -> 4 | M24: =IF(A24<>0,1,0) -> 1 | N24: =IF(J24<Q24,1,0) -> 0 | O24: =IF(J24>R24,1,0) -> 0 | P24: =SUM(N24:O24) -> 0 | Q24: =L24*0.5 -> 2 | R24: =IFERROR(_xlfn.IFS($M$32=1,L24,$M$32=2,L24,$M$32=3,(L24*1.3),$M$32>3,(L24*1.5)),0) -> 5.2
D25: =IFERROR(VLOOKUP(Cileide!$A25,'Grade Pós'!A:B,2,0),"") | L25: =SUM(H25:I25) -> 0 | M25: =IF(A25<>0,1,0) -> 0 | N25: =IF(J25<Q25,1,0) -> 0 | O25: =IF(J25>R25,1,0) -> 0 | P25: =SUM(N25:O25) -> 0 | Q25: =L25*0.5 -> 0 | R25: =IFERROR(_xlfn.IFS($M$32=1,L25,$M$32=2,L25,$M$32=3,(L25*1.3),$M$32>3,(L25*1.5)),0) -> 0
D26: =IFERROR(VLOOKUP(Cileide!$A26,'Grade Pós'!A:B,2,0),"") | L26: =SUM(H26:I26) -> 0 | M26: =IF(A26<>0,1,0) -> 0 | N26: =IF(J26<Q26,1,0) -> 0 | O26: =IF(J26>R26,1,0) -> 0 | P26: =SUM(N26:O26) -> 0 | Q26: =L26*0.5 -> 0 | R26: =IFERROR(_xlfn.IFS($M$32=1,L26,$M$32=2,L26,$M$32=3,(L26*1.3),$M$32>3,(L26*1.5)),0) -> 0
D27: =IFERROR(VLOOKUP(Cileide!$A27,'Grade Pós'!A:B,2,0),"") | L27: =SUM(H27:I27) -> 0 | M27: =IF(A27<>0,1,0) -> 0 | N27: =IF(J27<Q27,1,0) -> 0 | O27: =IF(J27>R27,1,0) -> 0 | P27: =SUM(N27:O27) -> 0 | Q27: =L27*0.5 -> 0 | R27: =IFERROR(_xlfn.IFS($M$32=1,L27,$M$32=2,L27,$M$32=3,(L27*1.3),$M$32>3,(L27*1.5)),0) -> 0
D28: =IFERROR(VLOOKUP(Cileide!$A28,'Grade Pós'!A:B,2,0),"") | L28: =SUM(H28:I28) -> 0 | M28: =IF(A28<>0,1,0) -> 0 | N28: =IF(J28<Q28,1,0) -> 0 | O28: =IF(J28>R28,1,0) -> 0 | P28: =SUM(N28:O28) -> 0 | Q28: =L28*0.5 -> 0 | R28: =IFERROR(_xlfn.IFS($M$32=1,L28,$M$32=2,L28,$M$32=3,(L28*1.3),$M$32>3,(L28*1.5)),0) -> 0
D29: =IFERROR(VLOOKUP(Cileide!$A29,'Grade Pós'!A:B,2,0),"") | L29: =SUM(H29:I29) -> 0 | M29: =IF(A29<>0,1,0) -> 0 | N29: =IF(J29<Q29,1,0) -> 0 | O29: =IF(J29>R29,1,0) -> 0 | P29: =SUM(N29:O29) -> 0 | Q29: =L29*0.5 -> 0 | R29: =IFERROR(_xlfn.IFS($M$32=1,L29,$M$32=2,L29,$M$32=3,(L29*1.3),$M$32>3,(L29*1.5)),0) -> 0
D30: =IFERROR(VLOOKUP(Cileide!$A30,'Grade Pós'!A:B,2,0),"") | L30: =SUM(H30:I30) -> 0 | M30: =IF(A30<>0,1,0) -> 0 | N30: =IF(J30<Q30,1,0) -> 0 | O30: =IF(J30>R30,1,0) -> 0 | P30: =SUM(N30:O30) -> 0 | Q30: =L30*0.5 -> 0 | R30: =IFERROR(_xlfn.IFS($M$32=1,L30,$M$32=2,L30,$M$32=3,(L30*1.3),$M$32>3,(L30*1.5)),0) -> 0
D31: =IFERROR(VLOOKUP(Cileide!$A31,'Grade Pós'!A:B,2,0),"") | L31: =SUM(H31:I31) -> 0 | M31: =IF(A31<>0,1,0) -> 0 | N31: =IF(J31<Q31,1,0) -> 0 | O31: =IF(J31>R31,1,0) -> 0 | P31: =SUM(N31:O31) -> 0 | Q31: =L31*0.5 -> 0 | R31: =IFERROR(_xlfn.IFS($M$32=1,L31,$M$32=2,L31,$M$32=3,(L31*1.3),$M$32>3,(L31*1.5)),0) -> 0
A32: BASE DE DADOS (MANTER OCULTA) | J32: =SUM(J12:K21) -> 5 | K32: =SUM(J12:J31) -> 11 | L32: =SUM(L12:L31) -> 11 | M32: =SUM(M12:M31) -> 3 | N32: =IF(K32<Q32,1,0) -> 0 | O32: =IF(K32>R32,1,0) -> 0 | P32: =SUM(N32:O32) -> 0 | Q32: =L32*0.5 -> 5.5 | R32: =IFERROR(_xlfn.IFS($M$32=1,L32,$M$32=2,L32,$M$32=3,(L32*1.3),$M$32>3,(L32*1.5)),0) -> 14.3
A34: ATIVIDADES DE ORIENTAÇÃO | M34: Para permitir carga horaria menor de 9hs para Funões com mais de 32hs
A35: Professor é vinculado à programas pós graduação Recomendado pela CAPES? | H35: 1 Sim | I35: =IFERROR(VLOOKUP(H35,TCapes[],2),"") -> 1 -Permite Alocar Carga Horária Mínima de 8 Créditos de Ensino | L35: =IF(H35="2 Não",12,8) -> 8 | M35: =MIN(L35,L113) -> 8
A36: Modalidade | D36: Nome do Orientado | H36: Curso/Habilitação | I36: Semestre de Ingresso/Fase | K36: Informe a C/H Semanal | L36: Cálculo do Coord. Estágio | M36: Coluna2 | N36: Coluna3 | O36: Coluna4 | P36: Coluna5 | Q36: CH Mínima | R36: CH Máxima
A37: Tese | K37: 2 | L37: =IF(A37="Coordenação de Estágio",1,0) -> 0 | Q37: =IFERROR(VLOOKUP(A37,Dados!$A$85:$D$89,2,0),0) -> 0 | R37: =IFERROR(VLOOKUP(A37,Dados!$A$85:$D$89,3,0),0) -> 3
A38: Tese | K38: 2 | L38: =IF(A38="Coordenação de Estágio",1,0) -> 0 | Q38: =IFERROR(VLOOKUP(A38,Dados!$A$85:$D$89,2,0),0) -> 0 | R38: =IFERROR(VLOOKUP(A38,Dados!$A$85:$D$89,3,0),0) -> 3
A39: Dissertação | K39: 2 | L39: =IF(A39="Coordenação de Estágio",1,0) -> 0 | Q39: =IFERROR(VLOOKUP(A39,Dados!$A$85:$D$89,2,0),0) -> 0 | R39: =IFERROR(VLOOKUP(A39,Dados!$A$85:$D$89,3,0),0) -> 2
L40: =IF(A40="Coordenação de Estágio",1,0) -> 0 | Q40: =IFERROR(VLOOKUP(A40,Dados!$A$85:$D$89,2,0),0) -> 0 | R40: =IFERROR(VLOOKUP(A40,Dados!$A$85:$D$89,3,0),0) -> 0
L41: =IF(A41="Coordenação de Estágio",1,0) -> 0 | Q41: =IFERROR(VLOOKUP(A41,Dados!$A$85:$D$89,2,0),0) -> 0 | R41: =IFERROR(VLOOKUP(A41,Dados!$A$85:$D$89,3,0),0) -> 0
L42: =IF(A42="Coordenação de Estágio",1,0) -> 0 | Q42: =IFERROR(VLOOKUP(A42,Dados!$A$85:$D$89,2,0),0) -> 0 | R42: =IFERROR(VLOOKUP(A42,Dados!$A$85:$D$89,3,0),0) -> 0
L43: =IF(A43="Coordenação de Estágio",1,0) -> 0 | Q43: =IFERROR(VLOOKUP(A43,Dados!$A$85:$D$89,2,0),0) -> 0 | R43: =IFERROR(VLOOKUP(A43,Dados!$A$85:$D$89,3,0),0) -> 0
L44: =IF(A44="Coordenação de Estágio",1,0) -> 0 | Q44: =IFERROR(VLOOKUP(A44,Dados!$A$85:$D$89,2,0),0) -> 0 | R44: =IFERROR(VLOOKUP(A44,Dados!$A$85:$D$89,3,0),0) -> 0
L45: =IF(A45="Coordenação de Estágio",1,0) -> 0 | Q45: =IFERROR(VLOOKUP(A45,Dados!$A$85:$D$89,2,0),0) -> 0 | R45: =IFERROR(VLOOKUP(A45,Dados!$A$85:$D$89,3,0),0) -> 0
L46: =IF(A46="Coordenação de Estágio",1,0) -> 0 | Q46: =IFERROR(VLOOKUP(A46,Dados!$A$85:$D$89,2,0),0) -> 0 | R46: =IFERROR(VLOOKUP(A46,Dados!$A$85:$D$89,3,0),0) -> 0
L47: =IF(A47="Coordenação de Estágio",1,0) -> 0 | Q47: =IFERROR(VLOOKUP(A47,Dados!$A$85:$D$89,2,0),0) -> 0 | R47: =IFERROR(VLOOKUP(A47,Dados!$A$85:$D$89,3,0),0) -> 0
L48: =IF(A48="Coordenação de Estágio",1,0) -> 0 | Q48: =IFERROR(VLOOKUP(A48,Dados!$A$85:$D$89,2,0),0) -> 0 | R48: =IFERROR(VLOOKUP(A48,Dados!$A$85:$D$89,3,0),0) -> 0
L49: =IF(A49="Coordenação de Estágio",1,0) -> 0 | Q49: =IFERROR(VLOOKUP(A49,Dados!$A$85:$D$89,2,0),0) -> 0 | R49: =IFERROR(VLOOKUP(A49,Dados!$A$85:$D$89,3,0),0) -> 0
A50: BASE DE DADOS (MANTER OCULTA) | K50: =SUM(K37:K49) -> 6 | L50: =SUM(L37:L49) -> 0 | M50: =IF(L50=1,20,12) -> 12 | Q50: =SUM(Q37:Q49) -> 0 | R50: =SUM(R37:R49) -> 8
A52: PROJETOS DE ENSINO
A53: Título | D53: Coordenador/Participante | F53: C/H | G53: Autorização | I53: Início | K53: Término | L53: Coluna2 | M53: Coluna3 | N53: Coluna4 | O53: Coluna5 | P53: Coluna6 | Q53: CH Mínima | R53: CH Máxima
Q54: =IFERROR(VLOOKUP(Cileide!$D54,Tabela20[],2,0),0) -> 0 | R54: =IFERROR(VLOOKUP(Cileide!$D54,Tabela20[],3,0),0) -> 0
Q55: =IFERROR(VLOOKUP(Cileide!$D55,Tabela20[],2,0),0) -> 0 | R55: =IFERROR(VLOOKUP(Cileide!$D55,Tabela20[],3,0),0) -> 0
Q56: =IFERROR(VLOOKUP(Cileide!$D56,Tabela20[],2,0),0) -> 0 | R56: =IFERROR(VLOOKUP(Cileide!$D56,Tabela20[],3,0),0) -> 0
Q57: =IFERROR(VLOOKUP(Cileide!$D57,Tabela20[],2,0),0) -> 0 | R57: =IFERROR(VLOOKUP(Cileide!$D57,Tabela20[],3,0),0) -> 0
Q58: =IFERROR(VLOOKUP(Cileide!$D58,Tabela20[],2,0),0) -> 0 | R58: =IFERROR(VLOOKUP(Cileide!$D58,Tabela20[],3,0),0) -> 0
Q59: =IFERROR(VLOOKUP(Cileide!$D59,Tabela20[],2,0),0) -> 0 | R59: =IFERROR(VLOOKUP(Cileide!$D59,Tabela20[],3,0),0) -> 0
Q60: =IFERROR(VLOOKUP(Cileide!$D60,Tabela20[],2,0),0) -> 0 | R60: =IFERROR(VLOOKUP(Cileide!$D60,Tabela20[],3,0),0) -> 0
Q61: =IFERROR(VLOOKUP(Cileide!$D61,Tabela20[],2,0),0) -> 0 | R61: =IFERROR(VLOOKUP(Cileide!$D61,Tabela20[],3,0),0) -> 0
Q62: =IFERROR(VLOOKUP(Cileide!$D62,Tabela20[],2,0),0) -> 0 | R62: =IFERROR(VLOOKUP(Cileide!$D62,Tabela20[],3,0),0) -> 0
Q63: =IFERROR(VLOOKUP(Cileide!$D63,Tabela20[],2,0),0) -> 0 | R63: =IFERROR(VLOOKUP(Cileide!$D63,Tabela20[],3,0),0) -> 0
Q64: =IFERROR(VLOOKUP(Cileide!$D64,Tabela20[],2,0),0) -> 0 | R64: =IFERROR(VLOOKUP(Cileide!$D64,Tabela20[],3,0),0) -> 0
A65: TOTAL | F65: =SUM(Cileide!$F$54:$F$64) -> 0
A67: ATIVIDADES DE PESQUISA
A68: Favor informar o enquadramento ao lado | D68: 4 - Pesquisador Doutor | L68: =VLOOKUP(D68,TabPesquisa[],3) -> 10 | Q68: =IFERROR(VLOOKUP(D68,TabPesquisa[],2),"") -> Limite de horas Semanais = 10
A69: Título | D69: Coordenador/Participante | F69: C/H | G69: Autorização | I69: Data Aprovação CONCENTRO | J69: Início | K69: Término | Q69: CH Mínima | R69: CH Máxima
D70: Coordenador | F70: 5 | Q70: =IFERROR(VLOOKUP(Cileide!$D70,Tabela11[],2),0) -> 0 | R70: =IFERROR(VLOOKUP(Cileide!$D70,Tabela11[],3),0) -> 6
D71: Participante | F71: 2 | Q71: =IFERROR(VLOOKUP(Cileide!$D71,Tabela11[],2),0) -> 0 | R71: =IFERROR(VLOOKUP(Cileide!$D71,Tabela11[],3),0) -> 2
D72: Coordenador | F72: 5 | Q72: =IFERROR(VLOOKUP(Cileide!$D72,Tabela11[],2),0) -> 0 | R72: =IFERROR(VLOOKUP(Cileide!$D72,Tabela11[],3),0) -> 6
Q73: =IFERROR(VLOOKUP(Cileide!$D73,Tabela11[],2),0) -> 0 | R73: =IFERROR(VLOOKUP(Cileide!$D73,Tabela11[],3),0) -> 0
Q74: =IFERROR(VLOOKUP(Cileide!$D74,Tabela11[],2),0) -> 0 | R74: =IFERROR(VLOOKUP(Cileide!$D74,Tabela11[],3),0) -> 0
Q75: =IFERROR(VLOOKUP(Cileide!$D75,Tabela11[],2),0) -> 0 | R75: =IFERROR(VLOOKUP(Cileide!$D75,Tabela11[],3),0) -> 0
Q76: =IFERROR(VLOOKUP(Cileide!$D76,Tabela11[],2),0) -> 0 | R76: =IFERROR(VLOOKUP(Cileide!$D76,Tabela11[],3),0) -> 0
Q77: =IFERROR(VLOOKUP(Cileide!$D77,Tabela11[],2),0) -> 0 | R77: =IFERROR(VLOOKUP(Cileide!$D77,Tabela11[],3),0) -> 0
Q78: =IFERROR(VLOOKUP(Cileide!$D78,Tabela11[],2),0) -> 0 | R78: =IFERROR(VLOOKUP(Cileide!$D78,Tabela11[],3),0) -> 0
Q79: =IFERROR(VLOOKUP(Cileide!$D79,Tabela11[],2),0) -> 0 | R79: =IFERROR(VLOOKUP(Cileide!$D79,Tabela11[],3),0) -> 0
Q80: =IFERROR(VLOOKUP(Cileide!$D80,Tabela11[],2),0) -> 0 | R80: =IFERROR(VLOOKUP(Cileide!$D80,Tabela11[],3),0) -> 0
A81: BASE DE DADOS (MANTER OCULTA) | F81: =SUM(F70:F80) -> 12
A83: ATIVIDADES DE EXTENSÃO
A84: Categoria: Programa ou Projeto | F84: C/H | G84: Autorização/Ata | I84: Início | K84: Término | L84: Coluna2 | M84: Coluna3 | N84: Coluna4 | O84: CH Mínima | P84: CH Máxima
F85: 5 | O85: =IFERROR(VLOOKUP(Cileide!$D85,Tabela21[],2,0),0) -> 0 | P85: =IFERROR(VLOOKUP(Cileide!$D85,Tabela21[],3,0),0) -> 0
O86: =IFERROR(VLOOKUP(Cileide!$D86,Tabela21[],2,0),0) -> 0 | P86: =IFERROR(VLOOKUP(Cileide!$D86,Tabela21[],3,0),0) -> 0
O87: =IFERROR(VLOOKUP(Cileide!$D87,Tabela21[],2,0),0) -> 0 | P87: =IFERROR(VLOOKUP(Cileide!$D87,Tabela21[],3,0),0) -> 0
O88: =IFERROR(VLOOKUP(Cileide!$D88,Tabela21[],2,0),0) -> 0 | P88: =IFERROR(VLOOKUP(Cileide!$D88,Tabela21[],3,0),0) -> 0
O89: =IFERROR(VLOOKUP(Cileide!$D89,Tabela21[],2,0),0) -> 0 | P89: =IFERROR(VLOOKUP(Cileide!$D89,Tabela21[],3,0),0) -> 0
O90: =IFERROR(VLOOKUP(Cileide!$D90,Tabela21[],2,0),0) -> 0 | P90: =IFERROR(VLOOKUP(Cileide!$D90,Tabela21[],3,0),0) -> 0
O91: =IFERROR(VLOOKUP(Cileide!$D91,Tabela21[],2,0),0) -> 0 | P91: =IFERROR(VLOOKUP(Cileide!$D91,Tabela21[],3,0),0) -> 0
O92: =IFERROR(VLOOKUP(Cileide!$D92,Tabela21[],2,0),0) -> 0 | P92: =IFERROR(VLOOKUP(Cileide!$D92,Tabela21[],3,0),0) -> 0
O93: =IFERROR(VLOOKUP(Cileide!$D93,Tabela21[],2,0),0) -> 0 | P93: =IFERROR(VLOOKUP(Cileide!$D93,Tabela21[],3,0),0) -> 0
O94: =IFERROR(VLOOKUP(Cileide!$D94,Tabela21[],2,0),0) -> 0 | P94: =IFERROR(VLOOKUP(Cileide!$D94,Tabela21[],3,0),0) -> 0
O95: =IFERROR(VLOOKUP(Cileide!$D95,Tabela21[],2,0),0) -> 0 | P95: =IFERROR(VLOOKUP(Cileide!$D95,Tabela21[],3,0),0) -> 0
O96: =IFERROR(VLOOKUP(Cileide!$D96,Tabela21[],2,0),0) -> 0 | P96: =IFERROR(VLOOKUP(Cileide!$D96,Tabela21[],3,0),0) -> 0
A97: TOTAL | F97: =SUM(F85:F96) -> 5 | O97: =IFERROR(VLOOKUP(Cileide!$D97,Tabela21[],2,0),0) -> 0 | P97: =IFERROR(VLOOKUP(Cileide!$D97,Tabela21[],3,0),0) -> 0
A99: ATIVIDADES DE ADMINISTRAÇÃO
A100: Atividade | D100: Descrição do Local/Cargo/função... | F100: C/H | G100: Autorização | I100: Início | K100: Término | L100: Redutor Calculo de Ensino | M100: Coluna2 | N100: Coluna3 | O100: Coluna4 | P100: Coluna5 | Q100: CH Mínima | R100: CH Máxima
A101: IX. Coordenador de Laboratório Institucional; | F101: 5 | L101: =IFERROR(VLOOKUP(Cileide!$A101,TFunçõesAdm[],3,0),40) -> 35 | Q101: 0 | R101: =IFERROR(VLOOKUP(A101,TFunçõesAdm[],2,FALSE),0) -> 5
L102: =IFERROR(VLOOKUP(Cileide!$A102,TFunçõesAdm[],3,0),40) -> 40 | Q102: 0 | R102: =IFERROR(VLOOKUP(A102,TFunçõesAdm[],2,FALSE),0) -> 0
L103: =IFERROR(VLOOKUP(Cileide!$A103,TFunçõesAdm[],3,0),40) -> 40 | Q103: 0 | R103: =IFERROR(VLOOKUP(A103,TFunçõesAdm[],2,FALSE),0) -> 0
L104: =IFERROR(VLOOKUP(Cileide!$A104,TFunçõesAdm[],3,0),40) -> 40 | Q104: 0 | R104: =IFERROR(VLOOKUP(A104,TFunçõesAdm[],2,FALSE),0) -> 0
L105: =IFERROR(VLOOKUP(Cileide!$A105,TFunçõesAdm[],3,0),40) -> 40 | Q105: 0 | R105: =IFERROR(VLOOKUP(A105,TFunçõesAdm[],2,FALSE),0) -> 0
L106: =IFERROR(VLOOKUP(Cileide!$A106,TFunçõesAdm[],3,0),40) -> 40 | Q106: 0 | R106: =IFERROR(VLOOKUP(A106,TFunçõesAdm[],2,FALSE),0) -> 0
...

Sheet Claudio
A1: ANEXO I – RESOLUÇÃO 073/2011 – CONSUNI | R1: Tabela de Cores
A2: UNIVERSIDADE DO ESTADO DE SANTA CATARINA-UDESC | S2: Deve ser incluso dados manualmente
A3: PLANO DE TRABALHO INDIVIDUAL | S3: Não permite alteração
A4: Professor: | D4: Centro de Ciências Agroveterinárias (CAV) | H4: Departamento: | J4: Semestre: 2022/2 | S4: Calculos efetuados pela planilha. Não permite alteração.
A5: Claúdio Roberto Franco | H5: =VLOOKUP(A5,TProfessores[],2,0) -> Agronomia
A7: Categoria Funcional: | D7: Titulação: | H7: Regime: | J7: Classe:
A8: =VLOOKUP(A5,TProfessores[],3,0) -> Efetivo | D8: =VLOOKUP(A5,TProfessores[],5,0) -> Doutor(a) | H8: =VLOOKUP(A5,TProfessores[],7,0) -> Dedicação Integral | I8: =VLOOKUP(A5,TProfessores[],6,0) -> 40 h | J8: =VLOOKUP(A5,TProfessores[],8,0) -> ADJUNTO
A9: ATIVIDADES DE ENSINO
A10: Disciplinas-Graduação | D10: Curso | F10: Fase | H10: C/H Ensino | J10: Informe a CH Pedagógica | Q10: CH Mínima | R10: CH Máxima
H11: Teórica | I11: Prática | L11: Soma (Oculta) | M11: Fórmula Oculta | N11: Formula para avisar CH pedagógica fora do sugerido | O11: Coluna1 | P11: Referência p coluna F
A12: Introdução à Agronomia | D12: =IFERROR(VLOOKUP(A12,TGradeCurricular[],2,0),"") -> Agronomia | F12: =IFERROR(VLOOKUP(A12,TGradeCurricular[],3,0),"") -> 1ª | H12: 2 | I12: 0 | J12: 2 | L12: =SUM(H12:I12) -> 2 | M12: =IF(A12<>0,1,0) -> 1 | N12: =IF(J12<Q12,1,0) -> 0 | O12: =IF(J12>R12,1,0) -> 0 | P12: =SUM(N12:O12) -> 0 | Q12: =L12*0.5 -> 1 | R12: =IFERROR(_xlfn.IFS($M$32=1,L12,$M$32=2,L12,$M$32=3,(L12*1.3),$M$32>3,(L12*1.5)),0) -> 3
A13: Entomologia Geral | D13: =IFERROR(VLOOKUP(A13,TGradeCurricular[],2,0),"") -> Agronomia | F13: =IFERROR(VLOOKUP(A13,TGradeCurricular[],3,0),"") -> 5ª | H13: 1 | I13: 6 | J13: 7 | L13: =SUM(H13:I13) -> 7 | M13: =IF(A13<>0,1,0) -> 1 | N13: =IF(J13<Q13,1,0) -> 0 | O13: =IF(J13>R13,1,0) -> 0 | P13: =SUM(N13:O13) -> 0 | Q13: =L13*0.5 -> 3.5 | R13: =IFERROR(_xlfn.IFS($M$32=1,L13,$M$32=2,L13,$M$32=3,(L13*1.3),$M$32>3,(L13*1.5)),0) -> 10.5
A14: Entomologia Agrícola | D14: =IFERROR(VLOOKUP(A14,TGradeCurricular[],2,0),"") -> Agronomia | F14: =IFERROR(VLOOKUP(A14,TGradeCurricular[],3,0),"") -> 6ª | H14: 2 | I14: 0 | J14: 2 | L14: =SUM(H14:I14) -> 2 | M14: =IF(A14<>0,1,0) -> 1 | N14: =IF(J14<Q14,1,0) -> 0 | O14: =IF(J14>R14,1,0) -> 0 | P14: =SUM(N14:O14) -> 0 | Q14: =L14*0.5 -> 1 | R14: =IFERROR(_xlfn.IFS($M$32=1,L14,$M$32=2,L14,$M$32=3,(L14*1.3),$M$32>3,(L14*1.5)),0) -> 3
D15: =IFERROR(VLOOKUP(A15,TGradeCurricular[],2,0),"") | F15: =IFERROR(VLOOKUP(A15,TGradeCurricular[],3,0),"") | L15: =SUM(H15:I15) -> 0 | M15: =IF(A15<>0,1,0) -> 0 | N15: =IF(J15<Q15,1,0) -> 0 | O15: =IF(J15>R15,1,0) -> 0 | P15: =SUM(N15:O15) -> 0 | Q15: =L15*0.5 -> 0 | R15: =IFERROR(_xlfn.IFS($M$32=1,L15,$M$32=2,L15,$M$32=3,(L15*1.3),$M$32>3,(L15*1.5)),0) -> 0
D16: =IFERROR(VLOOKUP(A16,TGradeCurricular[],2,0),"") | F16: =IFERROR(VLOOKUP(A16,TGradeCurricular[],3,0),"") | L16: =SUM(H16:I16) -> 0 | M16: =IF(A16<>0,1,0) -> 0 | N16: =IF(J16<Q16,1,0) -> 0 | O16: =IF(J16>R16,1,0) -> 0 | P16: =SUM(N16:O16) -> 0 | Q16: =L16*0.5 -> 0 | R16: =IFERROR(_xlfn.IFS($M$32=1,L16,$M$32=2,L16,$M$32=3,(L16*1.3),$M$32>3,(L16*1.5)),0) -> 0
D17: =IFERROR(VLOOKUP(A17,TGradeCurricular[],2,0),"") | F17: =IFERROR(VLOOKUP(A17,TGradeCurricular[],3,0),"") | L17: =SUM(H17:I17) -> 0 | M17: =IF(A17<>0,1,0) -> 0 | N17: =IF(J17<Q17,1,0) -> 0 | O17: =IF(J17>R17,1,0) -> 0 | P17: =SUM(N17:O17) -> 0 | Q17: =L17*0.5 -> 0 | R17: =IFERROR(_xlfn.IFS($M$32=1,L17,$M$32=2,L17,$M$32=3,(L17*1.3),$M$32>3,(L17*1.5)),0) -> 0
D18: =IFERROR(VLOOKUP(A18,TGradeCurricular[],2,0),"") | F18: =IFERROR(VLOOKUP(A18,TGradeCurricular[],3,0),"") | L18: =SUM(H18:I18) -> 0 | M18: =IF(A18<>0,1,0) -> 0 | N18: =IF(J18<Q18,1,0) -> 0 | O18: =IF(J18>R18,1,0) -> 0 | P18: =SUM(N18:O18) -> 0 | Q18: =L18*0.5 -> 0 | R18: =IFERROR(_xlfn.IFS($M$32=1,L18,$M$32=2,L18,$M$32=3,(L18*1.3),$M$32>3,(L18*1.5)),0) -> 0
D19: =IFERROR(VLOOKUP(A19,TGradeCurricular[],2,0),"") | F19: =IFERROR(VLOOKUP(A19,TGradeCurricular[],3,0),"") | L19: =SUM(H19:I19) -> 0 | M19: =IF(A19<>0,1,0) -> 0 | N19: =IF(J19<Q19,1,0) -> 0 | O19: =IF(J19>R19,1,0) -> 0 | P19: =SUM(N19:O19) -> 0 | Q19: =L19*0.5 -> 0 | R19: =IFERROR(_xlfn.IFS($M$32=1,L19,$M$32=2,L19,$M$32=3,(L19*1.3),$M$32>3,(L19*1.5)),0) -> 0
D20: =IFERROR(VLOOKUP(A20,TGradeCurricular[],2,0),"") | F20: =IFERROR(VLOOKUP(A20,TGradeCurricular[],3,0),"") | L20: =SUM(H20:I20) -> 0 | M20: =IF(A20<>0,1,0) -> 0 | N20: =IF(J20<Q20,1,0) -> 0 | O20: =IF(J20>R20,1,0) -> 0 | P20: =SUM(N20:O20) -> 0 | Q20: =L20*0.5 -> 0 | R20: =IFERROR(_xlfn.IFS($M$32=1,L20,$M$32=2,L20,$M$32=3,(L20*1.3),$M$32>3,(L20*1.5)),0) -> 0
D21: =IFERROR(VLOOKUP(A21,TGradeCurricular[],2,0),"") | F21: =IFERROR(VLOOKUP(A21,TGradeCurricular[],3,0),"") | L21: =SUM(H21:I21) -> 0 | M21: =IF(A21<>0,1,0) -> 0 | N21: =IF(J21<Q21,1,0) -> 0 | O21: =IF(J21>R21,1,0) -> 0 | P21: =SUM(N21:O21) -> 0 | Q21: =L21*0.5 -> 0 | R21: =IFERROR(_xlfn.IFS($M$32=1,L21,$M$32=2,L21,$M$32=3,(L21*1.3),$M$32>3,(L21*1.5)),0) -> 0
A22: Disciplinas-Pós Graduação | D22: Programa | H22: C/H Ens. | J22: C/H Pedag.
A23: NOME DA DISCIPLINA | D23: =IFERROR(VLOOKUP(Claudio!$A23,'Grade Pós'!A:B,2,0),"") -> PROGRAMA | H23: 2 | J23: 2 | L23: =SUM(H23:I23) -> 2 | M23: =IF(A23<>0,1,0) -> 1 | N23: =IF(J23<Q23,1,0) -> 0 | O23: =IF(J23>R23,1,0) -> 0 | P23: =SUM(N23:O23) -> 0 | Q23: =L23*0.5 -> 1 | R23: =IFERROR(_xlfn.IFS($M$32=1,L23,$M$32=2,L23,$M$32=3,(L23*1.3),$M$32>3,(L23*1.5)),0) -> 3
D24: =IFERROR(VLOOKUP(Claudio!$A24,'Grade Pós'!A:B,2,0),"") | L24: =SUM(H24:I24) -> 0 | M24: =IF(A24<>0,1,0) -> 0 | N24: =IF(J24<Q24,1,0) -> 0 | O24: =IF(J24>R24,1,0) -> 0 | P24: =SUM(N24:O24) -> 0 | Q24: =L24*0.5 -> 0 | R24: =IFERROR(_xlfn.IFS($M$32=1,L24,$M$32=2,L24,$M$32=3,(L24*1.3),$M$32>3,(L24*1.5)),0) -> 0
D25: =IFERROR(VLOOKUP(Claudio!$A25,'Grade Pós'!A:B,2,0),"") | L25: =SUM(H25:I25) -> 0 | M25: =IF(A25<>0,1,0) -> 0 | N25: =IF(J25<Q25,1,0) -> 0 | O25: =IF(J25>R25,1,0) -> 0 | P25: =SUM(N25:O25) -> 0 | Q25: =L25*0.5 -> 0 | R25: =IFERROR(_xlfn.IFS($M$32=1,L25,$M$32=2,L25,$M$32=3,(L25*1.3),$M$32>3,(L25*1.5)),0) -> 0
D26: =IFERROR(VLOOKUP(Claudio!$A26,'Grade Pós'!A:B,2,0),"") | L26: =SUM(H26:I26) -> 0 | M26: =IF(A26<>0,1,0) -> 0 | N26: =IF(J26<Q26,1,0) -> 0 | O26: =IF(J26>R26,1,0) -> 0 | P26: =SUM(N26:O26) -> 0 | Q26: =L26*0.5 -> 0 | R26: =IFERROR(_xlfn.IFS($M$32=1,L26,$M$32=2,L26,$M$32=3,(L26*1.3),$M$32>3,(L26*1.5)),0) -> 0
D27: =IFERROR(VLOOKUP(Claudio!$A27,'Grade Pós'!A:B,2,0),"") | L27: =SUM(H27:I27) -> 0 | M27: =IF(A27<>0,1,0) -> 0 | N27: =IF(J27<Q27,1,0) -> 0 | O27: =IF(J27>R27,1,0) -> 0 | P27: =SUM(N27:O27) -> 0 | Q27: =L27*0.5 -> 0 | R27: =IFERROR(_xlfn.IFS($M$32=1,L27,$M$32=2,L27,$M$32=3,(L27*1.3),$M$32>3,(L27*1.5)),0) -> 0
D28: =IFERROR(VLOOKUP(Claudio!$A28,'Grade Pós'!A:B,2,0),"") | L28: =SUM(H28:I28) -> 0 | M28: =IF(A28<>0,1,0) -> 0 | N28: =IF(J28<Q28,1,0) -> 0 | O28: =IF(J28>R28,1,0) -> 0 | P28: =SUM(N28:O28) -> 0 | Q28: =L28*0.5 -> 0 | R28: =IFERROR(_xlfn.IFS($M$32=1,L28,$M$32=2,L28,$M$32=3,(L28*1.3),$M$32>3,(L28*1.5)),0) -> 0
D29: =IFERROR(VLOOKUP(Claudio!$A29,'Grade Pós'!A:B,2,0),"") | L29: =SUM(H29:I29) -> 0 | M29: =IF(A29<>0,1,0) -> 0 | N29: =IF(J29<Q29,1,0) -> 0 | O29: =IF(J29>R29,1,0) -> 0 | P29: =SUM(N29:O29) -> 0 | Q29: =L29*0.5 -> 0 | R29: =IFERROR(_xlfn.IFS($M$32=1,L29,$M$32=2,L29,$M$32=3,(L29*1.3),$M$32>3,(L29*1.5)),0) -> 0
D30: =IFERROR(VLOOKUP(Claudio!$A30,'Grade Pós'!A:B,2,0),"") | L30: =SUM(H30:I30) -> 0 | M30: =IF(A30<>0,1,0) -> 0 | N30: =IF(J30<Q30,1,0) -> 0 | O30: =IF(J30>R30,1,0) -> 0 | P30: =SUM(N30:O30) -> 0 | Q30: =L30*0.5 -> 0 | R30: =IFERROR(_xlfn.IFS($M$32=1,L30,$M$32=2,L30,$M$32=3,(L30*1.3),$M$32>3,(L30*1.5)),0) -> 0
D31: =IFERROR(VLOOKUP(Claudio!$A31,'Grade Pós'!A:B,2,0),"") | L31: =SUM(H31:I31) -> 0 | M31: =IF(A31<>0,1,0) -> 0 | N31: =IF(J31<Q31,1,0) -> 0 | O31: =IF(J31>R31,1,0) -> 0 | P31: =SUM(N31:O31) -> 0 | Q31: =L31*0.5 -> 0 | R31: =IFERROR(_xlfn.IFS($M$32=1,L31,$M$32=2,L31,$M$32=3,(L31*1.3),$M$32>3,(L31*1.5)),0) -> 0
A32: BASE DE DADOS (MANTER OCULTA) | J32: =SUM(J12:K21) -> 11 | K32: =SUM(J12:J31) -> 13 | L32: =SUM(L12:L31) -> 13 | M32: =SUM(M12:M31) -> 4 | N32: =IF(K32<Q32,1,0) -> 0 | O32: =IF(K32>R32,1,0) -> 0 | P32: =SUM(N32:O32) -> 0 | Q32: =L32*0.5 -> 6.5 | R32: =IFERROR(_xlfn.IFS($M$32=1,L32,$M$32=2,L32,$M$32=3,(L32*1.3),$M$32>3,(L32*1.5)),0) -> 19.5
A34: ATIVIDADES DE ORIENTAÇÃO | M34: Para permitir carga horaria menor de 9hs para Funões com mais de 32hs
A35: Professor é vinculado à programas pós graduação Recomendado pela CAPES? | H35: 2 Não | I35: =IFERROR(VLOOKUP(H35,TCapes[],2),"") -> 2 - Carga horária mínima de ensino à alocar = 12 | L35: =IF(H35="2 Não",12,8) -> 12 | M35: =MIN(L35,L113) -> 4
A36: Modalidade | D36: Nome do Orientado | H36: Curso/Habilitação | I36: Semestre de Ingresso/Fase | K36: Informe a C/H Semanal | L36: Cálculo do Coord. Estágio | M36: Coluna2 | N36: Coluna3 | O36: Coluna4 | P36: Coluna5 | Q36: CH Mínima | R36: CH Máxima
A37: Dissertação | K37: 1 | L37: =IF(A37="Coordenação de Estágio",1,0) -> 0 | Q37: =IFERROR(VLOOKUP(A37,Dados!$A$85:$D$89,2,0),0) -> 0 | R37: =IFERROR(VLOOKUP(A37,Dados!$A$85:$D$89,3,0),0) -> 2
A38: Tese | K38: 2 | L38: =IF(A38="Coordenação de Estágio",1,0) -> 0 | Q38: =IFERROR(VLOOKUP(A38,Dados!$A$85:$D$89,2,0),0) -> 0 | R38: =IFERROR(VLOOKUP(A38,Dados!$A$85:$D$89,3,0),0) -> 3
L39: =IF(A39="Coordenação de Estágio",1,0) -> 0 | Q39: =IFERROR(VLOOKUP(A39,Dados!$A$85:$D$89,2,0),0) -> 0 | R39: =IFERROR(VLOOKUP(A39,Dados!$A$85:$D$89,3,0),0) -> 0
L40: =IF(A40="Coordenação de Estágio",1,0) -> 0 | Q40: =IFERROR(VLOOKUP(A40,Dados!$A$85:$D$89,2,0),0) -> 0 | R40: =IFERROR(VLOOKUP(A40,Dados!$A$85:$D$89,3,0),0) -> 0
L41: =IF(A41="Coordenação de Estágio",1,0) -> 0 | Q41: =IFERROR(VLOOKUP(A41,Dados!$A$85:$D$89,2,0),0) -> 0 | R41: =IFERROR(VLOOKUP(A41,Dados!$A$85:$D$89,3,0),0) -> 0
L42: =IF(A42="Coordenação de Estágio",1,0) -> 0 | Q42: =IFERROR(VLOOKUP(A42,Dados!$A$85:$D$89,2,0),0) -> 0 | R42: =IFERROR(VLOOKUP(A42,Dados!$A$85:$D$89,3,0),0) -> 0
L43: =IF(A43="Coordenação de Estágio",1,0) -> 0 | Q43: =IFERROR(VLOOKUP(A43,Dados!$A$85:$D$89,2,0),0) -> 0 | R43: =IFERROR(VLOOKUP(A43,Dados!$A$85:$D$89,3,0),0) -> 0
L44: =IF(A44="Coordenação de Estágio",1,0) -> 0 | Q44: =IFERROR(VLOOKUP(A44,Dados!$A$85:$D$89,2,0),0) -> 0 | R44: =IFERROR(VLOOKUP(A44,Dados!$A$85:$D$89,3,0),0) -> 0
L45: =IF(A45="Coordenação de Estágio",1,0) -> 0 | Q45: =IFERROR(VLOOKUP(A45,Dados!$A$85:$D$89,2,0),0) -> 0 | R45: =IFERROR(VLOOKUP(A45,Dados!$A$85:$D$89,3,0),0) -> 0
L46: =IF(A46="Coordenação de Estágio",1,0) -> 0 | Q46: =IFERROR(VLOOKUP(A46,Dados!$A$85:$D$89,2,0),0) -> 0 | R46: =IFERROR(VLOOKUP(A46,Dados!$A$85:$D$89,3,0),0) -> 0
L47: =IF(A47="Coordenação de Estágio",1,0) -> 0 | Q47: =IFERROR(VLOOKUP(A47,Dados!$A$85:$D$89,2,0),0) -> 0 | R47: =IFERROR(VLOOKUP(A47,Dados!$A$85:$D$89,3,0),0) -> 0
L48: =IF(A48="Coordenação de Estágio",1,0) -> 0 | Q48: =IFERROR(VLOOKUP(A48,Dados!$A$85:$D$89,2,0),0) -> 0 | R48: =IFERROR(VLOOKUP(A48,Dados!$A$85:$D$89,3,0),0) -> 0
L49: =IF(A49="Coordenação de Estágio",1,0) -> 0 | Q49: =IFERROR(VLOOKUP(A49,Dados!$A$85:$D$89,2,0),0) -> 0 | R49: =IFERROR(VLOOKUP(A49,Dados!$A$85:$D$89,3,0),0) -> 0
A50: BASE DE DADOS (MANTER OCULTA) | K50: =SUM(K37:K49) -> 3 | L50: =SUM(L37:L49) -> 0 | M50: =IF(L50=1,20,12) -> 12 | Q50: =SUM(Q37:Q49) -> 0 | R50: =SUM(R37:R49) -> 5
A52: PROJETOS DE ENSINO
A53: Título | D53: Coordenador/Participante | F53: C/H | G53: Autorização | I53: Início | K53: Término | L53: Coluna2 | M53: Coluna3 | N53: Coluna4 | O53: Coluna5 | P53: Coluna6 | Q53: CH Mínima | R53: CH Máxima
A54: sdasads | D54: Participante | F54: 3 | G54: 1 | Q54: =IFERROR(VLOOKUP(Claudio!$D54,Tabela20[],2,0),0) -> 0 | R54: =IFERROR(VLOOKUP(Claudio!$D54,Tabela20[],3,0),0) -> 2
Q55: =IFERROR(VLOOKUP(Claudio!$D55,Tabela20[],2,0),0) -> 0 | R55: =IFERROR(VLOOKUP(Claudio!$D55,Tabela20[],3,0),0) -> 0
Q56: =IFERROR(VLOOKUP(Claudio!$D56,Tabela20[],2,0),0) -> 0 | R56: =IFERROR(VLOOKUP(Claudio!$D56,Tabela20[],3,0),0) -> 0
Q57: =IFERROR(VLOOKUP(Claudio!$D57,Tabela20[],2,0),0) -> 0 | R57: =IFERROR(VLOOKUP(Claudio!$D57,Tabela20[],3,0),0) -> 0
Q58: =IFERROR(VLOOKUP(Claudio!$D58,Tabela20[],2,0),0) -> 0 | R58: =IFERROR(VLOOKUP(Claudio!$D58,Tabela20[],3,0),0) -> 0
Q59: =IFERROR(VLOOKUP(Claudio!$D59,Tabela20[],2,0),0) -> 0 | R59: =IFERROR(VLOOKUP(Claudio!$D59,Tabela20[],3,0),0) -> 0
Q60: =IFERROR(VLOOKUP(Claudio!$D60,Tabela20[],2,0),0) -> 0 | R60: =IFERROR(VLOOKUP(Claudio!$D60,Tabela20[],3,0),0) -> 0
Q61: =IFERROR(VLOOKUP(Claudio!$D61,Tabela20[],2,0),0) -> 0 | R61: =IFERROR(VLOOKUP(Claudio!$D61,Tabela20[],3,0),0) -> 0
Q62: =IFERROR(VLOOKUP(Claudio!$D62,Tabela20[],2,0),0) -> 0 | R62: =IFERROR(VLOOKUP(Claudio!$D62,Tabela20[],3,0),0) -> 0
Q63: =IFERROR(VLOOKUP(Claudio!$D63,Tabela20[],2,0),0) -> 0 | R63: =IFERROR(VLOOKUP(Claudio!$D63,Tabela20[],3,0),0) -> 0
Q64: =IFERROR(VLOOKUP(Claudio!$D64,Tabela20[],2,0),0) -> 0 | R64: =IFERROR(VLOOKUP(Claudio!$D64,Tabela20[],3,0),0) -> 0
A65: TOTAL | F65: =SUM(Claudio!$F$54:$F$64) -> 3
A67: ATIVIDADES DE PESQUISA
A68: Favor informar o enquadramento ao lado | D68: 4 - Pesquisador Doutor | L68: =VLOOKUP(D68,TabPesquisa[],3) -> 10 | Q68: =IFERROR(VLOOKUP(D68,TabPesquisa[],2),"") -> Limite de horas Semanais = 10
A69: Título | D69: Coordenador/Participante | F69: C/H | G69: Autorização | I69: Data Aprovação CONCENTRO | J69: Início | K69: Término | Q69: CH Mínima | R69: CH Máxima
D70: Coordenador | F70: 2 | Q70: =IFERROR(VLOOKUP(Claudio!$D70,Tabela11[],2),0) -> 0 | R70: =IFERROR(VLOOKUP(Claudio!$D70,Tabela11[],3),0) -> 6
Q71: =IFERROR(VLOOKUP(Claudio!$D71,Tabela11[],2),0) -> 0 | R71: =IFERROR(VLOOKUP(Claudio!$D71,Tabela11[],3),0) -> 0
Q72: =IFERROR(VLOOKUP(Claudio!$D72,Tabela11[],2),0) -> 0 | R72: =IFERROR(VLOOKUP(Claudio!$D72,Tabela11[],3),0) -> 0
Q73: =IFERROR(VLOOKUP(Claudio!$D73,Tabela11[],2),0) -> 0 | R73: =IFERROR(VLOOKUP(Claudio!$D73,Tabela11[],3),0) -> 0
Q74: =IFERROR(VLOOKUP(Claudio!$D74,Tabela11[],2),0) -> 0 | R74: =IFERROR(VLOOKUP(Claudio!$D74,Tabela11[],3),0) -> 0
Q75: =IFERROR(VLOOKUP(Claudio!$D75,Tabela11[],2),0) -> 0 | R75: =IFERROR(VLOOKUP(Claudio!$D75,Tabela11[],3),0) -> 0
Q76: =IFERROR(VLOOKUP(Claudio!$D76,Tabela11[],2),0) -> 0 | R76: =IFERROR(VLOOKUP(Claudio!$D76,Tabela11[],3),0) -> 0
Q77: =IFERROR(VLOOKUP(Claudio!$D77,Tabela11[],2),0) -> 0 | R77: =IFERROR(VLOOKUP(Claudio!$D77,Tabela11[],3),0) -> 0
Q78: =IFERROR(VLOOKUP(Claudio!$D78,Tabela11[],2),0) -> 0 | R78: =IFERROR(VLOOKUP(Claudio!$D78,Tabela11[],3),0) -> 0
Q79: =IFERROR(VLOOKUP(Claudio!$D79,Tabela11[],2),0) -> 0 | R79: =IFERROR(VLOOKUP(Claudio!$D79,Tabela11[],3),0) -> 0
Q80: =IFERROR(VLOOKUP(Claudio!$D80,Tabela11[],2),0) -> 0 | R80: =IFERROR(VLOOKUP(Claudio!$D80,Tabela11[],3),0) -> 0
A81: BASE DE DADOS (MANTER OCULTA) | F81: =SUM(F70:F80) -> 2
A83: ATIVIDADES DE EXTENSÃO
A84: Categoria: Programa ou Projeto | F84: C/H | G84: Autorização/Ata | I84: Início | K84: Término | L84: Coluna2 | M84: Coluna3 | N84: Coluna4 | O84: CH Mínima | P84: CH Máxima
F85: 6 | O85: =IFERROR(VLOOKUP(Claudio!$D85,Tabela21[],2,0),0) -> 0 | P85: =IFERROR(VLOOKUP(Claudio!$D85,Tabela21[],3,0),0) -> 0
O86: =IFERROR(VLOOKUP(Claudio!$D86,Tabela21[],2,0),0) -> 0 | P86: =IFERROR(VLOOKUP(Claudio!$D86,Tabela21[],3,0),0) -> 0
O87: =IFERROR(VLOOKUP(Claudio!$D87,Tabela21[],2,0),0) -> 0 | P87: =IFERROR(VLOOKUP(Claudio!$D87,Tabela21[],3,0),0) -> 0
O88: =IFERROR(VLOOKUP(Claudio!$D88,Tabela21[],2,0),0) -> 0 | P88: =IFERROR(VLOOKUP(Claudio!$D88,Tabela21[],3,0),0) -> 0
O89: =IFERROR(VLOOKUP(Claudio!$D89,Tabela21[],2,0),0) -> 0 | P89: =IFERROR(VLOOKUP(Claudio!$D89,Tabela21[],3,0),0) -> 0
O90: =IFERROR(VLOOKUP(Claudio!$D90,Tabela21[],2,0),0) -> 0 | P90: =IFERROR(VLOOKUP(Claudio!$D90,Tabela21[],3,0),0) -> 0
O91: =IFERROR(VLOOKUP(Claudio!$D91,Tabela21[],2,0),0) -> 0 | P91: =IFERROR(VLOOKUP(Claudio!$D91,Tabela21[],3,0),0) -> 0
O92: =IFERROR(VLOOKUP(Claudio!$D92,Tabela21[],2,0),0) -> 0 | P92: =IFERROR(VLOOKUP(Claudio!$D92,Tabela21[],3,0),0) -> 0
O93: =IFERROR(VLOOKUP(Claudio!$D93,Tabela21[],2,0),0) -> 0 | P93: =IFERROR(VLOOKUP(Claudio!$D93,Tabela21[],3,0),0) -> 0
O94: =IFERROR(VLOOKUP(Claudio!$D94,Tabela21[],2,0),0) -> 0 | P94: =IFERROR(VLOOKUP(Claudio!$D94,Tabela21[],3,0),0) -> 0
O95: =IFERROR(VLOOKUP(Claudio!$D95,Tabela21[],2,0),0) -> 0 | P95: =IFERROR(VLOOKUP(Claudio!$D95,Tabela21[],3,0),0) -> 0
O96: =IFERROR(VLOOKUP(Claudio!$D96,Tabela21[],2,0),0) -> 0 | P96: =IFERROR(VLOOKUP(Claudio!$D96,Tabela21[],3,0),0) -> 0
A97: TOTAL | F97: =SUM(F85:F96) -> 6 | O97: =IFERROR(VLOOKUP(Claudio!$D97,Tabela21[],2,0),0) -> 0 | P97: =IFERROR(VLOOKUP(Claudio!$D97,Tabela21[],3,0),0) -> 0
A99: ATIVIDADES DE ADMINISTRAÇÃO
A100: Atividade | D100: Descrição do Local/Cargo/função... | F100: C/H | G100: Autorização | I100: Início | K100: Término | L100: Redutor Calculo de Ensino | M100: Coluna2 | N100: Coluna3 | O100: Coluna4 | P100: Coluna5 | Q100: CH Mínima | R100: CH Máxima
A101: IX. Coordenador de Laboratório Institucional; | F101: 5 | L101: =IFERROR(VLOOKUP(Claudio!$A101,TFunçõesAdm[],3,0),40) -> 35 | Q101: 0 | R101: =IFERROR(VLOOKUP(A101,TFunçõesAdm[],2,FALSE),0) -> 5
A102: V. Chefe de Departamento carreirocêntrico; | F102: 32 | L102: =IFERROR(VLOOKUP(Claudio!$A102,TFunçõesAdm[],3,0),40) -> 4 | Q102: 0 | R102: =IFERROR(VLOOKUP(A102,TFunçõesAdm[],2,FALSE),0) -> 32
L103: =IFERROR(VLOOKUP(Claudio!$A103,TFunçõesAdm[],3,0),40) -> 40 | Q103: 0 | R103: =IFERROR(VLOOKUP(A103,TFunçõesAdm[],2,FALSE),0) -> 0
L104: =IFERROR(VLOOKUP(Claudio!$A104,TFunçõesAdm[],3,0),40) -> 40 | Q104: 0 | R104: =IFERROR(VLOOKUP(A104,TFunçõesAdm[],2,FALSE),0) -> 0
L105: =IFERROR(VLOOKUP(Claudio!$A105,TFunçõesAdm[],3,0),40) -> 40 | Q105: 0 | R105: =IFERROR(VLOOKUP(A105,TFunçõesAdm[],2,FALSE),0) -> 0
L106: =IFERROR(VLOOKUP(Claudio!$A106,TFunçõesAdm[],3,0),40) -> 40 | Q106: 0 | R106: =IFERROR(VLOOKUP(A106,TFunçõesAdm[],2,FALSE),0) -> 0
...

Sheet Clovis
A1: ANEXO I – RESOLUÇÃO 073/2011 – CONSUNI | R1: Tabela de Cores
A2: UNIVERSIDADE DO ESTADO DE SANTA CATARINA-UDESC | S2: Deve ser incluso dados manualmente
A3: PLANO DE TRABALHO INDIVIDUAL | S3: Não permite alteração
A4: Professor: | D4: Centro de Ciências Agroveterinárias (CAV) | H4: Departamento: | J4: Semestre: 2022/2 | S4: Calculos efetuados pela planilha. Não permite alteração.
A5: Clóvis Eliseu Gewehr | H5: =VLOOKUP(A5,TProfessores[],2,0) -> Produção Animal e Alimentos
A7: Categoria Funcional: | D7: Titulação: | H7: Regime: | J7: Classe:
A8: =VLOOKUP(A5,TProfessores[],3,0) -> Efetivo | D8: =VLOOKUP(A5,TProfessores[],5,0) -> Doutor(a) | H8: =VLOOKUP(A5,TProfessores[],7,0) -> Dedicação Integral | I8: =VLOOKUP(A5,TProfessores[],6,0) -> 40 h | J8: =VLOOKUP(A5,TProfessores[],8,0) -> TITULAR
A9: ATIVIDADES DE ENSINO
A10: Disciplinas-Graduação | D10: Curso | F10: Fase | H10: C/H Ensino | J10: Informe a CH Pedagógica | Q10: CH Mínima | R10: CH Máxima
H11: Teórica | I11: Prática | L11: Soma (Oculta) | M11: Fórmula Oculta | N11: Formula para avisar CH pedagógica fora do sugerido | O11: Coluna1 | P11: Referência p coluna F
A12: Culturas de Inverno | D12: =IFERROR(VLOOKUP(A12,TGradeCurricular[],2,0),"") -> Agronomia | F12: =IFERROR(VLOOKUP(A12,TGradeCurricular[],3,0),"") -> 7ª | H12: 2 | I12: 1 | J12: 3 | L12: =SUM(H12:I12) -> 3 | M12: =IF(A12<>0,1,0) -> 1 | N12: =IF(J12<Q12,1,0) -> 0 | O12: =IF(J12>R12,1,0) -> 0 | P12: =SUM(N12:O12) -> 0 | Q12: =L12*0.5 -> 1.5 | R12: =IFERROR(_xlfn.IFS($M$32=1,L12,$M$32=2,L12,$M$32=3,(L12*1.3),$M$32>3,(L12*1.5)),0) -> 3.9
A13: Dicotiledôneas de Verão | D13: =IFERROR(VLOOKUP(A13,TGradeCurricular[],2,0),"") -> Agronomia | F13: =IFERROR(VLOOKUP(A13,TGradeCurricular[],3,0),"") -> 9ª | H13: 1 | I13: 0 | J13: 1 | L13: =SUM(H13:I13) -> 1 | M13: =IF(A13<>0,1,0) -> 1 | N13: =IF(J13<Q13,1,0) -> 0 | O13: =IF(J13>R13,1,0) -> 0 | P13: =SUM(N13:O13) -> 0 | Q13: =L13*0.5 -> 0.5 | R13: =IFERROR(_xlfn.IFS($M$32=1,L13,$M$32=2,L13,$M$32=3,(L13*1.3),$M$32>3,(L13*1.5)),0) -> 1.3
D14: =IFERROR(VLOOKUP(A14,TGradeCurricular[],2,0),"") | F14: =IFERROR(VLOOKUP(A14,TGradeCurricular[],3,0),"") | J14: 0 | L14: =SUM(H14:I14) -> 0 | M14: =IF(A14<>0,1,0) -> 0 | N14: =IF(J14<Q14,1,0) -> 0 | O14: =IF(J14>R14,1,0) -> 0 | P14: =SUM(N14:O14) -> 0 | Q14: =L14*0.5 -> 0 | R14: =IFERROR(_xlfn.IFS($M$32=1,L14,$M$32=2,L14,$M$32=3,(L14*1.3),$M$32>3,(L14*1.5)),0) -> 0
D15: =IFERROR(VLOOKUP(A15,TGradeCurricular[],2,0),"") | F15: =IFERROR(VLOOKUP(A15,TGradeCurricular[],3,0),"") | L15: =SUM(H15:I15) -> 0 | M15: =IF(A15<>0,1,0) -> 0 | N15: =IF(J15<Q15,1,0) -> 0 | O15: =IF(J15>R15,1,0) -> 0 | P15: =SUM(N15:O15) -> 0 | Q15: =L15*0.5 -> 0 | R15: =IFERROR(_xlfn.IFS($M$32=1,L15,$M$32=2,L15,$M$32=3,(L15*1.3),$M$32>3,(L15*1.5)),0) -> 0
D16: =IFERROR(VLOOKUP(A16,TGradeCurricular[],2,0),"") | F16: =IFERROR(VLOOKUP(A16,TGradeCurricular[],3,0),"") | L16: =SUM(H16:I16) -> 0 | M16: =IF(A16<>0,1,0) -> 0 | N16: =IF(J16<Q16,1,0) -> 0 | O16: =IF(J16>R16,1,0) -> 0 | P16: =SUM(N16:O16) -> 0 | Q16: =L16*0.5 -> 0 | R16: =IFERROR(_xlfn.IFS($M$32=1,L16,$M$32=2,L16,$M$32=3,(L16*1.3),$M$32>3,(L16*1.5)),0) -> 0
D17: =IFERROR(VLOOKUP(A17,TGradeCurricular[],2,0),"") | F17: =IFERROR(VLOOKUP(A17,TGradeCurricular[],3,0),"") | L17: =SUM(H17:I17) -> 0 | M17: =IF(A17<>0,1,0) -> 0 | N17: =IF(J17<Q17,1,0) -> 0 | O17: =IF(J17>R17,1,0) -> 0 | P17: =SUM(N17:O17) -> 0 | Q17: =L17*0.5 -> 0 | R17: =IFERROR(_xlfn.IFS($M$32=1,L17,$M$32=2,L17,$M$32=3,(L17*1.3),$M$32>3,(L17*1.5)),0) -> 0
D18: =IFERROR(VLOOKUP(A18,TGradeCurricular[],2,0),"") | F18: =IFERROR(VLOOKUP(A18,TGradeCurricular[],3,0),"") | L18: =SUM(H18:I18) -> 0 | M18: =IF(A18<>0,1,0) -> 0 | N18: =IF(J18<Q18,1,0) -> 0 | O18: =IF(J18>R18,1,0) -> 0 | P18: =SUM(N18:O18) -> 0 | Q18: =L18*0.5 -> 0 | R18: =IFERROR(_xlfn.IFS($M$32=1,L18,$M$32=2,L18,$M$32=3,(L18*1.3),$M$32>3,(L18*1.5)),0) -> 0
D19: =IFERROR(VLOOKUP(A19,TGradeCurricular[],2,0),"") | F19: =IFERROR(VLOOKUP(A19,TGradeCurricular[],3,0),"") | L19: =SUM(H19:I19) -> 0 | M19: =IF(A19<>0,1,0) -> 0 | N19: =IF(J19<Q19,1,0) -> 0 | O19: =IF(J19>R19,1,0) -> 0 | P19: =SUM(N19:O19) -> 0 | Q19: =L19*0.5 -> 0 | R19: =IFERROR(_xlfn.IFS($M$32=1,L19,$M$32=2,L19,$M$32=3,(L19*1.3),$M$32>3,(L19*1.5)),0) -> 0
D20: =IFERROR(VLOOKUP(A20,TGradeCurricular[],2,0),"") | F20: =IFERROR(VLOOKUP(A20,TGradeCurricular[],3,0),"") | L20: =SUM(H20:I20) -> 0 | M20: =IF(A20<>0,1,0) -> 0 | N20: =IF(J20<Q20,1,0) -> 0 | O20: =IF(J20>R20,1,0) -> 0 | P20: =SUM(N20:O20) -> 0 | Q20: =L20*0.5 -> 0 | R20: =IFERROR(_xlfn.IFS($M$32=1,L20,$M$32=2,L20,$M$32=3,(L20*1.3),$M$32>3,(L20*1.5)),0) -> 0
D21: =IFERROR(VLOOKUP(A21,TGradeCurricular[],2,0),"") | F21: =IFERROR(VLOOKUP(A21,TGradeCurricular[],3,0),"") | L21: =SUM(H21:I21) -> 0 | M21: =IF(A21<>0,1,0) -> 0 | N21: =IF(J21<Q21,1,0) -> 0 | O21: =IF(J21>R21,1,0) -> 0 | P21: =SUM(N21:O21) -> 0 | Q21: =L21*0.5 -> 0 | R21: =IFERROR(_xlfn.IFS($M$32=1,L21,$M$32=2,L21,$M$32=3,(L21*1.3),$M$32>3,(L21*1.5)),0) -> 0
A22: Disciplinas-Pós Graduação | D22: Programa | H22: C/H Ens. | J22: C/H Pedag.
A23: NOME DA DISCIPLINA | D23: =IFERROR(VLOOKUP(Clovis!$A23,'Grade Pós'!A:B,2,0),"") -> PROGRAMA | H23: 4 | J23: 4 | L23: =SUM(H23:I23) -> 4 | M23: =IF(A23<>0,1,0) -> 1 | N23: =IF(J23<Q23,1,0) -> 0 | O23: =IF(J23>R23,1,0) -> 0 | P23: =SUM(N23:O23) -> 0 | Q23: =L23*0.5 -> 2 | R23: =IFERROR(_xlfn.IFS($M$32=1,L23,$M$32=2,L23,$M$32=3,(L23*1.3),$M$32>3,(L23*1.5)),0) -> 5.2
D24: =IFERROR(VLOOKUP(Clovis!$A24,'Grade Pós'!A:B,2,0),"") | L24: =SUM(H24:I24) -> 0 | M24: =IF(A24<>0,1,0) -> 0 | N24: =IF(J24<Q24,1,0) -> 0 | O24: =IF(J24>R24,1,0) -> 0 | P24: =SUM(N24:O24) -> 0 | Q24: =L24*0.5 -> 0 | R24: =IFERROR(_xlfn.IFS($M$32=1,L24,$M$32=2,L24,$M$32=3,(L24*1.3),$M$32>3,(L24*1.5)),0) -> 0
D25: =IFERROR(VLOOKUP(Clovis!$A25,'Grade Pós'!A:B,2,0),"") | L25: =SUM(H25:I25) -> 0 | M25: =IF(A25<>0,1,0) -> 0 | N25: =IF(J25<Q25,1,0) -> 0 | O25: =IF(J25>R25,1,0) -> 0 | P25: =SUM(N25:O25) -> 0 | Q25: =L25*0.5 -> 0 | R25: =IFERROR(_xlfn.IFS($M$32=1,L25,$M$32=2,L25,$M$32=3,(L25*1.3),$M$32>3,(L25*1.5)),0) -> 0
D26: =IFERROR(VLOOKUP(Clovis!$A26,'Grade Pós'!A:B,2,0),"") | L26: =SUM(H26:I26) -> 0 | M26: =IF(A26<>0,1,0) -> 0 | N26: =IF(J26<Q26,1,0) -> 0 | O26: =IF(J26>R26,1,0) -> 0 | P26: =SUM(N26:O26) -> 0 | Q26: =L26*0.5 -> 0 | R26: =IFERROR(_xlfn.IFS($M$32=1,L26,$M$32=2,L26,$M$32=3,(L26*1.3),$M$32>3,(L26*1.5)),0) -> 0
D27: =IFERROR(VLOOKUP(Clovis!$A27,'Grade Pós'!A:B,2,0),"") | L27: =SUM(H27:I27) -> 0 | M27: =IF(A27<>0,1,0) -> 0 | N27: =IF(J27<Q27,1,0) -> 0 | O27: =IF(J27>R27,1,0) -> 0 | P27: =SUM(N27:O27) -> 0 | Q27: =L27*0.5 -> 0 | R27: =IFERROR(_xlfn.IFS($M$32=1,L27,$M$32=2,L27,$M$32=3,(L27*1.3),$M$32>3,(L27*1.5)),0) -> 0
D28: =IFERROR(VLOOKUP(Clovis!$A28,'Grade Pós'!A:B,2,0),"") | L28: =SUM(H28:I28) -> 0 | M28: =IF(A28<>0,1,0) -> 0 | N28: =IF(J28<Q28,1,0) -> 0 | O28: =IF(J28>R28,1,0) -> 0 | P28: =SUM(N28:O28) -> 0 | Q28: =L28*0.5 -> 0 | R28: =IFERROR(_xlfn.IFS($M$32=1,L28,$M$32=2,L28,$M$32=3,(L28*1.3),$M$32>3,(L28*1.5)),0) -> 0
D29: =IFERROR(VLOOKUP(Clovis!$A29,'Grade Pós'!A:B,2,0),"") | L29: =SUM(H29:I29) -> 0 | M29: =IF(A29<>0,1,0) -> 0 | N29: =IF(J29<Q29,1,0) -> 0 | O29: =IF(J29>R29,1,0) -> 0 | P29: =SUM(N29:O29) -> 0 | Q29: =L29*0.5 -> 0 | R29: =IFERROR(_xlfn.IFS($M$32=1,L29,$M$32=2,L29,$M$32=3,(L29*1.3),$M$32>3,(L29*1.5)),0) -> 0
D30: =IFERROR(VLOOKUP(Clovis!$A30,'Grade Pós'!A:B,2,0),"") | L30: =SUM(H30:I30) -> 0 | M30: =IF(A30<>0,1,0) -> 0 | N30: =IF(J30<Q30,1,0) -> 0 | O30: =IF(J30>R30,1,0) -> 0 | P30: =SUM(N30:O30) -> 0 | Q30: =L30*0.5 -> 0 | R30: =IFERROR(_xlfn.IFS($M$32=1,L30,$M$32=2,L30,$M$32=3,(L30*1.3),$M$32>3,(L30*1.5)),0) -> 0
D31: =IFERROR(VLOOKUP(Clovis!$A31,'Grade Pós'!A:B,2,0),"") | L31: =SUM(H31:I31) -> 0 | M31: =IF(A31<>0,1,0) -> 0 | N31: =IF(J31<Q31,1,0) -> 0 | O31: =IF(J31>R31,1,0) -> 0 | P31: =SUM(N31:O31) -> 0 | Q31: =L31*0.5 -> 0 | R31: =IFERROR(_xlfn.IFS($M$32=1,L31,$M$32=2,L31,$M$32=3,(L31*1.3),$M$32>3,(L31*1.5)),0) -> 0
A32: BASE DE DADOS (MANTER OCULTA) | J32: =SUM(J12:K21) -> 4 | K32: =SUM(J12:J31) -> 8 | L32: =SUM(L12:L31) -> 8 | M32: =SUM(M12:M31) -> 3 | N32: =IF(K32<Q32,1,0) -> 0 | O32: =IF(K32>R32,1,0) -> 0 | P32: =SUM(N32:O32) -> 0 | Q32: =L32*0.5 -> 4 | R32: =IFERROR(_xlfn.IFS($M$32=1,L32,$M$32=2,L32,$M$32=3,(L32*1.3),$M$32>3,(L32*1.5)),0) -> 10.4
A34: ATIVIDADES DE ORIENTAÇÃO | M34: Para permitir carga horaria menor de 9hs para Funões com mais de 32hs
A35: Professor é vinculado à programas pós graduação Recomendado pela CAPES? | H35: 1 Sim | I35: =IFERROR(VLOOKUP(H35,TCapes[],2),"") -> 1 -Permite Alocar Carga Horária Mínima de 8 Créditos de Ensino | L35: =IF(H35="2 Não",12,8) -> 8 | M35: =MIN(L35,L113) -> 8
A36: Modalidade | D36: Nome do Orientado | H36: Curso/Habilitação | I36: Semestre de Ingresso/Fase | K36: Informe a C/H Semanal | L36: Cálculo do Coord. Estágio | M36: Coluna2 | N36: Coluna3 | O36: Coluna4 | P36: Coluna5 | Q36: CH Mínima | R36: CH Máxima
A37: Estágio | K37: 0 | L37: =IF(A37="Coordenação de Estágio",1,0) -> 0 | Q37: =IFERROR(VLOOKUP(A37,Dados!$A$85:$D$89,2,0),0) -> 0 | R37: =IFERROR(VLOOKUP(A37,Dados!$A$85:$D$89,3,0),0) -> 1
A38: Dissertação | K38: 2 | L38: =IF(A38="Coordenação de Estágio",1,0) -> 0 | Q38: =IFERROR(VLOOKUP(A38,Dados!$A$85:$D$89,2,0),0) -> 0 | R38: =IFERROR(VLOOKUP(A38,Dados!$A$85:$D$89,3,0),0) -> 2
A39: Dissertação | K39: 2 | L39: =IF(A39="Coordenação de Estágio",1,0) -> 0 | Q39: =IFERROR(VLOOKUP(A39,Dados!$A$85:$D$89,2,0),0) -> 0 | R39: =IFERROR(VLOOKUP(A39,Dados!$A$85:$D$89,3,0),0) -> 2
A40: Tese | K40: 3 | L40: =IF(A40="Coordenação de Estágio",1,0) -> 0 | Q40: =IFERROR(VLOOKUP(A40,Dados!$A$85:$D$89,2,0),0) -> 0 | R40: =IFERROR(VLOOKUP(A40,Dados!$A$85:$D$89,3,0),0) -> 3
A41: Tese | K41: 3 | L41: =IF(A41="Coordenação de Estágio",1,0) -> 0 | Q41: =IFERROR(VLOOKUP(A41,Dados!$A$85:$D$89,2,0),0) -> 0 | R41: =IFERROR(VLOOKUP(A41,Dados!$A$85:$D$89,3,0),0) -> 3
A42: Tese | K42: 3 | L42: =IF(A42="Coordenação de Estágio",1,0) -> 0 | Q42: =IFERROR(VLOOKUP(A42,Dados!$A$85:$D$89,2,0),0) -> 0 | R42: =IFERROR(VLOOKUP(A42,Dados!$A$85:$D$89,3,0),0) -> 3
L43: =IF(A43="Coordenação de Estágio",1,0) -> 0 | Q43: =IFERROR(VLOOKUP(A43,Dados!$A$85:$D$89,2,0),0) -> 0 | R43: =IFERROR(VLOOKUP(A43,Dados!$A$85:$D$89,3,0),0) -> 0
L44: =IF(A44="Coordenação de Estágio",1,0) -> 0 | Q44: =IFERROR(VLOOKUP(A44,Dados!$A$85:$D$89,2,0),0) -> 0 | R44: =IFERROR(VLOOKUP(A44,Dados!$A$85:$D$89,3,0),0) -> 0
L45: =IF(A45="Coordenação de Estágio",1,0) -> 0 | Q45: =IFERROR(VLOOKUP(A45,Dados!$A$85:$D$89,2,0),0) -> 0 | R45: =IFERROR(VLOOKUP(A45,Dados!$A$85:$D$89,3,0),0) -> 0
L46: =IF(A46="Coordenação de Estágio",1,0) -> 0 | Q46: =IFERROR(VLOOKUP(A46,Dados!$A$85:$D$89,2,0),0) -> 0 | R46: =IFERROR(VLOOKUP(A46,Dados!$A$85:$D$89,3,0),0) -> 0
L47: =IF(A47="Coordenação de Estágio",1,0) -> 0 | Q47: =IFERROR(VLOOKUP(A47,Dados!$A$85:$D$89,2,0),0) -> 0 | R47: =IFERROR(VLOOKUP(A47,Dados!$A$85:$D$89,3,0),0) -> 0
L48: =IF(A48="Coordenação de Estágio",1,0) -> 0 | Q48: =IFERROR(VLOOKUP(A48,Dados!$A$85:$D$89,2,0),0) -> 0 | R48: =IFERROR(VLOOKUP(A48,Dados!$A$85:$D$89,3,0),0) -> 0
L49: =IF(A49="Coordenação de Estágio",1,0) -> 0 | Q49: =IFERROR(VLOOKUP(A49,Dados!$A$85:$D$89,2,0),0) -> 0 | R49: =IFERROR(VLOOKUP(A49,Dados!$A$85:$D$89,3,0),0) -> 0
A50: BASE DE DADOS (MANTER OCULTA) | K50: =SUM(K37:K49) -> 13 | L50: =SUM(L37:L49) -> 0 | M50: =IF(L50=1,20,12) -> 12 | Q50: =SUM(Q37:Q49) -> 0 | R50: =SUM(R37:R49) -> 14
A52: PROJETOS DE ENSINO
A53: Título | D53: Coordenador/Participante | F53: C/H | G53: Autorização | I53: Início | K53: Término | L53: Coluna2 | M53: Coluna3 | N53: Coluna4 | O53: Coluna5 | P53: Coluna6 | Q53: CH Mínima | R53: CH Máxima
Q54: =IFERROR(VLOOKUP(Clovis!$D54,Tabela20[],2,0),0) -> 0 | R54: =IFERROR(VLOOKUP(Clovis!$D54,Tabela20[],3,0),0) -> 0
Q55: =IFERROR(VLOOKUP(Clovis!$D55,Tabela20[],2,0),0) -> 0 | R55: =IFERROR(VLOOKUP(Clovis!$D55,Tabela20[],3,0),0) -> 0
Q56: =IFERROR(VLOOKUP(Clovis!$D56,Tabela20[],2,0),0) -> 0 | R56: =IFERROR(VLOOKUP(Clovis!$D56,Tabela20[],3,0),0) -> 0
Q57: =IFERROR(VLOOKUP(Clovis!$D57,Tabela20[],2,0),0) -> 0 | R57: =IFERROR(VLOOKUP(Clovis!$D57,Tabela20[],3,0),0) -> 0
Q58: =IFERROR(VLOOKUP(Clovis!$D58,Tabela20[],2,0),0) -> 0 | R58: =IFERROR(VLOOKUP(Clovis!$D58,Tabela20[],3,0),0) -> 0
Q59: =IFERROR(VLOOKUP(Clovis!$D59,Tabela20[],2,0),0) -> 0 | R59: =IFERROR(VLOOKUP(Clovis!$D59,Tabela20[],3,0),0) -> 0
Q60: =IFERROR(VLOOKUP(Clovis!$D60,Tabela20[],2,0),0) -> 0 | R60: =IFERROR(VLOOKUP(Clovis!$D60,Tabela20[],3,0),0) -> 0
Q61: =IFERROR(VLOOKUP(Clovis!$D61,Tabela20[],2,0),0) -> 0 | R61: =IFERROR(VLOOKUP(Clovis!$D61,Tabela20[],3,0),0) -> 0
Q62: =IFERROR(VLOOKUP(Clovis!$D62,Tabela20[],2,0),0) -> 0 | R62: =IFERROR(VLOOKUP(Clovis!$D62,Tabela20[],3,0),0) -> 0
Q63: =IFERROR(VLOOKUP(Clovis!$D63,Tabela20[],2,0),0) -> 0 | R63: =IFERROR(VLOOKUP(Clovis!$D63,Tabela20[],3,0),0) -> 0
Q64: =IFERROR(VLOOKUP(Clovis!$D64,Tabela20[],2,0),0) -> 0 | R64: =IFERROR(VLOOKUP(Clovis!$D64,Tabela20[],3,0),0) -> 0
A65: TOTAL | F65: =SUM(Clovis!$F$54:$F$64) -> 0
A67: ATIVIDADES DE PESQUISA
A68: Favor informar o enquadramento ao lado | D68: 4 - Pesquisador Doutor | L68: =VLOOKUP(D68,TabPesquisa[],3) -> 10 | Q68: =IFERROR(VLOOKUP(D68,TabPesquisa[],2),"") -> Limite de horas Semanais = 10
A69: Título | D69: Coordenador/Participante | F69: C/H | G69: Autorização | I69: Data Aprovação CONCENTRO | J69: Início | K69: Término | Q69: CH Mínima | R69: CH Máxima
D70: Participante | F70: 1 | Q70: =IFERROR(VLOOKUP(Clovis!$D70,Tabela11[],2),0) -> 0 | R70: =IFERROR(VLOOKUP(Clovis!$D70,Tabela11[],3),0) -> 2
D71: Participante | F71: 1 | Q71: =IFERROR(VLOOKUP(Clovis!$D71,Tabela11[],2),0) -> 0 | R71: =IFERROR(VLOOKUP(Clovis!$D71,Tabela11[],3),0) -> 2
D72: Coordenador | F72: 6 | Q72: =IFERROR(VLOOKUP(Clovis!$D72,Tabela11[],2),0) -> 0 | R72: =IFERROR(VLOOKUP(Clovis!$D72,Tabela11[],3),0) -> 6
D73: Coordenador | F73: 6 | Q73: =IFERROR(VLOOKUP(Clovis!$D73,Tabela11[],2),0) -> 0 | R73: =IFERROR(VLOOKUP(Clovis!$D73,Tabela11[],3),0) -> 6
Q74: =IFERROR(VLOOKUP(Clovis!$D74,Tabela11[],2),0) -> 0 | R74: =IFERROR(VLOOKUP(Clovis!$D74,Tabela11[],3),0) -> 0
Q75: =IFERROR(VLOOKUP(Clovis!$D75,Tabela11[],2),0) -> 0 | R75: =IFERROR(VLOOKUP(Clovis!$D75,Tabela11[],3),0) -> 0
Q76: =IFERROR(VLOOKUP(Clovis!$D76,Tabela11[],2),0) -> 0 | R76: =IFERROR(VLOOKUP(Clovis!$D76,Tabela11[],3),0) -> 0
Q77: =IFERROR(VLOOKUP(Clovis!$D77,Tabela11[],2),0) -> 0 | R77: =IFERROR(VLOOKUP(Clovis!$D77,Tabela11[],3),0) -> 0
Q78: =IFERROR(VLOOKUP(Clovis!$D78,Tabela11[],2),0) -> 0 | R78: =IFERROR(VLOOKUP(Clovis!$D78,Tabela11[],3),0) -> 0
Q79: =IFERROR(VLOOKUP(Clovis!$D79,Tabela11[],2),0) -> 0 | R79: =IFERROR(VLOOKUP(Clovis!$D79,Tabela11[],3),0) -> 0
Q80: =IFERROR(VLOOKUP(Clovis!$D80,Tabela11[],2),0) -> 0 | R80: =IFERROR(VLOOKUP(Clovis!$D80,Tabela11[],3),0) -> 0
A81: BASE DE DADOS (MANTER OCULTA) | F81: =SUM(F70:F80) -> 14
A83: ATIVIDADES DE EXTENSÃO
A84: Categoria: Programa ou Projeto | F84: C/H | G84: Autorização/Ata | I84: Início | K84: Término | L84: Coluna2 | M84: Coluna3 | N84: Coluna4 | O84: CH Mínima | P84: CH Máxima
F85: 2 | O85: =IFERROR(VLOOKUP(Clovis!$D85,Tabela21[],2,0),0) -> 0 | P85: =IFERROR(VLOOKUP(Clovis!$D85,Tabela21[],3,0),0) -> 0
O86: =IFERROR(VLOOKUP(Clovis!$D86,Tabela21[],2,0),0) -> 0 | P86: =IFERROR(VLOOKUP(Clovis!$D86,Tabela21[],3,0),0) -> 0
O87: =IFERROR(VLOOKUP(Clovis!$D87,Tabela21[],2,0),0) -> 0 | P87: =IFERROR(VLOOKUP(Clovis!$D87,Tabela21[],3,0),0) -> 0
O88: =IFERROR(VLOOKUP(Clovis!$D88,Tabela21[],2,0),0) -> 0 | P88: =IFERROR(VLOOKUP(Clovis!$D88,Tabela21[],3,0),0) -> 0
O89: =IFERROR(VLOOKUP(Clovis!$D89,Tabela21[],2,0),0) -> 0 | P89: =IFERROR(VLOOKUP(Clovis!$D89,Tabela21[],3,0),0) -> 0
O90: =IFERROR(VLOOKUP(Clovis!$D90,Tabela21[],2,0),0) -> 0 | P90: =IFERROR(VLOOKUP(Clovis!$D90,Tabela21[],3,0),0) -> 0
O91: =IFERROR(VLOOKUP(Clovis!$D91,Tabela21[],2,0),0) -> 0 | P91: =IFERROR(VLOOKUP(Clovis!$D91,Tabela21[],3,0),0) -> 0
O92: =IFERROR(VLOOKUP(Clovis!$D92,Tabela21[],2,0),0) -> 0 | P92: =IFERROR(VLOOKUP(Clovis!$D92,Tabela21[],3,0),0) -> 0
O93: =IFERROR(VLOOKUP(Clovis!$D93,Tabela21[],2,0),0) -> 0 | P93: =IFERROR(VLOOKUP(Clovis!$D93,Tabela21[],3,0),0) -> 0
O94: =IFERROR(VLOOKUP(Clovis!$D94,Tabela21[],2,0),0) -> 0 | P94: =IFERROR(VLOOKUP(Clovis!$D94,Tabela21[],3,0),0) -> 0
O95: =IFERROR(VLOOKUP(Clovis!$D95,Tabela21[],2,0),0) -> 0 | P95: =IFERROR(VLOOKUP(Clovis!$D95,Tabela21[],3,0),0) -> 0
O96: =IFERROR(VLOOKUP(Clovis!$D96,Tabela21[],2,0),0) -> 0 | P96: =IFERROR(VLOOKUP(Clovis!$D96,Tabela21[],3,0),0) -> 0
A97: TOTAL | F97: =SUM(F85:F96) -> 2 | O97: =IFERROR(VLOOKUP(Clovis!$D97,Tabela21[],2,0),0) -> 0 | P97: =IFERROR(VLOOKUP(Clovis!$D97,Tabela21[],3,0),0) -> 0
A99: ATIVIDADES DE ADMINISTRAÇÃO
A100: Atividade | D100: Descrição do Local/Cargo/função... | F100: C/H | G100: Autorização | I100: Início | K100: Término | L100: Redutor Calculo de Ensino | M100: Coluna2 | N100: Coluna3 | O100: Coluna4 | P100: Coluna5 | Q100: CH Mínima | R100: CH Máxima
A101: XII. Membro de Comissao interna do Centro por Portaria da Direção Geral do Centro, aprovada pelo Conselho de Centro; | F101: 2 | L101: =IFERROR(VLOOKUP(Clovis!$A101,TFunçõesAdm[],3,0),40) -> 35 | Q101: 0 | R101: =IFERROR(VLOOKUP(A101,TFunçõesAdm[],2,FALSE),0) -> 5
A102: IX. Coordenador de Laboratório Institucional; | F102: 5 | L102: =IFERROR(VLOOKUP(Clovis!$A102,TFunçõesAdm[],3,0),40) -> 35 | Q102: 0 | R102: =IFERROR(VLOOKUP(A102,TFunçõesAdm[],2,FALSE),0) -> 5
A103: XII. Membro de Comissao interna do Centro por Portaria da Direção Geral do Centro, aprovada pelo Conselho de Centro; | F103: 2 | L103: =IFERROR(VLOOKUP(Clovis!$A103,TFunçõesAdm[],3,0),40) -> 35 | Q103: 0 | R103: =IFERROR(VLOOKUP(A103,TFunçõesAdm[],2,FALSE),0) -> 5
L104: =IFERROR(VLOOKUP(Clovis!$A104,TFunçõesAdm[],3,0),40) -> 40 | Q104: 0 | R104: =IFERROR(VLOOKUP(A104,TFunçõesAdm[],2,FALSE),0) -> 0
L105: =IFERROR(VLOOKUP(Clovis!$A105,TFunçõesAdm[],3,0),40) -> 40 | Q105: 0 | R105: =IFERROR(VLOOKUP(A105,TFunçõesAdm[],2,FALSE),0) -> 0
L106: =IFERROR(VLOOKUP(Clovis!$A106,TFunçõesAdm[],3,0),40) -> 40 | Q106: 0 | R106: =IFERROR(VLOOKUP(A106,TFunçõesAdm[],2,FALSE),0) -> 0
...

Sheet Cristiano
A1: ANEXO I – RESOLUÇÃO 073/2011 – CONSUNI | R1: Tabela de Cores
A2: UNIVERSIDADE DO ESTADO DE SANTA CATARINA-UDESC | S2: Deve ser incluso dados manualmente
A3: PLANO DE TRABALHO INDIVIDUAL | S3: Não permite alteração
A4: Professor: | D4: Centro de Ciências Agroveterinárias (CAV) | H4: Departamento: | J4: Semestre: 2022/2 | S4: Calculos efetuados pela planilha. Não permite alteração.
A5: Cristiano André Steffens | H5: =VLOOKUP(A5,TProfessores[],2,0) -> Agronomia
A7: Categoria Funcional: | D7: Titulação: | H7: Regime: | J7: Classe:
A8: =VLOOKUP(A5,TProfessores[],3,0) -> Efetivo | D8: =VLOOKUP(A5,TProfessores[],5,0) -> Doutor(a) | H8: =VLOOKUP(A5,TProfessores[],7,0) -> Dedicação Integral | I8: =VLOOKUP(A5,TProfessores[],6,0) -> 40 h | J8: =VLOOKUP(A5,TProfessores[],8,0) -> TITULAR
A9: ATIVIDADES DE ENSINO
A10: Disciplinas-Graduação | D10: Curso | F10: Fase | H10: C/H Ensino | J10: Informe a CH Pedagógica | Q10: CH Mínima | R10: CH Máxima
H11: Teórica | I11: Prática | L11: Soma (Oculta) | M11: Fórmula Oculta | N11: Formula para avisar CH pedagógica fora do sugerido | O11: Coluna1 | P11: Referência p coluna F
A12: Fisiologia Vegetal (Agro) | D12: =IFERROR(VLOOKUP(A12,TGradeCurricular[],2,0),"") -> Agronomia | F12: =IFERROR(VLOOKUP(A12,TGradeCurricular[],3,0),"") -> 4ª | H12: 3 | I12: 0 | J12: 3 | L12: =SUM(H12:I12) -> 3 | M12: =IF(A12<>0,1,0) -> 1 | N12: =IF(J12<Q12,1,0) -> 0 | O12: =IF(J12>R12,1,0) -> 0 | P12: =SUM(N12:O12) -> 0 | Q12: =L12*0.5 -> 1.5 | R12: =IFERROR(_xlfn.IFS($M$32=1,L12,$M$32=2,L12,$M$32=3,(L12*1.3),$M$32>3,(L12*1.5)),0) -> 3
D13: =IFERROR(VLOOKUP(A13,TGradeCurricular[],2,0),"") | F13: =IFERROR(VLOOKUP(A13,TGradeCurricular[],3,0),"") | L13: =SUM(H13:I13) -> 0 | M13: =IF(A13<>0,1,0) -> 0 | N13: =IF(J13<Q13,1,0) -> 0 | O13: =IF(J13>R13,1,0) -> 0 | P13: =SUM(N13:O13) -> 0 | Q13: =L13*0.5 -> 0 | R13: =IFERROR(_xlfn.IFS($M$32=1,L13,$M$32=2,L13,$M$32=3,(L13*1.3),$M$32>3,(L13*1.5)),0) -> 0
D14: =IFERROR(VLOOKUP(A14,TGradeCurricular[],2,0),"") | F14: =IFERROR(VLOOKUP(A14,TGradeCurricular[],3,0),"") | L14: =SUM(H14:I14) -> 0 | M14: =IF(A14<>0,1,0) -> 0 | N14: =IF(J14<Q14,1,0) -> 0 | O14: =IF(J14>R14,1,0) -> 0 | P14: =SUM(N14:O14) -> 0 | Q14: =L14*0.5 -> 0 | R14: =IFERROR(_xlfn.IFS($M$32=1,L14,$M$32=2,L14,$M$32=3,(L14*1.3),$M$32>3,(L14*1.5)),0) -> 0
D15: =IFERROR(VLOOKUP(A15,TGradeCurricular[],2,0),"") | F15: =IFERROR(VLOOKUP(A15,TGradeCurricular[],3,0),"") | L15: =SUM(H15:I15) -> 0 | M15: =IF(A15<>0,1,0) -> 0 | N15: =IF(J15<Q15,1,0) -> 0 | O15: =IF(J15>R15,1,0) -> 0 | P15: =SUM(N15:O15) -> 0 | Q15: =L15*0.5 -> 0 | R15: =IFERROR(_xlfn.IFS($M$32=1,L15,$M$32=2,L15,$M$32=3,(L15*1.3),$M$32>3,(L15*1.5)),0) -> 0
D16: =IFERROR(VLOOKUP(A16,TGradeCurricular[],2,0),"") | F16: =IFERROR(VLOOKUP(A16,TGradeCurricular[],3,0),"") | L16: =SUM(H16:I16) -> 0 | M16: =IF(A16<>0,1,0) -> 0 | N16: =IF(J16<Q16,1,0) -> 0 | O16: =IF(J16>R16,1,0) -> 0 | P16: =SUM(N16:O16) -> 0 | Q16: =L16*0.5 -> 0 | R16: =IFERROR(_xlfn.IFS($M$32=1,L16,$M$32=2,L16,$M$32=3,(L16*1.3),$M$32>3,(L16*1.5)),0) -> 0
D17: =IFERROR(VLOOKUP(A17,TGradeCurricular[],2,0),"") | F17: =IFERROR(VLOOKUP(A17,TGradeCurricular[],3,0),"") | L17: =SUM(H17:I17) -> 0 | M17: =IF(A17<>0,1,0) -> 0 | N17: =IF(J17<Q17,1,0) -> 0 | O17: =IF(J17>R17,1,0) -> 0 | P17: =SUM(N17:O17) -> 0 | Q17: =L17*0.5 -> 0 | R17: =IFERROR(_xlfn.IFS($M$32=1,L17,$M$32=2,L17,$M$32=3,(L17*1.3),$M$32>3,(L17*1.5)),0) -> 0
D18: =IFERROR(VLOOKUP(A18,TGradeCurricular[],2,0),"") | F18: =IFERROR(VLOOKUP(A18,TGradeCurricular[],3,0),"") | L18: =SUM(H18:I18) -> 0 | M18: =IF(A18<>0,1,0) -> 0 | N18: =IF(J18<Q18,1,0) -> 0 | O18: =IF(J18>R18,1,0) -> 0 | P18: =SUM(N18:O18) -> 0 | Q18: =L18*0.5 -> 0 | R18: =IFERROR(_xlfn.IFS($M$32=1,L18,$M$32=2,L18,$M$32=3,(L18*1.3),$M$32>3,(L18*1.5)),0) -> 0
D19: =IFERROR(VLOOKUP(A19,TGradeCurricular[],2,0),"") | F19: =IFERROR(VLOOKUP(A19,TGradeCurricular[],3,0),"") | L19: =SUM(H19:I19) -> 0 | M19: =IF(A19<>0,1,0) -> 0 | N19: =IF(J19<Q19,1,0) -> 0 | O19: =IF(J19>R19,1,0) -> 0 | P19: =SUM(N19:O19) -> 0 | Q19: =L19*0.5 -> 0 | R19: =IFERROR(_xlfn.IFS($M$32=1,L19,$M$32=2,L19,$M$32=3,(L19*1.3),$M$32>3,(L19*1.5)),0) -> 0
D20: =IFERROR(VLOOKUP(A20,TGradeCurricular[],2,0),"") | F20: =IFERROR(VLOOKUP(A20,TGradeCurricular[],3,0),"") | L20: =SUM(H20:I20) -> 0 | M20: =IF(A20<>0,1,0) -> 0 | N20: =IF(J20<Q20,1,0) -> 0 | O20: =IF(J20>R20,1,0) -> 0 | P20: =SUM(N20:O20) -> 0 | Q20: =L20*0.5 -> 0 | R20: =IFERROR(_xlfn.IFS($M$32=1,L20,$M$32=2,L20,$M$32=3,(L20*1.3),$M$32>3,(L20*1.5)),0) -> 0
D21: =IFERROR(VLOOKUP(A21,TGradeCurricular[],2,0),"") | F21: =IFERROR(VLOOKUP(A21,TGradeCurricular[],3,0),"") | L21: =SUM(H21:I21) -> 0 | M21: =IF(A21<>0,1,0) -> 0 | N21: =IF(J21<Q21,1,0) -> 0 | O21: =IF(J21>R21,1,0) -> 0 | P21: =SUM(N21:O21) -> 0 | Q21: =L21*0.5 -> 0 | R21: =IFERROR(_xlfn.IFS($M$32=1,L21,$M$32=2,L21,$M$32=3,(L21*1.3),$M$32>3,(L21*1.5)),0) -> 0
A22: Disciplinas-Pós Graduação | D22: Programa | H22: C/H Ens. | J22: C/H Pedag.
D23: =IFERROR(VLOOKUP(Cristiano!$A23,'Grade Pós'!A:B,2,0),"") | L23: =SUM(H23:I23) -> 0 | M23: =IF(A23<>0,1,0) -> 0 | N23: =IF(J23<Q23,1,0) -> 0 | O23: =IF(J23>R23,1,0) -> 0 | P23: =SUM(N23:O23) -> 0 | Q23: =L23*0.5 -> 0 | R23: =IFERROR(_xlfn.IFS($M$32=1,L23,$M$32=2,L23,$M$32=3,(L23*1.3),$M$32>3,(L23*1.5)),0) -> 0
D24: =IFERROR(VLOOKUP(Cristiano!$A24,'Grade Pós'!A:B,2,0),"") | L24: =SUM(H24:I24) -> 0 | M24: =IF(A24<>0,1,0) -> 0 | N24: =IF(J24<Q24,1,0) -> 0 | O24: =IF(J24>R24,1,0) -> 0 | P24: =SUM(N24:O24) -> 0 | Q24: =L24*0.5 -> 0 | R24: =IFERROR(_xlfn.IFS($M$32=1,L24,$M$32=2,L24,$M$32=3,(L24*1.3),$M$32>3,(L24*1.5)),0) -> 0
D25: =IFERROR(VLOOKUP(Cristiano!$A25,'Grade Pós'!A:B,2,0),"") | L25: =SUM(H25:I25) -> 0 | M25: =IF(A25<>0,1,0) -> 0 | N25: =IF(J25<Q25,1,0) -> 0 | O25: =IF(J25>R25,1,0) -> 0 | P25: =SUM(N25:O25) -> 0 | Q25: =L25*0.5 -> 0 | R25: =IFERROR(_xlfn.IFS($M$32=1,L25,$M$32=2,L25,$M$32=3,(L25*1.3),$M$32>3,(L25*1.5)),0) -> 0
D26: =IFERROR(VLOOKUP(Cristiano!$A26,'Grade Pós'!A:B,2,0),"") | L26: =SUM(H26:I26) -> 0 | M26: =IF(A26<>0,1,0) -> 0 | N26: =IF(J26<Q26,1,0) -> 0 | O26: =IF(J26>R26,1,0) -> 0 | P26: =SUM(N26:O26) -> 0 | Q26: =L26*0.5 -> 0 | R26: =IFERROR(_xlfn.IFS($M$32=1,L26,$M$32=2,L26,$M$32=3,(L26*1.3),$M$32>3,(L26*1.5)),0) -> 0
D27: =IFERROR(VLOOKUP(Cristiano!$A27,'Grade Pós'!A:B,2,0),"") | L27: =SUM(H27:I27) -> 0 | M27: =IF(A27<>0,1,0) -> 0 | N27: =IF(J27<Q27,1,0) -> 0 | O27: =IF(J27>R27,1,0) -> 0 | P27: =SUM(N27:O27) -> 0 | Q27: =L27*0.5 -> 0 | R27: =IFERROR(_xlfn.IFS($M$32=1,L27,$M$32=2,L27,$M$32=3,(L27*1.3),$M$32>3,(L27*1.5)),0) -> 0
D28: =IFERROR(VLOOKUP(Cristiano!$A28,'Grade Pós'!A:B,2,0),"") | L28: =SUM(H28:I28) -> 0 | M28: =IF(A28<>0,1,0) -> 0 | N28: =IF(J28<Q28,1,0) -> 0 | O28: =IF(J28>R28,1,0) -> 0 | P28: =SUM(N28:O28) -> 0 | Q28: =L28*0.5 -> 0 | R28: =IFERROR(_xlfn.IFS($M$32=1,L28,$M$32=2,L28,$M$32=3,(L28*1.3),$M$32>3,(L28*1.5)),0) -> 0
D29: =IFERROR(VLOOKUP(Cristiano!$A29,'Grade Pós'!A:B,2,0),"") | L29: =SUM(H29:I29) -> 0 | M29: =IF(A29<>0,1,0) -> 0 | N29: =IF(J29<Q29,1,0) -> 0 | O29: =IF(J29>R29,1,0) -> 0 | P29: =SUM(N29:O29) -> 0 | Q29: =L29*0.5 -> 0 | R29: =IFERROR(_xlfn.IFS($M$32=1,L29,$M$32=2,L29,$M$32=3,(L29*1.3),$M$32>3,(L29*1.5)),0) -> 0
D30: =IFERROR(VLOOKUP(Cristiano!$A30,'Grade Pós'!A:B,2,0),"") | L30: =SUM(H30:I30) -> 0 | M30: =IF(A30<>0,1,0) -> 0 | N30: =IF(J30<Q30,1,0) -> 0 | O30: =IF(J30>R30,1,0) -> 0 | P30: =SUM(N30:O30) -> 0 | Q30: =L30*0.5 -> 0 | R30: =IFERROR(_xlfn.IFS($M$32=1,L30,$M$32=2,L30,$M$32=3,(L30*1.3),$M$32>3,(L30*1.5)),0) -> 0
D31: =IFERROR(VLOOKUP(Cristiano!$A31,'Grade Pós'!A:B,2,0),"") | L31: =SUM(H31:I31) -> 0 | M31: =IF(A31<>0,1,0) -> 0 | N31: =IF(J31<Q31,1,0) -> 0 | O31: =IF(J31>R31,1,0) -> 0 | P31: =SUM(N31:O31) -> 0 | Q31: =L31*0.5 -> 0 | R31: =IFERROR(_xlfn.IFS($M$32=1,L31,$M$32=2,L31,$M$32=3,(L31*1.3),$M$32>3,(L31*1.5)),0) -> 0
A32: BASE DE DADOS (MANTER OCULTA) | J32: =SUM(J12:K21) -> 3 | K32: =SUM(J12:J31) -> 3 | L32: =SUM(L12:L31) -> 3 | M32: =SUM(M12:M31) -> 1 | N32: =IF(K32<Q32,1,0) -> 0 | O32: =IF(K32>R32,1,0) -> 0 | P32: =SUM(N32:O32) -> 0 | Q32: =L32*0.5 -> 1.5 | R32: =IFERROR(_xlfn.IFS($M$32=1,L32,$M$32=2,L32,$M$32=3,(L32*1.3),$M$32>3,(L32*1.5)),0) -> 3
A34: ATIVIDADES DE ORIENTAÇÃO | M34: Para permitir carga horaria menor de 9hs para Funões com mais de 32hs
A35: Professor é vinculado à programas pós graduação Recomendado pela CAPES? | H35: 1 Sim | I35: =IFERROR(VLOOKUP(H35,TCapes[],2),"") -> 1 -Permite Alocar Carga Horária Mínima de 8 Créditos de Ensino | L35: =IF(H35="2 Não",12,8) -> 8 | M35: =MIN(L35,L113) -> 4
A36: Modalidade | D36: Nome do Orientado | H36: Curso/Habilitação | I36: Semestre de Ingresso/Fase | K36: Informe a C/H Semanal | L36: Cálculo do Coord. Estágio | M36: Coluna2 | N36: Coluna3 | O36: Coluna4 | P36: Coluna5 | Q36: CH Mínima | R36: CH Máxima
A37: Dissertação | K37: 1 | L37: =IF(A37="Coordenação de Estágio",1,0) -> 0 | Q37: =IFERROR(VLOOKUP(A37,Dados!$A$85:$D$89,2,0),0) -> 0 | R37: =IFERROR(VLOOKUP(A37,Dados!$A$85:$D$89,3,0),0) -> 2
A38: Tese | K38: 2 | L38: =IF(A38="Coordenação de Estágio",1,0) -> 0 | Q38: =IFERROR(VLOOKUP(A38,Dados!$A$85:$D$89,2,0),0) -> 0 | R38: =IFERROR(VLOOKUP(A38,Dados!$A$85:$D$89,3,0),0) -> 3
A39: Tese | K39: 2 | L39: =IF(A39="Coordenação de Estágio",1,0) -> 0 | Q39: =IFERROR(VLOOKUP(A39,Dados!$A$85:$D$89,2,0),0) -> 0 | R39: =IFERROR(VLOOKUP(A39,Dados!$A$85:$D$89,3,0),0) -> 3
A40: Tese | K40: 2 | L40: =IF(A40="Coordenação de Estágio",1,0) -> 0 | Q40: =IFERROR(VLOOKUP(A40,Dados!$A$85:$D$89,2,0),0) -> 0 | R40: =IFERROR(VLOOKUP(A40,Dados!$A$85:$D$89,3,0),0) -> 3
A41: Tese | K41: 2 | L41: =IF(A41="Coordenação de Estágio",1,0) -> 0 | Q41: =IFERROR(VLOOKUP(A41,Dados!$A$85:$D$89,2,0),0) -> 0 | R41: =IFERROR(VLOOKUP(A41,Dados!$A$85:$D$89,3,0),0) -> 3
L42: =IF(A42="Coordenação de Estágio",1,0) -> 0 | Q42: =IFERROR(VLOOKUP(A42,Dados!$A$85:$D$89,2,0),0) -> 0 | R42: =IFERROR(VLOOKUP(A42,Dados!$A$85:$D$89,3,0),0) -> 0
L43: =IF(A43="Coordenação de Estágio",1,0) -> 0 | Q43: =IFERROR(VLOOKUP(A43,Dados!$A$85:$D$89,2,0),0) -> 0 | R43: =IFERROR(VLOOKUP(A43,Dados!$A$85:$D$89,3,0),0) -> 0
L44: =IF(A44="Coordenação de Estágio",1,0) -> 0 | Q44: =IFERROR(VLOOKUP(A44,Dados!$A$85:$D$89,2,0),0) -> 0 | R44: =IFERROR(VLOOKUP(A44,Dados!$A$85:$D$89,3,0),0) -> 0
L45: =IF(A45="Coordenação de Estágio",1,0) -> 0 | Q45: =IFERROR(VLOOKUP(A45,Dados!$A$85:$D$89,2,0),0) -> 0 | R45: =IFERROR(VLOOKUP(A45,Dados!$A$85:$D$89,3,0),0) -> 0
L46: =IF(A46="Coordenação de Estágio",1,0) -> 0 | Q46: =IFERROR(VLOOKUP(A46,Dados!$A$85:$D$89,2,0),0) -> 0 | R46: =IFERROR(VLOOKUP(A46,Dados!$A$85:$D$89,3,0),0) -> 0
L47: =IF(A47="Coordenação de Estágio",1,0) -> 0 | Q47: =IFERROR(VLOOKUP(A47,Dados!$A$85:$D$89,2,0),0) -> 0 | R47: =IFERROR(VLOOKUP(A47,Dados!$A$85:$D$89,3,0),0) -> 0
L48: =IF(A48="Coordenação de Estágio",1,0) -> 0 | Q48: =IFERROR(VLOOKUP(A48,Dados!$A$85:$D$89,2,0),0) -> 0 | R48: =IFERROR(VLOOKUP(A48,Dados!$A$85:$D$89,3,0),0) -> 0
L49: =IF(A49="Coordenação de Estágio",1,0) -> 0 | Q49: =IFERROR(VLOOKUP(A49,Dados!$A$85:$D$89,2,0),0) -> 0 | R49: =IFERROR(VLOOKUP(A49,Dados!$A$85:$D$89,3,0),0) -> 0
A50: BASE DE DADOS (MANTER OCULTA) | K50: =SUM(K37:K49) -> 9 | L50: =SUM(L37:L49) -> 0 | M50: =IF(L50=1,20,12) -> 12 | Q50: =SUM(Q37:Q49) -> 0 | R50: =SUM(R37:R49) -> 14
A52: PROJETOS DE ENSINO
A53: Título | D53: Coordenador/Participante | F53: C/H | G53: Autorização | I53: Início | K53: Término | L53: Coluna2 | M53: Coluna3 | N53: Coluna4 | O53: Coluna5 | P53: Coluna6 | Q53: CH Mínima | R53: CH Máxima
Q54: =IFERROR(VLOOKUP(Cristiano!$D54,Tabela20[],2,0),0) -> 0 | R54: =IFERROR(VLOOKUP(Cristiano!$D54,Tabela20[],3,0),0) -> 0
Q55: =IFERROR(VLOOKUP(Cristiano!$D55,Tabela20[],2,0),0) -> 0 | R55: =IFERROR(VLOOKUP(Cristiano!$D55,Tabela20[],3,0),0) -> 0
Q56: =IFERROR(VLOOKUP(Cristiano!$D56,Tabela20[],2,0),0) -> 0 | R56: =IFERROR(VLOOKUP(Cristiano!$D56,Tabela20[],3,0),0) -> 0
Q57: =IFERROR(VLOOKUP(Cristiano!$D57,Tabela20[],2,0),0) -> 0 | R57: =IFERROR(VLOOKUP(Cristiano!$D57,Tabela20[],3,0),0) -> 0
Q58: =IFERROR(VLOOKUP(Cristiano!$D58,Tabela20[],2,0),0) -> 0 | R58: =IFERROR(VLOOKUP(Cristiano!$D58,Tabela20[],3,0),0) -> 0
Q59: =IFERROR(VLOOKUP(Cristiano!$D59,Tabela20[],2,0),0) -> 0 | R59: =IFERROR(VLOOKUP(Cristiano!$D59,Tabela20[],3,0),0) -> 0
Q60: =IFERROR(VLOOKUP(Cristiano!$D60,Tabela20[],2,0),0) -> 0 | R60: =IFERROR(VLOOKUP(Cristiano!$D60,Tabela20[],3,0),0) -> 0
Q61: =IFERROR(VLOOKUP(Cristiano!$D61,Tabela20[],2,0),0) -> 0 | R61: =IFERROR(VLOOKUP(Cristiano!$D61,Tabela20[],3,0),0) -> 0
Q62: =IFERROR(VLOOKUP(Cristiano!$D62,Tabela20[],2,0),0) -> 0 | R62: =IFERROR(VLOOKUP(Cristiano!$D62,Tabela20[],3,0),0) -> 0
Q63: =IFERROR(VLOOKUP(Cristiano!$D63,Tabela20[],2,0),0) -> 0 | R63: =IFERROR(VLOOKUP(Cristiano!$D63,Tabela20[],3,0),0) -> 0
Q64: =IFERROR(VLOOKUP(Cristiano!$D64,Tabela20[],2,0),0) -> 0 | R64: =IFERROR(VLOOKUP(Cristiano!$D64,Tabela20[],3,0),0) -> 0
A65: TOTAL | F65: =SUM(Cristiano!$F$54:$F$64) -> 0
A67: ATIVIDADES DE PESQUISA
A68: Favor informar o enquadramento ao lado | L68: =VLOOKUP(D68,TabPesquisa[],3) -> #N/A | Q68: =IFERROR(VLOOKUP(D68,TabPesquisa[],2),"")
A69: Título | D69: Coordenador/Participante | F69: C/H | G69: Autorização | I69: Data Aprovação CONCENTRO | J69: Início | K69: Término | Q69: CH Mínima | R69: CH Máxima
D70: Coordenador | F70: 6 | Q70: =IFERROR(VLOOKUP(Cristiano!$D70,Tabela11[],2),0) -> 0 | R70: =IFERROR(VLOOKUP(Cristiano!$D70,Tabela11[],3),0) -> 6
D71: Coordenador | F71: 6 | Q71: =IFERROR(VLOOKUP(Cristiano!$D71,Tabela11[],2),0) -> 0 | R71: =IFERROR(VLOOKUP(Cristiano!$D71,Tabela11[],3),0) -> 6
D72: Coordenador | F72: 6 | Q72: =IFERROR(VLOOKUP(Cristiano!$D72,Tabela11[],2),0) -> 0 | R72: =IFERROR(VLOOKUP(Cristiano!$D72,Tabela11[],3),0) -> 6
Q73: =IFERROR(VLOOKUP(Cristiano!$D73,Tabela11[],2),0) -> 0 | R73: =IFERROR(VLOOKUP(Cristiano!$D73,Tabela11[],3),0) -> 0
Q74: =IFERROR(VLOOKUP(Cristiano!$D74,Tabela11[],2),0) -> 0 | R74: =IFERROR(VLOOKUP(Cristiano!$D74,Tabela11[],3),0) -> 0
Q75: =IFERROR(VLOOKUP(Cristiano!$D75,Tabela11[],2),0) -> 0 | R75: =IFERROR(VLOOKUP(Cristiano!$D75,Tabela11[],3),0) -> 0
Q76: =IFERROR(VLOOKUP(Cristiano!$D76,Tabela11[],2),0) -> 0 | R76: =IFERROR(VLOOKUP(Cristiano!$D76,Tabela11[],3),0) -> 0
Q77: =IFERROR(VLOOKUP(Cristiano!$D77,Tabela11[],2),0) -> 0 | R77: =IFERROR(VLOOKUP(Cristiano!$D77,Tabela11[],3),0) -> 0
Q78: =IFERROR(VLOOKUP(Cristiano!$D78,Tabela11[],2),0) -> 0 | R78: =IFERROR(VLOOKUP(Cristiano!$D78,Tabela11[],3),0) -> 0
Q79: =IFERROR(VLOOKUP(Cristiano!$D79,Tabela11[],2),0) -> 0 | R79: =IFERROR(VLOOKUP(Cristiano!$D79,Tabela11[],3),0) -> 0
Q80: =IFERROR(VLOOKUP(Cristiano!$D80,Tabela11[],2),0) -> 0 | R80: =IFERROR(VLOOKUP(Cristiano!$D80,Tabela11[],3),0) -> 0
A81: BASE DE DADOS (MANTER OCULTA) | F81: =SUM(F70:F80) -> 18
A83: ATIVIDADES DE EXTENSÃO
A84: Categoria: Programa ou Projeto | F84: C/H | G84: Autorização/Ata | I84: Início | K84: Término | L84: Coluna2 | M84: Coluna3 | N84: Coluna4 | O84: CH Mínima | P84: CH Máxima
O85: =IFERROR(VLOOKUP(Cristiano!$D85,Tabela21[],2,0),0) -> 0 | P85: =IFERROR(VLOOKUP(Cristiano!$D85,Tabela21[],3,0),0) -> 0
O86: =IFERROR(VLOOKUP(Cristiano!$D86,Tabela21[],2,0),0) -> 0 | P86: =IFERROR(VLOOKUP(Cristiano!$D86,Tabela21[],3,0),0) -> 0
O87: =IFERROR(VLOOKUP(Cristiano!$D87,Tabela21[],2,0),0) -> 0 | P87: =IFERROR(VLOOKUP(Cristiano!$D87,Tabela21[],3,0),0) -> 0
O88: =IFERROR(VLOOKUP(Cristiano!$D88,Tabela21[],2,0),0) -> 0 | P88: =IFERROR(VLOOKUP(Cristiano!$D88,Tabela21[],3,0),0) -> 0
O89: =IFERROR(VLOOKUP(Cristiano!$D89,Tabela21[],2,0),0) -> 0 | P89: =IFERROR(VLOOKUP(Cristiano!$D89,Tabela21[],3,0),0) -> 0
O90: =IFERROR(VLOOKUP(Cristiano!$D90,Tabela21[],2,0),0) -> 0 | P90: =IFERROR(VLOOKUP(Cristiano!$D90,Tabela21[],3,0),0) -> 0
O91: =IFERROR(VLOOKUP(Cristiano!$D91,Tabela21[],2,0),0) -> 0 | P91: =IFERROR(VLOOKUP(Cristiano!$D91,Tabela21[],3,0),0) -> 0
O92: =IFERROR(VLOOKUP(Cristiano!$D92,Tabela21[],2,0),0) -> 0 | P92: =IFERROR(VLOOKUP(Cristiano!$D92,Tabela21[],3,0),0) -> 0
O93: =IFERROR(VLOOKUP(Cristiano!$D93,Tabela21[],2,0),0) -> 0 | P93: =IFERROR(VLOOKUP(Cristiano!$D93,Tabela21[],3,0),0) -> 0
O94: =IFERROR(VLOOKUP(Cristiano!$D94,Tabela21[],2,0),0) -> 0 | P94: =IFERROR(VLOOKUP(Cristiano!$D94,Tabela21[],3,0),0) -> 0
O95: =IFERROR(VLOOKUP(Cristiano!$D95,Tabela21[],2,0),0) -> 0 | P95: =IFERROR(VLOOKUP(Cristiano!$D95,Tabela21[],3,0),0) -> 0
O96: =IFERROR(VLOOKUP(Cristiano!$D96,Tabela21[],2,0),0) -> 0 | P96: =IFERROR(VLOOKUP(Cristiano!$D96,Tabela21[],3,0),0) -> 0
A97: TOTAL | F97: =SUM(F85:F96) -> 0 | O97: =IFERROR(VLOOKUP(Cristiano!$D97,Tabela21[],2,0),0) -> 0 | P97: =IFERROR(VLOOKUP(Cristiano!$D97,Tabela21[],3,0),0) -> 0
A99: ATIVIDADES DE ADMINISTRAÇÃO
A100: Atividade | D100: Descrição do Local/Cargo/função... | F100: C/H | G100: Autorização | I100: Início | K100: Término | L100: Redutor Calculo de Ensino | M100: Coluna2 | N100: Coluna3 | O100: Coluna4 | P100: Coluna5 | Q100: CH Mínima | R100: CH Máxima
A101: V. Chefe de Departamento carreirocêntrico; | F101: 25 | L101: =IFERROR(VLOOKUP(Cristiano!$A101,TFunçõesAdm[],3,0),40) -> 4 | Q101: 0 | R101: =IFERROR(VLOOKUP(A101,TFunçõesAdm[],2,FALSE),0) -> 32
L102: =IFERROR(VLOOKUP(Cristiano!$A102,TFunçõesAdm[],3,0),40) -> 40 | Q102: 0 | R102: =IFERROR(VLOOKUP(A102,TFunçõesAdm[],2,FALSE),0) -> 0
L103: =IFERROR(VLOOKUP(Cristiano!$A103,TFunçõesAdm[],3,0),40) -> 40 | Q103: 0 | R103: =IFERROR(VLOOKUP(A103,TFunçõesAdm[],2,FALSE),0) -> 0
L104: =IFERROR(VLOOKUP(Cristiano!$A104,TFunçõesAdm[],3,0),40) -> 40 | Q104: 0 | R104: =IFERROR(VLOOKUP(A104,TFunçõesAdm[],2,FALSE),0) -> 0
L105: =IFERROR(VLOOKUP(Cristiano!$A105,TFunçõesAdm[],3,0),40) -> 40 | Q105: 0 | R105: =IFERROR(VLOOKUP(A105,TFunçõesAdm[],2,FALSE),0) -> 0
L106: =IFERROR(VLOOKUP(Cristiano!$A106,TFunçõesAdm[],3,0),40) -> 40 | Q106: 0 | R106: =IFERROR(VLOOKUP(A106,TFunçõesAdm[],2,FALSE),0) -> 0
...

Sheet Daniele
A1: ANEXO I – RESOLUÇÃO 073/2011 – CONSUNI | R1: Tabela de Cores
A2: UNIVERSIDADE DO ESTADO DE SANTA CATARINA-UDESC | S2: Deve ser incluso dados manualmente
A3: PLANO DE TRABALHO INDIVIDUAL | S3: Não permite alteração
A4: Professor: | D4: Centro de Ciências Agroveterinárias (CAV) | H4: Departamento: | J4: Semestre: 2022/2 | S4: Calculos efetuados pela planilha. Não permite alteração.
A5: Daniele Nerling | H5: =VLOOKUP(A5,TProfessores[],2,0) -> Agronomia
A7: Categoria Funcional: | D7: Titulação: | H7: Regime: | J7: Classe:
A8: =VLOOKUP(A5,TProfessores[],3,0) -> Substituto | D8: =VLOOKUP(A5,TProfessores[],5,0) -> Doutor(a) | H8: =VLOOKUP(A5,TProfessores[],7,0) -> Horista | I8: =VLOOKUP(A5,TProfessores[],6,0) -> 02 h/ativ. | J8: =VLOOKUP(A5,TProfessores[],8,0) -> ADJUNTO
A9: ATIVIDADES DE ENSINO
A10: Disciplinas-Graduação | D10: Curso | F10: Fase | H10: C/H Ensino | J10: Informe a CH Pedagógica | Q10: CH Mínima | R10: CH Máxima
H11: Teórica | I11: Prática | L11: Soma (Oculta) | M11: Fórmula Oculta | N11: Formula para avisar CH pedagógica fora do sugerido | O11: Coluna1 | P11: Referência p coluna F
A12: Análise de Sementes (Agro) | D12: =IFERROR(VLOOKUP(A12,TGradeCurricular[],2,0),"") -> Agronomia | F12: =IFERROR(VLOOKUP(A12,TGradeCurricular[],3,0),"") -> Eletiva | H12: 2 | I12: 0 | L12: =SUM(H12:I12) -> 2 | M12: =IF(A12<>0,1,0) -> 1 | N12: =IF(J12<Q12,1,0) -> 1 | O12: =IF(J12>R12,1,0) -> 0 | P12: =SUM(N12:O12) -> 1 | Q12: =L12*0.5 -> 1 | R12: =IFERROR(_xlfn.IFS($M$32=1,L12,$M$32=2,L12,$M$32=3,(L12*1.3),$M$32>3,(L12*1.5)),0) -> 2
D13: =IFERROR(VLOOKUP(A13,TGradeCurricular[],2,0),"") | F13: =IFERROR(VLOOKUP(A13,TGradeCurricular[],3,0),"") | L13: =SUM(H13:I13) -> 0 | M13: =IF(A13<>0,1,0) -> 0 | N13: =IF(J13<Q13,1,0) -> 0 | O13: =IF(J13>R13,1,0) -> 0 | P13: =SUM(N13:O13) -> 0 | Q13: =L13*0.5 -> 0 | R13: =IFERROR(_xlfn.IFS($M$32=1,L13,$M$32=2,L13,$M$32=3,(L13*1.3),$M$32>3,(L13*1.5)),0) -> 0
D14: =IFERROR(VLOOKUP(A14,TGradeCurricular[],2,0),"") | F14: =IFERROR(VLOOKUP(A14,TGradeCurricular[],3,0),"") | L14: =SUM(H14:I14) -> 0 | M14: =IF(A14<>0,1,0) -> 0 | N14: =IF(J14<Q14,1,0) -> 0 | O14: =IF(J14>R14,1,0) -> 0 | P14: =SUM(N14:O14) -> 0 | Q14: =L14*0.5 -> 0 | R14: =IFERROR(_xlfn.IFS($M$32=1,L14,$M$32=2,L14,$M$32=3,(L14*1.3),$M$32>3,(L14*1.5)),0) -> 0
D15: =IFERROR(VLOOKUP(A15,TGradeCurricular[],2,0),"") | F15: =IFERROR(VLOOKUP(A15,TGradeCurricular[],3,0),"") | L15: =SUM(H15:I15) -> 0 | M15: =IF(A15<>0,1,0) -> 0 | N15: =IF(J15<Q15,1,0) -> 0 | O15: =IF(J15>R15,1,0) -> 0 | P15: =SUM(N15:O15) -> 0 | Q15: =L15*0.5 -> 0 | R15: =IFERROR(_xlfn.IFS($M$32=1,L15,$M$32=2,L15,$M$32=3,(L15*1.3),$M$32>3,(L15*1.5)),0) -> 0
